{"text_format":"1","workbook":"xlsx","n_sheets":6,"sheets":["Listas","Instrucciones ","1_Metas_Resultados","2_Metas_Producto_ y_ $","3_Plan Indicativo","PI_Ejec"],"not_rendered":{"charts":0,"images":3,"macros":1,"external_links":0,"defined_names":7,"comments":1,"pivot_tables":0},"unopened":[],"bounds":{"document_bytes":16777216,"sheet_cells":100000,"rows_first":2000,"rows_last":500,"rows_between":2000,"halvings":0,"cell_chars":16384,"cell_head_chars":4096},"cells_cut":0,"cells_raw":0,"read":"whole","date_system":"1900"}

{"sheet":"Listas","index":0,"n_rows":21,"n_cols":11,"rows_kept":21,"cut":false,"hidden":true,"merged":[]}
[]
[null,null,null,null,null,null,"ODS",null,null,null,"Tipo de Meta"]
[null,"Sector","CodSec",null,null,null,"1. Fin de la pobreza",null,null,null,"Mantenimiento"]
[null,"Educación","A.1",null,null,null,"2. Hambre cero",null,null,null,"Reducción"]
[null,"Salud","A.2",null,null,null,"3. Salud y bienestar",null,null,null,"Incremento"]
[null,"APSB","A.3",null,null,null,"4. Educación de calidad"]
[null,"Deporte y Recreación","A.4",null,null,null,"5. Igualdad de género"]
[null,"Cultura","A.5",null,null,null,"6. Agua limpia y saneamiento"]
[null,"Servicios Públicos","A.6",null,null,null,"7. Energía Asequible y no contaminante"]
[null,"Vivienda","A.7",null,null,null,"8. Trabajo decente y crecimiento económico"]
[null,"Agropecuario","A.8",null,null,null,"9. Industria, innovación e infraestructura"]
[null,"Transporte","A.9",null,null,null,"10. Reducción de las desigualdades"]
[null,"Ambiental","A.10",null,null,null,"11. Ciudades y comunidades sostenibles"]
[null,"Centros de Reclusión","A.11",null,null,null,"12. Producción y consumo responsables"]
[null,"Prevención y atención de desastres","A.12",null,null,null,"13. Acción por el clima"]
[null,"Promoción del desarrollo","A.13",null,null,null,"14. Vida Submarina"]
[null,"Atención a grupos vulnerables - promoción social","A.14",null,null,null,"15. Vida de ecosistemas terrestres"]
[null,"Equipamiento ","A.15",null,null,null,"16. Paz, justicia e instituciones sólidas"]
[null,"Desarrollo comunitario","A.16",null,null,null,"17. Alianzas para lograr los objetivos"]
[null,"Fortalecimiento institucional","A.17"]
[null,"Justicia y seguridad","A.18"]

{"sheet":"Instrucciones ","index":1,"n_rows":19,"n_cols":3,"rows_kept":19,"cut":false,"hidden":false,"merged":[[11,2,11,11],[12,2,12,11],[13,2,13,11],[16,2,16,11],[17,2,17,11],[10,2,10,11],[4,2,4,11],[5,2,5,11],[6,2,6,11],[1,1,2,11]]}
[]
[null,"Plan Indicativo\nPaso a paso  "]
[]
[null,"1. Descripción Estructura de la Herramienta:"]
[null,"1.1","Hoja \"1_Metas_Resultados\" = Relación de Programas y metas de resultado incorporadas en el Plan de Desarrollo Territorial PDT"]
[null,"1.2","Hoja \"2_Metas_Producto_ y_ $\" = Formulario de registro de información básica de cada una de las metas de producto incluidas en el PDT"]
[null,"1.3","Hoja \"3_Plan Indicativo\" = Muestra la información diligenciada en hoja \"1_Metas Resultados\" y \"2_Metas_Producto_y_ $\". \nEstructura básica del Plan Indicativo para seguimiento al cumplimiento de las metas del Plan de Desarrollo. Insumo para la Evaluación del nivel de cumplimiento de metas del PDT"]
[]
[null,"2. Paso a paso construcción Plan Indicativo"]
[]
[null,"2.1","Diligencie en la hoja \"1_Metas_Resultados\" la totalidad de metas de resultado incorporadas en el PDT, el programa al cual hace parte, los respectivos indicadores, líneas base y  metas. Estos campos no deberá volver a registrarlos en las demás hojas."]
[null,"2.2","En Hoja 2_Metas_Producto_ y_ $\" diligencie las metas de producto, asocie meta de resultado en campo \"2. Descripción Meta de Resultado\", si la meta de producto está asociada a más de una meta de resultado, debe diligenciar primero el resultado principal y en seguida los resultados indirectos. Complete la información básica (ODS, Sector Fut, tipo de meta, responsable y Programación física y financiera, etc.)"]
[null,"2.3","Cuando todos los campos de la hoja \"2_Metas_Producto_ y_ $\" estén diligenciados, oprima el botón REGISTRAR. Esta opción envía los datos a la hoja \"3_Plan Indicativo\", los ordena, les genera código y los guarda."]
[null,"2.4","Repita el procedimiento 2.2 y 2.3 para cada meta de producto."]
[]
[null,"3. Tenga en cuenta"]
[null,"3.1","Revise el Anexo 1 de la Unidad 4  \"Seguimiento y Evaluación al PDT\""]
[null,"3.2","No incluya nuevas filas y celda en las hojas 1, 2 y 3"]
[null,"3.3","No modifique el código o fórmulas del libro de excel."]

{"sheet":"1_Metas_Resultados","index":2,"n_rows":403,"n_cols":9,"rows_kept":403,"cut":false,"hidden":false,"merged":[]}
["Diligencie la descripción de sus programas y las metas de resultado de su Plan de Desarrollo"]
[]
["#","Programa","Descripción Meta de Resultado","Concatenar","# resultado","Indicador de Resultado","Línea Base Resultado","Meta Resultado 2019"]
[1,null,null,{"$f":"IF(C4=0,\" \",CONCATENATE(A4,\".\",\" \",C4))","v":" "},{"$f":"+A4","v":1},null,null,null,{"$f":"+B4","v":0}]
[2,null,null,{"$f":"IF(C5=0,\" \",CONCATENATE(A5,\".\",\" \",C5))","v":" "},{"$f":"+A5","v":2},null,null,null,{"$f":"+B5","v":0}]
[3,null,null," ",3,null,null,null,0]
[4,null,null," ",4,null,null,null,0]
[5,null,null," ",5,null,null,null,0]
[6,null,null," ",6,null,null,null,0]
[7,null,null," ",7,null,null,null,0]
[8,null,null," ",8,null,null,null,0]
[9,null,null," ",9,null,null,null,0]
[10,null,null," ",10,null,null,null,0]
[11,null,null," ",11,null,null,null,0]
[12,null,null," ",12,null,null,null,0]
[13,null,null," ",13,null,null,null,0]
[14,null,null," ",14,null,null,null,0]
[15,null,null," ",15,null,null,null,0]
[16,null,null," ",16,null,null,null,0]
[17,null,null," ",17,null,null,null,0]
[18,null,null," ",18,null,null,null,0]
[19,null,null," ",19,null,null,null,0]
[20,null,null," ",20,null,null,null,0]
[21,null,null," ",21,null,null,null,0]
[22,null,null," ",22,null,null,null,0]
[23,null,null," ",23,null,null,null,0]
[24,null,null," ",24,null,null,null,0]
[25,null,null," ",25,null,null,null,0]
[26,null,null," ",26,null,null,null,0]
[27,null,null," ",27,null,null,null,0]
[28,null,null," ",28,null,null,null,0]
[29,null,null," ",29,null,null,null,0]
[30,null,null," ",30,null,null,null,0]
[31,null,null," ",31,null,null,null,0]
[32,null,null," ",32,null,null,null,0]
[33,null,null," ",33,null,null,null,0]
[34,null,null," ",34,null,null,null,0]
[35,null,null," ",35,null,null,null,0]
[36,null,null," ",36,null,null,null,0]
[37,null,null," ",37,null,null,null,0]
[38,null,null," ",38,null,null,null,0]
[39,null,null," ",39,null,null,null,0]
[40,null,null," ",40,null,null,null,0]
[41,null,null," ",41,null,null,null,0]
[42,null,null," ",42,null,null,null,0]
[43,null,null," ",43,null,null,null,0]
[44,null,null," ",44,null,null,null,0]
[45,null,null," ",45,null,null,null,0]
[46,null,null," ",46,null,null,null,0]
[47,null,null," ",47,null,null,null,0]
[48,null,null," ",48,null,null,null,0]
[49,null,null," ",49,null,null,null,0]
[50,null,null," ",50,null,null,null,0]
[51,null,null," ",51,null,null,null,0]
[52,null,null," ",52,null,null,null,0]
[53,null,null," ",53,null,null,null,0]
[54,null,null," ",54,null,null,null,0]
[55,null,null," ",55,null,null,null,0]
[56,null,null," ",56,null,null,null,0]
[57,null,null," ",57,null,null,null,0]
[58,null,null," ",58,null,null,null,0]
[59,null,null," ",59,null,null,null,0]
[60,null,null," ",60,null,null,null,0]
[61,null,null," ",61,null,null,null,0]
[62,null,null," ",62,null,null,null,0]
[63,null,null," ",63,null,null,null,0]
[64,null,null," ",64,null,null,null,0]
[65,null,null," ",65,null,null,null,0]
[66,null,null,{"$f":"IF(C69=0,\" \",CONCATENATE(A69,\".\",\" \",C69))","v":" "},{"$f":"+A69","v":66},null,null,null,{"$f":"+B69","v":0}]
[67,null,null," ",67,null,null,null,0]
[68,null,null," ",68,null,null,null,0]
[69,null,null," ",69,null,null,null,0]
[70,null,null," ",70,null,null,null,0]
[71,null,null," ",71,null,null,null,0]
[72,null,null," ",72,null,null,null,0]
[73,null,null," ",73,null,null,null,0]
[74,null,null," ",74,null,null,null,0]
[75,null,null," ",75,null,null,null,0]
[76,null,null," ",76,null,null,null,0]
[77,null,null," ",77,null,null,null,0]
[78,null,null," ",78,null,null,null,0]
[79,null,null," ",79,null,null,null,0]
[80,null,null," ",80,null,null,null,0]
[81,null,null," ",81,null,null,null,0]
[82,null,null," ",82,null,null,null,0]
[83,null,null," ",83,null,null,null,0]
[84,null,null," ",84,null,null,null,0]
[85,null,null," ",85,null,null,null,0]
[86,null,null," ",86,null,null,null,0]
[87,null,null," ",87,null,null,null,0]
[88,null,null," ",88,null,null,null,0]
[89,null,null," ",89,null,null,null,0]
[90,null,null," ",90,null,null,null,0]
[91,null,null," ",91,null,null,null,0]
[92,null,null," ",92,null,null,null,0]
[93,null,null," ",93,null,null,null,0]
[94,null,null," ",94,null,null,null,0]
[95,null,null," ",95,null,null,null,0]
[96,null,null," ",96,null,null,null,0]
[97,null,null," ",97,null,null,null,0]
[98,null,null," ",98,null,null,null,0]
[99,null,null," ",99,null,null,null,0]
[100,null,null," ",100,null,null,null,0]
[101,null,null," ",101,null,null,null,0]
[102,null,null," ",102,null,null,null,0]
[103,null,null," ",103,null,null,null,0]
[104,null,null," ",104,null,null,null,0]
[105,null,null," ",105,null,null,null,0]
[106,null,null," ",106,null,null,null,0]
[107,null,null," ",107,null,null,null,0]
[108,null,null," ",108,null,null,null,0]
[109,null,null," ",109,null,null,null,0]
[110,null,null," ",110,null,null,null,0]
[111,null,null," ",111,null,null,null,0]
[112,null,null," ",112,null,null,null,0]
[113,null,null," ",113,null,null,null,0]
[114,null,null," ",114,null,null,null,0]
[115,null,null," ",115,null,null,null,0]
[116,null,null," ",116,null,null,null,0]
[117,null,null," ",117,null,null,null,0]
[118,null,null," ",118,null,null,null,0]
[119,null,null," ",119,null,null,null,0]
[120,null,null," ",120,null,null,null,0]
[121,null,null," ",121,null,null,null,0]
[122,null,null," ",122,null,null,null,0]
[123,null,null," ",123,null,null,null,0]
[124,null,null," ",124,null,null,null,0]
[125,null,null," ",125,null,null,null,0]
[126,null,null," ",126,null,null,null,0]
[127,null,null," ",127,null,null,null,0]
[128,null,null," ",128,null,null,null,0]
[129,null,null," ",129,null,null,null,0]
[130,null,null,{"$f":"IF(C133=0,\" \",CONCATENATE(A133,\".\",\" \",C133))","v":" "},{"$f":"+A133","v":130},null,null,null,{"$f":"+B133","v":0}]
[131,null,null," ",131,null,null,null,0]
[132,null,null," ",132,null,null,null,0]
[133,null,null," ",133,null,null,null,0]
[134,null,null," ",134,null,null,null,0]
[135,null,null," ",135,null,null,null,0]
[136,null,null," ",136,null,null,null,0]
[137,null,null," ",137,null,null,null,0]
[138,null,null," ",138,null,null,null,0]
[139,null,null," ",139,null,null,null,0]
[140,null,null," ",140,null,null,null,0]
[141,null,null," ",141,null,null,null,0]
[142,null,null," ",142,null,null,null,0]
[143,null,null," ",143,null,null,null,0]
[144,null,null," ",144,null,null,null,0]
[145,null,null," ",145,null,null,null,0]
[146,null,null," ",146,null,null,null,0]
[147,null,null," ",147,null,null,null,0]
[148,null,null," ",148,null,null,null,0]
[149,null,null," ",149,null,null,null,0]
[150,null,null," ",150,null,null,null,0]
[151,null,null," ",151,null,null,null,0]
[152,null,null," ",152,null,null,null,0]
[153,null,null," ",153,null,null,null,0]
[154,null,null," ",154,null,null,null,0]
[155,null,null," ",155,null,null,null,0]
[156,null,null," ",156,null,null,null,0]
[157,null,null," ",157,null,null,null,0]
[158,null,null," ",158,null,null,null,0]
[159,null,null," ",159,null,null,null,0]
[160,null,null," ",160,null,null,null,0]
[161,null,null," ",161,null,null,null,0]
[162,null,null," ",162,null,null,null,0]
[163,null,null," ",163,null,null,null,0]
[164,null,null," ",164,null,null,null,0]
[165,null,null," ",165,null,null,null,0]
[166,null,null," ",166,null,null,null,0]
[167,null,null," ",167,null,null,null,0]
[168,null,null," ",168,null,null,null,0]
[169,null,null," ",169,null,null,null,0]
[170,null,null," ",170,null,null,null,0]
[171,null,null," ",171,null,null,null,0]
[172,null,null," ",172,null,null,null,0]
[173,null,null," ",173,null,null,null,0]
[174,null,null," ",174,null,null,null,0]
[175,null,null," ",175,null,null,null,0]
[176,null,null," ",176,null,null,null,0]
[177,null,null," ",177,null,null,null,0]
[178,null,null," ",178,null,null,null,0]
[179,null,null," ",179,null,null,null,0]
[180,null,null," ",180,null,null,null,0]
[181,null,null," ",181,null,null,null,0]
[182,null,null," ",182,null,null,null,0]
[183,null,null," ",183,null,null,null,0]
[184,null,null," ",184,null,null,null,0]
[185,null,null," ",185,null,null,null,0]
[186,null,null," ",186,null,null,null,0]
[187,null,null," ",187,null,null,null,0]
[188,null,null," ",188,null,null,null,0]
[189,null,null," ",189,null,null,null,0]
[190,null,null," ",190,null,null,null,0]
[191,null,null," ",191,null,null,null,0]
[192,null,null," ",192,null,null,null,0]
[193,null,null," ",193,null,null,null,0]
[194,null,null,{"$f":"IF(C197=0,\" \",CONCATENATE(A197,\".\",\" \",C197))","v":" "},{"$f":"+A197","v":194},null,null,null,{"$f":"+B197","v":0}]
[195,null,null," ",195,null,null,null,0]
[196,null,null," ",196,null,null,null,0]
[197,null,null," ",197,null,null,null,0]
[198,null,null," ",198,null,null,null,0]
[199,null,null," ",199,null,null,null,0]
[200,null,null," ",200,null,null,null,0]
[201,null,null," ",201,null,null,null,0]
[202,null,null," ",202,null,null,null,0]
[203,null,null," ",203,null,null,null,0]
[204,null,null," ",204,null,null,null,0]
[205,null,null," ",205,null,null,null,0]
[206,null,null," ",206,null,null,null,0]
[207,null,null," ",207,null,null,null,0]
[208,null,null," ",208,null,null,null,0]
[209,null,null," ",209,null,null,null,0]
[210,null,null," ",210,null,null,null,0]
[211,null,null," ",211,null,null,null,0]
[212,null,null," ",212,null,null,null,0]
[213,null,null," ",213,null,null,null,0]
[214,null,null," ",214,null,null,null,0]
[215,null,null," ",215,null,null,null,0]
[216,null,null," ",216,null,null,null,0]
[217,null,null," ",217,null,null,null,0]
[218,null,null," ",218,null,null,null,0]
[219,null,null," ",219,null,null,null,0]
[220,null,null," ",220,null,null,null,0]
[221,null,null," ",221,null,null,null,0]
[222,null,null," ",222,null,null,null,0]
[223,null,null," ",223,null,null,null,0]
[224,null,null," ",224,null,null,null,0]
[225,null,null," ",225,null,null,null,0]
[226,null,null," ",226,null,null,null,0]
[227,null,null," ",227,null,null,null,0]
[228,null,null," ",228,null,null,null,0]
[229,null,null," ",229,null,null,null,0]
[230,null,null," ",230,null,null,null,0]
[231,null,null," ",231,null,null,null,0]
[232,null,null," ",232,null,null,null,0]
[233,null,null," ",233,null,null,null,0]
[234,null,null," ",234,null,null,null,0]
[235,null,null," ",235,null,null,null,0]
[236,null,null," ",236,null,null,null,0]
[237,null,null," ",237,null,null,null,0]
[238,null,null," ",238,null,null,null,0]
[239,null,null," ",239,null,null,null,0]
[240,null,null," ",240,null,null,null,0]
[241,null,null," ",241,null,null,null,0]
[242,null,null," ",242,null,null,null,0]
[243,null,null," ",243,null,null,null,0]
[244,null,null," ",244,null,null,null,0]
[245,null,null," ",245,null,null,null,0]
[246,null,null," ",246,null,null,null,0]
[247,null,null," ",247,null,null,null,0]
[248,null,null," ",248,null,null,null,0]
[249,null,null," ",249,null,null,null,0]
[250,null,null," ",250,null,null,null,0]
[251,null,null," ",251,null,null,null,0]
[252,null,null," ",252,null,null,null,0]
[253,null,null," ",253,null,null,null,0]
[254,null,null," ",254,null,null,null,0]
[255,null,null," ",255,null,null,null,0]
[256,null,null," ",256,null,null,null,0]
[257,null,null," ",257,null,null,null,0]
[258,null,null,{"$f":"IF(C261=0,\" \",CONCATENATE(A261,\".\",\" \",C261))","v":" "},{"$f":"+A261","v":258},null,null,null,{"$f":"+B261","v":0}]
[259,null,null," ",259,null,null,null,0]
[260,null,null," ",260,null,null,null,0]
[261,null,null," ",261,null,null,null,0]
[262,null,null," ",262,null,null,null,0]
[263,null,null," ",263,null,null,null,0]
[264,null,null," ",264,null,null,null,0]
[265,null,null," ",265,null,null,null,0]
[266,null,null," ",266,null,null,null,0]
[267,null,null," ",267,null,null,null,0]
[268,null,null," ",268,null,null,null,0]
[269,null,null," ",269,null,null,null,0]
[270,null,null," ",270,null,null,null,0]
[271,null,null," ",271,null,null,null,0]
[272,null,null," ",272,null,null,null,0]
[273,null,null," ",273,null,null,null,0]
[274,null,null," ",274,null,null,null,0]
[275,null,null," ",275,null,null,null,0]
[276,null,null," ",276,null,null,null,0]
[277,null,null," ",277,null,null,null,0]
[278,null,null," ",278,null,null,null,0]
[279,null,null," ",279,null,null,null,0]
[280,null,null," ",280,null,null,null,0]
[281,null,null," ",281,null,null,null,0]
[282,null,null," ",282,null,null,null,0]
[283,null,null," ",283,null,null,null,0]
[284,null,null," ",284,null,null,null,0]
[285,null,null," ",285,null,null,null,0]
[286,null,null," ",286,null,null,null,0]
[287,null,null," ",287,null,null,null,0]
[288,null,null," ",288,null,null,null,0]
[289,null,null," ",289,null,null,null,0]
[290,null,null," ",290,null,null,null,0]
[291,null,null," ",291,null,null,null,0]
[292,null,null," ",292,null,null,null,0]
[293,null,null," ",293,null,null,null,0]
[294,null,null," ",294,null,null,null,0]
[295,null,null," ",295,null,null,null,0]
[296,null,null," ",296,null,null,null,0]
[297,null,null," ",297,null,null,null,0]
[298,null,null," ",298,null,null,null,0]
[299,null,null," ",299,null,null,null,0]
[300,null,null," ",300,null,null,null,0]
[301,null,null," ",301,null,null,null,0]
[302,null,null," ",302,null,null,null,0]
[303,null,null," ",303,null,null,null,0]
[304,null,null," ",304,null,null,null,0]
[305,null,null," ",305,null,null,null,0]
[306,null,null," ",306,null,null,null,0]
[307,null,null," ",307,null,null,null,0]
[308,null,null," ",308,null,null,null,0]
[309,null,null," ",309,null,null,null,0]
[310,null,null," ",310,null,null,null,0]
[311,null,null," ",311,null,null,null,0]
[312,null,null," ",312,null,null,null,0]
[313,null,null," ",313,null,null,null,0]
[314,null,null," ",314,null,null,null,0]
[315,null,null," ",315,null,null,null,0]
[316,null,null," ",316,null,null,null,0]
[317,null,null," ",317,null,null,null,0]
[318,null,null," ",318,null,null,null,0]
[319,null,null," ",319,null,null,null,0]
[320,null,null," ",320,null,null,null,0]
[321,null,null," ",321,null,null,null,0]
[322,null,null,{"$f":"IF(C325=0,\" \",CONCATENATE(A325,\".\",\" \",C325))","v":" "},{"$f":"+A325","v":322},null,null,null,{"$f":"+B325","v":0}]
[323,null,null," ",323,null,null,null,0]
[324,null,null," ",324,null,null,null,0]
[325,null,null," ",325,null,null,null,0]
[326,null,null," ",326,null,null,null,0]
[327,null,null," ",327,null,null,null,0]
[328,null,null," ",328,null,null,null,0]
[329,null,null," ",329,null,null,null,0]
[330,null,null," ",330,null,null,null,0]
[331,null,null," ",331,null,null,null,0]
[332,null,null," ",332,null,null,null,0]
[333,null,null," ",333,null,null,null,0]
[334,null,null," ",334,null,null,null,0]
[335,null,null," ",335,null,null,null,0]
[336,null,null," ",336,null,null,null,0]
[337,null,null," ",337,null,null,null,0]
[338,null,null," ",338,null,null,null,0]
[339,null,null," ",339,null,null,null,0]
[340,null,null," ",340,null,null,null,0]
[341,null,null," ",341,null,null,null,0]
[342,null,null," ",342,null,null,null,0]
[343,null,null," ",343,null,null,null,0]
[344,null,null," ",344,null,null,null,0]
[345,null,null," ",345,null,null,null,0]
[346,null,null," ",346,null,null,null,0]
[347,null,null," ",347,null,null,null,0]
[348,null,null," ",348,null,null,null,0]
[349,null,null," ",349,null,null,null,0]
[350,null,null," ",350,null,null,null,0]
[351,null,null," ",351,null,null,null,0]
[352,null,null," ",352,null,null,null,0]
[353,null,null," ",353,null,null,null,0]
[354,null,null," ",354,null,null,null,0]
[355,null,null," ",355,null,null,null,0]
[356,null,null," ",356,null,null,null,0]
[357,null,null," ",357,null,null,null,0]
[358,null,null," ",358,null,null,null,0]
[359,null,null," ",359,null,null,null,0]
[360,null,null," ",360,null,null,null,0]
[361,null,null," ",361,null,null,null,0]
[362,null,null," ",362,null,null,null,0]
[363,null,null," ",363,null,null,null,0]
[364,null,null," ",364,null,null,null,0]
[365,null,null," ",365,null,null,null,0]
[366,null,null," ",366,null,null,null,0]
[367,null,null," ",367,null,null,null,0]
[368,null,null," ",368,null,null,null,0]
[369,null,null," ",369,null,null,null,0]
[370,null,null," ",370,null,null,null,0]
[371,null,null," ",371,null,null,null,0]
[372,null,null," ",372,null,null,null,0]
[373,null,null," ",373,null,null,null,0]
[374,null,null," ",374,null,null,null,0]
[375,null,null," ",375,null,null,null,0]
[376,null,null," ",376,null,null,null,0]
[377,null,null," ",377,null,null,null,0]
[378,null,null," ",378,null,null,null,0]
[379,null,null," ",379,null,null,null,0]
[380,null,null," ",380,null,null,null,0]
[381,null,null," ",381,null,null,null,0]
[382,null,null," ",382,null,null,null,0]
[383,null,null," ",383,null,null,null,0]
[384,null,null," ",384,null,null,null,0]
[385,null,null," ",385,null,null,null,0]
[386,null,null,{"$f":"IF(C389=0,\" \",CONCATENATE(A389,\".\",\" \",C389))","v":" "},{"$f":"+A389","v":386},null,null,null,{"$f":"+B389","v":0}]
[387,null,null," ",387,null,null,null,0]
[388,null,null," ",388,null,null,null,0]
[389,null,null," ",389,null,null,null,0]
[390,null,null," ",390,null,null,null,0]
[391,null,null," ",391,null,null,null,0]
[392,null,null," ",392,null,null,null,0]
[393,null,null," ",393,null,null,null,0]
[394,null,null," ",394,null,null,null,0]
[395,null,null," ",395,null,null,null,0]
[396,null,null," ",396,null,null,null,0]
[397,null,null," ",397,null,null,null,0]
[398,null,null," ",398,null,null,null,0]
[399,null,null," ",399,null,null,null,0]
[400,null,null," ",400,null,null,null,0]

{"sheet":"2_Metas_Producto_ y_ $","index":3,"n_rows":36,"n_cols":14,"rows_kept":36,"cut":false,"hidden":false,"merged":[[17,1,17,2],[16,1,16,2],[19,1,19,2],[20,2,35,2]]}
[null,"Diligencie la información de cada programa en los campos grises y luego presione \"Registrar\""]
[null,null,null,null,null,null,null,null,null,null,"Lista indicador de resultado","Lista Linea base","Lista meta19","Sector FUT"]
[null,"1. Descripción Meta Resultado",null,null,null,null,null,null,null,null,{"$f":"VLOOKUP($C$3,'1_Metas_Resultados'!$D$4:$H$403,3,FALSE)","v":{"$error":"#N/A"}},{"$f":"VLOOKUP($C$3,'1_Metas_Resultados'!$D$4:$H$403,4,FALSE)","v":{"$error":"#N/A"}},{"$f":"VLOOKUP($C$3,'1_Metas_Resultados'!$D$4:$H$403,5,FALSE)","v":{"$error":"#N/A"}},{"$f":"VLOOKUP(C12,Listas!$B$4:$C$21,2,FALSE)","v":{"$error":"#N/A"}}]
[null,"2. Indicador de Resultado"]
[null,"3. Línea Base  Resultado"]
[null,"4. Meta de Resultado 2019"]
[null,"5. Descripción Meta Producto"]
[null,"6. Indicador de Producto"]
[null,"7. Línea Base Producto"]
[null,"8. Meta Producto cuatrenio"]
[null,"9. Orientacion de la Meta Producto"]
[null,"10. Sector FUT"]
[null,"11. CodSec FUT"]
[null,"12. ODS de Producto"]
[null,"13. Responsable"]
[]
[null,"14. Programación Física",null,2016,2017,2018,2019]
[null,"Valor esperado"]
[]
[null,"15. Programación Financiera",null,2016,2017,2018,2019]
[null,"Cofinanciación Departamento","Cifras en miles de pesos"]
[null,"Cofinanciación Nación"]
[null,"Crédito"]
[null,"Otros"]
[null,"Recursos Propios"]
[null,"SGP Alimentación Escolar"]
[null,"SGP APSB"]
[null,"SGP PG Cultura"]
[null,"SGP PG Deporte"]
[null,"SGP Educación"]
[null,"SGP PG Libre Destinación 42% Mpios 4, 5 y 6 Cat"]
[null,"SGP PG Libre Inversión"]
[null,"SGP Municipios Río Magdalena"]
[null,"SGP Salud"]
[null,"Regalías"]
[null,"Total (miles de pesos)",null,{"$f":"SUM(D21:D35)","v":0},{"$f":"SUM(E21:E35)","v":0},0,0]

{"sheet":"3_Plan Indicativo","index":4,"n_rows":1000,"n_cols":89,"rows_kept":1000,"cut":false,"hidden":false,"merged":[]}
["Código Meta Resultado","# Producto","Código Producto","Código Resultado Indirecto 1","Código Resultado Indirecto 2","Programa","Descripción Meta Resultado Principal","Indicador de Resultado","Línea Base  Resultado","Meta  Resultado Cuatrenio 2019","Descripción Meta Resultado Indirecto 1","Descripción Meta Resultado Indirecto 2","Descripción Meta Producto","Indicador de Producto","Línea Base Producto","Meta Producto Cuatrenio","Orientación de la meta de producto","Sector","CodSec","ODS de Producto","Responsable","Valor Esperado 2016","Valor Esperado 2017","Valor Esperado 2018","Valor Esperado 2019","Cofinanciación Departamento 2016","Cofinanciación Nación 2016","Crédito 2016","Otros 2016","Recursos Propios 2016","SGP Alimentación Escolar 2016","SGP APSB 2016","SGP Cultura 2016","SGP Deporte 2016","SGP Educación 2016","SGP Libre Destinación 42% Mpios 4, 5 y 6 Cat 2016","SGP Libre Inversión 2016","SGP Municipios Río Magdalena 2016"," SGP Salud 2016"," Regalías 2016"," Total 2016 (miles)","Cofinanciación Departamental 2017","Cofinanciación Nación 2017","Crédito 2017","Otros 2017","Recursos Propios 2017","SGP Alimentación Escolar 2017","SGP APSB 2017","SGP Cultura 2017"," SGP Deporte 2017"," SGP Educación 2017","SGP Libre Destinación 42% Mpios 4, 5 y 6 Cat 2017"," SGP Libre Inversión 2017","SGP Municipios Río Magdalena 2017","SGP Salud 2017","Regalías 2017","Total 2017 (miles)","Cofinanciación Departamental 2018","Cofinanciación Nación 2018","Crédito 2018","Otros 2018"," Recursos Propios 2018"," SGP Alimentación Escolar 2018"," SGP APSB 2018","SGP Cultura 2018","SGP Deporte 2018","SGP Educación 2018","SGP Libre Destinación 42% Mpios 4, 5 y 6 Cat 2018","SGP Libre Inversión 2018","SGP Municipios Río Magdalena 2018","SGP Salud 2018","Regalías 2018","Total 2018 (miles)","Cofinanciación Departamental 2019","Cofinanciación Nación 2019","Crédito 2019","Otros 2019","Recursos Propios 2019","SGP Alimentación Escolar 2019","SGP APSB 2019","SGP Cultura 2019","SGP Deporte 2019","SGP Educación 2019","SGP Libre Destinación 42% Mpios 4, 5 y 6 Cat 2019","SGP Libre Inversión 2019","SGP Municipios Río Magdalena 2019","SGP Salud 2019","Regalías 2019","Total 2019 (miles)"]
[{"$f":"IF(ISERROR(CONCATENATE($S2,\".\",VLOOKUP($G2,'1_Metas_Resultados'!$D$4:$E$403,2,FALSE))),\"Sin Registrar\",CONCATENATE($S2,\".\",VLOOKUP($G2,'1_Metas_Resultados'!$D$4:$E$403,2,FALSE)))","v":"Sin Registrar"},1,{"$f":"IF(A2=\"Sin Registrar\",\" \",CONCATENATE(A2,\".\",B2))","v":" "},{"$f":"IF(ISERROR(CONCATENATE($S2,\".\",VLOOKUP($K2,'1_Metas_Resultados'!$D$4:$E$403,2,FALSE))),\"Sin Registrar\",CONCATENATE($S2,\".\",VLOOKUP($K2,'1_Metas_Resultados'!$D$4:$E$403,2,FALSE)))","v":"Sin Registrar"},{"$f":"IF(ISERROR(CONCATENATE($S2,\".\",VLOOKUP($L2,'1_Metas_Resultados'!$D$4:$E$403,2,FALSE))),\"Sin Registrar\",CONCATENATE($S2,\".\",VLOOKUP($L2,'1_Metas_Resultados'!$D$4:$E$403,2,FALSE)))","v":"Sin Registrar"},{"$f":"IF(ISERROR(VLOOKUP(G2,'1_Metas_Resultados'!$D$4:$I$403,6,FALSE)),\"\",VLOOKUP(G2,'1_Metas_Resultados'!$D$4:$I$403,6,FALSE))","v":""}]
[{"$f":"IF(ISERROR(CONCATENATE($S3,\".\",VLOOKUP($G3,'1_Metas_Resultados'!$D$4:$E$403,2,FALSE))),\"Sin Registrar\",CONCATENATE($S3,\".\",VLOOKUP($G3,'1_Metas_Resultados'!$D$4:$E$403,2,FALSE)))","v":"Sin Registrar"},2,{"$f":"IF(A3=\"Sin Registrar\",\" \",CONCATENATE(A3,\".\",B3))","v":" "},{"$f":"IF(ISERROR(CONCATENATE($S3,\".\",VLOOKUP($K3,'1_Metas_Resultados'!$D$4:$E$403,2,FALSE))),\"Sin Registrar\",CONCATENATE($S3,\".\",VLOOKUP($K3,'1_Metas_Resultados'!$D$4:$E$403,2,FALSE)))","v":"Sin Registrar"},{"$f":"IF(ISERROR(CONCATENATE($S3,\".\",VLOOKUP($L3,'1_Metas_Resultados'!$D$4:$E$403,2,FALSE))),\"Sin Registrar\",CONCATENATE($S3,\".\",VLOOKUP($L3,'1_Metas_Resultados'!$D$4:$E$403,2,FALSE)))","v":"Sin Registrar"},{"$f":"IF(ISERROR(VLOOKUP(G3,'1_Metas_Resultados'!$D$4:$I$403,6,FALSE)),\"\",VLOOKUP(G3,'1_Metas_Resultados'!$D$4:$I$403,6,FALSE))","v":""}]
[{"$f":"IF(ISERROR(CONCATENATE($S4,\".\",VLOOKUP($G4,'1_Metas_Resultados'!$D$4:$E$403,2,FALSE))),\"Sin Registrar\",CONCATENATE($S4,\".\",VLOOKUP($G4,'1_Metas_Resultados'!$D$4:$E$403,2,FALSE)))","v":"Sin Registrar"},3,{"$f":"IF(A4=\"Sin Registrar\",\" \",CONCATENATE(A4,\".\",B4))","v":" "},{"$f":"IF(ISERROR(CONCATENATE($S4,\".\",VLOOKUP($K4,'1_Metas_Resultados'!$D$4:$E$403,2,FALSE))),\"Sin Registrar\",CONCATENATE($S4,\".\",VLOOKUP($K4,'1_Metas_Resultados'!$D$4:$E$403,2,FALSE)))","v":"Sin Registrar"},{"$f":"IF(ISERROR(CONCATENATE($S4,\".\",VLOOKUP($L4,'1_Metas_Resultados'!$D$4:$E$403,2,FALSE))),\"Sin Registrar\",CONCATENATE($S4,\".\",VLOOKUP($L4,'1_Metas_Resultados'!$D$4:$E$403,2,FALSE)))","v":"Sin Registrar"},{"$f":"IF(ISERROR(VLOOKUP(G4,'1_Metas_Resultados'!$D$4:$I$403,6,FALSE)),\"\",VLOOKUP(G4,'1_Metas_Resultados'!$D$4:$I$403,6,FALSE))","v":""}]
[{"$f":"IF(ISERROR(CONCATENATE($S5,\".\",VLOOKUP($G5,'1_Metas_Resultados'!$D$4:$E$403,2,FALSE))),\"Sin Registrar\",CONCATENATE($S5,\".\",VLOOKUP($G5,'1_Metas_Resultados'!$D$4:$E$403,2,FALSE)))","v":"Sin Registrar"},4,{"$f":"IF(A5=\"Sin Registrar\",\" \",CONCATENATE(A5,\".\",B5))","v":" "},{"$f":"IF(ISERROR(CONCATENATE($S5,\".\",VLOOKUP($K5,'1_Metas_Resultados'!$D$4:$E$403,2,FALSE))),\"Sin Registrar\",CONCATENATE($S5,\".\",VLOOKUP($K5,'1_Metas_Resultados'!$D$4:$E$403,2,FALSE)))","v":"Sin Registrar"},{"$f":"IF(ISERROR(CONCATENATE($S5,\".\",VLOOKUP($L5,'1_Metas_Resultados'!$D$4:$E$403,2,FALSE))),\"Sin Registrar\",CONCATENATE($S5,\".\",VLOOKUP($L5,'1_Metas_Resultados'!$D$4:$E$403,2,FALSE)))","v":"Sin Registrar"},{"$f":"IF(ISERROR(VLOOKUP(G5,'1_Metas_Resultados'!$D$4:$I$403,6,FALSE)),\"\",VLOOKUP(G5,'1_Metas_Resultados'!$D$4:$I$403,6,FALSE))","v":""}]
[{"$f":"IF(ISERROR(CONCATENATE($S6,\".\",VLOOKUP($G6,'1_Metas_Resultados'!$D$4:$E$403,2,FALSE))),\"Sin Registrar\",CONCATENATE($S6,\".\",VLOOKUP($G6,'1_Metas_Resultados'!$D$4:$E$403,2,FALSE)))","v":"Sin Registrar"},5," ",{"$f":"IF(ISERROR(CONCATENATE($S6,\".\",VLOOKUP($K6,'1_Metas_Resultados'!$D$4:$E$403,2,FALSE))),\"Sin Registrar\",CONCATENATE($S6,\".\",VLOOKUP($K6,'1_Metas_Resultados'!$D$4:$E$403,2,FALSE)))","v":"Sin Registrar"},{"$f":"IF(ISERROR(CONCATENATE($S6,\".\",VLOOKUP($L6,'1_Metas_Resultados'!$D$4:$E$403,2,FALSE))),\"Sin Registrar\",CONCATENATE($S6,\".\",VLOOKUP($L6,'1_Metas_Resultados'!$D$4:$E$403,2,FALSE)))","v":"Sin Registrar"},{"$f":"IF(ISERROR(VLOOKUP(G6,'1_Metas_Resultados'!$D$4:$I$403,6,FALSE)),\"\",VLOOKUP(G6,'1_Metas_Resultados'!$D$4:$I$403,6,FALSE))","v":""}]
[{"$f":"IF(ISERROR(CONCATENATE($S7,\".\",VLOOKUP($G7,'1_Metas_Resultados'!$D$4:$E$403,2,FALSE))),\"Sin Registrar\",CONCATENATE($S7,\".\",VLOOKUP($G7,'1_Metas_Resultados'!$D$4:$E$403,2,FALSE)))","v":"Sin Registrar"},6," ",{"$f":"IF(ISERROR(CONCATENATE($S7,\".\",VLOOKUP($K7,'1_Metas_Resultados'!$D$4:$E$403,2,FALSE))),\"Sin Registrar\",CONCATENATE($S7,\".\",VLOOKUP($K7,'1_Metas_Resultados'!$D$4:$E$403,2,FALSE)))","v":"Sin Registrar"},{"$f":"IF(ISERROR(CONCATENATE($S7,\".\",VLOOKUP($L7,'1_Metas_Resultados'!$D$4:$E$403,2,FALSE))),\"Sin Registrar\",CONCATENATE($S7,\".\",VLOOKUP($L7,'1_Metas_Resultados'!$D$4:$E$403,2,FALSE)))","v":"Sin Registrar"},{"$f":"IF(ISERROR(VLOOKUP(G7,'1_Metas_Resultados'!$D$4:$I$403,6,FALSE)),\"\",VLOOKUP(G7,'1_Metas_Resultados'!$D$4:$I$403,6,FALSE))","v":""}]
[{"$f":"IF(ISERROR(CONCATENATE($S8,\".\",VLOOKUP($G8,'1_Metas_Resultados'!$D$4:$E$403,2,FALSE))),\"Sin Registrar\",CONCATENATE($S8,\".\",VLOOKUP($G8,'1_Metas_Resultados'!$D$4:$E$403,2,FALSE)))","v":"Sin Registrar"},7," ",{"$f":"IF(ISERROR(CONCATENATE($S8,\".\",VLOOKUP($K8,'1_Metas_Resultados'!$D$4:$E$403,2,FALSE))),\"Sin Registrar\",CONCATENATE($S8,\".\",VLOOKUP($K8,'1_Metas_Resultados'!$D$4:$E$403,2,FALSE)))","v":"Sin Registrar"},{"$f":"IF(ISERROR(CONCATENATE($S8,\".\",VLOOKUP($L8,'1_Metas_Resultados'!$D$4:$E$403,2,FALSE))),\"Sin Registrar\",CONCATENATE($S8,\".\",VLOOKUP($L8,'1_Metas_Resultados'!$D$4:$E$403,2,FALSE)))","v":"Sin Registrar"},{"$f":"IF(ISERROR(VLOOKUP(G8,'1_Metas_Resultados'!$D$4:$I$403,6,FALSE)),\"\",VLOOKUP(G8,'1_Metas_Resultados'!$D$4:$I$403,6,FALSE))","v":""}]
[{"$f":"IF(ISERROR(CONCATENATE($S9,\".\",VLOOKUP($G9,'1_Metas_Resultados'!$D$4:$E$403,2,FALSE))),\"Sin Registrar\",CONCATENATE($S9,\".\",VLOOKUP($G9,'1_Metas_Resultados'!$D$4:$E$403,2,FALSE)))","v":"Sin Registrar"},8," ",{"$f":"IF(ISERROR(CONCATENATE($S9,\".\",VLOOKUP($K9,'1_Metas_Resultados'!$D$4:$E$403,2,FALSE))),\"Sin Registrar\",CONCATENATE($S9,\".\",VLOOKUP($K9,'1_Metas_Resultados'!$D$4:$E$403,2,FALSE)))","v":"Sin Registrar"},{"$f":"IF(ISERROR(CONCATENATE($S9,\".\",VLOOKUP($L9,'1_Metas_Resultados'!$D$4:$E$403,2,FALSE))),\"Sin Registrar\",CONCATENATE($S9,\".\",VLOOKUP($L9,'1_Metas_Resultados'!$D$4:$E$403,2,FALSE)))","v":"Sin Registrar"},{"$f":"IF(ISERROR(VLOOKUP(G9,'1_Metas_Resultados'!$D$4:$I$403,6,FALSE)),\"\",VLOOKUP(G9,'1_Metas_Resultados'!$D$4:$I$403,6,FALSE))","v":""}]
[{"$f":"IF(ISERROR(CONCATENATE($S10,\".\",VLOOKUP($G10,'1_Metas_Resultados'!$D$4:$E$403,2,FALSE))),\"Sin Registrar\",CONCATENATE($S10,\".\",VLOOKUP($G10,'1_Metas_Resultados'!$D$4:$E$403,2,FALSE)))","v":"Sin Registrar"},9," ",{"$f":"IF(ISERROR(CONCATENATE($S10,\".\",VLOOKUP($K10,'1_Metas_Resultados'!$D$4:$E$403,2,FALSE))),\"Sin Registrar\",CONCATENATE($S10,\".\",VLOOKUP($K10,'1_Metas_Resultados'!$D$4:$E$403,2,FALSE)))","v":"Sin Registrar"},{"$f":"IF(ISERROR(CONCATENATE($S10,\".\",VLOOKUP($L10,'1_Metas_Resultados'!$D$4:$E$403,2,FALSE))),\"Sin Registrar\",CONCATENATE($S10,\".\",VLOOKUP($L10,'1_Metas_Resultados'!$D$4:$E$403,2,FALSE)))","v":"Sin Registrar"},{"$f":"IF(ISERROR(VLOOKUP(G10,'1_Metas_Resultados'!$D$4:$I$403,6,FALSE)),\"\",VLOOKUP(G10,'1_Metas_Resultados'!$D$4:$I$403,6,FALSE))","v":""}]
[{"$f":"IF(ISERROR(CONCATENATE($S11,\".\",VLOOKUP($G11,'1_Metas_Resultados'!$D$4:$E$403,2,FALSE))),\"Sin Registrar\",CONCATENATE($S11,\".\",VLOOKUP($G11,'1_Metas_Resultados'!$D$4:$E$403,2,FALSE)))","v":"Sin Registrar"},10," ",{"$f":"IF(ISERROR(CONCATENATE($S11,\".\",VLOOKUP($K11,'1_Metas_Resultados'!$D$4:$E$403,2,FALSE))),\"Sin Registrar\",CONCATENATE($S11,\".\",VLOOKUP($K11,'1_Metas_Resultados'!$D$4:$E$403,2,FALSE)))","v":"Sin Registrar"},{"$f":"IF(ISERROR(CONCATENATE($S11,\".\",VLOOKUP($L11,'1_Metas_Resultados'!$D$4:$E$403,2,FALSE))),\"Sin Registrar\",CONCATENATE($S11,\".\",VLOOKUP($L11,'1_Metas_Resultados'!$D$4:$E$403,2,FALSE)))","v":"Sin Registrar"},{"$f":"IF(ISERROR(VLOOKUP(G11,'1_Metas_Resultados'!$D$4:$I$403,6,FALSE)),\"\",VLOOKUP(G11,'1_Metas_Resultados'!$D$4:$I$403,6,FALSE))","v":""}]
[{"$f":"IF(ISERROR(CONCATENATE($S12,\".\",VLOOKUP($G12,'1_Metas_Resultados'!$D$4:$E$403,2,FALSE))),\"Sin Registrar\",CONCATENATE($S12,\".\",VLOOKUP($G12,'1_Metas_Resultados'!$D$4:$E$403,2,FALSE)))","v":"Sin Registrar"},11," ",{"$f":"IF(ISERROR(CONCATENATE($S12,\".\",VLOOKUP($K12,'1_Metas_Resultados'!$D$4:$E$403,2,FALSE))),\"Sin Registrar\",CONCATENATE($S12,\".\",VLOOKUP($K12,'1_Metas_Resultados'!$D$4:$E$403,2,FALSE)))","v":"Sin Registrar"},{"$f":"IF(ISERROR(CONCATENATE($S12,\".\",VLOOKUP($L12,'1_Metas_Resultados'!$D$4:$E$403,2,FALSE))),\"Sin Registrar\",CONCATENATE($S12,\".\",VLOOKUP($L12,'1_Metas_Resultados'!$D$4:$E$403,2,FALSE)))","v":"Sin Registrar"},{"$f":"IF(ISERROR(VLOOKUP(G12,'1_Metas_Resultados'!$D$4:$I$403,6,FALSE)),\"\",VLOOKUP(G12,'1_Metas_Resultados'!$D$4:$I$403,6,FALSE))","v":""}]
[{"$f":"IF(ISERROR(CONCATENATE($S13,\".\",VLOOKUP($G13,'1_Metas_Resultados'!$D$4:$E$403,2,FALSE))),\"Sin Registrar\",CONCATENATE($S13,\".\",VLOOKUP($G13,'1_Metas_Resultados'!$D$4:$E$403,2,FALSE)))","v":"Sin Registrar"},12," ",{"$f":"IF(ISERROR(CONCATENATE($S13,\".\",VLOOKUP($K13,'1_Metas_Resultados'!$D$4:$E$403,2,FALSE))),\"Sin Registrar\",CONCATENATE($S13,\".\",VLOOKUP($K13,'1_Metas_Resultados'!$D$4:$E$403,2,FALSE)))","v":"Sin Registrar"},{"$f":"IF(ISERROR(CONCATENATE($S13,\".\",VLOOKUP($L13,'1_Metas_Resultados'!$D$4:$E$403,2,FALSE))),\"Sin Registrar\",CONCATENATE($S13,\".\",VLOOKUP($L13,'1_Metas_Resultados'!$D$4:$E$403,2,FALSE)))","v":"Sin Registrar"},{"$f":"IF(ISERROR(VLOOKUP(G13,'1_Metas_Resultados'!$D$4:$I$403,6,FALSE)),\"\",VLOOKUP(G13,'1_Metas_Resultados'!$D$4:$I$403,6,FALSE))","v":""}]
[{"$f":"IF(ISERROR(CONCATENATE($S14,\".\",VLOOKUP($G14,'1_Metas_Resultados'!$D$4:$E$403,2,FALSE))),\"Sin Registrar\",CONCATENATE($S14,\".\",VLOOKUP($G14,'1_Metas_Resultados'!$D$4:$E$403,2,FALSE)))","v":"Sin Registrar"},13," ",{"$f":"IF(ISERROR(CONCATENATE($S14,\".\",VLOOKUP($K14,'1_Metas_Resultados'!$D$4:$E$403,2,FALSE))),\"Sin Registrar\",CONCATENATE($S14,\".\",VLOOKUP($K14,'1_Metas_Resultados'!$D$4:$E$403,2,FALSE)))","v":"Sin Registrar"},{"$f":"IF(ISERROR(CONCATENATE($S14,\".\",VLOOKUP($L14,'1_Metas_Resultados'!$D$4:$E$403,2,FALSE))),\"Sin Registrar\",CONCATENATE($S14,\".\",VLOOKUP($L14,'1_Metas_Resultados'!$D$4:$E$403,2,FALSE)))","v":"Sin Registrar"},{"$f":"IF(ISERROR(VLOOKUP(G14,'1_Metas_Resultados'!$D$4:$I$403,6,FALSE)),\"\",VLOOKUP(G14,'1_Metas_Resultados'!$D$4:$I$403,6,FALSE))","v":""}]
[{"$f":"IF(ISERROR(CONCATENATE($S15,\".\",VLOOKUP($G15,'1_Metas_Resultados'!$D$4:$E$403,2,FALSE))),\"Sin Registrar\",CONCATENATE($S15,\".\",VLOOKUP($G15,'1_Metas_Resultados'!$D$4:$E$403,2,FALSE)))","v":"Sin Registrar"},14," ",{"$f":"IF(ISERROR(CONCATENATE($S15,\".\",VLOOKUP($K15,'1_Metas_Resultados'!$D$4:$E$403,2,FALSE))),\"Sin Registrar\",CONCATENATE($S15,\".\",VLOOKUP($K15,'1_Metas_Resultados'!$D$4:$E$403,2,FALSE)))","v":"Sin Registrar"},{"$f":"IF(ISERROR(CONCATENATE($S15,\".\",VLOOKUP($L15,'1_Metas_Resultados'!$D$4:$E$403,2,FALSE))),\"Sin Registrar\",CONCATENATE($S15,\".\",VLOOKUP($L15,'1_Metas_Resultados'!$D$4:$E$403,2,FALSE)))","v":"Sin Registrar"},{"$f":"IF(ISERROR(VLOOKUP(G15,'1_Metas_Resultados'!$D$4:$I$403,6,FALSE)),\"\",VLOOKUP(G15,'1_Metas_Resultados'!$D$4:$I$403,6,FALSE))","v":""}]
[{"$f":"IF(ISERROR(CONCATENATE($S16,\".\",VLOOKUP($G16,'1_Metas_Resultados'!$D$4:$E$403,2,FALSE))),\"Sin Registrar\",CONCATENATE($S16,\".\",VLOOKUP($G16,'1_Metas_Resultados'!$D$4:$E$403,2,FALSE)))","v":"Sin Registrar"},15," ",{"$f":"IF(ISERROR(CONCATENATE($S16,\".\",VLOOKUP($K16,'1_Metas_Resultados'!$D$4:$E$403,2,FALSE))),\"Sin Registrar\",CONCATENATE($S16,\".\",VLOOKUP($K16,'1_Metas_Resultados'!$D$4:$E$403,2,FALSE)))","v":"Sin Registrar"},{"$f":"IF(ISERROR(CONCATENATE($S16,\".\",VLOOKUP($L16,'1_Metas_Resultados'!$D$4:$E$403,2,FALSE))),\"Sin Registrar\",CONCATENATE($S16,\".\",VLOOKUP($L16,'1_Metas_Resultados'!$D$4:$E$403,2,FALSE)))","v":"Sin Registrar"},{"$f":"IF(ISERROR(VLOOKUP(G16,'1_Metas_Resultados'!$D$4:$I$403,6,FALSE)),\"\",VLOOKUP(G16,'1_Metas_Resultados'!$D$4:$I$403,6,FALSE))","v":""}]
[{"$f":"IF(ISERROR(CONCATENATE($S17,\".\",VLOOKUP($G17,'1_Metas_Resultados'!$D$4:$E$403,2,FALSE))),\"Sin Registrar\",CONCATENATE($S17,\".\",VLOOKUP($G17,'1_Metas_Resultados'!$D$4:$E$403,2,FALSE)))","v":"Sin Registrar"},16," ",{"$f":"IF(ISERROR(CONCATENATE($S17,\".\",VLOOKUP($K17,'1_Metas_Resultados'!$D$4:$E$403,2,FALSE))),\"Sin Registrar\",CONCATENATE($S17,\".\",VLOOKUP($K17,'1_Metas_Resultados'!$D$4:$E$403,2,FALSE)))","v":"Sin Registrar"},{"$f":"IF(ISERROR(CONCATENATE($S17,\".\",VLOOKUP($L17,'1_Metas_Resultados'!$D$4:$E$403,2,FALSE))),\"Sin Registrar\",CONCATENATE($S17,\".\",VLOOKUP($L17,'1_Metas_Resultados'!$D$4:$E$403,2,FALSE)))","v":"Sin Registrar"},{"$f":"IF(ISERROR(VLOOKUP(G17,'1_Metas_Resultados'!$D$4:$I$403,6,FALSE)),\"\",VLOOKUP(G17,'1_Metas_Resultados'!$D$4:$I$403,6,FALSE))","v":""}]
[{"$f":"IF(ISERROR(CONCATENATE($S18,\".\",VLOOKUP($G18,'1_Metas_Resultados'!$D$4:$E$403,2,FALSE))),\"Sin Registrar\",CONCATENATE($S18,\".\",VLOOKUP($G18,'1_Metas_Resultados'!$D$4:$E$403,2,FALSE)))","v":"Sin Registrar"},17," ",{"$f":"IF(ISERROR(CONCATENATE($S18,\".\",VLOOKUP($K18,'1_Metas_Resultados'!$D$4:$E$403,2,FALSE))),\"Sin Registrar\",CONCATENATE($S18,\".\",VLOOKUP($K18,'1_Metas_Resultados'!$D$4:$E$403,2,FALSE)))","v":"Sin Registrar"},{"$f":"IF(ISERROR(CONCATENATE($S18,\".\",VLOOKUP($L18,'1_Metas_Resultados'!$D$4:$E$403,2,FALSE))),\"Sin Registrar\",CONCATENATE($S18,\".\",VLOOKUP($L18,'1_Metas_Resultados'!$D$4:$E$403,2,FALSE)))","v":"Sin Registrar"},{"$f":"IF(ISERROR(VLOOKUP(G18,'1_Metas_Resultados'!$D$4:$I$403,6,FALSE)),\"\",VLOOKUP(G18,'1_Metas_Resultados'!$D$4:$I$403,6,FALSE))","v":""}]
[{"$f":"IF(ISERROR(CONCATENATE($S19,\".\",VLOOKUP($G19,'1_Metas_Resultados'!$D$4:$E$403,2,FALSE))),\"Sin Registrar\",CONCATENATE($S19,\".\",VLOOKUP($G19,'1_Metas_Resultados'!$D$4:$E$403,2,FALSE)))","v":"Sin Registrar"},18," ",{"$f":"IF(ISERROR(CONCATENATE($S19,\".\",VLOOKUP($K19,'1_Metas_Resultados'!$D$4:$E$403,2,FALSE))),\"Sin Registrar\",CONCATENATE($S19,\".\",VLOOKUP($K19,'1_Metas_Resultados'!$D$4:$E$403,2,FALSE)))","v":"Sin Registrar"},{"$f":"IF(ISERROR(CONCATENATE($S19,\".\",VLOOKUP($L19,'1_Metas_Resultados'!$D$4:$E$403,2,FALSE))),\"Sin Registrar\",CONCATENATE($S19,\".\",VLOOKUP($L19,'1_Metas_Resultados'!$D$4:$E$403,2,FALSE)))","v":"Sin Registrar"},{"$f":"IF(ISERROR(VLOOKUP(G19,'1_Metas_Resultados'!$D$4:$I$403,6,FALSE)),\"\",VLOOKUP(G19,'1_Metas_Resultados'!$D$4:$I$403,6,FALSE))","v":""}]
[{"$f":"IF(ISERROR(CONCATENATE($S20,\".\",VLOOKUP($G20,'1_Metas_Resultados'!$D$4:$E$403,2,FALSE))),\"Sin Registrar\",CONCATENATE($S20,\".\",VLOOKUP($G20,'1_Metas_Resultados'!$D$4:$E$403,2,FALSE)))","v":"Sin Registrar"},19," ",{"$f":"IF(ISERROR(CONCATENATE($S20,\".\",VLOOKUP($K20,'1_Metas_Resultados'!$D$4:$E$403,2,FALSE))),\"Sin Registrar\",CONCATENATE($S20,\".\",VLOOKUP($K20,'1_Metas_Resultados'!$D$4:$E$403,2,FALSE)))","v":"Sin Registrar"},{"$f":"IF(ISERROR(CONCATENATE($S20,\".\",VLOOKUP($L20,'1_Metas_Resultados'!$D$4:$E$403,2,FALSE))),\"Sin Registrar\",CONCATENATE($S20,\".\",VLOOKUP($L20,'1_Metas_Resultados'!$D$4:$E$403,2,FALSE)))","v":"Sin Registrar"},{"$f":"IF(ISERROR(VLOOKUP(G20,'1_Metas_Resultados'!$D$4:$I$403,6,FALSE)),\"\",VLOOKUP(G20,'1_Metas_Resultados'!$D$4:$I$403,6,FALSE))","v":""}]
[{"$f":"IF(ISERROR(CONCATENATE($S21,\".\",VLOOKUP($G21,'1_Metas_Resultados'!$D$4:$E$403,2,FALSE))),\"Sin Registrar\",CONCATENATE($S21,\".\",VLOOKUP($G21,'1_Metas_Resultados'!$D$4:$E$403,2,FALSE)))","v":"Sin Registrar"},20," ",{"$f":"IF(ISERROR(CONCATENATE($S21,\".\",VLOOKUP($K21,'1_Metas_Resultados'!$D$4:$E$403,2,FALSE))),\"Sin Registrar\",CONCATENATE($S21,\".\",VLOOKUP($K21,'1_Metas_Resultados'!$D$4:$E$403,2,FALSE)))","v":"Sin Registrar"},{"$f":"IF(ISERROR(CONCATENATE($S21,\".\",VLOOKUP($L21,'1_Metas_Resultados'!$D$4:$E$403,2,FALSE))),\"Sin Registrar\",CONCATENATE($S21,\".\",VLOOKUP($L21,'1_Metas_Resultados'!$D$4:$E$403,2,FALSE)))","v":"Sin Registrar"},{"$f":"IF(ISERROR(VLOOKUP(G21,'1_Metas_Resultados'!$D$4:$I$403,6,FALSE)),\"\",VLOOKUP(G21,'1_Metas_Resultados'!$D$4:$I$403,6,FALSE))","v":""}]
[{"$f":"IF(ISERROR(CONCATENATE($S22,\".\",VLOOKUP($G22,'1_Metas_Resultados'!$D$4:$E$403,2,FALSE))),\"Sin Registrar\",CONCATENATE($S22,\".\",VLOOKUP($G22,'1_Metas_Resultados'!$D$4:$E$403,2,FALSE)))","v":"Sin Registrar"},21," ",{"$f":"IF(ISERROR(CONCATENATE($S22,\".\",VLOOKUP($K22,'1_Metas_Resultados'!$D$4:$E$403,2,FALSE))),\"Sin Registrar\",CONCATENATE($S22,\".\",VLOOKUP($K22,'1_Metas_Resultados'!$D$4:$E$403,2,FALSE)))","v":"Sin Registrar"},{"$f":"IF(ISERROR(CONCATENATE($S22,\".\",VLOOKUP($L22,'1_Metas_Resultados'!$D$4:$E$403,2,FALSE))),\"Sin Registrar\",CONCATENATE($S22,\".\",VLOOKUP($L22,'1_Metas_Resultados'!$D$4:$E$403,2,FALSE)))","v":"Sin Registrar"},{"$f":"IF(ISERROR(VLOOKUP(G22,'1_Metas_Resultados'!$D$4:$I$403,6,FALSE)),\"\",VLOOKUP(G22,'1_Metas_Resultados'!$D$4:$I$403,6,FALSE))","v":""}]
[{"$f":"IF(ISERROR(CONCATENATE($S23,\".\",VLOOKUP($G23,'1_Metas_Resultados'!$D$4:$E$403,2,FALSE))),\"Sin Registrar\",CONCATENATE($S23,\".\",VLOOKUP($G23,'1_Metas_Resultados'!$D$4:$E$403,2,FALSE)))","v":"Sin Registrar"},22," ",{"$f":"IF(ISERROR(CONCATENATE($S23,\".\",VLOOKUP($K23,'1_Metas_Resultados'!$D$4:$E$403,2,FALSE))),\"Sin Registrar\",CONCATENATE($S23,\".\",VLOOKUP($K23,'1_Metas_Resultados'!$D$4:$E$403,2,FALSE)))","v":"Sin Registrar"},{"$f":"IF(ISERROR(CONCATENATE($S23,\".\",VLOOKUP($L23,'1_Metas_Resultados'!$D$4:$E$403,2,FALSE))),\"Sin Registrar\",CONCATENATE($S23,\".\",VLOOKUP($L23,'1_Metas_Resultados'!$D$4:$E$403,2,FALSE)))","v":"Sin Registrar"},{"$f":"IF(ISERROR(VLOOKUP(G23,'1_Metas_Resultados'!$D$4:$I$403,6,FALSE)),\"\",VLOOKUP(G23,'1_Metas_Resultados'!$D$4:$I$403,6,FALSE))","v":""}]
[{"$f":"IF(ISERROR(CONCATENATE($S24,\".\",VLOOKUP($G24,'1_Metas_Resultados'!$D$4:$E$403,2,FALSE))),\"Sin Registrar\",CONCATENATE($S24,\".\",VLOOKUP($G24,'1_Metas_Resultados'!$D$4:$E$403,2,FALSE)))","v":"Sin Registrar"},23," ",{"$f":"IF(ISERROR(CONCATENATE($S24,\".\",VLOOKUP($K24,'1_Metas_Resultados'!$D$4:$E$403,2,FALSE))),\"Sin Registrar\",CONCATENATE($S24,\".\",VLOOKUP($K24,'1_Metas_Resultados'!$D$4:$E$403,2,FALSE)))","v":"Sin Registrar"},{"$f":"IF(ISERROR(CONCATENATE($S24,\".\",VLOOKUP($L24,'1_Metas_Resultados'!$D$4:$E$403,2,FALSE))),\"Sin Registrar\",CONCATENATE($S24,\".\",VLOOKUP($L24,'1_Metas_Resultados'!$D$4:$E$403,2,FALSE)))","v":"Sin Registrar"},{"$f":"IF(ISERROR(VLOOKUP(G24,'1_Metas_Resultados'!$D$4:$I$403,6,FALSE)),\"\",VLOOKUP(G24,'1_Metas_Resultados'!$D$4:$I$403,6,FALSE))","v":""}]
[{"$f":"IF(ISERROR(CONCATENATE($S25,\".\",VLOOKUP($G25,'1_Metas_Resultados'!$D$4:$E$403,2,FALSE))),\"Sin Registrar\",CONCATENATE($S25,\".\",VLOOKUP($G25,'1_Metas_Resultados'!$D$4:$E$403,2,FALSE)))","v":"Sin Registrar"},24," ",{"$f":"IF(ISERROR(CONCATENATE($S25,\".\",VLOOKUP($K25,'1_Metas_Resultados'!$D$4:$E$403,2,FALSE))),\"Sin Registrar\",CONCATENATE($S25,\".\",VLOOKUP($K25,'1_Metas_Resultados'!$D$4:$E$403,2,FALSE)))","v":"Sin Registrar"},{"$f":"IF(ISERROR(CONCATENATE($S25,\".\",VLOOKUP($L25,'1_Metas_Resultados'!$D$4:$E$403,2,FALSE))),\"Sin Registrar\",CONCATENATE($S25,\".\",VLOOKUP($L25,'1_Metas_Resultados'!$D$4:$E$403,2,FALSE)))","v":"Sin Registrar"},{"$f":"IF(ISERROR(VLOOKUP(G25,'1_Metas_Resultados'!$D$4:$I$403,6,FALSE)),\"\",VLOOKUP(G25,'1_Metas_Resultados'!$D$4:$I$403,6,FALSE))","v":""}]
[{"$f":"IF(ISERROR(CONCATENATE($S26,\".\",VLOOKUP($G26,'1_Metas_Resultados'!$D$4:$E$403,2,FALSE))),\"Sin Registrar\",CONCATENATE($S26,\".\",VLOOKUP($G26,'1_Metas_Resultados'!$D$4:$E$403,2,FALSE)))","v":"Sin Registrar"},25," ",{"$f":"IF(ISERROR(CONCATENATE($S26,\".\",VLOOKUP($K26,'1_Metas_Resultados'!$D$4:$E$403,2,FALSE))),\"Sin Registrar\",CONCATENATE($S26,\".\",VLOOKUP($K26,'1_Metas_Resultados'!$D$4:$E$403,2,FALSE)))","v":"Sin Registrar"},{"$f":"IF(ISERROR(CONCATENATE($S26,\".\",VLOOKUP($L26,'1_Metas_Resultados'!$D$4:$E$403,2,FALSE))),\"Sin Registrar\",CONCATENATE($S26,\".\",VLOOKUP($L26,'1_Metas_Resultados'!$D$4:$E$403,2,FALSE)))","v":"Sin Registrar"},{"$f":"IF(ISERROR(VLOOKUP(G26,'1_Metas_Resultados'!$D$4:$I$403,6,FALSE)),\"\",VLOOKUP(G26,'1_Metas_Resultados'!$D$4:$I$403,6,FALSE))","v":""}]
[{"$f":"IF(ISERROR(CONCATENATE($S27,\".\",VLOOKUP($G27,'1_Metas_Resultados'!$D$4:$E$403,2,FALSE))),\"Sin Registrar\",CONCATENATE($S27,\".\",VLOOKUP($G27,'1_Metas_Resultados'!$D$4:$E$403,2,FALSE)))","v":"Sin Registrar"},26," ",{"$f":"IF(ISERROR(CONCATENATE($S27,\".\",VLOOKUP($K27,'1_Metas_Resultados'!$D$4:$E$403,2,FALSE))),\"Sin Registrar\",CONCATENATE($S27,\".\",VLOOKUP($K27,'1_Metas_Resultados'!$D$4:$E$403,2,FALSE)))","v":"Sin Registrar"},{"$f":"IF(ISERROR(CONCATENATE($S27,\".\",VLOOKUP($L27,'1_Metas_Resultados'!$D$4:$E$403,2,FALSE))),\"Sin Registrar\",CONCATENATE($S27,\".\",VLOOKUP($L27,'1_Metas_Resultados'!$D$4:$E$403,2,FALSE)))","v":"Sin Registrar"},{"$f":"IF(ISERROR(VLOOKUP(G27,'1_Metas_Resultados'!$D$4:$I$403,6,FALSE)),\"\",VLOOKUP(G27,'1_Metas_Resultados'!$D$4:$I$403,6,FALSE))","v":""}]
[{"$f":"IF(ISERROR(CONCATENATE($S28,\".\",VLOOKUP($G28,'1_Metas_Resultados'!$D$4:$E$403,2,FALSE))),\"Sin Registrar\",CONCATENATE($S28,\".\",VLOOKUP($G28,'1_Metas_Resultados'!$D$4:$E$403,2,FALSE)))","v":"Sin Registrar"},27," ",{"$f":"IF(ISERROR(CONCATENATE($S28,\".\",VLOOKUP($K28,'1_Metas_Resultados'!$D$4:$E$403,2,FALSE))),\"Sin Registrar\",CONCATENATE($S28,\".\",VLOOKUP($K28,'1_Metas_Resultados'!$D$4:$E$403,2,FALSE)))","v":"Sin Registrar"},{"$f":"IF(ISERROR(CONCATENATE($S28,\".\",VLOOKUP($L28,'1_Metas_Resultados'!$D$4:$E$403,2,FALSE))),\"Sin Registrar\",CONCATENATE($S28,\".\",VLOOKUP($L28,'1_Metas_Resultados'!$D$4:$E$403,2,FALSE)))","v":"Sin Registrar"},{"$f":"IF(ISERROR(VLOOKUP(G28,'1_Metas_Resultados'!$D$4:$I$403,6,FALSE)),\"\",VLOOKUP(G28,'1_Metas_Resultados'!$D$4:$I$403,6,FALSE))","v":""}]
[{"$f":"IF(ISERROR(CONCATENATE($S29,\".\",VLOOKUP($G29,'1_Metas_Resultados'!$D$4:$E$403,2,FALSE))),\"Sin Registrar\",CONCATENATE($S29,\".\",VLOOKUP($G29,'1_Metas_Resultados'!$D$4:$E$403,2,FALSE)))","v":"Sin Registrar"},28," ",{"$f":"IF(ISERROR(CONCATENATE($S29,\".\",VLOOKUP($K29,'1_Metas_Resultados'!$D$4:$E$403,2,FALSE))),\"Sin Registrar\",CONCATENATE($S29,\".\",VLOOKUP($K29,'1_Metas_Resultados'!$D$4:$E$403,2,FALSE)))","v":"Sin Registrar"},{"$f":"IF(ISERROR(CONCATENATE($S29,\".\",VLOOKUP($L29,'1_Metas_Resultados'!$D$4:$E$403,2,FALSE))),\"Sin Registrar\",CONCATENATE($S29,\".\",VLOOKUP($L29,'1_Metas_Resultados'!$D$4:$E$403,2,FALSE)))","v":"Sin Registrar"},{"$f":"IF(ISERROR(VLOOKUP(G29,'1_Metas_Resultados'!$D$4:$I$403,6,FALSE)),\"\",VLOOKUP(G29,'1_Metas_Resultados'!$D$4:$I$403,6,FALSE))","v":""}]
[{"$f":"IF(ISERROR(CONCATENATE($S30,\".\",VLOOKUP($G30,'1_Metas_Resultados'!$D$4:$E$403,2,FALSE))),\"Sin Registrar\",CONCATENATE($S30,\".\",VLOOKUP($G30,'1_Metas_Resultados'!$D$4:$E$403,2,FALSE)))","v":"Sin Registrar"},29," ",{"$f":"IF(ISERROR(CONCATENATE($S30,\".\",VLOOKUP($K30,'1_Metas_Resultados'!$D$4:$E$403,2,FALSE))),\"Sin Registrar\",CONCATENATE($S30,\".\",VLOOKUP($K30,'1_Metas_Resultados'!$D$4:$E$403,2,FALSE)))","v":"Sin Registrar"},{"$f":"IF(ISERROR(CONCATENATE($S30,\".\",VLOOKUP($L30,'1_Metas_Resultados'!$D$4:$E$403,2,FALSE))),\"Sin Registrar\",CONCATENATE($S30,\".\",VLOOKUP($L30,'1_Metas_Resultados'!$D$4:$E$403,2,FALSE)))","v":"Sin Registrar"},{"$f":"IF(ISERROR(VLOOKUP(G30,'1_Metas_Resultados'!$D$4:$I$403,6,FALSE)),\"\",VLOOKUP(G30,'1_Metas_Resultados'!$D$4:$I$403,6,FALSE))","v":""}]
[{"$f":"IF(ISERROR(CONCATENATE($S31,\".\",VLOOKUP($G31,'1_Metas_Resultados'!$D$4:$E$403,2,FALSE))),\"Sin Registrar\",CONCATENATE($S31,\".\",VLOOKUP($G31,'1_Metas_Resultados'!$D$4:$E$403,2,FALSE)))","v":"Sin Registrar"},30," ",{"$f":"IF(ISERROR(CONCATENATE($S31,\".\",VLOOKUP($K31,'1_Metas_Resultados'!$D$4:$E$403,2,FALSE))),\"Sin Registrar\",CONCATENATE($S31,\".\",VLOOKUP($K31,'1_Metas_Resultados'!$D$4:$E$403,2,FALSE)))","v":"Sin Registrar"},{"$f":"IF(ISERROR(CONCATENATE($S31,\".\",VLOOKUP($L31,'1_Metas_Resultados'!$D$4:$E$403,2,FALSE))),\"Sin Registrar\",CONCATENATE($S31,\".\",VLOOKUP($L31,'1_Metas_Resultados'!$D$4:$E$403,2,FALSE)))","v":"Sin Registrar"},{"$f":"IF(ISERROR(VLOOKUP(G31,'1_Metas_Resultados'!$D$4:$I$403,6,FALSE)),\"\",VLOOKUP(G31,'1_Metas_Resultados'!$D$4:$I$403,6,FALSE))","v":""}]
[{"$f":"IF(ISERROR(CONCATENATE($S32,\".\",VLOOKUP($G32,'1_Metas_Resultados'!$D$4:$E$403,2,FALSE))),\"Sin Registrar\",CONCATENATE($S32,\".\",VLOOKUP($G32,'1_Metas_Resultados'!$D$4:$E$403,2,FALSE)))","v":"Sin Registrar"},31," ",{"$f":"IF(ISERROR(CONCATENATE($S32,\".\",VLOOKUP($K32,'1_Metas_Resultados'!$D$4:$E$403,2,FALSE))),\"Sin Registrar\",CONCATENATE($S32,\".\",VLOOKUP($K32,'1_Metas_Resultados'!$D$4:$E$403,2,FALSE)))","v":"Sin Registrar"},{"$f":"IF(ISERROR(CONCATENATE($S32,\".\",VLOOKUP($L32,'1_Metas_Resultados'!$D$4:$E$403,2,FALSE))),\"Sin Registrar\",CONCATENATE($S32,\".\",VLOOKUP($L32,'1_Metas_Resultados'!$D$4:$E$403,2,FALSE)))","v":"Sin Registrar"},{"$f":"IF(ISERROR(VLOOKUP(G32,'1_Metas_Resultados'!$D$4:$I$403,6,FALSE)),\"\",VLOOKUP(G32,'1_Metas_Resultados'!$D$4:$I$403,6,FALSE))","v":""}]
[{"$f":"IF(ISERROR(CONCATENATE($S33,\".\",VLOOKUP($G33,'1_Metas_Resultados'!$D$4:$E$403,2,FALSE))),\"Sin Registrar\",CONCATENATE($S33,\".\",VLOOKUP($G33,'1_Metas_Resultados'!$D$4:$E$403,2,FALSE)))","v":"Sin Registrar"},32," ",{"$f":"IF(ISERROR(CONCATENATE($S33,\".\",VLOOKUP($K33,'1_Metas_Resultados'!$D$4:$E$403,2,FALSE))),\"Sin Registrar\",CONCATENATE($S33,\".\",VLOOKUP($K33,'1_Metas_Resultados'!$D$4:$E$403,2,FALSE)))","v":"Sin Registrar"},{"$f":"IF(ISERROR(CONCATENATE($S33,\".\",VLOOKUP($L33,'1_Metas_Resultados'!$D$4:$E$403,2,FALSE))),\"Sin Registrar\",CONCATENATE($S33,\".\",VLOOKUP($L33,'1_Metas_Resultados'!$D$4:$E$403,2,FALSE)))","v":"Sin Registrar"},{"$f":"IF(ISERROR(VLOOKUP(G33,'1_Metas_Resultados'!$D$4:$I$403,6,FALSE)),\"\",VLOOKUP(G33,'1_Metas_Resultados'!$D$4:$I$403,6,FALSE))","v":""}]
[{"$f":"IF(ISERROR(CONCATENATE($S34,\".\",VLOOKUP($G34,'1_Metas_Resultados'!$D$4:$E$403,2,FALSE))),\"Sin Registrar\",CONCATENATE($S34,\".\",VLOOKUP($G34,'1_Metas_Resultados'!$D$4:$E$403,2,FALSE)))","v":"Sin Registrar"},33," ",{"$f":"IF(ISERROR(CONCATENATE($S34,\".\",VLOOKUP($K34,'1_Metas_Resultados'!$D$4:$E$403,2,FALSE))),\"Sin Registrar\",CONCATENATE($S34,\".\",VLOOKUP($K34,'1_Metas_Resultados'!$D$4:$E$403,2,FALSE)))","v":"Sin Registrar"},{"$f":"IF(ISERROR(CONCATENATE($S34,\".\",VLOOKUP($L34,'1_Metas_Resultados'!$D$4:$E$403,2,FALSE))),\"Sin Registrar\",CONCATENATE($S34,\".\",VLOOKUP($L34,'1_Metas_Resultados'!$D$4:$E$403,2,FALSE)))","v":"Sin Registrar"},{"$f":"IF(ISERROR(VLOOKUP(G34,'1_Metas_Resultados'!$D$4:$I$403,6,FALSE)),\"\",VLOOKUP(G34,'1_Metas_Resultados'!$D$4:$I$403,6,FALSE))","v":""}]
[{"$f":"IF(ISERROR(CONCATENATE($S35,\".\",VLOOKUP($G35,'1_Metas_Resultados'!$D$4:$E$403,2,FALSE))),\"Sin Registrar\",CONCATENATE($S35,\".\",VLOOKUP($G35,'1_Metas_Resultados'!$D$4:$E$403,2,FALSE)))","v":"Sin Registrar"},34," ",{"$f":"IF(ISERROR(CONCATENATE($S35,\".\",VLOOKUP($K35,'1_Metas_Resultados'!$D$4:$E$403,2,FALSE))),\"Sin Registrar\",CONCATENATE($S35,\".\",VLOOKUP($K35,'1_Metas_Resultados'!$D$4:$E$403,2,FALSE)))","v":"Sin Registrar"},{"$f":"IF(ISERROR(CONCATENATE($S35,\".\",VLOOKUP($L35,'1_Metas_Resultados'!$D$4:$E$403,2,FALSE))),\"Sin Registrar\",CONCATENATE($S35,\".\",VLOOKUP($L35,'1_Metas_Resultados'!$D$4:$E$403,2,FALSE)))","v":"Sin Registrar"},{"$f":"IF(ISERROR(VLOOKUP(G35,'1_Metas_Resultados'!$D$4:$I$403,6,FALSE)),\"\",VLOOKUP(G35,'1_Metas_Resultados'!$D$4:$I$403,6,FALSE))","v":""}]
[{"$f":"IF(ISERROR(CONCATENATE($S36,\".\",VLOOKUP($G36,'1_Metas_Resultados'!$D$4:$E$403,2,FALSE))),\"Sin Registrar\",CONCATENATE($S36,\".\",VLOOKUP($G36,'1_Metas_Resultados'!$D$4:$E$403,2,FALSE)))","v":"Sin Registrar"},35," ",{"$f":"IF(ISERROR(CONCATENATE($S36,\".\",VLOOKUP($K36,'1_Metas_Resultados'!$D$4:$E$403,2,FALSE))),\"Sin Registrar\",CONCATENATE($S36,\".\",VLOOKUP($K36,'1_Metas_Resultados'!$D$4:$E$403,2,FALSE)))","v":"Sin Registrar"},{"$f":"IF(ISERROR(CONCATENATE($S36,\".\",VLOOKUP($L36,'1_Metas_Resultados'!$D$4:$E$403,2,FALSE))),\"Sin Registrar\",CONCATENATE($S36,\".\",VLOOKUP($L36,'1_Metas_Resultados'!$D$4:$E$403,2,FALSE)))","v":"Sin Registrar"},{"$f":"IF(ISERROR(VLOOKUP(G36,'1_Metas_Resultados'!$D$4:$I$403,6,FALSE)),\"\",VLOOKUP(G36,'1_Metas_Resultados'!$D$4:$I$403,6,FALSE))","v":""}]
[{"$f":"IF(ISERROR(CONCATENATE($S37,\".\",VLOOKUP($G37,'1_Metas_Resultados'!$D$4:$E$403,2,FALSE))),\"Sin Registrar\",CONCATENATE($S37,\".\",VLOOKUP($G37,'1_Metas_Resultados'!$D$4:$E$403,2,FALSE)))","v":"Sin Registrar"},36," ",{"$f":"IF(ISERROR(CONCATENATE($S37,\".\",VLOOKUP($K37,'1_Metas_Resultados'!$D$4:$E$403,2,FALSE))),\"Sin Registrar\",CONCATENATE($S37,\".\",VLOOKUP($K37,'1_Metas_Resultados'!$D$4:$E$403,2,FALSE)))","v":"Sin Registrar"},{"$f":"IF(ISERROR(CONCATENATE($S37,\".\",VLOOKUP($L37,'1_Metas_Resultados'!$D$4:$E$403,2,FALSE))),\"Sin Registrar\",CONCATENATE($S37,\".\",VLOOKUP($L37,'1_Metas_Resultados'!$D$4:$E$403,2,FALSE)))","v":"Sin Registrar"},{"$f":"IF(ISERROR(VLOOKUP(G37,'1_Metas_Resultados'!$D$4:$I$403,6,FALSE)),\"\",VLOOKUP(G37,'1_Metas_Resultados'!$D$4:$I$403,6,FALSE))","v":""}]
[{"$f":"IF(ISERROR(CONCATENATE($S38,\".\",VLOOKUP($G38,'1_Metas_Resultados'!$D$4:$E$403,2,FALSE))),\"Sin Registrar\",CONCATENATE($S38,\".\",VLOOKUP($G38,'1_Metas_Resultados'!$D$4:$E$403,2,FALSE)))","v":"Sin Registrar"},37," ",{"$f":"IF(ISERROR(CONCATENATE($S38,\".\",VLOOKUP($K38,'1_Metas_Resultados'!$D$4:$E$403,2,FALSE))),\"Sin Registrar\",CONCATENATE($S38,\".\",VLOOKUP($K38,'1_Metas_Resultados'!$D$4:$E$403,2,FALSE)))","v":"Sin Registrar"},{"$f":"IF(ISERROR(CONCATENATE($S38,\".\",VLOOKUP($L38,'1_Metas_Resultados'!$D$4:$E$403,2,FALSE))),\"Sin Registrar\",CONCATENATE($S38,\".\",VLOOKUP($L38,'1_Metas_Resultados'!$D$4:$E$403,2,FALSE)))","v":"Sin Registrar"},{"$f":"IF(ISERROR(VLOOKUP(G38,'1_Metas_Resultados'!$D$4:$I$403,6,FALSE)),\"\",VLOOKUP(G38,'1_Metas_Resultados'!$D$4:$I$403,6,FALSE))","v":""}]
[{"$f":"IF(ISERROR(CONCATENATE($S39,\".\",VLOOKUP($G39,'1_Metas_Resultados'!$D$4:$E$403,2,FALSE))),\"Sin Registrar\",CONCATENATE($S39,\".\",VLOOKUP($G39,'1_Metas_Resultados'!$D$4:$E$403,2,FALSE)))","v":"Sin Registrar"},38," ",{"$f":"IF(ISERROR(CONCATENATE($S39,\".\",VLOOKUP($K39,'1_Metas_Resultados'!$D$4:$E$403,2,FALSE))),\"Sin Registrar\",CONCATENATE($S39,\".\",VLOOKUP($K39,'1_Metas_Resultados'!$D$4:$E$403,2,FALSE)))","v":"Sin Registrar"},{"$f":"IF(ISERROR(CONCATENATE($S39,\".\",VLOOKUP($L39,'1_Metas_Resultados'!$D$4:$E$403,2,FALSE))),\"Sin Registrar\",CONCATENATE($S39,\".\",VLOOKUP($L39,'1_Metas_Resultados'!$D$4:$E$403,2,FALSE)))","v":"Sin Registrar"},{"$f":"IF(ISERROR(VLOOKUP(G39,'1_Metas_Resultados'!$D$4:$I$403,6,FALSE)),\"\",VLOOKUP(G39,'1_Metas_Resultados'!$D$4:$I$403,6,FALSE))","v":""}]
[{"$f":"IF(ISERROR(CONCATENATE($S40,\".\",VLOOKUP($G40,'1_Metas_Resultados'!$D$4:$E$403,2,FALSE))),\"Sin Registrar\",CONCATENATE($S40,\".\",VLOOKUP($G40,'1_Metas_Resultados'!$D$4:$E$403,2,FALSE)))","v":"Sin Registrar"},39," ",{"$f":"IF(ISERROR(CONCATENATE($S40,\".\",VLOOKUP($K40,'1_Metas_Resultados'!$D$4:$E$403,2,FALSE))),\"Sin Registrar\",CONCATENATE($S40,\".\",VLOOKUP($K40,'1_Metas_Resultados'!$D$4:$E$403,2,FALSE)))","v":"Sin Registrar"},{"$f":"IF(ISERROR(CONCATENATE($S40,\".\",VLOOKUP($L40,'1_Metas_Resultados'!$D$4:$E$403,2,FALSE))),\"Sin Registrar\",CONCATENATE($S40,\".\",VLOOKUP($L40,'1_Metas_Resultados'!$D$4:$E$403,2,FALSE)))","v":"Sin Registrar"},{"$f":"IF(ISERROR(VLOOKUP(G40,'1_Metas_Resultados'!$D$4:$I$403,6,FALSE)),\"\",VLOOKUP(G40,'1_Metas_Resultados'!$D$4:$I$403,6,FALSE))","v":""}]
[{"$f":"IF(ISERROR(CONCATENATE($S41,\".\",VLOOKUP($G41,'1_Metas_Resultados'!$D$4:$E$403,2,FALSE))),\"Sin Registrar\",CONCATENATE($S41,\".\",VLOOKUP($G41,'1_Metas_Resultados'!$D$4:$E$403,2,FALSE)))","v":"Sin Registrar"},40," ",{"$f":"IF(ISERROR(CONCATENATE($S41,\".\",VLOOKUP($K41,'1_Metas_Resultados'!$D$4:$E$403,2,FALSE))),\"Sin Registrar\",CONCATENATE($S41,\".\",VLOOKUP($K41,'1_Metas_Resultados'!$D$4:$E$403,2,FALSE)))","v":"Sin Registrar"},{"$f":"IF(ISERROR(CONCATENATE($S41,\".\",VLOOKUP($L41,'1_Metas_Resultados'!$D$4:$E$403,2,FALSE))),\"Sin Registrar\",CONCATENATE($S41,\".\",VLOOKUP($L41,'1_Metas_Resultados'!$D$4:$E$403,2,FALSE)))","v":"Sin Registrar"},{"$f":"IF(ISERROR(VLOOKUP(G41,'1_Metas_Resultados'!$D$4:$I$403,6,FALSE)),\"\",VLOOKUP(G41,'1_Metas_Resultados'!$D$4:$I$403,6,FALSE))","v":""}]
[{"$f":"IF(ISERROR(CONCATENATE($S42,\".\",VLOOKUP($G42,'1_Metas_Resultados'!$D$4:$E$403,2,FALSE))),\"Sin Registrar\",CONCATENATE($S42,\".\",VLOOKUP($G42,'1_Metas_Resultados'!$D$4:$E$403,2,FALSE)))","v":"Sin Registrar"},41," ",{"$f":"IF(ISERROR(CONCATENATE($S42,\".\",VLOOKUP($K42,'1_Metas_Resultados'!$D$4:$E$403,2,FALSE))),\"Sin Registrar\",CONCATENATE($S42,\".\",VLOOKUP($K42,'1_Metas_Resultados'!$D$4:$E$403,2,FALSE)))","v":"Sin Registrar"},{"$f":"IF(ISERROR(CONCATENATE($S42,\".\",VLOOKUP($L42,'1_Metas_Resultados'!$D$4:$E$403,2,FALSE))),\"Sin Registrar\",CONCATENATE($S42,\".\",VLOOKUP($L42,'1_Metas_Resultados'!$D$4:$E$403,2,FALSE)))","v":"Sin Registrar"},{"$f":"IF(ISERROR(VLOOKUP(G42,'1_Metas_Resultados'!$D$4:$I$403,6,FALSE)),\"\",VLOOKUP(G42,'1_Metas_Resultados'!$D$4:$I$403,6,FALSE))","v":""}]
[{"$f":"IF(ISERROR(CONCATENATE($S43,\".\",VLOOKUP($G43,'1_Metas_Resultados'!$D$4:$E$403,2,FALSE))),\"Sin Registrar\",CONCATENATE($S43,\".\",VLOOKUP($G43,'1_Metas_Resultados'!$D$4:$E$403,2,FALSE)))","v":"Sin Registrar"},42," ",{"$f":"IF(ISERROR(CONCATENATE($S43,\".\",VLOOKUP($K43,'1_Metas_Resultados'!$D$4:$E$403,2,FALSE))),\"Sin Registrar\",CONCATENATE($S43,\".\",VLOOKUP($K43,'1_Metas_Resultados'!$D$4:$E$403,2,FALSE)))","v":"Sin Registrar"},{"$f":"IF(ISERROR(CONCATENATE($S43,\".\",VLOOKUP($L43,'1_Metas_Resultados'!$D$4:$E$403,2,FALSE))),\"Sin Registrar\",CONCATENATE($S43,\".\",VLOOKUP($L43,'1_Metas_Resultados'!$D$4:$E$403,2,FALSE)))","v":"Sin Registrar"},{"$f":"IF(ISERROR(VLOOKUP(G43,'1_Metas_Resultados'!$D$4:$I$403,6,FALSE)),\"\",VLOOKUP(G43,'1_Metas_Resultados'!$D$4:$I$403,6,FALSE))","v":""}]
[{"$f":"IF(ISERROR(CONCATENATE($S44,\".\",VLOOKUP($G44,'1_Metas_Resultados'!$D$4:$E$403,2,FALSE))),\"Sin Registrar\",CONCATENATE($S44,\".\",VLOOKUP($G44,'1_Metas_Resultados'!$D$4:$E$403,2,FALSE)))","v":"Sin Registrar"},43," ",{"$f":"IF(ISERROR(CONCATENATE($S44,\".\",VLOOKUP($K44,'1_Metas_Resultados'!$D$4:$E$403,2,FALSE))),\"Sin Registrar\",CONCATENATE($S44,\".\",VLOOKUP($K44,'1_Metas_Resultados'!$D$4:$E$403,2,FALSE)))","v":"Sin Registrar"},{"$f":"IF(ISERROR(CONCATENATE($S44,\".\",VLOOKUP($L44,'1_Metas_Resultados'!$D$4:$E$403,2,FALSE))),\"Sin Registrar\",CONCATENATE($S44,\".\",VLOOKUP($L44,'1_Metas_Resultados'!$D$4:$E$403,2,FALSE)))","v":"Sin Registrar"},{"$f":"IF(ISERROR(VLOOKUP(G44,'1_Metas_Resultados'!$D$4:$I$403,6,FALSE)),\"\",VLOOKUP(G44,'1_Metas_Resultados'!$D$4:$I$403,6,FALSE))","v":""}]
[{"$f":"IF(ISERROR(CONCATENATE($S45,\".\",VLOOKUP($G45,'1_Metas_Resultados'!$D$4:$E$403,2,FALSE))),\"Sin Registrar\",CONCATENATE($S45,\".\",VLOOKUP($G45,'1_Metas_Resultados'!$D$4:$E$403,2,FALSE)))","v":"Sin Registrar"},44," ",{"$f":"IF(ISERROR(CONCATENATE($S45,\".\",VLOOKUP($K45,'1_Metas_Resultados'!$D$4:$E$403,2,FALSE))),\"Sin Registrar\",CONCATENATE($S45,\".\",VLOOKUP($K45,'1_Metas_Resultados'!$D$4:$E$403,2,FALSE)))","v":"Sin Registrar"},{"$f":"IF(ISERROR(CONCATENATE($S45,\".\",VLOOKUP($L45,'1_Metas_Resultados'!$D$4:$E$403,2,FALSE))),\"Sin Registrar\",CONCATENATE($S45,\".\",VLOOKUP($L45,'1_Metas_Resultados'!$D$4:$E$403,2,FALSE)))","v":"Sin Registrar"},{"$f":"IF(ISERROR(VLOOKUP(G45,'1_Metas_Resultados'!$D$4:$I$403,6,FALSE)),\"\",VLOOKUP(G45,'1_Metas_Resultados'!$D$4:$I$403,6,FALSE))","v":""}]
[{"$f":"IF(ISERROR(CONCATENATE($S46,\".\",VLOOKUP($G46,'1_Metas_Resultados'!$D$4:$E$403,2,FALSE))),\"Sin Registrar\",CONCATENATE($S46,\".\",VLOOKUP($G46,'1_Metas_Resultados'!$D$4:$E$403,2,FALSE)))","v":"Sin Registrar"},45," ",{"$f":"IF(ISERROR(CONCATENATE($S46,\".\",VLOOKUP($K46,'1_Metas_Resultados'!$D$4:$E$403,2,FALSE))),\"Sin Registrar\",CONCATENATE($S46,\".\",VLOOKUP($K46,'1_Metas_Resultados'!$D$4:$E$403,2,FALSE)))","v":"Sin Registrar"},{"$f":"IF(ISERROR(CONCATENATE($S46,\".\",VLOOKUP($L46,'1_Metas_Resultados'!$D$4:$E$403,2,FALSE))),\"Sin Registrar\",CONCATENATE($S46,\".\",VLOOKUP($L46,'1_Metas_Resultados'!$D$4:$E$403,2,FALSE)))","v":"Sin Registrar"},{"$f":"IF(ISERROR(VLOOKUP(G46,'1_Metas_Resultados'!$D$4:$I$403,6,FALSE)),\"\",VLOOKUP(G46,'1_Metas_Resultados'!$D$4:$I$403,6,FALSE))","v":""}]
[{"$f":"IF(ISERROR(CONCATENATE($S47,\".\",VLOOKUP($G47,'1_Metas_Resultados'!$D$4:$E$403,2,FALSE))),\"Sin Registrar\",CONCATENATE($S47,\".\",VLOOKUP($G47,'1_Metas_Resultados'!$D$4:$E$403,2,FALSE)))","v":"Sin Registrar"},46," ",{"$f":"IF(ISERROR(CONCATENATE($S47,\".\",VLOOKUP($K47,'1_Metas_Resultados'!$D$4:$E$403,2,FALSE))),\"Sin Registrar\",CONCATENATE($S47,\".\",VLOOKUP($K47,'1_Metas_Resultados'!$D$4:$E$403,2,FALSE)))","v":"Sin Registrar"},{"$f":"IF(ISERROR(CONCATENATE($S47,\".\",VLOOKUP($L47,'1_Metas_Resultados'!$D$4:$E$403,2,FALSE))),\"Sin Registrar\",CONCATENATE($S47,\".\",VLOOKUP($L47,'1_Metas_Resultados'!$D$4:$E$403,2,FALSE)))","v":"Sin Registrar"},{"$f":"IF(ISERROR(VLOOKUP(G47,'1_Metas_Resultados'!$D$4:$I$403,6,FALSE)),\"\",VLOOKUP(G47,'1_Metas_Resultados'!$D$4:$I$403,6,FALSE))","v":""}]
[{"$f":"IF(ISERROR(CONCATENATE($S48,\".\",VLOOKUP($G48,'1_Metas_Resultados'!$D$4:$E$403,2,FALSE))),\"Sin Registrar\",CONCATENATE($S48,\".\",VLOOKUP($G48,'1_Metas_Resultados'!$D$4:$E$403,2,FALSE)))","v":"Sin Registrar"},47," ",{"$f":"IF(ISERROR(CONCATENATE($S48,\".\",VLOOKUP($K48,'1_Metas_Resultados'!$D$4:$E$403,2,FALSE))),\"Sin Registrar\",CONCATENATE($S48,\".\",VLOOKUP($K48,'1_Metas_Resultados'!$D$4:$E$403,2,FALSE)))","v":"Sin Registrar"},{"$f":"IF(ISERROR(CONCATENATE($S48,\".\",VLOOKUP($L48,'1_Metas_Resultados'!$D$4:$E$403,2,FALSE))),\"Sin Registrar\",CONCATENATE($S48,\".\",VLOOKUP($L48,'1_Metas_Resultados'!$D$4:$E$403,2,FALSE)))","v":"Sin Registrar"},{"$f":"IF(ISERROR(VLOOKUP(G48,'1_Metas_Resultados'!$D$4:$I$403,6,FALSE)),\"\",VLOOKUP(G48,'1_Metas_Resultados'!$D$4:$I$403,6,FALSE))","v":""}]
[{"$f":"IF(ISERROR(CONCATENATE($S49,\".\",VLOOKUP($G49,'1_Metas_Resultados'!$D$4:$E$403,2,FALSE))),\"Sin Registrar\",CONCATENATE($S49,\".\",VLOOKUP($G49,'1_Metas_Resultados'!$D$4:$E$403,2,FALSE)))","v":"Sin Registrar"},48," ",{"$f":"IF(ISERROR(CONCATENATE($S49,\".\",VLOOKUP($K49,'1_Metas_Resultados'!$D$4:$E$403,2,FALSE))),\"Sin Registrar\",CONCATENATE($S49,\".\",VLOOKUP($K49,'1_Metas_Resultados'!$D$4:$E$403,2,FALSE)))","v":"Sin Registrar"},{"$f":"IF(ISERROR(CONCATENATE($S49,\".\",VLOOKUP($L49,'1_Metas_Resultados'!$D$4:$E$403,2,FALSE))),\"Sin Registrar\",CONCATENATE($S49,\".\",VLOOKUP($L49,'1_Metas_Resultados'!$D$4:$E$403,2,FALSE)))","v":"Sin Registrar"},{"$f":"IF(ISERROR(VLOOKUP(G49,'1_Metas_Resultados'!$D$4:$I$403,6,FALSE)),\"\",VLOOKUP(G49,'1_Metas_Resultados'!$D$4:$I$403,6,FALSE))","v":""}]
[{"$f":"IF(ISERROR(CONCATENATE($S50,\".\",VLOOKUP($G50,'1_Metas_Resultados'!$D$4:$E$403,2,FALSE))),\"Sin Registrar\",CONCATENATE($S50,\".\",VLOOKUP($G50,'1_Metas_Resultados'!$D$4:$E$403,2,FALSE)))","v":"Sin Registrar"},49," ",{"$f":"IF(ISERROR(CONCATENATE($S50,\".\",VLOOKUP($K50,'1_Metas_Resultados'!$D$4:$E$403,2,FALSE))),\"Sin Registrar\",CONCATENATE($S50,\".\",VLOOKUP($K50,'1_Metas_Resultados'!$D$4:$E$403,2,FALSE)))","v":"Sin Registrar"},{"$f":"IF(ISERROR(CONCATENATE($S50,\".\",VLOOKUP($L50,'1_Metas_Resultados'!$D$4:$E$403,2,FALSE))),\"Sin Registrar\",CONCATENATE($S50,\".\",VLOOKUP($L50,'1_Metas_Resultados'!$D$4:$E$403,2,FALSE)))","v":"Sin Registrar"},{"$f":"IF(ISERROR(VLOOKUP(G50,'1_Metas_Resultados'!$D$4:$I$403,6,FALSE)),\"\",VLOOKUP(G50,'1_Metas_Resultados'!$D$4:$I$403,6,FALSE))","v":""}]
[{"$f":"IF(ISERROR(CONCATENATE($S51,\".\",VLOOKUP($G51,'1_Metas_Resultados'!$D$4:$E$403,2,FALSE))),\"Sin Registrar\",CONCATENATE($S51,\".\",VLOOKUP($G51,'1_Metas_Resultados'!$D$4:$E$403,2,FALSE)))","v":"Sin Registrar"},50," ",{"$f":"IF(ISERROR(CONCATENATE($S51,\".\",VLOOKUP($K51,'1_Metas_Resultados'!$D$4:$E$403,2,FALSE))),\"Sin Registrar\",CONCATENATE($S51,\".\",VLOOKUP($K51,'1_Metas_Resultados'!$D$4:$E$403,2,FALSE)))","v":"Sin Registrar"},{"$f":"IF(ISERROR(CONCATENATE($S51,\".\",VLOOKUP($L51,'1_Metas_Resultados'!$D$4:$E$403,2,FALSE))),\"Sin Registrar\",CONCATENATE($S51,\".\",VLOOKUP($L51,'1_Metas_Resultados'!$D$4:$E$403,2,FALSE)))","v":"Sin Registrar"},{"$f":"IF(ISERROR(VLOOKUP(G51,'1_Metas_Resultados'!$D$4:$I$403,6,FALSE)),\"\",VLOOKUP(G51,'1_Metas_Resultados'!$D$4:$I$403,6,FALSE))","v":""}]
[{"$f":"IF(ISERROR(CONCATENATE($S52,\".\",VLOOKUP($G52,'1_Metas_Resultados'!$D$4:$E$403,2,FALSE))),\"Sin Registrar\",CONCATENATE($S52,\".\",VLOOKUP($G52,'1_Metas_Resultados'!$D$4:$E$403,2,FALSE)))","v":"Sin Registrar"},51," ",{"$f":"IF(ISERROR(CONCATENATE($S52,\".\",VLOOKUP($K52,'1_Metas_Resultados'!$D$4:$E$403,2,FALSE))),\"Sin Registrar\",CONCATENATE($S52,\".\",VLOOKUP($K52,'1_Metas_Resultados'!$D$4:$E$403,2,FALSE)))","v":"Sin Registrar"},{"$f":"IF(ISERROR(CONCATENATE($S52,\".\",VLOOKUP($L52,'1_Metas_Resultados'!$D$4:$E$403,2,FALSE))),\"Sin Registrar\",CONCATENATE($S52,\".\",VLOOKUP($L52,'1_Metas_Resultados'!$D$4:$E$403,2,FALSE)))","v":"Sin Registrar"},{"$f":"IF(ISERROR(VLOOKUP(G52,'1_Metas_Resultados'!$D$4:$I$403,6,FALSE)),\"\",VLOOKUP(G52,'1_Metas_Resultados'!$D$4:$I$403,6,FALSE))","v":""}]
[{"$f":"IF(ISERROR(CONCATENATE($S53,\".\",VLOOKUP($G53,'1_Metas_Resultados'!$D$4:$E$403,2,FALSE))),\"Sin Registrar\",CONCATENATE($S53,\".\",VLOOKUP($G53,'1_Metas_Resultados'!$D$4:$E$403,2,FALSE)))","v":"Sin Registrar"},52," ",{"$f":"IF(ISERROR(CONCATENATE($S53,\".\",VLOOKUP($K53,'1_Metas_Resultados'!$D$4:$E$403,2,FALSE))),\"Sin Registrar\",CONCATENATE($S53,\".\",VLOOKUP($K53,'1_Metas_Resultados'!$D$4:$E$403,2,FALSE)))","v":"Sin Registrar"},{"$f":"IF(ISERROR(CONCATENATE($S53,\".\",VLOOKUP($L53,'1_Metas_Resultados'!$D$4:$E$403,2,FALSE))),\"Sin Registrar\",CONCATENATE($S53,\".\",VLOOKUP($L53,'1_Metas_Resultados'!$D$4:$E$403,2,FALSE)))","v":"Sin Registrar"},{"$f":"IF(ISERROR(VLOOKUP(G53,'1_Metas_Resultados'!$D$4:$I$403,6,FALSE)),\"\",VLOOKUP(G53,'1_Metas_Resultados'!$D$4:$I$403,6,FALSE))","v":""}]
[{"$f":"IF(ISERROR(CONCATENATE($S54,\".\",VLOOKUP($G54,'1_Metas_Resultados'!$D$4:$E$403,2,FALSE))),\"Sin Registrar\",CONCATENATE($S54,\".\",VLOOKUP($G54,'1_Metas_Resultados'!$D$4:$E$403,2,FALSE)))","v":"Sin Registrar"},53," ",{"$f":"IF(ISERROR(CONCATENATE($S54,\".\",VLOOKUP($K54,'1_Metas_Resultados'!$D$4:$E$403,2,FALSE))),\"Sin Registrar\",CONCATENATE($S54,\".\",VLOOKUP($K54,'1_Metas_Resultados'!$D$4:$E$403,2,FALSE)))","v":"Sin Registrar"},{"$f":"IF(ISERROR(CONCATENATE($S54,\".\",VLOOKUP($L54,'1_Metas_Resultados'!$D$4:$E$403,2,FALSE))),\"Sin Registrar\",CONCATENATE($S54,\".\",VLOOKUP($L54,'1_Metas_Resultados'!$D$4:$E$403,2,FALSE)))","v":"Sin Registrar"},{"$f":"IF(ISERROR(VLOOKUP(G54,'1_Metas_Resultados'!$D$4:$I$403,6,FALSE)),\"\",VLOOKUP(G54,'1_Metas_Resultados'!$D$4:$I$403,6,FALSE))","v":""}]
[{"$f":"IF(ISERROR(CONCATENATE($S55,\".\",VLOOKUP($G55,'1_Metas_Resultados'!$D$4:$E$403,2,FALSE))),\"Sin Registrar\",CONCATENATE($S55,\".\",VLOOKUP($G55,'1_Metas_Resultados'!$D$4:$E$403,2,FALSE)))","v":"Sin Registrar"},54," ",{"$f":"IF(ISERROR(CONCATENATE($S55,\".\",VLOOKUP($K55,'1_Metas_Resultados'!$D$4:$E$403,2,FALSE))),\"Sin Registrar\",CONCATENATE($S55,\".\",VLOOKUP($K55,'1_Metas_Resultados'!$D$4:$E$403,2,FALSE)))","v":"Sin Registrar"},{"$f":"IF(ISERROR(CONCATENATE($S55,\".\",VLOOKUP($L55,'1_Metas_Resultados'!$D$4:$E$403,2,FALSE))),\"Sin Registrar\",CONCATENATE($S55,\".\",VLOOKUP($L55,'1_Metas_Resultados'!$D$4:$E$403,2,FALSE)))","v":"Sin Registrar"},{"$f":"IF(ISERROR(VLOOKUP(G55,'1_Metas_Resultados'!$D$4:$I$403,6,FALSE)),\"\",VLOOKUP(G55,'1_Metas_Resultados'!$D$4:$I$403,6,FALSE))","v":""}]
[{"$f":"IF(ISERROR(CONCATENATE($S56,\".\",VLOOKUP($G56,'1_Metas_Resultados'!$D$4:$E$403,2,FALSE))),\"Sin Registrar\",CONCATENATE($S56,\".\",VLOOKUP($G56,'1_Metas_Resultados'!$D$4:$E$403,2,FALSE)))","v":"Sin Registrar"},55," ",{"$f":"IF(ISERROR(CONCATENATE($S56,\".\",VLOOKUP($K56,'1_Metas_Resultados'!$D$4:$E$403,2,FALSE))),\"Sin Registrar\",CONCATENATE($S56,\".\",VLOOKUP($K56,'1_Metas_Resultados'!$D$4:$E$403,2,FALSE)))","v":"Sin Registrar"},{"$f":"IF(ISERROR(CONCATENATE($S56,\".\",VLOOKUP($L56,'1_Metas_Resultados'!$D$4:$E$403,2,FALSE))),\"Sin Registrar\",CONCATENATE($S56,\".\",VLOOKUP($L56,'1_Metas_Resultados'!$D$4:$E$403,2,FALSE)))","v":"Sin Registrar"},{"$f":"IF(ISERROR(VLOOKUP(G56,'1_Metas_Resultados'!$D$4:$I$403,6,FALSE)),\"\",VLOOKUP(G56,'1_Metas_Resultados'!$D$4:$I$403,6,FALSE))","v":""}]
[{"$f":"IF(ISERROR(CONCATENATE($S57,\".\",VLOOKUP($G57,'1_Metas_Resultados'!$D$4:$E$403,2,FALSE))),\"Sin Registrar\",CONCATENATE($S57,\".\",VLOOKUP($G57,'1_Metas_Resultados'!$D$4:$E$403,2,FALSE)))","v":"Sin Registrar"},56," ",{"$f":"IF(ISERROR(CONCATENATE($S57,\".\",VLOOKUP($K57,'1_Metas_Resultados'!$D$4:$E$403,2,FALSE))),\"Sin Registrar\",CONCATENATE($S57,\".\",VLOOKUP($K57,'1_Metas_Resultados'!$D$4:$E$403,2,FALSE)))","v":"Sin Registrar"},{"$f":"IF(ISERROR(CONCATENATE($S57,\".\",VLOOKUP($L57,'1_Metas_Resultados'!$D$4:$E$403,2,FALSE))),\"Sin Registrar\",CONCATENATE($S57,\".\",VLOOKUP($L57,'1_Metas_Resultados'!$D$4:$E$403,2,FALSE)))","v":"Sin Registrar"},{"$f":"IF(ISERROR(VLOOKUP(G57,'1_Metas_Resultados'!$D$4:$I$403,6,FALSE)),\"\",VLOOKUP(G57,'1_Metas_Resultados'!$D$4:$I$403,6,FALSE))","v":""}]
[{"$f":"IF(ISERROR(CONCATENATE($S58,\".\",VLOOKUP($G58,'1_Metas_Resultados'!$D$4:$E$403,2,FALSE))),\"Sin Registrar\",CONCATENATE($S58,\".\",VLOOKUP($G58,'1_Metas_Resultados'!$D$4:$E$403,2,FALSE)))","v":"Sin Registrar"},57," ",{"$f":"IF(ISERROR(CONCATENATE($S58,\".\",VLOOKUP($K58,'1_Metas_Resultados'!$D$4:$E$403,2,FALSE))),\"Sin Registrar\",CONCATENATE($S58,\".\",VLOOKUP($K58,'1_Metas_Resultados'!$D$4:$E$403,2,FALSE)))","v":"Sin Registrar"},{"$f":"IF(ISERROR(CONCATENATE($S58,\".\",VLOOKUP($L58,'1_Metas_Resultados'!$D$4:$E$403,2,FALSE))),\"Sin Registrar\",CONCATENATE($S58,\".\",VLOOKUP($L58,'1_Metas_Resultados'!$D$4:$E$403,2,FALSE)))","v":"Sin Registrar"},{"$f":"IF(ISERROR(VLOOKUP(G58,'1_Metas_Resultados'!$D$4:$I$403,6,FALSE)),\"\",VLOOKUP(G58,'1_Metas_Resultados'!$D$4:$I$403,6,FALSE))","v":""}]
[{"$f":"IF(ISERROR(CONCATENATE($S59,\".\",VLOOKUP($G59,'1_Metas_Resultados'!$D$4:$E$403,2,FALSE))),\"Sin Registrar\",CONCATENATE($S59,\".\",VLOOKUP($G59,'1_Metas_Resultados'!$D$4:$E$403,2,FALSE)))","v":"Sin Registrar"},58," ",{"$f":"IF(ISERROR(CONCATENATE($S59,\".\",VLOOKUP($K59,'1_Metas_Resultados'!$D$4:$E$403,2,FALSE))),\"Sin Registrar\",CONCATENATE($S59,\".\",VLOOKUP($K59,'1_Metas_Resultados'!$D$4:$E$403,2,FALSE)))","v":"Sin Registrar"},{"$f":"IF(ISERROR(CONCATENATE($S59,\".\",VLOOKUP($L59,'1_Metas_Resultados'!$D$4:$E$403,2,FALSE))),\"Sin Registrar\",CONCATENATE($S59,\".\",VLOOKUP($L59,'1_Metas_Resultados'!$D$4:$E$403,2,FALSE)))","v":"Sin Registrar"},{"$f":"IF(ISERROR(VLOOKUP(G59,'1_Metas_Resultados'!$D$4:$I$403,6,FALSE)),\"\",VLOOKUP(G59,'1_Metas_Resultados'!$D$4:$I$403,6,FALSE))","v":""}]
[{"$f":"IF(ISERROR(CONCATENATE($S60,\".\",VLOOKUP($G60,'1_Metas_Resultados'!$D$4:$E$403,2,FALSE))),\"Sin Registrar\",CONCATENATE($S60,\".\",VLOOKUP($G60,'1_Metas_Resultados'!$D$4:$E$403,2,FALSE)))","v":"Sin Registrar"},59," ",{"$f":"IF(ISERROR(CONCATENATE($S60,\".\",VLOOKUP($K60,'1_Metas_Resultados'!$D$4:$E$403,2,FALSE))),\"Sin Registrar\",CONCATENATE($S60,\".\",VLOOKUP($K60,'1_Metas_Resultados'!$D$4:$E$403,2,FALSE)))","v":"Sin Registrar"},{"$f":"IF(ISERROR(CONCATENATE($S60,\".\",VLOOKUP($L60,'1_Metas_Resultados'!$D$4:$E$403,2,FALSE))),\"Sin Registrar\",CONCATENATE($S60,\".\",VLOOKUP($L60,'1_Metas_Resultados'!$D$4:$E$403,2,FALSE)))","v":"Sin Registrar"},{"$f":"IF(ISERROR(VLOOKUP(G60,'1_Metas_Resultados'!$D$4:$I$403,6,FALSE)),\"\",VLOOKUP(G60,'1_Metas_Resultados'!$D$4:$I$403,6,FALSE))","v":""}]
[{"$f":"IF(ISERROR(CONCATENATE($S61,\".\",VLOOKUP($G61,'1_Metas_Resultados'!$D$4:$E$403,2,FALSE))),\"Sin Registrar\",CONCATENATE($S61,\".\",VLOOKUP($G61,'1_Metas_Resultados'!$D$4:$E$403,2,FALSE)))","v":"Sin Registrar"},60," ",{"$f":"IF(ISERROR(CONCATENATE($S61,\".\",VLOOKUP($K61,'1_Metas_Resultados'!$D$4:$E$403,2,FALSE))),\"Sin Registrar\",CONCATENATE($S61,\".\",VLOOKUP($K61,'1_Metas_Resultados'!$D$4:$E$403,2,FALSE)))","v":"Sin Registrar"},{"$f":"IF(ISERROR(CONCATENATE($S61,\".\",VLOOKUP($L61,'1_Metas_Resultados'!$D$4:$E$403,2,FALSE))),\"Sin Registrar\",CONCATENATE($S61,\".\",VLOOKUP($L61,'1_Metas_Resultados'!$D$4:$E$403,2,FALSE)))","v":"Sin Registrar"},{"$f":"IF(ISERROR(VLOOKUP(G61,'1_Metas_Resultados'!$D$4:$I$403,6,FALSE)),\"\",VLOOKUP(G61,'1_Metas_Resultados'!$D$4:$I$403,6,FALSE))","v":""}]
[{"$f":"IF(ISERROR(CONCATENATE($S62,\".\",VLOOKUP($G62,'1_Metas_Resultados'!$D$4:$E$403,2,FALSE))),\"Sin Registrar\",CONCATENATE($S62,\".\",VLOOKUP($G62,'1_Metas_Resultados'!$D$4:$E$403,2,FALSE)))","v":"Sin Registrar"},61," ",{"$f":"IF(ISERROR(CONCATENATE($S62,\".\",VLOOKUP($K62,'1_Metas_Resultados'!$D$4:$E$403,2,FALSE))),\"Sin Registrar\",CONCATENATE($S62,\".\",VLOOKUP($K62,'1_Metas_Resultados'!$D$4:$E$403,2,FALSE)))","v":"Sin Registrar"},{"$f":"IF(ISERROR(CONCATENATE($S62,\".\",VLOOKUP($L62,'1_Metas_Resultados'!$D$4:$E$403,2,FALSE))),\"Sin Registrar\",CONCATENATE($S62,\".\",VLOOKUP($L62,'1_Metas_Resultados'!$D$4:$E$403,2,FALSE)))","v":"Sin Registrar"},{"$f":"IF(ISERROR(VLOOKUP(G62,'1_Metas_Resultados'!$D$4:$I$403,6,FALSE)),\"\",VLOOKUP(G62,'1_Metas_Resultados'!$D$4:$I$403,6,FALSE))","v":""}]
[{"$f":"IF(ISERROR(CONCATENATE($S63,\".\",VLOOKUP($G63,'1_Metas_Resultados'!$D$4:$E$403,2,FALSE))),\"Sin Registrar\",CONCATENATE($S63,\".\",VLOOKUP($G63,'1_Metas_Resultados'!$D$4:$E$403,2,FALSE)))","v":"Sin Registrar"},62," ",{"$f":"IF(ISERROR(CONCATENATE($S63,\".\",VLOOKUP($K63,'1_Metas_Resultados'!$D$4:$E$403,2,FALSE))),\"Sin Registrar\",CONCATENATE($S63,\".\",VLOOKUP($K63,'1_Metas_Resultados'!$D$4:$E$403,2,FALSE)))","v":"Sin Registrar"},{"$f":"IF(ISERROR(CONCATENATE($S63,\".\",VLOOKUP($L63,'1_Metas_Resultados'!$D$4:$E$403,2,FALSE))),\"Sin Registrar\",CONCATENATE($S63,\".\",VLOOKUP($L63,'1_Metas_Resultados'!$D$4:$E$403,2,FALSE)))","v":"Sin Registrar"},{"$f":"IF(ISERROR(VLOOKUP(G63,'1_Metas_Resultados'!$D$4:$I$403,6,FALSE)),\"\",VLOOKUP(G63,'1_Metas_Resultados'!$D$4:$I$403,6,FALSE))","v":""}]
[{"$f":"IF(ISERROR(CONCATENATE($S64,\".\",VLOOKUP($G64,'1_Metas_Resultados'!$D$4:$E$403,2,FALSE))),\"Sin Registrar\",CONCATENATE($S64,\".\",VLOOKUP($G64,'1_Metas_Resultados'!$D$4:$E$403,2,FALSE)))","v":"Sin Registrar"},63," ",{"$f":"IF(ISERROR(CONCATENATE($S64,\".\",VLOOKUP($K64,'1_Metas_Resultados'!$D$4:$E$403,2,FALSE))),\"Sin Registrar\",CONCATENATE($S64,\".\",VLOOKUP($K64,'1_Metas_Resultados'!$D$4:$E$403,2,FALSE)))","v":"Sin Registrar"},{"$f":"IF(ISERROR(CONCATENATE($S64,\".\",VLOOKUP($L64,'1_Metas_Resultados'!$D$4:$E$403,2,FALSE))),\"Sin Registrar\",CONCATENATE($S64,\".\",VLOOKUP($L64,'1_Metas_Resultados'!$D$4:$E$403,2,FALSE)))","v":"Sin Registrar"},{"$f":"IF(ISERROR(VLOOKUP(G64,'1_Metas_Resultados'!$D$4:$I$403,6,FALSE)),\"\",VLOOKUP(G64,'1_Metas_Resultados'!$D$4:$I$403,6,FALSE))","v":""}]
[{"$f":"IF(ISERROR(CONCATENATE($S65,\".\",VLOOKUP($G65,'1_Metas_Resultados'!$D$4:$E$403,2,FALSE))),\"Sin Registrar\",CONCATENATE($S65,\".\",VLOOKUP($G65,'1_Metas_Resultados'!$D$4:$E$403,2,FALSE)))","v":"Sin Registrar"},64," ",{"$f":"IF(ISERROR(CONCATENATE($S65,\".\",VLOOKUP($K65,'1_Metas_Resultados'!$D$4:$E$403,2,FALSE))),\"Sin Registrar\",CONCATENATE($S65,\".\",VLOOKUP($K65,'1_Metas_Resultados'!$D$4:$E$403,2,FALSE)))","v":"Sin Registrar"},{"$f":"IF(ISERROR(CONCATENATE($S65,\".\",VLOOKUP($L65,'1_Metas_Resultados'!$D$4:$E$403,2,FALSE))),\"Sin Registrar\",CONCATENATE($S65,\".\",VLOOKUP($L65,'1_Metas_Resultados'!$D$4:$E$403,2,FALSE)))","v":"Sin Registrar"},{"$f":"IF(ISERROR(VLOOKUP(G65,'1_Metas_Resultados'!$D$4:$I$403,6,FALSE)),\"\",VLOOKUP(G65,'1_Metas_Resultados'!$D$4:$I$403,6,FALSE))","v":""}]
[{"$f":"IF(ISERROR(CONCATENATE($S66,\".\",VLOOKUP($G66,'1_Metas_Resultados'!$D$4:$E$403,2,FALSE))),\"Sin Registrar\",CONCATENATE($S66,\".\",VLOOKUP($G66,'1_Metas_Resultados'!$D$4:$E$403,2,FALSE)))","v":"Sin Registrar"},65," ",{"$f":"IF(ISERROR(CONCATENATE($S66,\".\",VLOOKUP($K66,'1_Metas_Resultados'!$D$4:$E$403,2,FALSE))),\"Sin Registrar\",CONCATENATE($S66,\".\",VLOOKUP($K66,'1_Metas_Resultados'!$D$4:$E$403,2,FALSE)))","v":"Sin Registrar"},{"$f":"IF(ISERROR(CONCATENATE($S66,\".\",VLOOKUP($L66,'1_Metas_Resultados'!$D$4:$E$403,2,FALSE))),\"Sin Registrar\",CONCATENATE($S66,\".\",VLOOKUP($L66,'1_Metas_Resultados'!$D$4:$E$403,2,FALSE)))","v":"Sin Registrar"},{"$f":"IF(ISERROR(VLOOKUP(G66,'1_Metas_Resultados'!$D$4:$I$403,6,FALSE)),\"\",VLOOKUP(G66,'1_Metas_Resultados'!$D$4:$I$403,6,FALSE))","v":""}]
[{"$f":"IF(ISERROR(CONCATENATE($S67,\".\",VLOOKUP($G67,'1_Metas_Resultados'!$D$4:$E$403,2,FALSE))),\"Sin Registrar\",CONCATENATE($S67,\".\",VLOOKUP($G67,'1_Metas_Resultados'!$D$4:$E$403,2,FALSE)))","v":"Sin Registrar"},66," ",{"$f":"IF(ISERROR(CONCATENATE($S67,\".\",VLOOKUP($K67,'1_Metas_Resultados'!$D$4:$E$403,2,FALSE))),\"Sin Registrar\",CONCATENATE($S67,\".\",VLOOKUP($K67,'1_Metas_Resultados'!$D$4:$E$403,2,FALSE)))","v":"Sin Registrar"},{"$f":"IF(ISERROR(CONCATENATE($S67,\".\",VLOOKUP($L67,'1_Metas_Resultados'!$D$4:$E$403,2,FALSE))),\"Sin Registrar\",CONCATENATE($S67,\".\",VLOOKUP($L67,'1_Metas_Resultados'!$D$4:$E$403,2,FALSE)))","v":"Sin Registrar"},{"$f":"IF(ISERROR(VLOOKUP(G67,'1_Metas_Resultados'!$D$4:$I$403,6,FALSE)),\"\",VLOOKUP(G67,'1_Metas_Resultados'!$D$4:$I$403,6,FALSE))","v":""}]
[{"$f":"IF(ISERROR(CONCATENATE($S68,\".\",VLOOKUP($G68,'1_Metas_Resultados'!$D$4:$E$403,2,FALSE))),\"Sin Registrar\",CONCATENATE($S68,\".\",VLOOKUP($G68,'1_Metas_Resultados'!$D$4:$E$403,2,FALSE)))","v":"Sin Registrar"},67," ",{"$f":"IF(ISERROR(CONCATENATE($S68,\".\",VLOOKUP($K68,'1_Metas_Resultados'!$D$4:$E$403,2,FALSE))),\"Sin Registrar\",CONCATENATE($S68,\".\",VLOOKUP($K68,'1_Metas_Resultados'!$D$4:$E$403,2,FALSE)))","v":"Sin Registrar"},{"$f":"IF(ISERROR(CONCATENATE($S68,\".\",VLOOKUP($L68,'1_Metas_Resultados'!$D$4:$E$403,2,FALSE))),\"Sin Registrar\",CONCATENATE($S68,\".\",VLOOKUP($L68,'1_Metas_Resultados'!$D$4:$E$403,2,FALSE)))","v":"Sin Registrar"},{"$f":"IF(ISERROR(VLOOKUP(G68,'1_Metas_Resultados'!$D$4:$I$403,6,FALSE)),\"\",VLOOKUP(G68,'1_Metas_Resultados'!$D$4:$I$403,6,FALSE))","v":""}]
[{"$f":"IF(ISERROR(CONCATENATE($S69,\".\",VLOOKUP($G69,'1_Metas_Resultados'!$D$4:$E$403,2,FALSE))),\"Sin Registrar\",CONCATENATE($S69,\".\",VLOOKUP($G69,'1_Metas_Resultados'!$D$4:$E$403,2,FALSE)))","v":"Sin Registrar"},68,{"$f":"IF(A69=\"Sin Registrar\",\" \",CONCATENATE(A69,\".\",B69))","v":" "},{"$f":"IF(ISERROR(CONCATENATE($S69,\".\",VLOOKUP($K69,'1_Metas_Resultados'!$D$4:$E$403,2,FALSE))),\"Sin Registrar\",CONCATENATE($S69,\".\",VLOOKUP($K69,'1_Metas_Resultados'!$D$4:$E$403,2,FALSE)))","v":"Sin Registrar"},{"$f":"IF(ISERROR(CONCATENATE($S69,\".\",VLOOKUP($L69,'1_Metas_Resultados'!$D$4:$E$403,2,FALSE))),\"Sin Registrar\",CONCATENATE($S69,\".\",VLOOKUP($L69,'1_Metas_Resultados'!$D$4:$E$403,2,FALSE)))","v":"Sin Registrar"},{"$f":"IF(ISERROR(VLOOKUP(G69,'1_Metas_Resultados'!$D$4:$I$403,6,FALSE)),\"\",VLOOKUP(G69,'1_Metas_Resultados'!$D$4:$I$403,6,FALSE))","v":""}]
[{"$f":"IF(ISERROR(CONCATENATE($S70,\".\",VLOOKUP($G70,'1_Metas_Resultados'!$D$4:$E$403,2,FALSE))),\"Sin Registrar\",CONCATENATE($S70,\".\",VLOOKUP($G70,'1_Metas_Resultados'!$D$4:$E$403,2,FALSE)))","v":"Sin Registrar"},69," ",{"$f":"IF(ISERROR(CONCATENATE($S70,\".\",VLOOKUP($K70,'1_Metas_Resultados'!$D$4:$E$403,2,FALSE))),\"Sin Registrar\",CONCATENATE($S70,\".\",VLOOKUP($K70,'1_Metas_Resultados'!$D$4:$E$403,2,FALSE)))","v":"Sin Registrar"},{"$f":"IF(ISERROR(CONCATENATE($S70,\".\",VLOOKUP($L70,'1_Metas_Resultados'!$D$4:$E$403,2,FALSE))),\"Sin Registrar\",CONCATENATE($S70,\".\",VLOOKUP($L70,'1_Metas_Resultados'!$D$4:$E$403,2,FALSE)))","v":"Sin Registrar"},{"$f":"IF(ISERROR(VLOOKUP(G70,'1_Metas_Resultados'!$D$4:$I$403,6,FALSE)),\"\",VLOOKUP(G70,'1_Metas_Resultados'!$D$4:$I$403,6,FALSE))","v":""}]
[{"$f":"IF(ISERROR(CONCATENATE($S71,\".\",VLOOKUP($G71,'1_Metas_Resultados'!$D$4:$E$403,2,FALSE))),\"Sin Registrar\",CONCATENATE($S71,\".\",VLOOKUP($G71,'1_Metas_Resultados'!$D$4:$E$403,2,FALSE)))","v":"Sin Registrar"},70," ",{"$f":"IF(ISERROR(CONCATENATE($S71,\".\",VLOOKUP($K71,'1_Metas_Resultados'!$D$4:$E$403,2,FALSE))),\"Sin Registrar\",CONCATENATE($S71,\".\",VLOOKUP($K71,'1_Metas_Resultados'!$D$4:$E$403,2,FALSE)))","v":"Sin Registrar"},{"$f":"IF(ISERROR(CONCATENATE($S71,\".\",VLOOKUP($L71,'1_Metas_Resultados'!$D$4:$E$403,2,FALSE))),\"Sin Registrar\",CONCATENATE($S71,\".\",VLOOKUP($L71,'1_Metas_Resultados'!$D$4:$E$403,2,FALSE)))","v":"Sin Registrar"},{"$f":"IF(ISERROR(VLOOKUP(G71,'1_Metas_Resultados'!$D$4:$I$403,6,FALSE)),\"\",VLOOKUP(G71,'1_Metas_Resultados'!$D$4:$I$403,6,FALSE))","v":""}]
[{"$f":"IF(ISERROR(CONCATENATE($S72,\".\",VLOOKUP($G72,'1_Metas_Resultados'!$D$4:$E$403,2,FALSE))),\"Sin Registrar\",CONCATENATE($S72,\".\",VLOOKUP($G72,'1_Metas_Resultados'!$D$4:$E$403,2,FALSE)))","v":"Sin Registrar"},71," ",{"$f":"IF(ISERROR(CONCATENATE($S72,\".\",VLOOKUP($K72,'1_Metas_Resultados'!$D$4:$E$403,2,FALSE))),\"Sin Registrar\",CONCATENATE($S72,\".\",VLOOKUP($K72,'1_Metas_Resultados'!$D$4:$E$403,2,FALSE)))","v":"Sin Registrar"},{"$f":"IF(ISERROR(CONCATENATE($S72,\".\",VLOOKUP($L72,'1_Metas_Resultados'!$D$4:$E$403,2,FALSE))),\"Sin Registrar\",CONCATENATE($S72,\".\",VLOOKUP($L72,'1_Metas_Resultados'!$D$4:$E$403,2,FALSE)))","v":"Sin Registrar"},{"$f":"IF(ISERROR(VLOOKUP(G72,'1_Metas_Resultados'!$D$4:$I$403,6,FALSE)),\"\",VLOOKUP(G72,'1_Metas_Resultados'!$D$4:$I$403,6,FALSE))","v":""}]
[{"$f":"IF(ISERROR(CONCATENATE($S73,\".\",VLOOKUP($G73,'1_Metas_Resultados'!$D$4:$E$403,2,FALSE))),\"Sin Registrar\",CONCATENATE($S73,\".\",VLOOKUP($G73,'1_Metas_Resultados'!$D$4:$E$403,2,FALSE)))","v":"Sin Registrar"},72," ",{"$f":"IF(ISERROR(CONCATENATE($S73,\".\",VLOOKUP($K73,'1_Metas_Resultados'!$D$4:$E$403,2,FALSE))),\"Sin Registrar\",CONCATENATE($S73,\".\",VLOOKUP($K73,'1_Metas_Resultados'!$D$4:$E$403,2,FALSE)))","v":"Sin Registrar"},{"$f":"IF(ISERROR(CONCATENATE($S73,\".\",VLOOKUP($L73,'1_Metas_Resultados'!$D$4:$E$403,2,FALSE))),\"Sin Registrar\",CONCATENATE($S73,\".\",VLOOKUP($L73,'1_Metas_Resultados'!$D$4:$E$403,2,FALSE)))","v":"Sin Registrar"},{"$f":"IF(ISERROR(VLOOKUP(G73,'1_Metas_Resultados'!$D$4:$I$403,6,FALSE)),\"\",VLOOKUP(G73,'1_Metas_Resultados'!$D$4:$I$403,6,FALSE))","v":""}]
[{"$f":"IF(ISERROR(CONCATENATE($S74,\".\",VLOOKUP($G74,'1_Metas_Resultados'!$D$4:$E$403,2,FALSE))),\"Sin Registrar\",CONCATENATE($S74,\".\",VLOOKUP($G74,'1_Metas_Resultados'!$D$4:$E$403,2,FALSE)))","v":"Sin Registrar"},73," ",{"$f":"IF(ISERROR(CONCATENATE($S74,\".\",VLOOKUP($K74,'1_Metas_Resultados'!$D$4:$E$403,2,FALSE))),\"Sin Registrar\",CONCATENATE($S74,\".\",VLOOKUP($K74,'1_Metas_Resultados'!$D$4:$E$403,2,FALSE)))","v":"Sin Registrar"},{"$f":"IF(ISERROR(CONCATENATE($S74,\".\",VLOOKUP($L74,'1_Metas_Resultados'!$D$4:$E$403,2,FALSE))),\"Sin Registrar\",CONCATENATE($S74,\".\",VLOOKUP($L74,'1_Metas_Resultados'!$D$4:$E$403,2,FALSE)))","v":"Sin Registrar"},{"$f":"IF(ISERROR(VLOOKUP(G74,'1_Metas_Resultados'!$D$4:$I$403,6,FALSE)),\"\",VLOOKUP(G74,'1_Metas_Resultados'!$D$4:$I$403,6,FALSE))","v":""}]
[{"$f":"IF(ISERROR(CONCATENATE($S75,\".\",VLOOKUP($G75,'1_Metas_Resultados'!$D$4:$E$403,2,FALSE))),\"Sin Registrar\",CONCATENATE($S75,\".\",VLOOKUP($G75,'1_Metas_Resultados'!$D$4:$E$403,2,FALSE)))","v":"Sin Registrar"},74," ",{"$f":"IF(ISERROR(CONCATENATE($S75,\".\",VLOOKUP($K75,'1_Metas_Resultados'!$D$4:$E$403,2,FALSE))),\"Sin Registrar\",CONCATENATE($S75,\".\",VLOOKUP($K75,'1_Metas_Resultados'!$D$4:$E$403,2,FALSE)))","v":"Sin Registrar"},{"$f":"IF(ISERROR(CONCATENATE($S75,\".\",VLOOKUP($L75,'1_Metas_Resultados'!$D$4:$E$403,2,FALSE))),\"Sin Registrar\",CONCATENATE($S75,\".\",VLOOKUP($L75,'1_Metas_Resultados'!$D$4:$E$403,2,FALSE)))","v":"Sin Registrar"},{"$f":"IF(ISERROR(VLOOKUP(G75,'1_Metas_Resultados'!$D$4:$I$403,6,FALSE)),\"\",VLOOKUP(G75,'1_Metas_Resultados'!$D$4:$I$403,6,FALSE))","v":""}]
[{"$f":"IF(ISERROR(CONCATENATE($S76,\".\",VLOOKUP($G76,'1_Metas_Resultados'!$D$4:$E$403,2,FALSE))),\"Sin Registrar\",CONCATENATE($S76,\".\",VLOOKUP($G76,'1_Metas_Resultados'!$D$4:$E$403,2,FALSE)))","v":"Sin Registrar"},75," ",{"$f":"IF(ISERROR(CONCATENATE($S76,\".\",VLOOKUP($K76,'1_Metas_Resultados'!$D$4:$E$403,2,FALSE))),\"Sin Registrar\",CONCATENATE($S76,\".\",VLOOKUP($K76,'1_Metas_Resultados'!$D$4:$E$403,2,FALSE)))","v":"Sin Registrar"},{"$f":"IF(ISERROR(CONCATENATE($S76,\".\",VLOOKUP($L76,'1_Metas_Resultados'!$D$4:$E$403,2,FALSE))),\"Sin Registrar\",CONCATENATE($S76,\".\",VLOOKUP($L76,'1_Metas_Resultados'!$D$4:$E$403,2,FALSE)))","v":"Sin Registrar"},{"$f":"IF(ISERROR(VLOOKUP(G76,'1_Metas_Resultados'!$D$4:$I$403,6,FALSE)),\"\",VLOOKUP(G76,'1_Metas_Resultados'!$D$4:$I$403,6,FALSE))","v":""}]
[{"$f":"IF(ISERROR(CONCATENATE($S77,\".\",VLOOKUP($G77,'1_Metas_Resultados'!$D$4:$E$403,2,FALSE))),\"Sin Registrar\",CONCATENATE($S77,\".\",VLOOKUP($G77,'1_Metas_Resultados'!$D$4:$E$403,2,FALSE)))","v":"Sin Registrar"},76," ",{"$f":"IF(ISERROR(CONCATENATE($S77,\".\",VLOOKUP($K77,'1_Metas_Resultados'!$D$4:$E$403,2,FALSE))),\"Sin Registrar\",CONCATENATE($S77,\".\",VLOOKUP($K77,'1_Metas_Resultados'!$D$4:$E$403,2,FALSE)))","v":"Sin Registrar"},{"$f":"IF(ISERROR(CONCATENATE($S77,\".\",VLOOKUP($L77,'1_Metas_Resultados'!$D$4:$E$403,2,FALSE))),\"Sin Registrar\",CONCATENATE($S77,\".\",VLOOKUP($L77,'1_Metas_Resultados'!$D$4:$E$403,2,FALSE)))","v":"Sin Registrar"},{"$f":"IF(ISERROR(VLOOKUP(G77,'1_Metas_Resultados'!$D$4:$I$403,6,FALSE)),\"\",VLOOKUP(G77,'1_Metas_Resultados'!$D$4:$I$403,6,FALSE))","v":""}]
[{"$f":"IF(ISERROR(CONCATENATE($S78,\".\",VLOOKUP($G78,'1_Metas_Resultados'!$D$4:$E$403,2,FALSE))),\"Sin Registrar\",CONCATENATE($S78,\".\",VLOOKUP($G78,'1_Metas_Resultados'!$D$4:$E$403,2,FALSE)))","v":"Sin Registrar"},77," ",{"$f":"IF(ISERROR(CONCATENATE($S78,\".\",VLOOKUP($K78,'1_Metas_Resultados'!$D$4:$E$403,2,FALSE))),\"Sin Registrar\",CONCATENATE($S78,\".\",VLOOKUP($K78,'1_Metas_Resultados'!$D$4:$E$403,2,FALSE)))","v":"Sin Registrar"},{"$f":"IF(ISERROR(CONCATENATE($S78,\".\",VLOOKUP($L78,'1_Metas_Resultados'!$D$4:$E$403,2,FALSE))),\"Sin Registrar\",CONCATENATE($S78,\".\",VLOOKUP($L78,'1_Metas_Resultados'!$D$4:$E$403,2,FALSE)))","v":"Sin Registrar"},{"$f":"IF(ISERROR(VLOOKUP(G78,'1_Metas_Resultados'!$D$4:$I$403,6,FALSE)),\"\",VLOOKUP(G78,'1_Metas_Resultados'!$D$4:$I$403,6,FALSE))","v":""}]
[{"$f":"IF(ISERROR(CONCATENATE($S79,\".\",VLOOKUP($G79,'1_Metas_Resultados'!$D$4:$E$403,2,FALSE))),\"Sin Registrar\",CONCATENATE($S79,\".\",VLOOKUP($G79,'1_Metas_Resultados'!$D$4:$E$403,2,FALSE)))","v":"Sin Registrar"},78," ",{"$f":"IF(ISERROR(CONCATENATE($S79,\".\",VLOOKUP($K79,'1_Metas_Resultados'!$D$4:$E$403,2,FALSE))),\"Sin Registrar\",CONCATENATE($S79,\".\",VLOOKUP($K79,'1_Metas_Resultados'!$D$4:$E$403,2,FALSE)))","v":"Sin Registrar"},{"$f":"IF(ISERROR(CONCATENATE($S79,\".\",VLOOKUP($L79,'1_Metas_Resultados'!$D$4:$E$403,2,FALSE))),\"Sin Registrar\",CONCATENATE($S79,\".\",VLOOKUP($L79,'1_Metas_Resultados'!$D$4:$E$403,2,FALSE)))","v":"Sin Registrar"},{"$f":"IF(ISERROR(VLOOKUP(G79,'1_Metas_Resultados'!$D$4:$I$403,6,FALSE)),\"\",VLOOKUP(G79,'1_Metas_Resultados'!$D$4:$I$403,6,FALSE))","v":""}]
[{"$f":"IF(ISERROR(CONCATENATE($S80,\".\",VLOOKUP($G80,'1_Metas_Resultados'!$D$4:$E$403,2,FALSE))),\"Sin Registrar\",CONCATENATE($S80,\".\",VLOOKUP($G80,'1_Metas_Resultados'!$D$4:$E$403,2,FALSE)))","v":"Sin Registrar"},79," ",{"$f":"IF(ISERROR(CONCATENATE($S80,\".\",VLOOKUP($K80,'1_Metas_Resultados'!$D$4:$E$403,2,FALSE))),\"Sin Registrar\",CONCATENATE($S80,\".\",VLOOKUP($K80,'1_Metas_Resultados'!$D$4:$E$403,2,FALSE)))","v":"Sin Registrar"},{"$f":"IF(ISERROR(CONCATENATE($S80,\".\",VLOOKUP($L80,'1_Metas_Resultados'!$D$4:$E$403,2,FALSE))),\"Sin Registrar\",CONCATENATE($S80,\".\",VLOOKUP($L80,'1_Metas_Resultados'!$D$4:$E$403,2,FALSE)))","v":"Sin Registrar"},{"$f":"IF(ISERROR(VLOOKUP(G80,'1_Metas_Resultados'!$D$4:$I$403,6,FALSE)),\"\",VLOOKUP(G80,'1_Metas_Resultados'!$D$4:$I$403,6,FALSE))","v":""}]
[{"$f":"IF(ISERROR(CONCATENATE($S81,\".\",VLOOKUP($G81,'1_Metas_Resultados'!$D$4:$E$403,2,FALSE))),\"Sin Registrar\",CONCATENATE($S81,\".\",VLOOKUP($G81,'1_Metas_Resultados'!$D$4:$E$403,2,FALSE)))","v":"Sin Registrar"},80," ",{"$f":"IF(ISERROR(CONCATENATE($S81,\".\",VLOOKUP($K81,'1_Metas_Resultados'!$D$4:$E$403,2,FALSE))),\"Sin Registrar\",CONCATENATE($S81,\".\",VLOOKUP($K81,'1_Metas_Resultados'!$D$4:$E$403,2,FALSE)))","v":"Sin Registrar"},{"$f":"IF(ISERROR(CONCATENATE($S81,\".\",VLOOKUP($L81,'1_Metas_Resultados'!$D$4:$E$403,2,FALSE))),\"Sin Registrar\",CONCATENATE($S81,\".\",VLOOKUP($L81,'1_Metas_Resultados'!$D$4:$E$403,2,FALSE)))","v":"Sin Registrar"},{"$f":"IF(ISERROR(VLOOKUP(G81,'1_Metas_Resultados'!$D$4:$I$403,6,FALSE)),\"\",VLOOKUP(G81,'1_Metas_Resultados'!$D$4:$I$403,6,FALSE))","v":""}]
[{"$f":"IF(ISERROR(CONCATENATE($S82,\".\",VLOOKUP($G82,'1_Metas_Resultados'!$D$4:$E$403,2,FALSE))),\"Sin Registrar\",CONCATENATE($S82,\".\",VLOOKUP($G82,'1_Metas_Resultados'!$D$4:$E$403,2,FALSE)))","v":"Sin Registrar"},81," ",{"$f":"IF(ISERROR(CONCATENATE($S82,\".\",VLOOKUP($K82,'1_Metas_Resultados'!$D$4:$E$403,2,FALSE))),\"Sin Registrar\",CONCATENATE($S82,\".\",VLOOKUP($K82,'1_Metas_Resultados'!$D$4:$E$403,2,FALSE)))","v":"Sin Registrar"},{"$f":"IF(ISERROR(CONCATENATE($S82,\".\",VLOOKUP($L82,'1_Metas_Resultados'!$D$4:$E$403,2,FALSE))),\"Sin Registrar\",CONCATENATE($S82,\".\",VLOOKUP($L82,'1_Metas_Resultados'!$D$4:$E$403,2,FALSE)))","v":"Sin Registrar"},{"$f":"IF(ISERROR(VLOOKUP(G82,'1_Metas_Resultados'!$D$4:$I$403,6,FALSE)),\"\",VLOOKUP(G82,'1_Metas_Resultados'!$D$4:$I$403,6,FALSE))","v":""}]
[{"$f":"IF(ISERROR(CONCATENATE($S83,\".\",VLOOKUP($G83,'1_Metas_Resultados'!$D$4:$E$403,2,FALSE))),\"Sin Registrar\",CONCATENATE($S83,\".\",VLOOKUP($G83,'1_Metas_Resultados'!$D$4:$E$403,2,FALSE)))","v":"Sin Registrar"},82," ",{"$f":"IF(ISERROR(CONCATENATE($S83,\".\",VLOOKUP($K83,'1_Metas_Resultados'!$D$4:$E$403,2,FALSE))),\"Sin Registrar\",CONCATENATE($S83,\".\",VLOOKUP($K83,'1_Metas_Resultados'!$D$4:$E$403,2,FALSE)))","v":"Sin Registrar"},{"$f":"IF(ISERROR(CONCATENATE($S83,\".\",VLOOKUP($L83,'1_Metas_Resultados'!$D$4:$E$403,2,FALSE))),\"Sin Registrar\",CONCATENATE($S83,\".\",VLOOKUP($L83,'1_Metas_Resultados'!$D$4:$E$403,2,FALSE)))","v":"Sin Registrar"},{"$f":"IF(ISERROR(VLOOKUP(G83,'1_Metas_Resultados'!$D$4:$I$403,6,FALSE)),\"\",VLOOKUP(G83,'1_Metas_Resultados'!$D$4:$I$403,6,FALSE))","v":""}]
[{"$f":"IF(ISERROR(CONCATENATE($S84,\".\",VLOOKUP($G84,'1_Metas_Resultados'!$D$4:$E$403,2,FALSE))),\"Sin Registrar\",CONCATENATE($S84,\".\",VLOOKUP($G84,'1_Metas_Resultados'!$D$4:$E$403,2,FALSE)))","v":"Sin Registrar"},83," ",{"$f":"IF(ISERROR(CONCATENATE($S84,\".\",VLOOKUP($K84,'1_Metas_Resultados'!$D$4:$E$403,2,FALSE))),\"Sin Registrar\",CONCATENATE($S84,\".\",VLOOKUP($K84,'1_Metas_Resultados'!$D$4:$E$403,2,FALSE)))","v":"Sin Registrar"},{"$f":"IF(ISERROR(CONCATENATE($S84,\".\",VLOOKUP($L84,'1_Metas_Resultados'!$D$4:$E$403,2,FALSE))),\"Sin Registrar\",CONCATENATE($S84,\".\",VLOOKUP($L84,'1_Metas_Resultados'!$D$4:$E$403,2,FALSE)))","v":"Sin Registrar"},{"$f":"IF(ISERROR(VLOOKUP(G84,'1_Metas_Resultados'!$D$4:$I$403,6,FALSE)),\"\",VLOOKUP(G84,'1_Metas_Resultados'!$D$4:$I$403,6,FALSE))","v":""}]
[{"$f":"IF(ISERROR(CONCATENATE($S85,\".\",VLOOKUP($G85,'1_Metas_Resultados'!$D$4:$E$403,2,FALSE))),\"Sin Registrar\",CONCATENATE($S85,\".\",VLOOKUP($G85,'1_Metas_Resultados'!$D$4:$E$403,2,FALSE)))","v":"Sin Registrar"},84," ",{"$f":"IF(ISERROR(CONCATENATE($S85,\".\",VLOOKUP($K85,'1_Metas_Resultados'!$D$4:$E$403,2,FALSE))),\"Sin Registrar\",CONCATENATE($S85,\".\",VLOOKUP($K85,'1_Metas_Resultados'!$D$4:$E$403,2,FALSE)))","v":"Sin Registrar"},{"$f":"IF(ISERROR(CONCATENATE($S85,\".\",VLOOKUP($L85,'1_Metas_Resultados'!$D$4:$E$403,2,FALSE))),\"Sin Registrar\",CONCATENATE($S85,\".\",VLOOKUP($L85,'1_Metas_Resultados'!$D$4:$E$403,2,FALSE)))","v":"Sin Registrar"},{"$f":"IF(ISERROR(VLOOKUP(G85,'1_Metas_Resultados'!$D$4:$I$403,6,FALSE)),\"\",VLOOKUP(G85,'1_Metas_Resultados'!$D$4:$I$403,6,FALSE))","v":""}]
[{"$f":"IF(ISERROR(CONCATENATE($S86,\".\",VLOOKUP($G86,'1_Metas_Resultados'!$D$4:$E$403,2,FALSE))),\"Sin Registrar\",CONCATENATE($S86,\".\",VLOOKUP($G86,'1_Metas_Resultados'!$D$4:$E$403,2,FALSE)))","v":"Sin Registrar"},85," ",{"$f":"IF(ISERROR(CONCATENATE($S86,\".\",VLOOKUP($K86,'1_Metas_Resultados'!$D$4:$E$403,2,FALSE))),\"Sin Registrar\",CONCATENATE($S86,\".\",VLOOKUP($K86,'1_Metas_Resultados'!$D$4:$E$403,2,FALSE)))","v":"Sin Registrar"},{"$f":"IF(ISERROR(CONCATENATE($S86,\".\",VLOOKUP($L86,'1_Metas_Resultados'!$D$4:$E$403,2,FALSE))),\"Sin Registrar\",CONCATENATE($S86,\".\",VLOOKUP($L86,'1_Metas_Resultados'!$D$4:$E$403,2,FALSE)))","v":"Sin Registrar"},{"$f":"IF(ISERROR(VLOOKUP(G86,'1_Metas_Resultados'!$D$4:$I$403,6,FALSE)),\"\",VLOOKUP(G86,'1_Metas_Resultados'!$D$4:$I$403,6,FALSE))","v":""}]
[{"$f":"IF(ISERROR(CONCATENATE($S87,\".\",VLOOKUP($G87,'1_Metas_Resultados'!$D$4:$E$403,2,FALSE))),\"Sin Registrar\",CONCATENATE($S87,\".\",VLOOKUP($G87,'1_Metas_Resultados'!$D$4:$E$403,2,FALSE)))","v":"Sin Registrar"},86," ",{"$f":"IF(ISERROR(CONCATENATE($S87,\".\",VLOOKUP($K87,'1_Metas_Resultados'!$D$4:$E$403,2,FALSE))),\"Sin Registrar\",CONCATENATE($S87,\".\",VLOOKUP($K87,'1_Metas_Resultados'!$D$4:$E$403,2,FALSE)))","v":"Sin Registrar"},{"$f":"IF(ISERROR(CONCATENATE($S87,\".\",VLOOKUP($L87,'1_Metas_Resultados'!$D$4:$E$403,2,FALSE))),\"Sin Registrar\",CONCATENATE($S87,\".\",VLOOKUP($L87,'1_Metas_Resultados'!$D$4:$E$403,2,FALSE)))","v":"Sin Registrar"},{"$f":"IF(ISERROR(VLOOKUP(G87,'1_Metas_Resultados'!$D$4:$I$403,6,FALSE)),\"\",VLOOKUP(G87,'1_Metas_Resultados'!$D$4:$I$403,6,FALSE))","v":""}]
[{"$f":"IF(ISERROR(CONCATENATE($S88,\".\",VLOOKUP($G88,'1_Metas_Resultados'!$D$4:$E$403,2,FALSE))),\"Sin Registrar\",CONCATENATE($S88,\".\",VLOOKUP($G88,'1_Metas_Resultados'!$D$4:$E$403,2,FALSE)))","v":"Sin Registrar"},87," ",{"$f":"IF(ISERROR(CONCATENATE($S88,\".\",VLOOKUP($K88,'1_Metas_Resultados'!$D$4:$E$403,2,FALSE))),\"Sin Registrar\",CONCATENATE($S88,\".\",VLOOKUP($K88,'1_Metas_Resultados'!$D$4:$E$403,2,FALSE)))","v":"Sin Registrar"},{"$f":"IF(ISERROR(CONCATENATE($S88,\".\",VLOOKUP($L88,'1_Metas_Resultados'!$D$4:$E$403,2,FALSE))),\"Sin Registrar\",CONCATENATE($S88,\".\",VLOOKUP($L88,'1_Metas_Resultados'!$D$4:$E$403,2,FALSE)))","v":"Sin Registrar"},{"$f":"IF(ISERROR(VLOOKUP(G88,'1_Metas_Resultados'!$D$4:$I$403,6,FALSE)),\"\",VLOOKUP(G88,'1_Metas_Resultados'!$D$4:$I$403,6,FALSE))","v":""}]
[{"$f":"IF(ISERROR(CONCATENATE($S89,\".\",VLOOKUP($G89,'1_Metas_Resultados'!$D$4:$E$403,2,FALSE))),\"Sin Registrar\",CONCATENATE($S89,\".\",VLOOKUP($G89,'1_Metas_Resultados'!$D$4:$E$403,2,FALSE)))","v":"Sin Registrar"},88," ",{"$f":"IF(ISERROR(CONCATENATE($S89,\".\",VLOOKUP($K89,'1_Metas_Resultados'!$D$4:$E$403,2,FALSE))),\"Sin Registrar\",CONCATENATE($S89,\".\",VLOOKUP($K89,'1_Metas_Resultados'!$D$4:$E$403,2,FALSE)))","v":"Sin Registrar"},{"$f":"IF(ISERROR(CONCATENATE($S89,\".\",VLOOKUP($L89,'1_Metas_Resultados'!$D$4:$E$403,2,FALSE))),\"Sin Registrar\",CONCATENATE($S89,\".\",VLOOKUP($L89,'1_Metas_Resultados'!$D$4:$E$403,2,FALSE)))","v":"Sin Registrar"},{"$f":"IF(ISERROR(VLOOKUP(G89,'1_Metas_Resultados'!$D$4:$I$403,6,FALSE)),\"\",VLOOKUP(G89,'1_Metas_Resultados'!$D$4:$I$403,6,FALSE))","v":""}]
[{"$f":"IF(ISERROR(CONCATENATE($S90,\".\",VLOOKUP($G90,'1_Metas_Resultados'!$D$4:$E$403,2,FALSE))),\"Sin Registrar\",CONCATENATE($S90,\".\",VLOOKUP($G90,'1_Metas_Resultados'!$D$4:$E$403,2,FALSE)))","v":"Sin Registrar"},89," ",{"$f":"IF(ISERROR(CONCATENATE($S90,\".\",VLOOKUP($K90,'1_Metas_Resultados'!$D$4:$E$403,2,FALSE))),\"Sin Registrar\",CONCATENATE($S90,\".\",VLOOKUP($K90,'1_Metas_Resultados'!$D$4:$E$403,2,FALSE)))","v":"Sin Registrar"},{"$f":"IF(ISERROR(CONCATENATE($S90,\".\",VLOOKUP($L90,'1_Metas_Resultados'!$D$4:$E$403,2,FALSE))),\"Sin Registrar\",CONCATENATE($S90,\".\",VLOOKUP($L90,'1_Metas_Resultados'!$D$4:$E$403,2,FALSE)))","v":"Sin Registrar"},{"$f":"IF(ISERROR(VLOOKUP(G90,'1_Metas_Resultados'!$D$4:$I$403,6,FALSE)),\"\",VLOOKUP(G90,'1_Metas_Resultados'!$D$4:$I$403,6,FALSE))","v":""}]
[{"$f":"IF(ISERROR(CONCATENATE($S91,\".\",VLOOKUP($G91,'1_Metas_Resultados'!$D$4:$E$403,2,FALSE))),\"Sin Registrar\",CONCATENATE($S91,\".\",VLOOKUP($G91,'1_Metas_Resultados'!$D$4:$E$403,2,FALSE)))","v":"Sin Registrar"},90," ",{"$f":"IF(ISERROR(CONCATENATE($S91,\".\",VLOOKUP($K91,'1_Metas_Resultados'!$D$4:$E$403,2,FALSE))),\"Sin Registrar\",CONCATENATE($S91,\".\",VLOOKUP($K91,'1_Metas_Resultados'!$D$4:$E$403,2,FALSE)))","v":"Sin Registrar"},{"$f":"IF(ISERROR(CONCATENATE($S91,\".\",VLOOKUP($L91,'1_Metas_Resultados'!$D$4:$E$403,2,FALSE))),\"Sin Registrar\",CONCATENATE($S91,\".\",VLOOKUP($L91,'1_Metas_Resultados'!$D$4:$E$403,2,FALSE)))","v":"Sin Registrar"},{"$f":"IF(ISERROR(VLOOKUP(G91,'1_Metas_Resultados'!$D$4:$I$403,6,FALSE)),\"\",VLOOKUP(G91,'1_Metas_Resultados'!$D$4:$I$403,6,FALSE))","v":""}]
[{"$f":"IF(ISERROR(CONCATENATE($S92,\".\",VLOOKUP($G92,'1_Metas_Resultados'!$D$4:$E$403,2,FALSE))),\"Sin Registrar\",CONCATENATE($S92,\".\",VLOOKUP($G92,'1_Metas_Resultados'!$D$4:$E$403,2,FALSE)))","v":"Sin Registrar"},91," ",{"$f":"IF(ISERROR(CONCATENATE($S92,\".\",VLOOKUP($K92,'1_Metas_Resultados'!$D$4:$E$403,2,FALSE))),\"Sin Registrar\",CONCATENATE($S92,\".\",VLOOKUP($K92,'1_Metas_Resultados'!$D$4:$E$403,2,FALSE)))","v":"Sin Registrar"},{"$f":"IF(ISERROR(CONCATENATE($S92,\".\",VLOOKUP($L92,'1_Metas_Resultados'!$D$4:$E$403,2,FALSE))),\"Sin Registrar\",CONCATENATE($S92,\".\",VLOOKUP($L92,'1_Metas_Resultados'!$D$4:$E$403,2,FALSE)))","v":"Sin Registrar"},{"$f":"IF(ISERROR(VLOOKUP(G92,'1_Metas_Resultados'!$D$4:$I$403,6,FALSE)),\"\",VLOOKUP(G92,'1_Metas_Resultados'!$D$4:$I$403,6,FALSE))","v":""}]
[{"$f":"IF(ISERROR(CONCATENATE($S93,\".\",VLOOKUP($G93,'1_Metas_Resultados'!$D$4:$E$403,2,FALSE))),\"Sin Registrar\",CONCATENATE($S93,\".\",VLOOKUP($G93,'1_Metas_Resultados'!$D$4:$E$403,2,FALSE)))","v":"Sin Registrar"},92," ",{"$f":"IF(ISERROR(CONCATENATE($S93,\".\",VLOOKUP($K93,'1_Metas_Resultados'!$D$4:$E$403,2,FALSE))),\"Sin Registrar\",CONCATENATE($S93,\".\",VLOOKUP($K93,'1_Metas_Resultados'!$D$4:$E$403,2,FALSE)))","v":"Sin Registrar"},{"$f":"IF(ISERROR(CONCATENATE($S93,\".\",VLOOKUP($L93,'1_Metas_Resultados'!$D$4:$E$403,2,FALSE))),\"Sin Registrar\",CONCATENATE($S93,\".\",VLOOKUP($L93,'1_Metas_Resultados'!$D$4:$E$403,2,FALSE)))","v":"Sin Registrar"},{"$f":"IF(ISERROR(VLOOKUP(G93,'1_Metas_Resultados'!$D$4:$I$403,6,FALSE)),\"\",VLOOKUP(G93,'1_Metas_Resultados'!$D$4:$I$403,6,FALSE))","v":""}]
[{"$f":"IF(ISERROR(CONCATENATE($S94,\".\",VLOOKUP($G94,'1_Metas_Resultados'!$D$4:$E$403,2,FALSE))),\"Sin Registrar\",CONCATENATE($S94,\".\",VLOOKUP($G94,'1_Metas_Resultados'!$D$4:$E$403,2,FALSE)))","v":"Sin Registrar"},93," ",{"$f":"IF(ISERROR(CONCATENATE($S94,\".\",VLOOKUP($K94,'1_Metas_Resultados'!$D$4:$E$403,2,FALSE))),\"Sin Registrar\",CONCATENATE($S94,\".\",VLOOKUP($K94,'1_Metas_Resultados'!$D$4:$E$403,2,FALSE)))","v":"Sin Registrar"},{"$f":"IF(ISERROR(CONCATENATE($S94,\".\",VLOOKUP($L94,'1_Metas_Resultados'!$D$4:$E$403,2,FALSE))),\"Sin Registrar\",CONCATENATE($S94,\".\",VLOOKUP($L94,'1_Metas_Resultados'!$D$4:$E$403,2,FALSE)))","v":"Sin Registrar"},{"$f":"IF(ISERROR(VLOOKUP(G94,'1_Metas_Resultados'!$D$4:$I$403,6,FALSE)),\"\",VLOOKUP(G94,'1_Metas_Resultados'!$D$4:$I$403,6,FALSE))","v":""}]
[{"$f":"IF(ISERROR(CONCATENATE($S95,\".\",VLOOKUP($G95,'1_Metas_Resultados'!$D$4:$E$403,2,FALSE))),\"Sin Registrar\",CONCATENATE($S95,\".\",VLOOKUP($G95,'1_Metas_Resultados'!$D$4:$E$403,2,FALSE)))","v":"Sin Registrar"},94," ",{"$f":"IF(ISERROR(CONCATENATE($S95,\".\",VLOOKUP($K95,'1_Metas_Resultados'!$D$4:$E$403,2,FALSE))),\"Sin Registrar\",CONCATENATE($S95,\".\",VLOOKUP($K95,'1_Metas_Resultados'!$D$4:$E$403,2,FALSE)))","v":"Sin Registrar"},{"$f":"IF(ISERROR(CONCATENATE($S95,\".\",VLOOKUP($L95,'1_Metas_Resultados'!$D$4:$E$403,2,FALSE))),\"Sin Registrar\",CONCATENATE($S95,\".\",VLOOKUP($L95,'1_Metas_Resultados'!$D$4:$E$403,2,FALSE)))","v":"Sin Registrar"},{"$f":"IF(ISERROR(VLOOKUP(G95,'1_Metas_Resultados'!$D$4:$I$403,6,FALSE)),\"\",VLOOKUP(G95,'1_Metas_Resultados'!$D$4:$I$403,6,FALSE))","v":""}]
[{"$f":"IF(ISERROR(CONCATENATE($S96,\".\",VLOOKUP($G96,'1_Metas_Resultados'!$D$4:$E$403,2,FALSE))),\"Sin Registrar\",CONCATENATE($S96,\".\",VLOOKUP($G96,'1_Metas_Resultados'!$D$4:$E$403,2,FALSE)))","v":"Sin Registrar"},95," ",{"$f":"IF(ISERROR(CONCATENATE($S96,\".\",VLOOKUP($K96,'1_Metas_Resultados'!$D$4:$E$403,2,FALSE))),\"Sin Registrar\",CONCATENATE($S96,\".\",VLOOKUP($K96,'1_Metas_Resultados'!$D$4:$E$403,2,FALSE)))","v":"Sin Registrar"},{"$f":"IF(ISERROR(CONCATENATE($S96,\".\",VLOOKUP($L96,'1_Metas_Resultados'!$D$4:$E$403,2,FALSE))),\"Sin Registrar\",CONCATENATE($S96,\".\",VLOOKUP($L96,'1_Metas_Resultados'!$D$4:$E$403,2,FALSE)))","v":"Sin Registrar"},{"$f":"IF(ISERROR(VLOOKUP(G96,'1_Metas_Resultados'!$D$4:$I$403,6,FALSE)),\"\",VLOOKUP(G96,'1_Metas_Resultados'!$D$4:$I$403,6,FALSE))","v":""}]
[{"$f":"IF(ISERROR(CONCATENATE($S97,\".\",VLOOKUP($G97,'1_Metas_Resultados'!$D$4:$E$403,2,FALSE))),\"Sin Registrar\",CONCATENATE($S97,\".\",VLOOKUP($G97,'1_Metas_Resultados'!$D$4:$E$403,2,FALSE)))","v":"Sin Registrar"},96," ",{"$f":"IF(ISERROR(CONCATENATE($S97,\".\",VLOOKUP($K97,'1_Metas_Resultados'!$D$4:$E$403,2,FALSE))),\"Sin Registrar\",CONCATENATE($S97,\".\",VLOOKUP($K97,'1_Metas_Resultados'!$D$4:$E$403,2,FALSE)))","v":"Sin Registrar"},{"$f":"IF(ISERROR(CONCATENATE($S97,\".\",VLOOKUP($L97,'1_Metas_Resultados'!$D$4:$E$403,2,FALSE))),\"Sin Registrar\",CONCATENATE($S97,\".\",VLOOKUP($L97,'1_Metas_Resultados'!$D$4:$E$403,2,FALSE)))","v":"Sin Registrar"},{"$f":"IF(ISERROR(VLOOKUP(G97,'1_Metas_Resultados'!$D$4:$I$403,6,FALSE)),\"\",VLOOKUP(G97,'1_Metas_Resultados'!$D$4:$I$403,6,FALSE))","v":""}]
[{"$f":"IF(ISERROR(CONCATENATE($S98,\".\",VLOOKUP($G98,'1_Metas_Resultados'!$D$4:$E$403,2,FALSE))),\"Sin Registrar\",CONCATENATE($S98,\".\",VLOOKUP($G98,'1_Metas_Resultados'!$D$4:$E$403,2,FALSE)))","v":"Sin Registrar"},97," ",{"$f":"IF(ISERROR(CONCATENATE($S98,\".\",VLOOKUP($K98,'1_Metas_Resultados'!$D$4:$E$403,2,FALSE))),\"Sin Registrar\",CONCATENATE($S98,\".\",VLOOKUP($K98,'1_Metas_Resultados'!$D$4:$E$403,2,FALSE)))","v":"Sin Registrar"},{"$f":"IF(ISERROR(CONCATENATE($S98,\".\",VLOOKUP($L98,'1_Metas_Resultados'!$D$4:$E$403,2,FALSE))),\"Sin Registrar\",CONCATENATE($S98,\".\",VLOOKUP($L98,'1_Metas_Resultados'!$D$4:$E$403,2,FALSE)))","v":"Sin Registrar"},{"$f":"IF(ISERROR(VLOOKUP(G98,'1_Metas_Resultados'!$D$4:$I$403,6,FALSE)),\"\",VLOOKUP(G98,'1_Metas_Resultados'!$D$4:$I$403,6,FALSE))","v":""}]
[{"$f":"IF(ISERROR(CONCATENATE($S99,\".\",VLOOKUP($G99,'1_Metas_Resultados'!$D$4:$E$403,2,FALSE))),\"Sin Registrar\",CONCATENATE($S99,\".\",VLOOKUP($G99,'1_Metas_Resultados'!$D$4:$E$403,2,FALSE)))","v":"Sin Registrar"},98," ",{"$f":"IF(ISERROR(CONCATENATE($S99,\".\",VLOOKUP($K99,'1_Metas_Resultados'!$D$4:$E$403,2,FALSE))),\"Sin Registrar\",CONCATENATE($S99,\".\",VLOOKUP($K99,'1_Metas_Resultados'!$D$4:$E$403,2,FALSE)))","v":"Sin Registrar"},{"$f":"IF(ISERROR(CONCATENATE($S99,\".\",VLOOKUP($L99,'1_Metas_Resultados'!$D$4:$E$403,2,FALSE))),\"Sin Registrar\",CONCATENATE($S99,\".\",VLOOKUP($L99,'1_Metas_Resultados'!$D$4:$E$403,2,FALSE)))","v":"Sin Registrar"},{"$f":"IF(ISERROR(VLOOKUP(G99,'1_Metas_Resultados'!$D$4:$I$403,6,FALSE)),\"\",VLOOKUP(G99,'1_Metas_Resultados'!$D$4:$I$403,6,FALSE))","v":""}]
[{"$f":"IF(ISERROR(CONCATENATE($S100,\".\",VLOOKUP($G100,'1_Metas_Resultados'!$D$4:$E$403,2,FALSE))),\"Sin Registrar\",CONCATENATE($S100,\".\",VLOOKUP($G100,'1_Metas_Resultados'!$D$4:$E$403,2,FALSE)))","v":"Sin Registrar"},99," ",{"$f":"IF(ISERROR(CONCATENATE($S100,\".\",VLOOKUP($K100,'1_Metas_Resultados'!$D$4:$E$403,2,FALSE))),\"Sin Registrar\",CONCATENATE($S100,\".\",VLOOKUP($K100,'1_Metas_Resultados'!$D$4:$E$403,2,FALSE)))","v":"Sin Registrar"},{"$f":"IF(ISERROR(CONCATENATE($S100,\".\",VLOOKUP($L100,'1_Metas_Resultados'!$D$4:$E$403,2,FALSE))),\"Sin Registrar\",CONCATENATE($S100,\".\",VLOOKUP($L100,'1_Metas_Resultados'!$D$4:$E$403,2,FALSE)))","v":"Sin Registrar"},{"$f":"IF(ISERROR(VLOOKUP(G100,'1_Metas_Resultados'!$D$4:$I$403,6,FALSE)),\"\",VLOOKUP(G100,'1_Metas_Resultados'!$D$4:$I$403,6,FALSE))","v":""}]
[{"$f":"IF(ISERROR(CONCATENATE($S101,\".\",VLOOKUP($G101,'1_Metas_Resultados'!$D$4:$E$403,2,FALSE))),\"Sin Registrar\",CONCATENATE($S101,\".\",VLOOKUP($G101,'1_Metas_Resultados'!$D$4:$E$403,2,FALSE)))","v":"Sin Registrar"},100," ",{"$f":"IF(ISERROR(CONCATENATE($S101,\".\",VLOOKUP($K101,'1_Metas_Resultados'!$D$4:$E$403,2,FALSE))),\"Sin Registrar\",CONCATENATE($S101,\".\",VLOOKUP($K101,'1_Metas_Resultados'!$D$4:$E$403,2,FALSE)))","v":"Sin Registrar"},{"$f":"IF(ISERROR(CONCATENATE($S101,\".\",VLOOKUP($L101,'1_Metas_Resultados'!$D$4:$E$403,2,FALSE))),\"Sin Registrar\",CONCATENATE($S101,\".\",VLOOKUP($L101,'1_Metas_Resultados'!$D$4:$E$403,2,FALSE)))","v":"Sin Registrar"},{"$f":"IF(ISERROR(VLOOKUP(G101,'1_Metas_Resultados'!$D$4:$I$403,6,FALSE)),\"\",VLOOKUP(G101,'1_Metas_Resultados'!$D$4:$I$403,6,FALSE))","v":""}]
[{"$f":"IF(ISERROR(CONCATENATE($S102,\".\",VLOOKUP($G102,'1_Metas_Resultados'!$D$4:$E$403,2,FALSE))),\"Sin Registrar\",CONCATENATE($S102,\".\",VLOOKUP($G102,'1_Metas_Resultados'!$D$4:$E$403,2,FALSE)))","v":"Sin Registrar"},101," ",{"$f":"IF(ISERROR(CONCATENATE($S102,\".\",VLOOKUP($K102,'1_Metas_Resultados'!$D$4:$E$403,2,FALSE))),\"Sin Registrar\",CONCATENATE($S102,\".\",VLOOKUP($K102,'1_Metas_Resultados'!$D$4:$E$403,2,FALSE)))","v":"Sin Registrar"},{"$f":"IF(ISERROR(CONCATENATE($S102,\".\",VLOOKUP($L102,'1_Metas_Resultados'!$D$4:$E$403,2,FALSE))),\"Sin Registrar\",CONCATENATE($S102,\".\",VLOOKUP($L102,'1_Metas_Resultados'!$D$4:$E$403,2,FALSE)))","v":"Sin Registrar"},{"$f":"IF(ISERROR(VLOOKUP(G102,'1_Metas_Resultados'!$D$4:$I$403,6,FALSE)),\"\",VLOOKUP(G102,'1_Metas_Resultados'!$D$4:$I$403,6,FALSE))","v":""}]
[{"$f":"IF(ISERROR(CONCATENATE($S103,\".\",VLOOKUP($G103,'1_Metas_Resultados'!$D$4:$E$403,2,FALSE))),\"Sin Registrar\",CONCATENATE($S103,\".\",VLOOKUP($G103,'1_Metas_Resultados'!$D$4:$E$403,2,FALSE)))","v":"Sin Registrar"},102," ",{"$f":"IF(ISERROR(CONCATENATE($S103,\".\",VLOOKUP($K103,'1_Metas_Resultados'!$D$4:$E$403,2,FALSE))),\"Sin Registrar\",CONCATENATE($S103,\".\",VLOOKUP($K103,'1_Metas_Resultados'!$D$4:$E$403,2,FALSE)))","v":"Sin Registrar"},{"$f":"IF(ISERROR(CONCATENATE($S103,\".\",VLOOKUP($L103,'1_Metas_Resultados'!$D$4:$E$403,2,FALSE))),\"Sin Registrar\",CONCATENATE($S103,\".\",VLOOKUP($L103,'1_Metas_Resultados'!$D$4:$E$403,2,FALSE)))","v":"Sin Registrar"},{"$f":"IF(ISERROR(VLOOKUP(G103,'1_Metas_Resultados'!$D$4:$I$403,6,FALSE)),\"\",VLOOKUP(G103,'1_Metas_Resultados'!$D$4:$I$403,6,FALSE))","v":""}]
[{"$f":"IF(ISERROR(CONCATENATE($S104,\".\",VLOOKUP($G104,'1_Metas_Resultados'!$D$4:$E$403,2,FALSE))),\"Sin Registrar\",CONCATENATE($S104,\".\",VLOOKUP($G104,'1_Metas_Resultados'!$D$4:$E$403,2,FALSE)))","v":"Sin Registrar"},103," ",{"$f":"IF(ISERROR(CONCATENATE($S104,\".\",VLOOKUP($K104,'1_Metas_Resultados'!$D$4:$E$403,2,FALSE))),\"Sin Registrar\",CONCATENATE($S104,\".\",VLOOKUP($K104,'1_Metas_Resultados'!$D$4:$E$403,2,FALSE)))","v":"Sin Registrar"},{"$f":"IF(ISERROR(CONCATENATE($S104,\".\",VLOOKUP($L104,'1_Metas_Resultados'!$D$4:$E$403,2,FALSE))),\"Sin Registrar\",CONCATENATE($S104,\".\",VLOOKUP($L104,'1_Metas_Resultados'!$D$4:$E$403,2,FALSE)))","v":"Sin Registrar"},{"$f":"IF(ISERROR(VLOOKUP(G104,'1_Metas_Resultados'!$D$4:$I$403,6,FALSE)),\"\",VLOOKUP(G104,'1_Metas_Resultados'!$D$4:$I$403,6,FALSE))","v":""}]
[{"$f":"IF(ISERROR(CONCATENATE($S105,\".\",VLOOKUP($G105,'1_Metas_Resultados'!$D$4:$E$403,2,FALSE))),\"Sin Registrar\",CONCATENATE($S105,\".\",VLOOKUP($G105,'1_Metas_Resultados'!$D$4:$E$403,2,FALSE)))","v":"Sin Registrar"},104," ",{"$f":"IF(ISERROR(CONCATENATE($S105,\".\",VLOOKUP($K105,'1_Metas_Resultados'!$D$4:$E$403,2,FALSE))),\"Sin Registrar\",CONCATENATE($S105,\".\",VLOOKUP($K105,'1_Metas_Resultados'!$D$4:$E$403,2,FALSE)))","v":"Sin Registrar"},{"$f":"IF(ISERROR(CONCATENATE($S105,\".\",VLOOKUP($L105,'1_Metas_Resultados'!$D$4:$E$403,2,FALSE))),\"Sin Registrar\",CONCATENATE($S105,\".\",VLOOKUP($L105,'1_Metas_Resultados'!$D$4:$E$403,2,FALSE)))","v":"Sin Registrar"},{"$f":"IF(ISERROR(VLOOKUP(G105,'1_Metas_Resultados'!$D$4:$I$403,6,FALSE)),\"\",VLOOKUP(G105,'1_Metas_Resultados'!$D$4:$I$403,6,FALSE))","v":""}]
[{"$f":"IF(ISERROR(CONCATENATE($S106,\".\",VLOOKUP($G106,'1_Metas_Resultados'!$D$4:$E$403,2,FALSE))),\"Sin Registrar\",CONCATENATE($S106,\".\",VLOOKUP($G106,'1_Metas_Resultados'!$D$4:$E$403,2,FALSE)))","v":"Sin Registrar"},105," ",{"$f":"IF(ISERROR(CONCATENATE($S106,\".\",VLOOKUP($K106,'1_Metas_Resultados'!$D$4:$E$403,2,FALSE))),\"Sin Registrar\",CONCATENATE($S106,\".\",VLOOKUP($K106,'1_Metas_Resultados'!$D$4:$E$403,2,FALSE)))","v":"Sin Registrar"},{"$f":"IF(ISERROR(CONCATENATE($S106,\".\",VLOOKUP($L106,'1_Metas_Resultados'!$D$4:$E$403,2,FALSE))),\"Sin Registrar\",CONCATENATE($S106,\".\",VLOOKUP($L106,'1_Metas_Resultados'!$D$4:$E$403,2,FALSE)))","v":"Sin Registrar"},{"$f":"IF(ISERROR(VLOOKUP(G106,'1_Metas_Resultados'!$D$4:$I$403,6,FALSE)),\"\",VLOOKUP(G106,'1_Metas_Resultados'!$D$4:$I$403,6,FALSE))","v":""}]
[{"$f":"IF(ISERROR(CONCATENATE($S107,\".\",VLOOKUP($G107,'1_Metas_Resultados'!$D$4:$E$403,2,FALSE))),\"Sin Registrar\",CONCATENATE($S107,\".\",VLOOKUP($G107,'1_Metas_Resultados'!$D$4:$E$403,2,FALSE)))","v":"Sin Registrar"},106," ",{"$f":"IF(ISERROR(CONCATENATE($S107,\".\",VLOOKUP($K107,'1_Metas_Resultados'!$D$4:$E$403,2,FALSE))),\"Sin Registrar\",CONCATENATE($S107,\".\",VLOOKUP($K107,'1_Metas_Resultados'!$D$4:$E$403,2,FALSE)))","v":"Sin Registrar"},{"$f":"IF(ISERROR(CONCATENATE($S107,\".\",VLOOKUP($L107,'1_Metas_Resultados'!$D$4:$E$403,2,FALSE))),\"Sin Registrar\",CONCATENATE($S107,\".\",VLOOKUP($L107,'1_Metas_Resultados'!$D$4:$E$403,2,FALSE)))","v":"Sin Registrar"},{"$f":"IF(ISERROR(VLOOKUP(G107,'1_Metas_Resultados'!$D$4:$I$403,6,FALSE)),\"\",VLOOKUP(G107,'1_Metas_Resultados'!$D$4:$I$403,6,FALSE))","v":""}]
[{"$f":"IF(ISERROR(CONCATENATE($S108,\".\",VLOOKUP($G108,'1_Metas_Resultados'!$D$4:$E$403,2,FALSE))),\"Sin Registrar\",CONCATENATE($S108,\".\",VLOOKUP($G108,'1_Metas_Resultados'!$D$4:$E$403,2,FALSE)))","v":"Sin Registrar"},107," ",{"$f":"IF(ISERROR(CONCATENATE($S108,\".\",VLOOKUP($K108,'1_Metas_Resultados'!$D$4:$E$403,2,FALSE))),\"Sin Registrar\",CONCATENATE($S108,\".\",VLOOKUP($K108,'1_Metas_Resultados'!$D$4:$E$403,2,FALSE)))","v":"Sin Registrar"},{"$f":"IF(ISERROR(CONCATENATE($S108,\".\",VLOOKUP($L108,'1_Metas_Resultados'!$D$4:$E$403,2,FALSE))),\"Sin Registrar\",CONCATENATE($S108,\".\",VLOOKUP($L108,'1_Metas_Resultados'!$D$4:$E$403,2,FALSE)))","v":"Sin Registrar"},{"$f":"IF(ISERROR(VLOOKUP(G108,'1_Metas_Resultados'!$D$4:$I$403,6,FALSE)),\"\",VLOOKUP(G108,'1_Metas_Resultados'!$D$4:$I$403,6,FALSE))","v":""}]
[{"$f":"IF(ISERROR(CONCATENATE($S109,\".\",VLOOKUP($G109,'1_Metas_Resultados'!$D$4:$E$403,2,FALSE))),\"Sin Registrar\",CONCATENATE($S109,\".\",VLOOKUP($G109,'1_Metas_Resultados'!$D$4:$E$403,2,FALSE)))","v":"Sin Registrar"},108," ",{"$f":"IF(ISERROR(CONCATENATE($S109,\".\",VLOOKUP($K109,'1_Metas_Resultados'!$D$4:$E$403,2,FALSE))),\"Sin Registrar\",CONCATENATE($S109,\".\",VLOOKUP($K109,'1_Metas_Resultados'!$D$4:$E$403,2,FALSE)))","v":"Sin Registrar"},{"$f":"IF(ISERROR(CONCATENATE($S109,\".\",VLOOKUP($L109,'1_Metas_Resultados'!$D$4:$E$403,2,FALSE))),\"Sin Registrar\",CONCATENATE($S109,\".\",VLOOKUP($L109,'1_Metas_Resultados'!$D$4:$E$403,2,FALSE)))","v":"Sin Registrar"},{"$f":"IF(ISERROR(VLOOKUP(G109,'1_Metas_Resultados'!$D$4:$I$403,6,FALSE)),\"\",VLOOKUP(G109,'1_Metas_Resultados'!$D$4:$I$403,6,FALSE))","v":""}]
[{"$f":"IF(ISERROR(CONCATENATE($S110,\".\",VLOOKUP($G110,'1_Metas_Resultados'!$D$4:$E$403,2,FALSE))),\"Sin Registrar\",CONCATENATE($S110,\".\",VLOOKUP($G110,'1_Metas_Resultados'!$D$4:$E$403,2,FALSE)))","v":"Sin Registrar"},109," ",{"$f":"IF(ISERROR(CONCATENATE($S110,\".\",VLOOKUP($K110,'1_Metas_Resultados'!$D$4:$E$403,2,FALSE))),\"Sin Registrar\",CONCATENATE($S110,\".\",VLOOKUP($K110,'1_Metas_Resultados'!$D$4:$E$403,2,FALSE)))","v":"Sin Registrar"},{"$f":"IF(ISERROR(CONCATENATE($S110,\".\",VLOOKUP($L110,'1_Metas_Resultados'!$D$4:$E$403,2,FALSE))),\"Sin Registrar\",CONCATENATE($S110,\".\",VLOOKUP($L110,'1_Metas_Resultados'!$D$4:$E$403,2,FALSE)))","v":"Sin Registrar"},{"$f":"IF(ISERROR(VLOOKUP(G110,'1_Metas_Resultados'!$D$4:$I$403,6,FALSE)),\"\",VLOOKUP(G110,'1_Metas_Resultados'!$D$4:$I$403,6,FALSE))","v":""}]
[{"$f":"IF(ISERROR(CONCATENATE($S111,\".\",VLOOKUP($G111,'1_Metas_Resultados'!$D$4:$E$403,2,FALSE))),\"Sin Registrar\",CONCATENATE($S111,\".\",VLOOKUP($G111,'1_Metas_Resultados'!$D$4:$E$403,2,FALSE)))","v":"Sin Registrar"},110," ",{"$f":"IF(ISERROR(CONCATENATE($S111,\".\",VLOOKUP($K111,'1_Metas_Resultados'!$D$4:$E$403,2,FALSE))),\"Sin Registrar\",CONCATENATE($S111,\".\",VLOOKUP($K111,'1_Metas_Resultados'!$D$4:$E$403,2,FALSE)))","v":"Sin Registrar"},{"$f":"IF(ISERROR(CONCATENATE($S111,\".\",VLOOKUP($L111,'1_Metas_Resultados'!$D$4:$E$403,2,FALSE))),\"Sin Registrar\",CONCATENATE($S111,\".\",VLOOKUP($L111,'1_Metas_Resultados'!$D$4:$E$403,2,FALSE)))","v":"Sin Registrar"},{"$f":"IF(ISERROR(VLOOKUP(G111,'1_Metas_Resultados'!$D$4:$I$403,6,FALSE)),\"\",VLOOKUP(G111,'1_Metas_Resultados'!$D$4:$I$403,6,FALSE))","v":""}]
[{"$f":"IF(ISERROR(CONCATENATE($S112,\".\",VLOOKUP($G112,'1_Metas_Resultados'!$D$4:$E$403,2,FALSE))),\"Sin Registrar\",CONCATENATE($S112,\".\",VLOOKUP($G112,'1_Metas_Resultados'!$D$4:$E$403,2,FALSE)))","v":"Sin Registrar"},111," ",{"$f":"IF(ISERROR(CONCATENATE($S112,\".\",VLOOKUP($K112,'1_Metas_Resultados'!$D$4:$E$403,2,FALSE))),\"Sin Registrar\",CONCATENATE($S112,\".\",VLOOKUP($K112,'1_Metas_Resultados'!$D$4:$E$403,2,FALSE)))","v":"Sin Registrar"},{"$f":"IF(ISERROR(CONCATENATE($S112,\".\",VLOOKUP($L112,'1_Metas_Resultados'!$D$4:$E$403,2,FALSE))),\"Sin Registrar\",CONCATENATE($S112,\".\",VLOOKUP($L112,'1_Metas_Resultados'!$D$4:$E$403,2,FALSE)))","v":"Sin Registrar"},{"$f":"IF(ISERROR(VLOOKUP(G112,'1_Metas_Resultados'!$D$4:$I$403,6,FALSE)),\"\",VLOOKUP(G112,'1_Metas_Resultados'!$D$4:$I$403,6,FALSE))","v":""}]
[{"$f":"IF(ISERROR(CONCATENATE($S113,\".\",VLOOKUP($G113,'1_Metas_Resultados'!$D$4:$E$403,2,FALSE))),\"Sin Registrar\",CONCATENATE($S113,\".\",VLOOKUP($G113,'1_Metas_Resultados'!$D$4:$E$403,2,FALSE)))","v":"Sin Registrar"},112," ",{"$f":"IF(ISERROR(CONCATENATE($S113,\".\",VLOOKUP($K113,'1_Metas_Resultados'!$D$4:$E$403,2,FALSE))),\"Sin Registrar\",CONCATENATE($S113,\".\",VLOOKUP($K113,'1_Metas_Resultados'!$D$4:$E$403,2,FALSE)))","v":"Sin Registrar"},{"$f":"IF(ISERROR(CONCATENATE($S113,\".\",VLOOKUP($L113,'1_Metas_Resultados'!$D$4:$E$403,2,FALSE))),\"Sin Registrar\",CONCATENATE($S113,\".\",VLOOKUP($L113,'1_Metas_Resultados'!$D$4:$E$403,2,FALSE)))","v":"Sin Registrar"},{"$f":"IF(ISERROR(VLOOKUP(G113,'1_Metas_Resultados'!$D$4:$I$403,6,FALSE)),\"\",VLOOKUP(G113,'1_Metas_Resultados'!$D$4:$I$403,6,FALSE))","v":""}]
[{"$f":"IF(ISERROR(CONCATENATE($S114,\".\",VLOOKUP($G114,'1_Metas_Resultados'!$D$4:$E$403,2,FALSE))),\"Sin Registrar\",CONCATENATE($S114,\".\",VLOOKUP($G114,'1_Metas_Resultados'!$D$4:$E$403,2,FALSE)))","v":"Sin Registrar"},113," ",{"$f":"IF(ISERROR(CONCATENATE($S114,\".\",VLOOKUP($K114,'1_Metas_Resultados'!$D$4:$E$403,2,FALSE))),\"Sin Registrar\",CONCATENATE($S114,\".\",VLOOKUP($K114,'1_Metas_Resultados'!$D$4:$E$403,2,FALSE)))","v":"Sin Registrar"},{"$f":"IF(ISERROR(CONCATENATE($S114,\".\",VLOOKUP($L114,'1_Metas_Resultados'!$D$4:$E$403,2,FALSE))),\"Sin Registrar\",CONCATENATE($S114,\".\",VLOOKUP($L114,'1_Metas_Resultados'!$D$4:$E$403,2,FALSE)))","v":"Sin Registrar"},{"$f":"IF(ISERROR(VLOOKUP(G114,'1_Metas_Resultados'!$D$4:$I$403,6,FALSE)),\"\",VLOOKUP(G114,'1_Metas_Resultados'!$D$4:$I$403,6,FALSE))","v":""}]
[{"$f":"IF(ISERROR(CONCATENATE($S115,\".\",VLOOKUP($G115,'1_Metas_Resultados'!$D$4:$E$403,2,FALSE))),\"Sin Registrar\",CONCATENATE($S115,\".\",VLOOKUP($G115,'1_Metas_Resultados'!$D$4:$E$403,2,FALSE)))","v":"Sin Registrar"},114," ",{"$f":"IF(ISERROR(CONCATENATE($S115,\".\",VLOOKUP($K115,'1_Metas_Resultados'!$D$4:$E$403,2,FALSE))),\"Sin Registrar\",CONCATENATE($S115,\".\",VLOOKUP($K115,'1_Metas_Resultados'!$D$4:$E$403,2,FALSE)))","v":"Sin Registrar"},{"$f":"IF(ISERROR(CONCATENATE($S115,\".\",VLOOKUP($L115,'1_Metas_Resultados'!$D$4:$E$403,2,FALSE))),\"Sin Registrar\",CONCATENATE($S115,\".\",VLOOKUP($L115,'1_Metas_Resultados'!$D$4:$E$403,2,FALSE)))","v":"Sin Registrar"},{"$f":"IF(ISERROR(VLOOKUP(G115,'1_Metas_Resultados'!$D$4:$I$403,6,FALSE)),\"\",VLOOKUP(G115,'1_Metas_Resultados'!$D$4:$I$403,6,FALSE))","v":""}]
[{"$f":"IF(ISERROR(CONCATENATE($S116,\".\",VLOOKUP($G116,'1_Metas_Resultados'!$D$4:$E$403,2,FALSE))),\"Sin Registrar\",CONCATENATE($S116,\".\",VLOOKUP($G116,'1_Metas_Resultados'!$D$4:$E$403,2,FALSE)))","v":"Sin Registrar"},115," ",{"$f":"IF(ISERROR(CONCATENATE($S116,\".\",VLOOKUP($K116,'1_Metas_Resultados'!$D$4:$E$403,2,FALSE))),\"Sin Registrar\",CONCATENATE($S116,\".\",VLOOKUP($K116,'1_Metas_Resultados'!$D$4:$E$403,2,FALSE)))","v":"Sin Registrar"},{"$f":"IF(ISERROR(CONCATENATE($S116,\".\",VLOOKUP($L116,'1_Metas_Resultados'!$D$4:$E$403,2,FALSE))),\"Sin Registrar\",CONCATENATE($S116,\".\",VLOOKUP($L116,'1_Metas_Resultados'!$D$4:$E$403,2,FALSE)))","v":"Sin Registrar"},{"$f":"IF(ISERROR(VLOOKUP(G116,'1_Metas_Resultados'!$D$4:$I$403,6,FALSE)),\"\",VLOOKUP(G116,'1_Metas_Resultados'!$D$4:$I$403,6,FALSE))","v":""}]
[{"$f":"IF(ISERROR(CONCATENATE($S117,\".\",VLOOKUP($G117,'1_Metas_Resultados'!$D$4:$E$403,2,FALSE))),\"Sin Registrar\",CONCATENATE($S117,\".\",VLOOKUP($G117,'1_Metas_Resultados'!$D$4:$E$403,2,FALSE)))","v":"Sin Registrar"},116," ",{"$f":"IF(ISERROR(CONCATENATE($S117,\".\",VLOOKUP($K117,'1_Metas_Resultados'!$D$4:$E$403,2,FALSE))),\"Sin Registrar\",CONCATENATE($S117,\".\",VLOOKUP($K117,'1_Metas_Resultados'!$D$4:$E$403,2,FALSE)))","v":"Sin Registrar"},{"$f":"IF(ISERROR(CONCATENATE($S117,\".\",VLOOKUP($L117,'1_Metas_Resultados'!$D$4:$E$403,2,FALSE))),\"Sin Registrar\",CONCATENATE($S117,\".\",VLOOKUP($L117,'1_Metas_Resultados'!$D$4:$E$403,2,FALSE)))","v":"Sin Registrar"},{"$f":"IF(ISERROR(VLOOKUP(G117,'1_Metas_Resultados'!$D$4:$I$403,6,FALSE)),\"\",VLOOKUP(G117,'1_Metas_Resultados'!$D$4:$I$403,6,FALSE))","v":""}]
[{"$f":"IF(ISERROR(CONCATENATE($S118,\".\",VLOOKUP($G118,'1_Metas_Resultados'!$D$4:$E$403,2,FALSE))),\"Sin Registrar\",CONCATENATE($S118,\".\",VLOOKUP($G118,'1_Metas_Resultados'!$D$4:$E$403,2,FALSE)))","v":"Sin Registrar"},117," ",{"$f":"IF(ISERROR(CONCATENATE($S118,\".\",VLOOKUP($K118,'1_Metas_Resultados'!$D$4:$E$403,2,FALSE))),\"Sin Registrar\",CONCATENATE($S118,\".\",VLOOKUP($K118,'1_Metas_Resultados'!$D$4:$E$403,2,FALSE)))","v":"Sin Registrar"},{"$f":"IF(ISERROR(CONCATENATE($S118,\".\",VLOOKUP($L118,'1_Metas_Resultados'!$D$4:$E$403,2,FALSE))),\"Sin Registrar\",CONCATENATE($S118,\".\",VLOOKUP($L118,'1_Metas_Resultados'!$D$4:$E$403,2,FALSE)))","v":"Sin Registrar"},{"$f":"IF(ISERROR(VLOOKUP(G118,'1_Metas_Resultados'!$D$4:$I$403,6,FALSE)),\"\",VLOOKUP(G118,'1_Metas_Resultados'!$D$4:$I$403,6,FALSE))","v":""}]
[{"$f":"IF(ISERROR(CONCATENATE($S119,\".\",VLOOKUP($G119,'1_Metas_Resultados'!$D$4:$E$403,2,FALSE))),\"Sin Registrar\",CONCATENATE($S119,\".\",VLOOKUP($G119,'1_Metas_Resultados'!$D$4:$E$403,2,FALSE)))","v":"Sin Registrar"},118," ",{"$f":"IF(ISERROR(CONCATENATE($S119,\".\",VLOOKUP($K119,'1_Metas_Resultados'!$D$4:$E$403,2,FALSE))),\"Sin Registrar\",CONCATENATE($S119,\".\",VLOOKUP($K119,'1_Metas_Resultados'!$D$4:$E$403,2,FALSE)))","v":"Sin Registrar"},{"$f":"IF(ISERROR(CONCATENATE($S119,\".\",VLOOKUP($L119,'1_Metas_Resultados'!$D$4:$E$403,2,FALSE))),\"Sin Registrar\",CONCATENATE($S119,\".\",VLOOKUP($L119,'1_Metas_Resultados'!$D$4:$E$403,2,FALSE)))","v":"Sin Registrar"},{"$f":"IF(ISERROR(VLOOKUP(G119,'1_Metas_Resultados'!$D$4:$I$403,6,FALSE)),\"\",VLOOKUP(G119,'1_Metas_Resultados'!$D$4:$I$403,6,FALSE))","v":""}]
[{"$f":"IF(ISERROR(CONCATENATE($S120,\".\",VLOOKUP($G120,'1_Metas_Resultados'!$D$4:$E$403,2,FALSE))),\"Sin Registrar\",CONCATENATE($S120,\".\",VLOOKUP($G120,'1_Metas_Resultados'!$D$4:$E$403,2,FALSE)))","v":"Sin Registrar"},119," ",{"$f":"IF(ISERROR(CONCATENATE($S120,\".\",VLOOKUP($K120,'1_Metas_Resultados'!$D$4:$E$403,2,FALSE))),\"Sin Registrar\",CONCATENATE($S120,\".\",VLOOKUP($K120,'1_Metas_Resultados'!$D$4:$E$403,2,FALSE)))","v":"Sin Registrar"},{"$f":"IF(ISERROR(CONCATENATE($S120,\".\",VLOOKUP($L120,'1_Metas_Resultados'!$D$4:$E$403,2,FALSE))),\"Sin Registrar\",CONCATENATE($S120,\".\",VLOOKUP($L120,'1_Metas_Resultados'!$D$4:$E$403,2,FALSE)))","v":"Sin Registrar"},{"$f":"IF(ISERROR(VLOOKUP(G120,'1_Metas_Resultados'!$D$4:$I$403,6,FALSE)),\"\",VLOOKUP(G120,'1_Metas_Resultados'!$D$4:$I$403,6,FALSE))","v":""}]
[{"$f":"IF(ISERROR(CONCATENATE($S121,\".\",VLOOKUP($G121,'1_Metas_Resultados'!$D$4:$E$403,2,FALSE))),\"Sin Registrar\",CONCATENATE($S121,\".\",VLOOKUP($G121,'1_Metas_Resultados'!$D$4:$E$403,2,FALSE)))","v":"Sin Registrar"},120," ",{"$f":"IF(ISERROR(CONCATENATE($S121,\".\",VLOOKUP($K121,'1_Metas_Resultados'!$D$4:$E$403,2,FALSE))),\"Sin Registrar\",CONCATENATE($S121,\".\",VLOOKUP($K121,'1_Metas_Resultados'!$D$4:$E$403,2,FALSE)))","v":"Sin Registrar"},{"$f":"IF(ISERROR(CONCATENATE($S121,\".\",VLOOKUP($L121,'1_Metas_Resultados'!$D$4:$E$403,2,FALSE))),\"Sin Registrar\",CONCATENATE($S121,\".\",VLOOKUP($L121,'1_Metas_Resultados'!$D$4:$E$403,2,FALSE)))","v":"Sin Registrar"},{"$f":"IF(ISERROR(VLOOKUP(G121,'1_Metas_Resultados'!$D$4:$I$403,6,FALSE)),\"\",VLOOKUP(G121,'1_Metas_Resultados'!$D$4:$I$403,6,FALSE))","v":""}]
[{"$f":"IF(ISERROR(CONCATENATE($S122,\".\",VLOOKUP($G122,'1_Metas_Resultados'!$D$4:$E$403,2,FALSE))),\"Sin Registrar\",CONCATENATE($S122,\".\",VLOOKUP($G122,'1_Metas_Resultados'!$D$4:$E$403,2,FALSE)))","v":"Sin Registrar"},121," ",{"$f":"IF(ISERROR(CONCATENATE($S122,\".\",VLOOKUP($K122,'1_Metas_Resultados'!$D$4:$E$403,2,FALSE))),\"Sin Registrar\",CONCATENATE($S122,\".\",VLOOKUP($K122,'1_Metas_Resultados'!$D$4:$E$403,2,FALSE)))","v":"Sin Registrar"},{"$f":"IF(ISERROR(CONCATENATE($S122,\".\",VLOOKUP($L122,'1_Metas_Resultados'!$D$4:$E$403,2,FALSE))),\"Sin Registrar\",CONCATENATE($S122,\".\",VLOOKUP($L122,'1_Metas_Resultados'!$D$4:$E$403,2,FALSE)))","v":"Sin Registrar"},{"$f":"IF(ISERROR(VLOOKUP(G122,'1_Metas_Resultados'!$D$4:$I$403,6,FALSE)),\"\",VLOOKUP(G122,'1_Metas_Resultados'!$D$4:$I$403,6,FALSE))","v":""}]
[{"$f":"IF(ISERROR(CONCATENATE($S123,\".\",VLOOKUP($G123,'1_Metas_Resultados'!$D$4:$E$403,2,FALSE))),\"Sin Registrar\",CONCATENATE($S123,\".\",VLOOKUP($G123,'1_Metas_Resultados'!$D$4:$E$403,2,FALSE)))","v":"Sin Registrar"},122," ",{"$f":"IF(ISERROR(CONCATENATE($S123,\".\",VLOOKUP($K123,'1_Metas_Resultados'!$D$4:$E$403,2,FALSE))),\"Sin Registrar\",CONCATENATE($S123,\".\",VLOOKUP($K123,'1_Metas_Resultados'!$D$4:$E$403,2,FALSE)))","v":"Sin Registrar"},{"$f":"IF(ISERROR(CONCATENATE($S123,\".\",VLOOKUP($L123,'1_Metas_Resultados'!$D$4:$E$403,2,FALSE))),\"Sin Registrar\",CONCATENATE($S123,\".\",VLOOKUP($L123,'1_Metas_Resultados'!$D$4:$E$403,2,FALSE)))","v":"Sin Registrar"},{"$f":"IF(ISERROR(VLOOKUP(G123,'1_Metas_Resultados'!$D$4:$I$403,6,FALSE)),\"\",VLOOKUP(G123,'1_Metas_Resultados'!$D$4:$I$403,6,FALSE))","v":""}]
[{"$f":"IF(ISERROR(CONCATENATE($S124,\".\",VLOOKUP($G124,'1_Metas_Resultados'!$D$4:$E$403,2,FALSE))),\"Sin Registrar\",CONCATENATE($S124,\".\",VLOOKUP($G124,'1_Metas_Resultados'!$D$4:$E$403,2,FALSE)))","v":"Sin Registrar"},123," ",{"$f":"IF(ISERROR(CONCATENATE($S124,\".\",VLOOKUP($K124,'1_Metas_Resultados'!$D$4:$E$403,2,FALSE))),\"Sin Registrar\",CONCATENATE($S124,\".\",VLOOKUP($K124,'1_Metas_Resultados'!$D$4:$E$403,2,FALSE)))","v":"Sin Registrar"},{"$f":"IF(ISERROR(CONCATENATE($S124,\".\",VLOOKUP($L124,'1_Metas_Resultados'!$D$4:$E$403,2,FALSE))),\"Sin Registrar\",CONCATENATE($S124,\".\",VLOOKUP($L124,'1_Metas_Resultados'!$D$4:$E$403,2,FALSE)))","v":"Sin Registrar"},{"$f":"IF(ISERROR(VLOOKUP(G124,'1_Metas_Resultados'!$D$4:$I$403,6,FALSE)),\"\",VLOOKUP(G124,'1_Metas_Resultados'!$D$4:$I$403,6,FALSE))","v":""}]
[{"$f":"IF(ISERROR(CONCATENATE($S125,\".\",VLOOKUP($G125,'1_Metas_Resultados'!$D$4:$E$403,2,FALSE))),\"Sin Registrar\",CONCATENATE($S125,\".\",VLOOKUP($G125,'1_Metas_Resultados'!$D$4:$E$403,2,FALSE)))","v":"Sin Registrar"},124," ",{"$f":"IF(ISERROR(CONCATENATE($S125,\".\",VLOOKUP($K125,'1_Metas_Resultados'!$D$4:$E$403,2,FALSE))),\"Sin Registrar\",CONCATENATE($S125,\".\",VLOOKUP($K125,'1_Metas_Resultados'!$D$4:$E$403,2,FALSE)))","v":"Sin Registrar"},{"$f":"IF(ISERROR(CONCATENATE($S125,\".\",VLOOKUP($L125,'1_Metas_Resultados'!$D$4:$E$403,2,FALSE))),\"Sin Registrar\",CONCATENATE($S125,\".\",VLOOKUP($L125,'1_Metas_Resultados'!$D$4:$E$403,2,FALSE)))","v":"Sin Registrar"},{"$f":"IF(ISERROR(VLOOKUP(G125,'1_Metas_Resultados'!$D$4:$I$403,6,FALSE)),\"\",VLOOKUP(G125,'1_Metas_Resultados'!$D$4:$I$403,6,FALSE))","v":""}]
[{"$f":"IF(ISERROR(CONCATENATE($S126,\".\",VLOOKUP($G126,'1_Metas_Resultados'!$D$4:$E$403,2,FALSE))),\"Sin Registrar\",CONCATENATE($S126,\".\",VLOOKUP($G126,'1_Metas_Resultados'!$D$4:$E$403,2,FALSE)))","v":"Sin Registrar"},125," ",{"$f":"IF(ISERROR(CONCATENATE($S126,\".\",VLOOKUP($K126,'1_Metas_Resultados'!$D$4:$E$403,2,FALSE))),\"Sin Registrar\",CONCATENATE($S126,\".\",VLOOKUP($K126,'1_Metas_Resultados'!$D$4:$E$403,2,FALSE)))","v":"Sin Registrar"},{"$f":"IF(ISERROR(CONCATENATE($S126,\".\",VLOOKUP($L126,'1_Metas_Resultados'!$D$4:$E$403,2,FALSE))),\"Sin Registrar\",CONCATENATE($S126,\".\",VLOOKUP($L126,'1_Metas_Resultados'!$D$4:$E$403,2,FALSE)))","v":"Sin Registrar"},{"$f":"IF(ISERROR(VLOOKUP(G126,'1_Metas_Resultados'!$D$4:$I$403,6,FALSE)),\"\",VLOOKUP(G126,'1_Metas_Resultados'!$D$4:$I$403,6,FALSE))","v":""}]
[{"$f":"IF(ISERROR(CONCATENATE($S127,\".\",VLOOKUP($G127,'1_Metas_Resultados'!$D$4:$E$403,2,FALSE))),\"Sin Registrar\",CONCATENATE($S127,\".\",VLOOKUP($G127,'1_Metas_Resultados'!$D$4:$E$403,2,FALSE)))","v":"Sin Registrar"},126," ",{"$f":"IF(ISERROR(CONCATENATE($S127,\".\",VLOOKUP($K127,'1_Metas_Resultados'!$D$4:$E$403,2,FALSE))),\"Sin Registrar\",CONCATENATE($S127,\".\",VLOOKUP($K127,'1_Metas_Resultados'!$D$4:$E$403,2,FALSE)))","v":"Sin Registrar"},{"$f":"IF(ISERROR(CONCATENATE($S127,\".\",VLOOKUP($L127,'1_Metas_Resultados'!$D$4:$E$403,2,FALSE))),\"Sin Registrar\",CONCATENATE($S127,\".\",VLOOKUP($L127,'1_Metas_Resultados'!$D$4:$E$403,2,FALSE)))","v":"Sin Registrar"},{"$f":"IF(ISERROR(VLOOKUP(G127,'1_Metas_Resultados'!$D$4:$I$403,6,FALSE)),\"\",VLOOKUP(G127,'1_Metas_Resultados'!$D$4:$I$403,6,FALSE))","v":""}]
[{"$f":"IF(ISERROR(CONCATENATE($S128,\".\",VLOOKUP($G128,'1_Metas_Resultados'!$D$4:$E$403,2,FALSE))),\"Sin Registrar\",CONCATENATE($S128,\".\",VLOOKUP($G128,'1_Metas_Resultados'!$D$4:$E$403,2,FALSE)))","v":"Sin Registrar"},127," ",{"$f":"IF(ISERROR(CONCATENATE($S128,\".\",VLOOKUP($K128,'1_Metas_Resultados'!$D$4:$E$403,2,FALSE))),\"Sin Registrar\",CONCATENATE($S128,\".\",VLOOKUP($K128,'1_Metas_Resultados'!$D$4:$E$403,2,FALSE)))","v":"Sin Registrar"},{"$f":"IF(ISERROR(CONCATENATE($S128,\".\",VLOOKUP($L128,'1_Metas_Resultados'!$D$4:$E$403,2,FALSE))),\"Sin Registrar\",CONCATENATE($S128,\".\",VLOOKUP($L128,'1_Metas_Resultados'!$D$4:$E$403,2,FALSE)))","v":"Sin Registrar"},{"$f":"IF(ISERROR(VLOOKUP(G128,'1_Metas_Resultados'!$D$4:$I$403,6,FALSE)),\"\",VLOOKUP(G128,'1_Metas_Resultados'!$D$4:$I$403,6,FALSE))","v":""}]
[{"$f":"IF(ISERROR(CONCATENATE($S129,\".\",VLOOKUP($G129,'1_Metas_Resultados'!$D$4:$E$403,2,FALSE))),\"Sin Registrar\",CONCATENATE($S129,\".\",VLOOKUP($G129,'1_Metas_Resultados'!$D$4:$E$403,2,FALSE)))","v":"Sin Registrar"},128," ",{"$f":"IF(ISERROR(CONCATENATE($S129,\".\",VLOOKUP($K129,'1_Metas_Resultados'!$D$4:$E$403,2,FALSE))),\"Sin Registrar\",CONCATENATE($S129,\".\",VLOOKUP($K129,'1_Metas_Resultados'!$D$4:$E$403,2,FALSE)))","v":"Sin Registrar"},{"$f":"IF(ISERROR(CONCATENATE($S129,\".\",VLOOKUP($L129,'1_Metas_Resultados'!$D$4:$E$403,2,FALSE))),\"Sin Registrar\",CONCATENATE($S129,\".\",VLOOKUP($L129,'1_Metas_Resultados'!$D$4:$E$403,2,FALSE)))","v":"Sin Registrar"},{"$f":"IF(ISERROR(VLOOKUP(G129,'1_Metas_Resultados'!$D$4:$I$403,6,FALSE)),\"\",VLOOKUP(G129,'1_Metas_Resultados'!$D$4:$I$403,6,FALSE))","v":""}]
[{"$f":"IF(ISERROR(CONCATENATE($S130,\".\",VLOOKUP($G130,'1_Metas_Resultados'!$D$4:$E$403,2,FALSE))),\"Sin Registrar\",CONCATENATE($S130,\".\",VLOOKUP($G130,'1_Metas_Resultados'!$D$4:$E$403,2,FALSE)))","v":"Sin Registrar"},129," ",{"$f":"IF(ISERROR(CONCATENATE($S130,\".\",VLOOKUP($K130,'1_Metas_Resultados'!$D$4:$E$403,2,FALSE))),\"Sin Registrar\",CONCATENATE($S130,\".\",VLOOKUP($K130,'1_Metas_Resultados'!$D$4:$E$403,2,FALSE)))","v":"Sin Registrar"},{"$f":"IF(ISERROR(CONCATENATE($S130,\".\",VLOOKUP($L130,'1_Metas_Resultados'!$D$4:$E$403,2,FALSE))),\"Sin Registrar\",CONCATENATE($S130,\".\",VLOOKUP($L130,'1_Metas_Resultados'!$D$4:$E$403,2,FALSE)))","v":"Sin Registrar"},{"$f":"IF(ISERROR(VLOOKUP(G130,'1_Metas_Resultados'!$D$4:$I$403,6,FALSE)),\"\",VLOOKUP(G130,'1_Metas_Resultados'!$D$4:$I$403,6,FALSE))","v":""}]
[{"$f":"IF(ISERROR(CONCATENATE($S131,\".\",VLOOKUP($G131,'1_Metas_Resultados'!$D$4:$E$403,2,FALSE))),\"Sin Registrar\",CONCATENATE($S131,\".\",VLOOKUP($G131,'1_Metas_Resultados'!$D$4:$E$403,2,FALSE)))","v":"Sin Registrar"},130," ",{"$f":"IF(ISERROR(CONCATENATE($S131,\".\",VLOOKUP($K131,'1_Metas_Resultados'!$D$4:$E$403,2,FALSE))),\"Sin Registrar\",CONCATENATE($S131,\".\",VLOOKUP($K131,'1_Metas_Resultados'!$D$4:$E$403,2,FALSE)))","v":"Sin Registrar"},{"$f":"IF(ISERROR(CONCATENATE($S131,\".\",VLOOKUP($L131,'1_Metas_Resultados'!$D$4:$E$403,2,FALSE))),\"Sin Registrar\",CONCATENATE($S131,\".\",VLOOKUP($L131,'1_Metas_Resultados'!$D$4:$E$403,2,FALSE)))","v":"Sin Registrar"},{"$f":"IF(ISERROR(VLOOKUP(G131,'1_Metas_Resultados'!$D$4:$I$403,6,FALSE)),\"\",VLOOKUP(G131,'1_Metas_Resultados'!$D$4:$I$403,6,FALSE))","v":""}]
[{"$f":"IF(ISERROR(CONCATENATE($S132,\".\",VLOOKUP($G132,'1_Metas_Resultados'!$D$4:$E$403,2,FALSE))),\"Sin Registrar\",CONCATENATE($S132,\".\",VLOOKUP($G132,'1_Metas_Resultados'!$D$4:$E$403,2,FALSE)))","v":"Sin Registrar"},131," ",{"$f":"IF(ISERROR(CONCATENATE($S132,\".\",VLOOKUP($K132,'1_Metas_Resultados'!$D$4:$E$403,2,FALSE))),\"Sin Registrar\",CONCATENATE($S132,\".\",VLOOKUP($K132,'1_Metas_Resultados'!$D$4:$E$403,2,FALSE)))","v":"Sin Registrar"},{"$f":"IF(ISERROR(CONCATENATE($S132,\".\",VLOOKUP($L132,'1_Metas_Resultados'!$D$4:$E$403,2,FALSE))),\"Sin Registrar\",CONCATENATE($S132,\".\",VLOOKUP($L132,'1_Metas_Resultados'!$D$4:$E$403,2,FALSE)))","v":"Sin Registrar"},{"$f":"IF(ISERROR(VLOOKUP(G132,'1_Metas_Resultados'!$D$4:$I$403,6,FALSE)),\"\",VLOOKUP(G132,'1_Metas_Resultados'!$D$4:$I$403,6,FALSE))","v":""}]
[{"$f":"IF(ISERROR(CONCATENATE($S133,\".\",VLOOKUP($G133,'1_Metas_Resultados'!$D$4:$E$403,2,FALSE))),\"Sin Registrar\",CONCATENATE($S133,\".\",VLOOKUP($G133,'1_Metas_Resultados'!$D$4:$E$403,2,FALSE)))","v":"Sin Registrar"},132,{"$f":"IF(A133=\"Sin Registrar\",\" \",CONCATENATE(A133,\".\",B133))","v":" "},{"$f":"IF(ISERROR(CONCATENATE($S133,\".\",VLOOKUP($K133,'1_Metas_Resultados'!$D$4:$E$403,2,FALSE))),\"Sin Registrar\",CONCATENATE($S133,\".\",VLOOKUP($K133,'1_Metas_Resultados'!$D$4:$E$403,2,FALSE)))","v":"Sin Registrar"},{"$f":"IF(ISERROR(CONCATENATE($S133,\".\",VLOOKUP($L133,'1_Metas_Resultados'!$D$4:$E$403,2,FALSE))),\"Sin Registrar\",CONCATENATE($S133,\".\",VLOOKUP($L133,'1_Metas_Resultados'!$D$4:$E$403,2,FALSE)))","v":"Sin Registrar"},{"$f":"IF(ISERROR(VLOOKUP(G133,'1_Metas_Resultados'!$D$4:$I$403,6,FALSE)),\"\",VLOOKUP(G133,'1_Metas_Resultados'!$D$4:$I$403,6,FALSE))","v":""}]
[{"$f":"IF(ISERROR(CONCATENATE($S134,\".\",VLOOKUP($G134,'1_Metas_Resultados'!$D$4:$E$403,2,FALSE))),\"Sin Registrar\",CONCATENATE($S134,\".\",VLOOKUP($G134,'1_Metas_Resultados'!$D$4:$E$403,2,FALSE)))","v":"Sin Registrar"},133," ",{"$f":"IF(ISERROR(CONCATENATE($S134,\".\",VLOOKUP($K134,'1_Metas_Resultados'!$D$4:$E$403,2,FALSE))),\"Sin Registrar\",CONCATENATE($S134,\".\",VLOOKUP($K134,'1_Metas_Resultados'!$D$4:$E$403,2,FALSE)))","v":"Sin Registrar"},{"$f":"IF(ISERROR(CONCATENATE($S134,\".\",VLOOKUP($L134,'1_Metas_Resultados'!$D$4:$E$403,2,FALSE))),\"Sin Registrar\",CONCATENATE($S134,\".\",VLOOKUP($L134,'1_Metas_Resultados'!$D$4:$E$403,2,FALSE)))","v":"Sin Registrar"},{"$f":"IF(ISERROR(VLOOKUP(G134,'1_Metas_Resultados'!$D$4:$I$403,6,FALSE)),\"\",VLOOKUP(G134,'1_Metas_Resultados'!$D$4:$I$403,6,FALSE))","v":""}]
[{"$f":"IF(ISERROR(CONCATENATE($S135,\".\",VLOOKUP($G135,'1_Metas_Resultados'!$D$4:$E$403,2,FALSE))),\"Sin Registrar\",CONCATENATE($S135,\".\",VLOOKUP($G135,'1_Metas_Resultados'!$D$4:$E$403,2,FALSE)))","v":"Sin Registrar"},134," ",{"$f":"IF(ISERROR(CONCATENATE($S135,\".\",VLOOKUP($K135,'1_Metas_Resultados'!$D$4:$E$403,2,FALSE))),\"Sin Registrar\",CONCATENATE($S135,\".\",VLOOKUP($K135,'1_Metas_Resultados'!$D$4:$E$403,2,FALSE)))","v":"Sin Registrar"},{"$f":"IF(ISERROR(CONCATENATE($S135,\".\",VLOOKUP($L135,'1_Metas_Resultados'!$D$4:$E$403,2,FALSE))),\"Sin Registrar\",CONCATENATE($S135,\".\",VLOOKUP($L135,'1_Metas_Resultados'!$D$4:$E$403,2,FALSE)))","v":"Sin Registrar"},{"$f":"IF(ISERROR(VLOOKUP(G135,'1_Metas_Resultados'!$D$4:$I$403,6,FALSE)),\"\",VLOOKUP(G135,'1_Metas_Resultados'!$D$4:$I$403,6,FALSE))","v":""}]
[{"$f":"IF(ISERROR(CONCATENATE($S136,\".\",VLOOKUP($G136,'1_Metas_Resultados'!$D$4:$E$403,2,FALSE))),\"Sin Registrar\",CONCATENATE($S136,\".\",VLOOKUP($G136,'1_Metas_Resultados'!$D$4:$E$403,2,FALSE)))","v":"Sin Registrar"},135," ",{"$f":"IF(ISERROR(CONCATENATE($S136,\".\",VLOOKUP($K136,'1_Metas_Resultados'!$D$4:$E$403,2,FALSE))),\"Sin Registrar\",CONCATENATE($S136,\".\",VLOOKUP($K136,'1_Metas_Resultados'!$D$4:$E$403,2,FALSE)))","v":"Sin Registrar"},{"$f":"IF(ISERROR(CONCATENATE($S136,\".\",VLOOKUP($L136,'1_Metas_Resultados'!$D$4:$E$403,2,FALSE))),\"Sin Registrar\",CONCATENATE($S136,\".\",VLOOKUP($L136,'1_Metas_Resultados'!$D$4:$E$403,2,FALSE)))","v":"Sin Registrar"},{"$f":"IF(ISERROR(VLOOKUP(G136,'1_Metas_Resultados'!$D$4:$I$403,6,FALSE)),\"\",VLOOKUP(G136,'1_Metas_Resultados'!$D$4:$I$403,6,FALSE))","v":""}]
[{"$f":"IF(ISERROR(CONCATENATE($S137,\".\",VLOOKUP($G137,'1_Metas_Resultados'!$D$4:$E$403,2,FALSE))),\"Sin Registrar\",CONCATENATE($S137,\".\",VLOOKUP($G137,'1_Metas_Resultados'!$D$4:$E$403,2,FALSE)))","v":"Sin Registrar"},136," ",{"$f":"IF(ISERROR(CONCATENATE($S137,\".\",VLOOKUP($K137,'1_Metas_Resultados'!$D$4:$E$403,2,FALSE))),\"Sin Registrar\",CONCATENATE($S137,\".\",VLOOKUP($K137,'1_Metas_Resultados'!$D$4:$E$403,2,FALSE)))","v":"Sin Registrar"},{"$f":"IF(ISERROR(CONCATENATE($S137,\".\",VLOOKUP($L137,'1_Metas_Resultados'!$D$4:$E$403,2,FALSE))),\"Sin Registrar\",CONCATENATE($S137,\".\",VLOOKUP($L137,'1_Metas_Resultados'!$D$4:$E$403,2,FALSE)))","v":"Sin Registrar"},{"$f":"IF(ISERROR(VLOOKUP(G137,'1_Metas_Resultados'!$D$4:$I$403,6,FALSE)),\"\",VLOOKUP(G137,'1_Metas_Resultados'!$D$4:$I$403,6,FALSE))","v":""}]
[{"$f":"IF(ISERROR(CONCATENATE($S138,\".\",VLOOKUP($G138,'1_Metas_Resultados'!$D$4:$E$403,2,FALSE))),\"Sin Registrar\",CONCATENATE($S138,\".\",VLOOKUP($G138,'1_Metas_Resultados'!$D$4:$E$403,2,FALSE)))","v":"Sin Registrar"},137," ",{"$f":"IF(ISERROR(CONCATENATE($S138,\".\",VLOOKUP($K138,'1_Metas_Resultados'!$D$4:$E$403,2,FALSE))),\"Sin Registrar\",CONCATENATE($S138,\".\",VLOOKUP($K138,'1_Metas_Resultados'!$D$4:$E$403,2,FALSE)))","v":"Sin Registrar"},{"$f":"IF(ISERROR(CONCATENATE($S138,\".\",VLOOKUP($L138,'1_Metas_Resultados'!$D$4:$E$403,2,FALSE))),\"Sin Registrar\",CONCATENATE($S138,\".\",VLOOKUP($L138,'1_Metas_Resultados'!$D$4:$E$403,2,FALSE)))","v":"Sin Registrar"},{"$f":"IF(ISERROR(VLOOKUP(G138,'1_Metas_Resultados'!$D$4:$I$403,6,FALSE)),\"\",VLOOKUP(G138,'1_Metas_Resultados'!$D$4:$I$403,6,FALSE))","v":""}]
[{"$f":"IF(ISERROR(CONCATENATE($S139,\".\",VLOOKUP($G139,'1_Metas_Resultados'!$D$4:$E$403,2,FALSE))),\"Sin Registrar\",CONCATENATE($S139,\".\",VLOOKUP($G139,'1_Metas_Resultados'!$D$4:$E$403,2,FALSE)))","v":"Sin Registrar"},138," ",{"$f":"IF(ISERROR(CONCATENATE($S139,\".\",VLOOKUP($K139,'1_Metas_Resultados'!$D$4:$E$403,2,FALSE))),\"Sin Registrar\",CONCATENATE($S139,\".\",VLOOKUP($K139,'1_Metas_Resultados'!$D$4:$E$403,2,FALSE)))","v":"Sin Registrar"},{"$f":"IF(ISERROR(CONCATENATE($S139,\".\",VLOOKUP($L139,'1_Metas_Resultados'!$D$4:$E$403,2,FALSE))),\"Sin Registrar\",CONCATENATE($S139,\".\",VLOOKUP($L139,'1_Metas_Resultados'!$D$4:$E$403,2,FALSE)))","v":"Sin Registrar"},{"$f":"IF(ISERROR(VLOOKUP(G139,'1_Metas_Resultados'!$D$4:$I$403,6,FALSE)),\"\",VLOOKUP(G139,'1_Metas_Resultados'!$D$4:$I$403,6,FALSE))","v":""}]
[{"$f":"IF(ISERROR(CONCATENATE($S140,\".\",VLOOKUP($G140,'1_Metas_Resultados'!$D$4:$E$403,2,FALSE))),\"Sin Registrar\",CONCATENATE($S140,\".\",VLOOKUP($G140,'1_Metas_Resultados'!$D$4:$E$403,2,FALSE)))","v":"Sin Registrar"},139," ",{"$f":"IF(ISERROR(CONCATENATE($S140,\".\",VLOOKUP($K140,'1_Metas_Resultados'!$D$4:$E$403,2,FALSE))),\"Sin Registrar\",CONCATENATE($S140,\".\",VLOOKUP($K140,'1_Metas_Resultados'!$D$4:$E$403,2,FALSE)))","v":"Sin Registrar"},{"$f":"IF(ISERROR(CONCATENATE($S140,\".\",VLOOKUP($L140,'1_Metas_Resultados'!$D$4:$E$403,2,FALSE))),\"Sin Registrar\",CONCATENATE($S140,\".\",VLOOKUP($L140,'1_Metas_Resultados'!$D$4:$E$403,2,FALSE)))","v":"Sin Registrar"},{"$f":"IF(ISERROR(VLOOKUP(G140,'1_Metas_Resultados'!$D$4:$I$403,6,FALSE)),\"\",VLOOKUP(G140,'1_Metas_Resultados'!$D$4:$I$403,6,FALSE))","v":""}]
[{"$f":"IF(ISERROR(CONCATENATE($S141,\".\",VLOOKUP($G141,'1_Metas_Resultados'!$D$4:$E$403,2,FALSE))),\"Sin Registrar\",CONCATENATE($S141,\".\",VLOOKUP($G141,'1_Metas_Resultados'!$D$4:$E$403,2,FALSE)))","v":"Sin Registrar"},140," ",{"$f":"IF(ISERROR(CONCATENATE($S141,\".\",VLOOKUP($K141,'1_Metas_Resultados'!$D$4:$E$403,2,FALSE))),\"Sin Registrar\",CONCATENATE($S141,\".\",VLOOKUP($K141,'1_Metas_Resultados'!$D$4:$E$403,2,FALSE)))","v":"Sin Registrar"},{"$f":"IF(ISERROR(CONCATENATE($S141,\".\",VLOOKUP($L141,'1_Metas_Resultados'!$D$4:$E$403,2,FALSE))),\"Sin Registrar\",CONCATENATE($S141,\".\",VLOOKUP($L141,'1_Metas_Resultados'!$D$4:$E$403,2,FALSE)))","v":"Sin Registrar"},{"$f":"IF(ISERROR(VLOOKUP(G141,'1_Metas_Resultados'!$D$4:$I$403,6,FALSE)),\"\",VLOOKUP(G141,'1_Metas_Resultados'!$D$4:$I$403,6,FALSE))","v":""}]
[{"$f":"IF(ISERROR(CONCATENATE($S142,\".\",VLOOKUP($G142,'1_Metas_Resultados'!$D$4:$E$403,2,FALSE))),\"Sin Registrar\",CONCATENATE($S142,\".\",VLOOKUP($G142,'1_Metas_Resultados'!$D$4:$E$403,2,FALSE)))","v":"Sin Registrar"},141," ",{"$f":"IF(ISERROR(CONCATENATE($S142,\".\",VLOOKUP($K142,'1_Metas_Resultados'!$D$4:$E$403,2,FALSE))),\"Sin Registrar\",CONCATENATE($S142,\".\",VLOOKUP($K142,'1_Metas_Resultados'!$D$4:$E$403,2,FALSE)))","v":"Sin Registrar"},{"$f":"IF(ISERROR(CONCATENATE($S142,\".\",VLOOKUP($L142,'1_Metas_Resultados'!$D$4:$E$403,2,FALSE))),\"Sin Registrar\",CONCATENATE($S142,\".\",VLOOKUP($L142,'1_Metas_Resultados'!$D$4:$E$403,2,FALSE)))","v":"Sin Registrar"},{"$f":"IF(ISERROR(VLOOKUP(G142,'1_Metas_Resultados'!$D$4:$I$403,6,FALSE)),\"\",VLOOKUP(G142,'1_Metas_Resultados'!$D$4:$I$403,6,FALSE))","v":""}]
[{"$f":"IF(ISERROR(CONCATENATE($S143,\".\",VLOOKUP($G143,'1_Metas_Resultados'!$D$4:$E$403,2,FALSE))),\"Sin Registrar\",CONCATENATE($S143,\".\",VLOOKUP($G143,'1_Metas_Resultados'!$D$4:$E$403,2,FALSE)))","v":"Sin Registrar"},142," ",{"$f":"IF(ISERROR(CONCATENATE($S143,\".\",VLOOKUP($K143,'1_Metas_Resultados'!$D$4:$E$403,2,FALSE))),\"Sin Registrar\",CONCATENATE($S143,\".\",VLOOKUP($K143,'1_Metas_Resultados'!$D$4:$E$403,2,FALSE)))","v":"Sin Registrar"},{"$f":"IF(ISERROR(CONCATENATE($S143,\".\",VLOOKUP($L143,'1_Metas_Resultados'!$D$4:$E$403,2,FALSE))),\"Sin Registrar\",CONCATENATE($S143,\".\",VLOOKUP($L143,'1_Metas_Resultados'!$D$4:$E$403,2,FALSE)))","v":"Sin Registrar"},{"$f":"IF(ISERROR(VLOOKUP(G143,'1_Metas_Resultados'!$D$4:$I$403,6,FALSE)),\"\",VLOOKUP(G143,'1_Metas_Resultados'!$D$4:$I$403,6,FALSE))","v":""}]
[{"$f":"IF(ISERROR(CONCATENATE($S144,\".\",VLOOKUP($G144,'1_Metas_Resultados'!$D$4:$E$403,2,FALSE))),\"Sin Registrar\",CONCATENATE($S144,\".\",VLOOKUP($G144,'1_Metas_Resultados'!$D$4:$E$403,2,FALSE)))","v":"Sin Registrar"},143," ",{"$f":"IF(ISERROR(CONCATENATE($S144,\".\",VLOOKUP($K144,'1_Metas_Resultados'!$D$4:$E$403,2,FALSE))),\"Sin Registrar\",CONCATENATE($S144,\".\",VLOOKUP($K144,'1_Metas_Resultados'!$D$4:$E$403,2,FALSE)))","v":"Sin Registrar"},{"$f":"IF(ISERROR(CONCATENATE($S144,\".\",VLOOKUP($L144,'1_Metas_Resultados'!$D$4:$E$403,2,FALSE))),\"Sin Registrar\",CONCATENATE($S144,\".\",VLOOKUP($L144,'1_Metas_Resultados'!$D$4:$E$403,2,FALSE)))","v":"Sin Registrar"},{"$f":"IF(ISERROR(VLOOKUP(G144,'1_Metas_Resultados'!$D$4:$I$403,6,FALSE)),\"\",VLOOKUP(G144,'1_Metas_Resultados'!$D$4:$I$403,6,FALSE))","v":""}]
[{"$f":"IF(ISERROR(CONCATENATE($S145,\".\",VLOOKUP($G145,'1_Metas_Resultados'!$D$4:$E$403,2,FALSE))),\"Sin Registrar\",CONCATENATE($S145,\".\",VLOOKUP($G145,'1_Metas_Resultados'!$D$4:$E$403,2,FALSE)))","v":"Sin Registrar"},144," ",{"$f":"IF(ISERROR(CONCATENATE($S145,\".\",VLOOKUP($K145,'1_Metas_Resultados'!$D$4:$E$403,2,FALSE))),\"Sin Registrar\",CONCATENATE($S145,\".\",VLOOKUP($K145,'1_Metas_Resultados'!$D$4:$E$403,2,FALSE)))","v":"Sin Registrar"},{"$f":"IF(ISERROR(CONCATENATE($S145,\".\",VLOOKUP($L145,'1_Metas_Resultados'!$D$4:$E$403,2,FALSE))),\"Sin Registrar\",CONCATENATE($S145,\".\",VLOOKUP($L145,'1_Metas_Resultados'!$D$4:$E$403,2,FALSE)))","v":"Sin Registrar"},{"$f":"IF(ISERROR(VLOOKUP(G145,'1_Metas_Resultados'!$D$4:$I$403,6,FALSE)),\"\",VLOOKUP(G145,'1_Metas_Resultados'!$D$4:$I$403,6,FALSE))","v":""}]
[{"$f":"IF(ISERROR(CONCATENATE($S146,\".\",VLOOKUP($G146,'1_Metas_Resultados'!$D$4:$E$403,2,FALSE))),\"Sin Registrar\",CONCATENATE($S146,\".\",VLOOKUP($G146,'1_Metas_Resultados'!$D$4:$E$403,2,FALSE)))","v":"Sin Registrar"},145," ",{"$f":"IF(ISERROR(CONCATENATE($S146,\".\",VLOOKUP($K146,'1_Metas_Resultados'!$D$4:$E$403,2,FALSE))),\"Sin Registrar\",CONCATENATE($S146,\".\",VLOOKUP($K146,'1_Metas_Resultados'!$D$4:$E$403,2,FALSE)))","v":"Sin Registrar"},{"$f":"IF(ISERROR(CONCATENATE($S146,\".\",VLOOKUP($L146,'1_Metas_Resultados'!$D$4:$E$403,2,FALSE))),\"Sin Registrar\",CONCATENATE($S146,\".\",VLOOKUP($L146,'1_Metas_Resultados'!$D$4:$E$403,2,FALSE)))","v":"Sin Registrar"},{"$f":"IF(ISERROR(VLOOKUP(G146,'1_Metas_Resultados'!$D$4:$I$403,6,FALSE)),\"\",VLOOKUP(G146,'1_Metas_Resultados'!$D$4:$I$403,6,FALSE))","v":""}]
[{"$f":"IF(ISERROR(CONCATENATE($S147,\".\",VLOOKUP($G147,'1_Metas_Resultados'!$D$4:$E$403,2,FALSE))),\"Sin Registrar\",CONCATENATE($S147,\".\",VLOOKUP($G147,'1_Metas_Resultados'!$D$4:$E$403,2,FALSE)))","v":"Sin Registrar"},146," ",{"$f":"IF(ISERROR(CONCATENATE($S147,\".\",VLOOKUP($K147,'1_Metas_Resultados'!$D$4:$E$403,2,FALSE))),\"Sin Registrar\",CONCATENATE($S147,\".\",VLOOKUP($K147,'1_Metas_Resultados'!$D$4:$E$403,2,FALSE)))","v":"Sin Registrar"},{"$f":"IF(ISERROR(CONCATENATE($S147,\".\",VLOOKUP($L147,'1_Metas_Resultados'!$D$4:$E$403,2,FALSE))),\"Sin Registrar\",CONCATENATE($S147,\".\",VLOOKUP($L147,'1_Metas_Resultados'!$D$4:$E$403,2,FALSE)))","v":"Sin Registrar"},{"$f":"IF(ISERROR(VLOOKUP(G147,'1_Metas_Resultados'!$D$4:$I$403,6,FALSE)),\"\",VLOOKUP(G147,'1_Metas_Resultados'!$D$4:$I$403,6,FALSE))","v":""}]
[{"$f":"IF(ISERROR(CONCATENATE($S148,\".\",VLOOKUP($G148,'1_Metas_Resultados'!$D$4:$E$403,2,FALSE))),\"Sin Registrar\",CONCATENATE($S148,\".\",VLOOKUP($G148,'1_Metas_Resultados'!$D$4:$E$403,2,FALSE)))","v":"Sin Registrar"},147," ",{"$f":"IF(ISERROR(CONCATENATE($S148,\".\",VLOOKUP($K148,'1_Metas_Resultados'!$D$4:$E$403,2,FALSE))),\"Sin Registrar\",CONCATENATE($S148,\".\",VLOOKUP($K148,'1_Metas_Resultados'!$D$4:$E$403,2,FALSE)))","v":"Sin Registrar"},{"$f":"IF(ISERROR(CONCATENATE($S148,\".\",VLOOKUP($L148,'1_Metas_Resultados'!$D$4:$E$403,2,FALSE))),\"Sin Registrar\",CONCATENATE($S148,\".\",VLOOKUP($L148,'1_Metas_Resultados'!$D$4:$E$403,2,FALSE)))","v":"Sin Registrar"},{"$f":"IF(ISERROR(VLOOKUP(G148,'1_Metas_Resultados'!$D$4:$I$403,6,FALSE)),\"\",VLOOKUP(G148,'1_Metas_Resultados'!$D$4:$I$403,6,FALSE))","v":""}]
[{"$f":"IF(ISERROR(CONCATENATE($S149,\".\",VLOOKUP($G149,'1_Metas_Resultados'!$D$4:$E$403,2,FALSE))),\"Sin Registrar\",CONCATENATE($S149,\".\",VLOOKUP($G149,'1_Metas_Resultados'!$D$4:$E$403,2,FALSE)))","v":"Sin Registrar"},148," ",{"$f":"IF(ISERROR(CONCATENATE($S149,\".\",VLOOKUP($K149,'1_Metas_Resultados'!$D$4:$E$403,2,FALSE))),\"Sin Registrar\",CONCATENATE($S149,\".\",VLOOKUP($K149,'1_Metas_Resultados'!$D$4:$E$403,2,FALSE)))","v":"Sin Registrar"},{"$f":"IF(ISERROR(CONCATENATE($S149,\".\",VLOOKUP($L149,'1_Metas_Resultados'!$D$4:$E$403,2,FALSE))),\"Sin Registrar\",CONCATENATE($S149,\".\",VLOOKUP($L149,'1_Metas_Resultados'!$D$4:$E$403,2,FALSE)))","v":"Sin Registrar"},{"$f":"IF(ISERROR(VLOOKUP(G149,'1_Metas_Resultados'!$D$4:$I$403,6,FALSE)),\"\",VLOOKUP(G149,'1_Metas_Resultados'!$D$4:$I$403,6,FALSE))","v":""}]
[{"$f":"IF(ISERROR(CONCATENATE($S150,\".\",VLOOKUP($G150,'1_Metas_Resultados'!$D$4:$E$403,2,FALSE))),\"Sin Registrar\",CONCATENATE($S150,\".\",VLOOKUP($G150,'1_Metas_Resultados'!$D$4:$E$403,2,FALSE)))","v":"Sin Registrar"},149," ",{"$f":"IF(ISERROR(CONCATENATE($S150,\".\",VLOOKUP($K150,'1_Metas_Resultados'!$D$4:$E$403,2,FALSE))),\"Sin Registrar\",CONCATENATE($S150,\".\",VLOOKUP($K150,'1_Metas_Resultados'!$D$4:$E$403,2,FALSE)))","v":"Sin Registrar"},{"$f":"IF(ISERROR(CONCATENATE($S150,\".\",VLOOKUP($L150,'1_Metas_Resultados'!$D$4:$E$403,2,FALSE))),\"Sin Registrar\",CONCATENATE($S150,\".\",VLOOKUP($L150,'1_Metas_Resultados'!$D$4:$E$403,2,FALSE)))","v":"Sin Registrar"},{"$f":"IF(ISERROR(VLOOKUP(G150,'1_Metas_Resultados'!$D$4:$I$403,6,FALSE)),\"\",VLOOKUP(G150,'1_Metas_Resultados'!$D$4:$I$403,6,FALSE))","v":""}]
[{"$f":"IF(ISERROR(CONCATENATE($S151,\".\",VLOOKUP($G151,'1_Metas_Resultados'!$D$4:$E$403,2,FALSE))),\"Sin Registrar\",CONCATENATE($S151,\".\",VLOOKUP($G151,'1_Metas_Resultados'!$D$4:$E$403,2,FALSE)))","v":"Sin Registrar"},150," ",{"$f":"IF(ISERROR(CONCATENATE($S151,\".\",VLOOKUP($K151,'1_Metas_Resultados'!$D$4:$E$403,2,FALSE))),\"Sin Registrar\",CONCATENATE($S151,\".\",VLOOKUP($K151,'1_Metas_Resultados'!$D$4:$E$403,2,FALSE)))","v":"Sin Registrar"},{"$f":"IF(ISERROR(CONCATENATE($S151,\".\",VLOOKUP($L151,'1_Metas_Resultados'!$D$4:$E$403,2,FALSE))),\"Sin Registrar\",CONCATENATE($S151,\".\",VLOOKUP($L151,'1_Metas_Resultados'!$D$4:$E$403,2,FALSE)))","v":"Sin Registrar"},{"$f":"IF(ISERROR(VLOOKUP(G151,'1_Metas_Resultados'!$D$4:$I$403,6,FALSE)),\"\",VLOOKUP(G151,'1_Metas_Resultados'!$D$4:$I$403,6,FALSE))","v":""}]
[{"$f":"IF(ISERROR(CONCATENATE($S152,\".\",VLOOKUP($G152,'1_Metas_Resultados'!$D$4:$E$403,2,FALSE))),\"Sin Registrar\",CONCATENATE($S152,\".\",VLOOKUP($G152,'1_Metas_Resultados'!$D$4:$E$403,2,FALSE)))","v":"Sin Registrar"},151," ",{"$f":"IF(ISERROR(CONCATENATE($S152,\".\",VLOOKUP($K152,'1_Metas_Resultados'!$D$4:$E$403,2,FALSE))),\"Sin Registrar\",CONCATENATE($S152,\".\",VLOOKUP($K152,'1_Metas_Resultados'!$D$4:$E$403,2,FALSE)))","v":"Sin Registrar"},{"$f":"IF(ISERROR(CONCATENATE($S152,\".\",VLOOKUP($L152,'1_Metas_Resultados'!$D$4:$E$403,2,FALSE))),\"Sin Registrar\",CONCATENATE($S152,\".\",VLOOKUP($L152,'1_Metas_Resultados'!$D$4:$E$403,2,FALSE)))","v":"Sin Registrar"},{"$f":"IF(ISERROR(VLOOKUP(G152,'1_Metas_Resultados'!$D$4:$I$403,6,FALSE)),\"\",VLOOKUP(G152,'1_Metas_Resultados'!$D$4:$I$403,6,FALSE))","v":""}]
[{"$f":"IF(ISERROR(CONCATENATE($S153,\".\",VLOOKUP($G153,'1_Metas_Resultados'!$D$4:$E$403,2,FALSE))),\"Sin Registrar\",CONCATENATE($S153,\".\",VLOOKUP($G153,'1_Metas_Resultados'!$D$4:$E$403,2,FALSE)))","v":"Sin Registrar"},152," ",{"$f":"IF(ISERROR(CONCATENATE($S153,\".\",VLOOKUP($K153,'1_Metas_Resultados'!$D$4:$E$403,2,FALSE))),\"Sin Registrar\",CONCATENATE($S153,\".\",VLOOKUP($K153,'1_Metas_Resultados'!$D$4:$E$403,2,FALSE)))","v":"Sin Registrar"},{"$f":"IF(ISERROR(CONCATENATE($S153,\".\",VLOOKUP($L153,'1_Metas_Resultados'!$D$4:$E$403,2,FALSE))),\"Sin Registrar\",CONCATENATE($S153,\".\",VLOOKUP($L153,'1_Metas_Resultados'!$D$4:$E$403,2,FALSE)))","v":"Sin Registrar"},{"$f":"IF(ISERROR(VLOOKUP(G153,'1_Metas_Resultados'!$D$4:$I$403,6,FALSE)),\"\",VLOOKUP(G153,'1_Metas_Resultados'!$D$4:$I$403,6,FALSE))","v":""}]
[{"$f":"IF(ISERROR(CONCATENATE($S154,\".\",VLOOKUP($G154,'1_Metas_Resultados'!$D$4:$E$403,2,FALSE))),\"Sin Registrar\",CONCATENATE($S154,\".\",VLOOKUP($G154,'1_Metas_Resultados'!$D$4:$E$403,2,FALSE)))","v":"Sin Registrar"},153," ",{"$f":"IF(ISERROR(CONCATENATE($S154,\".\",VLOOKUP($K154,'1_Metas_Resultados'!$D$4:$E$403,2,FALSE))),\"Sin Registrar\",CONCATENATE($S154,\".\",VLOOKUP($K154,'1_Metas_Resultados'!$D$4:$E$403,2,FALSE)))","v":"Sin Registrar"},{"$f":"IF(ISERROR(CONCATENATE($S154,\".\",VLOOKUP($L154,'1_Metas_Resultados'!$D$4:$E$403,2,FALSE))),\"Sin Registrar\",CONCATENATE($S154,\".\",VLOOKUP($L154,'1_Metas_Resultados'!$D$4:$E$403,2,FALSE)))","v":"Sin Registrar"},{"$f":"IF(ISERROR(VLOOKUP(G154,'1_Metas_Resultados'!$D$4:$I$403,6,FALSE)),\"\",VLOOKUP(G154,'1_Metas_Resultados'!$D$4:$I$403,6,FALSE))","v":""}]
[{"$f":"IF(ISERROR(CONCATENATE($S155,\".\",VLOOKUP($G155,'1_Metas_Resultados'!$D$4:$E$403,2,FALSE))),\"Sin Registrar\",CONCATENATE($S155,\".\",VLOOKUP($G155,'1_Metas_Resultados'!$D$4:$E$403,2,FALSE)))","v":"Sin Registrar"},154," ",{"$f":"IF(ISERROR(CONCATENATE($S155,\".\",VLOOKUP($K155,'1_Metas_Resultados'!$D$4:$E$403,2,FALSE))),\"Sin Registrar\",CONCATENATE($S155,\".\",VLOOKUP($K155,'1_Metas_Resultados'!$D$4:$E$403,2,FALSE)))","v":"Sin Registrar"},{"$f":"IF(ISERROR(CONCATENATE($S155,\".\",VLOOKUP($L155,'1_Metas_Resultados'!$D$4:$E$403,2,FALSE))),\"Sin Registrar\",CONCATENATE($S155,\".\",VLOOKUP($L155,'1_Metas_Resultados'!$D$4:$E$403,2,FALSE)))","v":"Sin Registrar"},{"$f":"IF(ISERROR(VLOOKUP(G155,'1_Metas_Resultados'!$D$4:$I$403,6,FALSE)),\"\",VLOOKUP(G155,'1_Metas_Resultados'!$D$4:$I$403,6,FALSE))","v":""}]
[{"$f":"IF(ISERROR(CONCATENATE($S156,\".\",VLOOKUP($G156,'1_Metas_Resultados'!$D$4:$E$403,2,FALSE))),\"Sin Registrar\",CONCATENATE($S156,\".\",VLOOKUP($G156,'1_Metas_Resultados'!$D$4:$E$403,2,FALSE)))","v":"Sin Registrar"},155," ",{"$f":"IF(ISERROR(CONCATENATE($S156,\".\",VLOOKUP($K156,'1_Metas_Resultados'!$D$4:$E$403,2,FALSE))),\"Sin Registrar\",CONCATENATE($S156,\".\",VLOOKUP($K156,'1_Metas_Resultados'!$D$4:$E$403,2,FALSE)))","v":"Sin Registrar"},{"$f":"IF(ISERROR(CONCATENATE($S156,\".\",VLOOKUP($L156,'1_Metas_Resultados'!$D$4:$E$403,2,FALSE))),\"Sin Registrar\",CONCATENATE($S156,\".\",VLOOKUP($L156,'1_Metas_Resultados'!$D$4:$E$403,2,FALSE)))","v":"Sin Registrar"},{"$f":"IF(ISERROR(VLOOKUP(G156,'1_Metas_Resultados'!$D$4:$I$403,6,FALSE)),\"\",VLOOKUP(G156,'1_Metas_Resultados'!$D$4:$I$403,6,FALSE))","v":""}]
[{"$f":"IF(ISERROR(CONCATENATE($S157,\".\",VLOOKUP($G157,'1_Metas_Resultados'!$D$4:$E$403,2,FALSE))),\"Sin Registrar\",CONCATENATE($S157,\".\",VLOOKUP($G157,'1_Metas_Resultados'!$D$4:$E$403,2,FALSE)))","v":"Sin Registrar"},156," ",{"$f":"IF(ISERROR(CONCATENATE($S157,\".\",VLOOKUP($K157,'1_Metas_Resultados'!$D$4:$E$403,2,FALSE))),\"Sin Registrar\",CONCATENATE($S157,\".\",VLOOKUP($K157,'1_Metas_Resultados'!$D$4:$E$403,2,FALSE)))","v":"Sin Registrar"},{"$f":"IF(ISERROR(CONCATENATE($S157,\".\",VLOOKUP($L157,'1_Metas_Resultados'!$D$4:$E$403,2,FALSE))),\"Sin Registrar\",CONCATENATE($S157,\".\",VLOOKUP($L157,'1_Metas_Resultados'!$D$4:$E$403,2,FALSE)))","v":"Sin Registrar"},{"$f":"IF(ISERROR(VLOOKUP(G157,'1_Metas_Resultados'!$D$4:$I$403,6,FALSE)),\"\",VLOOKUP(G157,'1_Metas_Resultados'!$D$4:$I$403,6,FALSE))","v":""}]
[{"$f":"IF(ISERROR(CONCATENATE($S158,\".\",VLOOKUP($G158,'1_Metas_Resultados'!$D$4:$E$403,2,FALSE))),\"Sin Registrar\",CONCATENATE($S158,\".\",VLOOKUP($G158,'1_Metas_Resultados'!$D$4:$E$403,2,FALSE)))","v":"Sin Registrar"},157," ",{"$f":"IF(ISERROR(CONCATENATE($S158,\".\",VLOOKUP($K158,'1_Metas_Resultados'!$D$4:$E$403,2,FALSE))),\"Sin Registrar\",CONCATENATE($S158,\".\",VLOOKUP($K158,'1_Metas_Resultados'!$D$4:$E$403,2,FALSE)))","v":"Sin Registrar"},{"$f":"IF(ISERROR(CONCATENATE($S158,\".\",VLOOKUP($L158,'1_Metas_Resultados'!$D$4:$E$403,2,FALSE))),\"Sin Registrar\",CONCATENATE($S158,\".\",VLOOKUP($L158,'1_Metas_Resultados'!$D$4:$E$403,2,FALSE)))","v":"Sin Registrar"},{"$f":"IF(ISERROR(VLOOKUP(G158,'1_Metas_Resultados'!$D$4:$I$403,6,FALSE)),\"\",VLOOKUP(G158,'1_Metas_Resultados'!$D$4:$I$403,6,FALSE))","v":""}]
[{"$f":"IF(ISERROR(CONCATENATE($S159,\".\",VLOOKUP($G159,'1_Metas_Resultados'!$D$4:$E$403,2,FALSE))),\"Sin Registrar\",CONCATENATE($S159,\".\",VLOOKUP($G159,'1_Metas_Resultados'!$D$4:$E$403,2,FALSE)))","v":"Sin Registrar"},158," ",{"$f":"IF(ISERROR(CONCATENATE($S159,\".\",VLOOKUP($K159,'1_Metas_Resultados'!$D$4:$E$403,2,FALSE))),\"Sin Registrar\",CONCATENATE($S159,\".\",VLOOKUP($K159,'1_Metas_Resultados'!$D$4:$E$403,2,FALSE)))","v":"Sin Registrar"},{"$f":"IF(ISERROR(CONCATENATE($S159,\".\",VLOOKUP($L159,'1_Metas_Resultados'!$D$4:$E$403,2,FALSE))),\"Sin Registrar\",CONCATENATE($S159,\".\",VLOOKUP($L159,'1_Metas_Resultados'!$D$4:$E$403,2,FALSE)))","v":"Sin Registrar"},{"$f":"IF(ISERROR(VLOOKUP(G159,'1_Metas_Resultados'!$D$4:$I$403,6,FALSE)),\"\",VLOOKUP(G159,'1_Metas_Resultados'!$D$4:$I$403,6,FALSE))","v":""}]
[{"$f":"IF(ISERROR(CONCATENATE($S160,\".\",VLOOKUP($G160,'1_Metas_Resultados'!$D$4:$E$403,2,FALSE))),\"Sin Registrar\",CONCATENATE($S160,\".\",VLOOKUP($G160,'1_Metas_Resultados'!$D$4:$E$403,2,FALSE)))","v":"Sin Registrar"},159," ",{"$f":"IF(ISERROR(CONCATENATE($S160,\".\",VLOOKUP($K160,'1_Metas_Resultados'!$D$4:$E$403,2,FALSE))),\"Sin Registrar\",CONCATENATE($S160,\".\",VLOOKUP($K160,'1_Metas_Resultados'!$D$4:$E$403,2,FALSE)))","v":"Sin Registrar"},{"$f":"IF(ISERROR(CONCATENATE($S160,\".\",VLOOKUP($L160,'1_Metas_Resultados'!$D$4:$E$403,2,FALSE))),\"Sin Registrar\",CONCATENATE($S160,\".\",VLOOKUP($L160,'1_Metas_Resultados'!$D$4:$E$403,2,FALSE)))","v":"Sin Registrar"},{"$f":"IF(ISERROR(VLOOKUP(G160,'1_Metas_Resultados'!$D$4:$I$403,6,FALSE)),\"\",VLOOKUP(G160,'1_Metas_Resultados'!$D$4:$I$403,6,FALSE))","v":""}]
[{"$f":"IF(ISERROR(CONCATENATE($S161,\".\",VLOOKUP($G161,'1_Metas_Resultados'!$D$4:$E$403,2,FALSE))),\"Sin Registrar\",CONCATENATE($S161,\".\",VLOOKUP($G161,'1_Metas_Resultados'!$D$4:$E$403,2,FALSE)))","v":"Sin Registrar"},160," ",{"$f":"IF(ISERROR(CONCATENATE($S161,\".\",VLOOKUP($K161,'1_Metas_Resultados'!$D$4:$E$403,2,FALSE))),\"Sin Registrar\",CONCATENATE($S161,\".\",VLOOKUP($K161,'1_Metas_Resultados'!$D$4:$E$403,2,FALSE)))","v":"Sin Registrar"},{"$f":"IF(ISERROR(CONCATENATE($S161,\".\",VLOOKUP($L161,'1_Metas_Resultados'!$D$4:$E$403,2,FALSE))),\"Sin Registrar\",CONCATENATE($S161,\".\",VLOOKUP($L161,'1_Metas_Resultados'!$D$4:$E$403,2,FALSE)))","v":"Sin Registrar"},{"$f":"IF(ISERROR(VLOOKUP(G161,'1_Metas_Resultados'!$D$4:$I$403,6,FALSE)),\"\",VLOOKUP(G161,'1_Metas_Resultados'!$D$4:$I$403,6,FALSE))","v":""}]
[{"$f":"IF(ISERROR(CONCATENATE($S162,\".\",VLOOKUP($G162,'1_Metas_Resultados'!$D$4:$E$403,2,FALSE))),\"Sin Registrar\",CONCATENATE($S162,\".\",VLOOKUP($G162,'1_Metas_Resultados'!$D$4:$E$403,2,FALSE)))","v":"Sin Registrar"},161," ",{"$f":"IF(ISERROR(CONCATENATE($S162,\".\",VLOOKUP($K162,'1_Metas_Resultados'!$D$4:$E$403,2,FALSE))),\"Sin Registrar\",CONCATENATE($S162,\".\",VLOOKUP($K162,'1_Metas_Resultados'!$D$4:$E$403,2,FALSE)))","v":"Sin Registrar"},{"$f":"IF(ISERROR(CONCATENATE($S162,\".\",VLOOKUP($L162,'1_Metas_Resultados'!$D$4:$E$403,2,FALSE))),\"Sin Registrar\",CONCATENATE($S162,\".\",VLOOKUP($L162,'1_Metas_Resultados'!$D$4:$E$403,2,FALSE)))","v":"Sin Registrar"},{"$f":"IF(ISERROR(VLOOKUP(G162,'1_Metas_Resultados'!$D$4:$I$403,6,FALSE)),\"\",VLOOKUP(G162,'1_Metas_Resultados'!$D$4:$I$403,6,FALSE))","v":""}]
[{"$f":"IF(ISERROR(CONCATENATE($S163,\".\",VLOOKUP($G163,'1_Metas_Resultados'!$D$4:$E$403,2,FALSE))),\"Sin Registrar\",CONCATENATE($S163,\".\",VLOOKUP($G163,'1_Metas_Resultados'!$D$4:$E$403,2,FALSE)))","v":"Sin Registrar"},162," ",{"$f":"IF(ISERROR(CONCATENATE($S163,\".\",VLOOKUP($K163,'1_Metas_Resultados'!$D$4:$E$403,2,FALSE))),\"Sin Registrar\",CONCATENATE($S163,\".\",VLOOKUP($K163,'1_Metas_Resultados'!$D$4:$E$403,2,FALSE)))","v":"Sin Registrar"},{"$f":"IF(ISERROR(CONCATENATE($S163,\".\",VLOOKUP($L163,'1_Metas_Resultados'!$D$4:$E$403,2,FALSE))),\"Sin Registrar\",CONCATENATE($S163,\".\",VLOOKUP($L163,'1_Metas_Resultados'!$D$4:$E$403,2,FALSE)))","v":"Sin Registrar"},{"$f":"IF(ISERROR(VLOOKUP(G163,'1_Metas_Resultados'!$D$4:$I$403,6,FALSE)),\"\",VLOOKUP(G163,'1_Metas_Resultados'!$D$4:$I$403,6,FALSE))","v":""}]
[{"$f":"IF(ISERROR(CONCATENATE($S164,\".\",VLOOKUP($G164,'1_Metas_Resultados'!$D$4:$E$403,2,FALSE))),\"Sin Registrar\",CONCATENATE($S164,\".\",VLOOKUP($G164,'1_Metas_Resultados'!$D$4:$E$403,2,FALSE)))","v":"Sin Registrar"},163," ",{"$f":"IF(ISERROR(CONCATENATE($S164,\".\",VLOOKUP($K164,'1_Metas_Resultados'!$D$4:$E$403,2,FALSE))),\"Sin Registrar\",CONCATENATE($S164,\".\",VLOOKUP($K164,'1_Metas_Resultados'!$D$4:$E$403,2,FALSE)))","v":"Sin Registrar"},{"$f":"IF(ISERROR(CONCATENATE($S164,\".\",VLOOKUP($L164,'1_Metas_Resultados'!$D$4:$E$403,2,FALSE))),\"Sin Registrar\",CONCATENATE($S164,\".\",VLOOKUP($L164,'1_Metas_Resultados'!$D$4:$E$403,2,FALSE)))","v":"Sin Registrar"},{"$f":"IF(ISERROR(VLOOKUP(G164,'1_Metas_Resultados'!$D$4:$I$403,6,FALSE)),\"\",VLOOKUP(G164,'1_Metas_Resultados'!$D$4:$I$403,6,FALSE))","v":""}]
[{"$f":"IF(ISERROR(CONCATENATE($S165,\".\",VLOOKUP($G165,'1_Metas_Resultados'!$D$4:$E$403,2,FALSE))),\"Sin Registrar\",CONCATENATE($S165,\".\",VLOOKUP($G165,'1_Metas_Resultados'!$D$4:$E$403,2,FALSE)))","v":"Sin Registrar"},164," ",{"$f":"IF(ISERROR(CONCATENATE($S165,\".\",VLOOKUP($K165,'1_Metas_Resultados'!$D$4:$E$403,2,FALSE))),\"Sin Registrar\",CONCATENATE($S165,\".\",VLOOKUP($K165,'1_Metas_Resultados'!$D$4:$E$403,2,FALSE)))","v":"Sin Registrar"},{"$f":"IF(ISERROR(CONCATENATE($S165,\".\",VLOOKUP($L165,'1_Metas_Resultados'!$D$4:$E$403,2,FALSE))),\"Sin Registrar\",CONCATENATE($S165,\".\",VLOOKUP($L165,'1_Metas_Resultados'!$D$4:$E$403,2,FALSE)))","v":"Sin Registrar"},{"$f":"IF(ISERROR(VLOOKUP(G165,'1_Metas_Resultados'!$D$4:$I$403,6,FALSE)),\"\",VLOOKUP(G165,'1_Metas_Resultados'!$D$4:$I$403,6,FALSE))","v":""}]
[{"$f":"IF(ISERROR(CONCATENATE($S166,\".\",VLOOKUP($G166,'1_Metas_Resultados'!$D$4:$E$403,2,FALSE))),\"Sin Registrar\",CONCATENATE($S166,\".\",VLOOKUP($G166,'1_Metas_Resultados'!$D$4:$E$403,2,FALSE)))","v":"Sin Registrar"},165," ",{"$f":"IF(ISERROR(CONCATENATE($S166,\".\",VLOOKUP($K166,'1_Metas_Resultados'!$D$4:$E$403,2,FALSE))),\"Sin Registrar\",CONCATENATE($S166,\".\",VLOOKUP($K166,'1_Metas_Resultados'!$D$4:$E$403,2,FALSE)))","v":"Sin Registrar"},{"$f":"IF(ISERROR(CONCATENATE($S166,\".\",VLOOKUP($L166,'1_Metas_Resultados'!$D$4:$E$403,2,FALSE))),\"Sin Registrar\",CONCATENATE($S166,\".\",VLOOKUP($L166,'1_Metas_Resultados'!$D$4:$E$403,2,FALSE)))","v":"Sin Registrar"},{"$f":"IF(ISERROR(VLOOKUP(G166,'1_Metas_Resultados'!$D$4:$I$403,6,FALSE)),\"\",VLOOKUP(G166,'1_Metas_Resultados'!$D$4:$I$403,6,FALSE))","v":""}]
[{"$f":"IF(ISERROR(CONCATENATE($S167,\".\",VLOOKUP($G167,'1_Metas_Resultados'!$D$4:$E$403,2,FALSE))),\"Sin Registrar\",CONCATENATE($S167,\".\",VLOOKUP($G167,'1_Metas_Resultados'!$D$4:$E$403,2,FALSE)))","v":"Sin Registrar"},166," ",{"$f":"IF(ISERROR(CONCATENATE($S167,\".\",VLOOKUP($K167,'1_Metas_Resultados'!$D$4:$E$403,2,FALSE))),\"Sin Registrar\",CONCATENATE($S167,\".\",VLOOKUP($K167,'1_Metas_Resultados'!$D$4:$E$403,2,FALSE)))","v":"Sin Registrar"},{"$f":"IF(ISERROR(CONCATENATE($S167,\".\",VLOOKUP($L167,'1_Metas_Resultados'!$D$4:$E$403,2,FALSE))),\"Sin Registrar\",CONCATENATE($S167,\".\",VLOOKUP($L167,'1_Metas_Resultados'!$D$4:$E$403,2,FALSE)))","v":"Sin Registrar"},{"$f":"IF(ISERROR(VLOOKUP(G167,'1_Metas_Resultados'!$D$4:$I$403,6,FALSE)),\"\",VLOOKUP(G167,'1_Metas_Resultados'!$D$4:$I$403,6,FALSE))","v":""}]
[{"$f":"IF(ISERROR(CONCATENATE($S168,\".\",VLOOKUP($G168,'1_Metas_Resultados'!$D$4:$E$403,2,FALSE))),\"Sin Registrar\",CONCATENATE($S168,\".\",VLOOKUP($G168,'1_Metas_Resultados'!$D$4:$E$403,2,FALSE)))","v":"Sin Registrar"},167," ",{"$f":"IF(ISERROR(CONCATENATE($S168,\".\",VLOOKUP($K168,'1_Metas_Resultados'!$D$4:$E$403,2,FALSE))),\"Sin Registrar\",CONCATENATE($S168,\".\",VLOOKUP($K168,'1_Metas_Resultados'!$D$4:$E$403,2,FALSE)))","v":"Sin Registrar"},{"$f":"IF(ISERROR(CONCATENATE($S168,\".\",VLOOKUP($L168,'1_Metas_Resultados'!$D$4:$E$403,2,FALSE))),\"Sin Registrar\",CONCATENATE($S168,\".\",VLOOKUP($L168,'1_Metas_Resultados'!$D$4:$E$403,2,FALSE)))","v":"Sin Registrar"},{"$f":"IF(ISERROR(VLOOKUP(G168,'1_Metas_Resultados'!$D$4:$I$403,6,FALSE)),\"\",VLOOKUP(G168,'1_Metas_Resultados'!$D$4:$I$403,6,FALSE))","v":""}]
[{"$f":"IF(ISERROR(CONCATENATE($S169,\".\",VLOOKUP($G169,'1_Metas_Resultados'!$D$4:$E$403,2,FALSE))),\"Sin Registrar\",CONCATENATE($S169,\".\",VLOOKUP($G169,'1_Metas_Resultados'!$D$4:$E$403,2,FALSE)))","v":"Sin Registrar"},168," ",{"$f":"IF(ISERROR(CONCATENATE($S169,\".\",VLOOKUP($K169,'1_Metas_Resultados'!$D$4:$E$403,2,FALSE))),\"Sin Registrar\",CONCATENATE($S169,\".\",VLOOKUP($K169,'1_Metas_Resultados'!$D$4:$E$403,2,FALSE)))","v":"Sin Registrar"},{"$f":"IF(ISERROR(CONCATENATE($S169,\".\",VLOOKUP($L169,'1_Metas_Resultados'!$D$4:$E$403,2,FALSE))),\"Sin Registrar\",CONCATENATE($S169,\".\",VLOOKUP($L169,'1_Metas_Resultados'!$D$4:$E$403,2,FALSE)))","v":"Sin Registrar"},{"$f":"IF(ISERROR(VLOOKUP(G169,'1_Metas_Resultados'!$D$4:$I$403,6,FALSE)),\"\",VLOOKUP(G169,'1_Metas_Resultados'!$D$4:$I$403,6,FALSE))","v":""}]
[{"$f":"IF(ISERROR(CONCATENATE($S170,\".\",VLOOKUP($G170,'1_Metas_Resultados'!$D$4:$E$403,2,FALSE))),\"Sin Registrar\",CONCATENATE($S170,\".\",VLOOKUP($G170,'1_Metas_Resultados'!$D$4:$E$403,2,FALSE)))","v":"Sin Registrar"},169," ",{"$f":"IF(ISERROR(CONCATENATE($S170,\".\",VLOOKUP($K170,'1_Metas_Resultados'!$D$4:$E$403,2,FALSE))),\"Sin Registrar\",CONCATENATE($S170,\".\",VLOOKUP($K170,'1_Metas_Resultados'!$D$4:$E$403,2,FALSE)))","v":"Sin Registrar"},{"$f":"IF(ISERROR(CONCATENATE($S170,\".\",VLOOKUP($L170,'1_Metas_Resultados'!$D$4:$E$403,2,FALSE))),\"Sin Registrar\",CONCATENATE($S170,\".\",VLOOKUP($L170,'1_Metas_Resultados'!$D$4:$E$403,2,FALSE)))","v":"Sin Registrar"},{"$f":"IF(ISERROR(VLOOKUP(G170,'1_Metas_Resultados'!$D$4:$I$403,6,FALSE)),\"\",VLOOKUP(G170,'1_Metas_Resultados'!$D$4:$I$403,6,FALSE))","v":""}]
[{"$f":"IF(ISERROR(CONCATENATE($S171,\".\",VLOOKUP($G171,'1_Metas_Resultados'!$D$4:$E$403,2,FALSE))),\"Sin Registrar\",CONCATENATE($S171,\".\",VLOOKUP($G171,'1_Metas_Resultados'!$D$4:$E$403,2,FALSE)))","v":"Sin Registrar"},170," ",{"$f":"IF(ISERROR(CONCATENATE($S171,\".\",VLOOKUP($K171,'1_Metas_Resultados'!$D$4:$E$403,2,FALSE))),\"Sin Registrar\",CONCATENATE($S171,\".\",VLOOKUP($K171,'1_Metas_Resultados'!$D$4:$E$403,2,FALSE)))","v":"Sin Registrar"},{"$f":"IF(ISERROR(CONCATENATE($S171,\".\",VLOOKUP($L171,'1_Metas_Resultados'!$D$4:$E$403,2,FALSE))),\"Sin Registrar\",CONCATENATE($S171,\".\",VLOOKUP($L171,'1_Metas_Resultados'!$D$4:$E$403,2,FALSE)))","v":"Sin Registrar"},{"$f":"IF(ISERROR(VLOOKUP(G171,'1_Metas_Resultados'!$D$4:$I$403,6,FALSE)),\"\",VLOOKUP(G171,'1_Metas_Resultados'!$D$4:$I$403,6,FALSE))","v":""}]
[{"$f":"IF(ISERROR(CONCATENATE($S172,\".\",VLOOKUP($G172,'1_Metas_Resultados'!$D$4:$E$403,2,FALSE))),\"Sin Registrar\",CONCATENATE($S172,\".\",VLOOKUP($G172,'1_Metas_Resultados'!$D$4:$E$403,2,FALSE)))","v":"Sin Registrar"},171," ",{"$f":"IF(ISERROR(CONCATENATE($S172,\".\",VLOOKUP($K172,'1_Metas_Resultados'!$D$4:$E$403,2,FALSE))),\"Sin Registrar\",CONCATENATE($S172,\".\",VLOOKUP($K172,'1_Metas_Resultados'!$D$4:$E$403,2,FALSE)))","v":"Sin Registrar"},{"$f":"IF(ISERROR(CONCATENATE($S172,\".\",VLOOKUP($L172,'1_Metas_Resultados'!$D$4:$E$403,2,FALSE))),\"Sin Registrar\",CONCATENATE($S172,\".\",VLOOKUP($L172,'1_Metas_Resultados'!$D$4:$E$403,2,FALSE)))","v":"Sin Registrar"},{"$f":"IF(ISERROR(VLOOKUP(G172,'1_Metas_Resultados'!$D$4:$I$403,6,FALSE)),\"\",VLOOKUP(G172,'1_Metas_Resultados'!$D$4:$I$403,6,FALSE))","v":""}]
[{"$f":"IF(ISERROR(CONCATENATE($S173,\".\",VLOOKUP($G173,'1_Metas_Resultados'!$D$4:$E$403,2,FALSE))),\"Sin Registrar\",CONCATENATE($S173,\".\",VLOOKUP($G173,'1_Metas_Resultados'!$D$4:$E$403,2,FALSE)))","v":"Sin Registrar"},172," ",{"$f":"IF(ISERROR(CONCATENATE($S173,\".\",VLOOKUP($K173,'1_Metas_Resultados'!$D$4:$E$403,2,FALSE))),\"Sin Registrar\",CONCATENATE($S173,\".\",VLOOKUP($K173,'1_Metas_Resultados'!$D$4:$E$403,2,FALSE)))","v":"Sin Registrar"},{"$f":"IF(ISERROR(CONCATENATE($S173,\".\",VLOOKUP($L173,'1_Metas_Resultados'!$D$4:$E$403,2,FALSE))),\"Sin Registrar\",CONCATENATE($S173,\".\",VLOOKUP($L173,'1_Metas_Resultados'!$D$4:$E$403,2,FALSE)))","v":"Sin Registrar"},{"$f":"IF(ISERROR(VLOOKUP(G173,'1_Metas_Resultados'!$D$4:$I$403,6,FALSE)),\"\",VLOOKUP(G173,'1_Metas_Resultados'!$D$4:$I$403,6,FALSE))","v":""}]
[{"$f":"IF(ISERROR(CONCATENATE($S174,\".\",VLOOKUP($G174,'1_Metas_Resultados'!$D$4:$E$403,2,FALSE))),\"Sin Registrar\",CONCATENATE($S174,\".\",VLOOKUP($G174,'1_Metas_Resultados'!$D$4:$E$403,2,FALSE)))","v":"Sin Registrar"},173," ",{"$f":"IF(ISERROR(CONCATENATE($S174,\".\",VLOOKUP($K174,'1_Metas_Resultados'!$D$4:$E$403,2,FALSE))),\"Sin Registrar\",CONCATENATE($S174,\".\",VLOOKUP($K174,'1_Metas_Resultados'!$D$4:$E$403,2,FALSE)))","v":"Sin Registrar"},{"$f":"IF(ISERROR(CONCATENATE($S174,\".\",VLOOKUP($L174,'1_Metas_Resultados'!$D$4:$E$403,2,FALSE))),\"Sin Registrar\",CONCATENATE($S174,\".\",VLOOKUP($L174,'1_Metas_Resultados'!$D$4:$E$403,2,FALSE)))","v":"Sin Registrar"},{"$f":"IF(ISERROR(VLOOKUP(G174,'1_Metas_Resultados'!$D$4:$I$403,6,FALSE)),\"\",VLOOKUP(G174,'1_Metas_Resultados'!$D$4:$I$403,6,FALSE))","v":""}]
[{"$f":"IF(ISERROR(CONCATENATE($S175,\".\",VLOOKUP($G175,'1_Metas_Resultados'!$D$4:$E$403,2,FALSE))),\"Sin Registrar\",CONCATENATE($S175,\".\",VLOOKUP($G175,'1_Metas_Resultados'!$D$4:$E$403,2,FALSE)))","v":"Sin Registrar"},174," ",{"$f":"IF(ISERROR(CONCATENATE($S175,\".\",VLOOKUP($K175,'1_Metas_Resultados'!$D$4:$E$403,2,FALSE))),\"Sin Registrar\",CONCATENATE($S175,\".\",VLOOKUP($K175,'1_Metas_Resultados'!$D$4:$E$403,2,FALSE)))","v":"Sin Registrar"},{"$f":"IF(ISERROR(CONCATENATE($S175,\".\",VLOOKUP($L175,'1_Metas_Resultados'!$D$4:$E$403,2,FALSE))),\"Sin Registrar\",CONCATENATE($S175,\".\",VLOOKUP($L175,'1_Metas_Resultados'!$D$4:$E$403,2,FALSE)))","v":"Sin Registrar"},{"$f":"IF(ISERROR(VLOOKUP(G175,'1_Metas_Resultados'!$D$4:$I$403,6,FALSE)),\"\",VLOOKUP(G175,'1_Metas_Resultados'!$D$4:$I$403,6,FALSE))","v":""}]
[{"$f":"IF(ISERROR(CONCATENATE($S176,\".\",VLOOKUP($G176,'1_Metas_Resultados'!$D$4:$E$403,2,FALSE))),\"Sin Registrar\",CONCATENATE($S176,\".\",VLOOKUP($G176,'1_Metas_Resultados'!$D$4:$E$403,2,FALSE)))","v":"Sin Registrar"},175," ",{"$f":"IF(ISERROR(CONCATENATE($S176,\".\",VLOOKUP($K176,'1_Metas_Resultados'!$D$4:$E$403,2,FALSE))),\"Sin Registrar\",CONCATENATE($S176,\".\",VLOOKUP($K176,'1_Metas_Resultados'!$D$4:$E$403,2,FALSE)))","v":"Sin Registrar"},{"$f":"IF(ISERROR(CONCATENATE($S176,\".\",VLOOKUP($L176,'1_Metas_Resultados'!$D$4:$E$403,2,FALSE))),\"Sin Registrar\",CONCATENATE($S176,\".\",VLOOKUP($L176,'1_Metas_Resultados'!$D$4:$E$403,2,FALSE)))","v":"Sin Registrar"},{"$f":"IF(ISERROR(VLOOKUP(G176,'1_Metas_Resultados'!$D$4:$I$403,6,FALSE)),\"\",VLOOKUP(G176,'1_Metas_Resultados'!$D$4:$I$403,6,FALSE))","v":""}]
[{"$f":"IF(ISERROR(CONCATENATE($S177,\".\",VLOOKUP($G177,'1_Metas_Resultados'!$D$4:$E$403,2,FALSE))),\"Sin Registrar\",CONCATENATE($S177,\".\",VLOOKUP($G177,'1_Metas_Resultados'!$D$4:$E$403,2,FALSE)))","v":"Sin Registrar"},176," ",{"$f":"IF(ISERROR(CONCATENATE($S177,\".\",VLOOKUP($K177,'1_Metas_Resultados'!$D$4:$E$403,2,FALSE))),\"Sin Registrar\",CONCATENATE($S177,\".\",VLOOKUP($K177,'1_Metas_Resultados'!$D$4:$E$403,2,FALSE)))","v":"Sin Registrar"},{"$f":"IF(ISERROR(CONCATENATE($S177,\".\",VLOOKUP($L177,'1_Metas_Resultados'!$D$4:$E$403,2,FALSE))),\"Sin Registrar\",CONCATENATE($S177,\".\",VLOOKUP($L177,'1_Metas_Resultados'!$D$4:$E$403,2,FALSE)))","v":"Sin Registrar"},{"$f":"IF(ISERROR(VLOOKUP(G177,'1_Metas_Resultados'!$D$4:$I$403,6,FALSE)),\"\",VLOOKUP(G177,'1_Metas_Resultados'!$D$4:$I$403,6,FALSE))","v":""}]
[{"$f":"IF(ISERROR(CONCATENATE($S178,\".\",VLOOKUP($G178,'1_Metas_Resultados'!$D$4:$E$403,2,FALSE))),\"Sin Registrar\",CONCATENATE($S178,\".\",VLOOKUP($G178,'1_Metas_Resultados'!$D$4:$E$403,2,FALSE)))","v":"Sin Registrar"},177," ",{"$f":"IF(ISERROR(CONCATENATE($S178,\".\",VLOOKUP($K178,'1_Metas_Resultados'!$D$4:$E$403,2,FALSE))),\"Sin Registrar\",CONCATENATE($S178,\".\",VLOOKUP($K178,'1_Metas_Resultados'!$D$4:$E$403,2,FALSE)))","v":"Sin Registrar"},{"$f":"IF(ISERROR(CONCATENATE($S178,\".\",VLOOKUP($L178,'1_Metas_Resultados'!$D$4:$E$403,2,FALSE))),\"Sin Registrar\",CONCATENATE($S178,\".\",VLOOKUP($L178,'1_Metas_Resultados'!$D$4:$E$403,2,FALSE)))","v":"Sin Registrar"},{"$f":"IF(ISERROR(VLOOKUP(G178,'1_Metas_Resultados'!$D$4:$I$403,6,FALSE)),\"\",VLOOKUP(G178,'1_Metas_Resultados'!$D$4:$I$403,6,FALSE))","v":""}]
[{"$f":"IF(ISERROR(CONCATENATE($S179,\".\",VLOOKUP($G179,'1_Metas_Resultados'!$D$4:$E$403,2,FALSE))),\"Sin Registrar\",CONCATENATE($S179,\".\",VLOOKUP($G179,'1_Metas_Resultados'!$D$4:$E$403,2,FALSE)))","v":"Sin Registrar"},178," ",{"$f":"IF(ISERROR(CONCATENATE($S179,\".\",VLOOKUP($K179,'1_Metas_Resultados'!$D$4:$E$403,2,FALSE))),\"Sin Registrar\",CONCATENATE($S179,\".\",VLOOKUP($K179,'1_Metas_Resultados'!$D$4:$E$403,2,FALSE)))","v":"Sin Registrar"},{"$f":"IF(ISERROR(CONCATENATE($S179,\".\",VLOOKUP($L179,'1_Metas_Resultados'!$D$4:$E$403,2,FALSE))),\"Sin Registrar\",CONCATENATE($S179,\".\",VLOOKUP($L179,'1_Metas_Resultados'!$D$4:$E$403,2,FALSE)))","v":"Sin Registrar"},{"$f":"IF(ISERROR(VLOOKUP(G179,'1_Metas_Resultados'!$D$4:$I$403,6,FALSE)),\"\",VLOOKUP(G179,'1_Metas_Resultados'!$D$4:$I$403,6,FALSE))","v":""}]
[{"$f":"IF(ISERROR(CONCATENATE($S180,\".\",VLOOKUP($G180,'1_Metas_Resultados'!$D$4:$E$403,2,FALSE))),\"Sin Registrar\",CONCATENATE($S180,\".\",VLOOKUP($G180,'1_Metas_Resultados'!$D$4:$E$403,2,FALSE)))","v":"Sin Registrar"},179," ",{"$f":"IF(ISERROR(CONCATENATE($S180,\".\",VLOOKUP($K180,'1_Metas_Resultados'!$D$4:$E$403,2,FALSE))),\"Sin Registrar\",CONCATENATE($S180,\".\",VLOOKUP($K180,'1_Metas_Resultados'!$D$4:$E$403,2,FALSE)))","v":"Sin Registrar"},{"$f":"IF(ISERROR(CONCATENATE($S180,\".\",VLOOKUP($L180,'1_Metas_Resultados'!$D$4:$E$403,2,FALSE))),\"Sin Registrar\",CONCATENATE($S180,\".\",VLOOKUP($L180,'1_Metas_Resultados'!$D$4:$E$403,2,FALSE)))","v":"Sin Registrar"},{"$f":"IF(ISERROR(VLOOKUP(G180,'1_Metas_Resultados'!$D$4:$I$403,6,FALSE)),\"\",VLOOKUP(G180,'1_Metas_Resultados'!$D$4:$I$403,6,FALSE))","v":""}]
[{"$f":"IF(ISERROR(CONCATENATE($S181,\".\",VLOOKUP($G181,'1_Metas_Resultados'!$D$4:$E$403,2,FALSE))),\"Sin Registrar\",CONCATENATE($S181,\".\",VLOOKUP($G181,'1_Metas_Resultados'!$D$4:$E$403,2,FALSE)))","v":"Sin Registrar"},180," ",{"$f":"IF(ISERROR(CONCATENATE($S181,\".\",VLOOKUP($K181,'1_Metas_Resultados'!$D$4:$E$403,2,FALSE))),\"Sin Registrar\",CONCATENATE($S181,\".\",VLOOKUP($K181,'1_Metas_Resultados'!$D$4:$E$403,2,FALSE)))","v":"Sin Registrar"},{"$f":"IF(ISERROR(CONCATENATE($S181,\".\",VLOOKUP($L181,'1_Metas_Resultados'!$D$4:$E$403,2,FALSE))),\"Sin Registrar\",CONCATENATE($S181,\".\",VLOOKUP($L181,'1_Metas_Resultados'!$D$4:$E$403,2,FALSE)))","v":"Sin Registrar"},{"$f":"IF(ISERROR(VLOOKUP(G181,'1_Metas_Resultados'!$D$4:$I$403,6,FALSE)),\"\",VLOOKUP(G181,'1_Metas_Resultados'!$D$4:$I$403,6,FALSE))","v":""}]
[{"$f":"IF(ISERROR(CONCATENATE($S182,\".\",VLOOKUP($G182,'1_Metas_Resultados'!$D$4:$E$403,2,FALSE))),\"Sin Registrar\",CONCATENATE($S182,\".\",VLOOKUP($G182,'1_Metas_Resultados'!$D$4:$E$403,2,FALSE)))","v":"Sin Registrar"},181," ",{"$f":"IF(ISERROR(CONCATENATE($S182,\".\",VLOOKUP($K182,'1_Metas_Resultados'!$D$4:$E$403,2,FALSE))),\"Sin Registrar\",CONCATENATE($S182,\".\",VLOOKUP($K182,'1_Metas_Resultados'!$D$4:$E$403,2,FALSE)))","v":"Sin Registrar"},{"$f":"IF(ISERROR(CONCATENATE($S182,\".\",VLOOKUP($L182,'1_Metas_Resultados'!$D$4:$E$403,2,FALSE))),\"Sin Registrar\",CONCATENATE($S182,\".\",VLOOKUP($L182,'1_Metas_Resultados'!$D$4:$E$403,2,FALSE)))","v":"Sin Registrar"},{"$f":"IF(ISERROR(VLOOKUP(G182,'1_Metas_Resultados'!$D$4:$I$403,6,FALSE)),\"\",VLOOKUP(G182,'1_Metas_Resultados'!$D$4:$I$403,6,FALSE))","v":""}]
[{"$f":"IF(ISERROR(CONCATENATE($S183,\".\",VLOOKUP($G183,'1_Metas_Resultados'!$D$4:$E$403,2,FALSE))),\"Sin Registrar\",CONCATENATE($S183,\".\",VLOOKUP($G183,'1_Metas_Resultados'!$D$4:$E$403,2,FALSE)))","v":"Sin Registrar"},182," ",{"$f":"IF(ISERROR(CONCATENATE($S183,\".\",VLOOKUP($K183,'1_Metas_Resultados'!$D$4:$E$403,2,FALSE))),\"Sin Registrar\",CONCATENATE($S183,\".\",VLOOKUP($K183,'1_Metas_Resultados'!$D$4:$E$403,2,FALSE)))","v":"Sin Registrar"},{"$f":"IF(ISERROR(CONCATENATE($S183,\".\",VLOOKUP($L183,'1_Metas_Resultados'!$D$4:$E$403,2,FALSE))),\"Sin Registrar\",CONCATENATE($S183,\".\",VLOOKUP($L183,'1_Metas_Resultados'!$D$4:$E$403,2,FALSE)))","v":"Sin Registrar"},{"$f":"IF(ISERROR(VLOOKUP(G183,'1_Metas_Resultados'!$D$4:$I$403,6,FALSE)),\"\",VLOOKUP(G183,'1_Metas_Resultados'!$D$4:$I$403,6,FALSE))","v":""}]
[{"$f":"IF(ISERROR(CONCATENATE($S184,\".\",VLOOKUP($G184,'1_Metas_Resultados'!$D$4:$E$403,2,FALSE))),\"Sin Registrar\",CONCATENATE($S184,\".\",VLOOKUP($G184,'1_Metas_Resultados'!$D$4:$E$403,2,FALSE)))","v":"Sin Registrar"},183," ",{"$f":"IF(ISERROR(CONCATENATE($S184,\".\",VLOOKUP($K184,'1_Metas_Resultados'!$D$4:$E$403,2,FALSE))),\"Sin Registrar\",CONCATENATE($S184,\".\",VLOOKUP($K184,'1_Metas_Resultados'!$D$4:$E$403,2,FALSE)))","v":"Sin Registrar"},{"$f":"IF(ISERROR(CONCATENATE($S184,\".\",VLOOKUP($L184,'1_Metas_Resultados'!$D$4:$E$403,2,FALSE))),\"Sin Registrar\",CONCATENATE($S184,\".\",VLOOKUP($L184,'1_Metas_Resultados'!$D$4:$E$403,2,FALSE)))","v":"Sin Registrar"},{"$f":"IF(ISERROR(VLOOKUP(G184,'1_Metas_Resultados'!$D$4:$I$403,6,FALSE)),\"\",VLOOKUP(G184,'1_Metas_Resultados'!$D$4:$I$403,6,FALSE))","v":""}]
[{"$f":"IF(ISERROR(CONCATENATE($S185,\".\",VLOOKUP($G185,'1_Metas_Resultados'!$D$4:$E$403,2,FALSE))),\"Sin Registrar\",CONCATENATE($S185,\".\",VLOOKUP($G185,'1_Metas_Resultados'!$D$4:$E$403,2,FALSE)))","v":"Sin Registrar"},184," ",{"$f":"IF(ISERROR(CONCATENATE($S185,\".\",VLOOKUP($K185,'1_Metas_Resultados'!$D$4:$E$403,2,FALSE))),\"Sin Registrar\",CONCATENATE($S185,\".\",VLOOKUP($K185,'1_Metas_Resultados'!$D$4:$E$403,2,FALSE)))","v":"Sin Registrar"},{"$f":"IF(ISERROR(CONCATENATE($S185,\".\",VLOOKUP($L185,'1_Metas_Resultados'!$D$4:$E$403,2,FALSE))),\"Sin Registrar\",CONCATENATE($S185,\".\",VLOOKUP($L185,'1_Metas_Resultados'!$D$4:$E$403,2,FALSE)))","v":"Sin Registrar"},{"$f":"IF(ISERROR(VLOOKUP(G185,'1_Metas_Resultados'!$D$4:$I$403,6,FALSE)),\"\",VLOOKUP(G185,'1_Metas_Resultados'!$D$4:$I$403,6,FALSE))","v":""}]
[{"$f":"IF(ISERROR(CONCATENATE($S186,\".\",VLOOKUP($G186,'1_Metas_Resultados'!$D$4:$E$403,2,FALSE))),\"Sin Registrar\",CONCATENATE($S186,\".\",VLOOKUP($G186,'1_Metas_Resultados'!$D$4:$E$403,2,FALSE)))","v":"Sin Registrar"},185," ",{"$f":"IF(ISERROR(CONCATENATE($S186,\".\",VLOOKUP($K186,'1_Metas_Resultados'!$D$4:$E$403,2,FALSE))),\"Sin Registrar\",CONCATENATE($S186,\".\",VLOOKUP($K186,'1_Metas_Resultados'!$D$4:$E$403,2,FALSE)))","v":"Sin Registrar"},{"$f":"IF(ISERROR(CONCATENATE($S186,\".\",VLOOKUP($L186,'1_Metas_Resultados'!$D$4:$E$403,2,FALSE))),\"Sin Registrar\",CONCATENATE($S186,\".\",VLOOKUP($L186,'1_Metas_Resultados'!$D$4:$E$403,2,FALSE)))","v":"Sin Registrar"},{"$f":"IF(ISERROR(VLOOKUP(G186,'1_Metas_Resultados'!$D$4:$I$403,6,FALSE)),\"\",VLOOKUP(G186,'1_Metas_Resultados'!$D$4:$I$403,6,FALSE))","v":""}]
[{"$f":"IF(ISERROR(CONCATENATE($S187,\".\",VLOOKUP($G187,'1_Metas_Resultados'!$D$4:$E$403,2,FALSE))),\"Sin Registrar\",CONCATENATE($S187,\".\",VLOOKUP($G187,'1_Metas_Resultados'!$D$4:$E$403,2,FALSE)))","v":"Sin Registrar"},186," ",{"$f":"IF(ISERROR(CONCATENATE($S187,\".\",VLOOKUP($K187,'1_Metas_Resultados'!$D$4:$E$403,2,FALSE))),\"Sin Registrar\",CONCATENATE($S187,\".\",VLOOKUP($K187,'1_Metas_Resultados'!$D$4:$E$403,2,FALSE)))","v":"Sin Registrar"},{"$f":"IF(ISERROR(CONCATENATE($S187,\".\",VLOOKUP($L187,'1_Metas_Resultados'!$D$4:$E$403,2,FALSE))),\"Sin Registrar\",CONCATENATE($S187,\".\",VLOOKUP($L187,'1_Metas_Resultados'!$D$4:$E$403,2,FALSE)))","v":"Sin Registrar"},{"$f":"IF(ISERROR(VLOOKUP(G187,'1_Metas_Resultados'!$D$4:$I$403,6,FALSE)),\"\",VLOOKUP(G187,'1_Metas_Resultados'!$D$4:$I$403,6,FALSE))","v":""}]
[{"$f":"IF(ISERROR(CONCATENATE($S188,\".\",VLOOKUP($G188,'1_Metas_Resultados'!$D$4:$E$403,2,FALSE))),\"Sin Registrar\",CONCATENATE($S188,\".\",VLOOKUP($G188,'1_Metas_Resultados'!$D$4:$E$403,2,FALSE)))","v":"Sin Registrar"},187," ",{"$f":"IF(ISERROR(CONCATENATE($S188,\".\",VLOOKUP($K188,'1_Metas_Resultados'!$D$4:$E$403,2,FALSE))),\"Sin Registrar\",CONCATENATE($S188,\".\",VLOOKUP($K188,'1_Metas_Resultados'!$D$4:$E$403,2,FALSE)))","v":"Sin Registrar"},{"$f":"IF(ISERROR(CONCATENATE($S188,\".\",VLOOKUP($L188,'1_Metas_Resultados'!$D$4:$E$403,2,FALSE))),\"Sin Registrar\",CONCATENATE($S188,\".\",VLOOKUP($L188,'1_Metas_Resultados'!$D$4:$E$403,2,FALSE)))","v":"Sin Registrar"},{"$f":"IF(ISERROR(VLOOKUP(G188,'1_Metas_Resultados'!$D$4:$I$403,6,FALSE)),\"\",VLOOKUP(G188,'1_Metas_Resultados'!$D$4:$I$403,6,FALSE))","v":""}]
[{"$f":"IF(ISERROR(CONCATENATE($S189,\".\",VLOOKUP($G189,'1_Metas_Resultados'!$D$4:$E$403,2,FALSE))),\"Sin Registrar\",CONCATENATE($S189,\".\",VLOOKUP($G189,'1_Metas_Resultados'!$D$4:$E$403,2,FALSE)))","v":"Sin Registrar"},188," ",{"$f":"IF(ISERROR(CONCATENATE($S189,\".\",VLOOKUP($K189,'1_Metas_Resultados'!$D$4:$E$403,2,FALSE))),\"Sin Registrar\",CONCATENATE($S189,\".\",VLOOKUP($K189,'1_Metas_Resultados'!$D$4:$E$403,2,FALSE)))","v":"Sin Registrar"},{"$f":"IF(ISERROR(CONCATENATE($S189,\".\",VLOOKUP($L189,'1_Metas_Resultados'!$D$4:$E$403,2,FALSE))),\"Sin Registrar\",CONCATENATE($S189,\".\",VLOOKUP($L189,'1_Metas_Resultados'!$D$4:$E$403,2,FALSE)))","v":"Sin Registrar"},{"$f":"IF(ISERROR(VLOOKUP(G189,'1_Metas_Resultados'!$D$4:$I$403,6,FALSE)),\"\",VLOOKUP(G189,'1_Metas_Resultados'!$D$4:$I$403,6,FALSE))","v":""}]
[{"$f":"IF(ISERROR(CONCATENATE($S190,\".\",VLOOKUP($G190,'1_Metas_Resultados'!$D$4:$E$403,2,FALSE))),\"Sin Registrar\",CONCATENATE($S190,\".\",VLOOKUP($G190,'1_Metas_Resultados'!$D$4:$E$403,2,FALSE)))","v":"Sin Registrar"},189," ",{"$f":"IF(ISERROR(CONCATENATE($S190,\".\",VLOOKUP($K190,'1_Metas_Resultados'!$D$4:$E$403,2,FALSE))),\"Sin Registrar\",CONCATENATE($S190,\".\",VLOOKUP($K190,'1_Metas_Resultados'!$D$4:$E$403,2,FALSE)))","v":"Sin Registrar"},{"$f":"IF(ISERROR(CONCATENATE($S190,\".\",VLOOKUP($L190,'1_Metas_Resultados'!$D$4:$E$403,2,FALSE))),\"Sin Registrar\",CONCATENATE($S190,\".\",VLOOKUP($L190,'1_Metas_Resultados'!$D$4:$E$403,2,FALSE)))","v":"Sin Registrar"},{"$f":"IF(ISERROR(VLOOKUP(G190,'1_Metas_Resultados'!$D$4:$I$403,6,FALSE)),\"\",VLOOKUP(G190,'1_Metas_Resultados'!$D$4:$I$403,6,FALSE))","v":""}]
[{"$f":"IF(ISERROR(CONCATENATE($S191,\".\",VLOOKUP($G191,'1_Metas_Resultados'!$D$4:$E$403,2,FALSE))),\"Sin Registrar\",CONCATENATE($S191,\".\",VLOOKUP($G191,'1_Metas_Resultados'!$D$4:$E$403,2,FALSE)))","v":"Sin Registrar"},190," ",{"$f":"IF(ISERROR(CONCATENATE($S191,\".\",VLOOKUP($K191,'1_Metas_Resultados'!$D$4:$E$403,2,FALSE))),\"Sin Registrar\",CONCATENATE($S191,\".\",VLOOKUP($K191,'1_Metas_Resultados'!$D$4:$E$403,2,FALSE)))","v":"Sin Registrar"},{"$f":"IF(ISERROR(CONCATENATE($S191,\".\",VLOOKUP($L191,'1_Metas_Resultados'!$D$4:$E$403,2,FALSE))),\"Sin Registrar\",CONCATENATE($S191,\".\",VLOOKUP($L191,'1_Metas_Resultados'!$D$4:$E$403,2,FALSE)))","v":"Sin Registrar"},{"$f":"IF(ISERROR(VLOOKUP(G191,'1_Metas_Resultados'!$D$4:$I$403,6,FALSE)),\"\",VLOOKUP(G191,'1_Metas_Resultados'!$D$4:$I$403,6,FALSE))","v":""}]
[{"$f":"IF(ISERROR(CONCATENATE($S192,\".\",VLOOKUP($G192,'1_Metas_Resultados'!$D$4:$E$403,2,FALSE))),\"Sin Registrar\",CONCATENATE($S192,\".\",VLOOKUP($G192,'1_Metas_Resultados'!$D$4:$E$403,2,FALSE)))","v":"Sin Registrar"},191," ",{"$f":"IF(ISERROR(CONCATENATE($S192,\".\",VLOOKUP($K192,'1_Metas_Resultados'!$D$4:$E$403,2,FALSE))),\"Sin Registrar\",CONCATENATE($S192,\".\",VLOOKUP($K192,'1_Metas_Resultados'!$D$4:$E$403,2,FALSE)))","v":"Sin Registrar"},{"$f":"IF(ISERROR(CONCATENATE($S192,\".\",VLOOKUP($L192,'1_Metas_Resultados'!$D$4:$E$403,2,FALSE))),\"Sin Registrar\",CONCATENATE($S192,\".\",VLOOKUP($L192,'1_Metas_Resultados'!$D$4:$E$403,2,FALSE)))","v":"Sin Registrar"},{"$f":"IF(ISERROR(VLOOKUP(G192,'1_Metas_Resultados'!$D$4:$I$403,6,FALSE)),\"\",VLOOKUP(G192,'1_Metas_Resultados'!$D$4:$I$403,6,FALSE))","v":""}]
[{"$f":"IF(ISERROR(CONCATENATE($S193,\".\",VLOOKUP($G193,'1_Metas_Resultados'!$D$4:$E$403,2,FALSE))),\"Sin Registrar\",CONCATENATE($S193,\".\",VLOOKUP($G193,'1_Metas_Resultados'!$D$4:$E$403,2,FALSE)))","v":"Sin Registrar"},192," ",{"$f":"IF(ISERROR(CONCATENATE($S193,\".\",VLOOKUP($K193,'1_Metas_Resultados'!$D$4:$E$403,2,FALSE))),\"Sin Registrar\",CONCATENATE($S193,\".\",VLOOKUP($K193,'1_Metas_Resultados'!$D$4:$E$403,2,FALSE)))","v":"Sin Registrar"},{"$f":"IF(ISERROR(CONCATENATE($S193,\".\",VLOOKUP($L193,'1_Metas_Resultados'!$D$4:$E$403,2,FALSE))),\"Sin Registrar\",CONCATENATE($S193,\".\",VLOOKUP($L193,'1_Metas_Resultados'!$D$4:$E$403,2,FALSE)))","v":"Sin Registrar"},{"$f":"IF(ISERROR(VLOOKUP(G193,'1_Metas_Resultados'!$D$4:$I$403,6,FALSE)),\"\",VLOOKUP(G193,'1_Metas_Resultados'!$D$4:$I$403,6,FALSE))","v":""}]
[{"$f":"IF(ISERROR(CONCATENATE($S194,\".\",VLOOKUP($G194,'1_Metas_Resultados'!$D$4:$E$403,2,FALSE))),\"Sin Registrar\",CONCATENATE($S194,\".\",VLOOKUP($G194,'1_Metas_Resultados'!$D$4:$E$403,2,FALSE)))","v":"Sin Registrar"},193," ",{"$f":"IF(ISERROR(CONCATENATE($S194,\".\",VLOOKUP($K194,'1_Metas_Resultados'!$D$4:$E$403,2,FALSE))),\"Sin Registrar\",CONCATENATE($S194,\".\",VLOOKUP($K194,'1_Metas_Resultados'!$D$4:$E$403,2,FALSE)))","v":"Sin Registrar"},{"$f":"IF(ISERROR(CONCATENATE($S194,\".\",VLOOKUP($L194,'1_Metas_Resultados'!$D$4:$E$403,2,FALSE))),\"Sin Registrar\",CONCATENATE($S194,\".\",VLOOKUP($L194,'1_Metas_Resultados'!$D$4:$E$403,2,FALSE)))","v":"Sin Registrar"},{"$f":"IF(ISERROR(VLOOKUP(G194,'1_Metas_Resultados'!$D$4:$I$403,6,FALSE)),\"\",VLOOKUP(G194,'1_Metas_Resultados'!$D$4:$I$403,6,FALSE))","v":""}]
[{"$f":"IF(ISERROR(CONCATENATE($S195,\".\",VLOOKUP($G195,'1_Metas_Resultados'!$D$4:$E$403,2,FALSE))),\"Sin Registrar\",CONCATENATE($S195,\".\",VLOOKUP($G195,'1_Metas_Resultados'!$D$4:$E$403,2,FALSE)))","v":"Sin Registrar"},194," ",{"$f":"IF(ISERROR(CONCATENATE($S195,\".\",VLOOKUP($K195,'1_Metas_Resultados'!$D$4:$E$403,2,FALSE))),\"Sin Registrar\",CONCATENATE($S195,\".\",VLOOKUP($K195,'1_Metas_Resultados'!$D$4:$E$403,2,FALSE)))","v":"Sin Registrar"},{"$f":"IF(ISERROR(CONCATENATE($S195,\".\",VLOOKUP($L195,'1_Metas_Resultados'!$D$4:$E$403,2,FALSE))),\"Sin Registrar\",CONCATENATE($S195,\".\",VLOOKUP($L195,'1_Metas_Resultados'!$D$4:$E$403,2,FALSE)))","v":"Sin Registrar"},{"$f":"IF(ISERROR(VLOOKUP(G195,'1_Metas_Resultados'!$D$4:$I$403,6,FALSE)),\"\",VLOOKUP(G195,'1_Metas_Resultados'!$D$4:$I$403,6,FALSE))","v":""}]
[{"$f":"IF(ISERROR(CONCATENATE($S196,\".\",VLOOKUP($G196,'1_Metas_Resultados'!$D$4:$E$403,2,FALSE))),\"Sin Registrar\",CONCATENATE($S196,\".\",VLOOKUP($G196,'1_Metas_Resultados'!$D$4:$E$403,2,FALSE)))","v":"Sin Registrar"},195," ",{"$f":"IF(ISERROR(CONCATENATE($S196,\".\",VLOOKUP($K196,'1_Metas_Resultados'!$D$4:$E$403,2,FALSE))),\"Sin Registrar\",CONCATENATE($S196,\".\",VLOOKUP($K196,'1_Metas_Resultados'!$D$4:$E$403,2,FALSE)))","v":"Sin Registrar"},{"$f":"IF(ISERROR(CONCATENATE($S196,\".\",VLOOKUP($L196,'1_Metas_Resultados'!$D$4:$E$403,2,FALSE))),\"Sin Registrar\",CONCATENATE($S196,\".\",VLOOKUP($L196,'1_Metas_Resultados'!$D$4:$E$403,2,FALSE)))","v":"Sin Registrar"},{"$f":"IF(ISERROR(VLOOKUP(G196,'1_Metas_Resultados'!$D$4:$I$403,6,FALSE)),\"\",VLOOKUP(G196,'1_Metas_Resultados'!$D$4:$I$403,6,FALSE))","v":""}]
[{"$f":"IF(ISERROR(CONCATENATE($S197,\".\",VLOOKUP($G197,'1_Metas_Resultados'!$D$4:$E$403,2,FALSE))),\"Sin Registrar\",CONCATENATE($S197,\".\",VLOOKUP($G197,'1_Metas_Resultados'!$D$4:$E$403,2,FALSE)))","v":"Sin Registrar"},196,{"$f":"IF(A197=\"Sin Registrar\",\" \",CONCATENATE(A197,\".\",B197))","v":" "},{"$f":"IF(ISERROR(CONCATENATE($S197,\".\",VLOOKUP($K197,'1_Metas_Resultados'!$D$4:$E$403,2,FALSE))),\"Sin Registrar\",CONCATENATE($S197,\".\",VLOOKUP($K197,'1_Metas_Resultados'!$D$4:$E$403,2,FALSE)))","v":"Sin Registrar"},{"$f":"IF(ISERROR(CONCATENATE($S197,\".\",VLOOKUP($L197,'1_Metas_Resultados'!$D$4:$E$403,2,FALSE))),\"Sin Registrar\",CONCATENATE($S197,\".\",VLOOKUP($L197,'1_Metas_Resultados'!$D$4:$E$403,2,FALSE)))","v":"Sin Registrar"},{"$f":"IF(ISERROR(VLOOKUP(G197,'1_Metas_Resultados'!$D$4:$I$403,6,FALSE)),\"\",VLOOKUP(G197,'1_Metas_Resultados'!$D$4:$I$403,6,FALSE))","v":""}]
[{"$f":"IF(ISERROR(CONCATENATE($S198,\".\",VLOOKUP($G198,'1_Metas_Resultados'!$D$4:$E$403,2,FALSE))),\"Sin Registrar\",CONCATENATE($S198,\".\",VLOOKUP($G198,'1_Metas_Resultados'!$D$4:$E$403,2,FALSE)))","v":"Sin Registrar"},197," ",{"$f":"IF(ISERROR(CONCATENATE($S198,\".\",VLOOKUP($K198,'1_Metas_Resultados'!$D$4:$E$403,2,FALSE))),\"Sin Registrar\",CONCATENATE($S198,\".\",VLOOKUP($K198,'1_Metas_Resultados'!$D$4:$E$403,2,FALSE)))","v":"Sin Registrar"},{"$f":"IF(ISERROR(CONCATENATE($S198,\".\",VLOOKUP($L198,'1_Metas_Resultados'!$D$4:$E$403,2,FALSE))),\"Sin Registrar\",CONCATENATE($S198,\".\",VLOOKUP($L198,'1_Metas_Resultados'!$D$4:$E$403,2,FALSE)))","v":"Sin Registrar"},{"$f":"IF(ISERROR(VLOOKUP(G198,'1_Metas_Resultados'!$D$4:$I$403,6,FALSE)),\"\",VLOOKUP(G198,'1_Metas_Resultados'!$D$4:$I$403,6,FALSE))","v":""}]
[{"$f":"IF(ISERROR(CONCATENATE($S199,\".\",VLOOKUP($G199,'1_Metas_Resultados'!$D$4:$E$403,2,FALSE))),\"Sin Registrar\",CONCATENATE($S199,\".\",VLOOKUP($G199,'1_Metas_Resultados'!$D$4:$E$403,2,FALSE)))","v":"Sin Registrar"},198," ",{"$f":"IF(ISERROR(CONCATENATE($S199,\".\",VLOOKUP($K199,'1_Metas_Resultados'!$D$4:$E$403,2,FALSE))),\"Sin Registrar\",CONCATENATE($S199,\".\",VLOOKUP($K199,'1_Metas_Resultados'!$D$4:$E$403,2,FALSE)))","v":"Sin Registrar"},{"$f":"IF(ISERROR(CONCATENATE($S199,\".\",VLOOKUP($L199,'1_Metas_Resultados'!$D$4:$E$403,2,FALSE))),\"Sin Registrar\",CONCATENATE($S199,\".\",VLOOKUP($L199,'1_Metas_Resultados'!$D$4:$E$403,2,FALSE)))","v":"Sin Registrar"},{"$f":"IF(ISERROR(VLOOKUP(G199,'1_Metas_Resultados'!$D$4:$I$403,6,FALSE)),\"\",VLOOKUP(G199,'1_Metas_Resultados'!$D$4:$I$403,6,FALSE))","v":""}]
[{"$f":"IF(ISERROR(CONCATENATE($S200,\".\",VLOOKUP($G200,'1_Metas_Resultados'!$D$4:$E$403,2,FALSE))),\"Sin Registrar\",CONCATENATE($S200,\".\",VLOOKUP($G200,'1_Metas_Resultados'!$D$4:$E$403,2,FALSE)))","v":"Sin Registrar"},199," ",{"$f":"IF(ISERROR(CONCATENATE($S200,\".\",VLOOKUP($K200,'1_Metas_Resultados'!$D$4:$E$403,2,FALSE))),\"Sin Registrar\",CONCATENATE($S200,\".\",VLOOKUP($K200,'1_Metas_Resultados'!$D$4:$E$403,2,FALSE)))","v":"Sin Registrar"},{"$f":"IF(ISERROR(CONCATENATE($S200,\".\",VLOOKUP($L200,'1_Metas_Resultados'!$D$4:$E$403,2,FALSE))),\"Sin Registrar\",CONCATENATE($S200,\".\",VLOOKUP($L200,'1_Metas_Resultados'!$D$4:$E$403,2,FALSE)))","v":"Sin Registrar"},{"$f":"IF(ISERROR(VLOOKUP(G200,'1_Metas_Resultados'!$D$4:$I$403,6,FALSE)),\"\",VLOOKUP(G200,'1_Metas_Resultados'!$D$4:$I$403,6,FALSE))","v":""}]
[{"$f":"IF(ISERROR(CONCATENATE($S201,\".\",VLOOKUP($G201,'1_Metas_Resultados'!$D$4:$E$403,2,FALSE))),\"Sin Registrar\",CONCATENATE($S201,\".\",VLOOKUP($G201,'1_Metas_Resultados'!$D$4:$E$403,2,FALSE)))","v":"Sin Registrar"},200," ",{"$f":"IF(ISERROR(CONCATENATE($S201,\".\",VLOOKUP($K201,'1_Metas_Resultados'!$D$4:$E$403,2,FALSE))),\"Sin Registrar\",CONCATENATE($S201,\".\",VLOOKUP($K201,'1_Metas_Resultados'!$D$4:$E$403,2,FALSE)))","v":"Sin Registrar"},{"$f":"IF(ISERROR(CONCATENATE($S201,\".\",VLOOKUP($L201,'1_Metas_Resultados'!$D$4:$E$403,2,FALSE))),\"Sin Registrar\",CONCATENATE($S201,\".\",VLOOKUP($L201,'1_Metas_Resultados'!$D$4:$E$403,2,FALSE)))","v":"Sin Registrar"},{"$f":"IF(ISERROR(VLOOKUP(G201,'1_Metas_Resultados'!$D$4:$I$403,6,FALSE)),\"\",VLOOKUP(G201,'1_Metas_Resultados'!$D$4:$I$403,6,FALSE))","v":""}]
[{"$f":"IF(ISERROR(CONCATENATE($S202,\".\",VLOOKUP($G202,'1_Metas_Resultados'!$D$4:$E$403,2,FALSE))),\"Sin Registrar\",CONCATENATE($S202,\".\",VLOOKUP($G202,'1_Metas_Resultados'!$D$4:$E$403,2,FALSE)))","v":"Sin Registrar"},201," ",{"$f":"IF(ISERROR(CONCATENATE($S202,\".\",VLOOKUP($K202,'1_Metas_Resultados'!$D$4:$E$403,2,FALSE))),\"Sin Registrar\",CONCATENATE($S202,\".\",VLOOKUP($K202,'1_Metas_Resultados'!$D$4:$E$403,2,FALSE)))","v":"Sin Registrar"},{"$f":"IF(ISERROR(CONCATENATE($S202,\".\",VLOOKUP($L202,'1_Metas_Resultados'!$D$4:$E$403,2,FALSE))),\"Sin Registrar\",CONCATENATE($S202,\".\",VLOOKUP($L202,'1_Metas_Resultados'!$D$4:$E$403,2,FALSE)))","v":"Sin Registrar"},{"$f":"IF(ISERROR(VLOOKUP(G202,'1_Metas_Resultados'!$D$4:$I$403,6,FALSE)),\"\",VLOOKUP(G202,'1_Metas_Resultados'!$D$4:$I$403,6,FALSE))","v":""}]
[{"$f":"IF(ISERROR(CONCATENATE($S203,\".\",VLOOKUP($G203,'1_Metas_Resultados'!$D$4:$E$403,2,FALSE))),\"Sin Registrar\",CONCATENATE($S203,\".\",VLOOKUP($G203,'1_Metas_Resultados'!$D$4:$E$403,2,FALSE)))","v":"Sin Registrar"},202," ",{"$f":"IF(ISERROR(CONCATENATE($S203,\".\",VLOOKUP($K203,'1_Metas_Resultados'!$D$4:$E$403,2,FALSE))),\"Sin Registrar\",CONCATENATE($S203,\".\",VLOOKUP($K203,'1_Metas_Resultados'!$D$4:$E$403,2,FALSE)))","v":"Sin Registrar"},{"$f":"IF(ISERROR(CONCATENATE($S203,\".\",VLOOKUP($L203,'1_Metas_Resultados'!$D$4:$E$403,2,FALSE))),\"Sin Registrar\",CONCATENATE($S203,\".\",VLOOKUP($L203,'1_Metas_Resultados'!$D$4:$E$403,2,FALSE)))","v":"Sin Registrar"},{"$f":"IF(ISERROR(VLOOKUP(G203,'1_Metas_Resultados'!$D$4:$I$403,6,FALSE)),\"\",VLOOKUP(G203,'1_Metas_Resultados'!$D$4:$I$403,6,FALSE))","v":""}]
[{"$f":"IF(ISERROR(CONCATENATE($S204,\".\",VLOOKUP($G204,'1_Metas_Resultados'!$D$4:$E$403,2,FALSE))),\"Sin Registrar\",CONCATENATE($S204,\".\",VLOOKUP($G204,'1_Metas_Resultados'!$D$4:$E$403,2,FALSE)))","v":"Sin Registrar"},203," ",{"$f":"IF(ISERROR(CONCATENATE($S204,\".\",VLOOKUP($K204,'1_Metas_Resultados'!$D$4:$E$403,2,FALSE))),\"Sin Registrar\",CONCATENATE($S204,\".\",VLOOKUP($K204,'1_Metas_Resultados'!$D$4:$E$403,2,FALSE)))","v":"Sin Registrar"},{"$f":"IF(ISERROR(CONCATENATE($S204,\".\",VLOOKUP($L204,'1_Metas_Resultados'!$D$4:$E$403,2,FALSE))),\"Sin Registrar\",CONCATENATE($S204,\".\",VLOOKUP($L204,'1_Metas_Resultados'!$D$4:$E$403,2,FALSE)))","v":"Sin Registrar"},{"$f":"IF(ISERROR(VLOOKUP(G204,'1_Metas_Resultados'!$D$4:$I$403,6,FALSE)),\"\",VLOOKUP(G204,'1_Metas_Resultados'!$D$4:$I$403,6,FALSE))","v":""}]
[{"$f":"IF(ISERROR(CONCATENATE($S205,\".\",VLOOKUP($G205,'1_Metas_Resultados'!$D$4:$E$403,2,FALSE))),\"Sin Registrar\",CONCATENATE($S205,\".\",VLOOKUP($G205,'1_Metas_Resultados'!$D$4:$E$403,2,FALSE)))","v":"Sin Registrar"},204," ",{"$f":"IF(ISERROR(CONCATENATE($S205,\".\",VLOOKUP($K205,'1_Metas_Resultados'!$D$4:$E$403,2,FALSE))),\"Sin Registrar\",CONCATENATE($S205,\".\",VLOOKUP($K205,'1_Metas_Resultados'!$D$4:$E$403,2,FALSE)))","v":"Sin Registrar"},{"$f":"IF(ISERROR(CONCATENATE($S205,\".\",VLOOKUP($L205,'1_Metas_Resultados'!$D$4:$E$403,2,FALSE))),\"Sin Registrar\",CONCATENATE($S205,\".\",VLOOKUP($L205,'1_Metas_Resultados'!$D$4:$E$403,2,FALSE)))","v":"Sin Registrar"},{"$f":"IF(ISERROR(VLOOKUP(G205,'1_Metas_Resultados'!$D$4:$I$403,6,FALSE)),\"\",VLOOKUP(G205,'1_Metas_Resultados'!$D$4:$I$403,6,FALSE))","v":""}]
[{"$f":"IF(ISERROR(CONCATENATE($S206,\".\",VLOOKUP($G206,'1_Metas_Resultados'!$D$4:$E$403,2,FALSE))),\"Sin Registrar\",CONCATENATE($S206,\".\",VLOOKUP($G206,'1_Metas_Resultados'!$D$4:$E$403,2,FALSE)))","v":"Sin Registrar"},205," ",{"$f":"IF(ISERROR(CONCATENATE($S206,\".\",VLOOKUP($K206,'1_Metas_Resultados'!$D$4:$E$403,2,FALSE))),\"Sin Registrar\",CONCATENATE($S206,\".\",VLOOKUP($K206,'1_Metas_Resultados'!$D$4:$E$403,2,FALSE)))","v":"Sin Registrar"},{"$f":"IF(ISERROR(CONCATENATE($S206,\".\",VLOOKUP($L206,'1_Metas_Resultados'!$D$4:$E$403,2,FALSE))),\"Sin Registrar\",CONCATENATE($S206,\".\",VLOOKUP($L206,'1_Metas_Resultados'!$D$4:$E$403,2,FALSE)))","v":"Sin Registrar"},{"$f":"IF(ISERROR(VLOOKUP(G206,'1_Metas_Resultados'!$D$4:$I$403,6,FALSE)),\"\",VLOOKUP(G206,'1_Metas_Resultados'!$D$4:$I$403,6,FALSE))","v":""}]
[{"$f":"IF(ISERROR(CONCATENATE($S207,\".\",VLOOKUP($G207,'1_Metas_Resultados'!$D$4:$E$403,2,FALSE))),\"Sin Registrar\",CONCATENATE($S207,\".\",VLOOKUP($G207,'1_Metas_Resultados'!$D$4:$E$403,2,FALSE)))","v":"Sin Registrar"},206," ",{"$f":"IF(ISERROR(CONCATENATE($S207,\".\",VLOOKUP($K207,'1_Metas_Resultados'!$D$4:$E$403,2,FALSE))),\"Sin Registrar\",CONCATENATE($S207,\".\",VLOOKUP($K207,'1_Metas_Resultados'!$D$4:$E$403,2,FALSE)))","v":"Sin Registrar"},{"$f":"IF(ISERROR(CONCATENATE($S207,\".\",VLOOKUP($L207,'1_Metas_Resultados'!$D$4:$E$403,2,FALSE))),\"Sin Registrar\",CONCATENATE($S207,\".\",VLOOKUP($L207,'1_Metas_Resultados'!$D$4:$E$403,2,FALSE)))","v":"Sin Registrar"},{"$f":"IF(ISERROR(VLOOKUP(G207,'1_Metas_Resultados'!$D$4:$I$403,6,FALSE)),\"\",VLOOKUP(G207,'1_Metas_Resultados'!$D$4:$I$403,6,FALSE))","v":""}]
[{"$f":"IF(ISERROR(CONCATENATE($S208,\".\",VLOOKUP($G208,'1_Metas_Resultados'!$D$4:$E$403,2,FALSE))),\"Sin Registrar\",CONCATENATE($S208,\".\",VLOOKUP($G208,'1_Metas_Resultados'!$D$4:$E$403,2,FALSE)))","v":"Sin Registrar"},207," ",{"$f":"IF(ISERROR(CONCATENATE($S208,\".\",VLOOKUP($K208,'1_Metas_Resultados'!$D$4:$E$403,2,FALSE))),\"Sin Registrar\",CONCATENATE($S208,\".\",VLOOKUP($K208,'1_Metas_Resultados'!$D$4:$E$403,2,FALSE)))","v":"Sin Registrar"},{"$f":"IF(ISERROR(CONCATENATE($S208,\".\",VLOOKUP($L208,'1_Metas_Resultados'!$D$4:$E$403,2,FALSE))),\"Sin Registrar\",CONCATENATE($S208,\".\",VLOOKUP($L208,'1_Metas_Resultados'!$D$4:$E$403,2,FALSE)))","v":"Sin Registrar"},{"$f":"IF(ISERROR(VLOOKUP(G208,'1_Metas_Resultados'!$D$4:$I$403,6,FALSE)),\"\",VLOOKUP(G208,'1_Metas_Resultados'!$D$4:$I$403,6,FALSE))","v":""}]
[{"$f":"IF(ISERROR(CONCATENATE($S209,\".\",VLOOKUP($G209,'1_Metas_Resultados'!$D$4:$E$403,2,FALSE))),\"Sin Registrar\",CONCATENATE($S209,\".\",VLOOKUP($G209,'1_Metas_Resultados'!$D$4:$E$403,2,FALSE)))","v":"Sin Registrar"},208," ",{"$f":"IF(ISERROR(CONCATENATE($S209,\".\",VLOOKUP($K209,'1_Metas_Resultados'!$D$4:$E$403,2,FALSE))),\"Sin Registrar\",CONCATENATE($S209,\".\",VLOOKUP($K209,'1_Metas_Resultados'!$D$4:$E$403,2,FALSE)))","v":"Sin Registrar"},{"$f":"IF(ISERROR(CONCATENATE($S209,\".\",VLOOKUP($L209,'1_Metas_Resultados'!$D$4:$E$403,2,FALSE))),\"Sin Registrar\",CONCATENATE($S209,\".\",VLOOKUP($L209,'1_Metas_Resultados'!$D$4:$E$403,2,FALSE)))","v":"Sin Registrar"},{"$f":"IF(ISERROR(VLOOKUP(G209,'1_Metas_Resultados'!$D$4:$I$403,6,FALSE)),\"\",VLOOKUP(G209,'1_Metas_Resultados'!$D$4:$I$403,6,FALSE))","v":""}]
[{"$f":"IF(ISERROR(CONCATENATE($S210,\".\",VLOOKUP($G210,'1_Metas_Resultados'!$D$4:$E$403,2,FALSE))),\"Sin Registrar\",CONCATENATE($S210,\".\",VLOOKUP($G210,'1_Metas_Resultados'!$D$4:$E$403,2,FALSE)))","v":"Sin Registrar"},209," ",{"$f":"IF(ISERROR(CONCATENATE($S210,\".\",VLOOKUP($K210,'1_Metas_Resultados'!$D$4:$E$403,2,FALSE))),\"Sin Registrar\",CONCATENATE($S210,\".\",VLOOKUP($K210,'1_Metas_Resultados'!$D$4:$E$403,2,FALSE)))","v":"Sin Registrar"},{"$f":"IF(ISERROR(CONCATENATE($S210,\".\",VLOOKUP($L210,'1_Metas_Resultados'!$D$4:$E$403,2,FALSE))),\"Sin Registrar\",CONCATENATE($S210,\".\",VLOOKUP($L210,'1_Metas_Resultados'!$D$4:$E$403,2,FALSE)))","v":"Sin Registrar"},{"$f":"IF(ISERROR(VLOOKUP(G210,'1_Metas_Resultados'!$D$4:$I$403,6,FALSE)),\"\",VLOOKUP(G210,'1_Metas_Resultados'!$D$4:$I$403,6,FALSE))","v":""}]
[{"$f":"IF(ISERROR(CONCATENATE($S211,\".\",VLOOKUP($G211,'1_Metas_Resultados'!$D$4:$E$403,2,FALSE))),\"Sin Registrar\",CONCATENATE($S211,\".\",VLOOKUP($G211,'1_Metas_Resultados'!$D$4:$E$403,2,FALSE)))","v":"Sin Registrar"},210," ",{"$f":"IF(ISERROR(CONCATENATE($S211,\".\",VLOOKUP($K211,'1_Metas_Resultados'!$D$4:$E$403,2,FALSE))),\"Sin Registrar\",CONCATENATE($S211,\".\",VLOOKUP($K211,'1_Metas_Resultados'!$D$4:$E$403,2,FALSE)))","v":"Sin Registrar"},{"$f":"IF(ISERROR(CONCATENATE($S211,\".\",VLOOKUP($L211,'1_Metas_Resultados'!$D$4:$E$403,2,FALSE))),\"Sin Registrar\",CONCATENATE($S211,\".\",VLOOKUP($L211,'1_Metas_Resultados'!$D$4:$E$403,2,FALSE)))","v":"Sin Registrar"},{"$f":"IF(ISERROR(VLOOKUP(G211,'1_Metas_Resultados'!$D$4:$I$403,6,FALSE)),\"\",VLOOKUP(G211,'1_Metas_Resultados'!$D$4:$I$403,6,FALSE))","v":""}]
[{"$f":"IF(ISERROR(CONCATENATE($S212,\".\",VLOOKUP($G212,'1_Metas_Resultados'!$D$4:$E$403,2,FALSE))),\"Sin Registrar\",CONCATENATE($S212,\".\",VLOOKUP($G212,'1_Metas_Resultados'!$D$4:$E$403,2,FALSE)))","v":"Sin Registrar"},211," ",{"$f":"IF(ISERROR(CONCATENATE($S212,\".\",VLOOKUP($K212,'1_Metas_Resultados'!$D$4:$E$403,2,FALSE))),\"Sin Registrar\",CONCATENATE($S212,\".\",VLOOKUP($K212,'1_Metas_Resultados'!$D$4:$E$403,2,FALSE)))","v":"Sin Registrar"},{"$f":"IF(ISERROR(CONCATENATE($S212,\".\",VLOOKUP($L212,'1_Metas_Resultados'!$D$4:$E$403,2,FALSE))),\"Sin Registrar\",CONCATENATE($S212,\".\",VLOOKUP($L212,'1_Metas_Resultados'!$D$4:$E$403,2,FALSE)))","v":"Sin Registrar"},{"$f":"IF(ISERROR(VLOOKUP(G212,'1_Metas_Resultados'!$D$4:$I$403,6,FALSE)),\"\",VLOOKUP(G212,'1_Metas_Resultados'!$D$4:$I$403,6,FALSE))","v":""}]
[{"$f":"IF(ISERROR(CONCATENATE($S213,\".\",VLOOKUP($G213,'1_Metas_Resultados'!$D$4:$E$403,2,FALSE))),\"Sin Registrar\",CONCATENATE($S213,\".\",VLOOKUP($G213,'1_Metas_Resultados'!$D$4:$E$403,2,FALSE)))","v":"Sin Registrar"},212," ",{"$f":"IF(ISERROR(CONCATENATE($S213,\".\",VLOOKUP($K213,'1_Metas_Resultados'!$D$4:$E$403,2,FALSE))),\"Sin Registrar\",CONCATENATE($S213,\".\",VLOOKUP($K213,'1_Metas_Resultados'!$D$4:$E$403,2,FALSE)))","v":"Sin Registrar"},{"$f":"IF(ISERROR(CONCATENATE($S213,\".\",VLOOKUP($L213,'1_Metas_Resultados'!$D$4:$E$403,2,FALSE))),\"Sin Registrar\",CONCATENATE($S213,\".\",VLOOKUP($L213,'1_Metas_Resultados'!$D$4:$E$403,2,FALSE)))","v":"Sin Registrar"},{"$f":"IF(ISERROR(VLOOKUP(G213,'1_Metas_Resultados'!$D$4:$I$403,6,FALSE)),\"\",VLOOKUP(G213,'1_Metas_Resultados'!$D$4:$I$403,6,FALSE))","v":""}]
[{"$f":"IF(ISERROR(CONCATENATE($S214,\".\",VLOOKUP($G214,'1_Metas_Resultados'!$D$4:$E$403,2,FALSE))),\"Sin Registrar\",CONCATENATE($S214,\".\",VLOOKUP($G214,'1_Metas_Resultados'!$D$4:$E$403,2,FALSE)))","v":"Sin Registrar"},213," ",{"$f":"IF(ISERROR(CONCATENATE($S214,\".\",VLOOKUP($K214,'1_Metas_Resultados'!$D$4:$E$403,2,FALSE))),\"Sin Registrar\",CONCATENATE($S214,\".\",VLOOKUP($K214,'1_Metas_Resultados'!$D$4:$E$403,2,FALSE)))","v":"Sin Registrar"},{"$f":"IF(ISERROR(CONCATENATE($S214,\".\",VLOOKUP($L214,'1_Metas_Resultados'!$D$4:$E$403,2,FALSE))),\"Sin Registrar\",CONCATENATE($S214,\".\",VLOOKUP($L214,'1_Metas_Resultados'!$D$4:$E$403,2,FALSE)))","v":"Sin Registrar"},{"$f":"IF(ISERROR(VLOOKUP(G214,'1_Metas_Resultados'!$D$4:$I$403,6,FALSE)),\"\",VLOOKUP(G214,'1_Metas_Resultados'!$D$4:$I$403,6,FALSE))","v":""}]
[{"$f":"IF(ISERROR(CONCATENATE($S215,\".\",VLOOKUP($G215,'1_Metas_Resultados'!$D$4:$E$403,2,FALSE))),\"Sin Registrar\",CONCATENATE($S215,\".\",VLOOKUP($G215,'1_Metas_Resultados'!$D$4:$E$403,2,FALSE)))","v":"Sin Registrar"},214," ",{"$f":"IF(ISERROR(CONCATENATE($S215,\".\",VLOOKUP($K215,'1_Metas_Resultados'!$D$4:$E$403,2,FALSE))),\"Sin Registrar\",CONCATENATE($S215,\".\",VLOOKUP($K215,'1_Metas_Resultados'!$D$4:$E$403,2,FALSE)))","v":"Sin Registrar"},{"$f":"IF(ISERROR(CONCATENATE($S215,\".\",VLOOKUP($L215,'1_Metas_Resultados'!$D$4:$E$403,2,FALSE))),\"Sin Registrar\",CONCATENATE($S215,\".\",VLOOKUP($L215,'1_Metas_Resultados'!$D$4:$E$403,2,FALSE)))","v":"Sin Registrar"},{"$f":"IF(ISERROR(VLOOKUP(G215,'1_Metas_Resultados'!$D$4:$I$403,6,FALSE)),\"\",VLOOKUP(G215,'1_Metas_Resultados'!$D$4:$I$403,6,FALSE))","v":""}]
[{"$f":"IF(ISERROR(CONCATENATE($S216,\".\",VLOOKUP($G216,'1_Metas_Resultados'!$D$4:$E$403,2,FALSE))),\"Sin Registrar\",CONCATENATE($S216,\".\",VLOOKUP($G216,'1_Metas_Resultados'!$D$4:$E$403,2,FALSE)))","v":"Sin Registrar"},215," ",{"$f":"IF(ISERROR(CONCATENATE($S216,\".\",VLOOKUP($K216,'1_Metas_Resultados'!$D$4:$E$403,2,FALSE))),\"Sin Registrar\",CONCATENATE($S216,\".\",VLOOKUP($K216,'1_Metas_Resultados'!$D$4:$E$403,2,FALSE)))","v":"Sin Registrar"},{"$f":"IF(ISERROR(CONCATENATE($S216,\".\",VLOOKUP($L216,'1_Metas_Resultados'!$D$4:$E$403,2,FALSE))),\"Sin Registrar\",CONCATENATE($S216,\".\",VLOOKUP($L216,'1_Metas_Resultados'!$D$4:$E$403,2,FALSE)))","v":"Sin Registrar"},{"$f":"IF(ISERROR(VLOOKUP(G216,'1_Metas_Resultados'!$D$4:$I$403,6,FALSE)),\"\",VLOOKUP(G216,'1_Metas_Resultados'!$D$4:$I$403,6,FALSE))","v":""}]
[{"$f":"IF(ISERROR(CONCATENATE($S217,\".\",VLOOKUP($G217,'1_Metas_Resultados'!$D$4:$E$403,2,FALSE))),\"Sin Registrar\",CONCATENATE($S217,\".\",VLOOKUP($G217,'1_Metas_Resultados'!$D$4:$E$403,2,FALSE)))","v":"Sin Registrar"},216," ",{"$f":"IF(ISERROR(CONCATENATE($S217,\".\",VLOOKUP($K217,'1_Metas_Resultados'!$D$4:$E$403,2,FALSE))),\"Sin Registrar\",CONCATENATE($S217,\".\",VLOOKUP($K217,'1_Metas_Resultados'!$D$4:$E$403,2,FALSE)))","v":"Sin Registrar"},{"$f":"IF(ISERROR(CONCATENATE($S217,\".\",VLOOKUP($L217,'1_Metas_Resultados'!$D$4:$E$403,2,FALSE))),\"Sin Registrar\",CONCATENATE($S217,\".\",VLOOKUP($L217,'1_Metas_Resultados'!$D$4:$E$403,2,FALSE)))","v":"Sin Registrar"},{"$f":"IF(ISERROR(VLOOKUP(G217,'1_Metas_Resultados'!$D$4:$I$403,6,FALSE)),\"\",VLOOKUP(G217,'1_Metas_Resultados'!$D$4:$I$403,6,FALSE))","v":""}]
[{"$f":"IF(ISERROR(CONCATENATE($S218,\".\",VLOOKUP($G218,'1_Metas_Resultados'!$D$4:$E$403,2,FALSE))),\"Sin Registrar\",CONCATENATE($S218,\".\",VLOOKUP($G218,'1_Metas_Resultados'!$D$4:$E$403,2,FALSE)))","v":"Sin Registrar"},217," ",{"$f":"IF(ISERROR(CONCATENATE($S218,\".\",VLOOKUP($K218,'1_Metas_Resultados'!$D$4:$E$403,2,FALSE))),\"Sin Registrar\",CONCATENATE($S218,\".\",VLOOKUP($K218,'1_Metas_Resultados'!$D$4:$E$403,2,FALSE)))","v":"Sin Registrar"},{"$f":"IF(ISERROR(CONCATENATE($S218,\".\",VLOOKUP($L218,'1_Metas_Resultados'!$D$4:$E$403,2,FALSE))),\"Sin Registrar\",CONCATENATE($S218,\".\",VLOOKUP($L218,'1_Metas_Resultados'!$D$4:$E$403,2,FALSE)))","v":"Sin Registrar"},{"$f":"IF(ISERROR(VLOOKUP(G218,'1_Metas_Resultados'!$D$4:$I$403,6,FALSE)),\"\",VLOOKUP(G218,'1_Metas_Resultados'!$D$4:$I$403,6,FALSE))","v":""}]
[{"$f":"IF(ISERROR(CONCATENATE($S219,\".\",VLOOKUP($G219,'1_Metas_Resultados'!$D$4:$E$403,2,FALSE))),\"Sin Registrar\",CONCATENATE($S219,\".\",VLOOKUP($G219,'1_Metas_Resultados'!$D$4:$E$403,2,FALSE)))","v":"Sin Registrar"},218," ",{"$f":"IF(ISERROR(CONCATENATE($S219,\".\",VLOOKUP($K219,'1_Metas_Resultados'!$D$4:$E$403,2,FALSE))),\"Sin Registrar\",CONCATENATE($S219,\".\",VLOOKUP($K219,'1_Metas_Resultados'!$D$4:$E$403,2,FALSE)))","v":"Sin Registrar"},{"$f":"IF(ISERROR(CONCATENATE($S219,\".\",VLOOKUP($L219,'1_Metas_Resultados'!$D$4:$E$403,2,FALSE))),\"Sin Registrar\",CONCATENATE($S219,\".\",VLOOKUP($L219,'1_Metas_Resultados'!$D$4:$E$403,2,FALSE)))","v":"Sin Registrar"},{"$f":"IF(ISERROR(VLOOKUP(G219,'1_Metas_Resultados'!$D$4:$I$403,6,FALSE)),\"\",VLOOKUP(G219,'1_Metas_Resultados'!$D$4:$I$403,6,FALSE))","v":""}]
[{"$f":"IF(ISERROR(CONCATENATE($S220,\".\",VLOOKUP($G220,'1_Metas_Resultados'!$D$4:$E$403,2,FALSE))),\"Sin Registrar\",CONCATENATE($S220,\".\",VLOOKUP($G220,'1_Metas_Resultados'!$D$4:$E$403,2,FALSE)))","v":"Sin Registrar"},219," ",{"$f":"IF(ISERROR(CONCATENATE($S220,\".\",VLOOKUP($K220,'1_Metas_Resultados'!$D$4:$E$403,2,FALSE))),\"Sin Registrar\",CONCATENATE($S220,\".\",VLOOKUP($K220,'1_Metas_Resultados'!$D$4:$E$403,2,FALSE)))","v":"Sin Registrar"},{"$f":"IF(ISERROR(CONCATENATE($S220,\".\",VLOOKUP($L220,'1_Metas_Resultados'!$D$4:$E$403,2,FALSE))),\"Sin Registrar\",CONCATENATE($S220,\".\",VLOOKUP($L220,'1_Metas_Resultados'!$D$4:$E$403,2,FALSE)))","v":"Sin Registrar"},{"$f":"IF(ISERROR(VLOOKUP(G220,'1_Metas_Resultados'!$D$4:$I$403,6,FALSE)),\"\",VLOOKUP(G220,'1_Metas_Resultados'!$D$4:$I$403,6,FALSE))","v":""}]
[{"$f":"IF(ISERROR(CONCATENATE($S221,\".\",VLOOKUP($G221,'1_Metas_Resultados'!$D$4:$E$403,2,FALSE))),\"Sin Registrar\",CONCATENATE($S221,\".\",VLOOKUP($G221,'1_Metas_Resultados'!$D$4:$E$403,2,FALSE)))","v":"Sin Registrar"},220," ",{"$f":"IF(ISERROR(CONCATENATE($S221,\".\",VLOOKUP($K221,'1_Metas_Resultados'!$D$4:$E$403,2,FALSE))),\"Sin Registrar\",CONCATENATE($S221,\".\",VLOOKUP($K221,'1_Metas_Resultados'!$D$4:$E$403,2,FALSE)))","v":"Sin Registrar"},{"$f":"IF(ISERROR(CONCATENATE($S221,\".\",VLOOKUP($L221,'1_Metas_Resultados'!$D$4:$E$403,2,FALSE))),\"Sin Registrar\",CONCATENATE($S221,\".\",VLOOKUP($L221,'1_Metas_Resultados'!$D$4:$E$403,2,FALSE)))","v":"Sin Registrar"},{"$f":"IF(ISERROR(VLOOKUP(G221,'1_Metas_Resultados'!$D$4:$I$403,6,FALSE)),\"\",VLOOKUP(G221,'1_Metas_Resultados'!$D$4:$I$403,6,FALSE))","v":""}]
[{"$f":"IF(ISERROR(CONCATENATE($S222,\".\",VLOOKUP($G222,'1_Metas_Resultados'!$D$4:$E$403,2,FALSE))),\"Sin Registrar\",CONCATENATE($S222,\".\",VLOOKUP($G222,'1_Metas_Resultados'!$D$4:$E$403,2,FALSE)))","v":"Sin Registrar"},221," ",{"$f":"IF(ISERROR(CONCATENATE($S222,\".\",VLOOKUP($K222,'1_Metas_Resultados'!$D$4:$E$403,2,FALSE))),\"Sin Registrar\",CONCATENATE($S222,\".\",VLOOKUP($K222,'1_Metas_Resultados'!$D$4:$E$403,2,FALSE)))","v":"Sin Registrar"},{"$f":"IF(ISERROR(CONCATENATE($S222,\".\",VLOOKUP($L222,'1_Metas_Resultados'!$D$4:$E$403,2,FALSE))),\"Sin Registrar\",CONCATENATE($S222,\".\",VLOOKUP($L222,'1_Metas_Resultados'!$D$4:$E$403,2,FALSE)))","v":"Sin Registrar"},{"$f":"IF(ISERROR(VLOOKUP(G222,'1_Metas_Resultados'!$D$4:$I$403,6,FALSE)),\"\",VLOOKUP(G222,'1_Metas_Resultados'!$D$4:$I$403,6,FALSE))","v":""}]
[{"$f":"IF(ISERROR(CONCATENATE($S223,\".\",VLOOKUP($G223,'1_Metas_Resultados'!$D$4:$E$403,2,FALSE))),\"Sin Registrar\",CONCATENATE($S223,\".\",VLOOKUP($G223,'1_Metas_Resultados'!$D$4:$E$403,2,FALSE)))","v":"Sin Registrar"},222," ",{"$f":"IF(ISERROR(CONCATENATE($S223,\".\",VLOOKUP($K223,'1_Metas_Resultados'!$D$4:$E$403,2,FALSE))),\"Sin Registrar\",CONCATENATE($S223,\".\",VLOOKUP($K223,'1_Metas_Resultados'!$D$4:$E$403,2,FALSE)))","v":"Sin Registrar"},{"$f":"IF(ISERROR(CONCATENATE($S223,\".\",VLOOKUP($L223,'1_Metas_Resultados'!$D$4:$E$403,2,FALSE))),\"Sin Registrar\",CONCATENATE($S223,\".\",VLOOKUP($L223,'1_Metas_Resultados'!$D$4:$E$403,2,FALSE)))","v":"Sin Registrar"},{"$f":"IF(ISERROR(VLOOKUP(G223,'1_Metas_Resultados'!$D$4:$I$403,6,FALSE)),\"\",VLOOKUP(G223,'1_Metas_Resultados'!$D$4:$I$403,6,FALSE))","v":""}]
[{"$f":"IF(ISERROR(CONCATENATE($S224,\".\",VLOOKUP($G224,'1_Metas_Resultados'!$D$4:$E$403,2,FALSE))),\"Sin Registrar\",CONCATENATE($S224,\".\",VLOOKUP($G224,'1_Metas_Resultados'!$D$4:$E$403,2,FALSE)))","v":"Sin Registrar"},223," ",{"$f":"IF(ISERROR(CONCATENATE($S224,\".\",VLOOKUP($K224,'1_Metas_Resultados'!$D$4:$E$403,2,FALSE))),\"Sin Registrar\",CONCATENATE($S224,\".\",VLOOKUP($K224,'1_Metas_Resultados'!$D$4:$E$403,2,FALSE)))","v":"Sin Registrar"},{"$f":"IF(ISERROR(CONCATENATE($S224,\".\",VLOOKUP($L224,'1_Metas_Resultados'!$D$4:$E$403,2,FALSE))),\"Sin Registrar\",CONCATENATE($S224,\".\",VLOOKUP($L224,'1_Metas_Resultados'!$D$4:$E$403,2,FALSE)))","v":"Sin Registrar"},{"$f":"IF(ISERROR(VLOOKUP(G224,'1_Metas_Resultados'!$D$4:$I$403,6,FALSE)),\"\",VLOOKUP(G224,'1_Metas_Resultados'!$D$4:$I$403,6,FALSE))","v":""}]
[{"$f":"IF(ISERROR(CONCATENATE($S225,\".\",VLOOKUP($G225,'1_Metas_Resultados'!$D$4:$E$403,2,FALSE))),\"Sin Registrar\",CONCATENATE($S225,\".\",VLOOKUP($G225,'1_Metas_Resultados'!$D$4:$E$403,2,FALSE)))","v":"Sin Registrar"},224," ",{"$f":"IF(ISERROR(CONCATENATE($S225,\".\",VLOOKUP($K225,'1_Metas_Resultados'!$D$4:$E$403,2,FALSE))),\"Sin Registrar\",CONCATENATE($S225,\".\",VLOOKUP($K225,'1_Metas_Resultados'!$D$4:$E$403,2,FALSE)))","v":"Sin Registrar"},{"$f":"IF(ISERROR(CONCATENATE($S225,\".\",VLOOKUP($L225,'1_Metas_Resultados'!$D$4:$E$403,2,FALSE))),\"Sin Registrar\",CONCATENATE($S225,\".\",VLOOKUP($L225,'1_Metas_Resultados'!$D$4:$E$403,2,FALSE)))","v":"Sin Registrar"},{"$f":"IF(ISERROR(VLOOKUP(G225,'1_Metas_Resultados'!$D$4:$I$403,6,FALSE)),\"\",VLOOKUP(G225,'1_Metas_Resultados'!$D$4:$I$403,6,FALSE))","v":""}]
[{"$f":"IF(ISERROR(CONCATENATE($S226,\".\",VLOOKUP($G226,'1_Metas_Resultados'!$D$4:$E$403,2,FALSE))),\"Sin Registrar\",CONCATENATE($S226,\".\",VLOOKUP($G226,'1_Metas_Resultados'!$D$4:$E$403,2,FALSE)))","v":"Sin Registrar"},225," ",{"$f":"IF(ISERROR(CONCATENATE($S226,\".\",VLOOKUP($K226,'1_Metas_Resultados'!$D$4:$E$403,2,FALSE))),\"Sin Registrar\",CONCATENATE($S226,\".\",VLOOKUP($K226,'1_Metas_Resultados'!$D$4:$E$403,2,FALSE)))","v":"Sin Registrar"},{"$f":"IF(ISERROR(CONCATENATE($S226,\".\",VLOOKUP($L226,'1_Metas_Resultados'!$D$4:$E$403,2,FALSE))),\"Sin Registrar\",CONCATENATE($S226,\".\",VLOOKUP($L226,'1_Metas_Resultados'!$D$4:$E$403,2,FALSE)))","v":"Sin Registrar"},{"$f":"IF(ISERROR(VLOOKUP(G226,'1_Metas_Resultados'!$D$4:$I$403,6,FALSE)),\"\",VLOOKUP(G226,'1_Metas_Resultados'!$D$4:$I$403,6,FALSE))","v":""}]
[{"$f":"IF(ISERROR(CONCATENATE($S227,\".\",VLOOKUP($G227,'1_Metas_Resultados'!$D$4:$E$403,2,FALSE))),\"Sin Registrar\",CONCATENATE($S227,\".\",VLOOKUP($G227,'1_Metas_Resultados'!$D$4:$E$403,2,FALSE)))","v":"Sin Registrar"},226," ",{"$f":"IF(ISERROR(CONCATENATE($S227,\".\",VLOOKUP($K227,'1_Metas_Resultados'!$D$4:$E$403,2,FALSE))),\"Sin Registrar\",CONCATENATE($S227,\".\",VLOOKUP($K227,'1_Metas_Resultados'!$D$4:$E$403,2,FALSE)))","v":"Sin Registrar"},{"$f":"IF(ISERROR(CONCATENATE($S227,\".\",VLOOKUP($L227,'1_Metas_Resultados'!$D$4:$E$403,2,FALSE))),\"Sin Registrar\",CONCATENATE($S227,\".\",VLOOKUP($L227,'1_Metas_Resultados'!$D$4:$E$403,2,FALSE)))","v":"Sin Registrar"},{"$f":"IF(ISERROR(VLOOKUP(G227,'1_Metas_Resultados'!$D$4:$I$403,6,FALSE)),\"\",VLOOKUP(G227,'1_Metas_Resultados'!$D$4:$I$403,6,FALSE))","v":""}]
[{"$f":"IF(ISERROR(CONCATENATE($S228,\".\",VLOOKUP($G228,'1_Metas_Resultados'!$D$4:$E$403,2,FALSE))),\"Sin Registrar\",CONCATENATE($S228,\".\",VLOOKUP($G228,'1_Metas_Resultados'!$D$4:$E$403,2,FALSE)))","v":"Sin Registrar"},227," ",{"$f":"IF(ISERROR(CONCATENATE($S228,\".\",VLOOKUP($K228,'1_Metas_Resultados'!$D$4:$E$403,2,FALSE))),\"Sin Registrar\",CONCATENATE($S228,\".\",VLOOKUP($K228,'1_Metas_Resultados'!$D$4:$E$403,2,FALSE)))","v":"Sin Registrar"},{"$f":"IF(ISERROR(CONCATENATE($S228,\".\",VLOOKUP($L228,'1_Metas_Resultados'!$D$4:$E$403,2,FALSE))),\"Sin Registrar\",CONCATENATE($S228,\".\",VLOOKUP($L228,'1_Metas_Resultados'!$D$4:$E$403,2,FALSE)))","v":"Sin Registrar"},{"$f":"IF(ISERROR(VLOOKUP(G228,'1_Metas_Resultados'!$D$4:$I$403,6,FALSE)),\"\",VLOOKUP(G228,'1_Metas_Resultados'!$D$4:$I$403,6,FALSE))","v":""}]
[{"$f":"IF(ISERROR(CONCATENATE($S229,\".\",VLOOKUP($G229,'1_Metas_Resultados'!$D$4:$E$403,2,FALSE))),\"Sin Registrar\",CONCATENATE($S229,\".\",VLOOKUP($G229,'1_Metas_Resultados'!$D$4:$E$403,2,FALSE)))","v":"Sin Registrar"},228," ",{"$f":"IF(ISERROR(CONCATENATE($S229,\".\",VLOOKUP($K229,'1_Metas_Resultados'!$D$4:$E$403,2,FALSE))),\"Sin Registrar\",CONCATENATE($S229,\".\",VLOOKUP($K229,'1_Metas_Resultados'!$D$4:$E$403,2,FALSE)))","v":"Sin Registrar"},{"$f":"IF(ISERROR(CONCATENATE($S229,\".\",VLOOKUP($L229,'1_Metas_Resultados'!$D$4:$E$403,2,FALSE))),\"Sin Registrar\",CONCATENATE($S229,\".\",VLOOKUP($L229,'1_Metas_Resultados'!$D$4:$E$403,2,FALSE)))","v":"Sin Registrar"},{"$f":"IF(ISERROR(VLOOKUP(G229,'1_Metas_Resultados'!$D$4:$I$403,6,FALSE)),\"\",VLOOKUP(G229,'1_Metas_Resultados'!$D$4:$I$403,6,FALSE))","v":""}]
[{"$f":"IF(ISERROR(CONCATENATE($S230,\".\",VLOOKUP($G230,'1_Metas_Resultados'!$D$4:$E$403,2,FALSE))),\"Sin Registrar\",CONCATENATE($S230,\".\",VLOOKUP($G230,'1_Metas_Resultados'!$D$4:$E$403,2,FALSE)))","v":"Sin Registrar"},229," ",{"$f":"IF(ISERROR(CONCATENATE($S230,\".\",VLOOKUP($K230,'1_Metas_Resultados'!$D$4:$E$403,2,FALSE))),\"Sin Registrar\",CONCATENATE($S230,\".\",VLOOKUP($K230,'1_Metas_Resultados'!$D$4:$E$403,2,FALSE)))","v":"Sin Registrar"},{"$f":"IF(ISERROR(CONCATENATE($S230,\".\",VLOOKUP($L230,'1_Metas_Resultados'!$D$4:$E$403,2,FALSE))),\"Sin Registrar\",CONCATENATE($S230,\".\",VLOOKUP($L230,'1_Metas_Resultados'!$D$4:$E$403,2,FALSE)))","v":"Sin Registrar"},{"$f":"IF(ISERROR(VLOOKUP(G230,'1_Metas_Resultados'!$D$4:$I$403,6,FALSE)),\"\",VLOOKUP(G230,'1_Metas_Resultados'!$D$4:$I$403,6,FALSE))","v":""}]
[{"$f":"IF(ISERROR(CONCATENATE($S231,\".\",VLOOKUP($G231,'1_Metas_Resultados'!$D$4:$E$403,2,FALSE))),\"Sin Registrar\",CONCATENATE($S231,\".\",VLOOKUP($G231,'1_Metas_Resultados'!$D$4:$E$403,2,FALSE)))","v":"Sin Registrar"},230," ",{"$f":"IF(ISERROR(CONCATENATE($S231,\".\",VLOOKUP($K231,'1_Metas_Resultados'!$D$4:$E$403,2,FALSE))),\"Sin Registrar\",CONCATENATE($S231,\".\",VLOOKUP($K231,'1_Metas_Resultados'!$D$4:$E$403,2,FALSE)))","v":"Sin Registrar"},{"$f":"IF(ISERROR(CONCATENATE($S231,\".\",VLOOKUP($L231,'1_Metas_Resultados'!$D$4:$E$403,2,FALSE))),\"Sin Registrar\",CONCATENATE($S231,\".\",VLOOKUP($L231,'1_Metas_Resultados'!$D$4:$E$403,2,FALSE)))","v":"Sin Registrar"},{"$f":"IF(ISERROR(VLOOKUP(G231,'1_Metas_Resultados'!$D$4:$I$403,6,FALSE)),\"\",VLOOKUP(G231,'1_Metas_Resultados'!$D$4:$I$403,6,FALSE))","v":""}]
[{"$f":"IF(ISERROR(CONCATENATE($S232,\".\",VLOOKUP($G232,'1_Metas_Resultados'!$D$4:$E$403,2,FALSE))),\"Sin Registrar\",CONCATENATE($S232,\".\",VLOOKUP($G232,'1_Metas_Resultados'!$D$4:$E$403,2,FALSE)))","v":"Sin Registrar"},231," ",{"$f":"IF(ISERROR(CONCATENATE($S232,\".\",VLOOKUP($K232,'1_Metas_Resultados'!$D$4:$E$403,2,FALSE))),\"Sin Registrar\",CONCATENATE($S232,\".\",VLOOKUP($K232,'1_Metas_Resultados'!$D$4:$E$403,2,FALSE)))","v":"Sin Registrar"},{"$f":"IF(ISERROR(CONCATENATE($S232,\".\",VLOOKUP($L232,'1_Metas_Resultados'!$D$4:$E$403,2,FALSE))),\"Sin Registrar\",CONCATENATE($S232,\".\",VLOOKUP($L232,'1_Metas_Resultados'!$D$4:$E$403,2,FALSE)))","v":"Sin Registrar"},{"$f":"IF(ISERROR(VLOOKUP(G232,'1_Metas_Resultados'!$D$4:$I$403,6,FALSE)),\"\",VLOOKUP(G232,'1_Metas_Resultados'!$D$4:$I$403,6,FALSE))","v":""}]
[{"$f":"IF(ISERROR(CONCATENATE($S233,\".\",VLOOKUP($G233,'1_Metas_Resultados'!$D$4:$E$403,2,FALSE))),\"Sin Registrar\",CONCATENATE($S233,\".\",VLOOKUP($G233,'1_Metas_Resultados'!$D$4:$E$403,2,FALSE)))","v":"Sin Registrar"},232," ",{"$f":"IF(ISERROR(CONCATENATE($S233,\".\",VLOOKUP($K233,'1_Metas_Resultados'!$D$4:$E$403,2,FALSE))),\"Sin Registrar\",CONCATENATE($S233,\".\",VLOOKUP($K233,'1_Metas_Resultados'!$D$4:$E$403,2,FALSE)))","v":"Sin Registrar"},{"$f":"IF(ISERROR(CONCATENATE($S233,\".\",VLOOKUP($L233,'1_Metas_Resultados'!$D$4:$E$403,2,FALSE))),\"Sin Registrar\",CONCATENATE($S233,\".\",VLOOKUP($L233,'1_Metas_Resultados'!$D$4:$E$403,2,FALSE)))","v":"Sin Registrar"},{"$f":"IF(ISERROR(VLOOKUP(G233,'1_Metas_Resultados'!$D$4:$I$403,6,FALSE)),\"\",VLOOKUP(G233,'1_Metas_Resultados'!$D$4:$I$403,6,FALSE))","v":""}]
[{"$f":"IF(ISERROR(CONCATENATE($S234,\".\",VLOOKUP($G234,'1_Metas_Resultados'!$D$4:$E$403,2,FALSE))),\"Sin Registrar\",CONCATENATE($S234,\".\",VLOOKUP($G234,'1_Metas_Resultados'!$D$4:$E$403,2,FALSE)))","v":"Sin Registrar"},233," ",{"$f":"IF(ISERROR(CONCATENATE($S234,\".\",VLOOKUP($K234,'1_Metas_Resultados'!$D$4:$E$403,2,FALSE))),\"Sin Registrar\",CONCATENATE($S234,\".\",VLOOKUP($K234,'1_Metas_Resultados'!$D$4:$E$403,2,FALSE)))","v":"Sin Registrar"},{"$f":"IF(ISERROR(CONCATENATE($S234,\".\",VLOOKUP($L234,'1_Metas_Resultados'!$D$4:$E$403,2,FALSE))),\"Sin Registrar\",CONCATENATE($S234,\".\",VLOOKUP($L234,'1_Metas_Resultados'!$D$4:$E$403,2,FALSE)))","v":"Sin Registrar"},{"$f":"IF(ISERROR(VLOOKUP(G234,'1_Metas_Resultados'!$D$4:$I$403,6,FALSE)),\"\",VLOOKUP(G234,'1_Metas_Resultados'!$D$4:$I$403,6,FALSE))","v":""}]
[{"$f":"IF(ISERROR(CONCATENATE($S235,\".\",VLOOKUP($G235,'1_Metas_Resultados'!$D$4:$E$403,2,FALSE))),\"Sin Registrar\",CONCATENATE($S235,\".\",VLOOKUP($G235,'1_Metas_Resultados'!$D$4:$E$403,2,FALSE)))","v":"Sin Registrar"},234," ",{"$f":"IF(ISERROR(CONCATENATE($S235,\".\",VLOOKUP($K235,'1_Metas_Resultados'!$D$4:$E$403,2,FALSE))),\"Sin Registrar\",CONCATENATE($S235,\".\",VLOOKUP($K235,'1_Metas_Resultados'!$D$4:$E$403,2,FALSE)))","v":"Sin Registrar"},{"$f":"IF(ISERROR(CONCATENATE($S235,\".\",VLOOKUP($L235,'1_Metas_Resultados'!$D$4:$E$403,2,FALSE))),\"Sin Registrar\",CONCATENATE($S235,\".\",VLOOKUP($L235,'1_Metas_Resultados'!$D$4:$E$403,2,FALSE)))","v":"Sin Registrar"},{"$f":"IF(ISERROR(VLOOKUP(G235,'1_Metas_Resultados'!$D$4:$I$403,6,FALSE)),\"\",VLOOKUP(G235,'1_Metas_Resultados'!$D$4:$I$403,6,FALSE))","v":""}]
[{"$f":"IF(ISERROR(CONCATENATE($S236,\".\",VLOOKUP($G236,'1_Metas_Resultados'!$D$4:$E$403,2,FALSE))),\"Sin Registrar\",CONCATENATE($S236,\".\",VLOOKUP($G236,'1_Metas_Resultados'!$D$4:$E$403,2,FALSE)))","v":"Sin Registrar"},235," ",{"$f":"IF(ISERROR(CONCATENATE($S236,\".\",VLOOKUP($K236,'1_Metas_Resultados'!$D$4:$E$403,2,FALSE))),\"Sin Registrar\",CONCATENATE($S236,\".\",VLOOKUP($K236,'1_Metas_Resultados'!$D$4:$E$403,2,FALSE)))","v":"Sin Registrar"},{"$f":"IF(ISERROR(CONCATENATE($S236,\".\",VLOOKUP($L236,'1_Metas_Resultados'!$D$4:$E$403,2,FALSE))),\"Sin Registrar\",CONCATENATE($S236,\".\",VLOOKUP($L236,'1_Metas_Resultados'!$D$4:$E$403,2,FALSE)))","v":"Sin Registrar"},{"$f":"IF(ISERROR(VLOOKUP(G236,'1_Metas_Resultados'!$D$4:$I$403,6,FALSE)),\"\",VLOOKUP(G236,'1_Metas_Resultados'!$D$4:$I$403,6,FALSE))","v":""}]
[{"$f":"IF(ISERROR(CONCATENATE($S237,\".\",VLOOKUP($G237,'1_Metas_Resultados'!$D$4:$E$403,2,FALSE))),\"Sin Registrar\",CONCATENATE($S237,\".\",VLOOKUP($G237,'1_Metas_Resultados'!$D$4:$E$403,2,FALSE)))","v":"Sin Registrar"},236," ",{"$f":"IF(ISERROR(CONCATENATE($S237,\".\",VLOOKUP($K237,'1_Metas_Resultados'!$D$4:$E$403,2,FALSE))),\"Sin Registrar\",CONCATENATE($S237,\".\",VLOOKUP($K237,'1_Metas_Resultados'!$D$4:$E$403,2,FALSE)))","v":"Sin Registrar"},{"$f":"IF(ISERROR(CONCATENATE($S237,\".\",VLOOKUP($L237,'1_Metas_Resultados'!$D$4:$E$403,2,FALSE))),\"Sin Registrar\",CONCATENATE($S237,\".\",VLOOKUP($L237,'1_Metas_Resultados'!$D$4:$E$403,2,FALSE)))","v":"Sin Registrar"},{"$f":"IF(ISERROR(VLOOKUP(G237,'1_Metas_Resultados'!$D$4:$I$403,6,FALSE)),\"\",VLOOKUP(G237,'1_Metas_Resultados'!$D$4:$I$403,6,FALSE))","v":""}]
[{"$f":"IF(ISERROR(CONCATENATE($S238,\".\",VLOOKUP($G238,'1_Metas_Resultados'!$D$4:$E$403,2,FALSE))),\"Sin Registrar\",CONCATENATE($S238,\".\",VLOOKUP($G238,'1_Metas_Resultados'!$D$4:$E$403,2,FALSE)))","v":"Sin Registrar"},237," ",{"$f":"IF(ISERROR(CONCATENATE($S238,\".\",VLOOKUP($K238,'1_Metas_Resultados'!$D$4:$E$403,2,FALSE))),\"Sin Registrar\",CONCATENATE($S238,\".\",VLOOKUP($K238,'1_Metas_Resultados'!$D$4:$E$403,2,FALSE)))","v":"Sin Registrar"},{"$f":"IF(ISERROR(CONCATENATE($S238,\".\",VLOOKUP($L238,'1_Metas_Resultados'!$D$4:$E$403,2,FALSE))),\"Sin Registrar\",CONCATENATE($S238,\".\",VLOOKUP($L238,'1_Metas_Resultados'!$D$4:$E$403,2,FALSE)))","v":"Sin Registrar"},{"$f":"IF(ISERROR(VLOOKUP(G238,'1_Metas_Resultados'!$D$4:$I$403,6,FALSE)),\"\",VLOOKUP(G238,'1_Metas_Resultados'!$D$4:$I$403,6,FALSE))","v":""}]
[{"$f":"IF(ISERROR(CONCATENATE($S239,\".\",VLOOKUP($G239,'1_Metas_Resultados'!$D$4:$E$403,2,FALSE))),\"Sin Registrar\",CONCATENATE($S239,\".\",VLOOKUP($G239,'1_Metas_Resultados'!$D$4:$E$403,2,FALSE)))","v":"Sin Registrar"},238," ",{"$f":"IF(ISERROR(CONCATENATE($S239,\".\",VLOOKUP($K239,'1_Metas_Resultados'!$D$4:$E$403,2,FALSE))),\"Sin Registrar\",CONCATENATE($S239,\".\",VLOOKUP($K239,'1_Metas_Resultados'!$D$4:$E$403,2,FALSE)))","v":"Sin Registrar"},{"$f":"IF(ISERROR(CONCATENATE($S239,\".\",VLOOKUP($L239,'1_Metas_Resultados'!$D$4:$E$403,2,FALSE))),\"Sin Registrar\",CONCATENATE($S239,\".\",VLOOKUP($L239,'1_Metas_Resultados'!$D$4:$E$403,2,FALSE)))","v":"Sin Registrar"},{"$f":"IF(ISERROR(VLOOKUP(G239,'1_Metas_Resultados'!$D$4:$I$403,6,FALSE)),\"\",VLOOKUP(G239,'1_Metas_Resultados'!$D$4:$I$403,6,FALSE))","v":""}]
[{"$f":"IF(ISERROR(CONCATENATE($S240,\".\",VLOOKUP($G240,'1_Metas_Resultados'!$D$4:$E$403,2,FALSE))),\"Sin Registrar\",CONCATENATE($S240,\".\",VLOOKUP($G240,'1_Metas_Resultados'!$D$4:$E$403,2,FALSE)))","v":"Sin Registrar"},239," ",{"$f":"IF(ISERROR(CONCATENATE($S240,\".\",VLOOKUP($K240,'1_Metas_Resultados'!$D$4:$E$403,2,FALSE))),\"Sin Registrar\",CONCATENATE($S240,\".\",VLOOKUP($K240,'1_Metas_Resultados'!$D$4:$E$403,2,FALSE)))","v":"Sin Registrar"},{"$f":"IF(ISERROR(CONCATENATE($S240,\".\",VLOOKUP($L240,'1_Metas_Resultados'!$D$4:$E$403,2,FALSE))),\"Sin Registrar\",CONCATENATE($S240,\".\",VLOOKUP($L240,'1_Metas_Resultados'!$D$4:$E$403,2,FALSE)))","v":"Sin Registrar"},{"$f":"IF(ISERROR(VLOOKUP(G240,'1_Metas_Resultados'!$D$4:$I$403,6,FALSE)),\"\",VLOOKUP(G240,'1_Metas_Resultados'!$D$4:$I$403,6,FALSE))","v":""}]
[{"$f":"IF(ISERROR(CONCATENATE($S241,\".\",VLOOKUP($G241,'1_Metas_Resultados'!$D$4:$E$403,2,FALSE))),\"Sin Registrar\",CONCATENATE($S241,\".\",VLOOKUP($G241,'1_Metas_Resultados'!$D$4:$E$403,2,FALSE)))","v":"Sin Registrar"},240," ",{"$f":"IF(ISERROR(CONCATENATE($S241,\".\",VLOOKUP($K241,'1_Metas_Resultados'!$D$4:$E$403,2,FALSE))),\"Sin Registrar\",CONCATENATE($S241,\".\",VLOOKUP($K241,'1_Metas_Resultados'!$D$4:$E$403,2,FALSE)))","v":"Sin Registrar"},{"$f":"IF(ISERROR(CONCATENATE($S241,\".\",VLOOKUP($L241,'1_Metas_Resultados'!$D$4:$E$403,2,FALSE))),\"Sin Registrar\",CONCATENATE($S241,\".\",VLOOKUP($L241,'1_Metas_Resultados'!$D$4:$E$403,2,FALSE)))","v":"Sin Registrar"},{"$f":"IF(ISERROR(VLOOKUP(G241,'1_Metas_Resultados'!$D$4:$I$403,6,FALSE)),\"\",VLOOKUP(G241,'1_Metas_Resultados'!$D$4:$I$403,6,FALSE))","v":""}]
[{"$f":"IF(ISERROR(CONCATENATE($S242,\".\",VLOOKUP($G242,'1_Metas_Resultados'!$D$4:$E$403,2,FALSE))),\"Sin Registrar\",CONCATENATE($S242,\".\",VLOOKUP($G242,'1_Metas_Resultados'!$D$4:$E$403,2,FALSE)))","v":"Sin Registrar"},241," ",{"$f":"IF(ISERROR(CONCATENATE($S242,\".\",VLOOKUP($K242,'1_Metas_Resultados'!$D$4:$E$403,2,FALSE))),\"Sin Registrar\",CONCATENATE($S242,\".\",VLOOKUP($K242,'1_Metas_Resultados'!$D$4:$E$403,2,FALSE)))","v":"Sin Registrar"},{"$f":"IF(ISERROR(CONCATENATE($S242,\".\",VLOOKUP($L242,'1_Metas_Resultados'!$D$4:$E$403,2,FALSE))),\"Sin Registrar\",CONCATENATE($S242,\".\",VLOOKUP($L242,'1_Metas_Resultados'!$D$4:$E$403,2,FALSE)))","v":"Sin Registrar"},{"$f":"IF(ISERROR(VLOOKUP(G242,'1_Metas_Resultados'!$D$4:$I$403,6,FALSE)),\"\",VLOOKUP(G242,'1_Metas_Resultados'!$D$4:$I$403,6,FALSE))","v":""}]
[{"$f":"IF(ISERROR(CONCATENATE($S243,\".\",VLOOKUP($G243,'1_Metas_Resultados'!$D$4:$E$403,2,FALSE))),\"Sin Registrar\",CONCATENATE($S243,\".\",VLOOKUP($G243,'1_Metas_Resultados'!$D$4:$E$403,2,FALSE)))","v":"Sin Registrar"},242," ",{"$f":"IF(ISERROR(CONCATENATE($S243,\".\",VLOOKUP($K243,'1_Metas_Resultados'!$D$4:$E$403,2,FALSE))),\"Sin Registrar\",CONCATENATE($S243,\".\",VLOOKUP($K243,'1_Metas_Resultados'!$D$4:$E$403,2,FALSE)))","v":"Sin Registrar"},{"$f":"IF(ISERROR(CONCATENATE($S243,\".\",VLOOKUP($L243,'1_Metas_Resultados'!$D$4:$E$403,2,FALSE))),\"Sin Registrar\",CONCATENATE($S243,\".\",VLOOKUP($L243,'1_Metas_Resultados'!$D$4:$E$403,2,FALSE)))","v":"Sin Registrar"},{"$f":"IF(ISERROR(VLOOKUP(G243,'1_Metas_Resultados'!$D$4:$I$403,6,FALSE)),\"\",VLOOKUP(G243,'1_Metas_Resultados'!$D$4:$I$403,6,FALSE))","v":""}]
[{"$f":"IF(ISERROR(CONCATENATE($S244,\".\",VLOOKUP($G244,'1_Metas_Resultados'!$D$4:$E$403,2,FALSE))),\"Sin Registrar\",CONCATENATE($S244,\".\",VLOOKUP($G244,'1_Metas_Resultados'!$D$4:$E$403,2,FALSE)))","v":"Sin Registrar"},243," ",{"$f":"IF(ISERROR(CONCATENATE($S244,\".\",VLOOKUP($K244,'1_Metas_Resultados'!$D$4:$E$403,2,FALSE))),\"Sin Registrar\",CONCATENATE($S244,\".\",VLOOKUP($K244,'1_Metas_Resultados'!$D$4:$E$403,2,FALSE)))","v":"Sin Registrar"},{"$f":"IF(ISERROR(CONCATENATE($S244,\".\",VLOOKUP($L244,'1_Metas_Resultados'!$D$4:$E$403,2,FALSE))),\"Sin Registrar\",CONCATENATE($S244,\".\",VLOOKUP($L244,'1_Metas_Resultados'!$D$4:$E$403,2,FALSE)))","v":"Sin Registrar"},{"$f":"IF(ISERROR(VLOOKUP(G244,'1_Metas_Resultados'!$D$4:$I$403,6,FALSE)),\"\",VLOOKUP(G244,'1_Metas_Resultados'!$D$4:$I$403,6,FALSE))","v":""}]
[{"$f":"IF(ISERROR(CONCATENATE($S245,\".\",VLOOKUP($G245,'1_Metas_Resultados'!$D$4:$E$403,2,FALSE))),\"Sin Registrar\",CONCATENATE($S245,\".\",VLOOKUP($G245,'1_Metas_Resultados'!$D$4:$E$403,2,FALSE)))","v":"Sin Registrar"},244," ",{"$f":"IF(ISERROR(CONCATENATE($S245,\".\",VLOOKUP($K245,'1_Metas_Resultados'!$D$4:$E$403,2,FALSE))),\"Sin Registrar\",CONCATENATE($S245,\".\",VLOOKUP($K245,'1_Metas_Resultados'!$D$4:$E$403,2,FALSE)))","v":"Sin Registrar"},{"$f":"IF(ISERROR(CONCATENATE($S245,\".\",VLOOKUP($L245,'1_Metas_Resultados'!$D$4:$E$403,2,FALSE))),\"Sin Registrar\",CONCATENATE($S245,\".\",VLOOKUP($L245,'1_Metas_Resultados'!$D$4:$E$403,2,FALSE)))","v":"Sin Registrar"},{"$f":"IF(ISERROR(VLOOKUP(G245,'1_Metas_Resultados'!$D$4:$I$403,6,FALSE)),\"\",VLOOKUP(G245,'1_Metas_Resultados'!$D$4:$I$403,6,FALSE))","v":""}]
[{"$f":"IF(ISERROR(CONCATENATE($S246,\".\",VLOOKUP($G246,'1_Metas_Resultados'!$D$4:$E$403,2,FALSE))),\"Sin Registrar\",CONCATENATE($S246,\".\",VLOOKUP($G246,'1_Metas_Resultados'!$D$4:$E$403,2,FALSE)))","v":"Sin Registrar"},245," ",{"$f":"IF(ISERROR(CONCATENATE($S246,\".\",VLOOKUP($K246,'1_Metas_Resultados'!$D$4:$E$403,2,FALSE))),\"Sin Registrar\",CONCATENATE($S246,\".\",VLOOKUP($K246,'1_Metas_Resultados'!$D$4:$E$403,2,FALSE)))","v":"Sin Registrar"},{"$f":"IF(ISERROR(CONCATENATE($S246,\".\",VLOOKUP($L246,'1_Metas_Resultados'!$D$4:$E$403,2,FALSE))),\"Sin Registrar\",CONCATENATE($S246,\".\",VLOOKUP($L246,'1_Metas_Resultados'!$D$4:$E$403,2,FALSE)))","v":"Sin Registrar"},{"$f":"IF(ISERROR(VLOOKUP(G246,'1_Metas_Resultados'!$D$4:$I$403,6,FALSE)),\"\",VLOOKUP(G246,'1_Metas_Resultados'!$D$4:$I$403,6,FALSE))","v":""}]
[{"$f":"IF(ISERROR(CONCATENATE($S247,\".\",VLOOKUP($G247,'1_Metas_Resultados'!$D$4:$E$403,2,FALSE))),\"Sin Registrar\",CONCATENATE($S247,\".\",VLOOKUP($G247,'1_Metas_Resultados'!$D$4:$E$403,2,FALSE)))","v":"Sin Registrar"},246," ",{"$f":"IF(ISERROR(CONCATENATE($S247,\".\",VLOOKUP($K247,'1_Metas_Resultados'!$D$4:$E$403,2,FALSE))),\"Sin Registrar\",CONCATENATE($S247,\".\",VLOOKUP($K247,'1_Metas_Resultados'!$D$4:$E$403,2,FALSE)))","v":"Sin Registrar"},{"$f":"IF(ISERROR(CONCATENATE($S247,\".\",VLOOKUP($L247,'1_Metas_Resultados'!$D$4:$E$403,2,FALSE))),\"Sin Registrar\",CONCATENATE($S247,\".\",VLOOKUP($L247,'1_Metas_Resultados'!$D$4:$E$403,2,FALSE)))","v":"Sin Registrar"},{"$f":"IF(ISERROR(VLOOKUP(G247,'1_Metas_Resultados'!$D$4:$I$403,6,FALSE)),\"\",VLOOKUP(G247,'1_Metas_Resultados'!$D$4:$I$403,6,FALSE))","v":""}]
[{"$f":"IF(ISERROR(CONCATENATE($S248,\".\",VLOOKUP($G248,'1_Metas_Resultados'!$D$4:$E$403,2,FALSE))),\"Sin Registrar\",CONCATENATE($S248,\".\",VLOOKUP($G248,'1_Metas_Resultados'!$D$4:$E$403,2,FALSE)))","v":"Sin Registrar"},247," ",{"$f":"IF(ISERROR(CONCATENATE($S248,\".\",VLOOKUP($K248,'1_Metas_Resultados'!$D$4:$E$403,2,FALSE))),\"Sin Registrar\",CONCATENATE($S248,\".\",VLOOKUP($K248,'1_Metas_Resultados'!$D$4:$E$403,2,FALSE)))","v":"Sin Registrar"},{"$f":"IF(ISERROR(CONCATENATE($S248,\".\",VLOOKUP($L248,'1_Metas_Resultados'!$D$4:$E$403,2,FALSE))),\"Sin Registrar\",CONCATENATE($S248,\".\",VLOOKUP($L248,'1_Metas_Resultados'!$D$4:$E$403,2,FALSE)))","v":"Sin Registrar"},{"$f":"IF(ISERROR(VLOOKUP(G248,'1_Metas_Resultados'!$D$4:$I$403,6,FALSE)),\"\",VLOOKUP(G248,'1_Metas_Resultados'!$D$4:$I$403,6,FALSE))","v":""}]
[{"$f":"IF(ISERROR(CONCATENATE($S249,\".\",VLOOKUP($G249,'1_Metas_Resultados'!$D$4:$E$403,2,FALSE))),\"Sin Registrar\",CONCATENATE($S249,\".\",VLOOKUP($G249,'1_Metas_Resultados'!$D$4:$E$403,2,FALSE)))","v":"Sin Registrar"},248," ",{"$f":"IF(ISERROR(CONCATENATE($S249,\".\",VLOOKUP($K249,'1_Metas_Resultados'!$D$4:$E$403,2,FALSE))),\"Sin Registrar\",CONCATENATE($S249,\".\",VLOOKUP($K249,'1_Metas_Resultados'!$D$4:$E$403,2,FALSE)))","v":"Sin Registrar"},{"$f":"IF(ISERROR(CONCATENATE($S249,\".\",VLOOKUP($L249,'1_Metas_Resultados'!$D$4:$E$403,2,FALSE))),\"Sin Registrar\",CONCATENATE($S249,\".\",VLOOKUP($L249,'1_Metas_Resultados'!$D$4:$E$403,2,FALSE)))","v":"Sin Registrar"},{"$f":"IF(ISERROR(VLOOKUP(G249,'1_Metas_Resultados'!$D$4:$I$403,6,FALSE)),\"\",VLOOKUP(G249,'1_Metas_Resultados'!$D$4:$I$403,6,FALSE))","v":""}]
[{"$f":"IF(ISERROR(CONCATENATE($S250,\".\",VLOOKUP($G250,'1_Metas_Resultados'!$D$4:$E$403,2,FALSE))),\"Sin Registrar\",CONCATENATE($S250,\".\",VLOOKUP($G250,'1_Metas_Resultados'!$D$4:$E$403,2,FALSE)))","v":"Sin Registrar"},249," ",{"$f":"IF(ISERROR(CONCATENATE($S250,\".\",VLOOKUP($K250,'1_Metas_Resultados'!$D$4:$E$403,2,FALSE))),\"Sin Registrar\",CONCATENATE($S250,\".\",VLOOKUP($K250,'1_Metas_Resultados'!$D$4:$E$403,2,FALSE)))","v":"Sin Registrar"},{"$f":"IF(ISERROR(CONCATENATE($S250,\".\",VLOOKUP($L250,'1_Metas_Resultados'!$D$4:$E$403,2,FALSE))),\"Sin Registrar\",CONCATENATE($S250,\".\",VLOOKUP($L250,'1_Metas_Resultados'!$D$4:$E$403,2,FALSE)))","v":"Sin Registrar"},{"$f":"IF(ISERROR(VLOOKUP(G250,'1_Metas_Resultados'!$D$4:$I$403,6,FALSE)),\"\",VLOOKUP(G250,'1_Metas_Resultados'!$D$4:$I$403,6,FALSE))","v":""}]
[{"$f":"IF(ISERROR(CONCATENATE($S251,\".\",VLOOKUP($G251,'1_Metas_Resultados'!$D$4:$E$403,2,FALSE))),\"Sin Registrar\",CONCATENATE($S251,\".\",VLOOKUP($G251,'1_Metas_Resultados'!$D$4:$E$403,2,FALSE)))","v":"Sin Registrar"},250," ",{"$f":"IF(ISERROR(CONCATENATE($S251,\".\",VLOOKUP($K251,'1_Metas_Resultados'!$D$4:$E$403,2,FALSE))),\"Sin Registrar\",CONCATENATE($S251,\".\",VLOOKUP($K251,'1_Metas_Resultados'!$D$4:$E$403,2,FALSE)))","v":"Sin Registrar"},{"$f":"IF(ISERROR(CONCATENATE($S251,\".\",VLOOKUP($L251,'1_Metas_Resultados'!$D$4:$E$403,2,FALSE))),\"Sin Registrar\",CONCATENATE($S251,\".\",VLOOKUP($L251,'1_Metas_Resultados'!$D$4:$E$403,2,FALSE)))","v":"Sin Registrar"},{"$f":"IF(ISERROR(VLOOKUP(G251,'1_Metas_Resultados'!$D$4:$I$403,6,FALSE)),\"\",VLOOKUP(G251,'1_Metas_Resultados'!$D$4:$I$403,6,FALSE))","v":""}]
[{"$f":"IF(ISERROR(CONCATENATE($S252,\".\",VLOOKUP($G252,'1_Metas_Resultados'!$D$4:$E$403,2,FALSE))),\"Sin Registrar\",CONCATENATE($S252,\".\",VLOOKUP($G252,'1_Metas_Resultados'!$D$4:$E$403,2,FALSE)))","v":"Sin Registrar"},251," ",{"$f":"IF(ISERROR(CONCATENATE($S252,\".\",VLOOKUP($K252,'1_Metas_Resultados'!$D$4:$E$403,2,FALSE))),\"Sin Registrar\",CONCATENATE($S252,\".\",VLOOKUP($K252,'1_Metas_Resultados'!$D$4:$E$403,2,FALSE)))","v":"Sin Registrar"},{"$f":"IF(ISERROR(CONCATENATE($S252,\".\",VLOOKUP($L252,'1_Metas_Resultados'!$D$4:$E$403,2,FALSE))),\"Sin Registrar\",CONCATENATE($S252,\".\",VLOOKUP($L252,'1_Metas_Resultados'!$D$4:$E$403,2,FALSE)))","v":"Sin Registrar"},{"$f":"IF(ISERROR(VLOOKUP(G252,'1_Metas_Resultados'!$D$4:$I$403,6,FALSE)),\"\",VLOOKUP(G252,'1_Metas_Resultados'!$D$4:$I$403,6,FALSE))","v":""}]
[{"$f":"IF(ISERROR(CONCATENATE($S253,\".\",VLOOKUP($G253,'1_Metas_Resultados'!$D$4:$E$403,2,FALSE))),\"Sin Registrar\",CONCATENATE($S253,\".\",VLOOKUP($G253,'1_Metas_Resultados'!$D$4:$E$403,2,FALSE)))","v":"Sin Registrar"},252," ",{"$f":"IF(ISERROR(CONCATENATE($S253,\".\",VLOOKUP($K253,'1_Metas_Resultados'!$D$4:$E$403,2,FALSE))),\"Sin Registrar\",CONCATENATE($S253,\".\",VLOOKUP($K253,'1_Metas_Resultados'!$D$4:$E$403,2,FALSE)))","v":"Sin Registrar"},{"$f":"IF(ISERROR(CONCATENATE($S253,\".\",VLOOKUP($L253,'1_Metas_Resultados'!$D$4:$E$403,2,FALSE))),\"Sin Registrar\",CONCATENATE($S253,\".\",VLOOKUP($L253,'1_Metas_Resultados'!$D$4:$E$403,2,FALSE)))","v":"Sin Registrar"},{"$f":"IF(ISERROR(VLOOKUP(G253,'1_Metas_Resultados'!$D$4:$I$403,6,FALSE)),\"\",VLOOKUP(G253,'1_Metas_Resultados'!$D$4:$I$403,6,FALSE))","v":""}]
[{"$f":"IF(ISERROR(CONCATENATE($S254,\".\",VLOOKUP($G254,'1_Metas_Resultados'!$D$4:$E$403,2,FALSE))),\"Sin Registrar\",CONCATENATE($S254,\".\",VLOOKUP($G254,'1_Metas_Resultados'!$D$4:$E$403,2,FALSE)))","v":"Sin Registrar"},253," ",{"$f":"IF(ISERROR(CONCATENATE($S254,\".\",VLOOKUP($K254,'1_Metas_Resultados'!$D$4:$E$403,2,FALSE))),\"Sin Registrar\",CONCATENATE($S254,\".\",VLOOKUP($K254,'1_Metas_Resultados'!$D$4:$E$403,2,FALSE)))","v":"Sin Registrar"},{"$f":"IF(ISERROR(CONCATENATE($S254,\".\",VLOOKUP($L254,'1_Metas_Resultados'!$D$4:$E$403,2,FALSE))),\"Sin Registrar\",CONCATENATE($S254,\".\",VLOOKUP($L254,'1_Metas_Resultados'!$D$4:$E$403,2,FALSE)))","v":"Sin Registrar"},{"$f":"IF(ISERROR(VLOOKUP(G254,'1_Metas_Resultados'!$D$4:$I$403,6,FALSE)),\"\",VLOOKUP(G254,'1_Metas_Resultados'!$D$4:$I$403,6,FALSE))","v":""}]
[{"$f":"IF(ISERROR(CONCATENATE($S255,\".\",VLOOKUP($G255,'1_Metas_Resultados'!$D$4:$E$403,2,FALSE))),\"Sin Registrar\",CONCATENATE($S255,\".\",VLOOKUP($G255,'1_Metas_Resultados'!$D$4:$E$403,2,FALSE)))","v":"Sin Registrar"},254," ",{"$f":"IF(ISERROR(CONCATENATE($S255,\".\",VLOOKUP($K255,'1_Metas_Resultados'!$D$4:$E$403,2,FALSE))),\"Sin Registrar\",CONCATENATE($S255,\".\",VLOOKUP($K255,'1_Metas_Resultados'!$D$4:$E$403,2,FALSE)))","v":"Sin Registrar"},{"$f":"IF(ISERROR(CONCATENATE($S255,\".\",VLOOKUP($L255,'1_Metas_Resultados'!$D$4:$E$403,2,FALSE))),\"Sin Registrar\",CONCATENATE($S255,\".\",VLOOKUP($L255,'1_Metas_Resultados'!$D$4:$E$403,2,FALSE)))","v":"Sin Registrar"},{"$f":"IF(ISERROR(VLOOKUP(G255,'1_Metas_Resultados'!$D$4:$I$403,6,FALSE)),\"\",VLOOKUP(G255,'1_Metas_Resultados'!$D$4:$I$403,6,FALSE))","v":""}]
[{"$f":"IF(ISERROR(CONCATENATE($S256,\".\",VLOOKUP($G256,'1_Metas_Resultados'!$D$4:$E$403,2,FALSE))),\"Sin Registrar\",CONCATENATE($S256,\".\",VLOOKUP($G256,'1_Metas_Resultados'!$D$4:$E$403,2,FALSE)))","v":"Sin Registrar"},255," ",{"$f":"IF(ISERROR(CONCATENATE($S256,\".\",VLOOKUP($K256,'1_Metas_Resultados'!$D$4:$E$403,2,FALSE))),\"Sin Registrar\",CONCATENATE($S256,\".\",VLOOKUP($K256,'1_Metas_Resultados'!$D$4:$E$403,2,FALSE)))","v":"Sin Registrar"},{"$f":"IF(ISERROR(CONCATENATE($S256,\".\",VLOOKUP($L256,'1_Metas_Resultados'!$D$4:$E$403,2,FALSE))),\"Sin Registrar\",CONCATENATE($S256,\".\",VLOOKUP($L256,'1_Metas_Resultados'!$D$4:$E$403,2,FALSE)))","v":"Sin Registrar"},{"$f":"IF(ISERROR(VLOOKUP(G256,'1_Metas_Resultados'!$D$4:$I$403,6,FALSE)),\"\",VLOOKUP(G256,'1_Metas_Resultados'!$D$4:$I$403,6,FALSE))","v":""}]
[{"$f":"IF(ISERROR(CONCATENATE($S257,\".\",VLOOKUP($G257,'1_Metas_Resultados'!$D$4:$E$403,2,FALSE))),\"Sin Registrar\",CONCATENATE($S257,\".\",VLOOKUP($G257,'1_Metas_Resultados'!$D$4:$E$403,2,FALSE)))","v":"Sin Registrar"},256," ",{"$f":"IF(ISERROR(CONCATENATE($S257,\".\",VLOOKUP($K257,'1_Metas_Resultados'!$D$4:$E$403,2,FALSE))),\"Sin Registrar\",CONCATENATE($S257,\".\",VLOOKUP($K257,'1_Metas_Resultados'!$D$4:$E$403,2,FALSE)))","v":"Sin Registrar"},{"$f":"IF(ISERROR(CONCATENATE($S257,\".\",VLOOKUP($L257,'1_Metas_Resultados'!$D$4:$E$403,2,FALSE))),\"Sin Registrar\",CONCATENATE($S257,\".\",VLOOKUP($L257,'1_Metas_Resultados'!$D$4:$E$403,2,FALSE)))","v":"Sin Registrar"},{"$f":"IF(ISERROR(VLOOKUP(G257,'1_Metas_Resultados'!$D$4:$I$403,6,FALSE)),\"\",VLOOKUP(G257,'1_Metas_Resultados'!$D$4:$I$403,6,FALSE))","v":""}]
[{"$f":"IF(ISERROR(CONCATENATE($S258,\".\",VLOOKUP($G258,'1_Metas_Resultados'!$D$4:$E$403,2,FALSE))),\"Sin Registrar\",CONCATENATE($S258,\".\",VLOOKUP($G258,'1_Metas_Resultados'!$D$4:$E$403,2,FALSE)))","v":"Sin Registrar"},257," ",{"$f":"IF(ISERROR(CONCATENATE($S258,\".\",VLOOKUP($K258,'1_Metas_Resultados'!$D$4:$E$403,2,FALSE))),\"Sin Registrar\",CONCATENATE($S258,\".\",VLOOKUP($K258,'1_Metas_Resultados'!$D$4:$E$403,2,FALSE)))","v":"Sin Registrar"},{"$f":"IF(ISERROR(CONCATENATE($S258,\".\",VLOOKUP($L258,'1_Metas_Resultados'!$D$4:$E$403,2,FALSE))),\"Sin Registrar\",CONCATENATE($S258,\".\",VLOOKUP($L258,'1_Metas_Resultados'!$D$4:$E$403,2,FALSE)))","v":"Sin Registrar"},{"$f":"IF(ISERROR(VLOOKUP(G258,'1_Metas_Resultados'!$D$4:$I$403,6,FALSE)),\"\",VLOOKUP(G258,'1_Metas_Resultados'!$D$4:$I$403,6,FALSE))","v":""}]
[{"$f":"IF(ISERROR(CONCATENATE($S259,\".\",VLOOKUP($G259,'1_Metas_Resultados'!$D$4:$E$403,2,FALSE))),\"Sin Registrar\",CONCATENATE($S259,\".\",VLOOKUP($G259,'1_Metas_Resultados'!$D$4:$E$403,2,FALSE)))","v":"Sin Registrar"},258," ",{"$f":"IF(ISERROR(CONCATENATE($S259,\".\",VLOOKUP($K259,'1_Metas_Resultados'!$D$4:$E$403,2,FALSE))),\"Sin Registrar\",CONCATENATE($S259,\".\",VLOOKUP($K259,'1_Metas_Resultados'!$D$4:$E$403,2,FALSE)))","v":"Sin Registrar"},{"$f":"IF(ISERROR(CONCATENATE($S259,\".\",VLOOKUP($L259,'1_Metas_Resultados'!$D$4:$E$403,2,FALSE))),\"Sin Registrar\",CONCATENATE($S259,\".\",VLOOKUP($L259,'1_Metas_Resultados'!$D$4:$E$403,2,FALSE)))","v":"Sin Registrar"},{"$f":"IF(ISERROR(VLOOKUP(G259,'1_Metas_Resultados'!$D$4:$I$403,6,FALSE)),\"\",VLOOKUP(G259,'1_Metas_Resultados'!$D$4:$I$403,6,FALSE))","v":""}]
[{"$f":"IF(ISERROR(CONCATENATE($S260,\".\",VLOOKUP($G260,'1_Metas_Resultados'!$D$4:$E$403,2,FALSE))),\"Sin Registrar\",CONCATENATE($S260,\".\",VLOOKUP($G260,'1_Metas_Resultados'!$D$4:$E$403,2,FALSE)))","v":"Sin Registrar"},259," ",{"$f":"IF(ISERROR(CONCATENATE($S260,\".\",VLOOKUP($K260,'1_Metas_Resultados'!$D$4:$E$403,2,FALSE))),\"Sin Registrar\",CONCATENATE($S260,\".\",VLOOKUP($K260,'1_Metas_Resultados'!$D$4:$E$403,2,FALSE)))","v":"Sin Registrar"},{"$f":"IF(ISERROR(CONCATENATE($S260,\".\",VLOOKUP($L260,'1_Metas_Resultados'!$D$4:$E$403,2,FALSE))),\"Sin Registrar\",CONCATENATE($S260,\".\",VLOOKUP($L260,'1_Metas_Resultados'!$D$4:$E$403,2,FALSE)))","v":"Sin Registrar"},{"$f":"IF(ISERROR(VLOOKUP(G260,'1_Metas_Resultados'!$D$4:$I$403,6,FALSE)),\"\",VLOOKUP(G260,'1_Metas_Resultados'!$D$4:$I$403,6,FALSE))","v":""}]
[{"$f":"IF(ISERROR(CONCATENATE($S261,\".\",VLOOKUP($G261,'1_Metas_Resultados'!$D$4:$E$403,2,FALSE))),\"Sin Registrar\",CONCATENATE($S261,\".\",VLOOKUP($G261,'1_Metas_Resultados'!$D$4:$E$403,2,FALSE)))","v":"Sin Registrar"},260,{"$f":"IF(A261=\"Sin Registrar\",\" \",CONCATENATE(A261,\".\",B261))","v":" "},{"$f":"IF(ISERROR(CONCATENATE($S261,\".\",VLOOKUP($K261,'1_Metas_Resultados'!$D$4:$E$403,2,FALSE))),\"Sin Registrar\",CONCATENATE($S261,\".\",VLOOKUP($K261,'1_Metas_Resultados'!$D$4:$E$403,2,FALSE)))","v":"Sin Registrar"},{"$f":"IF(ISERROR(CONCATENATE($S261,\".\",VLOOKUP($L261,'1_Metas_Resultados'!$D$4:$E$403,2,FALSE))),\"Sin Registrar\",CONCATENATE($S261,\".\",VLOOKUP($L261,'1_Metas_Resultados'!$D$4:$E$403,2,FALSE)))","v":"Sin Registrar"},{"$f":"IF(ISERROR(VLOOKUP(G261,'1_Metas_Resultados'!$D$4:$I$403,6,FALSE)),\"\",VLOOKUP(G261,'1_Metas_Resultados'!$D$4:$I$403,6,FALSE))","v":""}]
[{"$f":"IF(ISERROR(CONCATENATE($S262,\".\",VLOOKUP($G262,'1_Metas_Resultados'!$D$4:$E$403,2,FALSE))),\"Sin Registrar\",CONCATENATE($S262,\".\",VLOOKUP($G262,'1_Metas_Resultados'!$D$4:$E$403,2,FALSE)))","v":"Sin Registrar"},261," ",{"$f":"IF(ISERROR(CONCATENATE($S262,\".\",VLOOKUP($K262,'1_Metas_Resultados'!$D$4:$E$403,2,FALSE))),\"Sin Registrar\",CONCATENATE($S262,\".\",VLOOKUP($K262,'1_Metas_Resultados'!$D$4:$E$403,2,FALSE)))","v":"Sin Registrar"},{"$f":"IF(ISERROR(CONCATENATE($S262,\".\",VLOOKUP($L262,'1_Metas_Resultados'!$D$4:$E$403,2,FALSE))),\"Sin Registrar\",CONCATENATE($S262,\".\",VLOOKUP($L262,'1_Metas_Resultados'!$D$4:$E$403,2,FALSE)))","v":"Sin Registrar"},{"$f":"IF(ISERROR(VLOOKUP(G262,'1_Metas_Resultados'!$D$4:$I$403,6,FALSE)),\"\",VLOOKUP(G262,'1_Metas_Resultados'!$D$4:$I$403,6,FALSE))","v":""}]
[{"$f":"IF(ISERROR(CONCATENATE($S263,\".\",VLOOKUP($G263,'1_Metas_Resultados'!$D$4:$E$403,2,FALSE))),\"Sin Registrar\",CONCATENATE($S263,\".\",VLOOKUP($G263,'1_Metas_Resultados'!$D$4:$E$403,2,FALSE)))","v":"Sin Registrar"},262," ",{"$f":"IF(ISERROR(CONCATENATE($S263,\".\",VLOOKUP($K263,'1_Metas_Resultados'!$D$4:$E$403,2,FALSE))),\"Sin Registrar\",CONCATENATE($S263,\".\",VLOOKUP($K263,'1_Metas_Resultados'!$D$4:$E$403,2,FALSE)))","v":"Sin Registrar"},{"$f":"IF(ISERROR(CONCATENATE($S263,\".\",VLOOKUP($L263,'1_Metas_Resultados'!$D$4:$E$403,2,FALSE))),\"Sin Registrar\",CONCATENATE($S263,\".\",VLOOKUP($L263,'1_Metas_Resultados'!$D$4:$E$403,2,FALSE)))","v":"Sin Registrar"},{"$f":"IF(ISERROR(VLOOKUP(G263,'1_Metas_Resultados'!$D$4:$I$403,6,FALSE)),\"\",VLOOKUP(G263,'1_Metas_Resultados'!$D$4:$I$403,6,FALSE))","v":""}]
[{"$f":"IF(ISERROR(CONCATENATE($S264,\".\",VLOOKUP($G264,'1_Metas_Resultados'!$D$4:$E$403,2,FALSE))),\"Sin Registrar\",CONCATENATE($S264,\".\",VLOOKUP($G264,'1_Metas_Resultados'!$D$4:$E$403,2,FALSE)))","v":"Sin Registrar"},263," ",{"$f":"IF(ISERROR(CONCATENATE($S264,\".\",VLOOKUP($K264,'1_Metas_Resultados'!$D$4:$E$403,2,FALSE))),\"Sin Registrar\",CONCATENATE($S264,\".\",VLOOKUP($K264,'1_Metas_Resultados'!$D$4:$E$403,2,FALSE)))","v":"Sin Registrar"},{"$f":"IF(ISERROR(CONCATENATE($S264,\".\",VLOOKUP($L264,'1_Metas_Resultados'!$D$4:$E$403,2,FALSE))),\"Sin Registrar\",CONCATENATE($S264,\".\",VLOOKUP($L264,'1_Metas_Resultados'!$D$4:$E$403,2,FALSE)))","v":"Sin Registrar"},{"$f":"IF(ISERROR(VLOOKUP(G264,'1_Metas_Resultados'!$D$4:$I$403,6,FALSE)),\"\",VLOOKUP(G264,'1_Metas_Resultados'!$D$4:$I$403,6,FALSE))","v":""}]
[{"$f":"IF(ISERROR(CONCATENATE($S265,\".\",VLOOKUP($G265,'1_Metas_Resultados'!$D$4:$E$403,2,FALSE))),\"Sin Registrar\",CONCATENATE($S265,\".\",VLOOKUP($G265,'1_Metas_Resultados'!$D$4:$E$403,2,FALSE)))","v":"Sin Registrar"},264," ",{"$f":"IF(ISERROR(CONCATENATE($S265,\".\",VLOOKUP($K265,'1_Metas_Resultados'!$D$4:$E$403,2,FALSE))),\"Sin Registrar\",CONCATENATE($S265,\".\",VLOOKUP($K265,'1_Metas_Resultados'!$D$4:$E$403,2,FALSE)))","v":"Sin Registrar"},{"$f":"IF(ISERROR(CONCATENATE($S265,\".\",VLOOKUP($L265,'1_Metas_Resultados'!$D$4:$E$403,2,FALSE))),\"Sin Registrar\",CONCATENATE($S265,\".\",VLOOKUP($L265,'1_Metas_Resultados'!$D$4:$E$403,2,FALSE)))","v":"Sin Registrar"},{"$f":"IF(ISERROR(VLOOKUP(G265,'1_Metas_Resultados'!$D$4:$I$403,6,FALSE)),\"\",VLOOKUP(G265,'1_Metas_Resultados'!$D$4:$I$403,6,FALSE))","v":""}]
[{"$f":"IF(ISERROR(CONCATENATE($S266,\".\",VLOOKUP($G266,'1_Metas_Resultados'!$D$4:$E$403,2,FALSE))),\"Sin Registrar\",CONCATENATE($S266,\".\",VLOOKUP($G266,'1_Metas_Resultados'!$D$4:$E$403,2,FALSE)))","v":"Sin Registrar"},265," ",{"$f":"IF(ISERROR(CONCATENATE($S266,\".\",VLOOKUP($K266,'1_Metas_Resultados'!$D$4:$E$403,2,FALSE))),\"Sin Registrar\",CONCATENATE($S266,\".\",VLOOKUP($K266,'1_Metas_Resultados'!$D$4:$E$403,2,FALSE)))","v":"Sin Registrar"},{"$f":"IF(ISERROR(CONCATENATE($S266,\".\",VLOOKUP($L266,'1_Metas_Resultados'!$D$4:$E$403,2,FALSE))),\"Sin Registrar\",CONCATENATE($S266,\".\",VLOOKUP($L266,'1_Metas_Resultados'!$D$4:$E$403,2,FALSE)))","v":"Sin Registrar"},{"$f":"IF(ISERROR(VLOOKUP(G266,'1_Metas_Resultados'!$D$4:$I$403,6,FALSE)),\"\",VLOOKUP(G266,'1_Metas_Resultados'!$D$4:$I$403,6,FALSE))","v":""}]
[{"$f":"IF(ISERROR(CONCATENATE($S267,\".\",VLOOKUP($G267,'1_Metas_Resultados'!$D$4:$E$403,2,FALSE))),\"Sin Registrar\",CONCATENATE($S267,\".\",VLOOKUP($G267,'1_Metas_Resultados'!$D$4:$E$403,2,FALSE)))","v":"Sin Registrar"},266," ",{"$f":"IF(ISERROR(CONCATENATE($S267,\".\",VLOOKUP($K267,'1_Metas_Resultados'!$D$4:$E$403,2,FALSE))),\"Sin Registrar\",CONCATENATE($S267,\".\",VLOOKUP($K267,'1_Metas_Resultados'!$D$4:$E$403,2,FALSE)))","v":"Sin Registrar"},{"$f":"IF(ISERROR(CONCATENATE($S267,\".\",VLOOKUP($L267,'1_Metas_Resultados'!$D$4:$E$403,2,FALSE))),\"Sin Registrar\",CONCATENATE($S267,\".\",VLOOKUP($L267,'1_Metas_Resultados'!$D$4:$E$403,2,FALSE)))","v":"Sin Registrar"},{"$f":"IF(ISERROR(VLOOKUP(G267,'1_Metas_Resultados'!$D$4:$I$403,6,FALSE)),\"\",VLOOKUP(G267,'1_Metas_Resultados'!$D$4:$I$403,6,FALSE))","v":""}]
[{"$f":"IF(ISERROR(CONCATENATE($S268,\".\",VLOOKUP($G268,'1_Metas_Resultados'!$D$4:$E$403,2,FALSE))),\"Sin Registrar\",CONCATENATE($S268,\".\",VLOOKUP($G268,'1_Metas_Resultados'!$D$4:$E$403,2,FALSE)))","v":"Sin Registrar"},267," ",{"$f":"IF(ISERROR(CONCATENATE($S268,\".\",VLOOKUP($K268,'1_Metas_Resultados'!$D$4:$E$403,2,FALSE))),\"Sin Registrar\",CONCATENATE($S268,\".\",VLOOKUP($K268,'1_Metas_Resultados'!$D$4:$E$403,2,FALSE)))","v":"Sin Registrar"},{"$f":"IF(ISERROR(CONCATENATE($S268,\".\",VLOOKUP($L268,'1_Metas_Resultados'!$D$4:$E$403,2,FALSE))),\"Sin Registrar\",CONCATENATE($S268,\".\",VLOOKUP($L268,'1_Metas_Resultados'!$D$4:$E$403,2,FALSE)))","v":"Sin Registrar"},{"$f":"IF(ISERROR(VLOOKUP(G268,'1_Metas_Resultados'!$D$4:$I$403,6,FALSE)),\"\",VLOOKUP(G268,'1_Metas_Resultados'!$D$4:$I$403,6,FALSE))","v":""}]
[{"$f":"IF(ISERROR(CONCATENATE($S269,\".\",VLOOKUP($G269,'1_Metas_Resultados'!$D$4:$E$403,2,FALSE))),\"Sin Registrar\",CONCATENATE($S269,\".\",VLOOKUP($G269,'1_Metas_Resultados'!$D$4:$E$403,2,FALSE)))","v":"Sin Registrar"},268," ",{"$f":"IF(ISERROR(CONCATENATE($S269,\".\",VLOOKUP($K269,'1_Metas_Resultados'!$D$4:$E$403,2,FALSE))),\"Sin Registrar\",CONCATENATE($S269,\".\",VLOOKUP($K269,'1_Metas_Resultados'!$D$4:$E$403,2,FALSE)))","v":"Sin Registrar"},{"$f":"IF(ISERROR(CONCATENATE($S269,\".\",VLOOKUP($L269,'1_Metas_Resultados'!$D$4:$E$403,2,FALSE))),\"Sin Registrar\",CONCATENATE($S269,\".\",VLOOKUP($L269,'1_Metas_Resultados'!$D$4:$E$403,2,FALSE)))","v":"Sin Registrar"},{"$f":"IF(ISERROR(VLOOKUP(G269,'1_Metas_Resultados'!$D$4:$I$403,6,FALSE)),\"\",VLOOKUP(G269,'1_Metas_Resultados'!$D$4:$I$403,6,FALSE))","v":""}]
[{"$f":"IF(ISERROR(CONCATENATE($S270,\".\",VLOOKUP($G270,'1_Metas_Resultados'!$D$4:$E$403,2,FALSE))),\"Sin Registrar\",CONCATENATE($S270,\".\",VLOOKUP($G270,'1_Metas_Resultados'!$D$4:$E$403,2,FALSE)))","v":"Sin Registrar"},269," ",{"$f":"IF(ISERROR(CONCATENATE($S270,\".\",VLOOKUP($K270,'1_Metas_Resultados'!$D$4:$E$403,2,FALSE))),\"Sin Registrar\",CONCATENATE($S270,\".\",VLOOKUP($K270,'1_Metas_Resultados'!$D$4:$E$403,2,FALSE)))","v":"Sin Registrar"},{"$f":"IF(ISERROR(CONCATENATE($S270,\".\",VLOOKUP($L270,'1_Metas_Resultados'!$D$4:$E$403,2,FALSE))),\"Sin Registrar\",CONCATENATE($S270,\".\",VLOOKUP($L270,'1_Metas_Resultados'!$D$4:$E$403,2,FALSE)))","v":"Sin Registrar"},{"$f":"IF(ISERROR(VLOOKUP(G270,'1_Metas_Resultados'!$D$4:$I$403,6,FALSE)),\"\",VLOOKUP(G270,'1_Metas_Resultados'!$D$4:$I$403,6,FALSE))","v":""}]
[{"$f":"IF(ISERROR(CONCATENATE($S271,\".\",VLOOKUP($G271,'1_Metas_Resultados'!$D$4:$E$403,2,FALSE))),\"Sin Registrar\",CONCATENATE($S271,\".\",VLOOKUP($G271,'1_Metas_Resultados'!$D$4:$E$403,2,FALSE)))","v":"Sin Registrar"},270," ",{"$f":"IF(ISERROR(CONCATENATE($S271,\".\",VLOOKUP($K271,'1_Metas_Resultados'!$D$4:$E$403,2,FALSE))),\"Sin Registrar\",CONCATENATE($S271,\".\",VLOOKUP($K271,'1_Metas_Resultados'!$D$4:$E$403,2,FALSE)))","v":"Sin Registrar"},{"$f":"IF(ISERROR(CONCATENATE($S271,\".\",VLOOKUP($L271,'1_Metas_Resultados'!$D$4:$E$403,2,FALSE))),\"Sin Registrar\",CONCATENATE($S271,\".\",VLOOKUP($L271,'1_Metas_Resultados'!$D$4:$E$403,2,FALSE)))","v":"Sin Registrar"},{"$f":"IF(ISERROR(VLOOKUP(G271,'1_Metas_Resultados'!$D$4:$I$403,6,FALSE)),\"\",VLOOKUP(G271,'1_Metas_Resultados'!$D$4:$I$403,6,FALSE))","v":""}]
[{"$f":"IF(ISERROR(CONCATENATE($S272,\".\",VLOOKUP($G272,'1_Metas_Resultados'!$D$4:$E$403,2,FALSE))),\"Sin Registrar\",CONCATENATE($S272,\".\",VLOOKUP($G272,'1_Metas_Resultados'!$D$4:$E$403,2,FALSE)))","v":"Sin Registrar"},271," ",{"$f":"IF(ISERROR(CONCATENATE($S272,\".\",VLOOKUP($K272,'1_Metas_Resultados'!$D$4:$E$403,2,FALSE))),\"Sin Registrar\",CONCATENATE($S272,\".\",VLOOKUP($K272,'1_Metas_Resultados'!$D$4:$E$403,2,FALSE)))","v":"Sin Registrar"},{"$f":"IF(ISERROR(CONCATENATE($S272,\".\",VLOOKUP($L272,'1_Metas_Resultados'!$D$4:$E$403,2,FALSE))),\"Sin Registrar\",CONCATENATE($S272,\".\",VLOOKUP($L272,'1_Metas_Resultados'!$D$4:$E$403,2,FALSE)))","v":"Sin Registrar"},{"$f":"IF(ISERROR(VLOOKUP(G272,'1_Metas_Resultados'!$D$4:$I$403,6,FALSE)),\"\",VLOOKUP(G272,'1_Metas_Resultados'!$D$4:$I$403,6,FALSE))","v":""}]
[{"$f":"IF(ISERROR(CONCATENATE($S273,\".\",VLOOKUP($G273,'1_Metas_Resultados'!$D$4:$E$403,2,FALSE))),\"Sin Registrar\",CONCATENATE($S273,\".\",VLOOKUP($G273,'1_Metas_Resultados'!$D$4:$E$403,2,FALSE)))","v":"Sin Registrar"},272," ",{"$f":"IF(ISERROR(CONCATENATE($S273,\".\",VLOOKUP($K273,'1_Metas_Resultados'!$D$4:$E$403,2,FALSE))),\"Sin Registrar\",CONCATENATE($S273,\".\",VLOOKUP($K273,'1_Metas_Resultados'!$D$4:$E$403,2,FALSE)))","v":"Sin Registrar"},{"$f":"IF(ISERROR(CONCATENATE($S273,\".\",VLOOKUP($L273,'1_Metas_Resultados'!$D$4:$E$403,2,FALSE))),\"Sin Registrar\",CONCATENATE($S273,\".\",VLOOKUP($L273,'1_Metas_Resultados'!$D$4:$E$403,2,FALSE)))","v":"Sin Registrar"},{"$f":"IF(ISERROR(VLOOKUP(G273,'1_Metas_Resultados'!$D$4:$I$403,6,FALSE)),\"\",VLOOKUP(G273,'1_Metas_Resultados'!$D$4:$I$403,6,FALSE))","v":""}]
[{"$f":"IF(ISERROR(CONCATENATE($S274,\".\",VLOOKUP($G274,'1_Metas_Resultados'!$D$4:$E$403,2,FALSE))),\"Sin Registrar\",CONCATENATE($S274,\".\",VLOOKUP($G274,'1_Metas_Resultados'!$D$4:$E$403,2,FALSE)))","v":"Sin Registrar"},273," ",{"$f":"IF(ISERROR(CONCATENATE($S274,\".\",VLOOKUP($K274,'1_Metas_Resultados'!$D$4:$E$403,2,FALSE))),\"Sin Registrar\",CONCATENATE($S274,\".\",VLOOKUP($K274,'1_Metas_Resultados'!$D$4:$E$403,2,FALSE)))","v":"Sin Registrar"},{"$f":"IF(ISERROR(CONCATENATE($S274,\".\",VLOOKUP($L274,'1_Metas_Resultados'!$D$4:$E$403,2,FALSE))),\"Sin Registrar\",CONCATENATE($S274,\".\",VLOOKUP($L274,'1_Metas_Resultados'!$D$4:$E$403,2,FALSE)))","v":"Sin Registrar"},{"$f":"IF(ISERROR(VLOOKUP(G274,'1_Metas_Resultados'!$D$4:$I$403,6,FALSE)),\"\",VLOOKUP(G274,'1_Metas_Resultados'!$D$4:$I$403,6,FALSE))","v":""}]
[{"$f":"IF(ISERROR(CONCATENATE($S275,\".\",VLOOKUP($G275,'1_Metas_Resultados'!$D$4:$E$403,2,FALSE))),\"Sin Registrar\",CONCATENATE($S275,\".\",VLOOKUP($G275,'1_Metas_Resultados'!$D$4:$E$403,2,FALSE)))","v":"Sin Registrar"},274," ",{"$f":"IF(ISERROR(CONCATENATE($S275,\".\",VLOOKUP($K275,'1_Metas_Resultados'!$D$4:$E$403,2,FALSE))),\"Sin Registrar\",CONCATENATE($S275,\".\",VLOOKUP($K275,'1_Metas_Resultados'!$D$4:$E$403,2,FALSE)))","v":"Sin Registrar"},{"$f":"IF(ISERROR(CONCATENATE($S275,\".\",VLOOKUP($L275,'1_Metas_Resultados'!$D$4:$E$403,2,FALSE))),\"Sin Registrar\",CONCATENATE($S275,\".\",VLOOKUP($L275,'1_Metas_Resultados'!$D$4:$E$403,2,FALSE)))","v":"Sin Registrar"},{"$f":"IF(ISERROR(VLOOKUP(G275,'1_Metas_Resultados'!$D$4:$I$403,6,FALSE)),\"\",VLOOKUP(G275,'1_Metas_Resultados'!$D$4:$I$403,6,FALSE))","v":""}]
[{"$f":"IF(ISERROR(CONCATENATE($S276,\".\",VLOOKUP($G276,'1_Metas_Resultados'!$D$4:$E$403,2,FALSE))),\"Sin Registrar\",CONCATENATE($S276,\".\",VLOOKUP($G276,'1_Metas_Resultados'!$D$4:$E$403,2,FALSE)))","v":"Sin Registrar"},275," ",{"$f":"IF(ISERROR(CONCATENATE($S276,\".\",VLOOKUP($K276,'1_Metas_Resultados'!$D$4:$E$403,2,FALSE))),\"Sin Registrar\",CONCATENATE($S276,\".\",VLOOKUP($K276,'1_Metas_Resultados'!$D$4:$E$403,2,FALSE)))","v":"Sin Registrar"},{"$f":"IF(ISERROR(CONCATENATE($S276,\".\",VLOOKUP($L276,'1_Metas_Resultados'!$D$4:$E$403,2,FALSE))),\"Sin Registrar\",CONCATENATE($S276,\".\",VLOOKUP($L276,'1_Metas_Resultados'!$D$4:$E$403,2,FALSE)))","v":"Sin Registrar"},{"$f":"IF(ISERROR(VLOOKUP(G276,'1_Metas_Resultados'!$D$4:$I$403,6,FALSE)),\"\",VLOOKUP(G276,'1_Metas_Resultados'!$D$4:$I$403,6,FALSE))","v":""}]
[{"$f":"IF(ISERROR(CONCATENATE($S277,\".\",VLOOKUP($G277,'1_Metas_Resultados'!$D$4:$E$403,2,FALSE))),\"Sin Registrar\",CONCATENATE($S277,\".\",VLOOKUP($G277,'1_Metas_Resultados'!$D$4:$E$403,2,FALSE)))","v":"Sin Registrar"},276," ",{"$f":"IF(ISERROR(CONCATENATE($S277,\".\",VLOOKUP($K277,'1_Metas_Resultados'!$D$4:$E$403,2,FALSE))),\"Sin Registrar\",CONCATENATE($S277,\".\",VLOOKUP($K277,'1_Metas_Resultados'!$D$4:$E$403,2,FALSE)))","v":"Sin Registrar"},{"$f":"IF(ISERROR(CONCATENATE($S277,\".\",VLOOKUP($L277,'1_Metas_Resultados'!$D$4:$E$403,2,FALSE))),\"Sin Registrar\",CONCATENATE($S277,\".\",VLOOKUP($L277,'1_Metas_Resultados'!$D$4:$E$403,2,FALSE)))","v":"Sin Registrar"},{"$f":"IF(ISERROR(VLOOKUP(G277,'1_Metas_Resultados'!$D$4:$I$403,6,FALSE)),\"\",VLOOKUP(G277,'1_Metas_Resultados'!$D$4:$I$403,6,FALSE))","v":""}]
[{"$f":"IF(ISERROR(CONCATENATE($S278,\".\",VLOOKUP($G278,'1_Metas_Resultados'!$D$4:$E$403,2,FALSE))),\"Sin Registrar\",CONCATENATE($S278,\".\",VLOOKUP($G278,'1_Metas_Resultados'!$D$4:$E$403,2,FALSE)))","v":"Sin Registrar"},277," ",{"$f":"IF(ISERROR(CONCATENATE($S278,\".\",VLOOKUP($K278,'1_Metas_Resultados'!$D$4:$E$403,2,FALSE))),\"Sin Registrar\",CONCATENATE($S278,\".\",VLOOKUP($K278,'1_Metas_Resultados'!$D$4:$E$403,2,FALSE)))","v":"Sin Registrar"},{"$f":"IF(ISERROR(CONCATENATE($S278,\".\",VLOOKUP($L278,'1_Metas_Resultados'!$D$4:$E$403,2,FALSE))),\"Sin Registrar\",CONCATENATE($S278,\".\",VLOOKUP($L278,'1_Metas_Resultados'!$D$4:$E$403,2,FALSE)))","v":"Sin Registrar"},{"$f":"IF(ISERROR(VLOOKUP(G278,'1_Metas_Resultados'!$D$4:$I$403,6,FALSE)),\"\",VLOOKUP(G278,'1_Metas_Resultados'!$D$4:$I$403,6,FALSE))","v":""}]
[{"$f":"IF(ISERROR(CONCATENATE($S279,\".\",VLOOKUP($G279,'1_Metas_Resultados'!$D$4:$E$403,2,FALSE))),\"Sin Registrar\",CONCATENATE($S279,\".\",VLOOKUP($G279,'1_Metas_Resultados'!$D$4:$E$403,2,FALSE)))","v":"Sin Registrar"},278," ",{"$f":"IF(ISERROR(CONCATENATE($S279,\".\",VLOOKUP($K279,'1_Metas_Resultados'!$D$4:$E$403,2,FALSE))),\"Sin Registrar\",CONCATENATE($S279,\".\",VLOOKUP($K279,'1_Metas_Resultados'!$D$4:$E$403,2,FALSE)))","v":"Sin Registrar"},{"$f":"IF(ISERROR(CONCATENATE($S279,\".\",VLOOKUP($L279,'1_Metas_Resultados'!$D$4:$E$403,2,FALSE))),\"Sin Registrar\",CONCATENATE($S279,\".\",VLOOKUP($L279,'1_Metas_Resultados'!$D$4:$E$403,2,FALSE)))","v":"Sin Registrar"},{"$f":"IF(ISERROR(VLOOKUP(G279,'1_Metas_Resultados'!$D$4:$I$403,6,FALSE)),\"\",VLOOKUP(G279,'1_Metas_Resultados'!$D$4:$I$403,6,FALSE))","v":""}]
[{"$f":"IF(ISERROR(CONCATENATE($S280,\".\",VLOOKUP($G280,'1_Metas_Resultados'!$D$4:$E$403,2,FALSE))),\"Sin Registrar\",CONCATENATE($S280,\".\",VLOOKUP($G280,'1_Metas_Resultados'!$D$4:$E$403,2,FALSE)))","v":"Sin Registrar"},279," ",{"$f":"IF(ISERROR(CONCATENATE($S280,\".\",VLOOKUP($K280,'1_Metas_Resultados'!$D$4:$E$403,2,FALSE))),\"Sin Registrar\",CONCATENATE($S280,\".\",VLOOKUP($K280,'1_Metas_Resultados'!$D$4:$E$403,2,FALSE)))","v":"Sin Registrar"},{"$f":"IF(ISERROR(CONCATENATE($S280,\".\",VLOOKUP($L280,'1_Metas_Resultados'!$D$4:$E$403,2,FALSE))),\"Sin Registrar\",CONCATENATE($S280,\".\",VLOOKUP($L280,'1_Metas_Resultados'!$D$4:$E$403,2,FALSE)))","v":"Sin Registrar"},{"$f":"IF(ISERROR(VLOOKUP(G280,'1_Metas_Resultados'!$D$4:$I$403,6,FALSE)),\"\",VLOOKUP(G280,'1_Metas_Resultados'!$D$4:$I$403,6,FALSE))","v":""}]
[{"$f":"IF(ISERROR(CONCATENATE($S281,\".\",VLOOKUP($G281,'1_Metas_Resultados'!$D$4:$E$403,2,FALSE))),\"Sin Registrar\",CONCATENATE($S281,\".\",VLOOKUP($G281,'1_Metas_Resultados'!$D$4:$E$403,2,FALSE)))","v":"Sin Registrar"},280," ",{"$f":"IF(ISERROR(CONCATENATE($S281,\".\",VLOOKUP($K281,'1_Metas_Resultados'!$D$4:$E$403,2,FALSE))),\"Sin Registrar\",CONCATENATE($S281,\".\",VLOOKUP($K281,'1_Metas_Resultados'!$D$4:$E$403,2,FALSE)))","v":"Sin Registrar"},{"$f":"IF(ISERROR(CONCATENATE($S281,\".\",VLOOKUP($L281,'1_Metas_Resultados'!$D$4:$E$403,2,FALSE))),\"Sin Registrar\",CONCATENATE($S281,\".\",VLOOKUP($L281,'1_Metas_Resultados'!$D$4:$E$403,2,FALSE)))","v":"Sin Registrar"},{"$f":"IF(ISERROR(VLOOKUP(G281,'1_Metas_Resultados'!$D$4:$I$403,6,FALSE)),\"\",VLOOKUP(G281,'1_Metas_Resultados'!$D$4:$I$403,6,FALSE))","v":""}]
[{"$f":"IF(ISERROR(CONCATENATE($S282,\".\",VLOOKUP($G282,'1_Metas_Resultados'!$D$4:$E$403,2,FALSE))),\"Sin Registrar\",CONCATENATE($S282,\".\",VLOOKUP($G282,'1_Metas_Resultados'!$D$4:$E$403,2,FALSE)))","v":"Sin Registrar"},281," ",{"$f":"IF(ISERROR(CONCATENATE($S282,\".\",VLOOKUP($K282,'1_Metas_Resultados'!$D$4:$E$403,2,FALSE))),\"Sin Registrar\",CONCATENATE($S282,\".\",VLOOKUP($K282,'1_Metas_Resultados'!$D$4:$E$403,2,FALSE)))","v":"Sin Registrar"},{"$f":"IF(ISERROR(CONCATENATE($S282,\".\",VLOOKUP($L282,'1_Metas_Resultados'!$D$4:$E$403,2,FALSE))),\"Sin Registrar\",CONCATENATE($S282,\".\",VLOOKUP($L282,'1_Metas_Resultados'!$D$4:$E$403,2,FALSE)))","v":"Sin Registrar"},{"$f":"IF(ISERROR(VLOOKUP(G282,'1_Metas_Resultados'!$D$4:$I$403,6,FALSE)),\"\",VLOOKUP(G282,'1_Metas_Resultados'!$D$4:$I$403,6,FALSE))","v":""}]
[{"$f":"IF(ISERROR(CONCATENATE($S283,\".\",VLOOKUP($G283,'1_Metas_Resultados'!$D$4:$E$403,2,FALSE))),\"Sin Registrar\",CONCATENATE($S283,\".\",VLOOKUP($G283,'1_Metas_Resultados'!$D$4:$E$403,2,FALSE)))","v":"Sin Registrar"},282," ",{"$f":"IF(ISERROR(CONCATENATE($S283,\".\",VLOOKUP($K283,'1_Metas_Resultados'!$D$4:$E$403,2,FALSE))),\"Sin Registrar\",CONCATENATE($S283,\".\",VLOOKUP($K283,'1_Metas_Resultados'!$D$4:$E$403,2,FALSE)))","v":"Sin Registrar"},{"$f":"IF(ISERROR(CONCATENATE($S283,\".\",VLOOKUP($L283,'1_Metas_Resultados'!$D$4:$E$403,2,FALSE))),\"Sin Registrar\",CONCATENATE($S283,\".\",VLOOKUP($L283,'1_Metas_Resultados'!$D$4:$E$403,2,FALSE)))","v":"Sin Registrar"},{"$f":"IF(ISERROR(VLOOKUP(G283,'1_Metas_Resultados'!$D$4:$I$403,6,FALSE)),\"\",VLOOKUP(G283,'1_Metas_Resultados'!$D$4:$I$403,6,FALSE))","v":""}]
[{"$f":"IF(ISERROR(CONCATENATE($S284,\".\",VLOOKUP($G284,'1_Metas_Resultados'!$D$4:$E$403,2,FALSE))),\"Sin Registrar\",CONCATENATE($S284,\".\",VLOOKUP($G284,'1_Metas_Resultados'!$D$4:$E$403,2,FALSE)))","v":"Sin Registrar"},283," ",{"$f":"IF(ISERROR(CONCATENATE($S284,\".\",VLOOKUP($K284,'1_Metas_Resultados'!$D$4:$E$403,2,FALSE))),\"Sin Registrar\",CONCATENATE($S284,\".\",VLOOKUP($K284,'1_Metas_Resultados'!$D$4:$E$403,2,FALSE)))","v":"Sin Registrar"},{"$f":"IF(ISERROR(CONCATENATE($S284,\".\",VLOOKUP($L284,'1_Metas_Resultados'!$D$4:$E$403,2,FALSE))),\"Sin Registrar\",CONCATENATE($S284,\".\",VLOOKUP($L284,'1_Metas_Resultados'!$D$4:$E$403,2,FALSE)))","v":"Sin Registrar"},{"$f":"IF(ISERROR(VLOOKUP(G284,'1_Metas_Resultados'!$D$4:$I$403,6,FALSE)),\"\",VLOOKUP(G284,'1_Metas_Resultados'!$D$4:$I$403,6,FALSE))","v":""}]
[{"$f":"IF(ISERROR(CONCATENATE($S285,\".\",VLOOKUP($G285,'1_Metas_Resultados'!$D$4:$E$403,2,FALSE))),\"Sin Registrar\",CONCATENATE($S285,\".\",VLOOKUP($G285,'1_Metas_Resultados'!$D$4:$E$403,2,FALSE)))","v":"Sin Registrar"},284," ",{"$f":"IF(ISERROR(CONCATENATE($S285,\".\",VLOOKUP($K285,'1_Metas_Resultados'!$D$4:$E$403,2,FALSE))),\"Sin Registrar\",CONCATENATE($S285,\".\",VLOOKUP($K285,'1_Metas_Resultados'!$D$4:$E$403,2,FALSE)))","v":"Sin Registrar"},{"$f":"IF(ISERROR(CONCATENATE($S285,\".\",VLOOKUP($L285,'1_Metas_Resultados'!$D$4:$E$403,2,FALSE))),\"Sin Registrar\",CONCATENATE($S285,\".\",VLOOKUP($L285,'1_Metas_Resultados'!$D$4:$E$403,2,FALSE)))","v":"Sin Registrar"},{"$f":"IF(ISERROR(VLOOKUP(G285,'1_Metas_Resultados'!$D$4:$I$403,6,FALSE)),\"\",VLOOKUP(G285,'1_Metas_Resultados'!$D$4:$I$403,6,FALSE))","v":""}]
[{"$f":"IF(ISERROR(CONCATENATE($S286,\".\",VLOOKUP($G286,'1_Metas_Resultados'!$D$4:$E$403,2,FALSE))),\"Sin Registrar\",CONCATENATE($S286,\".\",VLOOKUP($G286,'1_Metas_Resultados'!$D$4:$E$403,2,FALSE)))","v":"Sin Registrar"},285," ",{"$f":"IF(ISERROR(CONCATENATE($S286,\".\",VLOOKUP($K286,'1_Metas_Resultados'!$D$4:$E$403,2,FALSE))),\"Sin Registrar\",CONCATENATE($S286,\".\",VLOOKUP($K286,'1_Metas_Resultados'!$D$4:$E$403,2,FALSE)))","v":"Sin Registrar"},{"$f":"IF(ISERROR(CONCATENATE($S286,\".\",VLOOKUP($L286,'1_Metas_Resultados'!$D$4:$E$403,2,FALSE))),\"Sin Registrar\",CONCATENATE($S286,\".\",VLOOKUP($L286,'1_Metas_Resultados'!$D$4:$E$403,2,FALSE)))","v":"Sin Registrar"},{"$f":"IF(ISERROR(VLOOKUP(G286,'1_Metas_Resultados'!$D$4:$I$403,6,FALSE)),\"\",VLOOKUP(G286,'1_Metas_Resultados'!$D$4:$I$403,6,FALSE))","v":""}]
[{"$f":"IF(ISERROR(CONCATENATE($S287,\".\",VLOOKUP($G287,'1_Metas_Resultados'!$D$4:$E$403,2,FALSE))),\"Sin Registrar\",CONCATENATE($S287,\".\",VLOOKUP($G287,'1_Metas_Resultados'!$D$4:$E$403,2,FALSE)))","v":"Sin Registrar"},286," ",{"$f":"IF(ISERROR(CONCATENATE($S287,\".\",VLOOKUP($K287,'1_Metas_Resultados'!$D$4:$E$403,2,FALSE))),\"Sin Registrar\",CONCATENATE($S287,\".\",VLOOKUP($K287,'1_Metas_Resultados'!$D$4:$E$403,2,FALSE)))","v":"Sin Registrar"},{"$f":"IF(ISERROR(CONCATENATE($S287,\".\",VLOOKUP($L287,'1_Metas_Resultados'!$D$4:$E$403,2,FALSE))),\"Sin Registrar\",CONCATENATE($S287,\".\",VLOOKUP($L287,'1_Metas_Resultados'!$D$4:$E$403,2,FALSE)))","v":"Sin Registrar"},{"$f":"IF(ISERROR(VLOOKUP(G287,'1_Metas_Resultados'!$D$4:$I$403,6,FALSE)),\"\",VLOOKUP(G287,'1_Metas_Resultados'!$D$4:$I$403,6,FALSE))","v":""}]
[{"$f":"IF(ISERROR(CONCATENATE($S288,\".\",VLOOKUP($G288,'1_Metas_Resultados'!$D$4:$E$403,2,FALSE))),\"Sin Registrar\",CONCATENATE($S288,\".\",VLOOKUP($G288,'1_Metas_Resultados'!$D$4:$E$403,2,FALSE)))","v":"Sin Registrar"},287," ",{"$f":"IF(ISERROR(CONCATENATE($S288,\".\",VLOOKUP($K288,'1_Metas_Resultados'!$D$4:$E$403,2,FALSE))),\"Sin Registrar\",CONCATENATE($S288,\".\",VLOOKUP($K288,'1_Metas_Resultados'!$D$4:$E$403,2,FALSE)))","v":"Sin Registrar"},{"$f":"IF(ISERROR(CONCATENATE($S288,\".\",VLOOKUP($L288,'1_Metas_Resultados'!$D$4:$E$403,2,FALSE))),\"Sin Registrar\",CONCATENATE($S288,\".\",VLOOKUP($L288,'1_Metas_Resultados'!$D$4:$E$403,2,FALSE)))","v":"Sin Registrar"},{"$f":"IF(ISERROR(VLOOKUP(G288,'1_Metas_Resultados'!$D$4:$I$403,6,FALSE)),\"\",VLOOKUP(G288,'1_Metas_Resultados'!$D$4:$I$403,6,FALSE))","v":""}]
[{"$f":"IF(ISERROR(CONCATENATE($S289,\".\",VLOOKUP($G289,'1_Metas_Resultados'!$D$4:$E$403,2,FALSE))),\"Sin Registrar\",CONCATENATE($S289,\".\",VLOOKUP($G289,'1_Metas_Resultados'!$D$4:$E$403,2,FALSE)))","v":"Sin Registrar"},288," ",{"$f":"IF(ISERROR(CONCATENATE($S289,\".\",VLOOKUP($K289,'1_Metas_Resultados'!$D$4:$E$403,2,FALSE))),\"Sin Registrar\",CONCATENATE($S289,\".\",VLOOKUP($K289,'1_Metas_Resultados'!$D$4:$E$403,2,FALSE)))","v":"Sin Registrar"},{"$f":"IF(ISERROR(CONCATENATE($S289,\".\",VLOOKUP($L289,'1_Metas_Resultados'!$D$4:$E$403,2,FALSE))),\"Sin Registrar\",CONCATENATE($S289,\".\",VLOOKUP($L289,'1_Metas_Resultados'!$D$4:$E$403,2,FALSE)))","v":"Sin Registrar"},{"$f":"IF(ISERROR(VLOOKUP(G289,'1_Metas_Resultados'!$D$4:$I$403,6,FALSE)),\"\",VLOOKUP(G289,'1_Metas_Resultados'!$D$4:$I$403,6,FALSE))","v":""}]
[{"$f":"IF(ISERROR(CONCATENATE($S290,\".\",VLOOKUP($G290,'1_Metas_Resultados'!$D$4:$E$403,2,FALSE))),\"Sin Registrar\",CONCATENATE($S290,\".\",VLOOKUP($G290,'1_Metas_Resultados'!$D$4:$E$403,2,FALSE)))","v":"Sin Registrar"},289," ",{"$f":"IF(ISERROR(CONCATENATE($S290,\".\",VLOOKUP($K290,'1_Metas_Resultados'!$D$4:$E$403,2,FALSE))),\"Sin Registrar\",CONCATENATE($S290,\".\",VLOOKUP($K290,'1_Metas_Resultados'!$D$4:$E$403,2,FALSE)))","v":"Sin Registrar"},{"$f":"IF(ISERROR(CONCATENATE($S290,\".\",VLOOKUP($L290,'1_Metas_Resultados'!$D$4:$E$403,2,FALSE))),\"Sin Registrar\",CONCATENATE($S290,\".\",VLOOKUP($L290,'1_Metas_Resultados'!$D$4:$E$403,2,FALSE)))","v":"Sin Registrar"},{"$f":"IF(ISERROR(VLOOKUP(G290,'1_Metas_Resultados'!$D$4:$I$403,6,FALSE)),\"\",VLOOKUP(G290,'1_Metas_Resultados'!$D$4:$I$403,6,FALSE))","v":""}]
[{"$f":"IF(ISERROR(CONCATENATE($S291,\".\",VLOOKUP($G291,'1_Metas_Resultados'!$D$4:$E$403,2,FALSE))),\"Sin Registrar\",CONCATENATE($S291,\".\",VLOOKUP($G291,'1_Metas_Resultados'!$D$4:$E$403,2,FALSE)))","v":"Sin Registrar"},290," ",{"$f":"IF(ISERROR(CONCATENATE($S291,\".\",VLOOKUP($K291,'1_Metas_Resultados'!$D$4:$E$403,2,FALSE))),\"Sin Registrar\",CONCATENATE($S291,\".\",VLOOKUP($K291,'1_Metas_Resultados'!$D$4:$E$403,2,FALSE)))","v":"Sin Registrar"},{"$f":"IF(ISERROR(CONCATENATE($S291,\".\",VLOOKUP($L291,'1_Metas_Resultados'!$D$4:$E$403,2,FALSE))),\"Sin Registrar\",CONCATENATE($S291,\".\",VLOOKUP($L291,'1_Metas_Resultados'!$D$4:$E$403,2,FALSE)))","v":"Sin Registrar"},{"$f":"IF(ISERROR(VLOOKUP(G291,'1_Metas_Resultados'!$D$4:$I$403,6,FALSE)),\"\",VLOOKUP(G291,'1_Metas_Resultados'!$D$4:$I$403,6,FALSE))","v":""}]
[{"$f":"IF(ISERROR(CONCATENATE($S292,\".\",VLOOKUP($G292,'1_Metas_Resultados'!$D$4:$E$403,2,FALSE))),\"Sin Registrar\",CONCATENATE($S292,\".\",VLOOKUP($G292,'1_Metas_Resultados'!$D$4:$E$403,2,FALSE)))","v":"Sin Registrar"},291," ",{"$f":"IF(ISERROR(CONCATENATE($S292,\".\",VLOOKUP($K292,'1_Metas_Resultados'!$D$4:$E$403,2,FALSE))),\"Sin Registrar\",CONCATENATE($S292,\".\",VLOOKUP($K292,'1_Metas_Resultados'!$D$4:$E$403,2,FALSE)))","v":"Sin Registrar"},{"$f":"IF(ISERROR(CONCATENATE($S292,\".\",VLOOKUP($L292,'1_Metas_Resultados'!$D$4:$E$403,2,FALSE))),\"Sin Registrar\",CONCATENATE($S292,\".\",VLOOKUP($L292,'1_Metas_Resultados'!$D$4:$E$403,2,FALSE)))","v":"Sin Registrar"},{"$f":"IF(ISERROR(VLOOKUP(G292,'1_Metas_Resultados'!$D$4:$I$403,6,FALSE)),\"\",VLOOKUP(G292,'1_Metas_Resultados'!$D$4:$I$403,6,FALSE))","v":""}]
[{"$f":"IF(ISERROR(CONCATENATE($S293,\".\",VLOOKUP($G293,'1_Metas_Resultados'!$D$4:$E$403,2,FALSE))),\"Sin Registrar\",CONCATENATE($S293,\".\",VLOOKUP($G293,'1_Metas_Resultados'!$D$4:$E$403,2,FALSE)))","v":"Sin Registrar"},292," ",{"$f":"IF(ISERROR(CONCATENATE($S293,\".\",VLOOKUP($K293,'1_Metas_Resultados'!$D$4:$E$403,2,FALSE))),\"Sin Registrar\",CONCATENATE($S293,\".\",VLOOKUP($K293,'1_Metas_Resultados'!$D$4:$E$403,2,FALSE)))","v":"Sin Registrar"},{"$f":"IF(ISERROR(CONCATENATE($S293,\".\",VLOOKUP($L293,'1_Metas_Resultados'!$D$4:$E$403,2,FALSE))),\"Sin Registrar\",CONCATENATE($S293,\".\",VLOOKUP($L293,'1_Metas_Resultados'!$D$4:$E$403,2,FALSE)))","v":"Sin Registrar"},{"$f":"IF(ISERROR(VLOOKUP(G293,'1_Metas_Resultados'!$D$4:$I$403,6,FALSE)),\"\",VLOOKUP(G293,'1_Metas_Resultados'!$D$4:$I$403,6,FALSE))","v":""}]
[{"$f":"IF(ISERROR(CONCATENATE($S294,\".\",VLOOKUP($G294,'1_Metas_Resultados'!$D$4:$E$403,2,FALSE))),\"Sin Registrar\",CONCATENATE($S294,\".\",VLOOKUP($G294,'1_Metas_Resultados'!$D$4:$E$403,2,FALSE)))","v":"Sin Registrar"},293," ",{"$f":"IF(ISERROR(CONCATENATE($S294,\".\",VLOOKUP($K294,'1_Metas_Resultados'!$D$4:$E$403,2,FALSE))),\"Sin Registrar\",CONCATENATE($S294,\".\",VLOOKUP($K294,'1_Metas_Resultados'!$D$4:$E$403,2,FALSE)))","v":"Sin Registrar"},{"$f":"IF(ISERROR(CONCATENATE($S294,\".\",VLOOKUP($L294,'1_Metas_Resultados'!$D$4:$E$403,2,FALSE))),\"Sin Registrar\",CONCATENATE($S294,\".\",VLOOKUP($L294,'1_Metas_Resultados'!$D$4:$E$403,2,FALSE)))","v":"Sin Registrar"},{"$f":"IF(ISERROR(VLOOKUP(G294,'1_Metas_Resultados'!$D$4:$I$403,6,FALSE)),\"\",VLOOKUP(G294,'1_Metas_Resultados'!$D$4:$I$403,6,FALSE))","v":""}]
[{"$f":"IF(ISERROR(CONCATENATE($S295,\".\",VLOOKUP($G295,'1_Metas_Resultados'!$D$4:$E$403,2,FALSE))),\"Sin Registrar\",CONCATENATE($S295,\".\",VLOOKUP($G295,'1_Metas_Resultados'!$D$4:$E$403,2,FALSE)))","v":"Sin Registrar"},294," ",{"$f":"IF(ISERROR(CONCATENATE($S295,\".\",VLOOKUP($K295,'1_Metas_Resultados'!$D$4:$E$403,2,FALSE))),\"Sin Registrar\",CONCATENATE($S295,\".\",VLOOKUP($K295,'1_Metas_Resultados'!$D$4:$E$403,2,FALSE)))","v":"Sin Registrar"},{"$f":"IF(ISERROR(CONCATENATE($S295,\".\",VLOOKUP($L295,'1_Metas_Resultados'!$D$4:$E$403,2,FALSE))),\"Sin Registrar\",CONCATENATE($S295,\".\",VLOOKUP($L295,'1_Metas_Resultados'!$D$4:$E$403,2,FALSE)))","v":"Sin Registrar"},{"$f":"IF(ISERROR(VLOOKUP(G295,'1_Metas_Resultados'!$D$4:$I$403,6,FALSE)),\"\",VLOOKUP(G295,'1_Metas_Resultados'!$D$4:$I$403,6,FALSE))","v":""}]
[{"$f":"IF(ISERROR(CONCATENATE($S296,\".\",VLOOKUP($G296,'1_Metas_Resultados'!$D$4:$E$403,2,FALSE))),\"Sin Registrar\",CONCATENATE($S296,\".\",VLOOKUP($G296,'1_Metas_Resultados'!$D$4:$E$403,2,FALSE)))","v":"Sin Registrar"},295," ",{"$f":"IF(ISERROR(CONCATENATE($S296,\".\",VLOOKUP($K296,'1_Metas_Resultados'!$D$4:$E$403,2,FALSE))),\"Sin Registrar\",CONCATENATE($S296,\".\",VLOOKUP($K296,'1_Metas_Resultados'!$D$4:$E$403,2,FALSE)))","v":"Sin Registrar"},{"$f":"IF(ISERROR(CONCATENATE($S296,\".\",VLOOKUP($L296,'1_Metas_Resultados'!$D$4:$E$403,2,FALSE))),\"Sin Registrar\",CONCATENATE($S296,\".\",VLOOKUP($L296,'1_Metas_Resultados'!$D$4:$E$403,2,FALSE)))","v":"Sin Registrar"},{"$f":"IF(ISERROR(VLOOKUP(G296,'1_Metas_Resultados'!$D$4:$I$403,6,FALSE)),\"\",VLOOKUP(G296,'1_Metas_Resultados'!$D$4:$I$403,6,FALSE))","v":""}]
[{"$f":"IF(ISERROR(CONCATENATE($S297,\".\",VLOOKUP($G297,'1_Metas_Resultados'!$D$4:$E$403,2,FALSE))),\"Sin Registrar\",CONCATENATE($S297,\".\",VLOOKUP($G297,'1_Metas_Resultados'!$D$4:$E$403,2,FALSE)))","v":"Sin Registrar"},296," ",{"$f":"IF(ISERROR(CONCATENATE($S297,\".\",VLOOKUP($K297,'1_Metas_Resultados'!$D$4:$E$403,2,FALSE))),\"Sin Registrar\",CONCATENATE($S297,\".\",VLOOKUP($K297,'1_Metas_Resultados'!$D$4:$E$403,2,FALSE)))","v":"Sin Registrar"},{"$f":"IF(ISERROR(CONCATENATE($S297,\".\",VLOOKUP($L297,'1_Metas_Resultados'!$D$4:$E$403,2,FALSE))),\"Sin Registrar\",CONCATENATE($S297,\".\",VLOOKUP($L297,'1_Metas_Resultados'!$D$4:$E$403,2,FALSE)))","v":"Sin Registrar"},{"$f":"IF(ISERROR(VLOOKUP(G297,'1_Metas_Resultados'!$D$4:$I$403,6,FALSE)),\"\",VLOOKUP(G297,'1_Metas_Resultados'!$D$4:$I$403,6,FALSE))","v":""}]
[{"$f":"IF(ISERROR(CONCATENATE($S298,\".\",VLOOKUP($G298,'1_Metas_Resultados'!$D$4:$E$403,2,FALSE))),\"Sin Registrar\",CONCATENATE($S298,\".\",VLOOKUP($G298,'1_Metas_Resultados'!$D$4:$E$403,2,FALSE)))","v":"Sin Registrar"},297," ",{"$f":"IF(ISERROR(CONCATENATE($S298,\".\",VLOOKUP($K298,'1_Metas_Resultados'!$D$4:$E$403,2,FALSE))),\"Sin Registrar\",CONCATENATE($S298,\".\",VLOOKUP($K298,'1_Metas_Resultados'!$D$4:$E$403,2,FALSE)))","v":"Sin Registrar"},{"$f":"IF(ISERROR(CONCATENATE($S298,\".\",VLOOKUP($L298,'1_Metas_Resultados'!$D$4:$E$403,2,FALSE))),\"Sin Registrar\",CONCATENATE($S298,\".\",VLOOKUP($L298,'1_Metas_Resultados'!$D$4:$E$403,2,FALSE)))","v":"Sin Registrar"},{"$f":"IF(ISERROR(VLOOKUP(G298,'1_Metas_Resultados'!$D$4:$I$403,6,FALSE)),\"\",VLOOKUP(G298,'1_Metas_Resultados'!$D$4:$I$403,6,FALSE))","v":""}]
[{"$f":"IF(ISERROR(CONCATENATE($S299,\".\",VLOOKUP($G299,'1_Metas_Resultados'!$D$4:$E$403,2,FALSE))),\"Sin Registrar\",CONCATENATE($S299,\".\",VLOOKUP($G299,'1_Metas_Resultados'!$D$4:$E$403,2,FALSE)))","v":"Sin Registrar"},298," ",{"$f":"IF(ISERROR(CONCATENATE($S299,\".\",VLOOKUP($K299,'1_Metas_Resultados'!$D$4:$E$403,2,FALSE))),\"Sin Registrar\",CONCATENATE($S299,\".\",VLOOKUP($K299,'1_Metas_Resultados'!$D$4:$E$403,2,FALSE)))","v":"Sin Registrar"},{"$f":"IF(ISERROR(CONCATENATE($S299,\".\",VLOOKUP($L299,'1_Metas_Resultados'!$D$4:$E$403,2,FALSE))),\"Sin Registrar\",CONCATENATE($S299,\".\",VLOOKUP($L299,'1_Metas_Resultados'!$D$4:$E$403,2,FALSE)))","v":"Sin Registrar"},{"$f":"IF(ISERROR(VLOOKUP(G299,'1_Metas_Resultados'!$D$4:$I$403,6,FALSE)),\"\",VLOOKUP(G299,'1_Metas_Resultados'!$D$4:$I$403,6,FALSE))","v":""}]
[{"$f":"IF(ISERROR(CONCATENATE($S300,\".\",VLOOKUP($G300,'1_Metas_Resultados'!$D$4:$E$403,2,FALSE))),\"Sin Registrar\",CONCATENATE($S300,\".\",VLOOKUP($G300,'1_Metas_Resultados'!$D$4:$E$403,2,FALSE)))","v":"Sin Registrar"},299," ",{"$f":"IF(ISERROR(CONCATENATE($S300,\".\",VLOOKUP($K300,'1_Metas_Resultados'!$D$4:$E$403,2,FALSE))),\"Sin Registrar\",CONCATENATE($S300,\".\",VLOOKUP($K300,'1_Metas_Resultados'!$D$4:$E$403,2,FALSE)))","v":"Sin Registrar"},{"$f":"IF(ISERROR(CONCATENATE($S300,\".\",VLOOKUP($L300,'1_Metas_Resultados'!$D$4:$E$403,2,FALSE))),\"Sin Registrar\",CONCATENATE($S300,\".\",VLOOKUP($L300,'1_Metas_Resultados'!$D$4:$E$403,2,FALSE)))","v":"Sin Registrar"},{"$f":"IF(ISERROR(VLOOKUP(G300,'1_Metas_Resultados'!$D$4:$I$403,6,FALSE)),\"\",VLOOKUP(G300,'1_Metas_Resultados'!$D$4:$I$403,6,FALSE))","v":""}]
[{"$f":"IF(ISERROR(CONCATENATE($S301,\".\",VLOOKUP($G301,'1_Metas_Resultados'!$D$4:$E$403,2,FALSE))),\"Sin Registrar\",CONCATENATE($S301,\".\",VLOOKUP($G301,'1_Metas_Resultados'!$D$4:$E$403,2,FALSE)))","v":"Sin Registrar"},300," ",{"$f":"IF(ISERROR(CONCATENATE($S301,\".\",VLOOKUP($K301,'1_Metas_Resultados'!$D$4:$E$403,2,FALSE))),\"Sin Registrar\",CONCATENATE($S301,\".\",VLOOKUP($K301,'1_Metas_Resultados'!$D$4:$E$403,2,FALSE)))","v":"Sin Registrar"},{"$f":"IF(ISERROR(CONCATENATE($S301,\".\",VLOOKUP($L301,'1_Metas_Resultados'!$D$4:$E$403,2,FALSE))),\"Sin Registrar\",CONCATENATE($S301,\".\",VLOOKUP($L301,'1_Metas_Resultados'!$D$4:$E$403,2,FALSE)))","v":"Sin Registrar"},{"$f":"IF(ISERROR(VLOOKUP(G301,'1_Metas_Resultados'!$D$4:$I$403,6,FALSE)),\"\",VLOOKUP(G301,'1_Metas_Resultados'!$D$4:$I$403,6,FALSE))","v":""}]
[{"$f":"IF(ISERROR(CONCATENATE($S302,\".\",VLOOKUP($G302,'1_Metas_Resultados'!$D$4:$E$403,2,FALSE))),\"Sin Registrar\",CONCATENATE($S302,\".\",VLOOKUP($G302,'1_Metas_Resultados'!$D$4:$E$403,2,FALSE)))","v":"Sin Registrar"},301," ",{"$f":"IF(ISERROR(CONCATENATE($S302,\".\",VLOOKUP($K302,'1_Metas_Resultados'!$D$4:$E$403,2,FALSE))),\"Sin Registrar\",CONCATENATE($S302,\".\",VLOOKUP($K302,'1_Metas_Resultados'!$D$4:$E$403,2,FALSE)))","v":"Sin Registrar"},{"$f":"IF(ISERROR(CONCATENATE($S302,\".\",VLOOKUP($L302,'1_Metas_Resultados'!$D$4:$E$403,2,FALSE))),\"Sin Registrar\",CONCATENATE($S302,\".\",VLOOKUP($L302,'1_Metas_Resultados'!$D$4:$E$403,2,FALSE)))","v":"Sin Registrar"},{"$f":"IF(ISERROR(VLOOKUP(G302,'1_Metas_Resultados'!$D$4:$I$403,6,FALSE)),\"\",VLOOKUP(G302,'1_Metas_Resultados'!$D$4:$I$403,6,FALSE))","v":""}]
[{"$f":"IF(ISERROR(CONCATENATE($S303,\".\",VLOOKUP($G303,'1_Metas_Resultados'!$D$4:$E$403,2,FALSE))),\"Sin Registrar\",CONCATENATE($S303,\".\",VLOOKUP($G303,'1_Metas_Resultados'!$D$4:$E$403,2,FALSE)))","v":"Sin Registrar"},302," ",{"$f":"IF(ISERROR(CONCATENATE($S303,\".\",VLOOKUP($K303,'1_Metas_Resultados'!$D$4:$E$403,2,FALSE))),\"Sin Registrar\",CONCATENATE($S303,\".\",VLOOKUP($K303,'1_Metas_Resultados'!$D$4:$E$403,2,FALSE)))","v":"Sin Registrar"},{"$f":"IF(ISERROR(CONCATENATE($S303,\".\",VLOOKUP($L303,'1_Metas_Resultados'!$D$4:$E$403,2,FALSE))),\"Sin Registrar\",CONCATENATE($S303,\".\",VLOOKUP($L303,'1_Metas_Resultados'!$D$4:$E$403,2,FALSE)))","v":"Sin Registrar"},{"$f":"IF(ISERROR(VLOOKUP(G303,'1_Metas_Resultados'!$D$4:$I$403,6,FALSE)),\"\",VLOOKUP(G303,'1_Metas_Resultados'!$D$4:$I$403,6,FALSE))","v":""}]
[{"$f":"IF(ISERROR(CONCATENATE($S304,\".\",VLOOKUP($G304,'1_Metas_Resultados'!$D$4:$E$403,2,FALSE))),\"Sin Registrar\",CONCATENATE($S304,\".\",VLOOKUP($G304,'1_Metas_Resultados'!$D$4:$E$403,2,FALSE)))","v":"Sin Registrar"},303," ",{"$f":"IF(ISERROR(CONCATENATE($S304,\".\",VLOOKUP($K304,'1_Metas_Resultados'!$D$4:$E$403,2,FALSE))),\"Sin Registrar\",CONCATENATE($S304,\".\",VLOOKUP($K304,'1_Metas_Resultados'!$D$4:$E$403,2,FALSE)))","v":"Sin Registrar"},{"$f":"IF(ISERROR(CONCATENATE($S304,\".\",VLOOKUP($L304,'1_Metas_Resultados'!$D$4:$E$403,2,FALSE))),\"Sin Registrar\",CONCATENATE($S304,\".\",VLOOKUP($L304,'1_Metas_Resultados'!$D$4:$E$403,2,FALSE)))","v":"Sin Registrar"},{"$f":"IF(ISERROR(VLOOKUP(G304,'1_Metas_Resultados'!$D$4:$I$403,6,FALSE)),\"\",VLOOKUP(G304,'1_Metas_Resultados'!$D$4:$I$403,6,FALSE))","v":""}]
[{"$f":"IF(ISERROR(CONCATENATE($S305,\".\",VLOOKUP($G305,'1_Metas_Resultados'!$D$4:$E$403,2,FALSE))),\"Sin Registrar\",CONCATENATE($S305,\".\",VLOOKUP($G305,'1_Metas_Resultados'!$D$4:$E$403,2,FALSE)))","v":"Sin Registrar"},304," ",{"$f":"IF(ISERROR(CONCATENATE($S305,\".\",VLOOKUP($K305,'1_Metas_Resultados'!$D$4:$E$403,2,FALSE))),\"Sin Registrar\",CONCATENATE($S305,\".\",VLOOKUP($K305,'1_Metas_Resultados'!$D$4:$E$403,2,FALSE)))","v":"Sin Registrar"},{"$f":"IF(ISERROR(CONCATENATE($S305,\".\",VLOOKUP($L305,'1_Metas_Resultados'!$D$4:$E$403,2,FALSE))),\"Sin Registrar\",CONCATENATE($S305,\".\",VLOOKUP($L305,'1_Metas_Resultados'!$D$4:$E$403,2,FALSE)))","v":"Sin Registrar"},{"$f":"IF(ISERROR(VLOOKUP(G305,'1_Metas_Resultados'!$D$4:$I$403,6,FALSE)),\"\",VLOOKUP(G305,'1_Metas_Resultados'!$D$4:$I$403,6,FALSE))","v":""}]
[{"$f":"IF(ISERROR(CONCATENATE($S306,\".\",VLOOKUP($G306,'1_Metas_Resultados'!$D$4:$E$403,2,FALSE))),\"Sin Registrar\",CONCATENATE($S306,\".\",VLOOKUP($G306,'1_Metas_Resultados'!$D$4:$E$403,2,FALSE)))","v":"Sin Registrar"},305," ",{"$f":"IF(ISERROR(CONCATENATE($S306,\".\",VLOOKUP($K306,'1_Metas_Resultados'!$D$4:$E$403,2,FALSE))),\"Sin Registrar\",CONCATENATE($S306,\".\",VLOOKUP($K306,'1_Metas_Resultados'!$D$4:$E$403,2,FALSE)))","v":"Sin Registrar"},{"$f":"IF(ISERROR(CONCATENATE($S306,\".\",VLOOKUP($L306,'1_Metas_Resultados'!$D$4:$E$403,2,FALSE))),\"Sin Registrar\",CONCATENATE($S306,\".\",VLOOKUP($L306,'1_Metas_Resultados'!$D$4:$E$403,2,FALSE)))","v":"Sin Registrar"},{"$f":"IF(ISERROR(VLOOKUP(G306,'1_Metas_Resultados'!$D$4:$I$403,6,FALSE)),\"\",VLOOKUP(G306,'1_Metas_Resultados'!$D$4:$I$403,6,FALSE))","v":""}]
[{"$f":"IF(ISERROR(CONCATENATE($S307,\".\",VLOOKUP($G307,'1_Metas_Resultados'!$D$4:$E$403,2,FALSE))),\"Sin Registrar\",CONCATENATE($S307,\".\",VLOOKUP($G307,'1_Metas_Resultados'!$D$4:$E$403,2,FALSE)))","v":"Sin Registrar"},306," ",{"$f":"IF(ISERROR(CONCATENATE($S307,\".\",VLOOKUP($K307,'1_Metas_Resultados'!$D$4:$E$403,2,FALSE))),\"Sin Registrar\",CONCATENATE($S307,\".\",VLOOKUP($K307,'1_Metas_Resultados'!$D$4:$E$403,2,FALSE)))","v":"Sin Registrar"},{"$f":"IF(ISERROR(CONCATENATE($S307,\".\",VLOOKUP($L307,'1_Metas_Resultados'!$D$4:$E$403,2,FALSE))),\"Sin Registrar\",CONCATENATE($S307,\".\",VLOOKUP($L307,'1_Metas_Resultados'!$D$4:$E$403,2,FALSE)))","v":"Sin Registrar"},{"$f":"IF(ISERROR(VLOOKUP(G307,'1_Metas_Resultados'!$D$4:$I$403,6,FALSE)),\"\",VLOOKUP(G307,'1_Metas_Resultados'!$D$4:$I$403,6,FALSE))","v":""}]
[{"$f":"IF(ISERROR(CONCATENATE($S308,\".\",VLOOKUP($G308,'1_Metas_Resultados'!$D$4:$E$403,2,FALSE))),\"Sin Registrar\",CONCATENATE($S308,\".\",VLOOKUP($G308,'1_Metas_Resultados'!$D$4:$E$403,2,FALSE)))","v":"Sin Registrar"},307," ",{"$f":"IF(ISERROR(CONCATENATE($S308,\".\",VLOOKUP($K308,'1_Metas_Resultados'!$D$4:$E$403,2,FALSE))),\"Sin Registrar\",CONCATENATE($S308,\".\",VLOOKUP($K308,'1_Metas_Resultados'!$D$4:$E$403,2,FALSE)))","v":"Sin Registrar"},{"$f":"IF(ISERROR(CONCATENATE($S308,\".\",VLOOKUP($L308,'1_Metas_Resultados'!$D$4:$E$403,2,FALSE))),\"Sin Registrar\",CONCATENATE($S308,\".\",VLOOKUP($L308,'1_Metas_Resultados'!$D$4:$E$403,2,FALSE)))","v":"Sin Registrar"},{"$f":"IF(ISERROR(VLOOKUP(G308,'1_Metas_Resultados'!$D$4:$I$403,6,FALSE)),\"\",VLOOKUP(G308,'1_Metas_Resultados'!$D$4:$I$403,6,FALSE))","v":""}]
[{"$f":"IF(ISERROR(CONCATENATE($S309,\".\",VLOOKUP($G309,'1_Metas_Resultados'!$D$4:$E$403,2,FALSE))),\"Sin Registrar\",CONCATENATE($S309,\".\",VLOOKUP($G309,'1_Metas_Resultados'!$D$4:$E$403,2,FALSE)))","v":"Sin Registrar"},308," ",{"$f":"IF(ISERROR(CONCATENATE($S309,\".\",VLOOKUP($K309,'1_Metas_Resultados'!$D$4:$E$403,2,FALSE))),\"Sin Registrar\",CONCATENATE($S309,\".\",VLOOKUP($K309,'1_Metas_Resultados'!$D$4:$E$403,2,FALSE)))","v":"Sin Registrar"},{"$f":"IF(ISERROR(CONCATENATE($S309,\".\",VLOOKUP($L309,'1_Metas_Resultados'!$D$4:$E$403,2,FALSE))),\"Sin Registrar\",CONCATENATE($S309,\".\",VLOOKUP($L309,'1_Metas_Resultados'!$D$4:$E$403,2,FALSE)))","v":"Sin Registrar"},{"$f":"IF(ISERROR(VLOOKUP(G309,'1_Metas_Resultados'!$D$4:$I$403,6,FALSE)),\"\",VLOOKUP(G309,'1_Metas_Resultados'!$D$4:$I$403,6,FALSE))","v":""}]
[{"$f":"IF(ISERROR(CONCATENATE($S310,\".\",VLOOKUP($G310,'1_Metas_Resultados'!$D$4:$E$403,2,FALSE))),\"Sin Registrar\",CONCATENATE($S310,\".\",VLOOKUP($G310,'1_Metas_Resultados'!$D$4:$E$403,2,FALSE)))","v":"Sin Registrar"},309," ",{"$f":"IF(ISERROR(CONCATENATE($S310,\".\",VLOOKUP($K310,'1_Metas_Resultados'!$D$4:$E$403,2,FALSE))),\"Sin Registrar\",CONCATENATE($S310,\".\",VLOOKUP($K310,'1_Metas_Resultados'!$D$4:$E$403,2,FALSE)))","v":"Sin Registrar"},{"$f":"IF(ISERROR(CONCATENATE($S310,\".\",VLOOKUP($L310,'1_Metas_Resultados'!$D$4:$E$403,2,FALSE))),\"Sin Registrar\",CONCATENATE($S310,\".\",VLOOKUP($L310,'1_Metas_Resultados'!$D$4:$E$403,2,FALSE)))","v":"Sin Registrar"},{"$f":"IF(ISERROR(VLOOKUP(G310,'1_Metas_Resultados'!$D$4:$I$403,6,FALSE)),\"\",VLOOKUP(G310,'1_Metas_Resultados'!$D$4:$I$403,6,FALSE))","v":""}]
[{"$f":"IF(ISERROR(CONCATENATE($S311,\".\",VLOOKUP($G311,'1_Metas_Resultados'!$D$4:$E$403,2,FALSE))),\"Sin Registrar\",CONCATENATE($S311,\".\",VLOOKUP($G311,'1_Metas_Resultados'!$D$4:$E$403,2,FALSE)))","v":"Sin Registrar"},310," ",{"$f":"IF(ISERROR(CONCATENATE($S311,\".\",VLOOKUP($K311,'1_Metas_Resultados'!$D$4:$E$403,2,FALSE))),\"Sin Registrar\",CONCATENATE($S311,\".\",VLOOKUP($K311,'1_Metas_Resultados'!$D$4:$E$403,2,FALSE)))","v":"Sin Registrar"},{"$f":"IF(ISERROR(CONCATENATE($S311,\".\",VLOOKUP($L311,'1_Metas_Resultados'!$D$4:$E$403,2,FALSE))),\"Sin Registrar\",CONCATENATE($S311,\".\",VLOOKUP($L311,'1_Metas_Resultados'!$D$4:$E$403,2,FALSE)))","v":"Sin Registrar"},{"$f":"IF(ISERROR(VLOOKUP(G311,'1_Metas_Resultados'!$D$4:$I$403,6,FALSE)),\"\",VLOOKUP(G311,'1_Metas_Resultados'!$D$4:$I$403,6,FALSE))","v":""}]
[{"$f":"IF(ISERROR(CONCATENATE($S312,\".\",VLOOKUP($G312,'1_Metas_Resultados'!$D$4:$E$403,2,FALSE))),\"Sin Registrar\",CONCATENATE($S312,\".\",VLOOKUP($G312,'1_Metas_Resultados'!$D$4:$E$403,2,FALSE)))","v":"Sin Registrar"},311," ",{"$f":"IF(ISERROR(CONCATENATE($S312,\".\",VLOOKUP($K312,'1_Metas_Resultados'!$D$4:$E$403,2,FALSE))),\"Sin Registrar\",CONCATENATE($S312,\".\",VLOOKUP($K312,'1_Metas_Resultados'!$D$4:$E$403,2,FALSE)))","v":"Sin Registrar"},{"$f":"IF(ISERROR(CONCATENATE($S312,\".\",VLOOKUP($L312,'1_Metas_Resultados'!$D$4:$E$403,2,FALSE))),\"Sin Registrar\",CONCATENATE($S312,\".\",VLOOKUP($L312,'1_Metas_Resultados'!$D$4:$E$403,2,FALSE)))","v":"Sin Registrar"},{"$f":"IF(ISERROR(VLOOKUP(G312,'1_Metas_Resultados'!$D$4:$I$403,6,FALSE)),\"\",VLOOKUP(G312,'1_Metas_Resultados'!$D$4:$I$403,6,FALSE))","v":""}]
[{"$f":"IF(ISERROR(CONCATENATE($S313,\".\",VLOOKUP($G313,'1_Metas_Resultados'!$D$4:$E$403,2,FALSE))),\"Sin Registrar\",CONCATENATE($S313,\".\",VLOOKUP($G313,'1_Metas_Resultados'!$D$4:$E$403,2,FALSE)))","v":"Sin Registrar"},312," ",{"$f":"IF(ISERROR(CONCATENATE($S313,\".\",VLOOKUP($K313,'1_Metas_Resultados'!$D$4:$E$403,2,FALSE))),\"Sin Registrar\",CONCATENATE($S313,\".\",VLOOKUP($K313,'1_Metas_Resultados'!$D$4:$E$403,2,FALSE)))","v":"Sin Registrar"},{"$f":"IF(ISERROR(CONCATENATE($S313,\".\",VLOOKUP($L313,'1_Metas_Resultados'!$D$4:$E$403,2,FALSE))),\"Sin Registrar\",CONCATENATE($S313,\".\",VLOOKUP($L313,'1_Metas_Resultados'!$D$4:$E$403,2,FALSE)))","v":"Sin Registrar"},{"$f":"IF(ISERROR(VLOOKUP(G313,'1_Metas_Resultados'!$D$4:$I$403,6,FALSE)),\"\",VLOOKUP(G313,'1_Metas_Resultados'!$D$4:$I$403,6,FALSE))","v":""}]
[{"$f":"IF(ISERROR(CONCATENATE($S314,\".\",VLOOKUP($G314,'1_Metas_Resultados'!$D$4:$E$403,2,FALSE))),\"Sin Registrar\",CONCATENATE($S314,\".\",VLOOKUP($G314,'1_Metas_Resultados'!$D$4:$E$403,2,FALSE)))","v":"Sin Registrar"},313," ",{"$f":"IF(ISERROR(CONCATENATE($S314,\".\",VLOOKUP($K314,'1_Metas_Resultados'!$D$4:$E$403,2,FALSE))),\"Sin Registrar\",CONCATENATE($S314,\".\",VLOOKUP($K314,'1_Metas_Resultados'!$D$4:$E$403,2,FALSE)))","v":"Sin Registrar"},{"$f":"IF(ISERROR(CONCATENATE($S314,\".\",VLOOKUP($L314,'1_Metas_Resultados'!$D$4:$E$403,2,FALSE))),\"Sin Registrar\",CONCATENATE($S314,\".\",VLOOKUP($L314,'1_Metas_Resultados'!$D$4:$E$403,2,FALSE)))","v":"Sin Registrar"},{"$f":"IF(ISERROR(VLOOKUP(G314,'1_Metas_Resultados'!$D$4:$I$403,6,FALSE)),\"\",VLOOKUP(G314,'1_Metas_Resultados'!$D$4:$I$403,6,FALSE))","v":""}]
[{"$f":"IF(ISERROR(CONCATENATE($S315,\".\",VLOOKUP($G315,'1_Metas_Resultados'!$D$4:$E$403,2,FALSE))),\"Sin Registrar\",CONCATENATE($S315,\".\",VLOOKUP($G315,'1_Metas_Resultados'!$D$4:$E$403,2,FALSE)))","v":"Sin Registrar"},314," ",{"$f":"IF(ISERROR(CONCATENATE($S315,\".\",VLOOKUP($K315,'1_Metas_Resultados'!$D$4:$E$403,2,FALSE))),\"Sin Registrar\",CONCATENATE($S315,\".\",VLOOKUP($K315,'1_Metas_Resultados'!$D$4:$E$403,2,FALSE)))","v":"Sin Registrar"},{"$f":"IF(ISERROR(CONCATENATE($S315,\".\",VLOOKUP($L315,'1_Metas_Resultados'!$D$4:$E$403,2,FALSE))),\"Sin Registrar\",CONCATENATE($S315,\".\",VLOOKUP($L315,'1_Metas_Resultados'!$D$4:$E$403,2,FALSE)))","v":"Sin Registrar"},{"$f":"IF(ISERROR(VLOOKUP(G315,'1_Metas_Resultados'!$D$4:$I$403,6,FALSE)),\"\",VLOOKUP(G315,'1_Metas_Resultados'!$D$4:$I$403,6,FALSE))","v":""}]
[{"$f":"IF(ISERROR(CONCATENATE($S316,\".\",VLOOKUP($G316,'1_Metas_Resultados'!$D$4:$E$403,2,FALSE))),\"Sin Registrar\",CONCATENATE($S316,\".\",VLOOKUP($G316,'1_Metas_Resultados'!$D$4:$E$403,2,FALSE)))","v":"Sin Registrar"},315," ",{"$f":"IF(ISERROR(CONCATENATE($S316,\".\",VLOOKUP($K316,'1_Metas_Resultados'!$D$4:$E$403,2,FALSE))),\"Sin Registrar\",CONCATENATE($S316,\".\",VLOOKUP($K316,'1_Metas_Resultados'!$D$4:$E$403,2,FALSE)))","v":"Sin Registrar"},{"$f":"IF(ISERROR(CONCATENATE($S316,\".\",VLOOKUP($L316,'1_Metas_Resultados'!$D$4:$E$403,2,FALSE))),\"Sin Registrar\",CONCATENATE($S316,\".\",VLOOKUP($L316,'1_Metas_Resultados'!$D$4:$E$403,2,FALSE)))","v":"Sin Registrar"},{"$f":"IF(ISERROR(VLOOKUP(G316,'1_Metas_Resultados'!$D$4:$I$403,6,FALSE)),\"\",VLOOKUP(G316,'1_Metas_Resultados'!$D$4:$I$403,6,FALSE))","v":""}]
[{"$f":"IF(ISERROR(CONCATENATE($S317,\".\",VLOOKUP($G317,'1_Metas_Resultados'!$D$4:$E$403,2,FALSE))),\"Sin Registrar\",CONCATENATE($S317,\".\",VLOOKUP($G317,'1_Metas_Resultados'!$D$4:$E$403,2,FALSE)))","v":"Sin Registrar"},316," ",{"$f":"IF(ISERROR(CONCATENATE($S317,\".\",VLOOKUP($K317,'1_Metas_Resultados'!$D$4:$E$403,2,FALSE))),\"Sin Registrar\",CONCATENATE($S317,\".\",VLOOKUP($K317,'1_Metas_Resultados'!$D$4:$E$403,2,FALSE)))","v":"Sin Registrar"},{"$f":"IF(ISERROR(CONCATENATE($S317,\".\",VLOOKUP($L317,'1_Metas_Resultados'!$D$4:$E$403,2,FALSE))),\"Sin Registrar\",CONCATENATE($S317,\".\",VLOOKUP($L317,'1_Metas_Resultados'!$D$4:$E$403,2,FALSE)))","v":"Sin Registrar"},{"$f":"IF(ISERROR(VLOOKUP(G317,'1_Metas_Resultados'!$D$4:$I$403,6,FALSE)),\"\",VLOOKUP(G317,'1_Metas_Resultados'!$D$4:$I$403,6,FALSE))","v":""}]
[{"$f":"IF(ISERROR(CONCATENATE($S318,\".\",VLOOKUP($G318,'1_Metas_Resultados'!$D$4:$E$403,2,FALSE))),\"Sin Registrar\",CONCATENATE($S318,\".\",VLOOKUP($G318,'1_Metas_Resultados'!$D$4:$E$403,2,FALSE)))","v":"Sin Registrar"},317," ",{"$f":"IF(ISERROR(CONCATENATE($S318,\".\",VLOOKUP($K318,'1_Metas_Resultados'!$D$4:$E$403,2,FALSE))),\"Sin Registrar\",CONCATENATE($S318,\".\",VLOOKUP($K318,'1_Metas_Resultados'!$D$4:$E$403,2,FALSE)))","v":"Sin Registrar"},{"$f":"IF(ISERROR(CONCATENATE($S318,\".\",VLOOKUP($L318,'1_Metas_Resultados'!$D$4:$E$403,2,FALSE))),\"Sin Registrar\",CONCATENATE($S318,\".\",VLOOKUP($L318,'1_Metas_Resultados'!$D$4:$E$403,2,FALSE)))","v":"Sin Registrar"},{"$f":"IF(ISERROR(VLOOKUP(G318,'1_Metas_Resultados'!$D$4:$I$403,6,FALSE)),\"\",VLOOKUP(G318,'1_Metas_Resultados'!$D$4:$I$403,6,FALSE))","v":""}]
[{"$f":"IF(ISERROR(CONCATENATE($S319,\".\",VLOOKUP($G319,'1_Metas_Resultados'!$D$4:$E$403,2,FALSE))),\"Sin Registrar\",CONCATENATE($S319,\".\",VLOOKUP($G319,'1_Metas_Resultados'!$D$4:$E$403,2,FALSE)))","v":"Sin Registrar"},318," ",{"$f":"IF(ISERROR(CONCATENATE($S319,\".\",VLOOKUP($K319,'1_Metas_Resultados'!$D$4:$E$403,2,FALSE))),\"Sin Registrar\",CONCATENATE($S319,\".\",VLOOKUP($K319,'1_Metas_Resultados'!$D$4:$E$403,2,FALSE)))","v":"Sin Registrar"},{"$f":"IF(ISERROR(CONCATENATE($S319,\".\",VLOOKUP($L319,'1_Metas_Resultados'!$D$4:$E$403,2,FALSE))),\"Sin Registrar\",CONCATENATE($S319,\".\",VLOOKUP($L319,'1_Metas_Resultados'!$D$4:$E$403,2,FALSE)))","v":"Sin Registrar"},{"$f":"IF(ISERROR(VLOOKUP(G319,'1_Metas_Resultados'!$D$4:$I$403,6,FALSE)),\"\",VLOOKUP(G319,'1_Metas_Resultados'!$D$4:$I$403,6,FALSE))","v":""}]
[{"$f":"IF(ISERROR(CONCATENATE($S320,\".\",VLOOKUP($G320,'1_Metas_Resultados'!$D$4:$E$403,2,FALSE))),\"Sin Registrar\",CONCATENATE($S320,\".\",VLOOKUP($G320,'1_Metas_Resultados'!$D$4:$E$403,2,FALSE)))","v":"Sin Registrar"},319," ",{"$f":"IF(ISERROR(CONCATENATE($S320,\".\",VLOOKUP($K320,'1_Metas_Resultados'!$D$4:$E$403,2,FALSE))),\"Sin Registrar\",CONCATENATE($S320,\".\",VLOOKUP($K320,'1_Metas_Resultados'!$D$4:$E$403,2,FALSE)))","v":"Sin Registrar"},{"$f":"IF(ISERROR(CONCATENATE($S320,\".\",VLOOKUP($L320,'1_Metas_Resultados'!$D$4:$E$403,2,FALSE))),\"Sin Registrar\",CONCATENATE($S320,\".\",VLOOKUP($L320,'1_Metas_Resultados'!$D$4:$E$403,2,FALSE)))","v":"Sin Registrar"},{"$f":"IF(ISERROR(VLOOKUP(G320,'1_Metas_Resultados'!$D$4:$I$403,6,FALSE)),\"\",VLOOKUP(G320,'1_Metas_Resultados'!$D$4:$I$403,6,FALSE))","v":""}]
[{"$f":"IF(ISERROR(CONCATENATE($S321,\".\",VLOOKUP($G321,'1_Metas_Resultados'!$D$4:$E$403,2,FALSE))),\"Sin Registrar\",CONCATENATE($S321,\".\",VLOOKUP($G321,'1_Metas_Resultados'!$D$4:$E$403,2,FALSE)))","v":"Sin Registrar"},320," ",{"$f":"IF(ISERROR(CONCATENATE($S321,\".\",VLOOKUP($K321,'1_Metas_Resultados'!$D$4:$E$403,2,FALSE))),\"Sin Registrar\",CONCATENATE($S321,\".\",VLOOKUP($K321,'1_Metas_Resultados'!$D$4:$E$403,2,FALSE)))","v":"Sin Registrar"},{"$f":"IF(ISERROR(CONCATENATE($S321,\".\",VLOOKUP($L321,'1_Metas_Resultados'!$D$4:$E$403,2,FALSE))),\"Sin Registrar\",CONCATENATE($S321,\".\",VLOOKUP($L321,'1_Metas_Resultados'!$D$4:$E$403,2,FALSE)))","v":"Sin Registrar"},{"$f":"IF(ISERROR(VLOOKUP(G321,'1_Metas_Resultados'!$D$4:$I$403,6,FALSE)),\"\",VLOOKUP(G321,'1_Metas_Resultados'!$D$4:$I$403,6,FALSE))","v":""}]
[{"$f":"IF(ISERROR(CONCATENATE($S322,\".\",VLOOKUP($G322,'1_Metas_Resultados'!$D$4:$E$403,2,FALSE))),\"Sin Registrar\",CONCATENATE($S322,\".\",VLOOKUP($G322,'1_Metas_Resultados'!$D$4:$E$403,2,FALSE)))","v":"Sin Registrar"},321," ",{"$f":"IF(ISERROR(CONCATENATE($S322,\".\",VLOOKUP($K322,'1_Metas_Resultados'!$D$4:$E$403,2,FALSE))),\"Sin Registrar\",CONCATENATE($S322,\".\",VLOOKUP($K322,'1_Metas_Resultados'!$D$4:$E$403,2,FALSE)))","v":"Sin Registrar"},{"$f":"IF(ISERROR(CONCATENATE($S322,\".\",VLOOKUP($L322,'1_Metas_Resultados'!$D$4:$E$403,2,FALSE))),\"Sin Registrar\",CONCATENATE($S322,\".\",VLOOKUP($L322,'1_Metas_Resultados'!$D$4:$E$403,2,FALSE)))","v":"Sin Registrar"},{"$f":"IF(ISERROR(VLOOKUP(G322,'1_Metas_Resultados'!$D$4:$I$403,6,FALSE)),\"\",VLOOKUP(G322,'1_Metas_Resultados'!$D$4:$I$403,6,FALSE))","v":""}]
[{"$f":"IF(ISERROR(CONCATENATE($S323,\".\",VLOOKUP($G323,'1_Metas_Resultados'!$D$4:$E$403,2,FALSE))),\"Sin Registrar\",CONCATENATE($S323,\".\",VLOOKUP($G323,'1_Metas_Resultados'!$D$4:$E$403,2,FALSE)))","v":"Sin Registrar"},322," ",{"$f":"IF(ISERROR(CONCATENATE($S323,\".\",VLOOKUP($K323,'1_Metas_Resultados'!$D$4:$E$403,2,FALSE))),\"Sin Registrar\",CONCATENATE($S323,\".\",VLOOKUP($K323,'1_Metas_Resultados'!$D$4:$E$403,2,FALSE)))","v":"Sin Registrar"},{"$f":"IF(ISERROR(CONCATENATE($S323,\".\",VLOOKUP($L323,'1_Metas_Resultados'!$D$4:$E$403,2,FALSE))),\"Sin Registrar\",CONCATENATE($S323,\".\",VLOOKUP($L323,'1_Metas_Resultados'!$D$4:$E$403,2,FALSE)))","v":"Sin Registrar"},{"$f":"IF(ISERROR(VLOOKUP(G323,'1_Metas_Resultados'!$D$4:$I$403,6,FALSE)),\"\",VLOOKUP(G323,'1_Metas_Resultados'!$D$4:$I$403,6,FALSE))","v":""}]
[{"$f":"IF(ISERROR(CONCATENATE($S324,\".\",VLOOKUP($G324,'1_Metas_Resultados'!$D$4:$E$403,2,FALSE))),\"Sin Registrar\",CONCATENATE($S324,\".\",VLOOKUP($G324,'1_Metas_Resultados'!$D$4:$E$403,2,FALSE)))","v":"Sin Registrar"},323," ",{"$f":"IF(ISERROR(CONCATENATE($S324,\".\",VLOOKUP($K324,'1_Metas_Resultados'!$D$4:$E$403,2,FALSE))),\"Sin Registrar\",CONCATENATE($S324,\".\",VLOOKUP($K324,'1_Metas_Resultados'!$D$4:$E$403,2,FALSE)))","v":"Sin Registrar"},{"$f":"IF(ISERROR(CONCATENATE($S324,\".\",VLOOKUP($L324,'1_Metas_Resultados'!$D$4:$E$403,2,FALSE))),\"Sin Registrar\",CONCATENATE($S324,\".\",VLOOKUP($L324,'1_Metas_Resultados'!$D$4:$E$403,2,FALSE)))","v":"Sin Registrar"},{"$f":"IF(ISERROR(VLOOKUP(G324,'1_Metas_Resultados'!$D$4:$I$403,6,FALSE)),\"\",VLOOKUP(G324,'1_Metas_Resultados'!$D$4:$I$403,6,FALSE))","v":""}]
[{"$f":"IF(ISERROR(CONCATENATE($S325,\".\",VLOOKUP($G325,'1_Metas_Resultados'!$D$4:$E$403,2,FALSE))),\"Sin Registrar\",CONCATENATE($S325,\".\",VLOOKUP($G325,'1_Metas_Resultados'!$D$4:$E$403,2,FALSE)))","v":"Sin Registrar"},324,{"$f":"IF(A325=\"Sin Registrar\",\" \",CONCATENATE(A325,\".\",B325))","v":" "},{"$f":"IF(ISERROR(CONCATENATE($S325,\".\",VLOOKUP($K325,'1_Metas_Resultados'!$D$4:$E$403,2,FALSE))),\"Sin Registrar\",CONCATENATE($S325,\".\",VLOOKUP($K325,'1_Metas_Resultados'!$D$4:$E$403,2,FALSE)))","v":"Sin Registrar"},{"$f":"IF(ISERROR(CONCATENATE($S325,\".\",VLOOKUP($L325,'1_Metas_Resultados'!$D$4:$E$403,2,FALSE))),\"Sin Registrar\",CONCATENATE($S325,\".\",VLOOKUP($L325,'1_Metas_Resultados'!$D$4:$E$403,2,FALSE)))","v":"Sin Registrar"},{"$f":"IF(ISERROR(VLOOKUP(G325,'1_Metas_Resultados'!$D$4:$I$403,6,FALSE)),\"\",VLOOKUP(G325,'1_Metas_Resultados'!$D$4:$I$403,6,FALSE))","v":""}]
[{"$f":"IF(ISERROR(CONCATENATE($S326,\".\",VLOOKUP($G326,'1_Metas_Resultados'!$D$4:$E$403,2,FALSE))),\"Sin Registrar\",CONCATENATE($S326,\".\",VLOOKUP($G326,'1_Metas_Resultados'!$D$4:$E$403,2,FALSE)))","v":"Sin Registrar"},325," ",{"$f":"IF(ISERROR(CONCATENATE($S326,\".\",VLOOKUP($K326,'1_Metas_Resultados'!$D$4:$E$403,2,FALSE))),\"Sin Registrar\",CONCATENATE($S326,\".\",VLOOKUP($K326,'1_Metas_Resultados'!$D$4:$E$403,2,FALSE)))","v":"Sin Registrar"},{"$f":"IF(ISERROR(CONCATENATE($S326,\".\",VLOOKUP($L326,'1_Metas_Resultados'!$D$4:$E$403,2,FALSE))),\"Sin Registrar\",CONCATENATE($S326,\".\",VLOOKUP($L326,'1_Metas_Resultados'!$D$4:$E$403,2,FALSE)))","v":"Sin Registrar"},{"$f":"IF(ISERROR(VLOOKUP(G326,'1_Metas_Resultados'!$D$4:$I$403,6,FALSE)),\"\",VLOOKUP(G326,'1_Metas_Resultados'!$D$4:$I$403,6,FALSE))","v":""}]
[{"$f":"IF(ISERROR(CONCATENATE($S327,\".\",VLOOKUP($G327,'1_Metas_Resultados'!$D$4:$E$403,2,FALSE))),\"Sin Registrar\",CONCATENATE($S327,\".\",VLOOKUP($G327,'1_Metas_Resultados'!$D$4:$E$403,2,FALSE)))","v":"Sin Registrar"},326," ",{"$f":"IF(ISERROR(CONCATENATE($S327,\".\",VLOOKUP($K327,'1_Metas_Resultados'!$D$4:$E$403,2,FALSE))),\"Sin Registrar\",CONCATENATE($S327,\".\",VLOOKUP($K327,'1_Metas_Resultados'!$D$4:$E$403,2,FALSE)))","v":"Sin Registrar"},{"$f":"IF(ISERROR(CONCATENATE($S327,\".\",VLOOKUP($L327,'1_Metas_Resultados'!$D$4:$E$403,2,FALSE))),\"Sin Registrar\",CONCATENATE($S327,\".\",VLOOKUP($L327,'1_Metas_Resultados'!$D$4:$E$403,2,FALSE)))","v":"Sin Registrar"},{"$f":"IF(ISERROR(VLOOKUP(G327,'1_Metas_Resultados'!$D$4:$I$403,6,FALSE)),\"\",VLOOKUP(G327,'1_Metas_Resultados'!$D$4:$I$403,6,FALSE))","v":""}]
[{"$f":"IF(ISERROR(CONCATENATE($S328,\".\",VLOOKUP($G328,'1_Metas_Resultados'!$D$4:$E$403,2,FALSE))),\"Sin Registrar\",CONCATENATE($S328,\".\",VLOOKUP($G328,'1_Metas_Resultados'!$D$4:$E$403,2,FALSE)))","v":"Sin Registrar"},327," ",{"$f":"IF(ISERROR(CONCATENATE($S328,\".\",VLOOKUP($K328,'1_Metas_Resultados'!$D$4:$E$403,2,FALSE))),\"Sin Registrar\",CONCATENATE($S328,\".\",VLOOKUP($K328,'1_Metas_Resultados'!$D$4:$E$403,2,FALSE)))","v":"Sin Registrar"},{"$f":"IF(ISERROR(CONCATENATE($S328,\".\",VLOOKUP($L328,'1_Metas_Resultados'!$D$4:$E$403,2,FALSE))),\"Sin Registrar\",CONCATENATE($S328,\".\",VLOOKUP($L328,'1_Metas_Resultados'!$D$4:$E$403,2,FALSE)))","v":"Sin Registrar"},{"$f":"IF(ISERROR(VLOOKUP(G328,'1_Metas_Resultados'!$D$4:$I$403,6,FALSE)),\"\",VLOOKUP(G328,'1_Metas_Resultados'!$D$4:$I$403,6,FALSE))","v":""}]
[{"$f":"IF(ISERROR(CONCATENATE($S329,\".\",VLOOKUP($G329,'1_Metas_Resultados'!$D$4:$E$403,2,FALSE))),\"Sin Registrar\",CONCATENATE($S329,\".\",VLOOKUP($G329,'1_Metas_Resultados'!$D$4:$E$403,2,FALSE)))","v":"Sin Registrar"},328," ",{"$f":"IF(ISERROR(CONCATENATE($S329,\".\",VLOOKUP($K329,'1_Metas_Resultados'!$D$4:$E$403,2,FALSE))),\"Sin Registrar\",CONCATENATE($S329,\".\",VLOOKUP($K329,'1_Metas_Resultados'!$D$4:$E$403,2,FALSE)))","v":"Sin Registrar"},{"$f":"IF(ISERROR(CONCATENATE($S329,\".\",VLOOKUP($L329,'1_Metas_Resultados'!$D$4:$E$403,2,FALSE))),\"Sin Registrar\",CONCATENATE($S329,\".\",VLOOKUP($L329,'1_Metas_Resultados'!$D$4:$E$403,2,FALSE)))","v":"Sin Registrar"},{"$f":"IF(ISERROR(VLOOKUP(G329,'1_Metas_Resultados'!$D$4:$I$403,6,FALSE)),\"\",VLOOKUP(G329,'1_Metas_Resultados'!$D$4:$I$403,6,FALSE))","v":""}]
[{"$f":"IF(ISERROR(CONCATENATE($S330,\".\",VLOOKUP($G330,'1_Metas_Resultados'!$D$4:$E$403,2,FALSE))),\"Sin Registrar\",CONCATENATE($S330,\".\",VLOOKUP($G330,'1_Metas_Resultados'!$D$4:$E$403,2,FALSE)))","v":"Sin Registrar"},329," ",{"$f":"IF(ISERROR(CONCATENATE($S330,\".\",VLOOKUP($K330,'1_Metas_Resultados'!$D$4:$E$403,2,FALSE))),\"Sin Registrar\",CONCATENATE($S330,\".\",VLOOKUP($K330,'1_Metas_Resultados'!$D$4:$E$403,2,FALSE)))","v":"Sin Registrar"},{"$f":"IF(ISERROR(CONCATENATE($S330,\".\",VLOOKUP($L330,'1_Metas_Resultados'!$D$4:$E$403,2,FALSE))),\"Sin Registrar\",CONCATENATE($S330,\".\",VLOOKUP($L330,'1_Metas_Resultados'!$D$4:$E$403,2,FALSE)))","v":"Sin Registrar"},{"$f":"IF(ISERROR(VLOOKUP(G330,'1_Metas_Resultados'!$D$4:$I$403,6,FALSE)),\"\",VLOOKUP(G330,'1_Metas_Resultados'!$D$4:$I$403,6,FALSE))","v":""}]
[{"$f":"IF(ISERROR(CONCATENATE($S331,\".\",VLOOKUP($G331,'1_Metas_Resultados'!$D$4:$E$403,2,FALSE))),\"Sin Registrar\",CONCATENATE($S331,\".\",VLOOKUP($G331,'1_Metas_Resultados'!$D$4:$E$403,2,FALSE)))","v":"Sin Registrar"},330," ",{"$f":"IF(ISERROR(CONCATENATE($S331,\".\",VLOOKUP($K331,'1_Metas_Resultados'!$D$4:$E$403,2,FALSE))),\"Sin Registrar\",CONCATENATE($S331,\".\",VLOOKUP($K331,'1_Metas_Resultados'!$D$4:$E$403,2,FALSE)))","v":"Sin Registrar"},{"$f":"IF(ISERROR(CONCATENATE($S331,\".\",VLOOKUP($L331,'1_Metas_Resultados'!$D$4:$E$403,2,FALSE))),\"Sin Registrar\",CONCATENATE($S331,\".\",VLOOKUP($L331,'1_Metas_Resultados'!$D$4:$E$403,2,FALSE)))","v":"Sin Registrar"},{"$f":"IF(ISERROR(VLOOKUP(G331,'1_Metas_Resultados'!$D$4:$I$403,6,FALSE)),\"\",VLOOKUP(G331,'1_Metas_Resultados'!$D$4:$I$403,6,FALSE))","v":""}]
[{"$f":"IF(ISERROR(CONCATENATE($S332,\".\",VLOOKUP($G332,'1_Metas_Resultados'!$D$4:$E$403,2,FALSE))),\"Sin Registrar\",CONCATENATE($S332,\".\",VLOOKUP($G332,'1_Metas_Resultados'!$D$4:$E$403,2,FALSE)))","v":"Sin Registrar"},331," ",{"$f":"IF(ISERROR(CONCATENATE($S332,\".\",VLOOKUP($K332,'1_Metas_Resultados'!$D$4:$E$403,2,FALSE))),\"Sin Registrar\",CONCATENATE($S332,\".\",VLOOKUP($K332,'1_Metas_Resultados'!$D$4:$E$403,2,FALSE)))","v":"Sin Registrar"},{"$f":"IF(ISERROR(CONCATENATE($S332,\".\",VLOOKUP($L332,'1_Metas_Resultados'!$D$4:$E$403,2,FALSE))),\"Sin Registrar\",CONCATENATE($S332,\".\",VLOOKUP($L332,'1_Metas_Resultados'!$D$4:$E$403,2,FALSE)))","v":"Sin Registrar"},{"$f":"IF(ISERROR(VLOOKUP(G332,'1_Metas_Resultados'!$D$4:$I$403,6,FALSE)),\"\",VLOOKUP(G332,'1_Metas_Resultados'!$D$4:$I$403,6,FALSE))","v":""}]
[{"$f":"IF(ISERROR(CONCATENATE($S333,\".\",VLOOKUP($G333,'1_Metas_Resultados'!$D$4:$E$403,2,FALSE))),\"Sin Registrar\",CONCATENATE($S333,\".\",VLOOKUP($G333,'1_Metas_Resultados'!$D$4:$E$403,2,FALSE)))","v":"Sin Registrar"},332," ",{"$f":"IF(ISERROR(CONCATENATE($S333,\".\",VLOOKUP($K333,'1_Metas_Resultados'!$D$4:$E$403,2,FALSE))),\"Sin Registrar\",CONCATENATE($S333,\".\",VLOOKUP($K333,'1_Metas_Resultados'!$D$4:$E$403,2,FALSE)))","v":"Sin Registrar"},{"$f":"IF(ISERROR(CONCATENATE($S333,\".\",VLOOKUP($L333,'1_Metas_Resultados'!$D$4:$E$403,2,FALSE))),\"Sin Registrar\",CONCATENATE($S333,\".\",VLOOKUP($L333,'1_Metas_Resultados'!$D$4:$E$403,2,FALSE)))","v":"Sin Registrar"},{"$f":"IF(ISERROR(VLOOKUP(G333,'1_Metas_Resultados'!$D$4:$I$403,6,FALSE)),\"\",VLOOKUP(G333,'1_Metas_Resultados'!$D$4:$I$403,6,FALSE))","v":""}]
[{"$f":"IF(ISERROR(CONCATENATE($S334,\".\",VLOOKUP($G334,'1_Metas_Resultados'!$D$4:$E$403,2,FALSE))),\"Sin Registrar\",CONCATENATE($S334,\".\",VLOOKUP($G334,'1_Metas_Resultados'!$D$4:$E$403,2,FALSE)))","v":"Sin Registrar"},333," ",{"$f":"IF(ISERROR(CONCATENATE($S334,\".\",VLOOKUP($K334,'1_Metas_Resultados'!$D$4:$E$403,2,FALSE))),\"Sin Registrar\",CONCATENATE($S334,\".\",VLOOKUP($K334,'1_Metas_Resultados'!$D$4:$E$403,2,FALSE)))","v":"Sin Registrar"},{"$f":"IF(ISERROR(CONCATENATE($S334,\".\",VLOOKUP($L334,'1_Metas_Resultados'!$D$4:$E$403,2,FALSE))),\"Sin Registrar\",CONCATENATE($S334,\".\",VLOOKUP($L334,'1_Metas_Resultados'!$D$4:$E$403,2,FALSE)))","v":"Sin Registrar"},{"$f":"IF(ISERROR(VLOOKUP(G334,'1_Metas_Resultados'!$D$4:$I$403,6,FALSE)),\"\",VLOOKUP(G334,'1_Metas_Resultados'!$D$4:$I$403,6,FALSE))","v":""}]
[{"$f":"IF(ISERROR(CONCATENATE($S335,\".\",VLOOKUP($G335,'1_Metas_Resultados'!$D$4:$E$403,2,FALSE))),\"Sin Registrar\",CONCATENATE($S335,\".\",VLOOKUP($G335,'1_Metas_Resultados'!$D$4:$E$403,2,FALSE)))","v":"Sin Registrar"},334," ",{"$f":"IF(ISERROR(CONCATENATE($S335,\".\",VLOOKUP($K335,'1_Metas_Resultados'!$D$4:$E$403,2,FALSE))),\"Sin Registrar\",CONCATENATE($S335,\".\",VLOOKUP($K335,'1_Metas_Resultados'!$D$4:$E$403,2,FALSE)))","v":"Sin Registrar"},{"$f":"IF(ISERROR(CONCATENATE($S335,\".\",VLOOKUP($L335,'1_Metas_Resultados'!$D$4:$E$403,2,FALSE))),\"Sin Registrar\",CONCATENATE($S335,\".\",VLOOKUP($L335,'1_Metas_Resultados'!$D$4:$E$403,2,FALSE)))","v":"Sin Registrar"},{"$f":"IF(ISERROR(VLOOKUP(G335,'1_Metas_Resultados'!$D$4:$I$403,6,FALSE)),\"\",VLOOKUP(G335,'1_Metas_Resultados'!$D$4:$I$403,6,FALSE))","v":""}]
[{"$f":"IF(ISERROR(CONCATENATE($S336,\".\",VLOOKUP($G336,'1_Metas_Resultados'!$D$4:$E$403,2,FALSE))),\"Sin Registrar\",CONCATENATE($S336,\".\",VLOOKUP($G336,'1_Metas_Resultados'!$D$4:$E$403,2,FALSE)))","v":"Sin Registrar"},335," ",{"$f":"IF(ISERROR(CONCATENATE($S336,\".\",VLOOKUP($K336,'1_Metas_Resultados'!$D$4:$E$403,2,FALSE))),\"Sin Registrar\",CONCATENATE($S336,\".\",VLOOKUP($K336,'1_Metas_Resultados'!$D$4:$E$403,2,FALSE)))","v":"Sin Registrar"},{"$f":"IF(ISERROR(CONCATENATE($S336,\".\",VLOOKUP($L336,'1_Metas_Resultados'!$D$4:$E$403,2,FALSE))),\"Sin Registrar\",CONCATENATE($S336,\".\",VLOOKUP($L336,'1_Metas_Resultados'!$D$4:$E$403,2,FALSE)))","v":"Sin Registrar"},{"$f":"IF(ISERROR(VLOOKUP(G336,'1_Metas_Resultados'!$D$4:$I$403,6,FALSE)),\"\",VLOOKUP(G336,'1_Metas_Resultados'!$D$4:$I$403,6,FALSE))","v":""}]
[{"$f":"IF(ISERROR(CONCATENATE($S337,\".\",VLOOKUP($G337,'1_Metas_Resultados'!$D$4:$E$403,2,FALSE))),\"Sin Registrar\",CONCATENATE($S337,\".\",VLOOKUP($G337,'1_Metas_Resultados'!$D$4:$E$403,2,FALSE)))","v":"Sin Registrar"},336," ",{"$f":"IF(ISERROR(CONCATENATE($S337,\".\",VLOOKUP($K337,'1_Metas_Resultados'!$D$4:$E$403,2,FALSE))),\"Sin Registrar\",CONCATENATE($S337,\".\",VLOOKUP($K337,'1_Metas_Resultados'!$D$4:$E$403,2,FALSE)))","v":"Sin Registrar"},{"$f":"IF(ISERROR(CONCATENATE($S337,\".\",VLOOKUP($L337,'1_Metas_Resultados'!$D$4:$E$403,2,FALSE))),\"Sin Registrar\",CONCATENATE($S337,\".\",VLOOKUP($L337,'1_Metas_Resultados'!$D$4:$E$403,2,FALSE)))","v":"Sin Registrar"},{"$f":"IF(ISERROR(VLOOKUP(G337,'1_Metas_Resultados'!$D$4:$I$403,6,FALSE)),\"\",VLOOKUP(G337,'1_Metas_Resultados'!$D$4:$I$403,6,FALSE))","v":""}]
[{"$f":"IF(ISERROR(CONCATENATE($S338,\".\",VLOOKUP($G338,'1_Metas_Resultados'!$D$4:$E$403,2,FALSE))),\"Sin Registrar\",CONCATENATE($S338,\".\",VLOOKUP($G338,'1_Metas_Resultados'!$D$4:$E$403,2,FALSE)))","v":"Sin Registrar"},337," ",{"$f":"IF(ISERROR(CONCATENATE($S338,\".\",VLOOKUP($K338,'1_Metas_Resultados'!$D$4:$E$403,2,FALSE))),\"Sin Registrar\",CONCATENATE($S338,\".\",VLOOKUP($K338,'1_Metas_Resultados'!$D$4:$E$403,2,FALSE)))","v":"Sin Registrar"},{"$f":"IF(ISERROR(CONCATENATE($S338,\".\",VLOOKUP($L338,'1_Metas_Resultados'!$D$4:$E$403,2,FALSE))),\"Sin Registrar\",CONCATENATE($S338,\".\",VLOOKUP($L338,'1_Metas_Resultados'!$D$4:$E$403,2,FALSE)))","v":"Sin Registrar"},{"$f":"IF(ISERROR(VLOOKUP(G338,'1_Metas_Resultados'!$D$4:$I$403,6,FALSE)),\"\",VLOOKUP(G338,'1_Metas_Resultados'!$D$4:$I$403,6,FALSE))","v":""}]
[{"$f":"IF(ISERROR(CONCATENATE($S339,\".\",VLOOKUP($G339,'1_Metas_Resultados'!$D$4:$E$403,2,FALSE))),\"Sin Registrar\",CONCATENATE($S339,\".\",VLOOKUP($G339,'1_Metas_Resultados'!$D$4:$E$403,2,FALSE)))","v":"Sin Registrar"},338," ",{"$f":"IF(ISERROR(CONCATENATE($S339,\".\",VLOOKUP($K339,'1_Metas_Resultados'!$D$4:$E$403,2,FALSE))),\"Sin Registrar\",CONCATENATE($S339,\".\",VLOOKUP($K339,'1_Metas_Resultados'!$D$4:$E$403,2,FALSE)))","v":"Sin Registrar"},{"$f":"IF(ISERROR(CONCATENATE($S339,\".\",VLOOKUP($L339,'1_Metas_Resultados'!$D$4:$E$403,2,FALSE))),\"Sin Registrar\",CONCATENATE($S339,\".\",VLOOKUP($L339,'1_Metas_Resultados'!$D$4:$E$403,2,FALSE)))","v":"Sin Registrar"},{"$f":"IF(ISERROR(VLOOKUP(G339,'1_Metas_Resultados'!$D$4:$I$403,6,FALSE)),\"\",VLOOKUP(G339,'1_Metas_Resultados'!$D$4:$I$403,6,FALSE))","v":""}]
[{"$f":"IF(ISERROR(CONCATENATE($S340,\".\",VLOOKUP($G340,'1_Metas_Resultados'!$D$4:$E$403,2,FALSE))),\"Sin Registrar\",CONCATENATE($S340,\".\",VLOOKUP($G340,'1_Metas_Resultados'!$D$4:$E$403,2,FALSE)))","v":"Sin Registrar"},339," ",{"$f":"IF(ISERROR(CONCATENATE($S340,\".\",VLOOKUP($K340,'1_Metas_Resultados'!$D$4:$E$403,2,FALSE))),\"Sin Registrar\",CONCATENATE($S340,\".\",VLOOKUP($K340,'1_Metas_Resultados'!$D$4:$E$403,2,FALSE)))","v":"Sin Registrar"},{"$f":"IF(ISERROR(CONCATENATE($S340,\".\",VLOOKUP($L340,'1_Metas_Resultados'!$D$4:$E$403,2,FALSE))),\"Sin Registrar\",CONCATENATE($S340,\".\",VLOOKUP($L340,'1_Metas_Resultados'!$D$4:$E$403,2,FALSE)))","v":"Sin Registrar"},{"$f":"IF(ISERROR(VLOOKUP(G340,'1_Metas_Resultados'!$D$4:$I$403,6,FALSE)),\"\",VLOOKUP(G340,'1_Metas_Resultados'!$D$4:$I$403,6,FALSE))","v":""}]
[{"$f":"IF(ISERROR(CONCATENATE($S341,\".\",VLOOKUP($G341,'1_Metas_Resultados'!$D$4:$E$403,2,FALSE))),\"Sin Registrar\",CONCATENATE($S341,\".\",VLOOKUP($G341,'1_Metas_Resultados'!$D$4:$E$403,2,FALSE)))","v":"Sin Registrar"},340," ",{"$f":"IF(ISERROR(CONCATENATE($S341,\".\",VLOOKUP($K341,'1_Metas_Resultados'!$D$4:$E$403,2,FALSE))),\"Sin Registrar\",CONCATENATE($S341,\".\",VLOOKUP($K341,'1_Metas_Resultados'!$D$4:$E$403,2,FALSE)))","v":"Sin Registrar"},{"$f":"IF(ISERROR(CONCATENATE($S341,\".\",VLOOKUP($L341,'1_Metas_Resultados'!$D$4:$E$403,2,FALSE))),\"Sin Registrar\",CONCATENATE($S341,\".\",VLOOKUP($L341,'1_Metas_Resultados'!$D$4:$E$403,2,FALSE)))","v":"Sin Registrar"},{"$f":"IF(ISERROR(VLOOKUP(G341,'1_Metas_Resultados'!$D$4:$I$403,6,FALSE)),\"\",VLOOKUP(G341,'1_Metas_Resultados'!$D$4:$I$403,6,FALSE))","v":""}]
[{"$f":"IF(ISERROR(CONCATENATE($S342,\".\",VLOOKUP($G342,'1_Metas_Resultados'!$D$4:$E$403,2,FALSE))),\"Sin Registrar\",CONCATENATE($S342,\".\",VLOOKUP($G342,'1_Metas_Resultados'!$D$4:$E$403,2,FALSE)))","v":"Sin Registrar"},341," ",{"$f":"IF(ISERROR(CONCATENATE($S342,\".\",VLOOKUP($K342,'1_Metas_Resultados'!$D$4:$E$403,2,FALSE))),\"Sin Registrar\",CONCATENATE($S342,\".\",VLOOKUP($K342,'1_Metas_Resultados'!$D$4:$E$403,2,FALSE)))","v":"Sin Registrar"},{"$f":"IF(ISERROR(CONCATENATE($S342,\".\",VLOOKUP($L342,'1_Metas_Resultados'!$D$4:$E$403,2,FALSE))),\"Sin Registrar\",CONCATENATE($S342,\".\",VLOOKUP($L342,'1_Metas_Resultados'!$D$4:$E$403,2,FALSE)))","v":"Sin Registrar"},{"$f":"IF(ISERROR(VLOOKUP(G342,'1_Metas_Resultados'!$D$4:$I$403,6,FALSE)),\"\",VLOOKUP(G342,'1_Metas_Resultados'!$D$4:$I$403,6,FALSE))","v":""}]
[{"$f":"IF(ISERROR(CONCATENATE($S343,\".\",VLOOKUP($G343,'1_Metas_Resultados'!$D$4:$E$403,2,FALSE))),\"Sin Registrar\",CONCATENATE($S343,\".\",VLOOKUP($G343,'1_Metas_Resultados'!$D$4:$E$403,2,FALSE)))","v":"Sin Registrar"},342," ",{"$f":"IF(ISERROR(CONCATENATE($S343,\".\",VLOOKUP($K343,'1_Metas_Resultados'!$D$4:$E$403,2,FALSE))),\"Sin Registrar\",CONCATENATE($S343,\".\",VLOOKUP($K343,'1_Metas_Resultados'!$D$4:$E$403,2,FALSE)))","v":"Sin Registrar"},{"$f":"IF(ISERROR(CONCATENATE($S343,\".\",VLOOKUP($L343,'1_Metas_Resultados'!$D$4:$E$403,2,FALSE))),\"Sin Registrar\",CONCATENATE($S343,\".\",VLOOKUP($L343,'1_Metas_Resultados'!$D$4:$E$403,2,FALSE)))","v":"Sin Registrar"},{"$f":"IF(ISERROR(VLOOKUP(G343,'1_Metas_Resultados'!$D$4:$I$403,6,FALSE)),\"\",VLOOKUP(G343,'1_Metas_Resultados'!$D$4:$I$403,6,FALSE))","v":""}]
[{"$f":"IF(ISERROR(CONCATENATE($S344,\".\",VLOOKUP($G344,'1_Metas_Resultados'!$D$4:$E$403,2,FALSE))),\"Sin Registrar\",CONCATENATE($S344,\".\",VLOOKUP($G344,'1_Metas_Resultados'!$D$4:$E$403,2,FALSE)))","v":"Sin Registrar"},343," ",{"$f":"IF(ISERROR(CONCATENATE($S344,\".\",VLOOKUP($K344,'1_Metas_Resultados'!$D$4:$E$403,2,FALSE))),\"Sin Registrar\",CONCATENATE($S344,\".\",VLOOKUP($K344,'1_Metas_Resultados'!$D$4:$E$403,2,FALSE)))","v":"Sin Registrar"},{"$f":"IF(ISERROR(CONCATENATE($S344,\".\",VLOOKUP($L344,'1_Metas_Resultados'!$D$4:$E$403,2,FALSE))),\"Sin Registrar\",CONCATENATE($S344,\".\",VLOOKUP($L344,'1_Metas_Resultados'!$D$4:$E$403,2,FALSE)))","v":"Sin Registrar"},{"$f":"IF(ISERROR(VLOOKUP(G344,'1_Metas_Resultados'!$D$4:$I$403,6,FALSE)),\"\",VLOOKUP(G344,'1_Metas_Resultados'!$D$4:$I$403,6,FALSE))","v":""}]
[{"$f":"IF(ISERROR(CONCATENATE($S345,\".\",VLOOKUP($G345,'1_Metas_Resultados'!$D$4:$E$403,2,FALSE))),\"Sin Registrar\",CONCATENATE($S345,\".\",VLOOKUP($G345,'1_Metas_Resultados'!$D$4:$E$403,2,FALSE)))","v":"Sin Registrar"},344," ",{"$f":"IF(ISERROR(CONCATENATE($S345,\".\",VLOOKUP($K345,'1_Metas_Resultados'!$D$4:$E$403,2,FALSE))),\"Sin Registrar\",CONCATENATE($S345,\".\",VLOOKUP($K345,'1_Metas_Resultados'!$D$4:$E$403,2,FALSE)))","v":"Sin Registrar"},{"$f":"IF(ISERROR(CONCATENATE($S345,\".\",VLOOKUP($L345,'1_Metas_Resultados'!$D$4:$E$403,2,FALSE))),\"Sin Registrar\",CONCATENATE($S345,\".\",VLOOKUP($L345,'1_Metas_Resultados'!$D$4:$E$403,2,FALSE)))","v":"Sin Registrar"},{"$f":"IF(ISERROR(VLOOKUP(G345,'1_Metas_Resultados'!$D$4:$I$403,6,FALSE)),\"\",VLOOKUP(G345,'1_Metas_Resultados'!$D$4:$I$403,6,FALSE))","v":""}]
[{"$f":"IF(ISERROR(CONCATENATE($S346,\".\",VLOOKUP($G346,'1_Metas_Resultados'!$D$4:$E$403,2,FALSE))),\"Sin Registrar\",CONCATENATE($S346,\".\",VLOOKUP($G346,'1_Metas_Resultados'!$D$4:$E$403,2,FALSE)))","v":"Sin Registrar"},345," ",{"$f":"IF(ISERROR(CONCATENATE($S346,\".\",VLOOKUP($K346,'1_Metas_Resultados'!$D$4:$E$403,2,FALSE))),\"Sin Registrar\",CONCATENATE($S346,\".\",VLOOKUP($K346,'1_Metas_Resultados'!$D$4:$E$403,2,FALSE)))","v":"Sin Registrar"},{"$f":"IF(ISERROR(CONCATENATE($S346,\".\",VLOOKUP($L346,'1_Metas_Resultados'!$D$4:$E$403,2,FALSE))),\"Sin Registrar\",CONCATENATE($S346,\".\",VLOOKUP($L346,'1_Metas_Resultados'!$D$4:$E$403,2,FALSE)))","v":"Sin Registrar"},{"$f":"IF(ISERROR(VLOOKUP(G346,'1_Metas_Resultados'!$D$4:$I$403,6,FALSE)),\"\",VLOOKUP(G346,'1_Metas_Resultados'!$D$4:$I$403,6,FALSE))","v":""}]
[{"$f":"IF(ISERROR(CONCATENATE($S347,\".\",VLOOKUP($G347,'1_Metas_Resultados'!$D$4:$E$403,2,FALSE))),\"Sin Registrar\",CONCATENATE($S347,\".\",VLOOKUP($G347,'1_Metas_Resultados'!$D$4:$E$403,2,FALSE)))","v":"Sin Registrar"},346," ",{"$f":"IF(ISERROR(CONCATENATE($S347,\".\",VLOOKUP($K347,'1_Metas_Resultados'!$D$4:$E$403,2,FALSE))),\"Sin Registrar\",CONCATENATE($S347,\".\",VLOOKUP($K347,'1_Metas_Resultados'!$D$4:$E$403,2,FALSE)))","v":"Sin Registrar"},{"$f":"IF(ISERROR(CONCATENATE($S347,\".\",VLOOKUP($L347,'1_Metas_Resultados'!$D$4:$E$403,2,FALSE))),\"Sin Registrar\",CONCATENATE($S347,\".\",VLOOKUP($L347,'1_Metas_Resultados'!$D$4:$E$403,2,FALSE)))","v":"Sin Registrar"},{"$f":"IF(ISERROR(VLOOKUP(G347,'1_Metas_Resultados'!$D$4:$I$403,6,FALSE)),\"\",VLOOKUP(G347,'1_Metas_Resultados'!$D$4:$I$403,6,FALSE))","v":""}]
[{"$f":"IF(ISERROR(CONCATENATE($S348,\".\",VLOOKUP($G348,'1_Metas_Resultados'!$D$4:$E$403,2,FALSE))),\"Sin Registrar\",CONCATENATE($S348,\".\",VLOOKUP($G348,'1_Metas_Resultados'!$D$4:$E$403,2,FALSE)))","v":"Sin Registrar"},347," ",{"$f":"IF(ISERROR(CONCATENATE($S348,\".\",VLOOKUP($K348,'1_Metas_Resultados'!$D$4:$E$403,2,FALSE))),\"Sin Registrar\",CONCATENATE($S348,\".\",VLOOKUP($K348,'1_Metas_Resultados'!$D$4:$E$403,2,FALSE)))","v":"Sin Registrar"},{"$f":"IF(ISERROR(CONCATENATE($S348,\".\",VLOOKUP($L348,'1_Metas_Resultados'!$D$4:$E$403,2,FALSE))),\"Sin Registrar\",CONCATENATE($S348,\".\",VLOOKUP($L348,'1_Metas_Resultados'!$D$4:$E$403,2,FALSE)))","v":"Sin Registrar"},{"$f":"IF(ISERROR(VLOOKUP(G348,'1_Metas_Resultados'!$D$4:$I$403,6,FALSE)),\"\",VLOOKUP(G348,'1_Metas_Resultados'!$D$4:$I$403,6,FALSE))","v":""}]
[{"$f":"IF(ISERROR(CONCATENATE($S349,\".\",VLOOKUP($G349,'1_Metas_Resultados'!$D$4:$E$403,2,FALSE))),\"Sin Registrar\",CONCATENATE($S349,\".\",VLOOKUP($G349,'1_Metas_Resultados'!$D$4:$E$403,2,FALSE)))","v":"Sin Registrar"},348," ",{"$f":"IF(ISERROR(CONCATENATE($S349,\".\",VLOOKUP($K349,'1_Metas_Resultados'!$D$4:$E$403,2,FALSE))),\"Sin Registrar\",CONCATENATE($S349,\".\",VLOOKUP($K349,'1_Metas_Resultados'!$D$4:$E$403,2,FALSE)))","v":"Sin Registrar"},{"$f":"IF(ISERROR(CONCATENATE($S349,\".\",VLOOKUP($L349,'1_Metas_Resultados'!$D$4:$E$403,2,FALSE))),\"Sin Registrar\",CONCATENATE($S349,\".\",VLOOKUP($L349,'1_Metas_Resultados'!$D$4:$E$403,2,FALSE)))","v":"Sin Registrar"},{"$f":"IF(ISERROR(VLOOKUP(G349,'1_Metas_Resultados'!$D$4:$I$403,6,FALSE)),\"\",VLOOKUP(G349,'1_Metas_Resultados'!$D$4:$I$403,6,FALSE))","v":""}]
[{"$f":"IF(ISERROR(CONCATENATE($S350,\".\",VLOOKUP($G350,'1_Metas_Resultados'!$D$4:$E$403,2,FALSE))),\"Sin Registrar\",CONCATENATE($S350,\".\",VLOOKUP($G350,'1_Metas_Resultados'!$D$4:$E$403,2,FALSE)))","v":"Sin Registrar"},349," ",{"$f":"IF(ISERROR(CONCATENATE($S350,\".\",VLOOKUP($K350,'1_Metas_Resultados'!$D$4:$E$403,2,FALSE))),\"Sin Registrar\",CONCATENATE($S350,\".\",VLOOKUP($K350,'1_Metas_Resultados'!$D$4:$E$403,2,FALSE)))","v":"Sin Registrar"},{"$f":"IF(ISERROR(CONCATENATE($S350,\".\",VLOOKUP($L350,'1_Metas_Resultados'!$D$4:$E$403,2,FALSE))),\"Sin Registrar\",CONCATENATE($S350,\".\",VLOOKUP($L350,'1_Metas_Resultados'!$D$4:$E$403,2,FALSE)))","v":"Sin Registrar"},{"$f":"IF(ISERROR(VLOOKUP(G350,'1_Metas_Resultados'!$D$4:$I$403,6,FALSE)),\"\",VLOOKUP(G350,'1_Metas_Resultados'!$D$4:$I$403,6,FALSE))","v":""}]
[{"$f":"IF(ISERROR(CONCATENATE($S351,\".\",VLOOKUP($G351,'1_Metas_Resultados'!$D$4:$E$403,2,FALSE))),\"Sin Registrar\",CONCATENATE($S351,\".\",VLOOKUP($G351,'1_Metas_Resultados'!$D$4:$E$403,2,FALSE)))","v":"Sin Registrar"},350," ",{"$f":"IF(ISERROR(CONCATENATE($S351,\".\",VLOOKUP($K351,'1_Metas_Resultados'!$D$4:$E$403,2,FALSE))),\"Sin Registrar\",CONCATENATE($S351,\".\",VLOOKUP($K351,'1_Metas_Resultados'!$D$4:$E$403,2,FALSE)))","v":"Sin Registrar"},{"$f":"IF(ISERROR(CONCATENATE($S351,\".\",VLOOKUP($L351,'1_Metas_Resultados'!$D$4:$E$403,2,FALSE))),\"Sin Registrar\",CONCATENATE($S351,\".\",VLOOKUP($L351,'1_Metas_Resultados'!$D$4:$E$403,2,FALSE)))","v":"Sin Registrar"},{"$f":"IF(ISERROR(VLOOKUP(G351,'1_Metas_Resultados'!$D$4:$I$403,6,FALSE)),\"\",VLOOKUP(G351,'1_Metas_Resultados'!$D$4:$I$403,6,FALSE))","v":""}]
[{"$f":"IF(ISERROR(CONCATENATE($S352,\".\",VLOOKUP($G352,'1_Metas_Resultados'!$D$4:$E$403,2,FALSE))),\"Sin Registrar\",CONCATENATE($S352,\".\",VLOOKUP($G352,'1_Metas_Resultados'!$D$4:$E$403,2,FALSE)))","v":"Sin Registrar"},351," ",{"$f":"IF(ISERROR(CONCATENATE($S352,\".\",VLOOKUP($K352,'1_Metas_Resultados'!$D$4:$E$403,2,FALSE))),\"Sin Registrar\",CONCATENATE($S352,\".\",VLOOKUP($K352,'1_Metas_Resultados'!$D$4:$E$403,2,FALSE)))","v":"Sin Registrar"},{"$f":"IF(ISERROR(CONCATENATE($S352,\".\",VLOOKUP($L352,'1_Metas_Resultados'!$D$4:$E$403,2,FALSE))),\"Sin Registrar\",CONCATENATE($S352,\".\",VLOOKUP($L352,'1_Metas_Resultados'!$D$4:$E$403,2,FALSE)))","v":"Sin Registrar"},{"$f":"IF(ISERROR(VLOOKUP(G352,'1_Metas_Resultados'!$D$4:$I$403,6,FALSE)),\"\",VLOOKUP(G352,'1_Metas_Resultados'!$D$4:$I$403,6,FALSE))","v":""}]
[{"$f":"IF(ISERROR(CONCATENATE($S353,\".\",VLOOKUP($G353,'1_Metas_Resultados'!$D$4:$E$403,2,FALSE))),\"Sin Registrar\",CONCATENATE($S353,\".\",VLOOKUP($G353,'1_Metas_Resultados'!$D$4:$E$403,2,FALSE)))","v":"Sin Registrar"},352," ",{"$f":"IF(ISERROR(CONCATENATE($S353,\".\",VLOOKUP($K353,'1_Metas_Resultados'!$D$4:$E$403,2,FALSE))),\"Sin Registrar\",CONCATENATE($S353,\".\",VLOOKUP($K353,'1_Metas_Resultados'!$D$4:$E$403,2,FALSE)))","v":"Sin Registrar"},{"$f":"IF(ISERROR(CONCATENATE($S353,\".\",VLOOKUP($L353,'1_Metas_Resultados'!$D$4:$E$403,2,FALSE))),\"Sin Registrar\",CONCATENATE($S353,\".\",VLOOKUP($L353,'1_Metas_Resultados'!$D$4:$E$403,2,FALSE)))","v":"Sin Registrar"},{"$f":"IF(ISERROR(VLOOKUP(G353,'1_Metas_Resultados'!$D$4:$I$403,6,FALSE)),\"\",VLOOKUP(G353,'1_Metas_Resultados'!$D$4:$I$403,6,FALSE))","v":""}]
[{"$f":"IF(ISERROR(CONCATENATE($S354,\".\",VLOOKUP($G354,'1_Metas_Resultados'!$D$4:$E$403,2,FALSE))),\"Sin Registrar\",CONCATENATE($S354,\".\",VLOOKUP($G354,'1_Metas_Resultados'!$D$4:$E$403,2,FALSE)))","v":"Sin Registrar"},353," ",{"$f":"IF(ISERROR(CONCATENATE($S354,\".\",VLOOKUP($K354,'1_Metas_Resultados'!$D$4:$E$403,2,FALSE))),\"Sin Registrar\",CONCATENATE($S354,\".\",VLOOKUP($K354,'1_Metas_Resultados'!$D$4:$E$403,2,FALSE)))","v":"Sin Registrar"},{"$f":"IF(ISERROR(CONCATENATE($S354,\".\",VLOOKUP($L354,'1_Metas_Resultados'!$D$4:$E$403,2,FALSE))),\"Sin Registrar\",CONCATENATE($S354,\".\",VLOOKUP($L354,'1_Metas_Resultados'!$D$4:$E$403,2,FALSE)))","v":"Sin Registrar"},{"$f":"IF(ISERROR(VLOOKUP(G354,'1_Metas_Resultados'!$D$4:$I$403,6,FALSE)),\"\",VLOOKUP(G354,'1_Metas_Resultados'!$D$4:$I$403,6,FALSE))","v":""}]
[{"$f":"IF(ISERROR(CONCATENATE($S355,\".\",VLOOKUP($G355,'1_Metas_Resultados'!$D$4:$E$403,2,FALSE))),\"Sin Registrar\",CONCATENATE($S355,\".\",VLOOKUP($G355,'1_Metas_Resultados'!$D$4:$E$403,2,FALSE)))","v":"Sin Registrar"},354," ",{"$f":"IF(ISERROR(CONCATENATE($S355,\".\",VLOOKUP($K355,'1_Metas_Resultados'!$D$4:$E$403,2,FALSE))),\"Sin Registrar\",CONCATENATE($S355,\".\",VLOOKUP($K355,'1_Metas_Resultados'!$D$4:$E$403,2,FALSE)))","v":"Sin Registrar"},{"$f":"IF(ISERROR(CONCATENATE($S355,\".\",VLOOKUP($L355,'1_Metas_Resultados'!$D$4:$E$403,2,FALSE))),\"Sin Registrar\",CONCATENATE($S355,\".\",VLOOKUP($L355,'1_Metas_Resultados'!$D$4:$E$403,2,FALSE)))","v":"Sin Registrar"},{"$f":"IF(ISERROR(VLOOKUP(G355,'1_Metas_Resultados'!$D$4:$I$403,6,FALSE)),\"\",VLOOKUP(G355,'1_Metas_Resultados'!$D$4:$I$403,6,FALSE))","v":""}]
[{"$f":"IF(ISERROR(CONCATENATE($S356,\".\",VLOOKUP($G356,'1_Metas_Resultados'!$D$4:$E$403,2,FALSE))),\"Sin Registrar\",CONCATENATE($S356,\".\",VLOOKUP($G356,'1_Metas_Resultados'!$D$4:$E$403,2,FALSE)))","v":"Sin Registrar"},355," ",{"$f":"IF(ISERROR(CONCATENATE($S356,\".\",VLOOKUP($K356,'1_Metas_Resultados'!$D$4:$E$403,2,FALSE))),\"Sin Registrar\",CONCATENATE($S356,\".\",VLOOKUP($K356,'1_Metas_Resultados'!$D$4:$E$403,2,FALSE)))","v":"Sin Registrar"},{"$f":"IF(ISERROR(CONCATENATE($S356,\".\",VLOOKUP($L356,'1_Metas_Resultados'!$D$4:$E$403,2,FALSE))),\"Sin Registrar\",CONCATENATE($S356,\".\",VLOOKUP($L356,'1_Metas_Resultados'!$D$4:$E$403,2,FALSE)))","v":"Sin Registrar"},{"$f":"IF(ISERROR(VLOOKUP(G356,'1_Metas_Resultados'!$D$4:$I$403,6,FALSE)),\"\",VLOOKUP(G356,'1_Metas_Resultados'!$D$4:$I$403,6,FALSE))","v":""}]
[{"$f":"IF(ISERROR(CONCATENATE($S357,\".\",VLOOKUP($G357,'1_Metas_Resultados'!$D$4:$E$403,2,FALSE))),\"Sin Registrar\",CONCATENATE($S357,\".\",VLOOKUP($G357,'1_Metas_Resultados'!$D$4:$E$403,2,FALSE)))","v":"Sin Registrar"},356," ",{"$f":"IF(ISERROR(CONCATENATE($S357,\".\",VLOOKUP($K357,'1_Metas_Resultados'!$D$4:$E$403,2,FALSE))),\"Sin Registrar\",CONCATENATE($S357,\".\",VLOOKUP($K357,'1_Metas_Resultados'!$D$4:$E$403,2,FALSE)))","v":"Sin Registrar"},{"$f":"IF(ISERROR(CONCATENATE($S357,\".\",VLOOKUP($L357,'1_Metas_Resultados'!$D$4:$E$403,2,FALSE))),\"Sin Registrar\",CONCATENATE($S357,\".\",VLOOKUP($L357,'1_Metas_Resultados'!$D$4:$E$403,2,FALSE)))","v":"Sin Registrar"},{"$f":"IF(ISERROR(VLOOKUP(G357,'1_Metas_Resultados'!$D$4:$I$403,6,FALSE)),\"\",VLOOKUP(G357,'1_Metas_Resultados'!$D$4:$I$403,6,FALSE))","v":""}]
[{"$f":"IF(ISERROR(CONCATENATE($S358,\".\",VLOOKUP($G358,'1_Metas_Resultados'!$D$4:$E$403,2,FALSE))),\"Sin Registrar\",CONCATENATE($S358,\".\",VLOOKUP($G358,'1_Metas_Resultados'!$D$4:$E$403,2,FALSE)))","v":"Sin Registrar"},357," ",{"$f":"IF(ISERROR(CONCATENATE($S358,\".\",VLOOKUP($K358,'1_Metas_Resultados'!$D$4:$E$403,2,FALSE))),\"Sin Registrar\",CONCATENATE($S358,\".\",VLOOKUP($K358,'1_Metas_Resultados'!$D$4:$E$403,2,FALSE)))","v":"Sin Registrar"},{"$f":"IF(ISERROR(CONCATENATE($S358,\".\",VLOOKUP($L358,'1_Metas_Resultados'!$D$4:$E$403,2,FALSE))),\"Sin Registrar\",CONCATENATE($S358,\".\",VLOOKUP($L358,'1_Metas_Resultados'!$D$4:$E$403,2,FALSE)))","v":"Sin Registrar"},{"$f":"IF(ISERROR(VLOOKUP(G358,'1_Metas_Resultados'!$D$4:$I$403,6,FALSE)),\"\",VLOOKUP(G358,'1_Metas_Resultados'!$D$4:$I$403,6,FALSE))","v":""}]
[{"$f":"IF(ISERROR(CONCATENATE($S359,\".\",VLOOKUP($G359,'1_Metas_Resultados'!$D$4:$E$403,2,FALSE))),\"Sin Registrar\",CONCATENATE($S359,\".\",VLOOKUP($G359,'1_Metas_Resultados'!$D$4:$E$403,2,FALSE)))","v":"Sin Registrar"},358," ",{"$f":"IF(ISERROR(CONCATENATE($S359,\".\",VLOOKUP($K359,'1_Metas_Resultados'!$D$4:$E$403,2,FALSE))),\"Sin Registrar\",CONCATENATE($S359,\".\",VLOOKUP($K359,'1_Metas_Resultados'!$D$4:$E$403,2,FALSE)))","v":"Sin Registrar"},{"$f":"IF(ISERROR(CONCATENATE($S359,\".\",VLOOKUP($L359,'1_Metas_Resultados'!$D$4:$E$403,2,FALSE))),\"Sin Registrar\",CONCATENATE($S359,\".\",VLOOKUP($L359,'1_Metas_Resultados'!$D$4:$E$403,2,FALSE)))","v":"Sin Registrar"},{"$f":"IF(ISERROR(VLOOKUP(G359,'1_Metas_Resultados'!$D$4:$I$403,6,FALSE)),\"\",VLOOKUP(G359,'1_Metas_Resultados'!$D$4:$I$403,6,FALSE))","v":""}]
[{"$f":"IF(ISERROR(CONCATENATE($S360,\".\",VLOOKUP($G360,'1_Metas_Resultados'!$D$4:$E$403,2,FALSE))),\"Sin Registrar\",CONCATENATE($S360,\".\",VLOOKUP($G360,'1_Metas_Resultados'!$D$4:$E$403,2,FALSE)))","v":"Sin Registrar"},359," ",{"$f":"IF(ISERROR(CONCATENATE($S360,\".\",VLOOKUP($K360,'1_Metas_Resultados'!$D$4:$E$403,2,FALSE))),\"Sin Registrar\",CONCATENATE($S360,\".\",VLOOKUP($K360,'1_Metas_Resultados'!$D$4:$E$403,2,FALSE)))","v":"Sin Registrar"},{"$f":"IF(ISERROR(CONCATENATE($S360,\".\",VLOOKUP($L360,'1_Metas_Resultados'!$D$4:$E$403,2,FALSE))),\"Sin Registrar\",CONCATENATE($S360,\".\",VLOOKUP($L360,'1_Metas_Resultados'!$D$4:$E$403,2,FALSE)))","v":"Sin Registrar"},{"$f":"IF(ISERROR(VLOOKUP(G360,'1_Metas_Resultados'!$D$4:$I$403,6,FALSE)),\"\",VLOOKUP(G360,'1_Metas_Resultados'!$D$4:$I$403,6,FALSE))","v":""}]
[{"$f":"IF(ISERROR(CONCATENATE($S361,\".\",VLOOKUP($G361,'1_Metas_Resultados'!$D$4:$E$403,2,FALSE))),\"Sin Registrar\",CONCATENATE($S361,\".\",VLOOKUP($G361,'1_Metas_Resultados'!$D$4:$E$403,2,FALSE)))","v":"Sin Registrar"},360," ",{"$f":"IF(ISERROR(CONCATENATE($S361,\".\",VLOOKUP($K361,'1_Metas_Resultados'!$D$4:$E$403,2,FALSE))),\"Sin Registrar\",CONCATENATE($S361,\".\",VLOOKUP($K361,'1_Metas_Resultados'!$D$4:$E$403,2,FALSE)))","v":"Sin Registrar"},{"$f":"IF(ISERROR(CONCATENATE($S361,\".\",VLOOKUP($L361,'1_Metas_Resultados'!$D$4:$E$403,2,FALSE))),\"Sin Registrar\",CONCATENATE($S361,\".\",VLOOKUP($L361,'1_Metas_Resultados'!$D$4:$E$403,2,FALSE)))","v":"Sin Registrar"},{"$f":"IF(ISERROR(VLOOKUP(G361,'1_Metas_Resultados'!$D$4:$I$403,6,FALSE)),\"\",VLOOKUP(G361,'1_Metas_Resultados'!$D$4:$I$403,6,FALSE))","v":""}]
[{"$f":"IF(ISERROR(CONCATENATE($S362,\".\",VLOOKUP($G362,'1_Metas_Resultados'!$D$4:$E$403,2,FALSE))),\"Sin Registrar\",CONCATENATE($S362,\".\",VLOOKUP($G362,'1_Metas_Resultados'!$D$4:$E$403,2,FALSE)))","v":"Sin Registrar"},361," ",{"$f":"IF(ISERROR(CONCATENATE($S362,\".\",VLOOKUP($K362,'1_Metas_Resultados'!$D$4:$E$403,2,FALSE))),\"Sin Registrar\",CONCATENATE($S362,\".\",VLOOKUP($K362,'1_Metas_Resultados'!$D$4:$E$403,2,FALSE)))","v":"Sin Registrar"},{"$f":"IF(ISERROR(CONCATENATE($S362,\".\",VLOOKUP($L362,'1_Metas_Resultados'!$D$4:$E$403,2,FALSE))),\"Sin Registrar\",CONCATENATE($S362,\".\",VLOOKUP($L362,'1_Metas_Resultados'!$D$4:$E$403,2,FALSE)))","v":"Sin Registrar"},{"$f":"IF(ISERROR(VLOOKUP(G362,'1_Metas_Resultados'!$D$4:$I$403,6,FALSE)),\"\",VLOOKUP(G362,'1_Metas_Resultados'!$D$4:$I$403,6,FALSE))","v":""}]
[{"$f":"IF(ISERROR(CONCATENATE($S363,\".\",VLOOKUP($G363,'1_Metas_Resultados'!$D$4:$E$403,2,FALSE))),\"Sin Registrar\",CONCATENATE($S363,\".\",VLOOKUP($G363,'1_Metas_Resultados'!$D$4:$E$403,2,FALSE)))","v":"Sin Registrar"},362," ",{"$f":"IF(ISERROR(CONCATENATE($S363,\".\",VLOOKUP($K363,'1_Metas_Resultados'!$D$4:$E$403,2,FALSE))),\"Sin Registrar\",CONCATENATE($S363,\".\",VLOOKUP($K363,'1_Metas_Resultados'!$D$4:$E$403,2,FALSE)))","v":"Sin Registrar"},{"$f":"IF(ISERROR(CONCATENATE($S363,\".\",VLOOKUP($L363,'1_Metas_Resultados'!$D$4:$E$403,2,FALSE))),\"Sin Registrar\",CONCATENATE($S363,\".\",VLOOKUP($L363,'1_Metas_Resultados'!$D$4:$E$403,2,FALSE)))","v":"Sin Registrar"},{"$f":"IF(ISERROR(VLOOKUP(G363,'1_Metas_Resultados'!$D$4:$I$403,6,FALSE)),\"\",VLOOKUP(G363,'1_Metas_Resultados'!$D$4:$I$403,6,FALSE))","v":""}]
[{"$f":"IF(ISERROR(CONCATENATE($S364,\".\",VLOOKUP($G364,'1_Metas_Resultados'!$D$4:$E$403,2,FALSE))),\"Sin Registrar\",CONCATENATE($S364,\".\",VLOOKUP($G364,'1_Metas_Resultados'!$D$4:$E$403,2,FALSE)))","v":"Sin Registrar"},363," ",{"$f":"IF(ISERROR(CONCATENATE($S364,\".\",VLOOKUP($K364,'1_Metas_Resultados'!$D$4:$E$403,2,FALSE))),\"Sin Registrar\",CONCATENATE($S364,\".\",VLOOKUP($K364,'1_Metas_Resultados'!$D$4:$E$403,2,FALSE)))","v":"Sin Registrar"},{"$f":"IF(ISERROR(CONCATENATE($S364,\".\",VLOOKUP($L364,'1_Metas_Resultados'!$D$4:$E$403,2,FALSE))),\"Sin Registrar\",CONCATENATE($S364,\".\",VLOOKUP($L364,'1_Metas_Resultados'!$D$4:$E$403,2,FALSE)))","v":"Sin Registrar"},{"$f":"IF(ISERROR(VLOOKUP(G364,'1_Metas_Resultados'!$D$4:$I$403,6,FALSE)),\"\",VLOOKUP(G364,'1_Metas_Resultados'!$D$4:$I$403,6,FALSE))","v":""}]
[{"$f":"IF(ISERROR(CONCATENATE($S365,\".\",VLOOKUP($G365,'1_Metas_Resultados'!$D$4:$E$403,2,FALSE))),\"Sin Registrar\",CONCATENATE($S365,\".\",VLOOKUP($G365,'1_Metas_Resultados'!$D$4:$E$403,2,FALSE)))","v":"Sin Registrar"},364," ",{"$f":"IF(ISERROR(CONCATENATE($S365,\".\",VLOOKUP($K365,'1_Metas_Resultados'!$D$4:$E$403,2,FALSE))),\"Sin Registrar\",CONCATENATE($S365,\".\",VLOOKUP($K365,'1_Metas_Resultados'!$D$4:$E$403,2,FALSE)))","v":"Sin Registrar"},{"$f":"IF(ISERROR(CONCATENATE($S365,\".\",VLOOKUP($L365,'1_Metas_Resultados'!$D$4:$E$403,2,FALSE))),\"Sin Registrar\",CONCATENATE($S365,\".\",VLOOKUP($L365,'1_Metas_Resultados'!$D$4:$E$403,2,FALSE)))","v":"Sin Registrar"},{"$f":"IF(ISERROR(VLOOKUP(G365,'1_Metas_Resultados'!$D$4:$I$403,6,FALSE)),\"\",VLOOKUP(G365,'1_Metas_Resultados'!$D$4:$I$403,6,FALSE))","v":""}]
[{"$f":"IF(ISERROR(CONCATENATE($S366,\".\",VLOOKUP($G366,'1_Metas_Resultados'!$D$4:$E$403,2,FALSE))),\"Sin Registrar\",CONCATENATE($S366,\".\",VLOOKUP($G366,'1_Metas_Resultados'!$D$4:$E$403,2,FALSE)))","v":"Sin Registrar"},365," ",{"$f":"IF(ISERROR(CONCATENATE($S366,\".\",VLOOKUP($K366,'1_Metas_Resultados'!$D$4:$E$403,2,FALSE))),\"Sin Registrar\",CONCATENATE($S366,\".\",VLOOKUP($K366,'1_Metas_Resultados'!$D$4:$E$403,2,FALSE)))","v":"Sin Registrar"},{"$f":"IF(ISERROR(CONCATENATE($S366,\".\",VLOOKUP($L366,'1_Metas_Resultados'!$D$4:$E$403,2,FALSE))),\"Sin Registrar\",CONCATENATE($S366,\".\",VLOOKUP($L366,'1_Metas_Resultados'!$D$4:$E$403,2,FALSE)))","v":"Sin Registrar"},{"$f":"IF(ISERROR(VLOOKUP(G366,'1_Metas_Resultados'!$D$4:$I$403,6,FALSE)),\"\",VLOOKUP(G366,'1_Metas_Resultados'!$D$4:$I$403,6,FALSE))","v":""}]
[{"$f":"IF(ISERROR(CONCATENATE($S367,\".\",VLOOKUP($G367,'1_Metas_Resultados'!$D$4:$E$403,2,FALSE))),\"Sin Registrar\",CONCATENATE($S367,\".\",VLOOKUP($G367,'1_Metas_Resultados'!$D$4:$E$403,2,FALSE)))","v":"Sin Registrar"},366," ",{"$f":"IF(ISERROR(CONCATENATE($S367,\".\",VLOOKUP($K367,'1_Metas_Resultados'!$D$4:$E$403,2,FALSE))),\"Sin Registrar\",CONCATENATE($S367,\".\",VLOOKUP($K367,'1_Metas_Resultados'!$D$4:$E$403,2,FALSE)))","v":"Sin Registrar"},{"$f":"IF(ISERROR(CONCATENATE($S367,\".\",VLOOKUP($L367,'1_Metas_Resultados'!$D$4:$E$403,2,FALSE))),\"Sin Registrar\",CONCATENATE($S367,\".\",VLOOKUP($L367,'1_Metas_Resultados'!$D$4:$E$403,2,FALSE)))","v":"Sin Registrar"},{"$f":"IF(ISERROR(VLOOKUP(G367,'1_Metas_Resultados'!$D$4:$I$403,6,FALSE)),\"\",VLOOKUP(G367,'1_Metas_Resultados'!$D$4:$I$403,6,FALSE))","v":""}]
[{"$f":"IF(ISERROR(CONCATENATE($S368,\".\",VLOOKUP($G368,'1_Metas_Resultados'!$D$4:$E$403,2,FALSE))),\"Sin Registrar\",CONCATENATE($S368,\".\",VLOOKUP($G368,'1_Metas_Resultados'!$D$4:$E$403,2,FALSE)))","v":"Sin Registrar"},367," ",{"$f":"IF(ISERROR(CONCATENATE($S368,\".\",VLOOKUP($K368,'1_Metas_Resultados'!$D$4:$E$403,2,FALSE))),\"Sin Registrar\",CONCATENATE($S368,\".\",VLOOKUP($K368,'1_Metas_Resultados'!$D$4:$E$403,2,FALSE)))","v":"Sin Registrar"},{"$f":"IF(ISERROR(CONCATENATE($S368,\".\",VLOOKUP($L368,'1_Metas_Resultados'!$D$4:$E$403,2,FALSE))),\"Sin Registrar\",CONCATENATE($S368,\".\",VLOOKUP($L368,'1_Metas_Resultados'!$D$4:$E$403,2,FALSE)))","v":"Sin Registrar"},{"$f":"IF(ISERROR(VLOOKUP(G368,'1_Metas_Resultados'!$D$4:$I$403,6,FALSE)),\"\",VLOOKUP(G368,'1_Metas_Resultados'!$D$4:$I$403,6,FALSE))","v":""}]
[{"$f":"IF(ISERROR(CONCATENATE($S369,\".\",VLOOKUP($G369,'1_Metas_Resultados'!$D$4:$E$403,2,FALSE))),\"Sin Registrar\",CONCATENATE($S369,\".\",VLOOKUP($G369,'1_Metas_Resultados'!$D$4:$E$403,2,FALSE)))","v":"Sin Registrar"},368," ",{"$f":"IF(ISERROR(CONCATENATE($S369,\".\",VLOOKUP($K369,'1_Metas_Resultados'!$D$4:$E$403,2,FALSE))),\"Sin Registrar\",CONCATENATE($S369,\".\",VLOOKUP($K369,'1_Metas_Resultados'!$D$4:$E$403,2,FALSE)))","v":"Sin Registrar"},{"$f":"IF(ISERROR(CONCATENATE($S369,\".\",VLOOKUP($L369,'1_Metas_Resultados'!$D$4:$E$403,2,FALSE))),\"Sin Registrar\",CONCATENATE($S369,\".\",VLOOKUP($L369,'1_Metas_Resultados'!$D$4:$E$403,2,FALSE)))","v":"Sin Registrar"},{"$f":"IF(ISERROR(VLOOKUP(G369,'1_Metas_Resultados'!$D$4:$I$403,6,FALSE)),\"\",VLOOKUP(G369,'1_Metas_Resultados'!$D$4:$I$403,6,FALSE))","v":""}]
[{"$f":"IF(ISERROR(CONCATENATE($S370,\".\",VLOOKUP($G370,'1_Metas_Resultados'!$D$4:$E$403,2,FALSE))),\"Sin Registrar\",CONCATENATE($S370,\".\",VLOOKUP($G370,'1_Metas_Resultados'!$D$4:$E$403,2,FALSE)))","v":"Sin Registrar"},369," ",{"$f":"IF(ISERROR(CONCATENATE($S370,\".\",VLOOKUP($K370,'1_Metas_Resultados'!$D$4:$E$403,2,FALSE))),\"Sin Registrar\",CONCATENATE($S370,\".\",VLOOKUP($K370,'1_Metas_Resultados'!$D$4:$E$403,2,FALSE)))","v":"Sin Registrar"},{"$f":"IF(ISERROR(CONCATENATE($S370,\".\",VLOOKUP($L370,'1_Metas_Resultados'!$D$4:$E$403,2,FALSE))),\"Sin Registrar\",CONCATENATE($S370,\".\",VLOOKUP($L370,'1_Metas_Resultados'!$D$4:$E$403,2,FALSE)))","v":"Sin Registrar"},{"$f":"IF(ISERROR(VLOOKUP(G370,'1_Metas_Resultados'!$D$4:$I$403,6,FALSE)),\"\",VLOOKUP(G370,'1_Metas_Resultados'!$D$4:$I$403,6,FALSE))","v":""}]
[{"$f":"IF(ISERROR(CONCATENATE($S371,\".\",VLOOKUP($G371,'1_Metas_Resultados'!$D$4:$E$403,2,FALSE))),\"Sin Registrar\",CONCATENATE($S371,\".\",VLOOKUP($G371,'1_Metas_Resultados'!$D$4:$E$403,2,FALSE)))","v":"Sin Registrar"},370," ",{"$f":"IF(ISERROR(CONCATENATE($S371,\".\",VLOOKUP($K371,'1_Metas_Resultados'!$D$4:$E$403,2,FALSE))),\"Sin Registrar\",CONCATENATE($S371,\".\",VLOOKUP($K371,'1_Metas_Resultados'!$D$4:$E$403,2,FALSE)))","v":"Sin Registrar"},{"$f":"IF(ISERROR(CONCATENATE($S371,\".\",VLOOKUP($L371,'1_Metas_Resultados'!$D$4:$E$403,2,FALSE))),\"Sin Registrar\",CONCATENATE($S371,\".\",VLOOKUP($L371,'1_Metas_Resultados'!$D$4:$E$403,2,FALSE)))","v":"Sin Registrar"},{"$f":"IF(ISERROR(VLOOKUP(G371,'1_Metas_Resultados'!$D$4:$I$403,6,FALSE)),\"\",VLOOKUP(G371,'1_Metas_Resultados'!$D$4:$I$403,6,FALSE))","v":""}]
[{"$f":"IF(ISERROR(CONCATENATE($S372,\".\",VLOOKUP($G372,'1_Metas_Resultados'!$D$4:$E$403,2,FALSE))),\"Sin Registrar\",CONCATENATE($S372,\".\",VLOOKUP($G372,'1_Metas_Resultados'!$D$4:$E$403,2,FALSE)))","v":"Sin Registrar"},371," ",{"$f":"IF(ISERROR(CONCATENATE($S372,\".\",VLOOKUP($K372,'1_Metas_Resultados'!$D$4:$E$403,2,FALSE))),\"Sin Registrar\",CONCATENATE($S372,\".\",VLOOKUP($K372,'1_Metas_Resultados'!$D$4:$E$403,2,FALSE)))","v":"Sin Registrar"},{"$f":"IF(ISERROR(CONCATENATE($S372,\".\",VLOOKUP($L372,'1_Metas_Resultados'!$D$4:$E$403,2,FALSE))),\"Sin Registrar\",CONCATENATE($S372,\".\",VLOOKUP($L372,'1_Metas_Resultados'!$D$4:$E$403,2,FALSE)))","v":"Sin Registrar"},{"$f":"IF(ISERROR(VLOOKUP(G372,'1_Metas_Resultados'!$D$4:$I$403,6,FALSE)),\"\",VLOOKUP(G372,'1_Metas_Resultados'!$D$4:$I$403,6,FALSE))","v":""}]
[{"$f":"IF(ISERROR(CONCATENATE($S373,\".\",VLOOKUP($G373,'1_Metas_Resultados'!$D$4:$E$403,2,FALSE))),\"Sin Registrar\",CONCATENATE($S373,\".\",VLOOKUP($G373,'1_Metas_Resultados'!$D$4:$E$403,2,FALSE)))","v":"Sin Registrar"},372," ",{"$f":"IF(ISERROR(CONCATENATE($S373,\".\",VLOOKUP($K373,'1_Metas_Resultados'!$D$4:$E$403,2,FALSE))),\"Sin Registrar\",CONCATENATE($S373,\".\",VLOOKUP($K373,'1_Metas_Resultados'!$D$4:$E$403,2,FALSE)))","v":"Sin Registrar"},{"$f":"IF(ISERROR(CONCATENATE($S373,\".\",VLOOKUP($L373,'1_Metas_Resultados'!$D$4:$E$403,2,FALSE))),\"Sin Registrar\",CONCATENATE($S373,\".\",VLOOKUP($L373,'1_Metas_Resultados'!$D$4:$E$403,2,FALSE)))","v":"Sin Registrar"},{"$f":"IF(ISERROR(VLOOKUP(G373,'1_Metas_Resultados'!$D$4:$I$403,6,FALSE)),\"\",VLOOKUP(G373,'1_Metas_Resultados'!$D$4:$I$403,6,FALSE))","v":""}]
[{"$f":"IF(ISERROR(CONCATENATE($S374,\".\",VLOOKUP($G374,'1_Metas_Resultados'!$D$4:$E$403,2,FALSE))),\"Sin Registrar\",CONCATENATE($S374,\".\",VLOOKUP($G374,'1_Metas_Resultados'!$D$4:$E$403,2,FALSE)))","v":"Sin Registrar"},373," ",{"$f":"IF(ISERROR(CONCATENATE($S374,\".\",VLOOKUP($K374,'1_Metas_Resultados'!$D$4:$E$403,2,FALSE))),\"Sin Registrar\",CONCATENATE($S374,\".\",VLOOKUP($K374,'1_Metas_Resultados'!$D$4:$E$403,2,FALSE)))","v":"Sin Registrar"},{"$f":"IF(ISERROR(CONCATENATE($S374,\".\",VLOOKUP($L374,'1_Metas_Resultados'!$D$4:$E$403,2,FALSE))),\"Sin Registrar\",CONCATENATE($S374,\".\",VLOOKUP($L374,'1_Metas_Resultados'!$D$4:$E$403,2,FALSE)))","v":"Sin Registrar"},{"$f":"IF(ISERROR(VLOOKUP(G374,'1_Metas_Resultados'!$D$4:$I$403,6,FALSE)),\"\",VLOOKUP(G374,'1_Metas_Resultados'!$D$4:$I$403,6,FALSE))","v":""}]
[{"$f":"IF(ISERROR(CONCATENATE($S375,\".\",VLOOKUP($G375,'1_Metas_Resultados'!$D$4:$E$403,2,FALSE))),\"Sin Registrar\",CONCATENATE($S375,\".\",VLOOKUP($G375,'1_Metas_Resultados'!$D$4:$E$403,2,FALSE)))","v":"Sin Registrar"},374," ",{"$f":"IF(ISERROR(CONCATENATE($S375,\".\",VLOOKUP($K375,'1_Metas_Resultados'!$D$4:$E$403,2,FALSE))),\"Sin Registrar\",CONCATENATE($S375,\".\",VLOOKUP($K375,'1_Metas_Resultados'!$D$4:$E$403,2,FALSE)))","v":"Sin Registrar"},{"$f":"IF(ISERROR(CONCATENATE($S375,\".\",VLOOKUP($L375,'1_Metas_Resultados'!$D$4:$E$403,2,FALSE))),\"Sin Registrar\",CONCATENATE($S375,\".\",VLOOKUP($L375,'1_Metas_Resultados'!$D$4:$E$403,2,FALSE)))","v":"Sin Registrar"},{"$f":"IF(ISERROR(VLOOKUP(G375,'1_Metas_Resultados'!$D$4:$I$403,6,FALSE)),\"\",VLOOKUP(G375,'1_Metas_Resultados'!$D$4:$I$403,6,FALSE))","v":""}]
[{"$f":"IF(ISERROR(CONCATENATE($S376,\".\",VLOOKUP($G376,'1_Metas_Resultados'!$D$4:$E$403,2,FALSE))),\"Sin Registrar\",CONCATENATE($S376,\".\",VLOOKUP($G376,'1_Metas_Resultados'!$D$4:$E$403,2,FALSE)))","v":"Sin Registrar"},375," ",{"$f":"IF(ISERROR(CONCATENATE($S376,\".\",VLOOKUP($K376,'1_Metas_Resultados'!$D$4:$E$403,2,FALSE))),\"Sin Registrar\",CONCATENATE($S376,\".\",VLOOKUP($K376,'1_Metas_Resultados'!$D$4:$E$403,2,FALSE)))","v":"Sin Registrar"},{"$f":"IF(ISERROR(CONCATENATE($S376,\".\",VLOOKUP($L376,'1_Metas_Resultados'!$D$4:$E$403,2,FALSE))),\"Sin Registrar\",CONCATENATE($S376,\".\",VLOOKUP($L376,'1_Metas_Resultados'!$D$4:$E$403,2,FALSE)))","v":"Sin Registrar"},{"$f":"IF(ISERROR(VLOOKUP(G376,'1_Metas_Resultados'!$D$4:$I$403,6,FALSE)),\"\",VLOOKUP(G376,'1_Metas_Resultados'!$D$4:$I$403,6,FALSE))","v":""}]
[{"$f":"IF(ISERROR(CONCATENATE($S377,\".\",VLOOKUP($G377,'1_Metas_Resultados'!$D$4:$E$403,2,FALSE))),\"Sin Registrar\",CONCATENATE($S377,\".\",VLOOKUP($G377,'1_Metas_Resultados'!$D$4:$E$403,2,FALSE)))","v":"Sin Registrar"},376," ",{"$f":"IF(ISERROR(CONCATENATE($S377,\".\",VLOOKUP($K377,'1_Metas_Resultados'!$D$4:$E$403,2,FALSE))),\"Sin Registrar\",CONCATENATE($S377,\".\",VLOOKUP($K377,'1_Metas_Resultados'!$D$4:$E$403,2,FALSE)))","v":"Sin Registrar"},{"$f":"IF(ISERROR(CONCATENATE($S377,\".\",VLOOKUP($L377,'1_Metas_Resultados'!$D$4:$E$403,2,FALSE))),\"Sin Registrar\",CONCATENATE($S377,\".\",VLOOKUP($L377,'1_Metas_Resultados'!$D$4:$E$403,2,FALSE)))","v":"Sin Registrar"},{"$f":"IF(ISERROR(VLOOKUP(G377,'1_Metas_Resultados'!$D$4:$I$403,6,FALSE)),\"\",VLOOKUP(G377,'1_Metas_Resultados'!$D$4:$I$403,6,FALSE))","v":""}]
[{"$f":"IF(ISERROR(CONCATENATE($S378,\".\",VLOOKUP($G378,'1_Metas_Resultados'!$D$4:$E$403,2,FALSE))),\"Sin Registrar\",CONCATENATE($S378,\".\",VLOOKUP($G378,'1_Metas_Resultados'!$D$4:$E$403,2,FALSE)))","v":"Sin Registrar"},377," ",{"$f":"IF(ISERROR(CONCATENATE($S378,\".\",VLOOKUP($K378,'1_Metas_Resultados'!$D$4:$E$403,2,FALSE))),\"Sin Registrar\",CONCATENATE($S378,\".\",VLOOKUP($K378,'1_Metas_Resultados'!$D$4:$E$403,2,FALSE)))","v":"Sin Registrar"},{"$f":"IF(ISERROR(CONCATENATE($S378,\".\",VLOOKUP($L378,'1_Metas_Resultados'!$D$4:$E$403,2,FALSE))),\"Sin Registrar\",CONCATENATE($S378,\".\",VLOOKUP($L378,'1_Metas_Resultados'!$D$4:$E$403,2,FALSE)))","v":"Sin Registrar"},{"$f":"IF(ISERROR(VLOOKUP(G378,'1_Metas_Resultados'!$D$4:$I$403,6,FALSE)),\"\",VLOOKUP(G378,'1_Metas_Resultados'!$D$4:$I$403,6,FALSE))","v":""}]
[{"$f":"IF(ISERROR(CONCATENATE($S379,\".\",VLOOKUP($G379,'1_Metas_Resultados'!$D$4:$E$403,2,FALSE))),\"Sin Registrar\",CONCATENATE($S379,\".\",VLOOKUP($G379,'1_Metas_Resultados'!$D$4:$E$403,2,FALSE)))","v":"Sin Registrar"},378," ",{"$f":"IF(ISERROR(CONCATENATE($S379,\".\",VLOOKUP($K379,'1_Metas_Resultados'!$D$4:$E$403,2,FALSE))),\"Sin Registrar\",CONCATENATE($S379,\".\",VLOOKUP($K379,'1_Metas_Resultados'!$D$4:$E$403,2,FALSE)))","v":"Sin Registrar"},{"$f":"IF(ISERROR(CONCATENATE($S379,\".\",VLOOKUP($L379,'1_Metas_Resultados'!$D$4:$E$403,2,FALSE))),\"Sin Registrar\",CONCATENATE($S379,\".\",VLOOKUP($L379,'1_Metas_Resultados'!$D$4:$E$403,2,FALSE)))","v":"Sin Registrar"},{"$f":"IF(ISERROR(VLOOKUP(G379,'1_Metas_Resultados'!$D$4:$I$403,6,FALSE)),\"\",VLOOKUP(G379,'1_Metas_Resultados'!$D$4:$I$403,6,FALSE))","v":""}]
[{"$f":"IF(ISERROR(CONCATENATE($S380,\".\",VLOOKUP($G380,'1_Metas_Resultados'!$D$4:$E$403,2,FALSE))),\"Sin Registrar\",CONCATENATE($S380,\".\",VLOOKUP($G380,'1_Metas_Resultados'!$D$4:$E$403,2,FALSE)))","v":"Sin Registrar"},379," ",{"$f":"IF(ISERROR(CONCATENATE($S380,\".\",VLOOKUP($K380,'1_Metas_Resultados'!$D$4:$E$403,2,FALSE))),\"Sin Registrar\",CONCATENATE($S380,\".\",VLOOKUP($K380,'1_Metas_Resultados'!$D$4:$E$403,2,FALSE)))","v":"Sin Registrar"},{"$f":"IF(ISERROR(CONCATENATE($S380,\".\",VLOOKUP($L380,'1_Metas_Resultados'!$D$4:$E$403,2,FALSE))),\"Sin Registrar\",CONCATENATE($S380,\".\",VLOOKUP($L380,'1_Metas_Resultados'!$D$4:$E$403,2,FALSE)))","v":"Sin Registrar"},{"$f":"IF(ISERROR(VLOOKUP(G380,'1_Metas_Resultados'!$D$4:$I$403,6,FALSE)),\"\",VLOOKUP(G380,'1_Metas_Resultados'!$D$4:$I$403,6,FALSE))","v":""}]
[{"$f":"IF(ISERROR(CONCATENATE($S381,\".\",VLOOKUP($G381,'1_Metas_Resultados'!$D$4:$E$403,2,FALSE))),\"Sin Registrar\",CONCATENATE($S381,\".\",VLOOKUP($G381,'1_Metas_Resultados'!$D$4:$E$403,2,FALSE)))","v":"Sin Registrar"},380," ",{"$f":"IF(ISERROR(CONCATENATE($S381,\".\",VLOOKUP($K381,'1_Metas_Resultados'!$D$4:$E$403,2,FALSE))),\"Sin Registrar\",CONCATENATE($S381,\".\",VLOOKUP($K381,'1_Metas_Resultados'!$D$4:$E$403,2,FALSE)))","v":"Sin Registrar"},{"$f":"IF(ISERROR(CONCATENATE($S381,\".\",VLOOKUP($L381,'1_Metas_Resultados'!$D$4:$E$403,2,FALSE))),\"Sin Registrar\",CONCATENATE($S381,\".\",VLOOKUP($L381,'1_Metas_Resultados'!$D$4:$E$403,2,FALSE)))","v":"Sin Registrar"},{"$f":"IF(ISERROR(VLOOKUP(G381,'1_Metas_Resultados'!$D$4:$I$403,6,FALSE)),\"\",VLOOKUP(G381,'1_Metas_Resultados'!$D$4:$I$403,6,FALSE))","v":""}]
[{"$f":"IF(ISERROR(CONCATENATE($S382,\".\",VLOOKUP($G382,'1_Metas_Resultados'!$D$4:$E$403,2,FALSE))),\"Sin Registrar\",CONCATENATE($S382,\".\",VLOOKUP($G382,'1_Metas_Resultados'!$D$4:$E$403,2,FALSE)))","v":"Sin Registrar"},381," ",{"$f":"IF(ISERROR(CONCATENATE($S382,\".\",VLOOKUP($K382,'1_Metas_Resultados'!$D$4:$E$403,2,FALSE))),\"Sin Registrar\",CONCATENATE($S382,\".\",VLOOKUP($K382,'1_Metas_Resultados'!$D$4:$E$403,2,FALSE)))","v":"Sin Registrar"},{"$f":"IF(ISERROR(CONCATENATE($S382,\".\",VLOOKUP($L382,'1_Metas_Resultados'!$D$4:$E$403,2,FALSE))),\"Sin Registrar\",CONCATENATE($S382,\".\",VLOOKUP($L382,'1_Metas_Resultados'!$D$4:$E$403,2,FALSE)))","v":"Sin Registrar"},{"$f":"IF(ISERROR(VLOOKUP(G382,'1_Metas_Resultados'!$D$4:$I$403,6,FALSE)),\"\",VLOOKUP(G382,'1_Metas_Resultados'!$D$4:$I$403,6,FALSE))","v":""}]
[{"$f":"IF(ISERROR(CONCATENATE($S383,\".\",VLOOKUP($G383,'1_Metas_Resultados'!$D$4:$E$403,2,FALSE))),\"Sin Registrar\",CONCATENATE($S383,\".\",VLOOKUP($G383,'1_Metas_Resultados'!$D$4:$E$403,2,FALSE)))","v":"Sin Registrar"},382," ",{"$f":"IF(ISERROR(CONCATENATE($S383,\".\",VLOOKUP($K383,'1_Metas_Resultados'!$D$4:$E$403,2,FALSE))),\"Sin Registrar\",CONCATENATE($S383,\".\",VLOOKUP($K383,'1_Metas_Resultados'!$D$4:$E$403,2,FALSE)))","v":"Sin Registrar"},{"$f":"IF(ISERROR(CONCATENATE($S383,\".\",VLOOKUP($L383,'1_Metas_Resultados'!$D$4:$E$403,2,FALSE))),\"Sin Registrar\",CONCATENATE($S383,\".\",VLOOKUP($L383,'1_Metas_Resultados'!$D$4:$E$403,2,FALSE)))","v":"Sin Registrar"},{"$f":"IF(ISERROR(VLOOKUP(G383,'1_Metas_Resultados'!$D$4:$I$403,6,FALSE)),\"\",VLOOKUP(G383,'1_Metas_Resultados'!$D$4:$I$403,6,FALSE))","v":""}]
[{"$f":"IF(ISERROR(CONCATENATE($S384,\".\",VLOOKUP($G384,'1_Metas_Resultados'!$D$4:$E$403,2,FALSE))),\"Sin Registrar\",CONCATENATE($S384,\".\",VLOOKUP($G384,'1_Metas_Resultados'!$D$4:$E$403,2,FALSE)))","v":"Sin Registrar"},383," ",{"$f":"IF(ISERROR(CONCATENATE($S384,\".\",VLOOKUP($K384,'1_Metas_Resultados'!$D$4:$E$403,2,FALSE))),\"Sin Registrar\",CONCATENATE($S384,\".\",VLOOKUP($K384,'1_Metas_Resultados'!$D$4:$E$403,2,FALSE)))","v":"Sin Registrar"},{"$f":"IF(ISERROR(CONCATENATE($S384,\".\",VLOOKUP($L384,'1_Metas_Resultados'!$D$4:$E$403,2,FALSE))),\"Sin Registrar\",CONCATENATE($S384,\".\",VLOOKUP($L384,'1_Metas_Resultados'!$D$4:$E$403,2,FALSE)))","v":"Sin Registrar"},{"$f":"IF(ISERROR(VLOOKUP(G384,'1_Metas_Resultados'!$D$4:$I$403,6,FALSE)),\"\",VLOOKUP(G384,'1_Metas_Resultados'!$D$4:$I$403,6,FALSE))","v":""}]
[{"$f":"IF(ISERROR(CONCATENATE($S385,\".\",VLOOKUP($G385,'1_Metas_Resultados'!$D$4:$E$403,2,FALSE))),\"Sin Registrar\",CONCATENATE($S385,\".\",VLOOKUP($G385,'1_Metas_Resultados'!$D$4:$E$403,2,FALSE)))","v":"Sin Registrar"},384," ",{"$f":"IF(ISERROR(CONCATENATE($S385,\".\",VLOOKUP($K385,'1_Metas_Resultados'!$D$4:$E$403,2,FALSE))),\"Sin Registrar\",CONCATENATE($S385,\".\",VLOOKUP($K385,'1_Metas_Resultados'!$D$4:$E$403,2,FALSE)))","v":"Sin Registrar"},{"$f":"IF(ISERROR(CONCATENATE($S385,\".\",VLOOKUP($L385,'1_Metas_Resultados'!$D$4:$E$403,2,FALSE))),\"Sin Registrar\",CONCATENATE($S385,\".\",VLOOKUP($L385,'1_Metas_Resultados'!$D$4:$E$403,2,FALSE)))","v":"Sin Registrar"},{"$f":"IF(ISERROR(VLOOKUP(G385,'1_Metas_Resultados'!$D$4:$I$403,6,FALSE)),\"\",VLOOKUP(G385,'1_Metas_Resultados'!$D$4:$I$403,6,FALSE))","v":""}]
[{"$f":"IF(ISERROR(CONCATENATE($S386,\".\",VLOOKUP($G386,'1_Metas_Resultados'!$D$4:$E$403,2,FALSE))),\"Sin Registrar\",CONCATENATE($S386,\".\",VLOOKUP($G386,'1_Metas_Resultados'!$D$4:$E$403,2,FALSE)))","v":"Sin Registrar"},385," ",{"$f":"IF(ISERROR(CONCATENATE($S386,\".\",VLOOKUP($K386,'1_Metas_Resultados'!$D$4:$E$403,2,FALSE))),\"Sin Registrar\",CONCATENATE($S386,\".\",VLOOKUP($K386,'1_Metas_Resultados'!$D$4:$E$403,2,FALSE)))","v":"Sin Registrar"},{"$f":"IF(ISERROR(CONCATENATE($S386,\".\",VLOOKUP($L386,'1_Metas_Resultados'!$D$4:$E$403,2,FALSE))),\"Sin Registrar\",CONCATENATE($S386,\".\",VLOOKUP($L386,'1_Metas_Resultados'!$D$4:$E$403,2,FALSE)))","v":"Sin Registrar"},{"$f":"IF(ISERROR(VLOOKUP(G386,'1_Metas_Resultados'!$D$4:$I$403,6,FALSE)),\"\",VLOOKUP(G386,'1_Metas_Resultados'!$D$4:$I$403,6,FALSE))","v":""}]
[{"$f":"IF(ISERROR(CONCATENATE($S387,\".\",VLOOKUP($G387,'1_Metas_Resultados'!$D$4:$E$403,2,FALSE))),\"Sin Registrar\",CONCATENATE($S387,\".\",VLOOKUP($G387,'1_Metas_Resultados'!$D$4:$E$403,2,FALSE)))","v":"Sin Registrar"},386," ",{"$f":"IF(ISERROR(CONCATENATE($S387,\".\",VLOOKUP($K387,'1_Metas_Resultados'!$D$4:$E$403,2,FALSE))),\"Sin Registrar\",CONCATENATE($S387,\".\",VLOOKUP($K387,'1_Metas_Resultados'!$D$4:$E$403,2,FALSE)))","v":"Sin Registrar"},{"$f":"IF(ISERROR(CONCATENATE($S387,\".\",VLOOKUP($L387,'1_Metas_Resultados'!$D$4:$E$403,2,FALSE))),\"Sin Registrar\",CONCATENATE($S387,\".\",VLOOKUP($L387,'1_Metas_Resultados'!$D$4:$E$403,2,FALSE)))","v":"Sin Registrar"},{"$f":"IF(ISERROR(VLOOKUP(G387,'1_Metas_Resultados'!$D$4:$I$403,6,FALSE)),\"\",VLOOKUP(G387,'1_Metas_Resultados'!$D$4:$I$403,6,FALSE))","v":""}]
[{"$f":"IF(ISERROR(CONCATENATE($S388,\".\",VLOOKUP($G388,'1_Metas_Resultados'!$D$4:$E$403,2,FALSE))),\"Sin Registrar\",CONCATENATE($S388,\".\",VLOOKUP($G388,'1_Metas_Resultados'!$D$4:$E$403,2,FALSE)))","v":"Sin Registrar"},387," ",{"$f":"IF(ISERROR(CONCATENATE($S388,\".\",VLOOKUP($K388,'1_Metas_Resultados'!$D$4:$E$403,2,FALSE))),\"Sin Registrar\",CONCATENATE($S388,\".\",VLOOKUP($K388,'1_Metas_Resultados'!$D$4:$E$403,2,FALSE)))","v":"Sin Registrar"},{"$f":"IF(ISERROR(CONCATENATE($S388,\".\",VLOOKUP($L388,'1_Metas_Resultados'!$D$4:$E$403,2,FALSE))),\"Sin Registrar\",CONCATENATE($S388,\".\",VLOOKUP($L388,'1_Metas_Resultados'!$D$4:$E$403,2,FALSE)))","v":"Sin Registrar"},{"$f":"IF(ISERROR(VLOOKUP(G388,'1_Metas_Resultados'!$D$4:$I$403,6,FALSE)),\"\",VLOOKUP(G388,'1_Metas_Resultados'!$D$4:$I$403,6,FALSE))","v":""}]
[{"$f":"IF(ISERROR(CONCATENATE($S389,\".\",VLOOKUP($G389,'1_Metas_Resultados'!$D$4:$E$403,2,FALSE))),\"Sin Registrar\",CONCATENATE($S389,\".\",VLOOKUP($G389,'1_Metas_Resultados'!$D$4:$E$403,2,FALSE)))","v":"Sin Registrar"},388,{"$f":"IF(A389=\"Sin Registrar\",\" \",CONCATENATE(A389,\".\",B389))","v":" "},{"$f":"IF(ISERROR(CONCATENATE($S389,\".\",VLOOKUP($K389,'1_Metas_Resultados'!$D$4:$E$403,2,FALSE))),\"Sin Registrar\",CONCATENATE($S389,\".\",VLOOKUP($K389,'1_Metas_Resultados'!$D$4:$E$403,2,FALSE)))","v":"Sin Registrar"},{"$f":"IF(ISERROR(CONCATENATE($S389,\".\",VLOOKUP($L389,'1_Metas_Resultados'!$D$4:$E$403,2,FALSE))),\"Sin Registrar\",CONCATENATE($S389,\".\",VLOOKUP($L389,'1_Metas_Resultados'!$D$4:$E$403,2,FALSE)))","v":"Sin Registrar"},{"$f":"IF(ISERROR(VLOOKUP(G389,'1_Metas_Resultados'!$D$4:$I$403,6,FALSE)),\"\",VLOOKUP(G389,'1_Metas_Resultados'!$D$4:$I$403,6,FALSE))","v":""}]
[{"$f":"IF(ISERROR(CONCATENATE($S390,\".\",VLOOKUP($G390,'1_Metas_Resultados'!$D$4:$E$403,2,FALSE))),\"Sin Registrar\",CONCATENATE($S390,\".\",VLOOKUP($G390,'1_Metas_Resultados'!$D$4:$E$403,2,FALSE)))","v":"Sin Registrar"},389," ",{"$f":"IF(ISERROR(CONCATENATE($S390,\".\",VLOOKUP($K390,'1_Metas_Resultados'!$D$4:$E$403,2,FALSE))),\"Sin Registrar\",CONCATENATE($S390,\".\",VLOOKUP($K390,'1_Metas_Resultados'!$D$4:$E$403,2,FALSE)))","v":"Sin Registrar"},{"$f":"IF(ISERROR(CONCATENATE($S390,\".\",VLOOKUP($L390,'1_Metas_Resultados'!$D$4:$E$403,2,FALSE))),\"Sin Registrar\",CONCATENATE($S390,\".\",VLOOKUP($L390,'1_Metas_Resultados'!$D$4:$E$403,2,FALSE)))","v":"Sin Registrar"},{"$f":"IF(ISERROR(VLOOKUP(G390,'1_Metas_Resultados'!$D$4:$I$403,6,FALSE)),\"\",VLOOKUP(G390,'1_Metas_Resultados'!$D$4:$I$403,6,FALSE))","v":""}]
[{"$f":"IF(ISERROR(CONCATENATE($S391,\".\",VLOOKUP($G391,'1_Metas_Resultados'!$D$4:$E$403,2,FALSE))),\"Sin Registrar\",CONCATENATE($S391,\".\",VLOOKUP($G391,'1_Metas_Resultados'!$D$4:$E$403,2,FALSE)))","v":"Sin Registrar"},390," ",{"$f":"IF(ISERROR(CONCATENATE($S391,\".\",VLOOKUP($K391,'1_Metas_Resultados'!$D$4:$E$403,2,FALSE))),\"Sin Registrar\",CONCATENATE($S391,\".\",VLOOKUP($K391,'1_Metas_Resultados'!$D$4:$E$403,2,FALSE)))","v":"Sin Registrar"},{"$f":"IF(ISERROR(CONCATENATE($S391,\".\",VLOOKUP($L391,'1_Metas_Resultados'!$D$4:$E$403,2,FALSE))),\"Sin Registrar\",CONCATENATE($S391,\".\",VLOOKUP($L391,'1_Metas_Resultados'!$D$4:$E$403,2,FALSE)))","v":"Sin Registrar"},{"$f":"IF(ISERROR(VLOOKUP(G391,'1_Metas_Resultados'!$D$4:$I$403,6,FALSE)),\"\",VLOOKUP(G391,'1_Metas_Resultados'!$D$4:$I$403,6,FALSE))","v":""}]
[{"$f":"IF(ISERROR(CONCATENATE($S392,\".\",VLOOKUP($G392,'1_Metas_Resultados'!$D$4:$E$403,2,FALSE))),\"Sin Registrar\",CONCATENATE($S392,\".\",VLOOKUP($G392,'1_Metas_Resultados'!$D$4:$E$403,2,FALSE)))","v":"Sin Registrar"},391," ",{"$f":"IF(ISERROR(CONCATENATE($S392,\".\",VLOOKUP($K392,'1_Metas_Resultados'!$D$4:$E$403,2,FALSE))),\"Sin Registrar\",CONCATENATE($S392,\".\",VLOOKUP($K392,'1_Metas_Resultados'!$D$4:$E$403,2,FALSE)))","v":"Sin Registrar"},{"$f":"IF(ISERROR(CONCATENATE($S392,\".\",VLOOKUP($L392,'1_Metas_Resultados'!$D$4:$E$403,2,FALSE))),\"Sin Registrar\",CONCATENATE($S392,\".\",VLOOKUP($L392,'1_Metas_Resultados'!$D$4:$E$403,2,FALSE)))","v":"Sin Registrar"},{"$f":"IF(ISERROR(VLOOKUP(G392,'1_Metas_Resultados'!$D$4:$I$403,6,FALSE)),\"\",VLOOKUP(G392,'1_Metas_Resultados'!$D$4:$I$403,6,FALSE))","v":""}]
[{"$f":"IF(ISERROR(CONCATENATE($S393,\".\",VLOOKUP($G393,'1_Metas_Resultados'!$D$4:$E$403,2,FALSE))),\"Sin Registrar\",CONCATENATE($S393,\".\",VLOOKUP($G393,'1_Metas_Resultados'!$D$4:$E$403,2,FALSE)))","v":"Sin Registrar"},392," ",{"$f":"IF(ISERROR(CONCATENATE($S393,\".\",VLOOKUP($K393,'1_Metas_Resultados'!$D$4:$E$403,2,FALSE))),\"Sin Registrar\",CONCATENATE($S393,\".\",VLOOKUP($K393,'1_Metas_Resultados'!$D$4:$E$403,2,FALSE)))","v":"Sin Registrar"},{"$f":"IF(ISERROR(CONCATENATE($S393,\".\",VLOOKUP($L393,'1_Metas_Resultados'!$D$4:$E$403,2,FALSE))),\"Sin Registrar\",CONCATENATE($S393,\".\",VLOOKUP($L393,'1_Metas_Resultados'!$D$4:$E$403,2,FALSE)))","v":"Sin Registrar"},{"$f":"IF(ISERROR(VLOOKUP(G393,'1_Metas_Resultados'!$D$4:$I$403,6,FALSE)),\"\",VLOOKUP(G393,'1_Metas_Resultados'!$D$4:$I$403,6,FALSE))","v":""}]
[{"$f":"IF(ISERROR(CONCATENATE($S394,\".\",VLOOKUP($G394,'1_Metas_Resultados'!$D$4:$E$403,2,FALSE))),\"Sin Registrar\",CONCATENATE($S394,\".\",VLOOKUP($G394,'1_Metas_Resultados'!$D$4:$E$403,2,FALSE)))","v":"Sin Registrar"},393," ",{"$f":"IF(ISERROR(CONCATENATE($S394,\".\",VLOOKUP($K394,'1_Metas_Resultados'!$D$4:$E$403,2,FALSE))),\"Sin Registrar\",CONCATENATE($S394,\".\",VLOOKUP($K394,'1_Metas_Resultados'!$D$4:$E$403,2,FALSE)))","v":"Sin Registrar"},{"$f":"IF(ISERROR(CONCATENATE($S394,\".\",VLOOKUP($L394,'1_Metas_Resultados'!$D$4:$E$403,2,FALSE))),\"Sin Registrar\",CONCATENATE($S394,\".\",VLOOKUP($L394,'1_Metas_Resultados'!$D$4:$E$403,2,FALSE)))","v":"Sin Registrar"},{"$f":"IF(ISERROR(VLOOKUP(G394,'1_Metas_Resultados'!$D$4:$I$403,6,FALSE)),\"\",VLOOKUP(G394,'1_Metas_Resultados'!$D$4:$I$403,6,FALSE))","v":""}]
[{"$f":"IF(ISERROR(CONCATENATE($S395,\".\",VLOOKUP($G395,'1_Metas_Resultados'!$D$4:$E$403,2,FALSE))),\"Sin Registrar\",CONCATENATE($S395,\".\",VLOOKUP($G395,'1_Metas_Resultados'!$D$4:$E$403,2,FALSE)))","v":"Sin Registrar"},394," ",{"$f":"IF(ISERROR(CONCATENATE($S395,\".\",VLOOKUP($K395,'1_Metas_Resultados'!$D$4:$E$403,2,FALSE))),\"Sin Registrar\",CONCATENATE($S395,\".\",VLOOKUP($K395,'1_Metas_Resultados'!$D$4:$E$403,2,FALSE)))","v":"Sin Registrar"},{"$f":"IF(ISERROR(CONCATENATE($S395,\".\",VLOOKUP($L395,'1_Metas_Resultados'!$D$4:$E$403,2,FALSE))),\"Sin Registrar\",CONCATENATE($S395,\".\",VLOOKUP($L395,'1_Metas_Resultados'!$D$4:$E$403,2,FALSE)))","v":"Sin Registrar"},{"$f":"IF(ISERROR(VLOOKUP(G395,'1_Metas_Resultados'!$D$4:$I$403,6,FALSE)),\"\",VLOOKUP(G395,'1_Metas_Resultados'!$D$4:$I$403,6,FALSE))","v":""}]
[{"$f":"IF(ISERROR(CONCATENATE($S396,\".\",VLOOKUP($G396,'1_Metas_Resultados'!$D$4:$E$403,2,FALSE))),\"Sin Registrar\",CONCATENATE($S396,\".\",VLOOKUP($G396,'1_Metas_Resultados'!$D$4:$E$403,2,FALSE)))","v":"Sin Registrar"},395," ",{"$f":"IF(ISERROR(CONCATENATE($S396,\".\",VLOOKUP($K396,'1_Metas_Resultados'!$D$4:$E$403,2,FALSE))),\"Sin Registrar\",CONCATENATE($S396,\".\",VLOOKUP($K396,'1_Metas_Resultados'!$D$4:$E$403,2,FALSE)))","v":"Sin Registrar"},{"$f":"IF(ISERROR(CONCATENATE($S396,\".\",VLOOKUP($L396,'1_Metas_Resultados'!$D$4:$E$403,2,FALSE))),\"Sin Registrar\",CONCATENATE($S396,\".\",VLOOKUP($L396,'1_Metas_Resultados'!$D$4:$E$403,2,FALSE)))","v":"Sin Registrar"},{"$f":"IF(ISERROR(VLOOKUP(G396,'1_Metas_Resultados'!$D$4:$I$403,6,FALSE)),\"\",VLOOKUP(G396,'1_Metas_Resultados'!$D$4:$I$403,6,FALSE))","v":""}]
[{"$f":"IF(ISERROR(CONCATENATE($S397,\".\",VLOOKUP($G397,'1_Metas_Resultados'!$D$4:$E$403,2,FALSE))),\"Sin Registrar\",CONCATENATE($S397,\".\",VLOOKUP($G397,'1_Metas_Resultados'!$D$4:$E$403,2,FALSE)))","v":"Sin Registrar"},396," ",{"$f":"IF(ISERROR(CONCATENATE($S397,\".\",VLOOKUP($K397,'1_Metas_Resultados'!$D$4:$E$403,2,FALSE))),\"Sin Registrar\",CONCATENATE($S397,\".\",VLOOKUP($K397,'1_Metas_Resultados'!$D$4:$E$403,2,FALSE)))","v":"Sin Registrar"},{"$f":"IF(ISERROR(CONCATENATE($S397,\".\",VLOOKUP($L397,'1_Metas_Resultados'!$D$4:$E$403,2,FALSE))),\"Sin Registrar\",CONCATENATE($S397,\".\",VLOOKUP($L397,'1_Metas_Resultados'!$D$4:$E$403,2,FALSE)))","v":"Sin Registrar"},{"$f":"IF(ISERROR(VLOOKUP(G397,'1_Metas_Resultados'!$D$4:$I$403,6,FALSE)),\"\",VLOOKUP(G397,'1_Metas_Resultados'!$D$4:$I$403,6,FALSE))","v":""}]
[{"$f":"IF(ISERROR(CONCATENATE($S398,\".\",VLOOKUP($G398,'1_Metas_Resultados'!$D$4:$E$403,2,FALSE))),\"Sin Registrar\",CONCATENATE($S398,\".\",VLOOKUP($G398,'1_Metas_Resultados'!$D$4:$E$403,2,FALSE)))","v":"Sin Registrar"},397," ",{"$f":"IF(ISERROR(CONCATENATE($S398,\".\",VLOOKUP($K398,'1_Metas_Resultados'!$D$4:$E$403,2,FALSE))),\"Sin Registrar\",CONCATENATE($S398,\".\",VLOOKUP($K398,'1_Metas_Resultados'!$D$4:$E$403,2,FALSE)))","v":"Sin Registrar"},{"$f":"IF(ISERROR(CONCATENATE($S398,\".\",VLOOKUP($L398,'1_Metas_Resultados'!$D$4:$E$403,2,FALSE))),\"Sin Registrar\",CONCATENATE($S398,\".\",VLOOKUP($L398,'1_Metas_Resultados'!$D$4:$E$403,2,FALSE)))","v":"Sin Registrar"},{"$f":"IF(ISERROR(VLOOKUP(G398,'1_Metas_Resultados'!$D$4:$I$403,6,FALSE)),\"\",VLOOKUP(G398,'1_Metas_Resultados'!$D$4:$I$403,6,FALSE))","v":""}]
[{"$f":"IF(ISERROR(CONCATENATE($S399,\".\",VLOOKUP($G399,'1_Metas_Resultados'!$D$4:$E$403,2,FALSE))),\"Sin Registrar\",CONCATENATE($S399,\".\",VLOOKUP($G399,'1_Metas_Resultados'!$D$4:$E$403,2,FALSE)))","v":"Sin Registrar"},398," ",{"$f":"IF(ISERROR(CONCATENATE($S399,\".\",VLOOKUP($K399,'1_Metas_Resultados'!$D$4:$E$403,2,FALSE))),\"Sin Registrar\",CONCATENATE($S399,\".\",VLOOKUP($K399,'1_Metas_Resultados'!$D$4:$E$403,2,FALSE)))","v":"Sin Registrar"},{"$f":"IF(ISERROR(CONCATENATE($S399,\".\",VLOOKUP($L399,'1_Metas_Resultados'!$D$4:$E$403,2,FALSE))),\"Sin Registrar\",CONCATENATE($S399,\".\",VLOOKUP($L399,'1_Metas_Resultados'!$D$4:$E$403,2,FALSE)))","v":"Sin Registrar"},{"$f":"IF(ISERROR(VLOOKUP(G399,'1_Metas_Resultados'!$D$4:$I$403,6,FALSE)),\"\",VLOOKUP(G399,'1_Metas_Resultados'!$D$4:$I$403,6,FALSE))","v":""}]
[{"$f":"IF(ISERROR(CONCATENATE($S400,\".\",VLOOKUP($G400,'1_Metas_Resultados'!$D$4:$E$403,2,FALSE))),\"Sin Registrar\",CONCATENATE($S400,\".\",VLOOKUP($G400,'1_Metas_Resultados'!$D$4:$E$403,2,FALSE)))","v":"Sin Registrar"},399," ",{"$f":"IF(ISERROR(CONCATENATE($S400,\".\",VLOOKUP($K400,'1_Metas_Resultados'!$D$4:$E$403,2,FALSE))),\"Sin Registrar\",CONCATENATE($S400,\".\",VLOOKUP($K400,'1_Metas_Resultados'!$D$4:$E$403,2,FALSE)))","v":"Sin Registrar"},{"$f":"IF(ISERROR(CONCATENATE($S400,\".\",VLOOKUP($L400,'1_Metas_Resultados'!$D$4:$E$403,2,FALSE))),\"Sin Registrar\",CONCATENATE($S400,\".\",VLOOKUP($L400,'1_Metas_Resultados'!$D$4:$E$403,2,FALSE)))","v":"Sin Registrar"},{"$f":"IF(ISERROR(VLOOKUP(G400,'1_Metas_Resultados'!$D$4:$I$403,6,FALSE)),\"\",VLOOKUP(G400,'1_Metas_Resultados'!$D$4:$I$403,6,FALSE))","v":""}]
[{"$f":"IF(ISERROR(CONCATENATE($S401,\".\",VLOOKUP($G401,'1_Metas_Resultados'!$D$4:$E$403,2,FALSE))),\"Sin Registrar\",CONCATENATE($S401,\".\",VLOOKUP($G401,'1_Metas_Resultados'!$D$4:$E$403,2,FALSE)))","v":"Sin Registrar"},400," ",{"$f":"IF(ISERROR(CONCATENATE($S401,\".\",VLOOKUP($K401,'1_Metas_Resultados'!$D$4:$E$403,2,FALSE))),\"Sin Registrar\",CONCATENATE($S401,\".\",VLOOKUP($K401,'1_Metas_Resultados'!$D$4:$E$403,2,FALSE)))","v":"Sin Registrar"},{"$f":"IF(ISERROR(CONCATENATE($S401,\".\",VLOOKUP($L401,'1_Metas_Resultados'!$D$4:$E$403,2,FALSE))),\"Sin Registrar\",CONCATENATE($S401,\".\",VLOOKUP($L401,'1_Metas_Resultados'!$D$4:$E$403,2,FALSE)))","v":"Sin Registrar"},{"$f":"IF(ISERROR(VLOOKUP(G401,'1_Metas_Resultados'!$D$4:$I$403,6,FALSE)),\"\",VLOOKUP(G401,'1_Metas_Resultados'!$D$4:$I$403,6,FALSE))","v":""}]
[{"$f":"IF(ISERROR(CONCATENATE($S402,\".\",VLOOKUP($G402,'1_Metas_Resultados'!$D$4:$E$403,2,FALSE))),\"Sin Registrar\",CONCATENATE($S402,\".\",VLOOKUP($G402,'1_Metas_Resultados'!$D$4:$E$403,2,FALSE)))","v":"Sin Registrar"},401," ",{"$f":"IF(ISERROR(CONCATENATE($S402,\".\",VLOOKUP($K402,'1_Metas_Resultados'!$D$4:$E$403,2,FALSE))),\"Sin Registrar\",CONCATENATE($S402,\".\",VLOOKUP($K402,'1_Metas_Resultados'!$D$4:$E$403,2,FALSE)))","v":"Sin Registrar"},{"$f":"IF(ISERROR(CONCATENATE($S402,\".\",VLOOKUP($L402,'1_Metas_Resultados'!$D$4:$E$403,2,FALSE))),\"Sin Registrar\",CONCATENATE($S402,\".\",VLOOKUP($L402,'1_Metas_Resultados'!$D$4:$E$403,2,FALSE)))","v":"Sin Registrar"},{"$f":"IF(ISERROR(VLOOKUP(G402,'1_Metas_Resultados'!$D$4:$I$403,6,FALSE)),\"\",VLOOKUP(G402,'1_Metas_Resultados'!$D$4:$I$403,6,FALSE))","v":""}]
[{"$f":"IF(ISERROR(CONCATENATE($S403,\".\",VLOOKUP($G403,'1_Metas_Resultados'!$D$4:$E$403,2,FALSE))),\"Sin Registrar\",CONCATENATE($S403,\".\",VLOOKUP($G403,'1_Metas_Resultados'!$D$4:$E$403,2,FALSE)))","v":"Sin Registrar"},402," ",{"$f":"IF(ISERROR(CONCATENATE($S403,\".\",VLOOKUP($K403,'1_Metas_Resultados'!$D$4:$E$403,2,FALSE))),\"Sin Registrar\",CONCATENATE($S403,\".\",VLOOKUP($K403,'1_Metas_Resultados'!$D$4:$E$403,2,FALSE)))","v":"Sin Registrar"},{"$f":"IF(ISERROR(CONCATENATE($S403,\".\",VLOOKUP($L403,'1_Metas_Resultados'!$D$4:$E$403,2,FALSE))),\"Sin Registrar\",CONCATENATE($S403,\".\",VLOOKUP($L403,'1_Metas_Resultados'!$D$4:$E$403,2,FALSE)))","v":"Sin Registrar"},{"$f":"IF(ISERROR(VLOOKUP(G403,'1_Metas_Resultados'!$D$4:$I$403,6,FALSE)),\"\",VLOOKUP(G403,'1_Metas_Resultados'!$D$4:$I$403,6,FALSE))","v":""}]
[{"$f":"IF(ISERROR(CONCATENATE($S404,\".\",VLOOKUP($G404,'1_Metas_Resultados'!$D$4:$E$403,2,FALSE))),\"Sin Registrar\",CONCATENATE($S404,\".\",VLOOKUP($G404,'1_Metas_Resultados'!$D$4:$E$403,2,FALSE)))","v":"Sin Registrar"},403," ",{"$f":"IF(ISERROR(CONCATENATE($S404,\".\",VLOOKUP($K404,'1_Metas_Resultados'!$D$4:$E$403,2,FALSE))),\"Sin Registrar\",CONCATENATE($S404,\".\",VLOOKUP($K404,'1_Metas_Resultados'!$D$4:$E$403,2,FALSE)))","v":"Sin Registrar"},{"$f":"IF(ISERROR(CONCATENATE($S404,\".\",VLOOKUP($L404,'1_Metas_Resultados'!$D$4:$E$403,2,FALSE))),\"Sin Registrar\",CONCATENATE($S404,\".\",VLOOKUP($L404,'1_Metas_Resultados'!$D$4:$E$403,2,FALSE)))","v":"Sin Registrar"},{"$f":"IF(ISERROR(VLOOKUP(G404,'1_Metas_Resultados'!$D$4:$I$403,6,FALSE)),\"\",VLOOKUP(G404,'1_Metas_Resultados'!$D$4:$I$403,6,FALSE))","v":""}]
[{"$f":"IF(ISERROR(CONCATENATE($S405,\".\",VLOOKUP($G405,'1_Metas_Resultados'!$D$4:$E$403,2,FALSE))),\"Sin Registrar\",CONCATENATE($S405,\".\",VLOOKUP($G405,'1_Metas_Resultados'!$D$4:$E$403,2,FALSE)))","v":"Sin Registrar"},404," ",{"$f":"IF(ISERROR(CONCATENATE($S405,\".\",VLOOKUP($K405,'1_Metas_Resultados'!$D$4:$E$403,2,FALSE))),\"Sin Registrar\",CONCATENATE($S405,\".\",VLOOKUP($K405,'1_Metas_Resultados'!$D$4:$E$403,2,FALSE)))","v":"Sin Registrar"},{"$f":"IF(ISERROR(CONCATENATE($S405,\".\",VLOOKUP($L405,'1_Metas_Resultados'!$D$4:$E$403,2,FALSE))),\"Sin Registrar\",CONCATENATE($S405,\".\",VLOOKUP($L405,'1_Metas_Resultados'!$D$4:$E$403,2,FALSE)))","v":"Sin Registrar"},{"$f":"IF(ISERROR(VLOOKUP(G405,'1_Metas_Resultados'!$D$4:$I$403,6,FALSE)),\"\",VLOOKUP(G405,'1_Metas_Resultados'!$D$4:$I$403,6,FALSE))","v":""}]
[{"$f":"IF(ISERROR(CONCATENATE($S406,\".\",VLOOKUP($G406,'1_Metas_Resultados'!$D$4:$E$403,2,FALSE))),\"Sin Registrar\",CONCATENATE($S406,\".\",VLOOKUP($G406,'1_Metas_Resultados'!$D$4:$E$403,2,FALSE)))","v":"Sin Registrar"},405," ",{"$f":"IF(ISERROR(CONCATENATE($S406,\".\",VLOOKUP($K406,'1_Metas_Resultados'!$D$4:$E$403,2,FALSE))),\"Sin Registrar\",CONCATENATE($S406,\".\",VLOOKUP($K406,'1_Metas_Resultados'!$D$4:$E$403,2,FALSE)))","v":"Sin Registrar"},{"$f":"IF(ISERROR(CONCATENATE($S406,\".\",VLOOKUP($L406,'1_Metas_Resultados'!$D$4:$E$403,2,FALSE))),\"Sin Registrar\",CONCATENATE($S406,\".\",VLOOKUP($L406,'1_Metas_Resultados'!$D$4:$E$403,2,FALSE)))","v":"Sin Registrar"},{"$f":"IF(ISERROR(VLOOKUP(G406,'1_Metas_Resultados'!$D$4:$I$403,6,FALSE)),\"\",VLOOKUP(G406,'1_Metas_Resultados'!$D$4:$I$403,6,FALSE))","v":""}]
[{"$f":"IF(ISERROR(CONCATENATE($S407,\".\",VLOOKUP($G407,'1_Metas_Resultados'!$D$4:$E$403,2,FALSE))),\"Sin Registrar\",CONCATENATE($S407,\".\",VLOOKUP($G407,'1_Metas_Resultados'!$D$4:$E$403,2,FALSE)))","v":"Sin Registrar"},406," ",{"$f":"IF(ISERROR(CONCATENATE($S407,\".\",VLOOKUP($K407,'1_Metas_Resultados'!$D$4:$E$403,2,FALSE))),\"Sin Registrar\",CONCATENATE($S407,\".\",VLOOKUP($K407,'1_Metas_Resultados'!$D$4:$E$403,2,FALSE)))","v":"Sin Registrar"},{"$f":"IF(ISERROR(CONCATENATE($S407,\".\",VLOOKUP($L407,'1_Metas_Resultados'!$D$4:$E$403,2,FALSE))),\"Sin Registrar\",CONCATENATE($S407,\".\",VLOOKUP($L407,'1_Metas_Resultados'!$D$4:$E$403,2,FALSE)))","v":"Sin Registrar"},{"$f":"IF(ISERROR(VLOOKUP(G407,'1_Metas_Resultados'!$D$4:$I$403,6,FALSE)),\"\",VLOOKUP(G407,'1_Metas_Resultados'!$D$4:$I$403,6,FALSE))","v":""}]
[{"$f":"IF(ISERROR(CONCATENATE($S408,\".\",VLOOKUP($G408,'1_Metas_Resultados'!$D$4:$E$403,2,FALSE))),\"Sin Registrar\",CONCATENATE($S408,\".\",VLOOKUP($G408,'1_Metas_Resultados'!$D$4:$E$403,2,FALSE)))","v":"Sin Registrar"},407," ",{"$f":"IF(ISERROR(CONCATENATE($S408,\".\",VLOOKUP($K408,'1_Metas_Resultados'!$D$4:$E$403,2,FALSE))),\"Sin Registrar\",CONCATENATE($S408,\".\",VLOOKUP($K408,'1_Metas_Resultados'!$D$4:$E$403,2,FALSE)))","v":"Sin Registrar"},{"$f":"IF(ISERROR(CONCATENATE($S408,\".\",VLOOKUP($L408,'1_Metas_Resultados'!$D$4:$E$403,2,FALSE))),\"Sin Registrar\",CONCATENATE($S408,\".\",VLOOKUP($L408,'1_Metas_Resultados'!$D$4:$E$403,2,FALSE)))","v":"Sin Registrar"},{"$f":"IF(ISERROR(VLOOKUP(G408,'1_Metas_Resultados'!$D$4:$I$403,6,FALSE)),\"\",VLOOKUP(G408,'1_Metas_Resultados'!$D$4:$I$403,6,FALSE))","v":""}]
[{"$f":"IF(ISERROR(CONCATENATE($S409,\".\",VLOOKUP($G409,'1_Metas_Resultados'!$D$4:$E$403,2,FALSE))),\"Sin Registrar\",CONCATENATE($S409,\".\",VLOOKUP($G409,'1_Metas_Resultados'!$D$4:$E$403,2,FALSE)))","v":"Sin Registrar"},408," ",{"$f":"IF(ISERROR(CONCATENATE($S409,\".\",VLOOKUP($K409,'1_Metas_Resultados'!$D$4:$E$403,2,FALSE))),\"Sin Registrar\",CONCATENATE($S409,\".\",VLOOKUP($K409,'1_Metas_Resultados'!$D$4:$E$403,2,FALSE)))","v":"Sin Registrar"},{"$f":"IF(ISERROR(CONCATENATE($S409,\".\",VLOOKUP($L409,'1_Metas_Resultados'!$D$4:$E$403,2,FALSE))),\"Sin Registrar\",CONCATENATE($S409,\".\",VLOOKUP($L409,'1_Metas_Resultados'!$D$4:$E$403,2,FALSE)))","v":"Sin Registrar"},{"$f":"IF(ISERROR(VLOOKUP(G409,'1_Metas_Resultados'!$D$4:$I$403,6,FALSE)),\"\",VLOOKUP(G409,'1_Metas_Resultados'!$D$4:$I$403,6,FALSE))","v":""}]
[{"$f":"IF(ISERROR(CONCATENATE($S410,\".\",VLOOKUP($G410,'1_Metas_Resultados'!$D$4:$E$403,2,FALSE))),\"Sin Registrar\",CONCATENATE($S410,\".\",VLOOKUP($G410,'1_Metas_Resultados'!$D$4:$E$403,2,FALSE)))","v":"Sin Registrar"},409," ",{"$f":"IF(ISERROR(CONCATENATE($S410,\".\",VLOOKUP($K410,'1_Metas_Resultados'!$D$4:$E$403,2,FALSE))),\"Sin Registrar\",CONCATENATE($S410,\".\",VLOOKUP($K410,'1_Metas_Resultados'!$D$4:$E$403,2,FALSE)))","v":"Sin Registrar"},{"$f":"IF(ISERROR(CONCATENATE($S410,\".\",VLOOKUP($L410,'1_Metas_Resultados'!$D$4:$E$403,2,FALSE))),\"Sin Registrar\",CONCATENATE($S410,\".\",VLOOKUP($L410,'1_Metas_Resultados'!$D$4:$E$403,2,FALSE)))","v":"Sin Registrar"},{"$f":"IF(ISERROR(VLOOKUP(G410,'1_Metas_Resultados'!$D$4:$I$403,6,FALSE)),\"\",VLOOKUP(G410,'1_Metas_Resultados'!$D$4:$I$403,6,FALSE))","v":""}]
[{"$f":"IF(ISERROR(CONCATENATE($S411,\".\",VLOOKUP($G411,'1_Metas_Resultados'!$D$4:$E$403,2,FALSE))),\"Sin Registrar\",CONCATENATE($S411,\".\",VLOOKUP($G411,'1_Metas_Resultados'!$D$4:$E$403,2,FALSE)))","v":"Sin Registrar"},410," ",{"$f":"IF(ISERROR(CONCATENATE($S411,\".\",VLOOKUP($K411,'1_Metas_Resultados'!$D$4:$E$403,2,FALSE))),\"Sin Registrar\",CONCATENATE($S411,\".\",VLOOKUP($K411,'1_Metas_Resultados'!$D$4:$E$403,2,FALSE)))","v":"Sin Registrar"},{"$f":"IF(ISERROR(CONCATENATE($S411,\".\",VLOOKUP($L411,'1_Metas_Resultados'!$D$4:$E$403,2,FALSE))),\"Sin Registrar\",CONCATENATE($S411,\".\",VLOOKUP($L411,'1_Metas_Resultados'!$D$4:$E$403,2,FALSE)))","v":"Sin Registrar"},{"$f":"IF(ISERROR(VLOOKUP(G411,'1_Metas_Resultados'!$D$4:$I$403,6,FALSE)),\"\",VLOOKUP(G411,'1_Metas_Resultados'!$D$4:$I$403,6,FALSE))","v":""}]
[{"$f":"IF(ISERROR(CONCATENATE($S412,\".\",VLOOKUP($G412,'1_Metas_Resultados'!$D$4:$E$403,2,FALSE))),\"Sin Registrar\",CONCATENATE($S412,\".\",VLOOKUP($G412,'1_Metas_Resultados'!$D$4:$E$403,2,FALSE)))","v":"Sin Registrar"},411," ",{"$f":"IF(ISERROR(CONCATENATE($S412,\".\",VLOOKUP($K412,'1_Metas_Resultados'!$D$4:$E$403,2,FALSE))),\"Sin Registrar\",CONCATENATE($S412,\".\",VLOOKUP($K412,'1_Metas_Resultados'!$D$4:$E$403,2,FALSE)))","v":"Sin Registrar"},{"$f":"IF(ISERROR(CONCATENATE($S412,\".\",VLOOKUP($L412,'1_Metas_Resultados'!$D$4:$E$403,2,FALSE))),\"Sin Registrar\",CONCATENATE($S412,\".\",VLOOKUP($L412,'1_Metas_Resultados'!$D$4:$E$403,2,FALSE)))","v":"Sin Registrar"},{"$f":"IF(ISERROR(VLOOKUP(G412,'1_Metas_Resultados'!$D$4:$I$403,6,FALSE)),\"\",VLOOKUP(G412,'1_Metas_Resultados'!$D$4:$I$403,6,FALSE))","v":""}]
[{"$f":"IF(ISERROR(CONCATENATE($S413,\".\",VLOOKUP($G413,'1_Metas_Resultados'!$D$4:$E$403,2,FALSE))),\"Sin Registrar\",CONCATENATE($S413,\".\",VLOOKUP($G413,'1_Metas_Resultados'!$D$4:$E$403,2,FALSE)))","v":"Sin Registrar"},412," ",{"$f":"IF(ISERROR(CONCATENATE($S413,\".\",VLOOKUP($K413,'1_Metas_Resultados'!$D$4:$E$403,2,FALSE))),\"Sin Registrar\",CONCATENATE($S413,\".\",VLOOKUP($K413,'1_Metas_Resultados'!$D$4:$E$403,2,FALSE)))","v":"Sin Registrar"},{"$f":"IF(ISERROR(CONCATENATE($S413,\".\",VLOOKUP($L413,'1_Metas_Resultados'!$D$4:$E$403,2,FALSE))),\"Sin Registrar\",CONCATENATE($S413,\".\",VLOOKUP($L413,'1_Metas_Resultados'!$D$4:$E$403,2,FALSE)))","v":"Sin Registrar"},{"$f":"IF(ISERROR(VLOOKUP(G413,'1_Metas_Resultados'!$D$4:$I$403,6,FALSE)),\"\",VLOOKUP(G413,'1_Metas_Resultados'!$D$4:$I$403,6,FALSE))","v":""}]
[{"$f":"IF(ISERROR(CONCATENATE($S414,\".\",VLOOKUP($G414,'1_Metas_Resultados'!$D$4:$E$403,2,FALSE))),\"Sin Registrar\",CONCATENATE($S414,\".\",VLOOKUP($G414,'1_Metas_Resultados'!$D$4:$E$403,2,FALSE)))","v":"Sin Registrar"},413," ",{"$f":"IF(ISERROR(CONCATENATE($S414,\".\",VLOOKUP($K414,'1_Metas_Resultados'!$D$4:$E$403,2,FALSE))),\"Sin Registrar\",CONCATENATE($S414,\".\",VLOOKUP($K414,'1_Metas_Resultados'!$D$4:$E$403,2,FALSE)))","v":"Sin Registrar"},{"$f":"IF(ISERROR(CONCATENATE($S414,\".\",VLOOKUP($L414,'1_Metas_Resultados'!$D$4:$E$403,2,FALSE))),\"Sin Registrar\",CONCATENATE($S414,\".\",VLOOKUP($L414,'1_Metas_Resultados'!$D$4:$E$403,2,FALSE)))","v":"Sin Registrar"},{"$f":"IF(ISERROR(VLOOKUP(G414,'1_Metas_Resultados'!$D$4:$I$403,6,FALSE)),\"\",VLOOKUP(G414,'1_Metas_Resultados'!$D$4:$I$403,6,FALSE))","v":""}]
[{"$f":"IF(ISERROR(CONCATENATE($S415,\".\",VLOOKUP($G415,'1_Metas_Resultados'!$D$4:$E$403,2,FALSE))),\"Sin Registrar\",CONCATENATE($S415,\".\",VLOOKUP($G415,'1_Metas_Resultados'!$D$4:$E$403,2,FALSE)))","v":"Sin Registrar"},414," ",{"$f":"IF(ISERROR(CONCATENATE($S415,\".\",VLOOKUP($K415,'1_Metas_Resultados'!$D$4:$E$403,2,FALSE))),\"Sin Registrar\",CONCATENATE($S415,\".\",VLOOKUP($K415,'1_Metas_Resultados'!$D$4:$E$403,2,FALSE)))","v":"Sin Registrar"},{"$f":"IF(ISERROR(CONCATENATE($S415,\".\",VLOOKUP($L415,'1_Metas_Resultados'!$D$4:$E$403,2,FALSE))),\"Sin Registrar\",CONCATENATE($S415,\".\",VLOOKUP($L415,'1_Metas_Resultados'!$D$4:$E$403,2,FALSE)))","v":"Sin Registrar"},{"$f":"IF(ISERROR(VLOOKUP(G415,'1_Metas_Resultados'!$D$4:$I$403,6,FALSE)),\"\",VLOOKUP(G415,'1_Metas_Resultados'!$D$4:$I$403,6,FALSE))","v":""}]
[{"$f":"IF(ISERROR(CONCATENATE($S416,\".\",VLOOKUP($G416,'1_Metas_Resultados'!$D$4:$E$403,2,FALSE))),\"Sin Registrar\",CONCATENATE($S416,\".\",VLOOKUP($G416,'1_Metas_Resultados'!$D$4:$E$403,2,FALSE)))","v":"Sin Registrar"},415," ",{"$f":"IF(ISERROR(CONCATENATE($S416,\".\",VLOOKUP($K416,'1_Metas_Resultados'!$D$4:$E$403,2,FALSE))),\"Sin Registrar\",CONCATENATE($S416,\".\",VLOOKUP($K416,'1_Metas_Resultados'!$D$4:$E$403,2,FALSE)))","v":"Sin Registrar"},{"$f":"IF(ISERROR(CONCATENATE($S416,\".\",VLOOKUP($L416,'1_Metas_Resultados'!$D$4:$E$403,2,FALSE))),\"Sin Registrar\",CONCATENATE($S416,\".\",VLOOKUP($L416,'1_Metas_Resultados'!$D$4:$E$403,2,FALSE)))","v":"Sin Registrar"},{"$f":"IF(ISERROR(VLOOKUP(G416,'1_Metas_Resultados'!$D$4:$I$403,6,FALSE)),\"\",VLOOKUP(G416,'1_Metas_Resultados'!$D$4:$I$403,6,FALSE))","v":""}]
[{"$f":"IF(ISERROR(CONCATENATE($S417,\".\",VLOOKUP($G417,'1_Metas_Resultados'!$D$4:$E$403,2,FALSE))),\"Sin Registrar\",CONCATENATE($S417,\".\",VLOOKUP($G417,'1_Metas_Resultados'!$D$4:$E$403,2,FALSE)))","v":"Sin Registrar"},416," ",{"$f":"IF(ISERROR(CONCATENATE($S417,\".\",VLOOKUP($K417,'1_Metas_Resultados'!$D$4:$E$403,2,FALSE))),\"Sin Registrar\",CONCATENATE($S417,\".\",VLOOKUP($K417,'1_Metas_Resultados'!$D$4:$E$403,2,FALSE)))","v":"Sin Registrar"},{"$f":"IF(ISERROR(CONCATENATE($S417,\".\",VLOOKUP($L417,'1_Metas_Resultados'!$D$4:$E$403,2,FALSE))),\"Sin Registrar\",CONCATENATE($S417,\".\",VLOOKUP($L417,'1_Metas_Resultados'!$D$4:$E$403,2,FALSE)))","v":"Sin Registrar"},{"$f":"IF(ISERROR(VLOOKUP(G417,'1_Metas_Resultados'!$D$4:$I$403,6,FALSE)),\"\",VLOOKUP(G417,'1_Metas_Resultados'!$D$4:$I$403,6,FALSE))","v":""}]
[{"$f":"IF(ISERROR(CONCATENATE($S418,\".\",VLOOKUP($G418,'1_Metas_Resultados'!$D$4:$E$403,2,FALSE))),\"Sin Registrar\",CONCATENATE($S418,\".\",VLOOKUP($G418,'1_Metas_Resultados'!$D$4:$E$403,2,FALSE)))","v":"Sin Registrar"},417," ",{"$f":"IF(ISERROR(CONCATENATE($S418,\".\",VLOOKUP($K418,'1_Metas_Resultados'!$D$4:$E$403,2,FALSE))),\"Sin Registrar\",CONCATENATE($S418,\".\",VLOOKUP($K418,'1_Metas_Resultados'!$D$4:$E$403,2,FALSE)))","v":"Sin Registrar"},{"$f":"IF(ISERROR(CONCATENATE($S418,\".\",VLOOKUP($L418,'1_Metas_Resultados'!$D$4:$E$403,2,FALSE))),\"Sin Registrar\",CONCATENATE($S418,\".\",VLOOKUP($L418,'1_Metas_Resultados'!$D$4:$E$403,2,FALSE)))","v":"Sin Registrar"},{"$f":"IF(ISERROR(VLOOKUP(G418,'1_Metas_Resultados'!$D$4:$I$403,6,FALSE)),\"\",VLOOKUP(G418,'1_Metas_Resultados'!$D$4:$I$403,6,FALSE))","v":""}]
[{"$f":"IF(ISERROR(CONCATENATE($S419,\".\",VLOOKUP($G419,'1_Metas_Resultados'!$D$4:$E$403,2,FALSE))),\"Sin Registrar\",CONCATENATE($S419,\".\",VLOOKUP($G419,'1_Metas_Resultados'!$D$4:$E$403,2,FALSE)))","v":"Sin Registrar"},418," ",{"$f":"IF(ISERROR(CONCATENATE($S419,\".\",VLOOKUP($K419,'1_Metas_Resultados'!$D$4:$E$403,2,FALSE))),\"Sin Registrar\",CONCATENATE($S419,\".\",VLOOKUP($K419,'1_Metas_Resultados'!$D$4:$E$403,2,FALSE)))","v":"Sin Registrar"},{"$f":"IF(ISERROR(CONCATENATE($S419,\".\",VLOOKUP($L419,'1_Metas_Resultados'!$D$4:$E$403,2,FALSE))),\"Sin Registrar\",CONCATENATE($S419,\".\",VLOOKUP($L419,'1_Metas_Resultados'!$D$4:$E$403,2,FALSE)))","v":"Sin Registrar"},{"$f":"IF(ISERROR(VLOOKUP(G419,'1_Metas_Resultados'!$D$4:$I$403,6,FALSE)),\"\",VLOOKUP(G419,'1_Metas_Resultados'!$D$4:$I$403,6,FALSE))","v":""}]
[{"$f":"IF(ISERROR(CONCATENATE($S420,\".\",VLOOKUP($G420,'1_Metas_Resultados'!$D$4:$E$403,2,FALSE))),\"Sin Registrar\",CONCATENATE($S420,\".\",VLOOKUP($G420,'1_Metas_Resultados'!$D$4:$E$403,2,FALSE)))","v":"Sin Registrar"},419," ",{"$f":"IF(ISERROR(CONCATENATE($S420,\".\",VLOOKUP($K420,'1_Metas_Resultados'!$D$4:$E$403,2,FALSE))),\"Sin Registrar\",CONCATENATE($S420,\".\",VLOOKUP($K420,'1_Metas_Resultados'!$D$4:$E$403,2,FALSE)))","v":"Sin Registrar"},{"$f":"IF(ISERROR(CONCATENATE($S420,\".\",VLOOKUP($L420,'1_Metas_Resultados'!$D$4:$E$403,2,FALSE))),\"Sin Registrar\",CONCATENATE($S420,\".\",VLOOKUP($L420,'1_Metas_Resultados'!$D$4:$E$403,2,FALSE)))","v":"Sin Registrar"},{"$f":"IF(ISERROR(VLOOKUP(G420,'1_Metas_Resultados'!$D$4:$I$403,6,FALSE)),\"\",VLOOKUP(G420,'1_Metas_Resultados'!$D$4:$I$403,6,FALSE))","v":""}]
[{"$f":"IF(ISERROR(CONCATENATE($S421,\".\",VLOOKUP($G421,'1_Metas_Resultados'!$D$4:$E$403,2,FALSE))),\"Sin Registrar\",CONCATENATE($S421,\".\",VLOOKUP($G421,'1_Metas_Resultados'!$D$4:$E$403,2,FALSE)))","v":"Sin Registrar"},420," ",{"$f":"IF(ISERROR(CONCATENATE($S421,\".\",VLOOKUP($K421,'1_Metas_Resultados'!$D$4:$E$403,2,FALSE))),\"Sin Registrar\",CONCATENATE($S421,\".\",VLOOKUP($K421,'1_Metas_Resultados'!$D$4:$E$403,2,FALSE)))","v":"Sin Registrar"},{"$f":"IF(ISERROR(CONCATENATE($S421,\".\",VLOOKUP($L421,'1_Metas_Resultados'!$D$4:$E$403,2,FALSE))),\"Sin Registrar\",CONCATENATE($S421,\".\",VLOOKUP($L421,'1_Metas_Resultados'!$D$4:$E$403,2,FALSE)))","v":"Sin Registrar"},{"$f":"IF(ISERROR(VLOOKUP(G421,'1_Metas_Resultados'!$D$4:$I$403,6,FALSE)),\"\",VLOOKUP(G421,'1_Metas_Resultados'!$D$4:$I$403,6,FALSE))","v":""}]
[{"$f":"IF(ISERROR(CONCATENATE($S422,\".\",VLOOKUP($G422,'1_Metas_Resultados'!$D$4:$E$403,2,FALSE))),\"Sin Registrar\",CONCATENATE($S422,\".\",VLOOKUP($G422,'1_Metas_Resultados'!$D$4:$E$403,2,FALSE)))","v":"Sin Registrar"},421," ",{"$f":"IF(ISERROR(CONCATENATE($S422,\".\",VLOOKUP($K422,'1_Metas_Resultados'!$D$4:$E$403,2,FALSE))),\"Sin Registrar\",CONCATENATE($S422,\".\",VLOOKUP($K422,'1_Metas_Resultados'!$D$4:$E$403,2,FALSE)))","v":"Sin Registrar"},{"$f":"IF(ISERROR(CONCATENATE($S422,\".\",VLOOKUP($L422,'1_Metas_Resultados'!$D$4:$E$403,2,FALSE))),\"Sin Registrar\",CONCATENATE($S422,\".\",VLOOKUP($L422,'1_Metas_Resultados'!$D$4:$E$403,2,FALSE)))","v":"Sin Registrar"},{"$f":"IF(ISERROR(VLOOKUP(G422,'1_Metas_Resultados'!$D$4:$I$403,6,FALSE)),\"\",VLOOKUP(G422,'1_Metas_Resultados'!$D$4:$I$403,6,FALSE))","v":""}]
[{"$f":"IF(ISERROR(CONCATENATE($S423,\".\",VLOOKUP($G423,'1_Metas_Resultados'!$D$4:$E$403,2,FALSE))),\"Sin Registrar\",CONCATENATE($S423,\".\",VLOOKUP($G423,'1_Metas_Resultados'!$D$4:$E$403,2,FALSE)))","v":"Sin Registrar"},422," ",{"$f":"IF(ISERROR(CONCATENATE($S423,\".\",VLOOKUP($K423,'1_Metas_Resultados'!$D$4:$E$403,2,FALSE))),\"Sin Registrar\",CONCATENATE($S423,\".\",VLOOKUP($K423,'1_Metas_Resultados'!$D$4:$E$403,2,FALSE)))","v":"Sin Registrar"},{"$f":"IF(ISERROR(CONCATENATE($S423,\".\",VLOOKUP($L423,'1_Metas_Resultados'!$D$4:$E$403,2,FALSE))),\"Sin Registrar\",CONCATENATE($S423,\".\",VLOOKUP($L423,'1_Metas_Resultados'!$D$4:$E$403,2,FALSE)))","v":"Sin Registrar"},{"$f":"IF(ISERROR(VLOOKUP(G423,'1_Metas_Resultados'!$D$4:$I$403,6,FALSE)),\"\",VLOOKUP(G423,'1_Metas_Resultados'!$D$4:$I$403,6,FALSE))","v":""}]
[{"$f":"IF(ISERROR(CONCATENATE($S424,\".\",VLOOKUP($G424,'1_Metas_Resultados'!$D$4:$E$403,2,FALSE))),\"Sin Registrar\",CONCATENATE($S424,\".\",VLOOKUP($G424,'1_Metas_Resultados'!$D$4:$E$403,2,FALSE)))","v":"Sin Registrar"},423," ",{"$f":"IF(ISERROR(CONCATENATE($S424,\".\",VLOOKUP($K424,'1_Metas_Resultados'!$D$4:$E$403,2,FALSE))),\"Sin Registrar\",CONCATENATE($S424,\".\",VLOOKUP($K424,'1_Metas_Resultados'!$D$4:$E$403,2,FALSE)))","v":"Sin Registrar"},{"$f":"IF(ISERROR(CONCATENATE($S424,\".\",VLOOKUP($L424,'1_Metas_Resultados'!$D$4:$E$403,2,FALSE))),\"Sin Registrar\",CONCATENATE($S424,\".\",VLOOKUP($L424,'1_Metas_Resultados'!$D$4:$E$403,2,FALSE)))","v":"Sin Registrar"},{"$f":"IF(ISERROR(VLOOKUP(G424,'1_Metas_Resultados'!$D$4:$I$403,6,FALSE)),\"\",VLOOKUP(G424,'1_Metas_Resultados'!$D$4:$I$403,6,FALSE))","v":""}]
[{"$f":"IF(ISERROR(CONCATENATE($S425,\".\",VLOOKUP($G425,'1_Metas_Resultados'!$D$4:$E$403,2,FALSE))),\"Sin Registrar\",CONCATENATE($S425,\".\",VLOOKUP($G425,'1_Metas_Resultados'!$D$4:$E$403,2,FALSE)))","v":"Sin Registrar"},424," ",{"$f":"IF(ISERROR(CONCATENATE($S425,\".\",VLOOKUP($K425,'1_Metas_Resultados'!$D$4:$E$403,2,FALSE))),\"Sin Registrar\",CONCATENATE($S425,\".\",VLOOKUP($K425,'1_Metas_Resultados'!$D$4:$E$403,2,FALSE)))","v":"Sin Registrar"},{"$f":"IF(ISERROR(CONCATENATE($S425,\".\",VLOOKUP($L425,'1_Metas_Resultados'!$D$4:$E$403,2,FALSE))),\"Sin Registrar\",CONCATENATE($S425,\".\",VLOOKUP($L425,'1_Metas_Resultados'!$D$4:$E$403,2,FALSE)))","v":"Sin Registrar"},{"$f":"IF(ISERROR(VLOOKUP(G425,'1_Metas_Resultados'!$D$4:$I$403,6,FALSE)),\"\",VLOOKUP(G425,'1_Metas_Resultados'!$D$4:$I$403,6,FALSE))","v":""}]
[{"$f":"IF(ISERROR(CONCATENATE($S426,\".\",VLOOKUP($G426,'1_Metas_Resultados'!$D$4:$E$403,2,FALSE))),\"Sin Registrar\",CONCATENATE($S426,\".\",VLOOKUP($G426,'1_Metas_Resultados'!$D$4:$E$403,2,FALSE)))","v":"Sin Registrar"},425," ",{"$f":"IF(ISERROR(CONCATENATE($S426,\".\",VLOOKUP($K426,'1_Metas_Resultados'!$D$4:$E$403,2,FALSE))),\"Sin Registrar\",CONCATENATE($S426,\".\",VLOOKUP($K426,'1_Metas_Resultados'!$D$4:$E$403,2,FALSE)))","v":"Sin Registrar"},{"$f":"IF(ISERROR(CONCATENATE($S426,\".\",VLOOKUP($L426,'1_Metas_Resultados'!$D$4:$E$403,2,FALSE))),\"Sin Registrar\",CONCATENATE($S426,\".\",VLOOKUP($L426,'1_Metas_Resultados'!$D$4:$E$403,2,FALSE)))","v":"Sin Registrar"},{"$f":"IF(ISERROR(VLOOKUP(G426,'1_Metas_Resultados'!$D$4:$I$403,6,FALSE)),\"\",VLOOKUP(G426,'1_Metas_Resultados'!$D$4:$I$403,6,FALSE))","v":""}]
[{"$f":"IF(ISERROR(CONCATENATE($S427,\".\",VLOOKUP($G427,'1_Metas_Resultados'!$D$4:$E$403,2,FALSE))),\"Sin Registrar\",CONCATENATE($S427,\".\",VLOOKUP($G427,'1_Metas_Resultados'!$D$4:$E$403,2,FALSE)))","v":"Sin Registrar"},426," ",{"$f":"IF(ISERROR(CONCATENATE($S427,\".\",VLOOKUP($K427,'1_Metas_Resultados'!$D$4:$E$403,2,FALSE))),\"Sin Registrar\",CONCATENATE($S427,\".\",VLOOKUP($K427,'1_Metas_Resultados'!$D$4:$E$403,2,FALSE)))","v":"Sin Registrar"},{"$f":"IF(ISERROR(CONCATENATE($S427,\".\",VLOOKUP($L427,'1_Metas_Resultados'!$D$4:$E$403,2,FALSE))),\"Sin Registrar\",CONCATENATE($S427,\".\",VLOOKUP($L427,'1_Metas_Resultados'!$D$4:$E$403,2,FALSE)))","v":"Sin Registrar"},{"$f":"IF(ISERROR(VLOOKUP(G427,'1_Metas_Resultados'!$D$4:$I$403,6,FALSE)),\"\",VLOOKUP(G427,'1_Metas_Resultados'!$D$4:$I$403,6,FALSE))","v":""}]
[{"$f":"IF(ISERROR(CONCATENATE($S428,\".\",VLOOKUP($G428,'1_Metas_Resultados'!$D$4:$E$403,2,FALSE))),\"Sin Registrar\",CONCATENATE($S428,\".\",VLOOKUP($G428,'1_Metas_Resultados'!$D$4:$E$403,2,FALSE)))","v":"Sin Registrar"},427," ",{"$f":"IF(ISERROR(CONCATENATE($S428,\".\",VLOOKUP($K428,'1_Metas_Resultados'!$D$4:$E$403,2,FALSE))),\"Sin Registrar\",CONCATENATE($S428,\".\",VLOOKUP($K428,'1_Metas_Resultados'!$D$4:$E$403,2,FALSE)))","v":"Sin Registrar"},{"$f":"IF(ISERROR(CONCATENATE($S428,\".\",VLOOKUP($L428,'1_Metas_Resultados'!$D$4:$E$403,2,FALSE))),\"Sin Registrar\",CONCATENATE($S428,\".\",VLOOKUP($L428,'1_Metas_Resultados'!$D$4:$E$403,2,FALSE)))","v":"Sin Registrar"},{"$f":"IF(ISERROR(VLOOKUP(G428,'1_Metas_Resultados'!$D$4:$I$403,6,FALSE)),\"\",VLOOKUP(G428,'1_Metas_Resultados'!$D$4:$I$403,6,FALSE))","v":""}]
[{"$f":"IF(ISERROR(CONCATENATE($S429,\".\",VLOOKUP($G429,'1_Metas_Resultados'!$D$4:$E$403,2,FALSE))),\"Sin Registrar\",CONCATENATE($S429,\".\",VLOOKUP($G429,'1_Metas_Resultados'!$D$4:$E$403,2,FALSE)))","v":"Sin Registrar"},428," ",{"$f":"IF(ISERROR(CONCATENATE($S429,\".\",VLOOKUP($K429,'1_Metas_Resultados'!$D$4:$E$403,2,FALSE))),\"Sin Registrar\",CONCATENATE($S429,\".\",VLOOKUP($K429,'1_Metas_Resultados'!$D$4:$E$403,2,FALSE)))","v":"Sin Registrar"},{"$f":"IF(ISERROR(CONCATENATE($S429,\".\",VLOOKUP($L429,'1_Metas_Resultados'!$D$4:$E$403,2,FALSE))),\"Sin Registrar\",CONCATENATE($S429,\".\",VLOOKUP($L429,'1_Metas_Resultados'!$D$4:$E$403,2,FALSE)))","v":"Sin Registrar"},{"$f":"IF(ISERROR(VLOOKUP(G429,'1_Metas_Resultados'!$D$4:$I$403,6,FALSE)),\"\",VLOOKUP(G429,'1_Metas_Resultados'!$D$4:$I$403,6,FALSE))","v":""}]
[{"$f":"IF(ISERROR(CONCATENATE($S430,\".\",VLOOKUP($G430,'1_Metas_Resultados'!$D$4:$E$403,2,FALSE))),\"Sin Registrar\",CONCATENATE($S430,\".\",VLOOKUP($G430,'1_Metas_Resultados'!$D$4:$E$403,2,FALSE)))","v":"Sin Registrar"},429," ",{"$f":"IF(ISERROR(CONCATENATE($S430,\".\",VLOOKUP($K430,'1_Metas_Resultados'!$D$4:$E$403,2,FALSE))),\"Sin Registrar\",CONCATENATE($S430,\".\",VLOOKUP($K430,'1_Metas_Resultados'!$D$4:$E$403,2,FALSE)))","v":"Sin Registrar"},{"$f":"IF(ISERROR(CONCATENATE($S430,\".\",VLOOKUP($L430,'1_Metas_Resultados'!$D$4:$E$403,2,FALSE))),\"Sin Registrar\",CONCATENATE($S430,\".\",VLOOKUP($L430,'1_Metas_Resultados'!$D$4:$E$403,2,FALSE)))","v":"Sin Registrar"},{"$f":"IF(ISERROR(VLOOKUP(G430,'1_Metas_Resultados'!$D$4:$I$403,6,FALSE)),\"\",VLOOKUP(G430,'1_Metas_Resultados'!$D$4:$I$403,6,FALSE))","v":""}]
[{"$f":"IF(ISERROR(CONCATENATE($S431,\".\",VLOOKUP($G431,'1_Metas_Resultados'!$D$4:$E$403,2,FALSE))),\"Sin Registrar\",CONCATENATE($S431,\".\",VLOOKUP($G431,'1_Metas_Resultados'!$D$4:$E$403,2,FALSE)))","v":"Sin Registrar"},430," ",{"$f":"IF(ISERROR(CONCATENATE($S431,\".\",VLOOKUP($K431,'1_Metas_Resultados'!$D$4:$E$403,2,FALSE))),\"Sin Registrar\",CONCATENATE($S431,\".\",VLOOKUP($K431,'1_Metas_Resultados'!$D$4:$E$403,2,FALSE)))","v":"Sin Registrar"},{"$f":"IF(ISERROR(CONCATENATE($S431,\".\",VLOOKUP($L431,'1_Metas_Resultados'!$D$4:$E$403,2,FALSE))),\"Sin Registrar\",CONCATENATE($S431,\".\",VLOOKUP($L431,'1_Metas_Resultados'!$D$4:$E$403,2,FALSE)))","v":"Sin Registrar"},{"$f":"IF(ISERROR(VLOOKUP(G431,'1_Metas_Resultados'!$D$4:$I$403,6,FALSE)),\"\",VLOOKUP(G431,'1_Metas_Resultados'!$D$4:$I$403,6,FALSE))","v":""}]
[{"$f":"IF(ISERROR(CONCATENATE($S432,\".\",VLOOKUP($G432,'1_Metas_Resultados'!$D$4:$E$403,2,FALSE))),\"Sin Registrar\",CONCATENATE($S432,\".\",VLOOKUP($G432,'1_Metas_Resultados'!$D$4:$E$403,2,FALSE)))","v":"Sin Registrar"},431," ",{"$f":"IF(ISERROR(CONCATENATE($S432,\".\",VLOOKUP($K432,'1_Metas_Resultados'!$D$4:$E$403,2,FALSE))),\"Sin Registrar\",CONCATENATE($S432,\".\",VLOOKUP($K432,'1_Metas_Resultados'!$D$4:$E$403,2,FALSE)))","v":"Sin Registrar"},{"$f":"IF(ISERROR(CONCATENATE($S432,\".\",VLOOKUP($L432,'1_Metas_Resultados'!$D$4:$E$403,2,FALSE))),\"Sin Registrar\",CONCATENATE($S432,\".\",VLOOKUP($L432,'1_Metas_Resultados'!$D$4:$E$403,2,FALSE)))","v":"Sin Registrar"},{"$f":"IF(ISERROR(VLOOKUP(G432,'1_Metas_Resultados'!$D$4:$I$403,6,FALSE)),\"\",VLOOKUP(G432,'1_Metas_Resultados'!$D$4:$I$403,6,FALSE))","v":""}]
[{"$f":"IF(ISERROR(CONCATENATE($S433,\".\",VLOOKUP($G433,'1_Metas_Resultados'!$D$4:$E$403,2,FALSE))),\"Sin Registrar\",CONCATENATE($S433,\".\",VLOOKUP($G433,'1_Metas_Resultados'!$D$4:$E$403,2,FALSE)))","v":"Sin Registrar"},432," ",{"$f":"IF(ISERROR(CONCATENATE($S433,\".\",VLOOKUP($K433,'1_Metas_Resultados'!$D$4:$E$403,2,FALSE))),\"Sin Registrar\",CONCATENATE($S433,\".\",VLOOKUP($K433,'1_Metas_Resultados'!$D$4:$E$403,2,FALSE)))","v":"Sin Registrar"},{"$f":"IF(ISERROR(CONCATENATE($S433,\".\",VLOOKUP($L433,'1_Metas_Resultados'!$D$4:$E$403,2,FALSE))),\"Sin Registrar\",CONCATENATE($S433,\".\",VLOOKUP($L433,'1_Metas_Resultados'!$D$4:$E$403,2,FALSE)))","v":"Sin Registrar"},{"$f":"IF(ISERROR(VLOOKUP(G433,'1_Metas_Resultados'!$D$4:$I$403,6,FALSE)),\"\",VLOOKUP(G433,'1_Metas_Resultados'!$D$4:$I$403,6,FALSE))","v":""}]
[{"$f":"IF(ISERROR(CONCATENATE($S434,\".\",VLOOKUP($G434,'1_Metas_Resultados'!$D$4:$E$403,2,FALSE))),\"Sin Registrar\",CONCATENATE($S434,\".\",VLOOKUP($G434,'1_Metas_Resultados'!$D$4:$E$403,2,FALSE)))","v":"Sin Registrar"},433," ",{"$f":"IF(ISERROR(CONCATENATE($S434,\".\",VLOOKUP($K434,'1_Metas_Resultados'!$D$4:$E$403,2,FALSE))),\"Sin Registrar\",CONCATENATE($S434,\".\",VLOOKUP($K434,'1_Metas_Resultados'!$D$4:$E$403,2,FALSE)))","v":"Sin Registrar"},{"$f":"IF(ISERROR(CONCATENATE($S434,\".\",VLOOKUP($L434,'1_Metas_Resultados'!$D$4:$E$403,2,FALSE))),\"Sin Registrar\",CONCATENATE($S434,\".\",VLOOKUP($L434,'1_Metas_Resultados'!$D$4:$E$403,2,FALSE)))","v":"Sin Registrar"},{"$f":"IF(ISERROR(VLOOKUP(G434,'1_Metas_Resultados'!$D$4:$I$403,6,FALSE)),\"\",VLOOKUP(G434,'1_Metas_Resultados'!$D$4:$I$403,6,FALSE))","v":""}]
[{"$f":"IF(ISERROR(CONCATENATE($S435,\".\",VLOOKUP($G435,'1_Metas_Resultados'!$D$4:$E$403,2,FALSE))),\"Sin Registrar\",CONCATENATE($S435,\".\",VLOOKUP($G435,'1_Metas_Resultados'!$D$4:$E$403,2,FALSE)))","v":"Sin Registrar"},434," ",{"$f":"IF(ISERROR(CONCATENATE($S435,\".\",VLOOKUP($K435,'1_Metas_Resultados'!$D$4:$E$403,2,FALSE))),\"Sin Registrar\",CONCATENATE($S435,\".\",VLOOKUP($K435,'1_Metas_Resultados'!$D$4:$E$403,2,FALSE)))","v":"Sin Registrar"},{"$f":"IF(ISERROR(CONCATENATE($S435,\".\",VLOOKUP($L435,'1_Metas_Resultados'!$D$4:$E$403,2,FALSE))),\"Sin Registrar\",CONCATENATE($S435,\".\",VLOOKUP($L435,'1_Metas_Resultados'!$D$4:$E$403,2,FALSE)))","v":"Sin Registrar"},{"$f":"IF(ISERROR(VLOOKUP(G435,'1_Metas_Resultados'!$D$4:$I$403,6,FALSE)),\"\",VLOOKUP(G435,'1_Metas_Resultados'!$D$4:$I$403,6,FALSE))","v":""}]
[{"$f":"IF(ISERROR(CONCATENATE($S436,\".\",VLOOKUP($G436,'1_Metas_Resultados'!$D$4:$E$403,2,FALSE))),\"Sin Registrar\",CONCATENATE($S436,\".\",VLOOKUP($G436,'1_Metas_Resultados'!$D$4:$E$403,2,FALSE)))","v":"Sin Registrar"},435," ",{"$f":"IF(ISERROR(CONCATENATE($S436,\".\",VLOOKUP($K436,'1_Metas_Resultados'!$D$4:$E$403,2,FALSE))),\"Sin Registrar\",CONCATENATE($S436,\".\",VLOOKUP($K436,'1_Metas_Resultados'!$D$4:$E$403,2,FALSE)))","v":"Sin Registrar"},{"$f":"IF(ISERROR(CONCATENATE($S436,\".\",VLOOKUP($L436,'1_Metas_Resultados'!$D$4:$E$403,2,FALSE))),\"Sin Registrar\",CONCATENATE($S436,\".\",VLOOKUP($L436,'1_Metas_Resultados'!$D$4:$E$403,2,FALSE)))","v":"Sin Registrar"},{"$f":"IF(ISERROR(VLOOKUP(G436,'1_Metas_Resultados'!$D$4:$I$403,6,FALSE)),\"\",VLOOKUP(G436,'1_Metas_Resultados'!$D$4:$I$403,6,FALSE))","v":""}]
[{"$f":"IF(ISERROR(CONCATENATE($S437,\".\",VLOOKUP($G437,'1_Metas_Resultados'!$D$4:$E$403,2,FALSE))),\"Sin Registrar\",CONCATENATE($S437,\".\",VLOOKUP($G437,'1_Metas_Resultados'!$D$4:$E$403,2,FALSE)))","v":"Sin Registrar"},436," ",{"$f":"IF(ISERROR(CONCATENATE($S437,\".\",VLOOKUP($K437,'1_Metas_Resultados'!$D$4:$E$403,2,FALSE))),\"Sin Registrar\",CONCATENATE($S437,\".\",VLOOKUP($K437,'1_Metas_Resultados'!$D$4:$E$403,2,FALSE)))","v":"Sin Registrar"},{"$f":"IF(ISERROR(CONCATENATE($S437,\".\",VLOOKUP($L437,'1_Metas_Resultados'!$D$4:$E$403,2,FALSE))),\"Sin Registrar\",CONCATENATE($S437,\".\",VLOOKUP($L437,'1_Metas_Resultados'!$D$4:$E$403,2,FALSE)))","v":"Sin Registrar"},{"$f":"IF(ISERROR(VLOOKUP(G437,'1_Metas_Resultados'!$D$4:$I$403,6,FALSE)),\"\",VLOOKUP(G437,'1_Metas_Resultados'!$D$4:$I$403,6,FALSE))","v":""}]
[{"$f":"IF(ISERROR(CONCATENATE($S438,\".\",VLOOKUP($G438,'1_Metas_Resultados'!$D$4:$E$403,2,FALSE))),\"Sin Registrar\",CONCATENATE($S438,\".\",VLOOKUP($G438,'1_Metas_Resultados'!$D$4:$E$403,2,FALSE)))","v":"Sin Registrar"},437," ",{"$f":"IF(ISERROR(CONCATENATE($S438,\".\",VLOOKUP($K438,'1_Metas_Resultados'!$D$4:$E$403,2,FALSE))),\"Sin Registrar\",CONCATENATE($S438,\".\",VLOOKUP($K438,'1_Metas_Resultados'!$D$4:$E$403,2,FALSE)))","v":"Sin Registrar"},{"$f":"IF(ISERROR(CONCATENATE($S438,\".\",VLOOKUP($L438,'1_Metas_Resultados'!$D$4:$E$403,2,FALSE))),\"Sin Registrar\",CONCATENATE($S438,\".\",VLOOKUP($L438,'1_Metas_Resultados'!$D$4:$E$403,2,FALSE)))","v":"Sin Registrar"},{"$f":"IF(ISERROR(VLOOKUP(G438,'1_Metas_Resultados'!$D$4:$I$403,6,FALSE)),\"\",VLOOKUP(G438,'1_Metas_Resultados'!$D$4:$I$403,6,FALSE))","v":""}]
[{"$f":"IF(ISERROR(CONCATENATE($S439,\".\",VLOOKUP($G439,'1_Metas_Resultados'!$D$4:$E$403,2,FALSE))),\"Sin Registrar\",CONCATENATE($S439,\".\",VLOOKUP($G439,'1_Metas_Resultados'!$D$4:$E$403,2,FALSE)))","v":"Sin Registrar"},438," ",{"$f":"IF(ISERROR(CONCATENATE($S439,\".\",VLOOKUP($K439,'1_Metas_Resultados'!$D$4:$E$403,2,FALSE))),\"Sin Registrar\",CONCATENATE($S439,\".\",VLOOKUP($K439,'1_Metas_Resultados'!$D$4:$E$403,2,FALSE)))","v":"Sin Registrar"},{"$f":"IF(ISERROR(CONCATENATE($S439,\".\",VLOOKUP($L439,'1_Metas_Resultados'!$D$4:$E$403,2,FALSE))),\"Sin Registrar\",CONCATENATE($S439,\".\",VLOOKUP($L439,'1_Metas_Resultados'!$D$4:$E$403,2,FALSE)))","v":"Sin Registrar"},{"$f":"IF(ISERROR(VLOOKUP(G439,'1_Metas_Resultados'!$D$4:$I$403,6,FALSE)),\"\",VLOOKUP(G439,'1_Metas_Resultados'!$D$4:$I$403,6,FALSE))","v":""}]
[{"$f":"IF(ISERROR(CONCATENATE($S440,\".\",VLOOKUP($G440,'1_Metas_Resultados'!$D$4:$E$403,2,FALSE))),\"Sin Registrar\",CONCATENATE($S440,\".\",VLOOKUP($G440,'1_Metas_Resultados'!$D$4:$E$403,2,FALSE)))","v":"Sin Registrar"},439," ",{"$f":"IF(ISERROR(CONCATENATE($S440,\".\",VLOOKUP($K440,'1_Metas_Resultados'!$D$4:$E$403,2,FALSE))),\"Sin Registrar\",CONCATENATE($S440,\".\",VLOOKUP($K440,'1_Metas_Resultados'!$D$4:$E$403,2,FALSE)))","v":"Sin Registrar"},{"$f":"IF(ISERROR(CONCATENATE($S440,\".\",VLOOKUP($L440,'1_Metas_Resultados'!$D$4:$E$403,2,FALSE))),\"Sin Registrar\",CONCATENATE($S440,\".\",VLOOKUP($L440,'1_Metas_Resultados'!$D$4:$E$403,2,FALSE)))","v":"Sin Registrar"},{"$f":"IF(ISERROR(VLOOKUP(G440,'1_Metas_Resultados'!$D$4:$I$403,6,FALSE)),\"\",VLOOKUP(G440,'1_Metas_Resultados'!$D$4:$I$403,6,FALSE))","v":""}]
[{"$f":"IF(ISERROR(CONCATENATE($S441,\".\",VLOOKUP($G441,'1_Metas_Resultados'!$D$4:$E$403,2,FALSE))),\"Sin Registrar\",CONCATENATE($S441,\".\",VLOOKUP($G441,'1_Metas_Resultados'!$D$4:$E$403,2,FALSE)))","v":"Sin Registrar"},440," ",{"$f":"IF(ISERROR(CONCATENATE($S441,\".\",VLOOKUP($K441,'1_Metas_Resultados'!$D$4:$E$403,2,FALSE))),\"Sin Registrar\",CONCATENATE($S441,\".\",VLOOKUP($K441,'1_Metas_Resultados'!$D$4:$E$403,2,FALSE)))","v":"Sin Registrar"},{"$f":"IF(ISERROR(CONCATENATE($S441,\".\",VLOOKUP($L441,'1_Metas_Resultados'!$D$4:$E$403,2,FALSE))),\"Sin Registrar\",CONCATENATE($S441,\".\",VLOOKUP($L441,'1_Metas_Resultados'!$D$4:$E$403,2,FALSE)))","v":"Sin Registrar"},{"$f":"IF(ISERROR(VLOOKUP(G441,'1_Metas_Resultados'!$D$4:$I$403,6,FALSE)),\"\",VLOOKUP(G441,'1_Metas_Resultados'!$D$4:$I$403,6,FALSE))","v":""}]
[{"$f":"IF(ISERROR(CONCATENATE($S442,\".\",VLOOKUP($G442,'1_Metas_Resultados'!$D$4:$E$403,2,FALSE))),\"Sin Registrar\",CONCATENATE($S442,\".\",VLOOKUP($G442,'1_Metas_Resultados'!$D$4:$E$403,2,FALSE)))","v":"Sin Registrar"},441," ",{"$f":"IF(ISERROR(CONCATENATE($S442,\".\",VLOOKUP($K442,'1_Metas_Resultados'!$D$4:$E$403,2,FALSE))),\"Sin Registrar\",CONCATENATE($S442,\".\",VLOOKUP($K442,'1_Metas_Resultados'!$D$4:$E$403,2,FALSE)))","v":"Sin Registrar"},{"$f":"IF(ISERROR(CONCATENATE($S442,\".\",VLOOKUP($L442,'1_Metas_Resultados'!$D$4:$E$403,2,FALSE))),\"Sin Registrar\",CONCATENATE($S442,\".\",VLOOKUP($L442,'1_Metas_Resultados'!$D$4:$E$403,2,FALSE)))","v":"Sin Registrar"},{"$f":"IF(ISERROR(VLOOKUP(G442,'1_Metas_Resultados'!$D$4:$I$403,6,FALSE)),\"\",VLOOKUP(G442,'1_Metas_Resultados'!$D$4:$I$403,6,FALSE))","v":""}]
[{"$f":"IF(ISERROR(CONCATENATE($S443,\".\",VLOOKUP($G443,'1_Metas_Resultados'!$D$4:$E$403,2,FALSE))),\"Sin Registrar\",CONCATENATE($S443,\".\",VLOOKUP($G443,'1_Metas_Resultados'!$D$4:$E$403,2,FALSE)))","v":"Sin Registrar"},442," ",{"$f":"IF(ISERROR(CONCATENATE($S443,\".\",VLOOKUP($K443,'1_Metas_Resultados'!$D$4:$E$403,2,FALSE))),\"Sin Registrar\",CONCATENATE($S443,\".\",VLOOKUP($K443,'1_Metas_Resultados'!$D$4:$E$403,2,FALSE)))","v":"Sin Registrar"},{"$f":"IF(ISERROR(CONCATENATE($S443,\".\",VLOOKUP($L443,'1_Metas_Resultados'!$D$4:$E$403,2,FALSE))),\"Sin Registrar\",CONCATENATE($S443,\".\",VLOOKUP($L443,'1_Metas_Resultados'!$D$4:$E$403,2,FALSE)))","v":"Sin Registrar"},{"$f":"IF(ISERROR(VLOOKUP(G443,'1_Metas_Resultados'!$D$4:$I$403,6,FALSE)),\"\",VLOOKUP(G443,'1_Metas_Resultados'!$D$4:$I$403,6,FALSE))","v":""}]
[{"$f":"IF(ISERROR(CONCATENATE($S444,\".\",VLOOKUP($G444,'1_Metas_Resultados'!$D$4:$E$403,2,FALSE))),\"Sin Registrar\",CONCATENATE($S444,\".\",VLOOKUP($G444,'1_Metas_Resultados'!$D$4:$E$403,2,FALSE)))","v":"Sin Registrar"},443," ",{"$f":"IF(ISERROR(CONCATENATE($S444,\".\",VLOOKUP($K444,'1_Metas_Resultados'!$D$4:$E$403,2,FALSE))),\"Sin Registrar\",CONCATENATE($S444,\".\",VLOOKUP($K444,'1_Metas_Resultados'!$D$4:$E$403,2,FALSE)))","v":"Sin Registrar"},{"$f":"IF(ISERROR(CONCATENATE($S444,\".\",VLOOKUP($L444,'1_Metas_Resultados'!$D$4:$E$403,2,FALSE))),\"Sin Registrar\",CONCATENATE($S444,\".\",VLOOKUP($L444,'1_Metas_Resultados'!$D$4:$E$403,2,FALSE)))","v":"Sin Registrar"},{"$f":"IF(ISERROR(VLOOKUP(G444,'1_Metas_Resultados'!$D$4:$I$403,6,FALSE)),\"\",VLOOKUP(G444,'1_Metas_Resultados'!$D$4:$I$403,6,FALSE))","v":""}]
[{"$f":"IF(ISERROR(CONCATENATE($S445,\".\",VLOOKUP($G445,'1_Metas_Resultados'!$D$4:$E$403,2,FALSE))),\"Sin Registrar\",CONCATENATE($S445,\".\",VLOOKUP($G445,'1_Metas_Resultados'!$D$4:$E$403,2,FALSE)))","v":"Sin Registrar"},444," ",{"$f":"IF(ISERROR(CONCATENATE($S445,\".\",VLOOKUP($K445,'1_Metas_Resultados'!$D$4:$E$403,2,FALSE))),\"Sin Registrar\",CONCATENATE($S445,\".\",VLOOKUP($K445,'1_Metas_Resultados'!$D$4:$E$403,2,FALSE)))","v":"Sin Registrar"},{"$f":"IF(ISERROR(CONCATENATE($S445,\".\",VLOOKUP($L445,'1_Metas_Resultados'!$D$4:$E$403,2,FALSE))),\"Sin Registrar\",CONCATENATE($S445,\".\",VLOOKUP($L445,'1_Metas_Resultados'!$D$4:$E$403,2,FALSE)))","v":"Sin Registrar"},{"$f":"IF(ISERROR(VLOOKUP(G445,'1_Metas_Resultados'!$D$4:$I$403,6,FALSE)),\"\",VLOOKUP(G445,'1_Metas_Resultados'!$D$4:$I$403,6,FALSE))","v":""}]
[{"$f":"IF(ISERROR(CONCATENATE($S446,\".\",VLOOKUP($G446,'1_Metas_Resultados'!$D$4:$E$403,2,FALSE))),\"Sin Registrar\",CONCATENATE($S446,\".\",VLOOKUP($G446,'1_Metas_Resultados'!$D$4:$E$403,2,FALSE)))","v":"Sin Registrar"},445," ",{"$f":"IF(ISERROR(CONCATENATE($S446,\".\",VLOOKUP($K446,'1_Metas_Resultados'!$D$4:$E$403,2,FALSE))),\"Sin Registrar\",CONCATENATE($S446,\".\",VLOOKUP($K446,'1_Metas_Resultados'!$D$4:$E$403,2,FALSE)))","v":"Sin Registrar"},{"$f":"IF(ISERROR(CONCATENATE($S446,\".\",VLOOKUP($L446,'1_Metas_Resultados'!$D$4:$E$403,2,FALSE))),\"Sin Registrar\",CONCATENATE($S446,\".\",VLOOKUP($L446,'1_Metas_Resultados'!$D$4:$E$403,2,FALSE)))","v":"Sin Registrar"},{"$f":"IF(ISERROR(VLOOKUP(G446,'1_Metas_Resultados'!$D$4:$I$403,6,FALSE)),\"\",VLOOKUP(G446,'1_Metas_Resultados'!$D$4:$I$403,6,FALSE))","v":""}]
[{"$f":"IF(ISERROR(CONCATENATE($S447,\".\",VLOOKUP($G447,'1_Metas_Resultados'!$D$4:$E$403,2,FALSE))),\"Sin Registrar\",CONCATENATE($S447,\".\",VLOOKUP($G447,'1_Metas_Resultados'!$D$4:$E$403,2,FALSE)))","v":"Sin Registrar"},446," ",{"$f":"IF(ISERROR(CONCATENATE($S447,\".\",VLOOKUP($K447,'1_Metas_Resultados'!$D$4:$E$403,2,FALSE))),\"Sin Registrar\",CONCATENATE($S447,\".\",VLOOKUP($K447,'1_Metas_Resultados'!$D$4:$E$403,2,FALSE)))","v":"Sin Registrar"},{"$f":"IF(ISERROR(CONCATENATE($S447,\".\",VLOOKUP($L447,'1_Metas_Resultados'!$D$4:$E$403,2,FALSE))),\"Sin Registrar\",CONCATENATE($S447,\".\",VLOOKUP($L447,'1_Metas_Resultados'!$D$4:$E$403,2,FALSE)))","v":"Sin Registrar"},{"$f":"IF(ISERROR(VLOOKUP(G447,'1_Metas_Resultados'!$D$4:$I$403,6,FALSE)),\"\",VLOOKUP(G447,'1_Metas_Resultados'!$D$4:$I$403,6,FALSE))","v":""}]
[{"$f":"IF(ISERROR(CONCATENATE($S448,\".\",VLOOKUP($G448,'1_Metas_Resultados'!$D$4:$E$403,2,FALSE))),\"Sin Registrar\",CONCATENATE($S448,\".\",VLOOKUP($G448,'1_Metas_Resultados'!$D$4:$E$403,2,FALSE)))","v":"Sin Registrar"},447," ",{"$f":"IF(ISERROR(CONCATENATE($S448,\".\",VLOOKUP($K448,'1_Metas_Resultados'!$D$4:$E$403,2,FALSE))),\"Sin Registrar\",CONCATENATE($S448,\".\",VLOOKUP($K448,'1_Metas_Resultados'!$D$4:$E$403,2,FALSE)))","v":"Sin Registrar"},{"$f":"IF(ISERROR(CONCATENATE($S448,\".\",VLOOKUP($L448,'1_Metas_Resultados'!$D$4:$E$403,2,FALSE))),\"Sin Registrar\",CONCATENATE($S448,\".\",VLOOKUP($L448,'1_Metas_Resultados'!$D$4:$E$403,2,FALSE)))","v":"Sin Registrar"},{"$f":"IF(ISERROR(VLOOKUP(G448,'1_Metas_Resultados'!$D$4:$I$403,6,FALSE)),\"\",VLOOKUP(G448,'1_Metas_Resultados'!$D$4:$I$403,6,FALSE))","v":""}]
[{"$f":"IF(ISERROR(CONCATENATE($S449,\".\",VLOOKUP($G449,'1_Metas_Resultados'!$D$4:$E$403,2,FALSE))),\"Sin Registrar\",CONCATENATE($S449,\".\",VLOOKUP($G449,'1_Metas_Resultados'!$D$4:$E$403,2,FALSE)))","v":"Sin Registrar"},448," ",{"$f":"IF(ISERROR(CONCATENATE($S449,\".\",VLOOKUP($K449,'1_Metas_Resultados'!$D$4:$E$403,2,FALSE))),\"Sin Registrar\",CONCATENATE($S449,\".\",VLOOKUP($K449,'1_Metas_Resultados'!$D$4:$E$403,2,FALSE)))","v":"Sin Registrar"},{"$f":"IF(ISERROR(CONCATENATE($S449,\".\",VLOOKUP($L449,'1_Metas_Resultados'!$D$4:$E$403,2,FALSE))),\"Sin Registrar\",CONCATENATE($S449,\".\",VLOOKUP($L449,'1_Metas_Resultados'!$D$4:$E$403,2,FALSE)))","v":"Sin Registrar"},{"$f":"IF(ISERROR(VLOOKUP(G449,'1_Metas_Resultados'!$D$4:$I$403,6,FALSE)),\"\",VLOOKUP(G449,'1_Metas_Resultados'!$D$4:$I$403,6,FALSE))","v":""}]
[{"$f":"IF(ISERROR(CONCATENATE($S450,\".\",VLOOKUP($G450,'1_Metas_Resultados'!$D$4:$E$403,2,FALSE))),\"Sin Registrar\",CONCATENATE($S450,\".\",VLOOKUP($G450,'1_Metas_Resultados'!$D$4:$E$403,2,FALSE)))","v":"Sin Registrar"},449," ",{"$f":"IF(ISERROR(CONCATENATE($S450,\".\",VLOOKUP($K450,'1_Metas_Resultados'!$D$4:$E$403,2,FALSE))),\"Sin Registrar\",CONCATENATE($S450,\".\",VLOOKUP($K450,'1_Metas_Resultados'!$D$4:$E$403,2,FALSE)))","v":"Sin Registrar"},{"$f":"IF(ISERROR(CONCATENATE($S450,\".\",VLOOKUP($L450,'1_Metas_Resultados'!$D$4:$E$403,2,FALSE))),\"Sin Registrar\",CONCATENATE($S450,\".\",VLOOKUP($L450,'1_Metas_Resultados'!$D$4:$E$403,2,FALSE)))","v":"Sin Registrar"},{"$f":"IF(ISERROR(VLOOKUP(G450,'1_Metas_Resultados'!$D$4:$I$403,6,FALSE)),\"\",VLOOKUP(G450,'1_Metas_Resultados'!$D$4:$I$403,6,FALSE))","v":""}]
[{"$f":"IF(ISERROR(CONCATENATE($S451,\".\",VLOOKUP($G451,'1_Metas_Resultados'!$D$4:$E$403,2,FALSE))),\"Sin Registrar\",CONCATENATE($S451,\".\",VLOOKUP($G451,'1_Metas_Resultados'!$D$4:$E$403,2,FALSE)))","v":"Sin Registrar"},450," ",{"$f":"IF(ISERROR(CONCATENATE($S451,\".\",VLOOKUP($K451,'1_Metas_Resultados'!$D$4:$E$403,2,FALSE))),\"Sin Registrar\",CONCATENATE($S451,\".\",VLOOKUP($K451,'1_Metas_Resultados'!$D$4:$E$403,2,FALSE)))","v":"Sin Registrar"},{"$f":"IF(ISERROR(CONCATENATE($S451,\".\",VLOOKUP($L451,'1_Metas_Resultados'!$D$4:$E$403,2,FALSE))),\"Sin Registrar\",CONCATENATE($S451,\".\",VLOOKUP($L451,'1_Metas_Resultados'!$D$4:$E$403,2,FALSE)))","v":"Sin Registrar"},{"$f":"IF(ISERROR(VLOOKUP(G451,'1_Metas_Resultados'!$D$4:$I$403,6,FALSE)),\"\",VLOOKUP(G451,'1_Metas_Resultados'!$D$4:$I$403,6,FALSE))","v":""}]
[{"$f":"IF(ISERROR(CONCATENATE($S452,\".\",VLOOKUP($G452,'1_Metas_Resultados'!$D$4:$E$403,2,FALSE))),\"Sin Registrar\",CONCATENATE($S452,\".\",VLOOKUP($G452,'1_Metas_Resultados'!$D$4:$E$403,2,FALSE)))","v":"Sin Registrar"},451," ",{"$f":"IF(ISERROR(CONCATENATE($S452,\".\",VLOOKUP($K452,'1_Metas_Resultados'!$D$4:$E$403,2,FALSE))),\"Sin Registrar\",CONCATENATE($S452,\".\",VLOOKUP($K452,'1_Metas_Resultados'!$D$4:$E$403,2,FALSE)))","v":"Sin Registrar"},{"$f":"IF(ISERROR(CONCATENATE($S452,\".\",VLOOKUP($L452,'1_Metas_Resultados'!$D$4:$E$403,2,FALSE))),\"Sin Registrar\",CONCATENATE($S452,\".\",VLOOKUP($L452,'1_Metas_Resultados'!$D$4:$E$403,2,FALSE)))","v":"Sin Registrar"},{"$f":"IF(ISERROR(VLOOKUP(G452,'1_Metas_Resultados'!$D$4:$I$403,6,FALSE)),\"\",VLOOKUP(G452,'1_Metas_Resultados'!$D$4:$I$403,6,FALSE))","v":""}]
[{"$f":"IF(ISERROR(CONCATENATE($S453,\".\",VLOOKUP($G453,'1_Metas_Resultados'!$D$4:$E$403,2,FALSE))),\"Sin Registrar\",CONCATENATE($S453,\".\",VLOOKUP($G453,'1_Metas_Resultados'!$D$4:$E$403,2,FALSE)))","v":"Sin Registrar"},452,{"$f":"IF(A453=\"Sin Registrar\",\" \",CONCATENATE(A453,\".\",B453))","v":" "},{"$f":"IF(ISERROR(CONCATENATE($S453,\".\",VLOOKUP($K453,'1_Metas_Resultados'!$D$4:$E$403,2,FALSE))),\"Sin Registrar\",CONCATENATE($S453,\".\",VLOOKUP($K453,'1_Metas_Resultados'!$D$4:$E$403,2,FALSE)))","v":"Sin Registrar"},{"$f":"IF(ISERROR(CONCATENATE($S453,\".\",VLOOKUP($L453,'1_Metas_Resultados'!$D$4:$E$403,2,FALSE))),\"Sin Registrar\",CONCATENATE($S453,\".\",VLOOKUP($L453,'1_Metas_Resultados'!$D$4:$E$403,2,FALSE)))","v":"Sin Registrar"},{"$f":"IF(ISERROR(VLOOKUP(G453,'1_Metas_Resultados'!$D$4:$I$403,6,FALSE)),\"\",VLOOKUP(G453,'1_Metas_Resultados'!$D$4:$I$403,6,FALSE))","v":""}]
[{"$f":"IF(ISERROR(CONCATENATE($S454,\".\",VLOOKUP($G454,'1_Metas_Resultados'!$D$4:$E$403,2,FALSE))),\"Sin Registrar\",CONCATENATE($S454,\".\",VLOOKUP($G454,'1_Metas_Resultados'!$D$4:$E$403,2,FALSE)))","v":"Sin Registrar"},453," ",{"$f":"IF(ISERROR(CONCATENATE($S454,\".\",VLOOKUP($K454,'1_Metas_Resultados'!$D$4:$E$403,2,FALSE))),\"Sin Registrar\",CONCATENATE($S454,\".\",VLOOKUP($K454,'1_Metas_Resultados'!$D$4:$E$403,2,FALSE)))","v":"Sin Registrar"},{"$f":"IF(ISERROR(CONCATENATE($S454,\".\",VLOOKUP($L454,'1_Metas_Resultados'!$D$4:$E$403,2,FALSE))),\"Sin Registrar\",CONCATENATE($S454,\".\",VLOOKUP($L454,'1_Metas_Resultados'!$D$4:$E$403,2,FALSE)))","v":"Sin Registrar"},{"$f":"IF(ISERROR(VLOOKUP(G454,'1_Metas_Resultados'!$D$4:$I$403,6,FALSE)),\"\",VLOOKUP(G454,'1_Metas_Resultados'!$D$4:$I$403,6,FALSE))","v":""}]
[{"$f":"IF(ISERROR(CONCATENATE($S455,\".\",VLOOKUP($G455,'1_Metas_Resultados'!$D$4:$E$403,2,FALSE))),\"Sin Registrar\",CONCATENATE($S455,\".\",VLOOKUP($G455,'1_Metas_Resultados'!$D$4:$E$403,2,FALSE)))","v":"Sin Registrar"},454," ",{"$f":"IF(ISERROR(CONCATENATE($S455,\".\",VLOOKUP($K455,'1_Metas_Resultados'!$D$4:$E$403,2,FALSE))),\"Sin Registrar\",CONCATENATE($S455,\".\",VLOOKUP($K455,'1_Metas_Resultados'!$D$4:$E$403,2,FALSE)))","v":"Sin Registrar"},{"$f":"IF(ISERROR(CONCATENATE($S455,\".\",VLOOKUP($L455,'1_Metas_Resultados'!$D$4:$E$403,2,FALSE))),\"Sin Registrar\",CONCATENATE($S455,\".\",VLOOKUP($L455,'1_Metas_Resultados'!$D$4:$E$403,2,FALSE)))","v":"Sin Registrar"},{"$f":"IF(ISERROR(VLOOKUP(G455,'1_Metas_Resultados'!$D$4:$I$403,6,FALSE)),\"\",VLOOKUP(G455,'1_Metas_Resultados'!$D$4:$I$403,6,FALSE))","v":""}]
[{"$f":"IF(ISERROR(CONCATENATE($S456,\".\",VLOOKUP($G456,'1_Metas_Resultados'!$D$4:$E$403,2,FALSE))),\"Sin Registrar\",CONCATENATE($S456,\".\",VLOOKUP($G456,'1_Metas_Resultados'!$D$4:$E$403,2,FALSE)))","v":"Sin Registrar"},455," ",{"$f":"IF(ISERROR(CONCATENATE($S456,\".\",VLOOKUP($K456,'1_Metas_Resultados'!$D$4:$E$403,2,FALSE))),\"Sin Registrar\",CONCATENATE($S456,\".\",VLOOKUP($K456,'1_Metas_Resultados'!$D$4:$E$403,2,FALSE)))","v":"Sin Registrar"},{"$f":"IF(ISERROR(CONCATENATE($S456,\".\",VLOOKUP($L456,'1_Metas_Resultados'!$D$4:$E$403,2,FALSE))),\"Sin Registrar\",CONCATENATE($S456,\".\",VLOOKUP($L456,'1_Metas_Resultados'!$D$4:$E$403,2,FALSE)))","v":"Sin Registrar"},{"$f":"IF(ISERROR(VLOOKUP(G456,'1_Metas_Resultados'!$D$4:$I$403,6,FALSE)),\"\",VLOOKUP(G456,'1_Metas_Resultados'!$D$4:$I$403,6,FALSE))","v":""}]
[{"$f":"IF(ISERROR(CONCATENATE($S457,\".\",VLOOKUP($G457,'1_Metas_Resultados'!$D$4:$E$403,2,FALSE))),\"Sin Registrar\",CONCATENATE($S457,\".\",VLOOKUP($G457,'1_Metas_Resultados'!$D$4:$E$403,2,FALSE)))","v":"Sin Registrar"},456," ",{"$f":"IF(ISERROR(CONCATENATE($S457,\".\",VLOOKUP($K457,'1_Metas_Resultados'!$D$4:$E$403,2,FALSE))),\"Sin Registrar\",CONCATENATE($S457,\".\",VLOOKUP($K457,'1_Metas_Resultados'!$D$4:$E$403,2,FALSE)))","v":"Sin Registrar"},{"$f":"IF(ISERROR(CONCATENATE($S457,\".\",VLOOKUP($L457,'1_Metas_Resultados'!$D$4:$E$403,2,FALSE))),\"Sin Registrar\",CONCATENATE($S457,\".\",VLOOKUP($L457,'1_Metas_Resultados'!$D$4:$E$403,2,FALSE)))","v":"Sin Registrar"},{"$f":"IF(ISERROR(VLOOKUP(G457,'1_Metas_Resultados'!$D$4:$I$403,6,FALSE)),\"\",VLOOKUP(G457,'1_Metas_Resultados'!$D$4:$I$403,6,FALSE))","v":""}]
[{"$f":"IF(ISERROR(CONCATENATE($S458,\".\",VLOOKUP($G458,'1_Metas_Resultados'!$D$4:$E$403,2,FALSE))),\"Sin Registrar\",CONCATENATE($S458,\".\",VLOOKUP($G458,'1_Metas_Resultados'!$D$4:$E$403,2,FALSE)))","v":"Sin Registrar"},457," ",{"$f":"IF(ISERROR(CONCATENATE($S458,\".\",VLOOKUP($K458,'1_Metas_Resultados'!$D$4:$E$403,2,FALSE))),\"Sin Registrar\",CONCATENATE($S458,\".\",VLOOKUP($K458,'1_Metas_Resultados'!$D$4:$E$403,2,FALSE)))","v":"Sin Registrar"},{"$f":"IF(ISERROR(CONCATENATE($S458,\".\",VLOOKUP($L458,'1_Metas_Resultados'!$D$4:$E$403,2,FALSE))),\"Sin Registrar\",CONCATENATE($S458,\".\",VLOOKUP($L458,'1_Metas_Resultados'!$D$4:$E$403,2,FALSE)))","v":"Sin Registrar"},{"$f":"IF(ISERROR(VLOOKUP(G458,'1_Metas_Resultados'!$D$4:$I$403,6,FALSE)),\"\",VLOOKUP(G458,'1_Metas_Resultados'!$D$4:$I$403,6,FALSE))","v":""}]
[{"$f":"IF(ISERROR(CONCATENATE($S459,\".\",VLOOKUP($G459,'1_Metas_Resultados'!$D$4:$E$403,2,FALSE))),\"Sin Registrar\",CONCATENATE($S459,\".\",VLOOKUP($G459,'1_Metas_Resultados'!$D$4:$E$403,2,FALSE)))","v":"Sin Registrar"},458," ",{"$f":"IF(ISERROR(CONCATENATE($S459,\".\",VLOOKUP($K459,'1_Metas_Resultados'!$D$4:$E$403,2,FALSE))),\"Sin Registrar\",CONCATENATE($S459,\".\",VLOOKUP($K459,'1_Metas_Resultados'!$D$4:$E$403,2,FALSE)))","v":"Sin Registrar"},{"$f":"IF(ISERROR(CONCATENATE($S459,\".\",VLOOKUP($L459,'1_Metas_Resultados'!$D$4:$E$403,2,FALSE))),\"Sin Registrar\",CONCATENATE($S459,\".\",VLOOKUP($L459,'1_Metas_Resultados'!$D$4:$E$403,2,FALSE)))","v":"Sin Registrar"},{"$f":"IF(ISERROR(VLOOKUP(G459,'1_Metas_Resultados'!$D$4:$I$403,6,FALSE)),\"\",VLOOKUP(G459,'1_Metas_Resultados'!$D$4:$I$403,6,FALSE))","v":""}]
[{"$f":"IF(ISERROR(CONCATENATE($S460,\".\",VLOOKUP($G460,'1_Metas_Resultados'!$D$4:$E$403,2,FALSE))),\"Sin Registrar\",CONCATENATE($S460,\".\",VLOOKUP($G460,'1_Metas_Resultados'!$D$4:$E$403,2,FALSE)))","v":"Sin Registrar"},459," ",{"$f":"IF(ISERROR(CONCATENATE($S460,\".\",VLOOKUP($K460,'1_Metas_Resultados'!$D$4:$E$403,2,FALSE))),\"Sin Registrar\",CONCATENATE($S460,\".\",VLOOKUP($K460,'1_Metas_Resultados'!$D$4:$E$403,2,FALSE)))","v":"Sin Registrar"},{"$f":"IF(ISERROR(CONCATENATE($S460,\".\",VLOOKUP($L460,'1_Metas_Resultados'!$D$4:$E$403,2,FALSE))),\"Sin Registrar\",CONCATENATE($S460,\".\",VLOOKUP($L460,'1_Metas_Resultados'!$D$4:$E$403,2,FALSE)))","v":"Sin Registrar"},{"$f":"IF(ISERROR(VLOOKUP(G460,'1_Metas_Resultados'!$D$4:$I$403,6,FALSE)),\"\",VLOOKUP(G460,'1_Metas_Resultados'!$D$4:$I$403,6,FALSE))","v":""}]
[{"$f":"IF(ISERROR(CONCATENATE($S461,\".\",VLOOKUP($G461,'1_Metas_Resultados'!$D$4:$E$403,2,FALSE))),\"Sin Registrar\",CONCATENATE($S461,\".\",VLOOKUP($G461,'1_Metas_Resultados'!$D$4:$E$403,2,FALSE)))","v":"Sin Registrar"},460," ",{"$f":"IF(ISERROR(CONCATENATE($S461,\".\",VLOOKUP($K461,'1_Metas_Resultados'!$D$4:$E$403,2,FALSE))),\"Sin Registrar\",CONCATENATE($S461,\".\",VLOOKUP($K461,'1_Metas_Resultados'!$D$4:$E$403,2,FALSE)))","v":"Sin Registrar"},{"$f":"IF(ISERROR(CONCATENATE($S461,\".\",VLOOKUP($L461,'1_Metas_Resultados'!$D$4:$E$403,2,FALSE))),\"Sin Registrar\",CONCATENATE($S461,\".\",VLOOKUP($L461,'1_Metas_Resultados'!$D$4:$E$403,2,FALSE)))","v":"Sin Registrar"},{"$f":"IF(ISERROR(VLOOKUP(G461,'1_Metas_Resultados'!$D$4:$I$403,6,FALSE)),\"\",VLOOKUP(G461,'1_Metas_Resultados'!$D$4:$I$403,6,FALSE))","v":""}]
[{"$f":"IF(ISERROR(CONCATENATE($S462,\".\",VLOOKUP($G462,'1_Metas_Resultados'!$D$4:$E$403,2,FALSE))),\"Sin Registrar\",CONCATENATE($S462,\".\",VLOOKUP($G462,'1_Metas_Resultados'!$D$4:$E$403,2,FALSE)))","v":"Sin Registrar"},461," ",{"$f":"IF(ISERROR(CONCATENATE($S462,\".\",VLOOKUP($K462,'1_Metas_Resultados'!$D$4:$E$403,2,FALSE))),\"Sin Registrar\",CONCATENATE($S462,\".\",VLOOKUP($K462,'1_Metas_Resultados'!$D$4:$E$403,2,FALSE)))","v":"Sin Registrar"},{"$f":"IF(ISERROR(CONCATENATE($S462,\".\",VLOOKUP($L462,'1_Metas_Resultados'!$D$4:$E$403,2,FALSE))),\"Sin Registrar\",CONCATENATE($S462,\".\",VLOOKUP($L462,'1_Metas_Resultados'!$D$4:$E$403,2,FALSE)))","v":"Sin Registrar"},{"$f":"IF(ISERROR(VLOOKUP(G462,'1_Metas_Resultados'!$D$4:$I$403,6,FALSE)),\"\",VLOOKUP(G462,'1_Metas_Resultados'!$D$4:$I$403,6,FALSE))","v":""}]
[{"$f":"IF(ISERROR(CONCATENATE($S463,\".\",VLOOKUP($G463,'1_Metas_Resultados'!$D$4:$E$403,2,FALSE))),\"Sin Registrar\",CONCATENATE($S463,\".\",VLOOKUP($G463,'1_Metas_Resultados'!$D$4:$E$403,2,FALSE)))","v":"Sin Registrar"},462," ",{"$f":"IF(ISERROR(CONCATENATE($S463,\".\",VLOOKUP($K463,'1_Metas_Resultados'!$D$4:$E$403,2,FALSE))),\"Sin Registrar\",CONCATENATE($S463,\".\",VLOOKUP($K463,'1_Metas_Resultados'!$D$4:$E$403,2,FALSE)))","v":"Sin Registrar"},{"$f":"IF(ISERROR(CONCATENATE($S463,\".\",VLOOKUP($L463,'1_Metas_Resultados'!$D$4:$E$403,2,FALSE))),\"Sin Registrar\",CONCATENATE($S463,\".\",VLOOKUP($L463,'1_Metas_Resultados'!$D$4:$E$403,2,FALSE)))","v":"Sin Registrar"},{"$f":"IF(ISERROR(VLOOKUP(G463,'1_Metas_Resultados'!$D$4:$I$403,6,FALSE)),\"\",VLOOKUP(G463,'1_Metas_Resultados'!$D$4:$I$403,6,FALSE))","v":""}]
[{"$f":"IF(ISERROR(CONCATENATE($S464,\".\",VLOOKUP($G464,'1_Metas_Resultados'!$D$4:$E$403,2,FALSE))),\"Sin Registrar\",CONCATENATE($S464,\".\",VLOOKUP($G464,'1_Metas_Resultados'!$D$4:$E$403,2,FALSE)))","v":"Sin Registrar"},463," ",{"$f":"IF(ISERROR(CONCATENATE($S464,\".\",VLOOKUP($K464,'1_Metas_Resultados'!$D$4:$E$403,2,FALSE))),\"Sin Registrar\",CONCATENATE($S464,\".\",VLOOKUP($K464,'1_Metas_Resultados'!$D$4:$E$403,2,FALSE)))","v":"Sin Registrar"},{"$f":"IF(ISERROR(CONCATENATE($S464,\".\",VLOOKUP($L464,'1_Metas_Resultados'!$D$4:$E$403,2,FALSE))),\"Sin Registrar\",CONCATENATE($S464,\".\",VLOOKUP($L464,'1_Metas_Resultados'!$D$4:$E$403,2,FALSE)))","v":"Sin Registrar"},{"$f":"IF(ISERROR(VLOOKUP(G464,'1_Metas_Resultados'!$D$4:$I$403,6,FALSE)),\"\",VLOOKUP(G464,'1_Metas_Resultados'!$D$4:$I$403,6,FALSE))","v":""}]
[{"$f":"IF(ISERROR(CONCATENATE($S465,\".\",VLOOKUP($G465,'1_Metas_Resultados'!$D$4:$E$403,2,FALSE))),\"Sin Registrar\",CONCATENATE($S465,\".\",VLOOKUP($G465,'1_Metas_Resultados'!$D$4:$E$403,2,FALSE)))","v":"Sin Registrar"},464," ",{"$f":"IF(ISERROR(CONCATENATE($S465,\".\",VLOOKUP($K465,'1_Metas_Resultados'!$D$4:$E$403,2,FALSE))),\"Sin Registrar\",CONCATENATE($S465,\".\",VLOOKUP($K465,'1_Metas_Resultados'!$D$4:$E$403,2,FALSE)))","v":"Sin Registrar"},{"$f":"IF(ISERROR(CONCATENATE($S465,\".\",VLOOKUP($L465,'1_Metas_Resultados'!$D$4:$E$403,2,FALSE))),\"Sin Registrar\",CONCATENATE($S465,\".\",VLOOKUP($L465,'1_Metas_Resultados'!$D$4:$E$403,2,FALSE)))","v":"Sin Registrar"},{"$f":"IF(ISERROR(VLOOKUP(G465,'1_Metas_Resultados'!$D$4:$I$403,6,FALSE)),\"\",VLOOKUP(G465,'1_Metas_Resultados'!$D$4:$I$403,6,FALSE))","v":""}]
[{"$f":"IF(ISERROR(CONCATENATE($S466,\".\",VLOOKUP($G466,'1_Metas_Resultados'!$D$4:$E$403,2,FALSE))),\"Sin Registrar\",CONCATENATE($S466,\".\",VLOOKUP($G466,'1_Metas_Resultados'!$D$4:$E$403,2,FALSE)))","v":"Sin Registrar"},465," ",{"$f":"IF(ISERROR(CONCATENATE($S466,\".\",VLOOKUP($K466,'1_Metas_Resultados'!$D$4:$E$403,2,FALSE))),\"Sin Registrar\",CONCATENATE($S466,\".\",VLOOKUP($K466,'1_Metas_Resultados'!$D$4:$E$403,2,FALSE)))","v":"Sin Registrar"},{"$f":"IF(ISERROR(CONCATENATE($S466,\".\",VLOOKUP($L466,'1_Metas_Resultados'!$D$4:$E$403,2,FALSE))),\"Sin Registrar\",CONCATENATE($S466,\".\",VLOOKUP($L466,'1_Metas_Resultados'!$D$4:$E$403,2,FALSE)))","v":"Sin Registrar"},{"$f":"IF(ISERROR(VLOOKUP(G466,'1_Metas_Resultados'!$D$4:$I$403,6,FALSE)),\"\",VLOOKUP(G466,'1_Metas_Resultados'!$D$4:$I$403,6,FALSE))","v":""}]
[{"$f":"IF(ISERROR(CONCATENATE($S467,\".\",VLOOKUP($G467,'1_Metas_Resultados'!$D$4:$E$403,2,FALSE))),\"Sin Registrar\",CONCATENATE($S467,\".\",VLOOKUP($G467,'1_Metas_Resultados'!$D$4:$E$403,2,FALSE)))","v":"Sin Registrar"},466," ",{"$f":"IF(ISERROR(CONCATENATE($S467,\".\",VLOOKUP($K467,'1_Metas_Resultados'!$D$4:$E$403,2,FALSE))),\"Sin Registrar\",CONCATENATE($S467,\".\",VLOOKUP($K467,'1_Metas_Resultados'!$D$4:$E$403,2,FALSE)))","v":"Sin Registrar"},{"$f":"IF(ISERROR(CONCATENATE($S467,\".\",VLOOKUP($L467,'1_Metas_Resultados'!$D$4:$E$403,2,FALSE))),\"Sin Registrar\",CONCATENATE($S467,\".\",VLOOKUP($L467,'1_Metas_Resultados'!$D$4:$E$403,2,FALSE)))","v":"Sin Registrar"},{"$f":"IF(ISERROR(VLOOKUP(G467,'1_Metas_Resultados'!$D$4:$I$403,6,FALSE)),\"\",VLOOKUP(G467,'1_Metas_Resultados'!$D$4:$I$403,6,FALSE))","v":""}]
[{"$f":"IF(ISERROR(CONCATENATE($S468,\".\",VLOOKUP($G468,'1_Metas_Resultados'!$D$4:$E$403,2,FALSE))),\"Sin Registrar\",CONCATENATE($S468,\".\",VLOOKUP($G468,'1_Metas_Resultados'!$D$4:$E$403,2,FALSE)))","v":"Sin Registrar"},467," ",{"$f":"IF(ISERROR(CONCATENATE($S468,\".\",VLOOKUP($K468,'1_Metas_Resultados'!$D$4:$E$403,2,FALSE))),\"Sin Registrar\",CONCATENATE($S468,\".\",VLOOKUP($K468,'1_Metas_Resultados'!$D$4:$E$403,2,FALSE)))","v":"Sin Registrar"},{"$f":"IF(ISERROR(CONCATENATE($S468,\".\",VLOOKUP($L468,'1_Metas_Resultados'!$D$4:$E$403,2,FALSE))),\"Sin Registrar\",CONCATENATE($S468,\".\",VLOOKUP($L468,'1_Metas_Resultados'!$D$4:$E$403,2,FALSE)))","v":"Sin Registrar"},{"$f":"IF(ISERROR(VLOOKUP(G468,'1_Metas_Resultados'!$D$4:$I$403,6,FALSE)),\"\",VLOOKUP(G468,'1_Metas_Resultados'!$D$4:$I$403,6,FALSE))","v":""}]
[{"$f":"IF(ISERROR(CONCATENATE($S469,\".\",VLOOKUP($G469,'1_Metas_Resultados'!$D$4:$E$403,2,FALSE))),\"Sin Registrar\",CONCATENATE($S469,\".\",VLOOKUP($G469,'1_Metas_Resultados'!$D$4:$E$403,2,FALSE)))","v":"Sin Registrar"},468," ",{"$f":"IF(ISERROR(CONCATENATE($S469,\".\",VLOOKUP($K469,'1_Metas_Resultados'!$D$4:$E$403,2,FALSE))),\"Sin Registrar\",CONCATENATE($S469,\".\",VLOOKUP($K469,'1_Metas_Resultados'!$D$4:$E$403,2,FALSE)))","v":"Sin Registrar"},{"$f":"IF(ISERROR(CONCATENATE($S469,\".\",VLOOKUP($L469,'1_Metas_Resultados'!$D$4:$E$403,2,FALSE))),\"Sin Registrar\",CONCATENATE($S469,\".\",VLOOKUP($L469,'1_Metas_Resultados'!$D$4:$E$403,2,FALSE)))","v":"Sin Registrar"},{"$f":"IF(ISERROR(VLOOKUP(G469,'1_Metas_Resultados'!$D$4:$I$403,6,FALSE)),\"\",VLOOKUP(G469,'1_Metas_Resultados'!$D$4:$I$403,6,FALSE))","v":""}]
[{"$f":"IF(ISERROR(CONCATENATE($S470,\".\",VLOOKUP($G470,'1_Metas_Resultados'!$D$4:$E$403,2,FALSE))),\"Sin Registrar\",CONCATENATE($S470,\".\",VLOOKUP($G470,'1_Metas_Resultados'!$D$4:$E$403,2,FALSE)))","v":"Sin Registrar"},469," ",{"$f":"IF(ISERROR(CONCATENATE($S470,\".\",VLOOKUP($K470,'1_Metas_Resultados'!$D$4:$E$403,2,FALSE))),\"Sin Registrar\",CONCATENATE($S470,\".\",VLOOKUP($K470,'1_Metas_Resultados'!$D$4:$E$403,2,FALSE)))","v":"Sin Registrar"},{"$f":"IF(ISERROR(CONCATENATE($S470,\".\",VLOOKUP($L470,'1_Metas_Resultados'!$D$4:$E$403,2,FALSE))),\"Sin Registrar\",CONCATENATE($S470,\".\",VLOOKUP($L470,'1_Metas_Resultados'!$D$4:$E$403,2,FALSE)))","v":"Sin Registrar"},{"$f":"IF(ISERROR(VLOOKUP(G470,'1_Metas_Resultados'!$D$4:$I$403,6,FALSE)),\"\",VLOOKUP(G470,'1_Metas_Resultados'!$D$4:$I$403,6,FALSE))","v":""}]
[{"$f":"IF(ISERROR(CONCATENATE($S471,\".\",VLOOKUP($G471,'1_Metas_Resultados'!$D$4:$E$403,2,FALSE))),\"Sin Registrar\",CONCATENATE($S471,\".\",VLOOKUP($G471,'1_Metas_Resultados'!$D$4:$E$403,2,FALSE)))","v":"Sin Registrar"},470," ",{"$f":"IF(ISERROR(CONCATENATE($S471,\".\",VLOOKUP($K471,'1_Metas_Resultados'!$D$4:$E$403,2,FALSE))),\"Sin Registrar\",CONCATENATE($S471,\".\",VLOOKUP($K471,'1_Metas_Resultados'!$D$4:$E$403,2,FALSE)))","v":"Sin Registrar"},{"$f":"IF(ISERROR(CONCATENATE($S471,\".\",VLOOKUP($L471,'1_Metas_Resultados'!$D$4:$E$403,2,FALSE))),\"Sin Registrar\",CONCATENATE($S471,\".\",VLOOKUP($L471,'1_Metas_Resultados'!$D$4:$E$403,2,FALSE)))","v":"Sin Registrar"},{"$f":"IF(ISERROR(VLOOKUP(G471,'1_Metas_Resultados'!$D$4:$I$403,6,FALSE)),\"\",VLOOKUP(G471,'1_Metas_Resultados'!$D$4:$I$403,6,FALSE))","v":""}]
[{"$f":"IF(ISERROR(CONCATENATE($S472,\".\",VLOOKUP($G472,'1_Metas_Resultados'!$D$4:$E$403,2,FALSE))),\"Sin Registrar\",CONCATENATE($S472,\".\",VLOOKUP($G472,'1_Metas_Resultados'!$D$4:$E$403,2,FALSE)))","v":"Sin Registrar"},471," ",{"$f":"IF(ISERROR(CONCATENATE($S472,\".\",VLOOKUP($K472,'1_Metas_Resultados'!$D$4:$E$403,2,FALSE))),\"Sin Registrar\",CONCATENATE($S472,\".\",VLOOKUP($K472,'1_Metas_Resultados'!$D$4:$E$403,2,FALSE)))","v":"Sin Registrar"},{"$f":"IF(ISERROR(CONCATENATE($S472,\".\",VLOOKUP($L472,'1_Metas_Resultados'!$D$4:$E$403,2,FALSE))),\"Sin Registrar\",CONCATENATE($S472,\".\",VLOOKUP($L472,'1_Metas_Resultados'!$D$4:$E$403,2,FALSE)))","v":"Sin Registrar"},{"$f":"IF(ISERROR(VLOOKUP(G472,'1_Metas_Resultados'!$D$4:$I$403,6,FALSE)),\"\",VLOOKUP(G472,'1_Metas_Resultados'!$D$4:$I$403,6,FALSE))","v":""}]
[{"$f":"IF(ISERROR(CONCATENATE($S473,\".\",VLOOKUP($G473,'1_Metas_Resultados'!$D$4:$E$403,2,FALSE))),\"Sin Registrar\",CONCATENATE($S473,\".\",VLOOKUP($G473,'1_Metas_Resultados'!$D$4:$E$403,2,FALSE)))","v":"Sin Registrar"},472," ",{"$f":"IF(ISERROR(CONCATENATE($S473,\".\",VLOOKUP($K473,'1_Metas_Resultados'!$D$4:$E$403,2,FALSE))),\"Sin Registrar\",CONCATENATE($S473,\".\",VLOOKUP($K473,'1_Metas_Resultados'!$D$4:$E$403,2,FALSE)))","v":"Sin Registrar"},{"$f":"IF(ISERROR(CONCATENATE($S473,\".\",VLOOKUP($L473,'1_Metas_Resultados'!$D$4:$E$403,2,FALSE))),\"Sin Registrar\",CONCATENATE($S473,\".\",VLOOKUP($L473,'1_Metas_Resultados'!$D$4:$E$403,2,FALSE)))","v":"Sin Registrar"},{"$f":"IF(ISERROR(VLOOKUP(G473,'1_Metas_Resultados'!$D$4:$I$403,6,FALSE)),\"\",VLOOKUP(G473,'1_Metas_Resultados'!$D$4:$I$403,6,FALSE))","v":""}]
[{"$f":"IF(ISERROR(CONCATENATE($S474,\".\",VLOOKUP($G474,'1_Metas_Resultados'!$D$4:$E$403,2,FALSE))),\"Sin Registrar\",CONCATENATE($S474,\".\",VLOOKUP($G474,'1_Metas_Resultados'!$D$4:$E$403,2,FALSE)))","v":"Sin Registrar"},473," ",{"$f":"IF(ISERROR(CONCATENATE($S474,\".\",VLOOKUP($K474,'1_Metas_Resultados'!$D$4:$E$403,2,FALSE))),\"Sin Registrar\",CONCATENATE($S474,\".\",VLOOKUP($K474,'1_Metas_Resultados'!$D$4:$E$403,2,FALSE)))","v":"Sin Registrar"},{"$f":"IF(ISERROR(CONCATENATE($S474,\".\",VLOOKUP($L474,'1_Metas_Resultados'!$D$4:$E$403,2,FALSE))),\"Sin Registrar\",CONCATENATE($S474,\".\",VLOOKUP($L474,'1_Metas_Resultados'!$D$4:$E$403,2,FALSE)))","v":"Sin Registrar"},{"$f":"IF(ISERROR(VLOOKUP(G474,'1_Metas_Resultados'!$D$4:$I$403,6,FALSE)),\"\",VLOOKUP(G474,'1_Metas_Resultados'!$D$4:$I$403,6,FALSE))","v":""}]
[{"$f":"IF(ISERROR(CONCATENATE($S475,\".\",VLOOKUP($G475,'1_Metas_Resultados'!$D$4:$E$403,2,FALSE))),\"Sin Registrar\",CONCATENATE($S475,\".\",VLOOKUP($G475,'1_Metas_Resultados'!$D$4:$E$403,2,FALSE)))","v":"Sin Registrar"},474," ",{"$f":"IF(ISERROR(CONCATENATE($S475,\".\",VLOOKUP($K475,'1_Metas_Resultados'!$D$4:$E$403,2,FALSE))),\"Sin Registrar\",CONCATENATE($S475,\".\",VLOOKUP($K475,'1_Metas_Resultados'!$D$4:$E$403,2,FALSE)))","v":"Sin Registrar"},{"$f":"IF(ISERROR(CONCATENATE($S475,\".\",VLOOKUP($L475,'1_Metas_Resultados'!$D$4:$E$403,2,FALSE))),\"Sin Registrar\",CONCATENATE($S475,\".\",VLOOKUP($L475,'1_Metas_Resultados'!$D$4:$E$403,2,FALSE)))","v":"Sin Registrar"},{"$f":"IF(ISERROR(VLOOKUP(G475,'1_Metas_Resultados'!$D$4:$I$403,6,FALSE)),\"\",VLOOKUP(G475,'1_Metas_Resultados'!$D$4:$I$403,6,FALSE))","v":""}]
[{"$f":"IF(ISERROR(CONCATENATE($S476,\".\",VLOOKUP($G476,'1_Metas_Resultados'!$D$4:$E$403,2,FALSE))),\"Sin Registrar\",CONCATENATE($S476,\".\",VLOOKUP($G476,'1_Metas_Resultados'!$D$4:$E$403,2,FALSE)))","v":"Sin Registrar"},475," ",{"$f":"IF(ISERROR(CONCATENATE($S476,\".\",VLOOKUP($K476,'1_Metas_Resultados'!$D$4:$E$403,2,FALSE))),\"Sin Registrar\",CONCATENATE($S476,\".\",VLOOKUP($K476,'1_Metas_Resultados'!$D$4:$E$403,2,FALSE)))","v":"Sin Registrar"},{"$f":"IF(ISERROR(CONCATENATE($S476,\".\",VLOOKUP($L476,'1_Metas_Resultados'!$D$4:$E$403,2,FALSE))),\"Sin Registrar\",CONCATENATE($S476,\".\",VLOOKUP($L476,'1_Metas_Resultados'!$D$4:$E$403,2,FALSE)))","v":"Sin Registrar"},{"$f":"IF(ISERROR(VLOOKUP(G476,'1_Metas_Resultados'!$D$4:$I$403,6,FALSE)),\"\",VLOOKUP(G476,'1_Metas_Resultados'!$D$4:$I$403,6,FALSE))","v":""}]
[{"$f":"IF(ISERROR(CONCATENATE($S477,\".\",VLOOKUP($G477,'1_Metas_Resultados'!$D$4:$E$403,2,FALSE))),\"Sin Registrar\",CONCATENATE($S477,\".\",VLOOKUP($G477,'1_Metas_Resultados'!$D$4:$E$403,2,FALSE)))","v":"Sin Registrar"},476," ",{"$f":"IF(ISERROR(CONCATENATE($S477,\".\",VLOOKUP($K477,'1_Metas_Resultados'!$D$4:$E$403,2,FALSE))),\"Sin Registrar\",CONCATENATE($S477,\".\",VLOOKUP($K477,'1_Metas_Resultados'!$D$4:$E$403,2,FALSE)))","v":"Sin Registrar"},{"$f":"IF(ISERROR(CONCATENATE($S477,\".\",VLOOKUP($L477,'1_Metas_Resultados'!$D$4:$E$403,2,FALSE))),\"Sin Registrar\",CONCATENATE($S477,\".\",VLOOKUP($L477,'1_Metas_Resultados'!$D$4:$E$403,2,FALSE)))","v":"Sin Registrar"},{"$f":"IF(ISERROR(VLOOKUP(G477,'1_Metas_Resultados'!$D$4:$I$403,6,FALSE)),\"\",VLOOKUP(G477,'1_Metas_Resultados'!$D$4:$I$403,6,FALSE))","v":""}]
[{"$f":"IF(ISERROR(CONCATENATE($S478,\".\",VLOOKUP($G478,'1_Metas_Resultados'!$D$4:$E$403,2,FALSE))),\"Sin Registrar\",CONCATENATE($S478,\".\",VLOOKUP($G478,'1_Metas_Resultados'!$D$4:$E$403,2,FALSE)))","v":"Sin Registrar"},477," ",{"$f":"IF(ISERROR(CONCATENATE($S478,\".\",VLOOKUP($K478,'1_Metas_Resultados'!$D$4:$E$403,2,FALSE))),\"Sin Registrar\",CONCATENATE($S478,\".\",VLOOKUP($K478,'1_Metas_Resultados'!$D$4:$E$403,2,FALSE)))","v":"Sin Registrar"},{"$f":"IF(ISERROR(CONCATENATE($S478,\".\",VLOOKUP($L478,'1_Metas_Resultados'!$D$4:$E$403,2,FALSE))),\"Sin Registrar\",CONCATENATE($S478,\".\",VLOOKUP($L478,'1_Metas_Resultados'!$D$4:$E$403,2,FALSE)))","v":"Sin Registrar"},{"$f":"IF(ISERROR(VLOOKUP(G478,'1_Metas_Resultados'!$D$4:$I$403,6,FALSE)),\"\",VLOOKUP(G478,'1_Metas_Resultados'!$D$4:$I$403,6,FALSE))","v":""}]
[{"$f":"IF(ISERROR(CONCATENATE($S479,\".\",VLOOKUP($G479,'1_Metas_Resultados'!$D$4:$E$403,2,FALSE))),\"Sin Registrar\",CONCATENATE($S479,\".\",VLOOKUP($G479,'1_Metas_Resultados'!$D$4:$E$403,2,FALSE)))","v":"Sin Registrar"},478," ",{"$f":"IF(ISERROR(CONCATENATE($S479,\".\",VLOOKUP($K479,'1_Metas_Resultados'!$D$4:$E$403,2,FALSE))),\"Sin Registrar\",CONCATENATE($S479,\".\",VLOOKUP($K479,'1_Metas_Resultados'!$D$4:$E$403,2,FALSE)))","v":"Sin Registrar"},{"$f":"IF(ISERROR(CONCATENATE($S479,\".\",VLOOKUP($L479,'1_Metas_Resultados'!$D$4:$E$403,2,FALSE))),\"Sin Registrar\",CONCATENATE($S479,\".\",VLOOKUP($L479,'1_Metas_Resultados'!$D$4:$E$403,2,FALSE)))","v":"Sin Registrar"},{"$f":"IF(ISERROR(VLOOKUP(G479,'1_Metas_Resultados'!$D$4:$I$403,6,FALSE)),\"\",VLOOKUP(G479,'1_Metas_Resultados'!$D$4:$I$403,6,FALSE))","v":""}]
[{"$f":"IF(ISERROR(CONCATENATE($S480,\".\",VLOOKUP($G480,'1_Metas_Resultados'!$D$4:$E$403,2,FALSE))),\"Sin Registrar\",CONCATENATE($S480,\".\",VLOOKUP($G480,'1_Metas_Resultados'!$D$4:$E$403,2,FALSE)))","v":"Sin Registrar"},479," ",{"$f":"IF(ISERROR(CONCATENATE($S480,\".\",VLOOKUP($K480,'1_Metas_Resultados'!$D$4:$E$403,2,FALSE))),\"Sin Registrar\",CONCATENATE($S480,\".\",VLOOKUP($K480,'1_Metas_Resultados'!$D$4:$E$403,2,FALSE)))","v":"Sin Registrar"},{"$f":"IF(ISERROR(CONCATENATE($S480,\".\",VLOOKUP($L480,'1_Metas_Resultados'!$D$4:$E$403,2,FALSE))),\"Sin Registrar\",CONCATENATE($S480,\".\",VLOOKUP($L480,'1_Metas_Resultados'!$D$4:$E$403,2,FALSE)))","v":"Sin Registrar"},{"$f":"IF(ISERROR(VLOOKUP(G480,'1_Metas_Resultados'!$D$4:$I$403,6,FALSE)),\"\",VLOOKUP(G480,'1_Metas_Resultados'!$D$4:$I$403,6,FALSE))","v":""}]
[{"$f":"IF(ISERROR(CONCATENATE($S481,\".\",VLOOKUP($G481,'1_Metas_Resultados'!$D$4:$E$403,2,FALSE))),\"Sin Registrar\",CONCATENATE($S481,\".\",VLOOKUP($G481,'1_Metas_Resultados'!$D$4:$E$403,2,FALSE)))","v":"Sin Registrar"},480," ",{"$f":"IF(ISERROR(CONCATENATE($S481,\".\",VLOOKUP($K481,'1_Metas_Resultados'!$D$4:$E$403,2,FALSE))),\"Sin Registrar\",CONCATENATE($S481,\".\",VLOOKUP($K481,'1_Metas_Resultados'!$D$4:$E$403,2,FALSE)))","v":"Sin Registrar"},{"$f":"IF(ISERROR(CONCATENATE($S481,\".\",VLOOKUP($L481,'1_Metas_Resultados'!$D$4:$E$403,2,FALSE))),\"Sin Registrar\",CONCATENATE($S481,\".\",VLOOKUP($L481,'1_Metas_Resultados'!$D$4:$E$403,2,FALSE)))","v":"Sin Registrar"},{"$f":"IF(ISERROR(VLOOKUP(G481,'1_Metas_Resultados'!$D$4:$I$403,6,FALSE)),\"\",VLOOKUP(G481,'1_Metas_Resultados'!$D$4:$I$403,6,FALSE))","v":""}]
[{"$f":"IF(ISERROR(CONCATENATE($S482,\".\",VLOOKUP($G482,'1_Metas_Resultados'!$D$4:$E$403,2,FALSE))),\"Sin Registrar\",CONCATENATE($S482,\".\",VLOOKUP($G482,'1_Metas_Resultados'!$D$4:$E$403,2,FALSE)))","v":"Sin Registrar"},481," ",{"$f":"IF(ISERROR(CONCATENATE($S482,\".\",VLOOKUP($K482,'1_Metas_Resultados'!$D$4:$E$403,2,FALSE))),\"Sin Registrar\",CONCATENATE($S482,\".\",VLOOKUP($K482,'1_Metas_Resultados'!$D$4:$E$403,2,FALSE)))","v":"Sin Registrar"},{"$f":"IF(ISERROR(CONCATENATE($S482,\".\",VLOOKUP($L482,'1_Metas_Resultados'!$D$4:$E$403,2,FALSE))),\"Sin Registrar\",CONCATENATE($S482,\".\",VLOOKUP($L482,'1_Metas_Resultados'!$D$4:$E$403,2,FALSE)))","v":"Sin Registrar"},{"$f":"IF(ISERROR(VLOOKUP(G482,'1_Metas_Resultados'!$D$4:$I$403,6,FALSE)),\"\",VLOOKUP(G482,'1_Metas_Resultados'!$D$4:$I$403,6,FALSE))","v":""}]
[{"$f":"IF(ISERROR(CONCATENATE($S483,\".\",VLOOKUP($G483,'1_Metas_Resultados'!$D$4:$E$403,2,FALSE))),\"Sin Registrar\",CONCATENATE($S483,\".\",VLOOKUP($G483,'1_Metas_Resultados'!$D$4:$E$403,2,FALSE)))","v":"Sin Registrar"},482," ",{"$f":"IF(ISERROR(CONCATENATE($S483,\".\",VLOOKUP($K483,'1_Metas_Resultados'!$D$4:$E$403,2,FALSE))),\"Sin Registrar\",CONCATENATE($S483,\".\",VLOOKUP($K483,'1_Metas_Resultados'!$D$4:$E$403,2,FALSE)))","v":"Sin Registrar"},{"$f":"IF(ISERROR(CONCATENATE($S483,\".\",VLOOKUP($L483,'1_Metas_Resultados'!$D$4:$E$403,2,FALSE))),\"Sin Registrar\",CONCATENATE($S483,\".\",VLOOKUP($L483,'1_Metas_Resultados'!$D$4:$E$403,2,FALSE)))","v":"Sin Registrar"},{"$f":"IF(ISERROR(VLOOKUP(G483,'1_Metas_Resultados'!$D$4:$I$403,6,FALSE)),\"\",VLOOKUP(G483,'1_Metas_Resultados'!$D$4:$I$403,6,FALSE))","v":""}]
[{"$f":"IF(ISERROR(CONCATENATE($S484,\".\",VLOOKUP($G484,'1_Metas_Resultados'!$D$4:$E$403,2,FALSE))),\"Sin Registrar\",CONCATENATE($S484,\".\",VLOOKUP($G484,'1_Metas_Resultados'!$D$4:$E$403,2,FALSE)))","v":"Sin Registrar"},483," ",{"$f":"IF(ISERROR(CONCATENATE($S484,\".\",VLOOKUP($K484,'1_Metas_Resultados'!$D$4:$E$403,2,FALSE))),\"Sin Registrar\",CONCATENATE($S484,\".\",VLOOKUP($K484,'1_Metas_Resultados'!$D$4:$E$403,2,FALSE)))","v":"Sin Registrar"},{"$f":"IF(ISERROR(CONCATENATE($S484,\".\",VLOOKUP($L484,'1_Metas_Resultados'!$D$4:$E$403,2,FALSE))),\"Sin Registrar\",CONCATENATE($S484,\".\",VLOOKUP($L484,'1_Metas_Resultados'!$D$4:$E$403,2,FALSE)))","v":"Sin Registrar"},{"$f":"IF(ISERROR(VLOOKUP(G484,'1_Metas_Resultados'!$D$4:$I$403,6,FALSE)),\"\",VLOOKUP(G484,'1_Metas_Resultados'!$D$4:$I$403,6,FALSE))","v":""}]
[{"$f":"IF(ISERROR(CONCATENATE($S485,\".\",VLOOKUP($G485,'1_Metas_Resultados'!$D$4:$E$403,2,FALSE))),\"Sin Registrar\",CONCATENATE($S485,\".\",VLOOKUP($G485,'1_Metas_Resultados'!$D$4:$E$403,2,FALSE)))","v":"Sin Registrar"},484," ",{"$f":"IF(ISERROR(CONCATENATE($S485,\".\",VLOOKUP($K485,'1_Metas_Resultados'!$D$4:$E$403,2,FALSE))),\"Sin Registrar\",CONCATENATE($S485,\".\",VLOOKUP($K485,'1_Metas_Resultados'!$D$4:$E$403,2,FALSE)))","v":"Sin Registrar"},{"$f":"IF(ISERROR(CONCATENATE($S485,\".\",VLOOKUP($L485,'1_Metas_Resultados'!$D$4:$E$403,2,FALSE))),\"Sin Registrar\",CONCATENATE($S485,\".\",VLOOKUP($L485,'1_Metas_Resultados'!$D$4:$E$403,2,FALSE)))","v":"Sin Registrar"},{"$f":"IF(ISERROR(VLOOKUP(G485,'1_Metas_Resultados'!$D$4:$I$403,6,FALSE)),\"\",VLOOKUP(G485,'1_Metas_Resultados'!$D$4:$I$403,6,FALSE))","v":""}]
[{"$f":"IF(ISERROR(CONCATENATE($S486,\".\",VLOOKUP($G486,'1_Metas_Resultados'!$D$4:$E$403,2,FALSE))),\"Sin Registrar\",CONCATENATE($S486,\".\",VLOOKUP($G486,'1_Metas_Resultados'!$D$4:$E$403,2,FALSE)))","v":"Sin Registrar"},485," ",{"$f":"IF(ISERROR(CONCATENATE($S486,\".\",VLOOKUP($K486,'1_Metas_Resultados'!$D$4:$E$403,2,FALSE))),\"Sin Registrar\",CONCATENATE($S486,\".\",VLOOKUP($K486,'1_Metas_Resultados'!$D$4:$E$403,2,FALSE)))","v":"Sin Registrar"},{"$f":"IF(ISERROR(CONCATENATE($S486,\".\",VLOOKUP($L486,'1_Metas_Resultados'!$D$4:$E$403,2,FALSE))),\"Sin Registrar\",CONCATENATE($S486,\".\",VLOOKUP($L486,'1_Metas_Resultados'!$D$4:$E$403,2,FALSE)))","v":"Sin Registrar"},{"$f":"IF(ISERROR(VLOOKUP(G486,'1_Metas_Resultados'!$D$4:$I$403,6,FALSE)),\"\",VLOOKUP(G486,'1_Metas_Resultados'!$D$4:$I$403,6,FALSE))","v":""}]
[{"$f":"IF(ISERROR(CONCATENATE($S487,\".\",VLOOKUP($G487,'1_Metas_Resultados'!$D$4:$E$403,2,FALSE))),\"Sin Registrar\",CONCATENATE($S487,\".\",VLOOKUP($G487,'1_Metas_Resultados'!$D$4:$E$403,2,FALSE)))","v":"Sin Registrar"},486," ",{"$f":"IF(ISERROR(CONCATENATE($S487,\".\",VLOOKUP($K487,'1_Metas_Resultados'!$D$4:$E$403,2,FALSE))),\"Sin Registrar\",CONCATENATE($S487,\".\",VLOOKUP($K487,'1_Metas_Resultados'!$D$4:$E$403,2,FALSE)))","v":"Sin Registrar"},{"$f":"IF(ISERROR(CONCATENATE($S487,\".\",VLOOKUP($L487,'1_Metas_Resultados'!$D$4:$E$403,2,FALSE))),\"Sin Registrar\",CONCATENATE($S487,\".\",VLOOKUP($L487,'1_Metas_Resultados'!$D$4:$E$403,2,FALSE)))","v":"Sin Registrar"},{"$f":"IF(ISERROR(VLOOKUP(G487,'1_Metas_Resultados'!$D$4:$I$403,6,FALSE)),\"\",VLOOKUP(G487,'1_Metas_Resultados'!$D$4:$I$403,6,FALSE))","v":""}]
[{"$f":"IF(ISERROR(CONCATENATE($S488,\".\",VLOOKUP($G488,'1_Metas_Resultados'!$D$4:$E$403,2,FALSE))),\"Sin Registrar\",CONCATENATE($S488,\".\",VLOOKUP($G488,'1_Metas_Resultados'!$D$4:$E$403,2,FALSE)))","v":"Sin Registrar"},487," ",{"$f":"IF(ISERROR(CONCATENATE($S488,\".\",VLOOKUP($K488,'1_Metas_Resultados'!$D$4:$E$403,2,FALSE))),\"Sin Registrar\",CONCATENATE($S488,\".\",VLOOKUP($K488,'1_Metas_Resultados'!$D$4:$E$403,2,FALSE)))","v":"Sin Registrar"},{"$f":"IF(ISERROR(CONCATENATE($S488,\".\",VLOOKUP($L488,'1_Metas_Resultados'!$D$4:$E$403,2,FALSE))),\"Sin Registrar\",CONCATENATE($S488,\".\",VLOOKUP($L488,'1_Metas_Resultados'!$D$4:$E$403,2,FALSE)))","v":"Sin Registrar"},{"$f":"IF(ISERROR(VLOOKUP(G488,'1_Metas_Resultados'!$D$4:$I$403,6,FALSE)),\"\",VLOOKUP(G488,'1_Metas_Resultados'!$D$4:$I$403,6,FALSE))","v":""}]
[{"$f":"IF(ISERROR(CONCATENATE($S489,\".\",VLOOKUP($G489,'1_Metas_Resultados'!$D$4:$E$403,2,FALSE))),\"Sin Registrar\",CONCATENATE($S489,\".\",VLOOKUP($G489,'1_Metas_Resultados'!$D$4:$E$403,2,FALSE)))","v":"Sin Registrar"},488," ",{"$f":"IF(ISERROR(CONCATENATE($S489,\".\",VLOOKUP($K489,'1_Metas_Resultados'!$D$4:$E$403,2,FALSE))),\"Sin Registrar\",CONCATENATE($S489,\".\",VLOOKUP($K489,'1_Metas_Resultados'!$D$4:$E$403,2,FALSE)))","v":"Sin Registrar"},{"$f":"IF(ISERROR(CONCATENATE($S489,\".\",VLOOKUP($L489,'1_Metas_Resultados'!$D$4:$E$403,2,FALSE))),\"Sin Registrar\",CONCATENATE($S489,\".\",VLOOKUP($L489,'1_Metas_Resultados'!$D$4:$E$403,2,FALSE)))","v":"Sin Registrar"},{"$f":"IF(ISERROR(VLOOKUP(G489,'1_Metas_Resultados'!$D$4:$I$403,6,FALSE)),\"\",VLOOKUP(G489,'1_Metas_Resultados'!$D$4:$I$403,6,FALSE))","v":""}]
[{"$f":"IF(ISERROR(CONCATENATE($S490,\".\",VLOOKUP($G490,'1_Metas_Resultados'!$D$4:$E$403,2,FALSE))),\"Sin Registrar\",CONCATENATE($S490,\".\",VLOOKUP($G490,'1_Metas_Resultados'!$D$4:$E$403,2,FALSE)))","v":"Sin Registrar"},489," ",{"$f":"IF(ISERROR(CONCATENATE($S490,\".\",VLOOKUP($K490,'1_Metas_Resultados'!$D$4:$E$403,2,FALSE))),\"Sin Registrar\",CONCATENATE($S490,\".\",VLOOKUP($K490,'1_Metas_Resultados'!$D$4:$E$403,2,FALSE)))","v":"Sin Registrar"},{"$f":"IF(ISERROR(CONCATENATE($S490,\".\",VLOOKUP($L490,'1_Metas_Resultados'!$D$4:$E$403,2,FALSE))),\"Sin Registrar\",CONCATENATE($S490,\".\",VLOOKUP($L490,'1_Metas_Resultados'!$D$4:$E$403,2,FALSE)))","v":"Sin Registrar"},{"$f":"IF(ISERROR(VLOOKUP(G490,'1_Metas_Resultados'!$D$4:$I$403,6,FALSE)),\"\",VLOOKUP(G490,'1_Metas_Resultados'!$D$4:$I$403,6,FALSE))","v":""}]
[{"$f":"IF(ISERROR(CONCATENATE($S491,\".\",VLOOKUP($G491,'1_Metas_Resultados'!$D$4:$E$403,2,FALSE))),\"Sin Registrar\",CONCATENATE($S491,\".\",VLOOKUP($G491,'1_Metas_Resultados'!$D$4:$E$403,2,FALSE)))","v":"Sin Registrar"},490," ",{"$f":"IF(ISERROR(CONCATENATE($S491,\".\",VLOOKUP($K491,'1_Metas_Resultados'!$D$4:$E$403,2,FALSE))),\"Sin Registrar\",CONCATENATE($S491,\".\",VLOOKUP($K491,'1_Metas_Resultados'!$D$4:$E$403,2,FALSE)))","v":"Sin Registrar"},{"$f":"IF(ISERROR(CONCATENATE($S491,\".\",VLOOKUP($L491,'1_Metas_Resultados'!$D$4:$E$403,2,FALSE))),\"Sin Registrar\",CONCATENATE($S491,\".\",VLOOKUP($L491,'1_Metas_Resultados'!$D$4:$E$403,2,FALSE)))","v":"Sin Registrar"},{"$f":"IF(ISERROR(VLOOKUP(G491,'1_Metas_Resultados'!$D$4:$I$403,6,FALSE)),\"\",VLOOKUP(G491,'1_Metas_Resultados'!$D$4:$I$403,6,FALSE))","v":""}]
[{"$f":"IF(ISERROR(CONCATENATE($S492,\".\",VLOOKUP($G492,'1_Metas_Resultados'!$D$4:$E$403,2,FALSE))),\"Sin Registrar\",CONCATENATE($S492,\".\",VLOOKUP($G492,'1_Metas_Resultados'!$D$4:$E$403,2,FALSE)))","v":"Sin Registrar"},491," ",{"$f":"IF(ISERROR(CONCATENATE($S492,\".\",VLOOKUP($K492,'1_Metas_Resultados'!$D$4:$E$403,2,FALSE))),\"Sin Registrar\",CONCATENATE($S492,\".\",VLOOKUP($K492,'1_Metas_Resultados'!$D$4:$E$403,2,FALSE)))","v":"Sin Registrar"},{"$f":"IF(ISERROR(CONCATENATE($S492,\".\",VLOOKUP($L492,'1_Metas_Resultados'!$D$4:$E$403,2,FALSE))),\"Sin Registrar\",CONCATENATE($S492,\".\",VLOOKUP($L492,'1_Metas_Resultados'!$D$4:$E$403,2,FALSE)))","v":"Sin Registrar"},{"$f":"IF(ISERROR(VLOOKUP(G492,'1_Metas_Resultados'!$D$4:$I$403,6,FALSE)),\"\",VLOOKUP(G492,'1_Metas_Resultados'!$D$4:$I$403,6,FALSE))","v":""}]
[{"$f":"IF(ISERROR(CONCATENATE($S493,\".\",VLOOKUP($G493,'1_Metas_Resultados'!$D$4:$E$403,2,FALSE))),\"Sin Registrar\",CONCATENATE($S493,\".\",VLOOKUP($G493,'1_Metas_Resultados'!$D$4:$E$403,2,FALSE)))","v":"Sin Registrar"},492," ",{"$f":"IF(ISERROR(CONCATENATE($S493,\".\",VLOOKUP($K493,'1_Metas_Resultados'!$D$4:$E$403,2,FALSE))),\"Sin Registrar\",CONCATENATE($S493,\".\",VLOOKUP($K493,'1_Metas_Resultados'!$D$4:$E$403,2,FALSE)))","v":"Sin Registrar"},{"$f":"IF(ISERROR(CONCATENATE($S493,\".\",VLOOKUP($L493,'1_Metas_Resultados'!$D$4:$E$403,2,FALSE))),\"Sin Registrar\",CONCATENATE($S493,\".\",VLOOKUP($L493,'1_Metas_Resultados'!$D$4:$E$403,2,FALSE)))","v":"Sin Registrar"},{"$f":"IF(ISERROR(VLOOKUP(G493,'1_Metas_Resultados'!$D$4:$I$403,6,FALSE)),\"\",VLOOKUP(G493,'1_Metas_Resultados'!$D$4:$I$403,6,FALSE))","v":""}]
[{"$f":"IF(ISERROR(CONCATENATE($S494,\".\",VLOOKUP($G494,'1_Metas_Resultados'!$D$4:$E$403,2,FALSE))),\"Sin Registrar\",CONCATENATE($S494,\".\",VLOOKUP($G494,'1_Metas_Resultados'!$D$4:$E$403,2,FALSE)))","v":"Sin Registrar"},493," ",{"$f":"IF(ISERROR(CONCATENATE($S494,\".\",VLOOKUP($K494,'1_Metas_Resultados'!$D$4:$E$403,2,FALSE))),\"Sin Registrar\",CONCATENATE($S494,\".\",VLOOKUP($K494,'1_Metas_Resultados'!$D$4:$E$403,2,FALSE)))","v":"Sin Registrar"},{"$f":"IF(ISERROR(CONCATENATE($S494,\".\",VLOOKUP($L494,'1_Metas_Resultados'!$D$4:$E$403,2,FALSE))),\"Sin Registrar\",CONCATENATE($S494,\".\",VLOOKUP($L494,'1_Metas_Resultados'!$D$4:$E$403,2,FALSE)))","v":"Sin Registrar"},{"$f":"IF(ISERROR(VLOOKUP(G494,'1_Metas_Resultados'!$D$4:$I$403,6,FALSE)),\"\",VLOOKUP(G494,'1_Metas_Resultados'!$D$4:$I$403,6,FALSE))","v":""}]
[{"$f":"IF(ISERROR(CONCATENATE($S495,\".\",VLOOKUP($G495,'1_Metas_Resultados'!$D$4:$E$403,2,FALSE))),\"Sin Registrar\",CONCATENATE($S495,\".\",VLOOKUP($G495,'1_Metas_Resultados'!$D$4:$E$403,2,FALSE)))","v":"Sin Registrar"},494," ",{"$f":"IF(ISERROR(CONCATENATE($S495,\".\",VLOOKUP($K495,'1_Metas_Resultados'!$D$4:$E$403,2,FALSE))),\"Sin Registrar\",CONCATENATE($S495,\".\",VLOOKUP($K495,'1_Metas_Resultados'!$D$4:$E$403,2,FALSE)))","v":"Sin Registrar"},{"$f":"IF(ISERROR(CONCATENATE($S495,\".\",VLOOKUP($L495,'1_Metas_Resultados'!$D$4:$E$403,2,FALSE))),\"Sin Registrar\",CONCATENATE($S495,\".\",VLOOKUP($L495,'1_Metas_Resultados'!$D$4:$E$403,2,FALSE)))","v":"Sin Registrar"},{"$f":"IF(ISERROR(VLOOKUP(G495,'1_Metas_Resultados'!$D$4:$I$403,6,FALSE)),\"\",VLOOKUP(G495,'1_Metas_Resultados'!$D$4:$I$403,6,FALSE))","v":""}]
[{"$f":"IF(ISERROR(CONCATENATE($S496,\".\",VLOOKUP($G496,'1_Metas_Resultados'!$D$4:$E$403,2,FALSE))),\"Sin Registrar\",CONCATENATE($S496,\".\",VLOOKUP($G496,'1_Metas_Resultados'!$D$4:$E$403,2,FALSE)))","v":"Sin Registrar"},495," ",{"$f":"IF(ISERROR(CONCATENATE($S496,\".\",VLOOKUP($K496,'1_Metas_Resultados'!$D$4:$E$403,2,FALSE))),\"Sin Registrar\",CONCATENATE($S496,\".\",VLOOKUP($K496,'1_Metas_Resultados'!$D$4:$E$403,2,FALSE)))","v":"Sin Registrar"},{"$f":"IF(ISERROR(CONCATENATE($S496,\".\",VLOOKUP($L496,'1_Metas_Resultados'!$D$4:$E$403,2,FALSE))),\"Sin Registrar\",CONCATENATE($S496,\".\",VLOOKUP($L496,'1_Metas_Resultados'!$D$4:$E$403,2,FALSE)))","v":"Sin Registrar"},{"$f":"IF(ISERROR(VLOOKUP(G496,'1_Metas_Resultados'!$D$4:$I$403,6,FALSE)),\"\",VLOOKUP(G496,'1_Metas_Resultados'!$D$4:$I$403,6,FALSE))","v":""}]
[{"$f":"IF(ISERROR(CONCATENATE($S497,\".\",VLOOKUP($G497,'1_Metas_Resultados'!$D$4:$E$403,2,FALSE))),\"Sin Registrar\",CONCATENATE($S497,\".\",VLOOKUP($G497,'1_Metas_Resultados'!$D$4:$E$403,2,FALSE)))","v":"Sin Registrar"},496," ",{"$f":"IF(ISERROR(CONCATENATE($S497,\".\",VLOOKUP($K497,'1_Metas_Resultados'!$D$4:$E$403,2,FALSE))),\"Sin Registrar\",CONCATENATE($S497,\".\",VLOOKUP($K497,'1_Metas_Resultados'!$D$4:$E$403,2,FALSE)))","v":"Sin Registrar"},{"$f":"IF(ISERROR(CONCATENATE($S497,\".\",VLOOKUP($L497,'1_Metas_Resultados'!$D$4:$E$403,2,FALSE))),\"Sin Registrar\",CONCATENATE($S497,\".\",VLOOKUP($L497,'1_Metas_Resultados'!$D$4:$E$403,2,FALSE)))","v":"Sin Registrar"},{"$f":"IF(ISERROR(VLOOKUP(G497,'1_Metas_Resultados'!$D$4:$I$403,6,FALSE)),\"\",VLOOKUP(G497,'1_Metas_Resultados'!$D$4:$I$403,6,FALSE))","v":""}]
[{"$f":"IF(ISERROR(CONCATENATE($S498,\".\",VLOOKUP($G498,'1_Metas_Resultados'!$D$4:$E$403,2,FALSE))),\"Sin Registrar\",CONCATENATE($S498,\".\",VLOOKUP($G498,'1_Metas_Resultados'!$D$4:$E$403,2,FALSE)))","v":"Sin Registrar"},497," ",{"$f":"IF(ISERROR(CONCATENATE($S498,\".\",VLOOKUP($K498,'1_Metas_Resultados'!$D$4:$E$403,2,FALSE))),\"Sin Registrar\",CONCATENATE($S498,\".\",VLOOKUP($K498,'1_Metas_Resultados'!$D$4:$E$403,2,FALSE)))","v":"Sin Registrar"},{"$f":"IF(ISERROR(CONCATENATE($S498,\".\",VLOOKUP($L498,'1_Metas_Resultados'!$D$4:$E$403,2,FALSE))),\"Sin Registrar\",CONCATENATE($S498,\".\",VLOOKUP($L498,'1_Metas_Resultados'!$D$4:$E$403,2,FALSE)))","v":"Sin Registrar"},{"$f":"IF(ISERROR(VLOOKUP(G498,'1_Metas_Resultados'!$D$4:$I$403,6,FALSE)),\"\",VLOOKUP(G498,'1_Metas_Resultados'!$D$4:$I$403,6,FALSE))","v":""}]
[{"$f":"IF(ISERROR(CONCATENATE($S499,\".\",VLOOKUP($G499,'1_Metas_Resultados'!$D$4:$E$403,2,FALSE))),\"Sin Registrar\",CONCATENATE($S499,\".\",VLOOKUP($G499,'1_Metas_Resultados'!$D$4:$E$403,2,FALSE)))","v":"Sin Registrar"},498," ",{"$f":"IF(ISERROR(CONCATENATE($S499,\".\",VLOOKUP($K499,'1_Metas_Resultados'!$D$4:$E$403,2,FALSE))),\"Sin Registrar\",CONCATENATE($S499,\".\",VLOOKUP($K499,'1_Metas_Resultados'!$D$4:$E$403,2,FALSE)))","v":"Sin Registrar"},{"$f":"IF(ISERROR(CONCATENATE($S499,\".\",VLOOKUP($L499,'1_Metas_Resultados'!$D$4:$E$403,2,FALSE))),\"Sin Registrar\",CONCATENATE($S499,\".\",VLOOKUP($L499,'1_Metas_Resultados'!$D$4:$E$403,2,FALSE)))","v":"Sin Registrar"},{"$f":"IF(ISERROR(VLOOKUP(G499,'1_Metas_Resultados'!$D$4:$I$403,6,FALSE)),\"\",VLOOKUP(G499,'1_Metas_Resultados'!$D$4:$I$403,6,FALSE))","v":""}]
[{"$f":"IF(ISERROR(CONCATENATE($S500,\".\",VLOOKUP($G500,'1_Metas_Resultados'!$D$4:$E$403,2,FALSE))),\"Sin Registrar\",CONCATENATE($S500,\".\",VLOOKUP($G500,'1_Metas_Resultados'!$D$4:$E$403,2,FALSE)))","v":"Sin Registrar"},499," ",{"$f":"IF(ISERROR(CONCATENATE($S500,\".\",VLOOKUP($K500,'1_Metas_Resultados'!$D$4:$E$403,2,FALSE))),\"Sin Registrar\",CONCATENATE($S500,\".\",VLOOKUP($K500,'1_Metas_Resultados'!$D$4:$E$403,2,FALSE)))","v":"Sin Registrar"},{"$f":"IF(ISERROR(CONCATENATE($S500,\".\",VLOOKUP($L500,'1_Metas_Resultados'!$D$4:$E$403,2,FALSE))),\"Sin Registrar\",CONCATENATE($S500,\".\",VLOOKUP($L500,'1_Metas_Resultados'!$D$4:$E$403,2,FALSE)))","v":"Sin Registrar"},{"$f":"IF(ISERROR(VLOOKUP(G500,'1_Metas_Resultados'!$D$4:$I$403,6,FALSE)),\"\",VLOOKUP(G500,'1_Metas_Resultados'!$D$4:$I$403,6,FALSE))","v":""}]
[{"$f":"IF(ISERROR(CONCATENATE($S501,\".\",VLOOKUP($G501,'1_Metas_Resultados'!$D$4:$E$403,2,FALSE))),\"Sin Registrar\",CONCATENATE($S501,\".\",VLOOKUP($G501,'1_Metas_Resultados'!$D$4:$E$403,2,FALSE)))","v":"Sin Registrar"},500," ",{"$f":"IF(ISERROR(CONCATENATE($S501,\".\",VLOOKUP($K501,'1_Metas_Resultados'!$D$4:$E$403,2,FALSE))),\"Sin Registrar\",CONCATENATE($S501,\".\",VLOOKUP($K501,'1_Metas_Resultados'!$D$4:$E$403,2,FALSE)))","v":"Sin Registrar"},{"$f":"IF(ISERROR(CONCATENATE($S501,\".\",VLOOKUP($L501,'1_Metas_Resultados'!$D$4:$E$403,2,FALSE))),\"Sin Registrar\",CONCATENATE($S501,\".\",VLOOKUP($L501,'1_Metas_Resultados'!$D$4:$E$403,2,FALSE)))","v":"Sin Registrar"},{"$f":"IF(ISERROR(VLOOKUP(G501,'1_Metas_Resultados'!$D$4:$I$403,6,FALSE)),\"\",VLOOKUP(G501,'1_Metas_Resultados'!$D$4:$I$403,6,FALSE))","v":""}]
[{"$f":"IF(ISERROR(CONCATENATE($S502,\".\",VLOOKUP($G502,'1_Metas_Resultados'!$D$4:$E$403,2,FALSE))),\"Sin Registrar\",CONCATENATE($S502,\".\",VLOOKUP($G502,'1_Metas_Resultados'!$D$4:$E$403,2,FALSE)))","v":"Sin Registrar"},501," ",{"$f":"IF(ISERROR(CONCATENATE($S502,\".\",VLOOKUP($K502,'1_Metas_Resultados'!$D$4:$E$403,2,FALSE))),\"Sin Registrar\",CONCATENATE($S502,\".\",VLOOKUP($K502,'1_Metas_Resultados'!$D$4:$E$403,2,FALSE)))","v":"Sin Registrar"},{"$f":"IF(ISERROR(CONCATENATE($S502,\".\",VLOOKUP($L502,'1_Metas_Resultados'!$D$4:$E$403,2,FALSE))),\"Sin Registrar\",CONCATENATE($S502,\".\",VLOOKUP($L502,'1_Metas_Resultados'!$D$4:$E$403,2,FALSE)))","v":"Sin Registrar"},{"$f":"IF(ISERROR(VLOOKUP(G502,'1_Metas_Resultados'!$D$4:$I$403,6,FALSE)),\"\",VLOOKUP(G502,'1_Metas_Resultados'!$D$4:$I$403,6,FALSE))","v":""}]
[{"$f":"IF(ISERROR(CONCATENATE($S503,\".\",VLOOKUP($G503,'1_Metas_Resultados'!$D$4:$E$403,2,FALSE))),\"Sin Registrar\",CONCATENATE($S503,\".\",VLOOKUP($G503,'1_Metas_Resultados'!$D$4:$E$403,2,FALSE)))","v":"Sin Registrar"},502," ",{"$f":"IF(ISERROR(CONCATENATE($S503,\".\",VLOOKUP($K503,'1_Metas_Resultados'!$D$4:$E$403,2,FALSE))),\"Sin Registrar\",CONCATENATE($S503,\".\",VLOOKUP($K503,'1_Metas_Resultados'!$D$4:$E$403,2,FALSE)))","v":"Sin Registrar"},{"$f":"IF(ISERROR(CONCATENATE($S503,\".\",VLOOKUP($L503,'1_Metas_Resultados'!$D$4:$E$403,2,FALSE))),\"Sin Registrar\",CONCATENATE($S503,\".\",VLOOKUP($L503,'1_Metas_Resultados'!$D$4:$E$403,2,FALSE)))","v":"Sin Registrar"},{"$f":"IF(ISERROR(VLOOKUP(G503,'1_Metas_Resultados'!$D$4:$I$403,6,FALSE)),\"\",VLOOKUP(G503,'1_Metas_Resultados'!$D$4:$I$403,6,FALSE))","v":""}]
[{"$f":"IF(ISERROR(CONCATENATE($S504,\".\",VLOOKUP($G504,'1_Metas_Resultados'!$D$4:$E$403,2,FALSE))),\"Sin Registrar\",CONCATENATE($S504,\".\",VLOOKUP($G504,'1_Metas_Resultados'!$D$4:$E$403,2,FALSE)))","v":"Sin Registrar"},503," ",{"$f":"IF(ISERROR(CONCATENATE($S504,\".\",VLOOKUP($K504,'1_Metas_Resultados'!$D$4:$E$403,2,FALSE))),\"Sin Registrar\",CONCATENATE($S504,\".\",VLOOKUP($K504,'1_Metas_Resultados'!$D$4:$E$403,2,FALSE)))","v":"Sin Registrar"},{"$f":"IF(ISERROR(CONCATENATE($S504,\".\",VLOOKUP($L504,'1_Metas_Resultados'!$D$4:$E$403,2,FALSE))),\"Sin Registrar\",CONCATENATE($S504,\".\",VLOOKUP($L504,'1_Metas_Resultados'!$D$4:$E$403,2,FALSE)))","v":"Sin Registrar"},{"$f":"IF(ISERROR(VLOOKUP(G504,'1_Metas_Resultados'!$D$4:$I$403,6,FALSE)),\"\",VLOOKUP(G504,'1_Metas_Resultados'!$D$4:$I$403,6,FALSE))","v":""}]
[{"$f":"IF(ISERROR(CONCATENATE($S505,\".\",VLOOKUP($G505,'1_Metas_Resultados'!$D$4:$E$403,2,FALSE))),\"Sin Registrar\",CONCATENATE($S505,\".\",VLOOKUP($G505,'1_Metas_Resultados'!$D$4:$E$403,2,FALSE)))","v":"Sin Registrar"},504," ",{"$f":"IF(ISERROR(CONCATENATE($S505,\".\",VLOOKUP($K505,'1_Metas_Resultados'!$D$4:$E$403,2,FALSE))),\"Sin Registrar\",CONCATENATE($S505,\".\",VLOOKUP($K505,'1_Metas_Resultados'!$D$4:$E$403,2,FALSE)))","v":"Sin Registrar"},{"$f":"IF(ISERROR(CONCATENATE($S505,\".\",VLOOKUP($L505,'1_Metas_Resultados'!$D$4:$E$403,2,FALSE))),\"Sin Registrar\",CONCATENATE($S505,\".\",VLOOKUP($L505,'1_Metas_Resultados'!$D$4:$E$403,2,FALSE)))","v":"Sin Registrar"},{"$f":"IF(ISERROR(VLOOKUP(G505,'1_Metas_Resultados'!$D$4:$I$403,6,FALSE)),\"\",VLOOKUP(G505,'1_Metas_Resultados'!$D$4:$I$403,6,FALSE))","v":""}]
[{"$f":"IF(ISERROR(CONCATENATE($S506,\".\",VLOOKUP($G506,'1_Metas_Resultados'!$D$4:$E$403,2,FALSE))),\"Sin Registrar\",CONCATENATE($S506,\".\",VLOOKUP($G506,'1_Metas_Resultados'!$D$4:$E$403,2,FALSE)))","v":"Sin Registrar"},505," ",{"$f":"IF(ISERROR(CONCATENATE($S506,\".\",VLOOKUP($K506,'1_Metas_Resultados'!$D$4:$E$403,2,FALSE))),\"Sin Registrar\",CONCATENATE($S506,\".\",VLOOKUP($K506,'1_Metas_Resultados'!$D$4:$E$403,2,FALSE)))","v":"Sin Registrar"},{"$f":"IF(ISERROR(CONCATENATE($S506,\".\",VLOOKUP($L506,'1_Metas_Resultados'!$D$4:$E$403,2,FALSE))),\"Sin Registrar\",CONCATENATE($S506,\".\",VLOOKUP($L506,'1_Metas_Resultados'!$D$4:$E$403,2,FALSE)))","v":"Sin Registrar"},{"$f":"IF(ISERROR(VLOOKUP(G506,'1_Metas_Resultados'!$D$4:$I$403,6,FALSE)),\"\",VLOOKUP(G506,'1_Metas_Resultados'!$D$4:$I$403,6,FALSE))","v":""}]
[{"$f":"IF(ISERROR(CONCATENATE($S507,\".\",VLOOKUP($G507,'1_Metas_Resultados'!$D$4:$E$403,2,FALSE))),\"Sin Registrar\",CONCATENATE($S507,\".\",VLOOKUP($G507,'1_Metas_Resultados'!$D$4:$E$403,2,FALSE)))","v":"Sin Registrar"},506," ",{"$f":"IF(ISERROR(CONCATENATE($S507,\".\",VLOOKUP($K507,'1_Metas_Resultados'!$D$4:$E$403,2,FALSE))),\"Sin Registrar\",CONCATENATE($S507,\".\",VLOOKUP($K507,'1_Metas_Resultados'!$D$4:$E$403,2,FALSE)))","v":"Sin Registrar"},{"$f":"IF(ISERROR(CONCATENATE($S507,\".\",VLOOKUP($L507,'1_Metas_Resultados'!$D$4:$E$403,2,FALSE))),\"Sin Registrar\",CONCATENATE($S507,\".\",VLOOKUP($L507,'1_Metas_Resultados'!$D$4:$E$403,2,FALSE)))","v":"Sin Registrar"},{"$f":"IF(ISERROR(VLOOKUP(G507,'1_Metas_Resultados'!$D$4:$I$403,6,FALSE)),\"\",VLOOKUP(G507,'1_Metas_Resultados'!$D$4:$I$403,6,FALSE))","v":""}]
[{"$f":"IF(ISERROR(CONCATENATE($S508,\".\",VLOOKUP($G508,'1_Metas_Resultados'!$D$4:$E$403,2,FALSE))),\"Sin Registrar\",CONCATENATE($S508,\".\",VLOOKUP($G508,'1_Metas_Resultados'!$D$4:$E$403,2,FALSE)))","v":"Sin Registrar"},507," ",{"$f":"IF(ISERROR(CONCATENATE($S508,\".\",VLOOKUP($K508,'1_Metas_Resultados'!$D$4:$E$403,2,FALSE))),\"Sin Registrar\",CONCATENATE($S508,\".\",VLOOKUP($K508,'1_Metas_Resultados'!$D$4:$E$403,2,FALSE)))","v":"Sin Registrar"},{"$f":"IF(ISERROR(CONCATENATE($S508,\".\",VLOOKUP($L508,'1_Metas_Resultados'!$D$4:$E$403,2,FALSE))),\"Sin Registrar\",CONCATENATE($S508,\".\",VLOOKUP($L508,'1_Metas_Resultados'!$D$4:$E$403,2,FALSE)))","v":"Sin Registrar"},{"$f":"IF(ISERROR(VLOOKUP(G508,'1_Metas_Resultados'!$D$4:$I$403,6,FALSE)),\"\",VLOOKUP(G508,'1_Metas_Resultados'!$D$4:$I$403,6,FALSE))","v":""}]
[{"$f":"IF(ISERROR(CONCATENATE($S509,\".\",VLOOKUP($G509,'1_Metas_Resultados'!$D$4:$E$403,2,FALSE))),\"Sin Registrar\",CONCATENATE($S509,\".\",VLOOKUP($G509,'1_Metas_Resultados'!$D$4:$E$403,2,FALSE)))","v":"Sin Registrar"},508," ",{"$f":"IF(ISERROR(CONCATENATE($S509,\".\",VLOOKUP($K509,'1_Metas_Resultados'!$D$4:$E$403,2,FALSE))),\"Sin Registrar\",CONCATENATE($S509,\".\",VLOOKUP($K509,'1_Metas_Resultados'!$D$4:$E$403,2,FALSE)))","v":"Sin Registrar"},{"$f":"IF(ISERROR(CONCATENATE($S509,\".\",VLOOKUP($L509,'1_Metas_Resultados'!$D$4:$E$403,2,FALSE))),\"Sin Registrar\",CONCATENATE($S509,\".\",VLOOKUP($L509,'1_Metas_Resultados'!$D$4:$E$403,2,FALSE)))","v":"Sin Registrar"},{"$f":"IF(ISERROR(VLOOKUP(G509,'1_Metas_Resultados'!$D$4:$I$403,6,FALSE)),\"\",VLOOKUP(G509,'1_Metas_Resultados'!$D$4:$I$403,6,FALSE))","v":""}]
[{"$f":"IF(ISERROR(CONCATENATE($S510,\".\",VLOOKUP($G510,'1_Metas_Resultados'!$D$4:$E$403,2,FALSE))),\"Sin Registrar\",CONCATENATE($S510,\".\",VLOOKUP($G510,'1_Metas_Resultados'!$D$4:$E$403,2,FALSE)))","v":"Sin Registrar"},509," ",{"$f":"IF(ISERROR(CONCATENATE($S510,\".\",VLOOKUP($K510,'1_Metas_Resultados'!$D$4:$E$403,2,FALSE))),\"Sin Registrar\",CONCATENATE($S510,\".\",VLOOKUP($K510,'1_Metas_Resultados'!$D$4:$E$403,2,FALSE)))","v":"Sin Registrar"},{"$f":"IF(ISERROR(CONCATENATE($S510,\".\",VLOOKUP($L510,'1_Metas_Resultados'!$D$4:$E$403,2,FALSE))),\"Sin Registrar\",CONCATENATE($S510,\".\",VLOOKUP($L510,'1_Metas_Resultados'!$D$4:$E$403,2,FALSE)))","v":"Sin Registrar"},{"$f":"IF(ISERROR(VLOOKUP(G510,'1_Metas_Resultados'!$D$4:$I$403,6,FALSE)),\"\",VLOOKUP(G510,'1_Metas_Resultados'!$D$4:$I$403,6,FALSE))","v":""}]
[{"$f":"IF(ISERROR(CONCATENATE($S511,\".\",VLOOKUP($G511,'1_Metas_Resultados'!$D$4:$E$403,2,FALSE))),\"Sin Registrar\",CONCATENATE($S511,\".\",VLOOKUP($G511,'1_Metas_Resultados'!$D$4:$E$403,2,FALSE)))","v":"Sin Registrar"},510," ",{"$f":"IF(ISERROR(CONCATENATE($S511,\".\",VLOOKUP($K511,'1_Metas_Resultados'!$D$4:$E$403,2,FALSE))),\"Sin Registrar\",CONCATENATE($S511,\".\",VLOOKUP($K511,'1_Metas_Resultados'!$D$4:$E$403,2,FALSE)))","v":"Sin Registrar"},{"$f":"IF(ISERROR(CONCATENATE($S511,\".\",VLOOKUP($L511,'1_Metas_Resultados'!$D$4:$E$403,2,FALSE))),\"Sin Registrar\",CONCATENATE($S511,\".\",VLOOKUP($L511,'1_Metas_Resultados'!$D$4:$E$403,2,FALSE)))","v":"Sin Registrar"},{"$f":"IF(ISERROR(VLOOKUP(G511,'1_Metas_Resultados'!$D$4:$I$403,6,FALSE)),\"\",VLOOKUP(G511,'1_Metas_Resultados'!$D$4:$I$403,6,FALSE))","v":""}]
[{"$f":"IF(ISERROR(CONCATENATE($S512,\".\",VLOOKUP($G512,'1_Metas_Resultados'!$D$4:$E$403,2,FALSE))),\"Sin Registrar\",CONCATENATE($S512,\".\",VLOOKUP($G512,'1_Metas_Resultados'!$D$4:$E$403,2,FALSE)))","v":"Sin Registrar"},511," ",{"$f":"IF(ISERROR(CONCATENATE($S512,\".\",VLOOKUP($K512,'1_Metas_Resultados'!$D$4:$E$403,2,FALSE))),\"Sin Registrar\",CONCATENATE($S512,\".\",VLOOKUP($K512,'1_Metas_Resultados'!$D$4:$E$403,2,FALSE)))","v":"Sin Registrar"},{"$f":"IF(ISERROR(CONCATENATE($S512,\".\",VLOOKUP($L512,'1_Metas_Resultados'!$D$4:$E$403,2,FALSE))),\"Sin Registrar\",CONCATENATE($S512,\".\",VLOOKUP($L512,'1_Metas_Resultados'!$D$4:$E$403,2,FALSE)))","v":"Sin Registrar"},{"$f":"IF(ISERROR(VLOOKUP(G512,'1_Metas_Resultados'!$D$4:$I$403,6,FALSE)),\"\",VLOOKUP(G512,'1_Metas_Resultados'!$D$4:$I$403,6,FALSE))","v":""}]
[{"$f":"IF(ISERROR(CONCATENATE($S513,\".\",VLOOKUP($G513,'1_Metas_Resultados'!$D$4:$E$403,2,FALSE))),\"Sin Registrar\",CONCATENATE($S513,\".\",VLOOKUP($G513,'1_Metas_Resultados'!$D$4:$E$403,2,FALSE)))","v":"Sin Registrar"},512," ",{"$f":"IF(ISERROR(CONCATENATE($S513,\".\",VLOOKUP($K513,'1_Metas_Resultados'!$D$4:$E$403,2,FALSE))),\"Sin Registrar\",CONCATENATE($S513,\".\",VLOOKUP($K513,'1_Metas_Resultados'!$D$4:$E$403,2,FALSE)))","v":"Sin Registrar"},{"$f":"IF(ISERROR(CONCATENATE($S513,\".\",VLOOKUP($L513,'1_Metas_Resultados'!$D$4:$E$403,2,FALSE))),\"Sin Registrar\",CONCATENATE($S513,\".\",VLOOKUP($L513,'1_Metas_Resultados'!$D$4:$E$403,2,FALSE)))","v":"Sin Registrar"},{"$f":"IF(ISERROR(VLOOKUP(G513,'1_Metas_Resultados'!$D$4:$I$403,6,FALSE)),\"\",VLOOKUP(G513,'1_Metas_Resultados'!$D$4:$I$403,6,FALSE))","v":""}]
[{"$f":"IF(ISERROR(CONCATENATE($S514,\".\",VLOOKUP($G514,'1_Metas_Resultados'!$D$4:$E$403,2,FALSE))),\"Sin Registrar\",CONCATENATE($S514,\".\",VLOOKUP($G514,'1_Metas_Resultados'!$D$4:$E$403,2,FALSE)))","v":"Sin Registrar"},513," ",{"$f":"IF(ISERROR(CONCATENATE($S514,\".\",VLOOKUP($K514,'1_Metas_Resultados'!$D$4:$E$403,2,FALSE))),\"Sin Registrar\",CONCATENATE($S514,\".\",VLOOKUP($K514,'1_Metas_Resultados'!$D$4:$E$403,2,FALSE)))","v":"Sin Registrar"},{"$f":"IF(ISERROR(CONCATENATE($S514,\".\",VLOOKUP($L514,'1_Metas_Resultados'!$D$4:$E$403,2,FALSE))),\"Sin Registrar\",CONCATENATE($S514,\".\",VLOOKUP($L514,'1_Metas_Resultados'!$D$4:$E$403,2,FALSE)))","v":"Sin Registrar"},{"$f":"IF(ISERROR(VLOOKUP(G514,'1_Metas_Resultados'!$D$4:$I$403,6,FALSE)),\"\",VLOOKUP(G514,'1_Metas_Resultados'!$D$4:$I$403,6,FALSE))","v":""}]
[{"$f":"IF(ISERROR(CONCATENATE($S515,\".\",VLOOKUP($G515,'1_Metas_Resultados'!$D$4:$E$403,2,FALSE))),\"Sin Registrar\",CONCATENATE($S515,\".\",VLOOKUP($G515,'1_Metas_Resultados'!$D$4:$E$403,2,FALSE)))","v":"Sin Registrar"},514," ",{"$f":"IF(ISERROR(CONCATENATE($S515,\".\",VLOOKUP($K515,'1_Metas_Resultados'!$D$4:$E$403,2,FALSE))),\"Sin Registrar\",CONCATENATE($S515,\".\",VLOOKUP($K515,'1_Metas_Resultados'!$D$4:$E$403,2,FALSE)))","v":"Sin Registrar"},{"$f":"IF(ISERROR(CONCATENATE($S515,\".\",VLOOKUP($L515,'1_Metas_Resultados'!$D$4:$E$403,2,FALSE))),\"Sin Registrar\",CONCATENATE($S515,\".\",VLOOKUP($L515,'1_Metas_Resultados'!$D$4:$E$403,2,FALSE)))","v":"Sin Registrar"},{"$f":"IF(ISERROR(VLOOKUP(G515,'1_Metas_Resultados'!$D$4:$I$403,6,FALSE)),\"\",VLOOKUP(G515,'1_Metas_Resultados'!$D$4:$I$403,6,FALSE))","v":""}]
[{"$f":"IF(ISERROR(CONCATENATE($S516,\".\",VLOOKUP($G516,'1_Metas_Resultados'!$D$4:$E$403,2,FALSE))),\"Sin Registrar\",CONCATENATE($S516,\".\",VLOOKUP($G516,'1_Metas_Resultados'!$D$4:$E$403,2,FALSE)))","v":"Sin Registrar"},515," ",{"$f":"IF(ISERROR(CONCATENATE($S516,\".\",VLOOKUP($K516,'1_Metas_Resultados'!$D$4:$E$403,2,FALSE))),\"Sin Registrar\",CONCATENATE($S516,\".\",VLOOKUP($K516,'1_Metas_Resultados'!$D$4:$E$403,2,FALSE)))","v":"Sin Registrar"},{"$f":"IF(ISERROR(CONCATENATE($S516,\".\",VLOOKUP($L516,'1_Metas_Resultados'!$D$4:$E$403,2,FALSE))),\"Sin Registrar\",CONCATENATE($S516,\".\",VLOOKUP($L516,'1_Metas_Resultados'!$D$4:$E$403,2,FALSE)))","v":"Sin Registrar"},{"$f":"IF(ISERROR(VLOOKUP(G516,'1_Metas_Resultados'!$D$4:$I$403,6,FALSE)),\"\",VLOOKUP(G516,'1_Metas_Resultados'!$D$4:$I$403,6,FALSE))","v":""}]
[{"$f":"IF(ISERROR(CONCATENATE($S517,\".\",VLOOKUP($G517,'1_Metas_Resultados'!$D$4:$E$403,2,FALSE))),\"Sin Registrar\",CONCATENATE($S517,\".\",VLOOKUP($G517,'1_Metas_Resultados'!$D$4:$E$403,2,FALSE)))","v":"Sin Registrar"},516,{"$f":"IF(A517=\"Sin Registrar\",\" \",CONCATENATE(A517,\".\",B517))","v":" "},{"$f":"IF(ISERROR(CONCATENATE($S517,\".\",VLOOKUP($K517,'1_Metas_Resultados'!$D$4:$E$403,2,FALSE))),\"Sin Registrar\",CONCATENATE($S517,\".\",VLOOKUP($K517,'1_Metas_Resultados'!$D$4:$E$403,2,FALSE)))","v":"Sin Registrar"},{"$f":"IF(ISERROR(CONCATENATE($S517,\".\",VLOOKUP($L517,'1_Metas_Resultados'!$D$4:$E$403,2,FALSE))),\"Sin Registrar\",CONCATENATE($S517,\".\",VLOOKUP($L517,'1_Metas_Resultados'!$D$4:$E$403,2,FALSE)))","v":"Sin Registrar"},{"$f":"IF(ISERROR(VLOOKUP(G517,'1_Metas_Resultados'!$D$4:$I$403,6,FALSE)),\"\",VLOOKUP(G517,'1_Metas_Resultados'!$D$4:$I$403,6,FALSE))","v":""}]
[{"$f":"IF(ISERROR(CONCATENATE($S518,\".\",VLOOKUP($G518,'1_Metas_Resultados'!$D$4:$E$403,2,FALSE))),\"Sin Registrar\",CONCATENATE($S518,\".\",VLOOKUP($G518,'1_Metas_Resultados'!$D$4:$E$403,2,FALSE)))","v":"Sin Registrar"},517," ",{"$f":"IF(ISERROR(CONCATENATE($S518,\".\",VLOOKUP($K518,'1_Metas_Resultados'!$D$4:$E$403,2,FALSE))),\"Sin Registrar\",CONCATENATE($S518,\".\",VLOOKUP($K518,'1_Metas_Resultados'!$D$4:$E$403,2,FALSE)))","v":"Sin Registrar"},{"$f":"IF(ISERROR(CONCATENATE($S518,\".\",VLOOKUP($L518,'1_Metas_Resultados'!$D$4:$E$403,2,FALSE))),\"Sin Registrar\",CONCATENATE($S518,\".\",VLOOKUP($L518,'1_Metas_Resultados'!$D$4:$E$403,2,FALSE)))","v":"Sin Registrar"},{"$f":"IF(ISERROR(VLOOKUP(G518,'1_Metas_Resultados'!$D$4:$I$403,6,FALSE)),\"\",VLOOKUP(G518,'1_Metas_Resultados'!$D$4:$I$403,6,FALSE))","v":""}]
[{"$f":"IF(ISERROR(CONCATENATE($S519,\".\",VLOOKUP($G519,'1_Metas_Resultados'!$D$4:$E$403,2,FALSE))),\"Sin Registrar\",CONCATENATE($S519,\".\",VLOOKUP($G519,'1_Metas_Resultados'!$D$4:$E$403,2,FALSE)))","v":"Sin Registrar"},518," ",{"$f":"IF(ISERROR(CONCATENATE($S519,\".\",VLOOKUP($K519,'1_Metas_Resultados'!$D$4:$E$403,2,FALSE))),\"Sin Registrar\",CONCATENATE($S519,\".\",VLOOKUP($K519,'1_Metas_Resultados'!$D$4:$E$403,2,FALSE)))","v":"Sin Registrar"},{"$f":"IF(ISERROR(CONCATENATE($S519,\".\",VLOOKUP($L519,'1_Metas_Resultados'!$D$4:$E$403,2,FALSE))),\"Sin Registrar\",CONCATENATE($S519,\".\",VLOOKUP($L519,'1_Metas_Resultados'!$D$4:$E$403,2,FALSE)))","v":"Sin Registrar"},{"$f":"IF(ISERROR(VLOOKUP(G519,'1_Metas_Resultados'!$D$4:$I$403,6,FALSE)),\"\",VLOOKUP(G519,'1_Metas_Resultados'!$D$4:$I$403,6,FALSE))","v":""}]
[{"$f":"IF(ISERROR(CONCATENATE($S520,\".\",VLOOKUP($G520,'1_Metas_Resultados'!$D$4:$E$403,2,FALSE))),\"Sin Registrar\",CONCATENATE($S520,\".\",VLOOKUP($G520,'1_Metas_Resultados'!$D$4:$E$403,2,FALSE)))","v":"Sin Registrar"},519," ",{"$f":"IF(ISERROR(CONCATENATE($S520,\".\",VLOOKUP($K520,'1_Metas_Resultados'!$D$4:$E$403,2,FALSE))),\"Sin Registrar\",CONCATENATE($S520,\".\",VLOOKUP($K520,'1_Metas_Resultados'!$D$4:$E$403,2,FALSE)))","v":"Sin Registrar"},{"$f":"IF(ISERROR(CONCATENATE($S520,\".\",VLOOKUP($L520,'1_Metas_Resultados'!$D$4:$E$403,2,FALSE))),\"Sin Registrar\",CONCATENATE($S520,\".\",VLOOKUP($L520,'1_Metas_Resultados'!$D$4:$E$403,2,FALSE)))","v":"Sin Registrar"},{"$f":"IF(ISERROR(VLOOKUP(G520,'1_Metas_Resultados'!$D$4:$I$403,6,FALSE)),\"\",VLOOKUP(G520,'1_Metas_Resultados'!$D$4:$I$403,6,FALSE))","v":""}]
[{"$f":"IF(ISERROR(CONCATENATE($S521,\".\",VLOOKUP($G521,'1_Metas_Resultados'!$D$4:$E$403,2,FALSE))),\"Sin Registrar\",CONCATENATE($S521,\".\",VLOOKUP($G521,'1_Metas_Resultados'!$D$4:$E$403,2,FALSE)))","v":"Sin Registrar"},520," ",{"$f":"IF(ISERROR(CONCATENATE($S521,\".\",VLOOKUP($K521,'1_Metas_Resultados'!$D$4:$E$403,2,FALSE))),\"Sin Registrar\",CONCATENATE($S521,\".\",VLOOKUP($K521,'1_Metas_Resultados'!$D$4:$E$403,2,FALSE)))","v":"Sin Registrar"},{"$f":"IF(ISERROR(CONCATENATE($S521,\".\",VLOOKUP($L521,'1_Metas_Resultados'!$D$4:$E$403,2,FALSE))),\"Sin Registrar\",CONCATENATE($S521,\".\",VLOOKUP($L521,'1_Metas_Resultados'!$D$4:$E$403,2,FALSE)))","v":"Sin Registrar"},{"$f":"IF(ISERROR(VLOOKUP(G521,'1_Metas_Resultados'!$D$4:$I$403,6,FALSE)),\"\",VLOOKUP(G521,'1_Metas_Resultados'!$D$4:$I$403,6,FALSE))","v":""}]
[{"$f":"IF(ISERROR(CONCATENATE($S522,\".\",VLOOKUP($G522,'1_Metas_Resultados'!$D$4:$E$403,2,FALSE))),\"Sin Registrar\",CONCATENATE($S522,\".\",VLOOKUP($G522,'1_Metas_Resultados'!$D$4:$E$403,2,FALSE)))","v":"Sin Registrar"},521," ",{"$f":"IF(ISERROR(CONCATENATE($S522,\".\",VLOOKUP($K522,'1_Metas_Resultados'!$D$4:$E$403,2,FALSE))),\"Sin Registrar\",CONCATENATE($S522,\".\",VLOOKUP($K522,'1_Metas_Resultados'!$D$4:$E$403,2,FALSE)))","v":"Sin Registrar"},{"$f":"IF(ISERROR(CONCATENATE($S522,\".\",VLOOKUP($L522,'1_Metas_Resultados'!$D$4:$E$403,2,FALSE))),\"Sin Registrar\",CONCATENATE($S522,\".\",VLOOKUP($L522,'1_Metas_Resultados'!$D$4:$E$403,2,FALSE)))","v":"Sin Registrar"},{"$f":"IF(ISERROR(VLOOKUP(G522,'1_Metas_Resultados'!$D$4:$I$403,6,FALSE)),\"\",VLOOKUP(G522,'1_Metas_Resultados'!$D$4:$I$403,6,FALSE))","v":""}]
[{"$f":"IF(ISERROR(CONCATENATE($S523,\".\",VLOOKUP($G523,'1_Metas_Resultados'!$D$4:$E$403,2,FALSE))),\"Sin Registrar\",CONCATENATE($S523,\".\",VLOOKUP($G523,'1_Metas_Resultados'!$D$4:$E$403,2,FALSE)))","v":"Sin Registrar"},522," ",{"$f":"IF(ISERROR(CONCATENATE($S523,\".\",VLOOKUP($K523,'1_Metas_Resultados'!$D$4:$E$403,2,FALSE))),\"Sin Registrar\",CONCATENATE($S523,\".\",VLOOKUP($K523,'1_Metas_Resultados'!$D$4:$E$403,2,FALSE)))","v":"Sin Registrar"},{"$f":"IF(ISERROR(CONCATENATE($S523,\".\",VLOOKUP($L523,'1_Metas_Resultados'!$D$4:$E$403,2,FALSE))),\"Sin Registrar\",CONCATENATE($S523,\".\",VLOOKUP($L523,'1_Metas_Resultados'!$D$4:$E$403,2,FALSE)))","v":"Sin Registrar"},{"$f":"IF(ISERROR(VLOOKUP(G523,'1_Metas_Resultados'!$D$4:$I$403,6,FALSE)),\"\",VLOOKUP(G523,'1_Metas_Resultados'!$D$4:$I$403,6,FALSE))","v":""}]
[{"$f":"IF(ISERROR(CONCATENATE($S524,\".\",VLOOKUP($G524,'1_Metas_Resultados'!$D$4:$E$403,2,FALSE))),\"Sin Registrar\",CONCATENATE($S524,\".\",VLOOKUP($G524,'1_Metas_Resultados'!$D$4:$E$403,2,FALSE)))","v":"Sin Registrar"},523," ",{"$f":"IF(ISERROR(CONCATENATE($S524,\".\",VLOOKUP($K524,'1_Metas_Resultados'!$D$4:$E$403,2,FALSE))),\"Sin Registrar\",CONCATENATE($S524,\".\",VLOOKUP($K524,'1_Metas_Resultados'!$D$4:$E$403,2,FALSE)))","v":"Sin Registrar"},{"$f":"IF(ISERROR(CONCATENATE($S524,\".\",VLOOKUP($L524,'1_Metas_Resultados'!$D$4:$E$403,2,FALSE))),\"Sin Registrar\",CONCATENATE($S524,\".\",VLOOKUP($L524,'1_Metas_Resultados'!$D$4:$E$403,2,FALSE)))","v":"Sin Registrar"},{"$f":"IF(ISERROR(VLOOKUP(G524,'1_Metas_Resultados'!$D$4:$I$403,6,FALSE)),\"\",VLOOKUP(G524,'1_Metas_Resultados'!$D$4:$I$403,6,FALSE))","v":""}]
[{"$f":"IF(ISERROR(CONCATENATE($S525,\".\",VLOOKUP($G525,'1_Metas_Resultados'!$D$4:$E$403,2,FALSE))),\"Sin Registrar\",CONCATENATE($S525,\".\",VLOOKUP($G525,'1_Metas_Resultados'!$D$4:$E$403,2,FALSE)))","v":"Sin Registrar"},524," ",{"$f":"IF(ISERROR(CONCATENATE($S525,\".\",VLOOKUP($K525,'1_Metas_Resultados'!$D$4:$E$403,2,FALSE))),\"Sin Registrar\",CONCATENATE($S525,\".\",VLOOKUP($K525,'1_Metas_Resultados'!$D$4:$E$403,2,FALSE)))","v":"Sin Registrar"},{"$f":"IF(ISERROR(CONCATENATE($S525,\".\",VLOOKUP($L525,'1_Metas_Resultados'!$D$4:$E$403,2,FALSE))),\"Sin Registrar\",CONCATENATE($S525,\".\",VLOOKUP($L525,'1_Metas_Resultados'!$D$4:$E$403,2,FALSE)))","v":"Sin Registrar"},{"$f":"IF(ISERROR(VLOOKUP(G525,'1_Metas_Resultados'!$D$4:$I$403,6,FALSE)),\"\",VLOOKUP(G525,'1_Metas_Resultados'!$D$4:$I$403,6,FALSE))","v":""}]
[{"$f":"IF(ISERROR(CONCATENATE($S526,\".\",VLOOKUP($G526,'1_Metas_Resultados'!$D$4:$E$403,2,FALSE))),\"Sin Registrar\",CONCATENATE($S526,\".\",VLOOKUP($G526,'1_Metas_Resultados'!$D$4:$E$403,2,FALSE)))","v":"Sin Registrar"},525," ",{"$f":"IF(ISERROR(CONCATENATE($S526,\".\",VLOOKUP($K526,'1_Metas_Resultados'!$D$4:$E$403,2,FALSE))),\"Sin Registrar\",CONCATENATE($S526,\".\",VLOOKUP($K526,'1_Metas_Resultados'!$D$4:$E$403,2,FALSE)))","v":"Sin Registrar"},{"$f":"IF(ISERROR(CONCATENATE($S526,\".\",VLOOKUP($L526,'1_Metas_Resultados'!$D$4:$E$403,2,FALSE))),\"Sin Registrar\",CONCATENATE($S526,\".\",VLOOKUP($L526,'1_Metas_Resultados'!$D$4:$E$403,2,FALSE)))","v":"Sin Registrar"},{"$f":"IF(ISERROR(VLOOKUP(G526,'1_Metas_Resultados'!$D$4:$I$403,6,FALSE)),\"\",VLOOKUP(G526,'1_Metas_Resultados'!$D$4:$I$403,6,FALSE))","v":""}]
[{"$f":"IF(ISERROR(CONCATENATE($S527,\".\",VLOOKUP($G527,'1_Metas_Resultados'!$D$4:$E$403,2,FALSE))),\"Sin Registrar\",CONCATENATE($S527,\".\",VLOOKUP($G527,'1_Metas_Resultados'!$D$4:$E$403,2,FALSE)))","v":"Sin Registrar"},526," ",{"$f":"IF(ISERROR(CONCATENATE($S527,\".\",VLOOKUP($K527,'1_Metas_Resultados'!$D$4:$E$403,2,FALSE))),\"Sin Registrar\",CONCATENATE($S527,\".\",VLOOKUP($K527,'1_Metas_Resultados'!$D$4:$E$403,2,FALSE)))","v":"Sin Registrar"},{"$f":"IF(ISERROR(CONCATENATE($S527,\".\",VLOOKUP($L527,'1_Metas_Resultados'!$D$4:$E$403,2,FALSE))),\"Sin Registrar\",CONCATENATE($S527,\".\",VLOOKUP($L527,'1_Metas_Resultados'!$D$4:$E$403,2,FALSE)))","v":"Sin Registrar"},{"$f":"IF(ISERROR(VLOOKUP(G527,'1_Metas_Resultados'!$D$4:$I$403,6,FALSE)),\"\",VLOOKUP(G527,'1_Metas_Resultados'!$D$4:$I$403,6,FALSE))","v":""}]
[{"$f":"IF(ISERROR(CONCATENATE($S528,\".\",VLOOKUP($G528,'1_Metas_Resultados'!$D$4:$E$403,2,FALSE))),\"Sin Registrar\",CONCATENATE($S528,\".\",VLOOKUP($G528,'1_Metas_Resultados'!$D$4:$E$403,2,FALSE)))","v":"Sin Registrar"},527," ",{"$f":"IF(ISERROR(CONCATENATE($S528,\".\",VLOOKUP($K528,'1_Metas_Resultados'!$D$4:$E$403,2,FALSE))),\"Sin Registrar\",CONCATENATE($S528,\".\",VLOOKUP($K528,'1_Metas_Resultados'!$D$4:$E$403,2,FALSE)))","v":"Sin Registrar"},{"$f":"IF(ISERROR(CONCATENATE($S528,\".\",VLOOKUP($L528,'1_Metas_Resultados'!$D$4:$E$403,2,FALSE))),\"Sin Registrar\",CONCATENATE($S528,\".\",VLOOKUP($L528,'1_Metas_Resultados'!$D$4:$E$403,2,FALSE)))","v":"Sin Registrar"},{"$f":"IF(ISERROR(VLOOKUP(G528,'1_Metas_Resultados'!$D$4:$I$403,6,FALSE)),\"\",VLOOKUP(G528,'1_Metas_Resultados'!$D$4:$I$403,6,FALSE))","v":""}]
[{"$f":"IF(ISERROR(CONCATENATE($S529,\".\",VLOOKUP($G529,'1_Metas_Resultados'!$D$4:$E$403,2,FALSE))),\"Sin Registrar\",CONCATENATE($S529,\".\",VLOOKUP($G529,'1_Metas_Resultados'!$D$4:$E$403,2,FALSE)))","v":"Sin Registrar"},528," ",{"$f":"IF(ISERROR(CONCATENATE($S529,\".\",VLOOKUP($K529,'1_Metas_Resultados'!$D$4:$E$403,2,FALSE))),\"Sin Registrar\",CONCATENATE($S529,\".\",VLOOKUP($K529,'1_Metas_Resultados'!$D$4:$E$403,2,FALSE)))","v":"Sin Registrar"},{"$f":"IF(ISERROR(CONCATENATE($S529,\".\",VLOOKUP($L529,'1_Metas_Resultados'!$D$4:$E$403,2,FALSE))),\"Sin Registrar\",CONCATENATE($S529,\".\",VLOOKUP($L529,'1_Metas_Resultados'!$D$4:$E$403,2,FALSE)))","v":"Sin Registrar"},{"$f":"IF(ISERROR(VLOOKUP(G529,'1_Metas_Resultados'!$D$4:$I$403,6,FALSE)),\"\",VLOOKUP(G529,'1_Metas_Resultados'!$D$4:$I$403,6,FALSE))","v":""}]
[{"$f":"IF(ISERROR(CONCATENATE($S530,\".\",VLOOKUP($G530,'1_Metas_Resultados'!$D$4:$E$403,2,FALSE))),\"Sin Registrar\",CONCATENATE($S530,\".\",VLOOKUP($G530,'1_Metas_Resultados'!$D$4:$E$403,2,FALSE)))","v":"Sin Registrar"},529," ",{"$f":"IF(ISERROR(CONCATENATE($S530,\".\",VLOOKUP($K530,'1_Metas_Resultados'!$D$4:$E$403,2,FALSE))),\"Sin Registrar\",CONCATENATE($S530,\".\",VLOOKUP($K530,'1_Metas_Resultados'!$D$4:$E$403,2,FALSE)))","v":"Sin Registrar"},{"$f":"IF(ISERROR(CONCATENATE($S530,\".\",VLOOKUP($L530,'1_Metas_Resultados'!$D$4:$E$403,2,FALSE))),\"Sin Registrar\",CONCATENATE($S530,\".\",VLOOKUP($L530,'1_Metas_Resultados'!$D$4:$E$403,2,FALSE)))","v":"Sin Registrar"},{"$f":"IF(ISERROR(VLOOKUP(G530,'1_Metas_Resultados'!$D$4:$I$403,6,FALSE)),\"\",VLOOKUP(G530,'1_Metas_Resultados'!$D$4:$I$403,6,FALSE))","v":""}]
[{"$f":"IF(ISERROR(CONCATENATE($S531,\".\",VLOOKUP($G531,'1_Metas_Resultados'!$D$4:$E$403,2,FALSE))),\"Sin Registrar\",CONCATENATE($S531,\".\",VLOOKUP($G531,'1_Metas_Resultados'!$D$4:$E$403,2,FALSE)))","v":"Sin Registrar"},530," ",{"$f":"IF(ISERROR(CONCATENATE($S531,\".\",VLOOKUP($K531,'1_Metas_Resultados'!$D$4:$E$403,2,FALSE))),\"Sin Registrar\",CONCATENATE($S531,\".\",VLOOKUP($K531,'1_Metas_Resultados'!$D$4:$E$403,2,FALSE)))","v":"Sin Registrar"},{"$f":"IF(ISERROR(CONCATENATE($S531,\".\",VLOOKUP($L531,'1_Metas_Resultados'!$D$4:$E$403,2,FALSE))),\"Sin Registrar\",CONCATENATE($S531,\".\",VLOOKUP($L531,'1_Metas_Resultados'!$D$4:$E$403,2,FALSE)))","v":"Sin Registrar"},{"$f":"IF(ISERROR(VLOOKUP(G531,'1_Metas_Resultados'!$D$4:$I$403,6,FALSE)),\"\",VLOOKUP(G531,'1_Metas_Resultados'!$D$4:$I$403,6,FALSE))","v":""}]
[{"$f":"IF(ISERROR(CONCATENATE($S532,\".\",VLOOKUP($G532,'1_Metas_Resultados'!$D$4:$E$403,2,FALSE))),\"Sin Registrar\",CONCATENATE($S532,\".\",VLOOKUP($G532,'1_Metas_Resultados'!$D$4:$E$403,2,FALSE)))","v":"Sin Registrar"},531," ",{"$f":"IF(ISERROR(CONCATENATE($S532,\".\",VLOOKUP($K532,'1_Metas_Resultados'!$D$4:$E$403,2,FALSE))),\"Sin Registrar\",CONCATENATE($S532,\".\",VLOOKUP($K532,'1_Metas_Resultados'!$D$4:$E$403,2,FALSE)))","v":"Sin Registrar"},{"$f":"IF(ISERROR(CONCATENATE($S532,\".\",VLOOKUP($L532,'1_Metas_Resultados'!$D$4:$E$403,2,FALSE))),\"Sin Registrar\",CONCATENATE($S532,\".\",VLOOKUP($L532,'1_Metas_Resultados'!$D$4:$E$403,2,FALSE)))","v":"Sin Registrar"},{"$f":"IF(ISERROR(VLOOKUP(G532,'1_Metas_Resultados'!$D$4:$I$403,6,FALSE)),\"\",VLOOKUP(G532,'1_Metas_Resultados'!$D$4:$I$403,6,FALSE))","v":""}]
[{"$f":"IF(ISERROR(CONCATENATE($S533,\".\",VLOOKUP($G533,'1_Metas_Resultados'!$D$4:$E$403,2,FALSE))),\"Sin Registrar\",CONCATENATE($S533,\".\",VLOOKUP($G533,'1_Metas_Resultados'!$D$4:$E$403,2,FALSE)))","v":"Sin Registrar"},532," ",{"$f":"IF(ISERROR(CONCATENATE($S533,\".\",VLOOKUP($K533,'1_Metas_Resultados'!$D$4:$E$403,2,FALSE))),\"Sin Registrar\",CONCATENATE($S533,\".\",VLOOKUP($K533,'1_Metas_Resultados'!$D$4:$E$403,2,FALSE)))","v":"Sin Registrar"},{"$f":"IF(ISERROR(CONCATENATE($S533,\".\",VLOOKUP($L533,'1_Metas_Resultados'!$D$4:$E$403,2,FALSE))),\"Sin Registrar\",CONCATENATE($S533,\".\",VLOOKUP($L533,'1_Metas_Resultados'!$D$4:$E$403,2,FALSE)))","v":"Sin Registrar"},{"$f":"IF(ISERROR(VLOOKUP(G533,'1_Metas_Resultados'!$D$4:$I$403,6,FALSE)),\"\",VLOOKUP(G533,'1_Metas_Resultados'!$D$4:$I$403,6,FALSE))","v":""}]
[{"$f":"IF(ISERROR(CONCATENATE($S534,\".\",VLOOKUP($G534,'1_Metas_Resultados'!$D$4:$E$403,2,FALSE))),\"Sin Registrar\",CONCATENATE($S534,\".\",VLOOKUP($G534,'1_Metas_Resultados'!$D$4:$E$403,2,FALSE)))","v":"Sin Registrar"},533," ",{"$f":"IF(ISERROR(CONCATENATE($S534,\".\",VLOOKUP($K534,'1_Metas_Resultados'!$D$4:$E$403,2,FALSE))),\"Sin Registrar\",CONCATENATE($S534,\".\",VLOOKUP($K534,'1_Metas_Resultados'!$D$4:$E$403,2,FALSE)))","v":"Sin Registrar"},{"$f":"IF(ISERROR(CONCATENATE($S534,\".\",VLOOKUP($L534,'1_Metas_Resultados'!$D$4:$E$403,2,FALSE))),\"Sin Registrar\",CONCATENATE($S534,\".\",VLOOKUP($L534,'1_Metas_Resultados'!$D$4:$E$403,2,FALSE)))","v":"Sin Registrar"},{"$f":"IF(ISERROR(VLOOKUP(G534,'1_Metas_Resultados'!$D$4:$I$403,6,FALSE)),\"\",VLOOKUP(G534,'1_Metas_Resultados'!$D$4:$I$403,6,FALSE))","v":""}]
[{"$f":"IF(ISERROR(CONCATENATE($S535,\".\",VLOOKUP($G535,'1_Metas_Resultados'!$D$4:$E$403,2,FALSE))),\"Sin Registrar\",CONCATENATE($S535,\".\",VLOOKUP($G535,'1_Metas_Resultados'!$D$4:$E$403,2,FALSE)))","v":"Sin Registrar"},534," ",{"$f":"IF(ISERROR(CONCATENATE($S535,\".\",VLOOKUP($K535,'1_Metas_Resultados'!$D$4:$E$403,2,FALSE))),\"Sin Registrar\",CONCATENATE($S535,\".\",VLOOKUP($K535,'1_Metas_Resultados'!$D$4:$E$403,2,FALSE)))","v":"Sin Registrar"},{"$f":"IF(ISERROR(CONCATENATE($S535,\".\",VLOOKUP($L535,'1_Metas_Resultados'!$D$4:$E$403,2,FALSE))),\"Sin Registrar\",CONCATENATE($S535,\".\",VLOOKUP($L535,'1_Metas_Resultados'!$D$4:$E$403,2,FALSE)))","v":"Sin Registrar"},{"$f":"IF(ISERROR(VLOOKUP(G535,'1_Metas_Resultados'!$D$4:$I$403,6,FALSE)),\"\",VLOOKUP(G535,'1_Metas_Resultados'!$D$4:$I$403,6,FALSE))","v":""}]
[{"$f":"IF(ISERROR(CONCATENATE($S536,\".\",VLOOKUP($G536,'1_Metas_Resultados'!$D$4:$E$403,2,FALSE))),\"Sin Registrar\",CONCATENATE($S536,\".\",VLOOKUP($G536,'1_Metas_Resultados'!$D$4:$E$403,2,FALSE)))","v":"Sin Registrar"},535," ",{"$f":"IF(ISERROR(CONCATENATE($S536,\".\",VLOOKUP($K536,'1_Metas_Resultados'!$D$4:$E$403,2,FALSE))),\"Sin Registrar\",CONCATENATE($S536,\".\",VLOOKUP($K536,'1_Metas_Resultados'!$D$4:$E$403,2,FALSE)))","v":"Sin Registrar"},{"$f":"IF(ISERROR(CONCATENATE($S536,\".\",VLOOKUP($L536,'1_Metas_Resultados'!$D$4:$E$403,2,FALSE))),\"Sin Registrar\",CONCATENATE($S536,\".\",VLOOKUP($L536,'1_Metas_Resultados'!$D$4:$E$403,2,FALSE)))","v":"Sin Registrar"},{"$f":"IF(ISERROR(VLOOKUP(G536,'1_Metas_Resultados'!$D$4:$I$403,6,FALSE)),\"\",VLOOKUP(G536,'1_Metas_Resultados'!$D$4:$I$403,6,FALSE))","v":""}]
[{"$f":"IF(ISERROR(CONCATENATE($S537,\".\",VLOOKUP($G537,'1_Metas_Resultados'!$D$4:$E$403,2,FALSE))),\"Sin Registrar\",CONCATENATE($S537,\".\",VLOOKUP($G537,'1_Metas_Resultados'!$D$4:$E$403,2,FALSE)))","v":"Sin Registrar"},536," ",{"$f":"IF(ISERROR(CONCATENATE($S537,\".\",VLOOKUP($K537,'1_Metas_Resultados'!$D$4:$E$403,2,FALSE))),\"Sin Registrar\",CONCATENATE($S537,\".\",VLOOKUP($K537,'1_Metas_Resultados'!$D$4:$E$403,2,FALSE)))","v":"Sin Registrar"},{"$f":"IF(ISERROR(CONCATENATE($S537,\".\",VLOOKUP($L537,'1_Metas_Resultados'!$D$4:$E$403,2,FALSE))),\"Sin Registrar\",CONCATENATE($S537,\".\",VLOOKUP($L537,'1_Metas_Resultados'!$D$4:$E$403,2,FALSE)))","v":"Sin Registrar"},{"$f":"IF(ISERROR(VLOOKUP(G537,'1_Metas_Resultados'!$D$4:$I$403,6,FALSE)),\"\",VLOOKUP(G537,'1_Metas_Resultados'!$D$4:$I$403,6,FALSE))","v":""}]
[{"$f":"IF(ISERROR(CONCATENATE($S538,\".\",VLOOKUP($G538,'1_Metas_Resultados'!$D$4:$E$403,2,FALSE))),\"Sin Registrar\",CONCATENATE($S538,\".\",VLOOKUP($G538,'1_Metas_Resultados'!$D$4:$E$403,2,FALSE)))","v":"Sin Registrar"},537," ",{"$f":"IF(ISERROR(CONCATENATE($S538,\".\",VLOOKUP($K538,'1_Metas_Resultados'!$D$4:$E$403,2,FALSE))),\"Sin Registrar\",CONCATENATE($S538,\".\",VLOOKUP($K538,'1_Metas_Resultados'!$D$4:$E$403,2,FALSE)))","v":"Sin Registrar"},{"$f":"IF(ISERROR(CONCATENATE($S538,\".\",VLOOKUP($L538,'1_Metas_Resultados'!$D$4:$E$403,2,FALSE))),\"Sin Registrar\",CONCATENATE($S538,\".\",VLOOKUP($L538,'1_Metas_Resultados'!$D$4:$E$403,2,FALSE)))","v":"Sin Registrar"},{"$f":"IF(ISERROR(VLOOKUP(G538,'1_Metas_Resultados'!$D$4:$I$403,6,FALSE)),\"\",VLOOKUP(G538,'1_Metas_Resultados'!$D$4:$I$403,6,FALSE))","v":""}]
[{"$f":"IF(ISERROR(CONCATENATE($S539,\".\",VLOOKUP($G539,'1_Metas_Resultados'!$D$4:$E$403,2,FALSE))),\"Sin Registrar\",CONCATENATE($S539,\".\",VLOOKUP($G539,'1_Metas_Resultados'!$D$4:$E$403,2,FALSE)))","v":"Sin Registrar"},538," ",{"$f":"IF(ISERROR(CONCATENATE($S539,\".\",VLOOKUP($K539,'1_Metas_Resultados'!$D$4:$E$403,2,FALSE))),\"Sin Registrar\",CONCATENATE($S539,\".\",VLOOKUP($K539,'1_Metas_Resultados'!$D$4:$E$403,2,FALSE)))","v":"Sin Registrar"},{"$f":"IF(ISERROR(CONCATENATE($S539,\".\",VLOOKUP($L539,'1_Metas_Resultados'!$D$4:$E$403,2,FALSE))),\"Sin Registrar\",CONCATENATE($S539,\".\",VLOOKUP($L539,'1_Metas_Resultados'!$D$4:$E$403,2,FALSE)))","v":"Sin Registrar"},{"$f":"IF(ISERROR(VLOOKUP(G539,'1_Metas_Resultados'!$D$4:$I$403,6,FALSE)),\"\",VLOOKUP(G539,'1_Metas_Resultados'!$D$4:$I$403,6,FALSE))","v":""}]
[{"$f":"IF(ISERROR(CONCATENATE($S540,\".\",VLOOKUP($G540,'1_Metas_Resultados'!$D$4:$E$403,2,FALSE))),\"Sin Registrar\",CONCATENATE($S540,\".\",VLOOKUP($G540,'1_Metas_Resultados'!$D$4:$E$403,2,FALSE)))","v":"Sin Registrar"},539," ",{"$f":"IF(ISERROR(CONCATENATE($S540,\".\",VLOOKUP($K540,'1_Metas_Resultados'!$D$4:$E$403,2,FALSE))),\"Sin Registrar\",CONCATENATE($S540,\".\",VLOOKUP($K540,'1_Metas_Resultados'!$D$4:$E$403,2,FALSE)))","v":"Sin Registrar"},{"$f":"IF(ISERROR(CONCATENATE($S540,\".\",VLOOKUP($L540,'1_Metas_Resultados'!$D$4:$E$403,2,FALSE))),\"Sin Registrar\",CONCATENATE($S540,\".\",VLOOKUP($L540,'1_Metas_Resultados'!$D$4:$E$403,2,FALSE)))","v":"Sin Registrar"},{"$f":"IF(ISERROR(VLOOKUP(G540,'1_Metas_Resultados'!$D$4:$I$403,6,FALSE)),\"\",VLOOKUP(G540,'1_Metas_Resultados'!$D$4:$I$403,6,FALSE))","v":""}]
[{"$f":"IF(ISERROR(CONCATENATE($S541,\".\",VLOOKUP($G541,'1_Metas_Resultados'!$D$4:$E$403,2,FALSE))),\"Sin Registrar\",CONCATENATE($S541,\".\",VLOOKUP($G541,'1_Metas_Resultados'!$D$4:$E$403,2,FALSE)))","v":"Sin Registrar"},540," ",{"$f":"IF(ISERROR(CONCATENATE($S541,\".\",VLOOKUP($K541,'1_Metas_Resultados'!$D$4:$E$403,2,FALSE))),\"Sin Registrar\",CONCATENATE($S541,\".\",VLOOKUP($K541,'1_Metas_Resultados'!$D$4:$E$403,2,FALSE)))","v":"Sin Registrar"},{"$f":"IF(ISERROR(CONCATENATE($S541,\".\",VLOOKUP($L541,'1_Metas_Resultados'!$D$4:$E$403,2,FALSE))),\"Sin Registrar\",CONCATENATE($S541,\".\",VLOOKUP($L541,'1_Metas_Resultados'!$D$4:$E$403,2,FALSE)))","v":"Sin Registrar"},{"$f":"IF(ISERROR(VLOOKUP(G541,'1_Metas_Resultados'!$D$4:$I$403,6,FALSE)),\"\",VLOOKUP(G541,'1_Metas_Resultados'!$D$4:$I$403,6,FALSE))","v":""}]
[{"$f":"IF(ISERROR(CONCATENATE($S542,\".\",VLOOKUP($G542,'1_Metas_Resultados'!$D$4:$E$403,2,FALSE))),\"Sin Registrar\",CONCATENATE($S542,\".\",VLOOKUP($G542,'1_Metas_Resultados'!$D$4:$E$403,2,FALSE)))","v":"Sin Registrar"},541," ",{"$f":"IF(ISERROR(CONCATENATE($S542,\".\",VLOOKUP($K542,'1_Metas_Resultados'!$D$4:$E$403,2,FALSE))),\"Sin Registrar\",CONCATENATE($S542,\".\",VLOOKUP($K542,'1_Metas_Resultados'!$D$4:$E$403,2,FALSE)))","v":"Sin Registrar"},{"$f":"IF(ISERROR(CONCATENATE($S542,\".\",VLOOKUP($L542,'1_Metas_Resultados'!$D$4:$E$403,2,FALSE))),\"Sin Registrar\",CONCATENATE($S542,\".\",VLOOKUP($L542,'1_Metas_Resultados'!$D$4:$E$403,2,FALSE)))","v":"Sin Registrar"},{"$f":"IF(ISERROR(VLOOKUP(G542,'1_Metas_Resultados'!$D$4:$I$403,6,FALSE)),\"\",VLOOKUP(G542,'1_Metas_Resultados'!$D$4:$I$403,6,FALSE))","v":""}]
[{"$f":"IF(ISERROR(CONCATENATE($S543,\".\",VLOOKUP($G543,'1_Metas_Resultados'!$D$4:$E$403,2,FALSE))),\"Sin Registrar\",CONCATENATE($S543,\".\",VLOOKUP($G543,'1_Metas_Resultados'!$D$4:$E$403,2,FALSE)))","v":"Sin Registrar"},542," ",{"$f":"IF(ISERROR(CONCATENATE($S543,\".\",VLOOKUP($K543,'1_Metas_Resultados'!$D$4:$E$403,2,FALSE))),\"Sin Registrar\",CONCATENATE($S543,\".\",VLOOKUP($K543,'1_Metas_Resultados'!$D$4:$E$403,2,FALSE)))","v":"Sin Registrar"},{"$f":"IF(ISERROR(CONCATENATE($S543,\".\",VLOOKUP($L543,'1_Metas_Resultados'!$D$4:$E$403,2,FALSE))),\"Sin Registrar\",CONCATENATE($S543,\".\",VLOOKUP($L543,'1_Metas_Resultados'!$D$4:$E$403,2,FALSE)))","v":"Sin Registrar"},{"$f":"IF(ISERROR(VLOOKUP(G543,'1_Metas_Resultados'!$D$4:$I$403,6,FALSE)),\"\",VLOOKUP(G543,'1_Metas_Resultados'!$D$4:$I$403,6,FALSE))","v":""}]
[{"$f":"IF(ISERROR(CONCATENATE($S544,\".\",VLOOKUP($G544,'1_Metas_Resultados'!$D$4:$E$403,2,FALSE))),\"Sin Registrar\",CONCATENATE($S544,\".\",VLOOKUP($G544,'1_Metas_Resultados'!$D$4:$E$403,2,FALSE)))","v":"Sin Registrar"},543," ",{"$f":"IF(ISERROR(CONCATENATE($S544,\".\",VLOOKUP($K544,'1_Metas_Resultados'!$D$4:$E$403,2,FALSE))),\"Sin Registrar\",CONCATENATE($S544,\".\",VLOOKUP($K544,'1_Metas_Resultados'!$D$4:$E$403,2,FALSE)))","v":"Sin Registrar"},{"$f":"IF(ISERROR(CONCATENATE($S544,\".\",VLOOKUP($L544,'1_Metas_Resultados'!$D$4:$E$403,2,FALSE))),\"Sin Registrar\",CONCATENATE($S544,\".\",VLOOKUP($L544,'1_Metas_Resultados'!$D$4:$E$403,2,FALSE)))","v":"Sin Registrar"},{"$f":"IF(ISERROR(VLOOKUP(G544,'1_Metas_Resultados'!$D$4:$I$403,6,FALSE)),\"\",VLOOKUP(G544,'1_Metas_Resultados'!$D$4:$I$403,6,FALSE))","v":""}]
[{"$f":"IF(ISERROR(CONCATENATE($S545,\".\",VLOOKUP($G545,'1_Metas_Resultados'!$D$4:$E$403,2,FALSE))),\"Sin Registrar\",CONCATENATE($S545,\".\",VLOOKUP($G545,'1_Metas_Resultados'!$D$4:$E$403,2,FALSE)))","v":"Sin Registrar"},544," ",{"$f":"IF(ISERROR(CONCATENATE($S545,\".\",VLOOKUP($K545,'1_Metas_Resultados'!$D$4:$E$403,2,FALSE))),\"Sin Registrar\",CONCATENATE($S545,\".\",VLOOKUP($K545,'1_Metas_Resultados'!$D$4:$E$403,2,FALSE)))","v":"Sin Registrar"},{"$f":"IF(ISERROR(CONCATENATE($S545,\".\",VLOOKUP($L545,'1_Metas_Resultados'!$D$4:$E$403,2,FALSE))),\"Sin Registrar\",CONCATENATE($S545,\".\",VLOOKUP($L545,'1_Metas_Resultados'!$D$4:$E$403,2,FALSE)))","v":"Sin Registrar"},{"$f":"IF(ISERROR(VLOOKUP(G545,'1_Metas_Resultados'!$D$4:$I$403,6,FALSE)),\"\",VLOOKUP(G545,'1_Metas_Resultados'!$D$4:$I$403,6,FALSE))","v":""}]
[{"$f":"IF(ISERROR(CONCATENATE($S546,\".\",VLOOKUP($G546,'1_Metas_Resultados'!$D$4:$E$403,2,FALSE))),\"Sin Registrar\",CONCATENATE($S546,\".\",VLOOKUP($G546,'1_Metas_Resultados'!$D$4:$E$403,2,FALSE)))","v":"Sin Registrar"},545," ",{"$f":"IF(ISERROR(CONCATENATE($S546,\".\",VLOOKUP($K546,'1_Metas_Resultados'!$D$4:$E$403,2,FALSE))),\"Sin Registrar\",CONCATENATE($S546,\".\",VLOOKUP($K546,'1_Metas_Resultados'!$D$4:$E$403,2,FALSE)))","v":"Sin Registrar"},{"$f":"IF(ISERROR(CONCATENATE($S546,\".\",VLOOKUP($L546,'1_Metas_Resultados'!$D$4:$E$403,2,FALSE))),\"Sin Registrar\",CONCATENATE($S546,\".\",VLOOKUP($L546,'1_Metas_Resultados'!$D$4:$E$403,2,FALSE)))","v":"Sin Registrar"},{"$f":"IF(ISERROR(VLOOKUP(G546,'1_Metas_Resultados'!$D$4:$I$403,6,FALSE)),\"\",VLOOKUP(G546,'1_Metas_Resultados'!$D$4:$I$403,6,FALSE))","v":""}]
[{"$f":"IF(ISERROR(CONCATENATE($S547,\".\",VLOOKUP($G547,'1_Metas_Resultados'!$D$4:$E$403,2,FALSE))),\"Sin Registrar\",CONCATENATE($S547,\".\",VLOOKUP($G547,'1_Metas_Resultados'!$D$4:$E$403,2,FALSE)))","v":"Sin Registrar"},546," ",{"$f":"IF(ISERROR(CONCATENATE($S547,\".\",VLOOKUP($K547,'1_Metas_Resultados'!$D$4:$E$403,2,FALSE))),\"Sin Registrar\",CONCATENATE($S547,\".\",VLOOKUP($K547,'1_Metas_Resultados'!$D$4:$E$403,2,FALSE)))","v":"Sin Registrar"},{"$f":"IF(ISERROR(CONCATENATE($S547,\".\",VLOOKUP($L547,'1_Metas_Resultados'!$D$4:$E$403,2,FALSE))),\"Sin Registrar\",CONCATENATE($S547,\".\",VLOOKUP($L547,'1_Metas_Resultados'!$D$4:$E$403,2,FALSE)))","v":"Sin Registrar"},{"$f":"IF(ISERROR(VLOOKUP(G547,'1_Metas_Resultados'!$D$4:$I$403,6,FALSE)),\"\",VLOOKUP(G547,'1_Metas_Resultados'!$D$4:$I$403,6,FALSE))","v":""}]
[{"$f":"IF(ISERROR(CONCATENATE($S548,\".\",VLOOKUP($G548,'1_Metas_Resultados'!$D$4:$E$403,2,FALSE))),\"Sin Registrar\",CONCATENATE($S548,\".\",VLOOKUP($G548,'1_Metas_Resultados'!$D$4:$E$403,2,FALSE)))","v":"Sin Registrar"},547," ",{"$f":"IF(ISERROR(CONCATENATE($S548,\".\",VLOOKUP($K548,'1_Metas_Resultados'!$D$4:$E$403,2,FALSE))),\"Sin Registrar\",CONCATENATE($S548,\".\",VLOOKUP($K548,'1_Metas_Resultados'!$D$4:$E$403,2,FALSE)))","v":"Sin Registrar"},{"$f":"IF(ISERROR(CONCATENATE($S548,\".\",VLOOKUP($L548,'1_Metas_Resultados'!$D$4:$E$403,2,FALSE))),\"Sin Registrar\",CONCATENATE($S548,\".\",VLOOKUP($L548,'1_Metas_Resultados'!$D$4:$E$403,2,FALSE)))","v":"Sin Registrar"},{"$f":"IF(ISERROR(VLOOKUP(G548,'1_Metas_Resultados'!$D$4:$I$403,6,FALSE)),\"\",VLOOKUP(G548,'1_Metas_Resultados'!$D$4:$I$403,6,FALSE))","v":""}]
[{"$f":"IF(ISERROR(CONCATENATE($S549,\".\",VLOOKUP($G549,'1_Metas_Resultados'!$D$4:$E$403,2,FALSE))),\"Sin Registrar\",CONCATENATE($S549,\".\",VLOOKUP($G549,'1_Metas_Resultados'!$D$4:$E$403,2,FALSE)))","v":"Sin Registrar"},548," ",{"$f":"IF(ISERROR(CONCATENATE($S549,\".\",VLOOKUP($K549,'1_Metas_Resultados'!$D$4:$E$403,2,FALSE))),\"Sin Registrar\",CONCATENATE($S549,\".\",VLOOKUP($K549,'1_Metas_Resultados'!$D$4:$E$403,2,FALSE)))","v":"Sin Registrar"},{"$f":"IF(ISERROR(CONCATENATE($S549,\".\",VLOOKUP($L549,'1_Metas_Resultados'!$D$4:$E$403,2,FALSE))),\"Sin Registrar\",CONCATENATE($S549,\".\",VLOOKUP($L549,'1_Metas_Resultados'!$D$4:$E$403,2,FALSE)))","v":"Sin Registrar"},{"$f":"IF(ISERROR(VLOOKUP(G549,'1_Metas_Resultados'!$D$4:$I$403,6,FALSE)),\"\",VLOOKUP(G549,'1_Metas_Resultados'!$D$4:$I$403,6,FALSE))","v":""}]
[{"$f":"IF(ISERROR(CONCATENATE($S550,\".\",VLOOKUP($G550,'1_Metas_Resultados'!$D$4:$E$403,2,FALSE))),\"Sin Registrar\",CONCATENATE($S550,\".\",VLOOKUP($G550,'1_Metas_Resultados'!$D$4:$E$403,2,FALSE)))","v":"Sin Registrar"},549," ",{"$f":"IF(ISERROR(CONCATENATE($S550,\".\",VLOOKUP($K550,'1_Metas_Resultados'!$D$4:$E$403,2,FALSE))),\"Sin Registrar\",CONCATENATE($S550,\".\",VLOOKUP($K550,'1_Metas_Resultados'!$D$4:$E$403,2,FALSE)))","v":"Sin Registrar"},{"$f":"IF(ISERROR(CONCATENATE($S550,\".\",VLOOKUP($L550,'1_Metas_Resultados'!$D$4:$E$403,2,FALSE))),\"Sin Registrar\",CONCATENATE($S550,\".\",VLOOKUP($L550,'1_Metas_Resultados'!$D$4:$E$403,2,FALSE)))","v":"Sin Registrar"},{"$f":"IF(ISERROR(VLOOKUP(G550,'1_Metas_Resultados'!$D$4:$I$403,6,FALSE)),\"\",VLOOKUP(G550,'1_Metas_Resultados'!$D$4:$I$403,6,FALSE))","v":""}]
[{"$f":"IF(ISERROR(CONCATENATE($S551,\".\",VLOOKUP($G551,'1_Metas_Resultados'!$D$4:$E$403,2,FALSE))),\"Sin Registrar\",CONCATENATE($S551,\".\",VLOOKUP($G551,'1_Metas_Resultados'!$D$4:$E$403,2,FALSE)))","v":"Sin Registrar"},550," ",{"$f":"IF(ISERROR(CONCATENATE($S551,\".\",VLOOKUP($K551,'1_Metas_Resultados'!$D$4:$E$403,2,FALSE))),\"Sin Registrar\",CONCATENATE($S551,\".\",VLOOKUP($K551,'1_Metas_Resultados'!$D$4:$E$403,2,FALSE)))","v":"Sin Registrar"},{"$f":"IF(ISERROR(CONCATENATE($S551,\".\",VLOOKUP($L551,'1_Metas_Resultados'!$D$4:$E$403,2,FALSE))),\"Sin Registrar\",CONCATENATE($S551,\".\",VLOOKUP($L551,'1_Metas_Resultados'!$D$4:$E$403,2,FALSE)))","v":"Sin Registrar"},{"$f":"IF(ISERROR(VLOOKUP(G551,'1_Metas_Resultados'!$D$4:$I$403,6,FALSE)),\"\",VLOOKUP(G551,'1_Metas_Resultados'!$D$4:$I$403,6,FALSE))","v":""}]
[{"$f":"IF(ISERROR(CONCATENATE($S552,\".\",VLOOKUP($G552,'1_Metas_Resultados'!$D$4:$E$403,2,FALSE))),\"Sin Registrar\",CONCATENATE($S552,\".\",VLOOKUP($G552,'1_Metas_Resultados'!$D$4:$E$403,2,FALSE)))","v":"Sin Registrar"},551," ",{"$f":"IF(ISERROR(CONCATENATE($S552,\".\",VLOOKUP($K552,'1_Metas_Resultados'!$D$4:$E$403,2,FALSE))),\"Sin Registrar\",CONCATENATE($S552,\".\",VLOOKUP($K552,'1_Metas_Resultados'!$D$4:$E$403,2,FALSE)))","v":"Sin Registrar"},{"$f":"IF(ISERROR(CONCATENATE($S552,\".\",VLOOKUP($L552,'1_Metas_Resultados'!$D$4:$E$403,2,FALSE))),\"Sin Registrar\",CONCATENATE($S552,\".\",VLOOKUP($L552,'1_Metas_Resultados'!$D$4:$E$403,2,FALSE)))","v":"Sin Registrar"},{"$f":"IF(ISERROR(VLOOKUP(G552,'1_Metas_Resultados'!$D$4:$I$403,6,FALSE)),\"\",VLOOKUP(G552,'1_Metas_Resultados'!$D$4:$I$403,6,FALSE))","v":""}]
[{"$f":"IF(ISERROR(CONCATENATE($S553,\".\",VLOOKUP($G553,'1_Metas_Resultados'!$D$4:$E$403,2,FALSE))),\"Sin Registrar\",CONCATENATE($S553,\".\",VLOOKUP($G553,'1_Metas_Resultados'!$D$4:$E$403,2,FALSE)))","v":"Sin Registrar"},552," ",{"$f":"IF(ISERROR(CONCATENATE($S553,\".\",VLOOKUP($K553,'1_Metas_Resultados'!$D$4:$E$403,2,FALSE))),\"Sin Registrar\",CONCATENATE($S553,\".\",VLOOKUP($K553,'1_Metas_Resultados'!$D$4:$E$403,2,FALSE)))","v":"Sin Registrar"},{"$f":"IF(ISERROR(CONCATENATE($S553,\".\",VLOOKUP($L553,'1_Metas_Resultados'!$D$4:$E$403,2,FALSE))),\"Sin Registrar\",CONCATENATE($S553,\".\",VLOOKUP($L553,'1_Metas_Resultados'!$D$4:$E$403,2,FALSE)))","v":"Sin Registrar"},{"$f":"IF(ISERROR(VLOOKUP(G553,'1_Metas_Resultados'!$D$4:$I$403,6,FALSE)),\"\",VLOOKUP(G553,'1_Metas_Resultados'!$D$4:$I$403,6,FALSE))","v":""}]
[{"$f":"IF(ISERROR(CONCATENATE($S554,\".\",VLOOKUP($G554,'1_Metas_Resultados'!$D$4:$E$403,2,FALSE))),\"Sin Registrar\",CONCATENATE($S554,\".\",VLOOKUP($G554,'1_Metas_Resultados'!$D$4:$E$403,2,FALSE)))","v":"Sin Registrar"},553," ",{"$f":"IF(ISERROR(CONCATENATE($S554,\".\",VLOOKUP($K554,'1_Metas_Resultados'!$D$4:$E$403,2,FALSE))),\"Sin Registrar\",CONCATENATE($S554,\".\",VLOOKUP($K554,'1_Metas_Resultados'!$D$4:$E$403,2,FALSE)))","v":"Sin Registrar"},{"$f":"IF(ISERROR(CONCATENATE($S554,\".\",VLOOKUP($L554,'1_Metas_Resultados'!$D$4:$E$403,2,FALSE))),\"Sin Registrar\",CONCATENATE($S554,\".\",VLOOKUP($L554,'1_Metas_Resultados'!$D$4:$E$403,2,FALSE)))","v":"Sin Registrar"},{"$f":"IF(ISERROR(VLOOKUP(G554,'1_Metas_Resultados'!$D$4:$I$403,6,FALSE)),\"\",VLOOKUP(G554,'1_Metas_Resultados'!$D$4:$I$403,6,FALSE))","v":""}]
[{"$f":"IF(ISERROR(CONCATENATE($S555,\".\",VLOOKUP($G555,'1_Metas_Resultados'!$D$4:$E$403,2,FALSE))),\"Sin Registrar\",CONCATENATE($S555,\".\",VLOOKUP($G555,'1_Metas_Resultados'!$D$4:$E$403,2,FALSE)))","v":"Sin Registrar"},554," ",{"$f":"IF(ISERROR(CONCATENATE($S555,\".\",VLOOKUP($K555,'1_Metas_Resultados'!$D$4:$E$403,2,FALSE))),\"Sin Registrar\",CONCATENATE($S555,\".\",VLOOKUP($K555,'1_Metas_Resultados'!$D$4:$E$403,2,FALSE)))","v":"Sin Registrar"},{"$f":"IF(ISERROR(CONCATENATE($S555,\".\",VLOOKUP($L555,'1_Metas_Resultados'!$D$4:$E$403,2,FALSE))),\"Sin Registrar\",CONCATENATE($S555,\".\",VLOOKUP($L555,'1_Metas_Resultados'!$D$4:$E$403,2,FALSE)))","v":"Sin Registrar"},{"$f":"IF(ISERROR(VLOOKUP(G555,'1_Metas_Resultados'!$D$4:$I$403,6,FALSE)),\"\",VLOOKUP(G555,'1_Metas_Resultados'!$D$4:$I$403,6,FALSE))","v":""}]
[{"$f":"IF(ISERROR(CONCATENATE($S556,\".\",VLOOKUP($G556,'1_Metas_Resultados'!$D$4:$E$403,2,FALSE))),\"Sin Registrar\",CONCATENATE($S556,\".\",VLOOKUP($G556,'1_Metas_Resultados'!$D$4:$E$403,2,FALSE)))","v":"Sin Registrar"},555," ",{"$f":"IF(ISERROR(CONCATENATE($S556,\".\",VLOOKUP($K556,'1_Metas_Resultados'!$D$4:$E$403,2,FALSE))),\"Sin Registrar\",CONCATENATE($S556,\".\",VLOOKUP($K556,'1_Metas_Resultados'!$D$4:$E$403,2,FALSE)))","v":"Sin Registrar"},{"$f":"IF(ISERROR(CONCATENATE($S556,\".\",VLOOKUP($L556,'1_Metas_Resultados'!$D$4:$E$403,2,FALSE))),\"Sin Registrar\",CONCATENATE($S556,\".\",VLOOKUP($L556,'1_Metas_Resultados'!$D$4:$E$403,2,FALSE)))","v":"Sin Registrar"},{"$f":"IF(ISERROR(VLOOKUP(G556,'1_Metas_Resultados'!$D$4:$I$403,6,FALSE)),\"\",VLOOKUP(G556,'1_Metas_Resultados'!$D$4:$I$403,6,FALSE))","v":""}]
[{"$f":"IF(ISERROR(CONCATENATE($S557,\".\",VLOOKUP($G557,'1_Metas_Resultados'!$D$4:$E$403,2,FALSE))),\"Sin Registrar\",CONCATENATE($S557,\".\",VLOOKUP($G557,'1_Metas_Resultados'!$D$4:$E$403,2,FALSE)))","v":"Sin Registrar"},556," ",{"$f":"IF(ISERROR(CONCATENATE($S557,\".\",VLOOKUP($K557,'1_Metas_Resultados'!$D$4:$E$403,2,FALSE))),\"Sin Registrar\",CONCATENATE($S557,\".\",VLOOKUP($K557,'1_Metas_Resultados'!$D$4:$E$403,2,FALSE)))","v":"Sin Registrar"},{"$f":"IF(ISERROR(CONCATENATE($S557,\".\",VLOOKUP($L557,'1_Metas_Resultados'!$D$4:$E$403,2,FALSE))),\"Sin Registrar\",CONCATENATE($S557,\".\",VLOOKUP($L557,'1_Metas_Resultados'!$D$4:$E$403,2,FALSE)))","v":"Sin Registrar"},{"$f":"IF(ISERROR(VLOOKUP(G557,'1_Metas_Resultados'!$D$4:$I$403,6,FALSE)),\"\",VLOOKUP(G557,'1_Metas_Resultados'!$D$4:$I$403,6,FALSE))","v":""}]
[{"$f":"IF(ISERROR(CONCATENATE($S558,\".\",VLOOKUP($G558,'1_Metas_Resultados'!$D$4:$E$403,2,FALSE))),\"Sin Registrar\",CONCATENATE($S558,\".\",VLOOKUP($G558,'1_Metas_Resultados'!$D$4:$E$403,2,FALSE)))","v":"Sin Registrar"},557," ",{"$f":"IF(ISERROR(CONCATENATE($S558,\".\",VLOOKUP($K558,'1_Metas_Resultados'!$D$4:$E$403,2,FALSE))),\"Sin Registrar\",CONCATENATE($S558,\".\",VLOOKUP($K558,'1_Metas_Resultados'!$D$4:$E$403,2,FALSE)))","v":"Sin Registrar"},{"$f":"IF(ISERROR(CONCATENATE($S558,\".\",VLOOKUP($L558,'1_Metas_Resultados'!$D$4:$E$403,2,FALSE))),\"Sin Registrar\",CONCATENATE($S558,\".\",VLOOKUP($L558,'1_Metas_Resultados'!$D$4:$E$403,2,FALSE)))","v":"Sin Registrar"},{"$f":"IF(ISERROR(VLOOKUP(G558,'1_Metas_Resultados'!$D$4:$I$403,6,FALSE)),\"\",VLOOKUP(G558,'1_Metas_Resultados'!$D$4:$I$403,6,FALSE))","v":""}]
[{"$f":"IF(ISERROR(CONCATENATE($S559,\".\",VLOOKUP($G559,'1_Metas_Resultados'!$D$4:$E$403,2,FALSE))),\"Sin Registrar\",CONCATENATE($S559,\".\",VLOOKUP($G559,'1_Metas_Resultados'!$D$4:$E$403,2,FALSE)))","v":"Sin Registrar"},558," ",{"$f":"IF(ISERROR(CONCATENATE($S559,\".\",VLOOKUP($K559,'1_Metas_Resultados'!$D$4:$E$403,2,FALSE))),\"Sin Registrar\",CONCATENATE($S559,\".\",VLOOKUP($K559,'1_Metas_Resultados'!$D$4:$E$403,2,FALSE)))","v":"Sin Registrar"},{"$f":"IF(ISERROR(CONCATENATE($S559,\".\",VLOOKUP($L559,'1_Metas_Resultados'!$D$4:$E$403,2,FALSE))),\"Sin Registrar\",CONCATENATE($S559,\".\",VLOOKUP($L559,'1_Metas_Resultados'!$D$4:$E$403,2,FALSE)))","v":"Sin Registrar"},{"$f":"IF(ISERROR(VLOOKUP(G559,'1_Metas_Resultados'!$D$4:$I$403,6,FALSE)),\"\",VLOOKUP(G559,'1_Metas_Resultados'!$D$4:$I$403,6,FALSE))","v":""}]
[{"$f":"IF(ISERROR(CONCATENATE($S560,\".\",VLOOKUP($G560,'1_Metas_Resultados'!$D$4:$E$403,2,FALSE))),\"Sin Registrar\",CONCATENATE($S560,\".\",VLOOKUP($G560,'1_Metas_Resultados'!$D$4:$E$403,2,FALSE)))","v":"Sin Registrar"},559," ",{"$f":"IF(ISERROR(CONCATENATE($S560,\".\",VLOOKUP($K560,'1_Metas_Resultados'!$D$4:$E$403,2,FALSE))),\"Sin Registrar\",CONCATENATE($S560,\".\",VLOOKUP($K560,'1_Metas_Resultados'!$D$4:$E$403,2,FALSE)))","v":"Sin Registrar"},{"$f":"IF(ISERROR(CONCATENATE($S560,\".\",VLOOKUP($L560,'1_Metas_Resultados'!$D$4:$E$403,2,FALSE))),\"Sin Registrar\",CONCATENATE($S560,\".\",VLOOKUP($L560,'1_Metas_Resultados'!$D$4:$E$403,2,FALSE)))","v":"Sin Registrar"},{"$f":"IF(ISERROR(VLOOKUP(G560,'1_Metas_Resultados'!$D$4:$I$403,6,FALSE)),\"\",VLOOKUP(G560,'1_Metas_Resultados'!$D$4:$I$403,6,FALSE))","v":""}]
[{"$f":"IF(ISERROR(CONCATENATE($S561,\".\",VLOOKUP($G561,'1_Metas_Resultados'!$D$4:$E$403,2,FALSE))),\"Sin Registrar\",CONCATENATE($S561,\".\",VLOOKUP($G561,'1_Metas_Resultados'!$D$4:$E$403,2,FALSE)))","v":"Sin Registrar"},560," ",{"$f":"IF(ISERROR(CONCATENATE($S561,\".\",VLOOKUP($K561,'1_Metas_Resultados'!$D$4:$E$403,2,FALSE))),\"Sin Registrar\",CONCATENATE($S561,\".\",VLOOKUP($K561,'1_Metas_Resultados'!$D$4:$E$403,2,FALSE)))","v":"Sin Registrar"},{"$f":"IF(ISERROR(CONCATENATE($S561,\".\",VLOOKUP($L561,'1_Metas_Resultados'!$D$4:$E$403,2,FALSE))),\"Sin Registrar\",CONCATENATE($S561,\".\",VLOOKUP($L561,'1_Metas_Resultados'!$D$4:$E$403,2,FALSE)))","v":"Sin Registrar"},{"$f":"IF(ISERROR(VLOOKUP(G561,'1_Metas_Resultados'!$D$4:$I$403,6,FALSE)),\"\",VLOOKUP(G561,'1_Metas_Resultados'!$D$4:$I$403,6,FALSE))","v":""}]
[{"$f":"IF(ISERROR(CONCATENATE($S562,\".\",VLOOKUP($G562,'1_Metas_Resultados'!$D$4:$E$403,2,FALSE))),\"Sin Registrar\",CONCATENATE($S562,\".\",VLOOKUP($G562,'1_Metas_Resultados'!$D$4:$E$403,2,FALSE)))","v":"Sin Registrar"},561," ",{"$f":"IF(ISERROR(CONCATENATE($S562,\".\",VLOOKUP($K562,'1_Metas_Resultados'!$D$4:$E$403,2,FALSE))),\"Sin Registrar\",CONCATENATE($S562,\".\",VLOOKUP($K562,'1_Metas_Resultados'!$D$4:$E$403,2,FALSE)))","v":"Sin Registrar"},{"$f":"IF(ISERROR(CONCATENATE($S562,\".\",VLOOKUP($L562,'1_Metas_Resultados'!$D$4:$E$403,2,FALSE))),\"Sin Registrar\",CONCATENATE($S562,\".\",VLOOKUP($L562,'1_Metas_Resultados'!$D$4:$E$403,2,FALSE)))","v":"Sin Registrar"},{"$f":"IF(ISERROR(VLOOKUP(G562,'1_Metas_Resultados'!$D$4:$I$403,6,FALSE)),\"\",VLOOKUP(G562,'1_Metas_Resultados'!$D$4:$I$403,6,FALSE))","v":""}]
[{"$f":"IF(ISERROR(CONCATENATE($S563,\".\",VLOOKUP($G563,'1_Metas_Resultados'!$D$4:$E$403,2,FALSE))),\"Sin Registrar\",CONCATENATE($S563,\".\",VLOOKUP($G563,'1_Metas_Resultados'!$D$4:$E$403,2,FALSE)))","v":"Sin Registrar"},562," ",{"$f":"IF(ISERROR(CONCATENATE($S563,\".\",VLOOKUP($K563,'1_Metas_Resultados'!$D$4:$E$403,2,FALSE))),\"Sin Registrar\",CONCATENATE($S563,\".\",VLOOKUP($K563,'1_Metas_Resultados'!$D$4:$E$403,2,FALSE)))","v":"Sin Registrar"},{"$f":"IF(ISERROR(CONCATENATE($S563,\".\",VLOOKUP($L563,'1_Metas_Resultados'!$D$4:$E$403,2,FALSE))),\"Sin Registrar\",CONCATENATE($S563,\".\",VLOOKUP($L563,'1_Metas_Resultados'!$D$4:$E$403,2,FALSE)))","v":"Sin Registrar"},{"$f":"IF(ISERROR(VLOOKUP(G563,'1_Metas_Resultados'!$D$4:$I$403,6,FALSE)),\"\",VLOOKUP(G563,'1_Metas_Resultados'!$D$4:$I$403,6,FALSE))","v":""}]
[{"$f":"IF(ISERROR(CONCATENATE($S564,\".\",VLOOKUP($G564,'1_Metas_Resultados'!$D$4:$E$403,2,FALSE))),\"Sin Registrar\",CONCATENATE($S564,\".\",VLOOKUP($G564,'1_Metas_Resultados'!$D$4:$E$403,2,FALSE)))","v":"Sin Registrar"},563," ",{"$f":"IF(ISERROR(CONCATENATE($S564,\".\",VLOOKUP($K564,'1_Metas_Resultados'!$D$4:$E$403,2,FALSE))),\"Sin Registrar\",CONCATENATE($S564,\".\",VLOOKUP($K564,'1_Metas_Resultados'!$D$4:$E$403,2,FALSE)))","v":"Sin Registrar"},{"$f":"IF(ISERROR(CONCATENATE($S564,\".\",VLOOKUP($L564,'1_Metas_Resultados'!$D$4:$E$403,2,FALSE))),\"Sin Registrar\",CONCATENATE($S564,\".\",VLOOKUP($L564,'1_Metas_Resultados'!$D$4:$E$403,2,FALSE)))","v":"Sin Registrar"},{"$f":"IF(ISERROR(VLOOKUP(G564,'1_Metas_Resultados'!$D$4:$I$403,6,FALSE)),\"\",VLOOKUP(G564,'1_Metas_Resultados'!$D$4:$I$403,6,FALSE))","v":""}]
[{"$f":"IF(ISERROR(CONCATENATE($S565,\".\",VLOOKUP($G565,'1_Metas_Resultados'!$D$4:$E$403,2,FALSE))),\"Sin Registrar\",CONCATENATE($S565,\".\",VLOOKUP($G565,'1_Metas_Resultados'!$D$4:$E$403,2,FALSE)))","v":"Sin Registrar"},564," ",{"$f":"IF(ISERROR(CONCATENATE($S565,\".\",VLOOKUP($K565,'1_Metas_Resultados'!$D$4:$E$403,2,FALSE))),\"Sin Registrar\",CONCATENATE($S565,\".\",VLOOKUP($K565,'1_Metas_Resultados'!$D$4:$E$403,2,FALSE)))","v":"Sin Registrar"},{"$f":"IF(ISERROR(CONCATENATE($S565,\".\",VLOOKUP($L565,'1_Metas_Resultados'!$D$4:$E$403,2,FALSE))),\"Sin Registrar\",CONCATENATE($S565,\".\",VLOOKUP($L565,'1_Metas_Resultados'!$D$4:$E$403,2,FALSE)))","v":"Sin Registrar"},{"$f":"IF(ISERROR(VLOOKUP(G565,'1_Metas_Resultados'!$D$4:$I$403,6,FALSE)),\"\",VLOOKUP(G565,'1_Metas_Resultados'!$D$4:$I$403,6,FALSE))","v":""}]
[{"$f":"IF(ISERROR(CONCATENATE($S566,\".\",VLOOKUP($G566,'1_Metas_Resultados'!$D$4:$E$403,2,FALSE))),\"Sin Registrar\",CONCATENATE($S566,\".\",VLOOKUP($G566,'1_Metas_Resultados'!$D$4:$E$403,2,FALSE)))","v":"Sin Registrar"},565," ",{"$f":"IF(ISERROR(CONCATENATE($S566,\".\",VLOOKUP($K566,'1_Metas_Resultados'!$D$4:$E$403,2,FALSE))),\"Sin Registrar\",CONCATENATE($S566,\".\",VLOOKUP($K566,'1_Metas_Resultados'!$D$4:$E$403,2,FALSE)))","v":"Sin Registrar"},{"$f":"IF(ISERROR(CONCATENATE($S566,\".\",VLOOKUP($L566,'1_Metas_Resultados'!$D$4:$E$403,2,FALSE))),\"Sin Registrar\",CONCATENATE($S566,\".\",VLOOKUP($L566,'1_Metas_Resultados'!$D$4:$E$403,2,FALSE)))","v":"Sin Registrar"},{"$f":"IF(ISERROR(VLOOKUP(G566,'1_Metas_Resultados'!$D$4:$I$403,6,FALSE)),\"\",VLOOKUP(G566,'1_Metas_Resultados'!$D$4:$I$403,6,FALSE))","v":""}]
[{"$f":"IF(ISERROR(CONCATENATE($S567,\".\",VLOOKUP($G567,'1_Metas_Resultados'!$D$4:$E$403,2,FALSE))),\"Sin Registrar\",CONCATENATE($S567,\".\",VLOOKUP($G567,'1_Metas_Resultados'!$D$4:$E$403,2,FALSE)))","v":"Sin Registrar"},566," ",{"$f":"IF(ISERROR(CONCATENATE($S567,\".\",VLOOKUP($K567,'1_Metas_Resultados'!$D$4:$E$403,2,FALSE))),\"Sin Registrar\",CONCATENATE($S567,\".\",VLOOKUP($K567,'1_Metas_Resultados'!$D$4:$E$403,2,FALSE)))","v":"Sin Registrar"},{"$f":"IF(ISERROR(CONCATENATE($S567,\".\",VLOOKUP($L567,'1_Metas_Resultados'!$D$4:$E$403,2,FALSE))),\"Sin Registrar\",CONCATENATE($S567,\".\",VLOOKUP($L567,'1_Metas_Resultados'!$D$4:$E$403,2,FALSE)))","v":"Sin Registrar"},{"$f":"IF(ISERROR(VLOOKUP(G567,'1_Metas_Resultados'!$D$4:$I$403,6,FALSE)),\"\",VLOOKUP(G567,'1_Metas_Resultados'!$D$4:$I$403,6,FALSE))","v":""}]
[{"$f":"IF(ISERROR(CONCATENATE($S568,\".\",VLOOKUP($G568,'1_Metas_Resultados'!$D$4:$E$403,2,FALSE))),\"Sin Registrar\",CONCATENATE($S568,\".\",VLOOKUP($G568,'1_Metas_Resultados'!$D$4:$E$403,2,FALSE)))","v":"Sin Registrar"},567," ",{"$f":"IF(ISERROR(CONCATENATE($S568,\".\",VLOOKUP($K568,'1_Metas_Resultados'!$D$4:$E$403,2,FALSE))),\"Sin Registrar\",CONCATENATE($S568,\".\",VLOOKUP($K568,'1_Metas_Resultados'!$D$4:$E$403,2,FALSE)))","v":"Sin Registrar"},{"$f":"IF(ISERROR(CONCATENATE($S568,\".\",VLOOKUP($L568,'1_Metas_Resultados'!$D$4:$E$403,2,FALSE))),\"Sin Registrar\",CONCATENATE($S568,\".\",VLOOKUP($L568,'1_Metas_Resultados'!$D$4:$E$403,2,FALSE)))","v":"Sin Registrar"},{"$f":"IF(ISERROR(VLOOKUP(G568,'1_Metas_Resultados'!$D$4:$I$403,6,FALSE)),\"\",VLOOKUP(G568,'1_Metas_Resultados'!$D$4:$I$403,6,FALSE))","v":""}]
[{"$f":"IF(ISERROR(CONCATENATE($S569,\".\",VLOOKUP($G569,'1_Metas_Resultados'!$D$4:$E$403,2,FALSE))),\"Sin Registrar\",CONCATENATE($S569,\".\",VLOOKUP($G569,'1_Metas_Resultados'!$D$4:$E$403,2,FALSE)))","v":"Sin Registrar"},568," ",{"$f":"IF(ISERROR(CONCATENATE($S569,\".\",VLOOKUP($K569,'1_Metas_Resultados'!$D$4:$E$403,2,FALSE))),\"Sin Registrar\",CONCATENATE($S569,\".\",VLOOKUP($K569,'1_Metas_Resultados'!$D$4:$E$403,2,FALSE)))","v":"Sin Registrar"},{"$f":"IF(ISERROR(CONCATENATE($S569,\".\",VLOOKUP($L569,'1_Metas_Resultados'!$D$4:$E$403,2,FALSE))),\"Sin Registrar\",CONCATENATE($S569,\".\",VLOOKUP($L569,'1_Metas_Resultados'!$D$4:$E$403,2,FALSE)))","v":"Sin Registrar"},{"$f":"IF(ISERROR(VLOOKUP(G569,'1_Metas_Resultados'!$D$4:$I$403,6,FALSE)),\"\",VLOOKUP(G569,'1_Metas_Resultados'!$D$4:$I$403,6,FALSE))","v":""}]
[{"$f":"IF(ISERROR(CONCATENATE($S570,\".\",VLOOKUP($G570,'1_Metas_Resultados'!$D$4:$E$403,2,FALSE))),\"Sin Registrar\",CONCATENATE($S570,\".\",VLOOKUP($G570,'1_Metas_Resultados'!$D$4:$E$403,2,FALSE)))","v":"Sin Registrar"},569," ",{"$f":"IF(ISERROR(CONCATENATE($S570,\".\",VLOOKUP($K570,'1_Metas_Resultados'!$D$4:$E$403,2,FALSE))),\"Sin Registrar\",CONCATENATE($S570,\".\",VLOOKUP($K570,'1_Metas_Resultados'!$D$4:$E$403,2,FALSE)))","v":"Sin Registrar"},{"$f":"IF(ISERROR(CONCATENATE($S570,\".\",VLOOKUP($L570,'1_Metas_Resultados'!$D$4:$E$403,2,FALSE))),\"Sin Registrar\",CONCATENATE($S570,\".\",VLOOKUP($L570,'1_Metas_Resultados'!$D$4:$E$403,2,FALSE)))","v":"Sin Registrar"},{"$f":"IF(ISERROR(VLOOKUP(G570,'1_Metas_Resultados'!$D$4:$I$403,6,FALSE)),\"\",VLOOKUP(G570,'1_Metas_Resultados'!$D$4:$I$403,6,FALSE))","v":""}]
[{"$f":"IF(ISERROR(CONCATENATE($S571,\".\",VLOOKUP($G571,'1_Metas_Resultados'!$D$4:$E$403,2,FALSE))),\"Sin Registrar\",CONCATENATE($S571,\".\",VLOOKUP($G571,'1_Metas_Resultados'!$D$4:$E$403,2,FALSE)))","v":"Sin Registrar"},570," ",{"$f":"IF(ISERROR(CONCATENATE($S571,\".\",VLOOKUP($K571,'1_Metas_Resultados'!$D$4:$E$403,2,FALSE))),\"Sin Registrar\",CONCATENATE($S571,\".\",VLOOKUP($K571,'1_Metas_Resultados'!$D$4:$E$403,2,FALSE)))","v":"Sin Registrar"},{"$f":"IF(ISERROR(CONCATENATE($S571,\".\",VLOOKUP($L571,'1_Metas_Resultados'!$D$4:$E$403,2,FALSE))),\"Sin Registrar\",CONCATENATE($S571,\".\",VLOOKUP($L571,'1_Metas_Resultados'!$D$4:$E$403,2,FALSE)))","v":"Sin Registrar"},{"$f":"IF(ISERROR(VLOOKUP(G571,'1_Metas_Resultados'!$D$4:$I$403,6,FALSE)),\"\",VLOOKUP(G571,'1_Metas_Resultados'!$D$4:$I$403,6,FALSE))","v":""}]
[{"$f":"IF(ISERROR(CONCATENATE($S572,\".\",VLOOKUP($G572,'1_Metas_Resultados'!$D$4:$E$403,2,FALSE))),\"Sin Registrar\",CONCATENATE($S572,\".\",VLOOKUP($G572,'1_Metas_Resultados'!$D$4:$E$403,2,FALSE)))","v":"Sin Registrar"},571," ",{"$f":"IF(ISERROR(CONCATENATE($S572,\".\",VLOOKUP($K572,'1_Metas_Resultados'!$D$4:$E$403,2,FALSE))),\"Sin Registrar\",CONCATENATE($S572,\".\",VLOOKUP($K572,'1_Metas_Resultados'!$D$4:$E$403,2,FALSE)))","v":"Sin Registrar"},{"$f":"IF(ISERROR(CONCATENATE($S572,\".\",VLOOKUP($L572,'1_Metas_Resultados'!$D$4:$E$403,2,FALSE))),\"Sin Registrar\",CONCATENATE($S572,\".\",VLOOKUP($L572,'1_Metas_Resultados'!$D$4:$E$403,2,FALSE)))","v":"Sin Registrar"},{"$f":"IF(ISERROR(VLOOKUP(G572,'1_Metas_Resultados'!$D$4:$I$403,6,FALSE)),\"\",VLOOKUP(G572,'1_Metas_Resultados'!$D$4:$I$403,6,FALSE))","v":""}]
[{"$f":"IF(ISERROR(CONCATENATE($S573,\".\",VLOOKUP($G573,'1_Metas_Resultados'!$D$4:$E$403,2,FALSE))),\"Sin Registrar\",CONCATENATE($S573,\".\",VLOOKUP($G573,'1_Metas_Resultados'!$D$4:$E$403,2,FALSE)))","v":"Sin Registrar"},572," ",{"$f":"IF(ISERROR(CONCATENATE($S573,\".\",VLOOKUP($K573,'1_Metas_Resultados'!$D$4:$E$403,2,FALSE))),\"Sin Registrar\",CONCATENATE($S573,\".\",VLOOKUP($K573,'1_Metas_Resultados'!$D$4:$E$403,2,FALSE)))","v":"Sin Registrar"},{"$f":"IF(ISERROR(CONCATENATE($S573,\".\",VLOOKUP($L573,'1_Metas_Resultados'!$D$4:$E$403,2,FALSE))),\"Sin Registrar\",CONCATENATE($S573,\".\",VLOOKUP($L573,'1_Metas_Resultados'!$D$4:$E$403,2,FALSE)))","v":"Sin Registrar"},{"$f":"IF(ISERROR(VLOOKUP(G573,'1_Metas_Resultados'!$D$4:$I$403,6,FALSE)),\"\",VLOOKUP(G573,'1_Metas_Resultados'!$D$4:$I$403,6,FALSE))","v":""}]
[{"$f":"IF(ISERROR(CONCATENATE($S574,\".\",VLOOKUP($G574,'1_Metas_Resultados'!$D$4:$E$403,2,FALSE))),\"Sin Registrar\",CONCATENATE($S574,\".\",VLOOKUP($G574,'1_Metas_Resultados'!$D$4:$E$403,2,FALSE)))","v":"Sin Registrar"},573," ",{"$f":"IF(ISERROR(CONCATENATE($S574,\".\",VLOOKUP($K574,'1_Metas_Resultados'!$D$4:$E$403,2,FALSE))),\"Sin Registrar\",CONCATENATE($S574,\".\",VLOOKUP($K574,'1_Metas_Resultados'!$D$4:$E$403,2,FALSE)))","v":"Sin Registrar"},{"$f":"IF(ISERROR(CONCATENATE($S574,\".\",VLOOKUP($L574,'1_Metas_Resultados'!$D$4:$E$403,2,FALSE))),\"Sin Registrar\",CONCATENATE($S574,\".\",VLOOKUP($L574,'1_Metas_Resultados'!$D$4:$E$403,2,FALSE)))","v":"Sin Registrar"},{"$f":"IF(ISERROR(VLOOKUP(G574,'1_Metas_Resultados'!$D$4:$I$403,6,FALSE)),\"\",VLOOKUP(G574,'1_Metas_Resultados'!$D$4:$I$403,6,FALSE))","v":""}]
[{"$f":"IF(ISERROR(CONCATENATE($S575,\".\",VLOOKUP($G575,'1_Metas_Resultados'!$D$4:$E$403,2,FALSE))),\"Sin Registrar\",CONCATENATE($S575,\".\",VLOOKUP($G575,'1_Metas_Resultados'!$D$4:$E$403,2,FALSE)))","v":"Sin Registrar"},574," ",{"$f":"IF(ISERROR(CONCATENATE($S575,\".\",VLOOKUP($K575,'1_Metas_Resultados'!$D$4:$E$403,2,FALSE))),\"Sin Registrar\",CONCATENATE($S575,\".\",VLOOKUP($K575,'1_Metas_Resultados'!$D$4:$E$403,2,FALSE)))","v":"Sin Registrar"},{"$f":"IF(ISERROR(CONCATENATE($S575,\".\",VLOOKUP($L575,'1_Metas_Resultados'!$D$4:$E$403,2,FALSE))),\"Sin Registrar\",CONCATENATE($S575,\".\",VLOOKUP($L575,'1_Metas_Resultados'!$D$4:$E$403,2,FALSE)))","v":"Sin Registrar"},{"$f":"IF(ISERROR(VLOOKUP(G575,'1_Metas_Resultados'!$D$4:$I$403,6,FALSE)),\"\",VLOOKUP(G575,'1_Metas_Resultados'!$D$4:$I$403,6,FALSE))","v":""}]
[{"$f":"IF(ISERROR(CONCATENATE($S576,\".\",VLOOKUP($G576,'1_Metas_Resultados'!$D$4:$E$403,2,FALSE))),\"Sin Registrar\",CONCATENATE($S576,\".\",VLOOKUP($G576,'1_Metas_Resultados'!$D$4:$E$403,2,FALSE)))","v":"Sin Registrar"},575," ",{"$f":"IF(ISERROR(CONCATENATE($S576,\".\",VLOOKUP($K576,'1_Metas_Resultados'!$D$4:$E$403,2,FALSE))),\"Sin Registrar\",CONCATENATE($S576,\".\",VLOOKUP($K576,'1_Metas_Resultados'!$D$4:$E$403,2,FALSE)))","v":"Sin Registrar"},{"$f":"IF(ISERROR(CONCATENATE($S576,\".\",VLOOKUP($L576,'1_Metas_Resultados'!$D$4:$E$403,2,FALSE))),\"Sin Registrar\",CONCATENATE($S576,\".\",VLOOKUP($L576,'1_Metas_Resultados'!$D$4:$E$403,2,FALSE)))","v":"Sin Registrar"},{"$f":"IF(ISERROR(VLOOKUP(G576,'1_Metas_Resultados'!$D$4:$I$403,6,FALSE)),\"\",VLOOKUP(G576,'1_Metas_Resultados'!$D$4:$I$403,6,FALSE))","v":""}]
[{"$f":"IF(ISERROR(CONCATENATE($S577,\".\",VLOOKUP($G577,'1_Metas_Resultados'!$D$4:$E$403,2,FALSE))),\"Sin Registrar\",CONCATENATE($S577,\".\",VLOOKUP($G577,'1_Metas_Resultados'!$D$4:$E$403,2,FALSE)))","v":"Sin Registrar"},576," ",{"$f":"IF(ISERROR(CONCATENATE($S577,\".\",VLOOKUP($K577,'1_Metas_Resultados'!$D$4:$E$403,2,FALSE))),\"Sin Registrar\",CONCATENATE($S577,\".\",VLOOKUP($K577,'1_Metas_Resultados'!$D$4:$E$403,2,FALSE)))","v":"Sin Registrar"},{"$f":"IF(ISERROR(CONCATENATE($S577,\".\",VLOOKUP($L577,'1_Metas_Resultados'!$D$4:$E$403,2,FALSE))),\"Sin Registrar\",CONCATENATE($S577,\".\",VLOOKUP($L577,'1_Metas_Resultados'!$D$4:$E$403,2,FALSE)))","v":"Sin Registrar"},{"$f":"IF(ISERROR(VLOOKUP(G577,'1_Metas_Resultados'!$D$4:$I$403,6,FALSE)),\"\",VLOOKUP(G577,'1_Metas_Resultados'!$D$4:$I$403,6,FALSE))","v":""}]
[{"$f":"IF(ISERROR(CONCATENATE($S578,\".\",VLOOKUP($G578,'1_Metas_Resultados'!$D$4:$E$403,2,FALSE))),\"Sin Registrar\",CONCATENATE($S578,\".\",VLOOKUP($G578,'1_Metas_Resultados'!$D$4:$E$403,2,FALSE)))","v":"Sin Registrar"},577," ",{"$f":"IF(ISERROR(CONCATENATE($S578,\".\",VLOOKUP($K578,'1_Metas_Resultados'!$D$4:$E$403,2,FALSE))),\"Sin Registrar\",CONCATENATE($S578,\".\",VLOOKUP($K578,'1_Metas_Resultados'!$D$4:$E$403,2,FALSE)))","v":"Sin Registrar"},{"$f":"IF(ISERROR(CONCATENATE($S578,\".\",VLOOKUP($L578,'1_Metas_Resultados'!$D$4:$E$403,2,FALSE))),\"Sin Registrar\",CONCATENATE($S578,\".\",VLOOKUP($L578,'1_Metas_Resultados'!$D$4:$E$403,2,FALSE)))","v":"Sin Registrar"},{"$f":"IF(ISERROR(VLOOKUP(G578,'1_Metas_Resultados'!$D$4:$I$403,6,FALSE)),\"\",VLOOKUP(G578,'1_Metas_Resultados'!$D$4:$I$403,6,FALSE))","v":""}]
[{"$f":"IF(ISERROR(CONCATENATE($S579,\".\",VLOOKUP($G579,'1_Metas_Resultados'!$D$4:$E$403,2,FALSE))),\"Sin Registrar\",CONCATENATE($S579,\".\",VLOOKUP($G579,'1_Metas_Resultados'!$D$4:$E$403,2,FALSE)))","v":"Sin Registrar"},578," ",{"$f":"IF(ISERROR(CONCATENATE($S579,\".\",VLOOKUP($K579,'1_Metas_Resultados'!$D$4:$E$403,2,FALSE))),\"Sin Registrar\",CONCATENATE($S579,\".\",VLOOKUP($K579,'1_Metas_Resultados'!$D$4:$E$403,2,FALSE)))","v":"Sin Registrar"},{"$f":"IF(ISERROR(CONCATENATE($S579,\".\",VLOOKUP($L579,'1_Metas_Resultados'!$D$4:$E$403,2,FALSE))),\"Sin Registrar\",CONCATENATE($S579,\".\",VLOOKUP($L579,'1_Metas_Resultados'!$D$4:$E$403,2,FALSE)))","v":"Sin Registrar"},{"$f":"IF(ISERROR(VLOOKUP(G579,'1_Metas_Resultados'!$D$4:$I$403,6,FALSE)),\"\",VLOOKUP(G579,'1_Metas_Resultados'!$D$4:$I$403,6,FALSE))","v":""}]
[{"$f":"IF(ISERROR(CONCATENATE($S580,\".\",VLOOKUP($G580,'1_Metas_Resultados'!$D$4:$E$403,2,FALSE))),\"Sin Registrar\",CONCATENATE($S580,\".\",VLOOKUP($G580,'1_Metas_Resultados'!$D$4:$E$403,2,FALSE)))","v":"Sin Registrar"},579," ",{"$f":"IF(ISERROR(CONCATENATE($S580,\".\",VLOOKUP($K580,'1_Metas_Resultados'!$D$4:$E$403,2,FALSE))),\"Sin Registrar\",CONCATENATE($S580,\".\",VLOOKUP($K580,'1_Metas_Resultados'!$D$4:$E$403,2,FALSE)))","v":"Sin Registrar"},{"$f":"IF(ISERROR(CONCATENATE($S580,\".\",VLOOKUP($L580,'1_Metas_Resultados'!$D$4:$E$403,2,FALSE))),\"Sin Registrar\",CONCATENATE($S580,\".\",VLOOKUP($L580,'1_Metas_Resultados'!$D$4:$E$403,2,FALSE)))","v":"Sin Registrar"},{"$f":"IF(ISERROR(VLOOKUP(G580,'1_Metas_Resultados'!$D$4:$I$403,6,FALSE)),\"\",VLOOKUP(G580,'1_Metas_Resultados'!$D$4:$I$403,6,FALSE))","v":""}]
[{"$f":"IF(ISERROR(CONCATENATE($S581,\".\",VLOOKUP($G581,'1_Metas_Resultados'!$D$4:$E$403,2,FALSE))),\"Sin Registrar\",CONCATENATE($S581,\".\",VLOOKUP($G581,'1_Metas_Resultados'!$D$4:$E$403,2,FALSE)))","v":"Sin Registrar"},580,{"$f":"IF(A581=\"Sin Registrar\",\" \",CONCATENATE(A581,\".\",B581))","v":" "},{"$f":"IF(ISERROR(CONCATENATE($S581,\".\",VLOOKUP($K581,'1_Metas_Resultados'!$D$4:$E$403,2,FALSE))),\"Sin Registrar\",CONCATENATE($S581,\".\",VLOOKUP($K581,'1_Metas_Resultados'!$D$4:$E$403,2,FALSE)))","v":"Sin Registrar"},{"$f":"IF(ISERROR(CONCATENATE($S581,\".\",VLOOKUP($L581,'1_Metas_Resultados'!$D$4:$E$403,2,FALSE))),\"Sin Registrar\",CONCATENATE($S581,\".\",VLOOKUP($L581,'1_Metas_Resultados'!$D$4:$E$403,2,FALSE)))","v":"Sin Registrar"},{"$f":"IF(ISERROR(VLOOKUP(G581,'1_Metas_Resultados'!$D$4:$I$403,6,FALSE)),\"\",VLOOKUP(G581,'1_Metas_Resultados'!$D$4:$I$403,6,FALSE))","v":""}]
[{"$f":"IF(ISERROR(CONCATENATE($S582,\".\",VLOOKUP($G582,'1_Metas_Resultados'!$D$4:$E$403,2,FALSE))),\"Sin Registrar\",CONCATENATE($S582,\".\",VLOOKUP($G582,'1_Metas_Resultados'!$D$4:$E$403,2,FALSE)))","v":"Sin Registrar"},581," ",{"$f":"IF(ISERROR(CONCATENATE($S582,\".\",VLOOKUP($K582,'1_Metas_Resultados'!$D$4:$E$403,2,FALSE))),\"Sin Registrar\",CONCATENATE($S582,\".\",VLOOKUP($K582,'1_Metas_Resultados'!$D$4:$E$403,2,FALSE)))","v":"Sin Registrar"},{"$f":"IF(ISERROR(CONCATENATE($S582,\".\",VLOOKUP($L582,'1_Metas_Resultados'!$D$4:$E$403,2,FALSE))),\"Sin Registrar\",CONCATENATE($S582,\".\",VLOOKUP($L582,'1_Metas_Resultados'!$D$4:$E$403,2,FALSE)))","v":"Sin Registrar"},{"$f":"IF(ISERROR(VLOOKUP(G582,'1_Metas_Resultados'!$D$4:$I$403,6,FALSE)),\"\",VLOOKUP(G582,'1_Metas_Resultados'!$D$4:$I$403,6,FALSE))","v":""}]
[{"$f":"IF(ISERROR(CONCATENATE($S583,\".\",VLOOKUP($G583,'1_Metas_Resultados'!$D$4:$E$403,2,FALSE))),\"Sin Registrar\",CONCATENATE($S583,\".\",VLOOKUP($G583,'1_Metas_Resultados'!$D$4:$E$403,2,FALSE)))","v":"Sin Registrar"},582," ",{"$f":"IF(ISERROR(CONCATENATE($S583,\".\",VLOOKUP($K583,'1_Metas_Resultados'!$D$4:$E$403,2,FALSE))),\"Sin Registrar\",CONCATENATE($S583,\".\",VLOOKUP($K583,'1_Metas_Resultados'!$D$4:$E$403,2,FALSE)))","v":"Sin Registrar"},{"$f":"IF(ISERROR(CONCATENATE($S583,\".\",VLOOKUP($L583,'1_Metas_Resultados'!$D$4:$E$403,2,FALSE))),\"Sin Registrar\",CONCATENATE($S583,\".\",VLOOKUP($L583,'1_Metas_Resultados'!$D$4:$E$403,2,FALSE)))","v":"Sin Registrar"},{"$f":"IF(ISERROR(VLOOKUP(G583,'1_Metas_Resultados'!$D$4:$I$403,6,FALSE)),\"\",VLOOKUP(G583,'1_Metas_Resultados'!$D$4:$I$403,6,FALSE))","v":""}]
[{"$f":"IF(ISERROR(CONCATENATE($S584,\".\",VLOOKUP($G584,'1_Metas_Resultados'!$D$4:$E$403,2,FALSE))),\"Sin Registrar\",CONCATENATE($S584,\".\",VLOOKUP($G584,'1_Metas_Resultados'!$D$4:$E$403,2,FALSE)))","v":"Sin Registrar"},583," ",{"$f":"IF(ISERROR(CONCATENATE($S584,\".\",VLOOKUP($K584,'1_Metas_Resultados'!$D$4:$E$403,2,FALSE))),\"Sin Registrar\",CONCATENATE($S584,\".\",VLOOKUP($K584,'1_Metas_Resultados'!$D$4:$E$403,2,FALSE)))","v":"Sin Registrar"},{"$f":"IF(ISERROR(CONCATENATE($S584,\".\",VLOOKUP($L584,'1_Metas_Resultados'!$D$4:$E$403,2,FALSE))),\"Sin Registrar\",CONCATENATE($S584,\".\",VLOOKUP($L584,'1_Metas_Resultados'!$D$4:$E$403,2,FALSE)))","v":"Sin Registrar"},{"$f":"IF(ISERROR(VLOOKUP(G584,'1_Metas_Resultados'!$D$4:$I$403,6,FALSE)),\"\",VLOOKUP(G584,'1_Metas_Resultados'!$D$4:$I$403,6,FALSE))","v":""}]
[{"$f":"IF(ISERROR(CONCATENATE($S585,\".\",VLOOKUP($G585,'1_Metas_Resultados'!$D$4:$E$403,2,FALSE))),\"Sin Registrar\",CONCATENATE($S585,\".\",VLOOKUP($G585,'1_Metas_Resultados'!$D$4:$E$403,2,FALSE)))","v":"Sin Registrar"},584," ",{"$f":"IF(ISERROR(CONCATENATE($S585,\".\",VLOOKUP($K585,'1_Metas_Resultados'!$D$4:$E$403,2,FALSE))),\"Sin Registrar\",CONCATENATE($S585,\".\",VLOOKUP($K585,'1_Metas_Resultados'!$D$4:$E$403,2,FALSE)))","v":"Sin Registrar"},{"$f":"IF(ISERROR(CONCATENATE($S585,\".\",VLOOKUP($L585,'1_Metas_Resultados'!$D$4:$E$403,2,FALSE))),\"Sin Registrar\",CONCATENATE($S585,\".\",VLOOKUP($L585,'1_Metas_Resultados'!$D$4:$E$403,2,FALSE)))","v":"Sin Registrar"},{"$f":"IF(ISERROR(VLOOKUP(G585,'1_Metas_Resultados'!$D$4:$I$403,6,FALSE)),\"\",VLOOKUP(G585,'1_Metas_Resultados'!$D$4:$I$403,6,FALSE))","v":""}]
[{"$f":"IF(ISERROR(CONCATENATE($S586,\".\",VLOOKUP($G586,'1_Metas_Resultados'!$D$4:$E$403,2,FALSE))),\"Sin Registrar\",CONCATENATE($S586,\".\",VLOOKUP($G586,'1_Metas_Resultados'!$D$4:$E$403,2,FALSE)))","v":"Sin Registrar"},585," ",{"$f":"IF(ISERROR(CONCATENATE($S586,\".\",VLOOKUP($K586,'1_Metas_Resultados'!$D$4:$E$403,2,FALSE))),\"Sin Registrar\",CONCATENATE($S586,\".\",VLOOKUP($K586,'1_Metas_Resultados'!$D$4:$E$403,2,FALSE)))","v":"Sin Registrar"},{"$f":"IF(ISERROR(CONCATENATE($S586,\".\",VLOOKUP($L586,'1_Metas_Resultados'!$D$4:$E$403,2,FALSE))),\"Sin Registrar\",CONCATENATE($S586,\".\",VLOOKUP($L586,'1_Metas_Resultados'!$D$4:$E$403,2,FALSE)))","v":"Sin Registrar"},{"$f":"IF(ISERROR(VLOOKUP(G586,'1_Metas_Resultados'!$D$4:$I$403,6,FALSE)),\"\",VLOOKUP(G586,'1_Metas_Resultados'!$D$4:$I$403,6,FALSE))","v":""}]
[{"$f":"IF(ISERROR(CONCATENATE($S587,\".\",VLOOKUP($G587,'1_Metas_Resultados'!$D$4:$E$403,2,FALSE))),\"Sin Registrar\",CONCATENATE($S587,\".\",VLOOKUP($G587,'1_Metas_Resultados'!$D$4:$E$403,2,FALSE)))","v":"Sin Registrar"},586," ",{"$f":"IF(ISERROR(CONCATENATE($S587,\".\",VLOOKUP($K587,'1_Metas_Resultados'!$D$4:$E$403,2,FALSE))),\"Sin Registrar\",CONCATENATE($S587,\".\",VLOOKUP($K587,'1_Metas_Resultados'!$D$4:$E$403,2,FALSE)))","v":"Sin Registrar"},{"$f":"IF(ISERROR(CONCATENATE($S587,\".\",VLOOKUP($L587,'1_Metas_Resultados'!$D$4:$E$403,2,FALSE))),\"Sin Registrar\",CONCATENATE($S587,\".\",VLOOKUP($L587,'1_Metas_Resultados'!$D$4:$E$403,2,FALSE)))","v":"Sin Registrar"},{"$f":"IF(ISERROR(VLOOKUP(G587,'1_Metas_Resultados'!$D$4:$I$403,6,FALSE)),\"\",VLOOKUP(G587,'1_Metas_Resultados'!$D$4:$I$403,6,FALSE))","v":""}]
[{"$f":"IF(ISERROR(CONCATENATE($S588,\".\",VLOOKUP($G588,'1_Metas_Resultados'!$D$4:$E$403,2,FALSE))),\"Sin Registrar\",CONCATENATE($S588,\".\",VLOOKUP($G588,'1_Metas_Resultados'!$D$4:$E$403,2,FALSE)))","v":"Sin Registrar"},587," ",{"$f":"IF(ISERROR(CONCATENATE($S588,\".\",VLOOKUP($K588,'1_Metas_Resultados'!$D$4:$E$403,2,FALSE))),\"Sin Registrar\",CONCATENATE($S588,\".\",VLOOKUP($K588,'1_Metas_Resultados'!$D$4:$E$403,2,FALSE)))","v":"Sin Registrar"},{"$f":"IF(ISERROR(CONCATENATE($S588,\".\",VLOOKUP($L588,'1_Metas_Resultados'!$D$4:$E$403,2,FALSE))),\"Sin Registrar\",CONCATENATE($S588,\".\",VLOOKUP($L588,'1_Metas_Resultados'!$D$4:$E$403,2,FALSE)))","v":"Sin Registrar"},{"$f":"IF(ISERROR(VLOOKUP(G588,'1_Metas_Resultados'!$D$4:$I$403,6,FALSE)),\"\",VLOOKUP(G588,'1_Metas_Resultados'!$D$4:$I$403,6,FALSE))","v":""}]
[{"$f":"IF(ISERROR(CONCATENATE($S589,\".\",VLOOKUP($G589,'1_Metas_Resultados'!$D$4:$E$403,2,FALSE))),\"Sin Registrar\",CONCATENATE($S589,\".\",VLOOKUP($G589,'1_Metas_Resultados'!$D$4:$E$403,2,FALSE)))","v":"Sin Registrar"},588," ",{"$f":"IF(ISERROR(CONCATENATE($S589,\".\",VLOOKUP($K589,'1_Metas_Resultados'!$D$4:$E$403,2,FALSE))),\"Sin Registrar\",CONCATENATE($S589,\".\",VLOOKUP($K589,'1_Metas_Resultados'!$D$4:$E$403,2,FALSE)))","v":"Sin Registrar"},{"$f":"IF(ISERROR(CONCATENATE($S589,\".\",VLOOKUP($L589,'1_Metas_Resultados'!$D$4:$E$403,2,FALSE))),\"Sin Registrar\",CONCATENATE($S589,\".\",VLOOKUP($L589,'1_Metas_Resultados'!$D$4:$E$403,2,FALSE)))","v":"Sin Registrar"},{"$f":"IF(ISERROR(VLOOKUP(G589,'1_Metas_Resultados'!$D$4:$I$403,6,FALSE)),\"\",VLOOKUP(G589,'1_Metas_Resultados'!$D$4:$I$403,6,FALSE))","v":""}]
[{"$f":"IF(ISERROR(CONCATENATE($S590,\".\",VLOOKUP($G590,'1_Metas_Resultados'!$D$4:$E$403,2,FALSE))),\"Sin Registrar\",CONCATENATE($S590,\".\",VLOOKUP($G590,'1_Metas_Resultados'!$D$4:$E$403,2,FALSE)))","v":"Sin Registrar"},589," ",{"$f":"IF(ISERROR(CONCATENATE($S590,\".\",VLOOKUP($K590,'1_Metas_Resultados'!$D$4:$E$403,2,FALSE))),\"Sin Registrar\",CONCATENATE($S590,\".\",VLOOKUP($K590,'1_Metas_Resultados'!$D$4:$E$403,2,FALSE)))","v":"Sin Registrar"},{"$f":"IF(ISERROR(CONCATENATE($S590,\".\",VLOOKUP($L590,'1_Metas_Resultados'!$D$4:$E$403,2,FALSE))),\"Sin Registrar\",CONCATENATE($S590,\".\",VLOOKUP($L590,'1_Metas_Resultados'!$D$4:$E$403,2,FALSE)))","v":"Sin Registrar"},{"$f":"IF(ISERROR(VLOOKUP(G590,'1_Metas_Resultados'!$D$4:$I$403,6,FALSE)),\"\",VLOOKUP(G590,'1_Metas_Resultados'!$D$4:$I$403,6,FALSE))","v":""}]
[{"$f":"IF(ISERROR(CONCATENATE($S591,\".\",VLOOKUP($G591,'1_Metas_Resultados'!$D$4:$E$403,2,FALSE))),\"Sin Registrar\",CONCATENATE($S591,\".\",VLOOKUP($G591,'1_Metas_Resultados'!$D$4:$E$403,2,FALSE)))","v":"Sin Registrar"},590," ",{"$f":"IF(ISERROR(CONCATENATE($S591,\".\",VLOOKUP($K591,'1_Metas_Resultados'!$D$4:$E$403,2,FALSE))),\"Sin Registrar\",CONCATENATE($S591,\".\",VLOOKUP($K591,'1_Metas_Resultados'!$D$4:$E$403,2,FALSE)))","v":"Sin Registrar"},{"$f":"IF(ISERROR(CONCATENATE($S591,\".\",VLOOKUP($L591,'1_Metas_Resultados'!$D$4:$E$403,2,FALSE))),\"Sin Registrar\",CONCATENATE($S591,\".\",VLOOKUP($L591,'1_Metas_Resultados'!$D$4:$E$403,2,FALSE)))","v":"Sin Registrar"},{"$f":"IF(ISERROR(VLOOKUP(G591,'1_Metas_Resultados'!$D$4:$I$403,6,FALSE)),\"\",VLOOKUP(G591,'1_Metas_Resultados'!$D$4:$I$403,6,FALSE))","v":""}]
[{"$f":"IF(ISERROR(CONCATENATE($S592,\".\",VLOOKUP($G592,'1_Metas_Resultados'!$D$4:$E$403,2,FALSE))),\"Sin Registrar\",CONCATENATE($S592,\".\",VLOOKUP($G592,'1_Metas_Resultados'!$D$4:$E$403,2,FALSE)))","v":"Sin Registrar"},591," ",{"$f":"IF(ISERROR(CONCATENATE($S592,\".\",VLOOKUP($K592,'1_Metas_Resultados'!$D$4:$E$403,2,FALSE))),\"Sin Registrar\",CONCATENATE($S592,\".\",VLOOKUP($K592,'1_Metas_Resultados'!$D$4:$E$403,2,FALSE)))","v":"Sin Registrar"},{"$f":"IF(ISERROR(CONCATENATE($S592,\".\",VLOOKUP($L592,'1_Metas_Resultados'!$D$4:$E$403,2,FALSE))),\"Sin Registrar\",CONCATENATE($S592,\".\",VLOOKUP($L592,'1_Metas_Resultados'!$D$4:$E$403,2,FALSE)))","v":"Sin Registrar"},{"$f":"IF(ISERROR(VLOOKUP(G592,'1_Metas_Resultados'!$D$4:$I$403,6,FALSE)),\"\",VLOOKUP(G592,'1_Metas_Resultados'!$D$4:$I$403,6,FALSE))","v":""}]
[{"$f":"IF(ISERROR(CONCATENATE($S593,\".\",VLOOKUP($G593,'1_Metas_Resultados'!$D$4:$E$403,2,FALSE))),\"Sin Registrar\",CONCATENATE($S593,\".\",VLOOKUP($G593,'1_Metas_Resultados'!$D$4:$E$403,2,FALSE)))","v":"Sin Registrar"},592," ",{"$f":"IF(ISERROR(CONCATENATE($S593,\".\",VLOOKUP($K593,'1_Metas_Resultados'!$D$4:$E$403,2,FALSE))),\"Sin Registrar\",CONCATENATE($S593,\".\",VLOOKUP($K593,'1_Metas_Resultados'!$D$4:$E$403,2,FALSE)))","v":"Sin Registrar"},{"$f":"IF(ISERROR(CONCATENATE($S593,\".\",VLOOKUP($L593,'1_Metas_Resultados'!$D$4:$E$403,2,FALSE))),\"Sin Registrar\",CONCATENATE($S593,\".\",VLOOKUP($L593,'1_Metas_Resultados'!$D$4:$E$403,2,FALSE)))","v":"Sin Registrar"},{"$f":"IF(ISERROR(VLOOKUP(G593,'1_Metas_Resultados'!$D$4:$I$403,6,FALSE)),\"\",VLOOKUP(G593,'1_Metas_Resultados'!$D$4:$I$403,6,FALSE))","v":""}]
[{"$f":"IF(ISERROR(CONCATENATE($S594,\".\",VLOOKUP($G594,'1_Metas_Resultados'!$D$4:$E$403,2,FALSE))),\"Sin Registrar\",CONCATENATE($S594,\".\",VLOOKUP($G594,'1_Metas_Resultados'!$D$4:$E$403,2,FALSE)))","v":"Sin Registrar"},593," ",{"$f":"IF(ISERROR(CONCATENATE($S594,\".\",VLOOKUP($K594,'1_Metas_Resultados'!$D$4:$E$403,2,FALSE))),\"Sin Registrar\",CONCATENATE($S594,\".\",VLOOKUP($K594,'1_Metas_Resultados'!$D$4:$E$403,2,FALSE)))","v":"Sin Registrar"},{"$f":"IF(ISERROR(CONCATENATE($S594,\".\",VLOOKUP($L594,'1_Metas_Resultados'!$D$4:$E$403,2,FALSE))),\"Sin Registrar\",CONCATENATE($S594,\".\",VLOOKUP($L594,'1_Metas_Resultados'!$D$4:$E$403,2,FALSE)))","v":"Sin Registrar"},{"$f":"IF(ISERROR(VLOOKUP(G594,'1_Metas_Resultados'!$D$4:$I$403,6,FALSE)),\"\",VLOOKUP(G594,'1_Metas_Resultados'!$D$4:$I$403,6,FALSE))","v":""}]
[{"$f":"IF(ISERROR(CONCATENATE($S595,\".\",VLOOKUP($G595,'1_Metas_Resultados'!$D$4:$E$403,2,FALSE))),\"Sin Registrar\",CONCATENATE($S595,\".\",VLOOKUP($G595,'1_Metas_Resultados'!$D$4:$E$403,2,FALSE)))","v":"Sin Registrar"},594," ",{"$f":"IF(ISERROR(CONCATENATE($S595,\".\",VLOOKUP($K595,'1_Metas_Resultados'!$D$4:$E$403,2,FALSE))),\"Sin Registrar\",CONCATENATE($S595,\".\",VLOOKUP($K595,'1_Metas_Resultados'!$D$4:$E$403,2,FALSE)))","v":"Sin Registrar"},{"$f":"IF(ISERROR(CONCATENATE($S595,\".\",VLOOKUP($L595,'1_Metas_Resultados'!$D$4:$E$403,2,FALSE))),\"Sin Registrar\",CONCATENATE($S595,\".\",VLOOKUP($L595,'1_Metas_Resultados'!$D$4:$E$403,2,FALSE)))","v":"Sin Registrar"},{"$f":"IF(ISERROR(VLOOKUP(G595,'1_Metas_Resultados'!$D$4:$I$403,6,FALSE)),\"\",VLOOKUP(G595,'1_Metas_Resultados'!$D$4:$I$403,6,FALSE))","v":""}]
[{"$f":"IF(ISERROR(CONCATENATE($S596,\".\",VLOOKUP($G596,'1_Metas_Resultados'!$D$4:$E$403,2,FALSE))),\"Sin Registrar\",CONCATENATE($S596,\".\",VLOOKUP($G596,'1_Metas_Resultados'!$D$4:$E$403,2,FALSE)))","v":"Sin Registrar"},595," ",{"$f":"IF(ISERROR(CONCATENATE($S596,\".\",VLOOKUP($K596,'1_Metas_Resultados'!$D$4:$E$403,2,FALSE))),\"Sin Registrar\",CONCATENATE($S596,\".\",VLOOKUP($K596,'1_Metas_Resultados'!$D$4:$E$403,2,FALSE)))","v":"Sin Registrar"},{"$f":"IF(ISERROR(CONCATENATE($S596,\".\",VLOOKUP($L596,'1_Metas_Resultados'!$D$4:$E$403,2,FALSE))),\"Sin Registrar\",CONCATENATE($S596,\".\",VLOOKUP($L596,'1_Metas_Resultados'!$D$4:$E$403,2,FALSE)))","v":"Sin Registrar"},{"$f":"IF(ISERROR(VLOOKUP(G596,'1_Metas_Resultados'!$D$4:$I$403,6,FALSE)),\"\",VLOOKUP(G596,'1_Metas_Resultados'!$D$4:$I$403,6,FALSE))","v":""}]
[{"$f":"IF(ISERROR(CONCATENATE($S597,\".\",VLOOKUP($G597,'1_Metas_Resultados'!$D$4:$E$403,2,FALSE))),\"Sin Registrar\",CONCATENATE($S597,\".\",VLOOKUP($G597,'1_Metas_Resultados'!$D$4:$E$403,2,FALSE)))","v":"Sin Registrar"},596," ",{"$f":"IF(ISERROR(CONCATENATE($S597,\".\",VLOOKUP($K597,'1_Metas_Resultados'!$D$4:$E$403,2,FALSE))),\"Sin Registrar\",CONCATENATE($S597,\".\",VLOOKUP($K597,'1_Metas_Resultados'!$D$4:$E$403,2,FALSE)))","v":"Sin Registrar"},{"$f":"IF(ISERROR(CONCATENATE($S597,\".\",VLOOKUP($L597,'1_Metas_Resultados'!$D$4:$E$403,2,FALSE))),\"Sin Registrar\",CONCATENATE($S597,\".\",VLOOKUP($L597,'1_Metas_Resultados'!$D$4:$E$403,2,FALSE)))","v":"Sin Registrar"},{"$f":"IF(ISERROR(VLOOKUP(G597,'1_Metas_Resultados'!$D$4:$I$403,6,FALSE)),\"\",VLOOKUP(G597,'1_Metas_Resultados'!$D$4:$I$403,6,FALSE))","v":""}]
[{"$f":"IF(ISERROR(CONCATENATE($S598,\".\",VLOOKUP($G598,'1_Metas_Resultados'!$D$4:$E$403,2,FALSE))),\"Sin Registrar\",CONCATENATE($S598,\".\",VLOOKUP($G598,'1_Metas_Resultados'!$D$4:$E$403,2,FALSE)))","v":"Sin Registrar"},597," ",{"$f":"IF(ISERROR(CONCATENATE($S598,\".\",VLOOKUP($K598,'1_Metas_Resultados'!$D$4:$E$403,2,FALSE))),\"Sin Registrar\",CONCATENATE($S598,\".\",VLOOKUP($K598,'1_Metas_Resultados'!$D$4:$E$403,2,FALSE)))","v":"Sin Registrar"},{"$f":"IF(ISERROR(CONCATENATE($S598,\".\",VLOOKUP($L598,'1_Metas_Resultados'!$D$4:$E$403,2,FALSE))),\"Sin Registrar\",CONCATENATE($S598,\".\",VLOOKUP($L598,'1_Metas_Resultados'!$D$4:$E$403,2,FALSE)))","v":"Sin Registrar"},{"$f":"IF(ISERROR(VLOOKUP(G598,'1_Metas_Resultados'!$D$4:$I$403,6,FALSE)),\"\",VLOOKUP(G598,'1_Metas_Resultados'!$D$4:$I$403,6,FALSE))","v":""}]
[{"$f":"IF(ISERROR(CONCATENATE($S599,\".\",VLOOKUP($G599,'1_Metas_Resultados'!$D$4:$E$403,2,FALSE))),\"Sin Registrar\",CONCATENATE($S599,\".\",VLOOKUP($G599,'1_Metas_Resultados'!$D$4:$E$403,2,FALSE)))","v":"Sin Registrar"},598," ",{"$f":"IF(ISERROR(CONCATENATE($S599,\".\",VLOOKUP($K599,'1_Metas_Resultados'!$D$4:$E$403,2,FALSE))),\"Sin Registrar\",CONCATENATE($S599,\".\",VLOOKUP($K599,'1_Metas_Resultados'!$D$4:$E$403,2,FALSE)))","v":"Sin Registrar"},{"$f":"IF(ISERROR(CONCATENATE($S599,\".\",VLOOKUP($L599,'1_Metas_Resultados'!$D$4:$E$403,2,FALSE))),\"Sin Registrar\",CONCATENATE($S599,\".\",VLOOKUP($L599,'1_Metas_Resultados'!$D$4:$E$403,2,FALSE)))","v":"Sin Registrar"},{"$f":"IF(ISERROR(VLOOKUP(G599,'1_Metas_Resultados'!$D$4:$I$403,6,FALSE)),\"\",VLOOKUP(G599,'1_Metas_Resultados'!$D$4:$I$403,6,FALSE))","v":""}]
[{"$f":"IF(ISERROR(CONCATENATE($S600,\".\",VLOOKUP($G600,'1_Metas_Resultados'!$D$4:$E$403,2,FALSE))),\"Sin Registrar\",CONCATENATE($S600,\".\",VLOOKUP($G600,'1_Metas_Resultados'!$D$4:$E$403,2,FALSE)))","v":"Sin Registrar"},599," ",{"$f":"IF(ISERROR(CONCATENATE($S600,\".\",VLOOKUP($K600,'1_Metas_Resultados'!$D$4:$E$403,2,FALSE))),\"Sin Registrar\",CONCATENATE($S600,\".\",VLOOKUP($K600,'1_Metas_Resultados'!$D$4:$E$403,2,FALSE)))","v":"Sin Registrar"},{"$f":"IF(ISERROR(CONCATENATE($S600,\".\",VLOOKUP($L600,'1_Metas_Resultados'!$D$4:$E$403,2,FALSE))),\"Sin Registrar\",CONCATENATE($S600,\".\",VLOOKUP($L600,'1_Metas_Resultados'!$D$4:$E$403,2,FALSE)))","v":"Sin Registrar"},{"$f":"IF(ISERROR(VLOOKUP(G600,'1_Metas_Resultados'!$D$4:$I$403,6,FALSE)),\"\",VLOOKUP(G600,'1_Metas_Resultados'!$D$4:$I$403,6,FALSE))","v":""}]
[{"$f":"IF(ISERROR(CONCATENATE($S601,\".\",VLOOKUP($G601,'1_Metas_Resultados'!$D$4:$E$403,2,FALSE))),\"Sin Registrar\",CONCATENATE($S601,\".\",VLOOKUP($G601,'1_Metas_Resultados'!$D$4:$E$403,2,FALSE)))","v":"Sin Registrar"},600," ",{"$f":"IF(ISERROR(CONCATENATE($S601,\".\",VLOOKUP($K601,'1_Metas_Resultados'!$D$4:$E$403,2,FALSE))),\"Sin Registrar\",CONCATENATE($S601,\".\",VLOOKUP($K601,'1_Metas_Resultados'!$D$4:$E$403,2,FALSE)))","v":"Sin Registrar"},{"$f":"IF(ISERROR(CONCATENATE($S601,\".\",VLOOKUP($L601,'1_Metas_Resultados'!$D$4:$E$403,2,FALSE))),\"Sin Registrar\",CONCATENATE($S601,\".\",VLOOKUP($L601,'1_Metas_Resultados'!$D$4:$E$403,2,FALSE)))","v":"Sin Registrar"},{"$f":"IF(ISERROR(VLOOKUP(G601,'1_Metas_Resultados'!$D$4:$I$403,6,FALSE)),\"\",VLOOKUP(G601,'1_Metas_Resultados'!$D$4:$I$403,6,FALSE))","v":""}]
[{"$f":"IF(ISERROR(CONCATENATE($S602,\".\",VLOOKUP($G602,'1_Metas_Resultados'!$D$4:$E$403,2,FALSE))),\"Sin Registrar\",CONCATENATE($S602,\".\",VLOOKUP($G602,'1_Metas_Resultados'!$D$4:$E$403,2,FALSE)))","v":"Sin Registrar"},601," ",{"$f":"IF(ISERROR(CONCATENATE($S602,\".\",VLOOKUP($K602,'1_Metas_Resultados'!$D$4:$E$403,2,FALSE))),\"Sin Registrar\",CONCATENATE($S602,\".\",VLOOKUP($K602,'1_Metas_Resultados'!$D$4:$E$403,2,FALSE)))","v":"Sin Registrar"},{"$f":"IF(ISERROR(CONCATENATE($S602,\".\",VLOOKUP($L602,'1_Metas_Resultados'!$D$4:$E$403,2,FALSE))),\"Sin Registrar\",CONCATENATE($S602,\".\",VLOOKUP($L602,'1_Metas_Resultados'!$D$4:$E$403,2,FALSE)))","v":"Sin Registrar"},{"$f":"IF(ISERROR(VLOOKUP(G602,'1_Metas_Resultados'!$D$4:$I$403,6,FALSE)),\"\",VLOOKUP(G602,'1_Metas_Resultados'!$D$4:$I$403,6,FALSE))","v":""}]
[{"$f":"IF(ISERROR(CONCATENATE($S603,\".\",VLOOKUP($G603,'1_Metas_Resultados'!$D$4:$E$403,2,FALSE))),\"Sin Registrar\",CONCATENATE($S603,\".\",VLOOKUP($G603,'1_Metas_Resultados'!$D$4:$E$403,2,FALSE)))","v":"Sin Registrar"},602," ",{"$f":"IF(ISERROR(CONCATENATE($S603,\".\",VLOOKUP($K603,'1_Metas_Resultados'!$D$4:$E$403,2,FALSE))),\"Sin Registrar\",CONCATENATE($S603,\".\",VLOOKUP($K603,'1_Metas_Resultados'!$D$4:$E$403,2,FALSE)))","v":"Sin Registrar"},{"$f":"IF(ISERROR(CONCATENATE($S603,\".\",VLOOKUP($L603,'1_Metas_Resultados'!$D$4:$E$403,2,FALSE))),\"Sin Registrar\",CONCATENATE($S603,\".\",VLOOKUP($L603,'1_Metas_Resultados'!$D$4:$E$403,2,FALSE)))","v":"Sin Registrar"},{"$f":"IF(ISERROR(VLOOKUP(G603,'1_Metas_Resultados'!$D$4:$I$403,6,FALSE)),\"\",VLOOKUP(G603,'1_Metas_Resultados'!$D$4:$I$403,6,FALSE))","v":""}]
[{"$f":"IF(ISERROR(CONCATENATE($S604,\".\",VLOOKUP($G604,'1_Metas_Resultados'!$D$4:$E$403,2,FALSE))),\"Sin Registrar\",CONCATENATE($S604,\".\",VLOOKUP($G604,'1_Metas_Resultados'!$D$4:$E$403,2,FALSE)))","v":"Sin Registrar"},603," ",{"$f":"IF(ISERROR(CONCATENATE($S604,\".\",VLOOKUP($K604,'1_Metas_Resultados'!$D$4:$E$403,2,FALSE))),\"Sin Registrar\",CONCATENATE($S604,\".\",VLOOKUP($K604,'1_Metas_Resultados'!$D$4:$E$403,2,FALSE)))","v":"Sin Registrar"},{"$f":"IF(ISERROR(CONCATENATE($S604,\".\",VLOOKUP($L604,'1_Metas_Resultados'!$D$4:$E$403,2,FALSE))),\"Sin Registrar\",CONCATENATE($S604,\".\",VLOOKUP($L604,'1_Metas_Resultados'!$D$4:$E$403,2,FALSE)))","v":"Sin Registrar"},{"$f":"IF(ISERROR(VLOOKUP(G604,'1_Metas_Resultados'!$D$4:$I$403,6,FALSE)),\"\",VLOOKUP(G604,'1_Metas_Resultados'!$D$4:$I$403,6,FALSE))","v":""}]
[{"$f":"IF(ISERROR(CONCATENATE($S605,\".\",VLOOKUP($G605,'1_Metas_Resultados'!$D$4:$E$403,2,FALSE))),\"Sin Registrar\",CONCATENATE($S605,\".\",VLOOKUP($G605,'1_Metas_Resultados'!$D$4:$E$403,2,FALSE)))","v":"Sin Registrar"},604," ",{"$f":"IF(ISERROR(CONCATENATE($S605,\".\",VLOOKUP($K605,'1_Metas_Resultados'!$D$4:$E$403,2,FALSE))),\"Sin Registrar\",CONCATENATE($S605,\".\",VLOOKUP($K605,'1_Metas_Resultados'!$D$4:$E$403,2,FALSE)))","v":"Sin Registrar"},{"$f":"IF(ISERROR(CONCATENATE($S605,\".\",VLOOKUP($L605,'1_Metas_Resultados'!$D$4:$E$403,2,FALSE))),\"Sin Registrar\",CONCATENATE($S605,\".\",VLOOKUP($L605,'1_Metas_Resultados'!$D$4:$E$403,2,FALSE)))","v":"Sin Registrar"},{"$f":"IF(ISERROR(VLOOKUP(G605,'1_Metas_Resultados'!$D$4:$I$403,6,FALSE)),\"\",VLOOKUP(G605,'1_Metas_Resultados'!$D$4:$I$403,6,FALSE))","v":""}]
[{"$f":"IF(ISERROR(CONCATENATE($S606,\".\",VLOOKUP($G606,'1_Metas_Resultados'!$D$4:$E$403,2,FALSE))),\"Sin Registrar\",CONCATENATE($S606,\".\",VLOOKUP($G606,'1_Metas_Resultados'!$D$4:$E$403,2,FALSE)))","v":"Sin Registrar"},605," ",{"$f":"IF(ISERROR(CONCATENATE($S606,\".\",VLOOKUP($K606,'1_Metas_Resultados'!$D$4:$E$403,2,FALSE))),\"Sin Registrar\",CONCATENATE($S606,\".\",VLOOKUP($K606,'1_Metas_Resultados'!$D$4:$E$403,2,FALSE)))","v":"Sin Registrar"},{"$f":"IF(ISERROR(CONCATENATE($S606,\".\",VLOOKUP($L606,'1_Metas_Resultados'!$D$4:$E$403,2,FALSE))),\"Sin Registrar\",CONCATENATE($S606,\".\",VLOOKUP($L606,'1_Metas_Resultados'!$D$4:$E$403,2,FALSE)))","v":"Sin Registrar"},{"$f":"IF(ISERROR(VLOOKUP(G606,'1_Metas_Resultados'!$D$4:$I$403,6,FALSE)),\"\",VLOOKUP(G606,'1_Metas_Resultados'!$D$4:$I$403,6,FALSE))","v":""}]
[{"$f":"IF(ISERROR(CONCATENATE($S607,\".\",VLOOKUP($G607,'1_Metas_Resultados'!$D$4:$E$403,2,FALSE))),\"Sin Registrar\",CONCATENATE($S607,\".\",VLOOKUP($G607,'1_Metas_Resultados'!$D$4:$E$403,2,FALSE)))","v":"Sin Registrar"},606," ",{"$f":"IF(ISERROR(CONCATENATE($S607,\".\",VLOOKUP($K607,'1_Metas_Resultados'!$D$4:$E$403,2,FALSE))),\"Sin Registrar\",CONCATENATE($S607,\".\",VLOOKUP($K607,'1_Metas_Resultados'!$D$4:$E$403,2,FALSE)))","v":"Sin Registrar"},{"$f":"IF(ISERROR(CONCATENATE($S607,\".\",VLOOKUP($L607,'1_Metas_Resultados'!$D$4:$E$403,2,FALSE))),\"Sin Registrar\",CONCATENATE($S607,\".\",VLOOKUP($L607,'1_Metas_Resultados'!$D$4:$E$403,2,FALSE)))","v":"Sin Registrar"},{"$f":"IF(ISERROR(VLOOKUP(G607,'1_Metas_Resultados'!$D$4:$I$403,6,FALSE)),\"\",VLOOKUP(G607,'1_Metas_Resultados'!$D$4:$I$403,6,FALSE))","v":""}]
[{"$f":"IF(ISERROR(CONCATENATE($S608,\".\",VLOOKUP($G608,'1_Metas_Resultados'!$D$4:$E$403,2,FALSE))),\"Sin Registrar\",CONCATENATE($S608,\".\",VLOOKUP($G608,'1_Metas_Resultados'!$D$4:$E$403,2,FALSE)))","v":"Sin Registrar"},607," ",{"$f":"IF(ISERROR(CONCATENATE($S608,\".\",VLOOKUP($K608,'1_Metas_Resultados'!$D$4:$E$403,2,FALSE))),\"Sin Registrar\",CONCATENATE($S608,\".\",VLOOKUP($K608,'1_Metas_Resultados'!$D$4:$E$403,2,FALSE)))","v":"Sin Registrar"},{"$f":"IF(ISERROR(CONCATENATE($S608,\".\",VLOOKUP($L608,'1_Metas_Resultados'!$D$4:$E$403,2,FALSE))),\"Sin Registrar\",CONCATENATE($S608,\".\",VLOOKUP($L608,'1_Metas_Resultados'!$D$4:$E$403,2,FALSE)))","v":"Sin Registrar"},{"$f":"IF(ISERROR(VLOOKUP(G608,'1_Metas_Resultados'!$D$4:$I$403,6,FALSE)),\"\",VLOOKUP(G608,'1_Metas_Resultados'!$D$4:$I$403,6,FALSE))","v":""}]
[{"$f":"IF(ISERROR(CONCATENATE($S609,\".\",VLOOKUP($G609,'1_Metas_Resultados'!$D$4:$E$403,2,FALSE))),\"Sin Registrar\",CONCATENATE($S609,\".\",VLOOKUP($G609,'1_Metas_Resultados'!$D$4:$E$403,2,FALSE)))","v":"Sin Registrar"},608," ",{"$f":"IF(ISERROR(CONCATENATE($S609,\".\",VLOOKUP($K609,'1_Metas_Resultados'!$D$4:$E$403,2,FALSE))),\"Sin Registrar\",CONCATENATE($S609,\".\",VLOOKUP($K609,'1_Metas_Resultados'!$D$4:$E$403,2,FALSE)))","v":"Sin Registrar"},{"$f":"IF(ISERROR(CONCATENATE($S609,\".\",VLOOKUP($L609,'1_Metas_Resultados'!$D$4:$E$403,2,FALSE))),\"Sin Registrar\",CONCATENATE($S609,\".\",VLOOKUP($L609,'1_Metas_Resultados'!$D$4:$E$403,2,FALSE)))","v":"Sin Registrar"},{"$f":"IF(ISERROR(VLOOKUP(G609,'1_Metas_Resultados'!$D$4:$I$403,6,FALSE)),\"\",VLOOKUP(G609,'1_Metas_Resultados'!$D$4:$I$403,6,FALSE))","v":""}]
[{"$f":"IF(ISERROR(CONCATENATE($S610,\".\",VLOOKUP($G610,'1_Metas_Resultados'!$D$4:$E$403,2,FALSE))),\"Sin Registrar\",CONCATENATE($S610,\".\",VLOOKUP($G610,'1_Metas_Resultados'!$D$4:$E$403,2,FALSE)))","v":"Sin Registrar"},609," ",{"$f":"IF(ISERROR(CONCATENATE($S610,\".\",VLOOKUP($K610,'1_Metas_Resultados'!$D$4:$E$403,2,FALSE))),\"Sin Registrar\",CONCATENATE($S610,\".\",VLOOKUP($K610,'1_Metas_Resultados'!$D$4:$E$403,2,FALSE)))","v":"Sin Registrar"},{"$f":"IF(ISERROR(CONCATENATE($S610,\".\",VLOOKUP($L610,'1_Metas_Resultados'!$D$4:$E$403,2,FALSE))),\"Sin Registrar\",CONCATENATE($S610,\".\",VLOOKUP($L610,'1_Metas_Resultados'!$D$4:$E$403,2,FALSE)))","v":"Sin Registrar"},{"$f":"IF(ISERROR(VLOOKUP(G610,'1_Metas_Resultados'!$D$4:$I$403,6,FALSE)),\"\",VLOOKUP(G610,'1_Metas_Resultados'!$D$4:$I$403,6,FALSE))","v":""}]
[{"$f":"IF(ISERROR(CONCATENATE($S611,\".\",VLOOKUP($G611,'1_Metas_Resultados'!$D$4:$E$403,2,FALSE))),\"Sin Registrar\",CONCATENATE($S611,\".\",VLOOKUP($G611,'1_Metas_Resultados'!$D$4:$E$403,2,FALSE)))","v":"Sin Registrar"},610," ",{"$f":"IF(ISERROR(CONCATENATE($S611,\".\",VLOOKUP($K611,'1_Metas_Resultados'!$D$4:$E$403,2,FALSE))),\"Sin Registrar\",CONCATENATE($S611,\".\",VLOOKUP($K611,'1_Metas_Resultados'!$D$4:$E$403,2,FALSE)))","v":"Sin Registrar"},{"$f":"IF(ISERROR(CONCATENATE($S611,\".\",VLOOKUP($L611,'1_Metas_Resultados'!$D$4:$E$403,2,FALSE))),\"Sin Registrar\",CONCATENATE($S611,\".\",VLOOKUP($L611,'1_Metas_Resultados'!$D$4:$E$403,2,FALSE)))","v":"Sin Registrar"},{"$f":"IF(ISERROR(VLOOKUP(G611,'1_Metas_Resultados'!$D$4:$I$403,6,FALSE)),\"\",VLOOKUP(G611,'1_Metas_Resultados'!$D$4:$I$403,6,FALSE))","v":""}]
[{"$f":"IF(ISERROR(CONCATENATE($S612,\".\",VLOOKUP($G612,'1_Metas_Resultados'!$D$4:$E$403,2,FALSE))),\"Sin Registrar\",CONCATENATE($S612,\".\",VLOOKUP($G612,'1_Metas_Resultados'!$D$4:$E$403,2,FALSE)))","v":"Sin Registrar"},611," ",{"$f":"IF(ISERROR(CONCATENATE($S612,\".\",VLOOKUP($K612,'1_Metas_Resultados'!$D$4:$E$403,2,FALSE))),\"Sin Registrar\",CONCATENATE($S612,\".\",VLOOKUP($K612,'1_Metas_Resultados'!$D$4:$E$403,2,FALSE)))","v":"Sin Registrar"},{"$f":"IF(ISERROR(CONCATENATE($S612,\".\",VLOOKUP($L612,'1_Metas_Resultados'!$D$4:$E$403,2,FALSE))),\"Sin Registrar\",CONCATENATE($S612,\".\",VLOOKUP($L612,'1_Metas_Resultados'!$D$4:$E$403,2,FALSE)))","v":"Sin Registrar"},{"$f":"IF(ISERROR(VLOOKUP(G612,'1_Metas_Resultados'!$D$4:$I$403,6,FALSE)),\"\",VLOOKUP(G612,'1_Metas_Resultados'!$D$4:$I$403,6,FALSE))","v":""}]
[{"$f":"IF(ISERROR(CONCATENATE($S613,\".\",VLOOKUP($G613,'1_Metas_Resultados'!$D$4:$E$403,2,FALSE))),\"Sin Registrar\",CONCATENATE($S613,\".\",VLOOKUP($G613,'1_Metas_Resultados'!$D$4:$E$403,2,FALSE)))","v":"Sin Registrar"},612," ",{"$f":"IF(ISERROR(CONCATENATE($S613,\".\",VLOOKUP($K613,'1_Metas_Resultados'!$D$4:$E$403,2,FALSE))),\"Sin Registrar\",CONCATENATE($S613,\".\",VLOOKUP($K613,'1_Metas_Resultados'!$D$4:$E$403,2,FALSE)))","v":"Sin Registrar"},{"$f":"IF(ISERROR(CONCATENATE($S613,\".\",VLOOKUP($L613,'1_Metas_Resultados'!$D$4:$E$403,2,FALSE))),\"Sin Registrar\",CONCATENATE($S613,\".\",VLOOKUP($L613,'1_Metas_Resultados'!$D$4:$E$403,2,FALSE)))","v":"Sin Registrar"},{"$f":"IF(ISERROR(VLOOKUP(G613,'1_Metas_Resultados'!$D$4:$I$403,6,FALSE)),\"\",VLOOKUP(G613,'1_Metas_Resultados'!$D$4:$I$403,6,FALSE))","v":""}]
[{"$f":"IF(ISERROR(CONCATENATE($S614,\".\",VLOOKUP($G614,'1_Metas_Resultados'!$D$4:$E$403,2,FALSE))),\"Sin Registrar\",CONCATENATE($S614,\".\",VLOOKUP($G614,'1_Metas_Resultados'!$D$4:$E$403,2,FALSE)))","v":"Sin Registrar"},613," ",{"$f":"IF(ISERROR(CONCATENATE($S614,\".\",VLOOKUP($K614,'1_Metas_Resultados'!$D$4:$E$403,2,FALSE))),\"Sin Registrar\",CONCATENATE($S614,\".\",VLOOKUP($K614,'1_Metas_Resultados'!$D$4:$E$403,2,FALSE)))","v":"Sin Registrar"},{"$f":"IF(ISERROR(CONCATENATE($S614,\".\",VLOOKUP($L614,'1_Metas_Resultados'!$D$4:$E$403,2,FALSE))),\"Sin Registrar\",CONCATENATE($S614,\".\",VLOOKUP($L614,'1_Metas_Resultados'!$D$4:$E$403,2,FALSE)))","v":"Sin Registrar"},{"$f":"IF(ISERROR(VLOOKUP(G614,'1_Metas_Resultados'!$D$4:$I$403,6,FALSE)),\"\",VLOOKUP(G614,'1_Metas_Resultados'!$D$4:$I$403,6,FALSE))","v":""}]
[{"$f":"IF(ISERROR(CONCATENATE($S615,\".\",VLOOKUP($G615,'1_Metas_Resultados'!$D$4:$E$403,2,FALSE))),\"Sin Registrar\",CONCATENATE($S615,\".\",VLOOKUP($G615,'1_Metas_Resultados'!$D$4:$E$403,2,FALSE)))","v":"Sin Registrar"},614," ",{"$f":"IF(ISERROR(CONCATENATE($S615,\".\",VLOOKUP($K615,'1_Metas_Resultados'!$D$4:$E$403,2,FALSE))),\"Sin Registrar\",CONCATENATE($S615,\".\",VLOOKUP($K615,'1_Metas_Resultados'!$D$4:$E$403,2,FALSE)))","v":"Sin Registrar"},{"$f":"IF(ISERROR(CONCATENATE($S615,\".\",VLOOKUP($L615,'1_Metas_Resultados'!$D$4:$E$403,2,FALSE))),\"Sin Registrar\",CONCATENATE($S615,\".\",VLOOKUP($L615,'1_Metas_Resultados'!$D$4:$E$403,2,FALSE)))","v":"Sin Registrar"},{"$f":"IF(ISERROR(VLOOKUP(G615,'1_Metas_Resultados'!$D$4:$I$403,6,FALSE)),\"\",VLOOKUP(G615,'1_Metas_Resultados'!$D$4:$I$403,6,FALSE))","v":""}]
[{"$f":"IF(ISERROR(CONCATENATE($S616,\".\",VLOOKUP($G616,'1_Metas_Resultados'!$D$4:$E$403,2,FALSE))),\"Sin Registrar\",CONCATENATE($S616,\".\",VLOOKUP($G616,'1_Metas_Resultados'!$D$4:$E$403,2,FALSE)))","v":"Sin Registrar"},615," ",{"$f":"IF(ISERROR(CONCATENATE($S616,\".\",VLOOKUP($K616,'1_Metas_Resultados'!$D$4:$E$403,2,FALSE))),\"Sin Registrar\",CONCATENATE($S616,\".\",VLOOKUP($K616,'1_Metas_Resultados'!$D$4:$E$403,2,FALSE)))","v":"Sin Registrar"},{"$f":"IF(ISERROR(CONCATENATE($S616,\".\",VLOOKUP($L616,'1_Metas_Resultados'!$D$4:$E$403,2,FALSE))),\"Sin Registrar\",CONCATENATE($S616,\".\",VLOOKUP($L616,'1_Metas_Resultados'!$D$4:$E$403,2,FALSE)))","v":"Sin Registrar"},{"$f":"IF(ISERROR(VLOOKUP(G616,'1_Metas_Resultados'!$D$4:$I$403,6,FALSE)),\"\",VLOOKUP(G616,'1_Metas_Resultados'!$D$4:$I$403,6,FALSE))","v":""}]
[{"$f":"IF(ISERROR(CONCATENATE($S617,\".\",VLOOKUP($G617,'1_Metas_Resultados'!$D$4:$E$403,2,FALSE))),\"Sin Registrar\",CONCATENATE($S617,\".\",VLOOKUP($G617,'1_Metas_Resultados'!$D$4:$E$403,2,FALSE)))","v":"Sin Registrar"},616," ",{"$f":"IF(ISERROR(CONCATENATE($S617,\".\",VLOOKUP($K617,'1_Metas_Resultados'!$D$4:$E$403,2,FALSE))),\"Sin Registrar\",CONCATENATE($S617,\".\",VLOOKUP($K617,'1_Metas_Resultados'!$D$4:$E$403,2,FALSE)))","v":"Sin Registrar"},{"$f":"IF(ISERROR(CONCATENATE($S617,\".\",VLOOKUP($L617,'1_Metas_Resultados'!$D$4:$E$403,2,FALSE))),\"Sin Registrar\",CONCATENATE($S617,\".\",VLOOKUP($L617,'1_Metas_Resultados'!$D$4:$E$403,2,FALSE)))","v":"Sin Registrar"},{"$f":"IF(ISERROR(VLOOKUP(G617,'1_Metas_Resultados'!$D$4:$I$403,6,FALSE)),\"\",VLOOKUP(G617,'1_Metas_Resultados'!$D$4:$I$403,6,FALSE))","v":""}]
[{"$f":"IF(ISERROR(CONCATENATE($S618,\".\",VLOOKUP($G618,'1_Metas_Resultados'!$D$4:$E$403,2,FALSE))),\"Sin Registrar\",CONCATENATE($S618,\".\",VLOOKUP($G618,'1_Metas_Resultados'!$D$4:$E$403,2,FALSE)))","v":"Sin Registrar"},617," ",{"$f":"IF(ISERROR(CONCATENATE($S618,\".\",VLOOKUP($K618,'1_Metas_Resultados'!$D$4:$E$403,2,FALSE))),\"Sin Registrar\",CONCATENATE($S618,\".\",VLOOKUP($K618,'1_Metas_Resultados'!$D$4:$E$403,2,FALSE)))","v":"Sin Registrar"},{"$f":"IF(ISERROR(CONCATENATE($S618,\".\",VLOOKUP($L618,'1_Metas_Resultados'!$D$4:$E$403,2,FALSE))),\"Sin Registrar\",CONCATENATE($S618,\".\",VLOOKUP($L618,'1_Metas_Resultados'!$D$4:$E$403,2,FALSE)))","v":"Sin Registrar"},{"$f":"IF(ISERROR(VLOOKUP(G618,'1_Metas_Resultados'!$D$4:$I$403,6,FALSE)),\"\",VLOOKUP(G618,'1_Metas_Resultados'!$D$4:$I$403,6,FALSE))","v":""}]
[{"$f":"IF(ISERROR(CONCATENATE($S619,\".\",VLOOKUP($G619,'1_Metas_Resultados'!$D$4:$E$403,2,FALSE))),\"Sin Registrar\",CONCATENATE($S619,\".\",VLOOKUP($G619,'1_Metas_Resultados'!$D$4:$E$403,2,FALSE)))","v":"Sin Registrar"},618," ",{"$f":"IF(ISERROR(CONCATENATE($S619,\".\",VLOOKUP($K619,'1_Metas_Resultados'!$D$4:$E$403,2,FALSE))),\"Sin Registrar\",CONCATENATE($S619,\".\",VLOOKUP($K619,'1_Metas_Resultados'!$D$4:$E$403,2,FALSE)))","v":"Sin Registrar"},{"$f":"IF(ISERROR(CONCATENATE($S619,\".\",VLOOKUP($L619,'1_Metas_Resultados'!$D$4:$E$403,2,FALSE))),\"Sin Registrar\",CONCATENATE($S619,\".\",VLOOKUP($L619,'1_Metas_Resultados'!$D$4:$E$403,2,FALSE)))","v":"Sin Registrar"},{"$f":"IF(ISERROR(VLOOKUP(G619,'1_Metas_Resultados'!$D$4:$I$403,6,FALSE)),\"\",VLOOKUP(G619,'1_Metas_Resultados'!$D$4:$I$403,6,FALSE))","v":""}]
[{"$f":"IF(ISERROR(CONCATENATE($S620,\".\",VLOOKUP($G620,'1_Metas_Resultados'!$D$4:$E$403,2,FALSE))),\"Sin Registrar\",CONCATENATE($S620,\".\",VLOOKUP($G620,'1_Metas_Resultados'!$D$4:$E$403,2,FALSE)))","v":"Sin Registrar"},619," ",{"$f":"IF(ISERROR(CONCATENATE($S620,\".\",VLOOKUP($K620,'1_Metas_Resultados'!$D$4:$E$403,2,FALSE))),\"Sin Registrar\",CONCATENATE($S620,\".\",VLOOKUP($K620,'1_Metas_Resultados'!$D$4:$E$403,2,FALSE)))","v":"Sin Registrar"},{"$f":"IF(ISERROR(CONCATENATE($S620,\".\",VLOOKUP($L620,'1_Metas_Resultados'!$D$4:$E$403,2,FALSE))),\"Sin Registrar\",CONCATENATE($S620,\".\",VLOOKUP($L620,'1_Metas_Resultados'!$D$4:$E$403,2,FALSE)))","v":"Sin Registrar"},{"$f":"IF(ISERROR(VLOOKUP(G620,'1_Metas_Resultados'!$D$4:$I$403,6,FALSE)),\"\",VLOOKUP(G620,'1_Metas_Resultados'!$D$4:$I$403,6,FALSE))","v":""}]
[{"$f":"IF(ISERROR(CONCATENATE($S621,\".\",VLOOKUP($G621,'1_Metas_Resultados'!$D$4:$E$403,2,FALSE))),\"Sin Registrar\",CONCATENATE($S621,\".\",VLOOKUP($G621,'1_Metas_Resultados'!$D$4:$E$403,2,FALSE)))","v":"Sin Registrar"},620," ",{"$f":"IF(ISERROR(CONCATENATE($S621,\".\",VLOOKUP($K621,'1_Metas_Resultados'!$D$4:$E$403,2,FALSE))),\"Sin Registrar\",CONCATENATE($S621,\".\",VLOOKUP($K621,'1_Metas_Resultados'!$D$4:$E$403,2,FALSE)))","v":"Sin Registrar"},{"$f":"IF(ISERROR(CONCATENATE($S621,\".\",VLOOKUP($L621,'1_Metas_Resultados'!$D$4:$E$403,2,FALSE))),\"Sin Registrar\",CONCATENATE($S621,\".\",VLOOKUP($L621,'1_Metas_Resultados'!$D$4:$E$403,2,FALSE)))","v":"Sin Registrar"},{"$f":"IF(ISERROR(VLOOKUP(G621,'1_Metas_Resultados'!$D$4:$I$403,6,FALSE)),\"\",VLOOKUP(G621,'1_Metas_Resultados'!$D$4:$I$403,6,FALSE))","v":""}]
[{"$f":"IF(ISERROR(CONCATENATE($S622,\".\",VLOOKUP($G622,'1_Metas_Resultados'!$D$4:$E$403,2,FALSE))),\"Sin Registrar\",CONCATENATE($S622,\".\",VLOOKUP($G622,'1_Metas_Resultados'!$D$4:$E$403,2,FALSE)))","v":"Sin Registrar"},621," ",{"$f":"IF(ISERROR(CONCATENATE($S622,\".\",VLOOKUP($K622,'1_Metas_Resultados'!$D$4:$E$403,2,FALSE))),\"Sin Registrar\",CONCATENATE($S622,\".\",VLOOKUP($K622,'1_Metas_Resultados'!$D$4:$E$403,2,FALSE)))","v":"Sin Registrar"},{"$f":"IF(ISERROR(CONCATENATE($S622,\".\",VLOOKUP($L622,'1_Metas_Resultados'!$D$4:$E$403,2,FALSE))),\"Sin Registrar\",CONCATENATE($S622,\".\",VLOOKUP($L622,'1_Metas_Resultados'!$D$4:$E$403,2,FALSE)))","v":"Sin Registrar"},{"$f":"IF(ISERROR(VLOOKUP(G622,'1_Metas_Resultados'!$D$4:$I$403,6,FALSE)),\"\",VLOOKUP(G622,'1_Metas_Resultados'!$D$4:$I$403,6,FALSE))","v":""}]
[{"$f":"IF(ISERROR(CONCATENATE($S623,\".\",VLOOKUP($G623,'1_Metas_Resultados'!$D$4:$E$403,2,FALSE))),\"Sin Registrar\",CONCATENATE($S623,\".\",VLOOKUP($G623,'1_Metas_Resultados'!$D$4:$E$403,2,FALSE)))","v":"Sin Registrar"},622," ",{"$f":"IF(ISERROR(CONCATENATE($S623,\".\",VLOOKUP($K623,'1_Metas_Resultados'!$D$4:$E$403,2,FALSE))),\"Sin Registrar\",CONCATENATE($S623,\".\",VLOOKUP($K623,'1_Metas_Resultados'!$D$4:$E$403,2,FALSE)))","v":"Sin Registrar"},{"$f":"IF(ISERROR(CONCATENATE($S623,\".\",VLOOKUP($L623,'1_Metas_Resultados'!$D$4:$E$403,2,FALSE))),\"Sin Registrar\",CONCATENATE($S623,\".\",VLOOKUP($L623,'1_Metas_Resultados'!$D$4:$E$403,2,FALSE)))","v":"Sin Registrar"},{"$f":"IF(ISERROR(VLOOKUP(G623,'1_Metas_Resultados'!$D$4:$I$403,6,FALSE)),\"\",VLOOKUP(G623,'1_Metas_Resultados'!$D$4:$I$403,6,FALSE))","v":""}]
[{"$f":"IF(ISERROR(CONCATENATE($S624,\".\",VLOOKUP($G624,'1_Metas_Resultados'!$D$4:$E$403,2,FALSE))),\"Sin Registrar\",CONCATENATE($S624,\".\",VLOOKUP($G624,'1_Metas_Resultados'!$D$4:$E$403,2,FALSE)))","v":"Sin Registrar"},623," ",{"$f":"IF(ISERROR(CONCATENATE($S624,\".\",VLOOKUP($K624,'1_Metas_Resultados'!$D$4:$E$403,2,FALSE))),\"Sin Registrar\",CONCATENATE($S624,\".\",VLOOKUP($K624,'1_Metas_Resultados'!$D$4:$E$403,2,FALSE)))","v":"Sin Registrar"},{"$f":"IF(ISERROR(CONCATENATE($S624,\".\",VLOOKUP($L624,'1_Metas_Resultados'!$D$4:$E$403,2,FALSE))),\"Sin Registrar\",CONCATENATE($S624,\".\",VLOOKUP($L624,'1_Metas_Resultados'!$D$4:$E$403,2,FALSE)))","v":"Sin Registrar"},{"$f":"IF(ISERROR(VLOOKUP(G624,'1_Metas_Resultados'!$D$4:$I$403,6,FALSE)),\"\",VLOOKUP(G624,'1_Metas_Resultados'!$D$4:$I$403,6,FALSE))","v":""}]
[{"$f":"IF(ISERROR(CONCATENATE($S625,\".\",VLOOKUP($G625,'1_Metas_Resultados'!$D$4:$E$403,2,FALSE))),\"Sin Registrar\",CONCATENATE($S625,\".\",VLOOKUP($G625,'1_Metas_Resultados'!$D$4:$E$403,2,FALSE)))","v":"Sin Registrar"},624," ",{"$f":"IF(ISERROR(CONCATENATE($S625,\".\",VLOOKUP($K625,'1_Metas_Resultados'!$D$4:$E$403,2,FALSE))),\"Sin Registrar\",CONCATENATE($S625,\".\",VLOOKUP($K625,'1_Metas_Resultados'!$D$4:$E$403,2,FALSE)))","v":"Sin Registrar"},{"$f":"IF(ISERROR(CONCATENATE($S625,\".\",VLOOKUP($L625,'1_Metas_Resultados'!$D$4:$E$403,2,FALSE))),\"Sin Registrar\",CONCATENATE($S625,\".\",VLOOKUP($L625,'1_Metas_Resultados'!$D$4:$E$403,2,FALSE)))","v":"Sin Registrar"},{"$f":"IF(ISERROR(VLOOKUP(G625,'1_Metas_Resultados'!$D$4:$I$403,6,FALSE)),\"\",VLOOKUP(G625,'1_Metas_Resultados'!$D$4:$I$403,6,FALSE))","v":""}]
[{"$f":"IF(ISERROR(CONCATENATE($S626,\".\",VLOOKUP($G626,'1_Metas_Resultados'!$D$4:$E$403,2,FALSE))),\"Sin Registrar\",CONCATENATE($S626,\".\",VLOOKUP($G626,'1_Metas_Resultados'!$D$4:$E$403,2,FALSE)))","v":"Sin Registrar"},625," ",{"$f":"IF(ISERROR(CONCATENATE($S626,\".\",VLOOKUP($K626,'1_Metas_Resultados'!$D$4:$E$403,2,FALSE))),\"Sin Registrar\",CONCATENATE($S626,\".\",VLOOKUP($K626,'1_Metas_Resultados'!$D$4:$E$403,2,FALSE)))","v":"Sin Registrar"},{"$f":"IF(ISERROR(CONCATENATE($S626,\".\",VLOOKUP($L626,'1_Metas_Resultados'!$D$4:$E$403,2,FALSE))),\"Sin Registrar\",CONCATENATE($S626,\".\",VLOOKUP($L626,'1_Metas_Resultados'!$D$4:$E$403,2,FALSE)))","v":"Sin Registrar"},{"$f":"IF(ISERROR(VLOOKUP(G626,'1_Metas_Resultados'!$D$4:$I$403,6,FALSE)),\"\",VLOOKUP(G626,'1_Metas_Resultados'!$D$4:$I$403,6,FALSE))","v":""}]
[{"$f":"IF(ISERROR(CONCATENATE($S627,\".\",VLOOKUP($G627,'1_Metas_Resultados'!$D$4:$E$403,2,FALSE))),\"Sin Registrar\",CONCATENATE($S627,\".\",VLOOKUP($G627,'1_Metas_Resultados'!$D$4:$E$403,2,FALSE)))","v":"Sin Registrar"},626," ",{"$f":"IF(ISERROR(CONCATENATE($S627,\".\",VLOOKUP($K627,'1_Metas_Resultados'!$D$4:$E$403,2,FALSE))),\"Sin Registrar\",CONCATENATE($S627,\".\",VLOOKUP($K627,'1_Metas_Resultados'!$D$4:$E$403,2,FALSE)))","v":"Sin Registrar"},{"$f":"IF(ISERROR(CONCATENATE($S627,\".\",VLOOKUP($L627,'1_Metas_Resultados'!$D$4:$E$403,2,FALSE))),\"Sin Registrar\",CONCATENATE($S627,\".\",VLOOKUP($L627,'1_Metas_Resultados'!$D$4:$E$403,2,FALSE)))","v":"Sin Registrar"},{"$f":"IF(ISERROR(VLOOKUP(G627,'1_Metas_Resultados'!$D$4:$I$403,6,FALSE)),\"\",VLOOKUP(G627,'1_Metas_Resultados'!$D$4:$I$403,6,FALSE))","v":""}]
[{"$f":"IF(ISERROR(CONCATENATE($S628,\".\",VLOOKUP($G628,'1_Metas_Resultados'!$D$4:$E$403,2,FALSE))),\"Sin Registrar\",CONCATENATE($S628,\".\",VLOOKUP($G628,'1_Metas_Resultados'!$D$4:$E$403,2,FALSE)))","v":"Sin Registrar"},627," ",{"$f":"IF(ISERROR(CONCATENATE($S628,\".\",VLOOKUP($K628,'1_Metas_Resultados'!$D$4:$E$403,2,FALSE))),\"Sin Registrar\",CONCATENATE($S628,\".\",VLOOKUP($K628,'1_Metas_Resultados'!$D$4:$E$403,2,FALSE)))","v":"Sin Registrar"},{"$f":"IF(ISERROR(CONCATENATE($S628,\".\",VLOOKUP($L628,'1_Metas_Resultados'!$D$4:$E$403,2,FALSE))),\"Sin Registrar\",CONCATENATE($S628,\".\",VLOOKUP($L628,'1_Metas_Resultados'!$D$4:$E$403,2,FALSE)))","v":"Sin Registrar"},{"$f":"IF(ISERROR(VLOOKUP(G628,'1_Metas_Resultados'!$D$4:$I$403,6,FALSE)),\"\",VLOOKUP(G628,'1_Metas_Resultados'!$D$4:$I$403,6,FALSE))","v":""}]
[{"$f":"IF(ISERROR(CONCATENATE($S629,\".\",VLOOKUP($G629,'1_Metas_Resultados'!$D$4:$E$403,2,FALSE))),\"Sin Registrar\",CONCATENATE($S629,\".\",VLOOKUP($G629,'1_Metas_Resultados'!$D$4:$E$403,2,FALSE)))","v":"Sin Registrar"},628," ",{"$f":"IF(ISERROR(CONCATENATE($S629,\".\",VLOOKUP($K629,'1_Metas_Resultados'!$D$4:$E$403,2,FALSE))),\"Sin Registrar\",CONCATENATE($S629,\".\",VLOOKUP($K629,'1_Metas_Resultados'!$D$4:$E$403,2,FALSE)))","v":"Sin Registrar"},{"$f":"IF(ISERROR(CONCATENATE($S629,\".\",VLOOKUP($L629,'1_Metas_Resultados'!$D$4:$E$403,2,FALSE))),\"Sin Registrar\",CONCATENATE($S629,\".\",VLOOKUP($L629,'1_Metas_Resultados'!$D$4:$E$403,2,FALSE)))","v":"Sin Registrar"},{"$f":"IF(ISERROR(VLOOKUP(G629,'1_Metas_Resultados'!$D$4:$I$403,6,FALSE)),\"\",VLOOKUP(G629,'1_Metas_Resultados'!$D$4:$I$403,6,FALSE))","v":""}]
[{"$f":"IF(ISERROR(CONCATENATE($S630,\".\",VLOOKUP($G630,'1_Metas_Resultados'!$D$4:$E$403,2,FALSE))),\"Sin Registrar\",CONCATENATE($S630,\".\",VLOOKUP($G630,'1_Metas_Resultados'!$D$4:$E$403,2,FALSE)))","v":"Sin Registrar"},629," ",{"$f":"IF(ISERROR(CONCATENATE($S630,\".\",VLOOKUP($K630,'1_Metas_Resultados'!$D$4:$E$403,2,FALSE))),\"Sin Registrar\",CONCATENATE($S630,\".\",VLOOKUP($K630,'1_Metas_Resultados'!$D$4:$E$403,2,FALSE)))","v":"Sin Registrar"},{"$f":"IF(ISERROR(CONCATENATE($S630,\".\",VLOOKUP($L630,'1_Metas_Resultados'!$D$4:$E$403,2,FALSE))),\"Sin Registrar\",CONCATENATE($S630,\".\",VLOOKUP($L630,'1_Metas_Resultados'!$D$4:$E$403,2,FALSE)))","v":"Sin Registrar"},{"$f":"IF(ISERROR(VLOOKUP(G630,'1_Metas_Resultados'!$D$4:$I$403,6,FALSE)),\"\",VLOOKUP(G630,'1_Metas_Resultados'!$D$4:$I$403,6,FALSE))","v":""}]
[{"$f":"IF(ISERROR(CONCATENATE($S631,\".\",VLOOKUP($G631,'1_Metas_Resultados'!$D$4:$E$403,2,FALSE))),\"Sin Registrar\",CONCATENATE($S631,\".\",VLOOKUP($G631,'1_Metas_Resultados'!$D$4:$E$403,2,FALSE)))","v":"Sin Registrar"},630," ",{"$f":"IF(ISERROR(CONCATENATE($S631,\".\",VLOOKUP($K631,'1_Metas_Resultados'!$D$4:$E$403,2,FALSE))),\"Sin Registrar\",CONCATENATE($S631,\".\",VLOOKUP($K631,'1_Metas_Resultados'!$D$4:$E$403,2,FALSE)))","v":"Sin Registrar"},{"$f":"IF(ISERROR(CONCATENATE($S631,\".\",VLOOKUP($L631,'1_Metas_Resultados'!$D$4:$E$403,2,FALSE))),\"Sin Registrar\",CONCATENATE($S631,\".\",VLOOKUP($L631,'1_Metas_Resultados'!$D$4:$E$403,2,FALSE)))","v":"Sin Registrar"},{"$f":"IF(ISERROR(VLOOKUP(G631,'1_Metas_Resultados'!$D$4:$I$403,6,FALSE)),\"\",VLOOKUP(G631,'1_Metas_Resultados'!$D$4:$I$403,6,FALSE))","v":""}]
[{"$f":"IF(ISERROR(CONCATENATE($S632,\".\",VLOOKUP($G632,'1_Metas_Resultados'!$D$4:$E$403,2,FALSE))),\"Sin Registrar\",CONCATENATE($S632,\".\",VLOOKUP($G632,'1_Metas_Resultados'!$D$4:$E$403,2,FALSE)))","v":"Sin Registrar"},631," ",{"$f":"IF(ISERROR(CONCATENATE($S632,\".\",VLOOKUP($K632,'1_Metas_Resultados'!$D$4:$E$403,2,FALSE))),\"Sin Registrar\",CONCATENATE($S632,\".\",VLOOKUP($K632,'1_Metas_Resultados'!$D$4:$E$403,2,FALSE)))","v":"Sin Registrar"},{"$f":"IF(ISERROR(CONCATENATE($S632,\".\",VLOOKUP($L632,'1_Metas_Resultados'!$D$4:$E$403,2,FALSE))),\"Sin Registrar\",CONCATENATE($S632,\".\",VLOOKUP($L632,'1_Metas_Resultados'!$D$4:$E$403,2,FALSE)))","v":"Sin Registrar"},{"$f":"IF(ISERROR(VLOOKUP(G632,'1_Metas_Resultados'!$D$4:$I$403,6,FALSE)),\"\",VLOOKUP(G632,'1_Metas_Resultados'!$D$4:$I$403,6,FALSE))","v":""}]
[{"$f":"IF(ISERROR(CONCATENATE($S633,\".\",VLOOKUP($G633,'1_Metas_Resultados'!$D$4:$E$403,2,FALSE))),\"Sin Registrar\",CONCATENATE($S633,\".\",VLOOKUP($G633,'1_Metas_Resultados'!$D$4:$E$403,2,FALSE)))","v":"Sin Registrar"},632," ",{"$f":"IF(ISERROR(CONCATENATE($S633,\".\",VLOOKUP($K633,'1_Metas_Resultados'!$D$4:$E$403,2,FALSE))),\"Sin Registrar\",CONCATENATE($S633,\".\",VLOOKUP($K633,'1_Metas_Resultados'!$D$4:$E$403,2,FALSE)))","v":"Sin Registrar"},{"$f":"IF(ISERROR(CONCATENATE($S633,\".\",VLOOKUP($L633,'1_Metas_Resultados'!$D$4:$E$403,2,FALSE))),\"Sin Registrar\",CONCATENATE($S633,\".\",VLOOKUP($L633,'1_Metas_Resultados'!$D$4:$E$403,2,FALSE)))","v":"Sin Registrar"},{"$f":"IF(ISERROR(VLOOKUP(G633,'1_Metas_Resultados'!$D$4:$I$403,6,FALSE)),\"\",VLOOKUP(G633,'1_Metas_Resultados'!$D$4:$I$403,6,FALSE))","v":""}]
[{"$f":"IF(ISERROR(CONCATENATE($S634,\".\",VLOOKUP($G634,'1_Metas_Resultados'!$D$4:$E$403,2,FALSE))),\"Sin Registrar\",CONCATENATE($S634,\".\",VLOOKUP($G634,'1_Metas_Resultados'!$D$4:$E$403,2,FALSE)))","v":"Sin Registrar"},633," ",{"$f":"IF(ISERROR(CONCATENATE($S634,\".\",VLOOKUP($K634,'1_Metas_Resultados'!$D$4:$E$403,2,FALSE))),\"Sin Registrar\",CONCATENATE($S634,\".\",VLOOKUP($K634,'1_Metas_Resultados'!$D$4:$E$403,2,FALSE)))","v":"Sin Registrar"},{"$f":"IF(ISERROR(CONCATENATE($S634,\".\",VLOOKUP($L634,'1_Metas_Resultados'!$D$4:$E$403,2,FALSE))),\"Sin Registrar\",CONCATENATE($S634,\".\",VLOOKUP($L634,'1_Metas_Resultados'!$D$4:$E$403,2,FALSE)))","v":"Sin Registrar"},{"$f":"IF(ISERROR(VLOOKUP(G634,'1_Metas_Resultados'!$D$4:$I$403,6,FALSE)),\"\",VLOOKUP(G634,'1_Metas_Resultados'!$D$4:$I$403,6,FALSE))","v":""}]
[{"$f":"IF(ISERROR(CONCATENATE($S635,\".\",VLOOKUP($G635,'1_Metas_Resultados'!$D$4:$E$403,2,FALSE))),\"Sin Registrar\",CONCATENATE($S635,\".\",VLOOKUP($G635,'1_Metas_Resultados'!$D$4:$E$403,2,FALSE)))","v":"Sin Registrar"},634," ",{"$f":"IF(ISERROR(CONCATENATE($S635,\".\",VLOOKUP($K635,'1_Metas_Resultados'!$D$4:$E$403,2,FALSE))),\"Sin Registrar\",CONCATENATE($S635,\".\",VLOOKUP($K635,'1_Metas_Resultados'!$D$4:$E$403,2,FALSE)))","v":"Sin Registrar"},{"$f":"IF(ISERROR(CONCATENATE($S635,\".\",VLOOKUP($L635,'1_Metas_Resultados'!$D$4:$E$403,2,FALSE))),\"Sin Registrar\",CONCATENATE($S635,\".\",VLOOKUP($L635,'1_Metas_Resultados'!$D$4:$E$403,2,FALSE)))","v":"Sin Registrar"},{"$f":"IF(ISERROR(VLOOKUP(G635,'1_Metas_Resultados'!$D$4:$I$403,6,FALSE)),\"\",VLOOKUP(G635,'1_Metas_Resultados'!$D$4:$I$403,6,FALSE))","v":""}]
[{"$f":"IF(ISERROR(CONCATENATE($S636,\".\",VLOOKUP($G636,'1_Metas_Resultados'!$D$4:$E$403,2,FALSE))),\"Sin Registrar\",CONCATENATE($S636,\".\",VLOOKUP($G636,'1_Metas_Resultados'!$D$4:$E$403,2,FALSE)))","v":"Sin Registrar"},635," ",{"$f":"IF(ISERROR(CONCATENATE($S636,\".\",VLOOKUP($K636,'1_Metas_Resultados'!$D$4:$E$403,2,FALSE))),\"Sin Registrar\",CONCATENATE($S636,\".\",VLOOKUP($K636,'1_Metas_Resultados'!$D$4:$E$403,2,FALSE)))","v":"Sin Registrar"},{"$f":"IF(ISERROR(CONCATENATE($S636,\".\",VLOOKUP($L636,'1_Metas_Resultados'!$D$4:$E$403,2,FALSE))),\"Sin Registrar\",CONCATENATE($S636,\".\",VLOOKUP($L636,'1_Metas_Resultados'!$D$4:$E$403,2,FALSE)))","v":"Sin Registrar"},{"$f":"IF(ISERROR(VLOOKUP(G636,'1_Metas_Resultados'!$D$4:$I$403,6,FALSE)),\"\",VLOOKUP(G636,'1_Metas_Resultados'!$D$4:$I$403,6,FALSE))","v":""}]
[{"$f":"IF(ISERROR(CONCATENATE($S637,\".\",VLOOKUP($G637,'1_Metas_Resultados'!$D$4:$E$403,2,FALSE))),\"Sin Registrar\",CONCATENATE($S637,\".\",VLOOKUP($G637,'1_Metas_Resultados'!$D$4:$E$403,2,FALSE)))","v":"Sin Registrar"},636," ",{"$f":"IF(ISERROR(CONCATENATE($S637,\".\",VLOOKUP($K637,'1_Metas_Resultados'!$D$4:$E$403,2,FALSE))),\"Sin Registrar\",CONCATENATE($S637,\".\",VLOOKUP($K637,'1_Metas_Resultados'!$D$4:$E$403,2,FALSE)))","v":"Sin Registrar"},{"$f":"IF(ISERROR(CONCATENATE($S637,\".\",VLOOKUP($L637,'1_Metas_Resultados'!$D$4:$E$403,2,FALSE))),\"Sin Registrar\",CONCATENATE($S637,\".\",VLOOKUP($L637,'1_Metas_Resultados'!$D$4:$E$403,2,FALSE)))","v":"Sin Registrar"},{"$f":"IF(ISERROR(VLOOKUP(G637,'1_Metas_Resultados'!$D$4:$I$403,6,FALSE)),\"\",VLOOKUP(G637,'1_Metas_Resultados'!$D$4:$I$403,6,FALSE))","v":""}]
[{"$f":"IF(ISERROR(CONCATENATE($S638,\".\",VLOOKUP($G638,'1_Metas_Resultados'!$D$4:$E$403,2,FALSE))),\"Sin Registrar\",CONCATENATE($S638,\".\",VLOOKUP($G638,'1_Metas_Resultados'!$D$4:$E$403,2,FALSE)))","v":"Sin Registrar"},637," ",{"$f":"IF(ISERROR(CONCATENATE($S638,\".\",VLOOKUP($K638,'1_Metas_Resultados'!$D$4:$E$403,2,FALSE))),\"Sin Registrar\",CONCATENATE($S638,\".\",VLOOKUP($K638,'1_Metas_Resultados'!$D$4:$E$403,2,FALSE)))","v":"Sin Registrar"},{"$f":"IF(ISERROR(CONCATENATE($S638,\".\",VLOOKUP($L638,'1_Metas_Resultados'!$D$4:$E$403,2,FALSE))),\"Sin Registrar\",CONCATENATE($S638,\".\",VLOOKUP($L638,'1_Metas_Resultados'!$D$4:$E$403,2,FALSE)))","v":"Sin Registrar"},{"$f":"IF(ISERROR(VLOOKUP(G638,'1_Metas_Resultados'!$D$4:$I$403,6,FALSE)),\"\",VLOOKUP(G638,'1_Metas_Resultados'!$D$4:$I$403,6,FALSE))","v":""}]
[{"$f":"IF(ISERROR(CONCATENATE($S639,\".\",VLOOKUP($G639,'1_Metas_Resultados'!$D$4:$E$403,2,FALSE))),\"Sin Registrar\",CONCATENATE($S639,\".\",VLOOKUP($G639,'1_Metas_Resultados'!$D$4:$E$403,2,FALSE)))","v":"Sin Registrar"},638," ",{"$f":"IF(ISERROR(CONCATENATE($S639,\".\",VLOOKUP($K639,'1_Metas_Resultados'!$D$4:$E$403,2,FALSE))),\"Sin Registrar\",CONCATENATE($S639,\".\",VLOOKUP($K639,'1_Metas_Resultados'!$D$4:$E$403,2,FALSE)))","v":"Sin Registrar"},{"$f":"IF(ISERROR(CONCATENATE($S639,\".\",VLOOKUP($L639,'1_Metas_Resultados'!$D$4:$E$403,2,FALSE))),\"Sin Registrar\",CONCATENATE($S639,\".\",VLOOKUP($L639,'1_Metas_Resultados'!$D$4:$E$403,2,FALSE)))","v":"Sin Registrar"},{"$f":"IF(ISERROR(VLOOKUP(G639,'1_Metas_Resultados'!$D$4:$I$403,6,FALSE)),\"\",VLOOKUP(G639,'1_Metas_Resultados'!$D$4:$I$403,6,FALSE))","v":""}]
[{"$f":"IF(ISERROR(CONCATENATE($S640,\".\",VLOOKUP($G640,'1_Metas_Resultados'!$D$4:$E$403,2,FALSE))),\"Sin Registrar\",CONCATENATE($S640,\".\",VLOOKUP($G640,'1_Metas_Resultados'!$D$4:$E$403,2,FALSE)))","v":"Sin Registrar"},639," ",{"$f":"IF(ISERROR(CONCATENATE($S640,\".\",VLOOKUP($K640,'1_Metas_Resultados'!$D$4:$E$403,2,FALSE))),\"Sin Registrar\",CONCATENATE($S640,\".\",VLOOKUP($K640,'1_Metas_Resultados'!$D$4:$E$403,2,FALSE)))","v":"Sin Registrar"},{"$f":"IF(ISERROR(CONCATENATE($S640,\".\",VLOOKUP($L640,'1_Metas_Resultados'!$D$4:$E$403,2,FALSE))),\"Sin Registrar\",CONCATENATE($S640,\".\",VLOOKUP($L640,'1_Metas_Resultados'!$D$4:$E$403,2,FALSE)))","v":"Sin Registrar"},{"$f":"IF(ISERROR(VLOOKUP(G640,'1_Metas_Resultados'!$D$4:$I$403,6,FALSE)),\"\",VLOOKUP(G640,'1_Metas_Resultados'!$D$4:$I$403,6,FALSE))","v":""}]
[{"$f":"IF(ISERROR(CONCATENATE($S641,\".\",VLOOKUP($G641,'1_Metas_Resultados'!$D$4:$E$403,2,FALSE))),\"Sin Registrar\",CONCATENATE($S641,\".\",VLOOKUP($G641,'1_Metas_Resultados'!$D$4:$E$403,2,FALSE)))","v":"Sin Registrar"},640," ",{"$f":"IF(ISERROR(CONCATENATE($S641,\".\",VLOOKUP($K641,'1_Metas_Resultados'!$D$4:$E$403,2,FALSE))),\"Sin Registrar\",CONCATENATE($S641,\".\",VLOOKUP($K641,'1_Metas_Resultados'!$D$4:$E$403,2,FALSE)))","v":"Sin Registrar"},{"$f":"IF(ISERROR(CONCATENATE($S641,\".\",VLOOKUP($L641,'1_Metas_Resultados'!$D$4:$E$403,2,FALSE))),\"Sin Registrar\",CONCATENATE($S641,\".\",VLOOKUP($L641,'1_Metas_Resultados'!$D$4:$E$403,2,FALSE)))","v":"Sin Registrar"},{"$f":"IF(ISERROR(VLOOKUP(G641,'1_Metas_Resultados'!$D$4:$I$403,6,FALSE)),\"\",VLOOKUP(G641,'1_Metas_Resultados'!$D$4:$I$403,6,FALSE))","v":""}]
[{"$f":"IF(ISERROR(CONCATENATE($S642,\".\",VLOOKUP($G642,'1_Metas_Resultados'!$D$4:$E$403,2,FALSE))),\"Sin Registrar\",CONCATENATE($S642,\".\",VLOOKUP($G642,'1_Metas_Resultados'!$D$4:$E$403,2,FALSE)))","v":"Sin Registrar"},641," ",{"$f":"IF(ISERROR(CONCATENATE($S642,\".\",VLOOKUP($K642,'1_Metas_Resultados'!$D$4:$E$403,2,FALSE))),\"Sin Registrar\",CONCATENATE($S642,\".\",VLOOKUP($K642,'1_Metas_Resultados'!$D$4:$E$403,2,FALSE)))","v":"Sin Registrar"},{"$f":"IF(ISERROR(CONCATENATE($S642,\".\",VLOOKUP($L642,'1_Metas_Resultados'!$D$4:$E$403,2,FALSE))),\"Sin Registrar\",CONCATENATE($S642,\".\",VLOOKUP($L642,'1_Metas_Resultados'!$D$4:$E$403,2,FALSE)))","v":"Sin Registrar"},{"$f":"IF(ISERROR(VLOOKUP(G642,'1_Metas_Resultados'!$D$4:$I$403,6,FALSE)),\"\",VLOOKUP(G642,'1_Metas_Resultados'!$D$4:$I$403,6,FALSE))","v":""}]
[{"$f":"IF(ISERROR(CONCATENATE($S643,\".\",VLOOKUP($G643,'1_Metas_Resultados'!$D$4:$E$403,2,FALSE))),\"Sin Registrar\",CONCATENATE($S643,\".\",VLOOKUP($G643,'1_Metas_Resultados'!$D$4:$E$403,2,FALSE)))","v":"Sin Registrar"},642," ",{"$f":"IF(ISERROR(CONCATENATE($S643,\".\",VLOOKUP($K643,'1_Metas_Resultados'!$D$4:$E$403,2,FALSE))),\"Sin Registrar\",CONCATENATE($S643,\".\",VLOOKUP($K643,'1_Metas_Resultados'!$D$4:$E$403,2,FALSE)))","v":"Sin Registrar"},{"$f":"IF(ISERROR(CONCATENATE($S643,\".\",VLOOKUP($L643,'1_Metas_Resultados'!$D$4:$E$403,2,FALSE))),\"Sin Registrar\",CONCATENATE($S643,\".\",VLOOKUP($L643,'1_Metas_Resultados'!$D$4:$E$403,2,FALSE)))","v":"Sin Registrar"},{"$f":"IF(ISERROR(VLOOKUP(G643,'1_Metas_Resultados'!$D$4:$I$403,6,FALSE)),\"\",VLOOKUP(G643,'1_Metas_Resultados'!$D$4:$I$403,6,FALSE))","v":""}]
[{"$f":"IF(ISERROR(CONCATENATE($S644,\".\",VLOOKUP($G644,'1_Metas_Resultados'!$D$4:$E$403,2,FALSE))),\"Sin Registrar\",CONCATENATE($S644,\".\",VLOOKUP($G644,'1_Metas_Resultados'!$D$4:$E$403,2,FALSE)))","v":"Sin Registrar"},643," ",{"$f":"IF(ISERROR(CONCATENATE($S644,\".\",VLOOKUP($K644,'1_Metas_Resultados'!$D$4:$E$403,2,FALSE))),\"Sin Registrar\",CONCATENATE($S644,\".\",VLOOKUP($K644,'1_Metas_Resultados'!$D$4:$E$403,2,FALSE)))","v":"Sin Registrar"},{"$f":"IF(ISERROR(CONCATENATE($S644,\".\",VLOOKUP($L644,'1_Metas_Resultados'!$D$4:$E$403,2,FALSE))),\"Sin Registrar\",CONCATENATE($S644,\".\",VLOOKUP($L644,'1_Metas_Resultados'!$D$4:$E$403,2,FALSE)))","v":"Sin Registrar"},{"$f":"IF(ISERROR(VLOOKUP(G644,'1_Metas_Resultados'!$D$4:$I$403,6,FALSE)),\"\",VLOOKUP(G644,'1_Metas_Resultados'!$D$4:$I$403,6,FALSE))","v":""}]
[{"$f":"IF(ISERROR(CONCATENATE($S645,\".\",VLOOKUP($G645,'1_Metas_Resultados'!$D$4:$E$403,2,FALSE))),\"Sin Registrar\",CONCATENATE($S645,\".\",VLOOKUP($G645,'1_Metas_Resultados'!$D$4:$E$403,2,FALSE)))","v":"Sin Registrar"},644,{"$f":"IF(A645=\"Sin Registrar\",\" \",CONCATENATE(A645,\".\",B645))","v":" "},{"$f":"IF(ISERROR(CONCATENATE($S645,\".\",VLOOKUP($K645,'1_Metas_Resultados'!$D$4:$E$403,2,FALSE))),\"Sin Registrar\",CONCATENATE($S645,\".\",VLOOKUP($K645,'1_Metas_Resultados'!$D$4:$E$403,2,FALSE)))","v":"Sin Registrar"},{"$f":"IF(ISERROR(CONCATENATE($S645,\".\",VLOOKUP($L645,'1_Metas_Resultados'!$D$4:$E$403,2,FALSE))),\"Sin Registrar\",CONCATENATE($S645,\".\",VLOOKUP($L645,'1_Metas_Resultados'!$D$4:$E$403,2,FALSE)))","v":"Sin Registrar"},{"$f":"IF(ISERROR(VLOOKUP(G645,'1_Metas_Resultados'!$D$4:$I$403,6,FALSE)),\"\",VLOOKUP(G645,'1_Metas_Resultados'!$D$4:$I$403,6,FALSE))","v":""}]
[{"$f":"IF(ISERROR(CONCATENATE($S646,\".\",VLOOKUP($G646,'1_Metas_Resultados'!$D$4:$E$403,2,FALSE))),\"Sin Registrar\",CONCATENATE($S646,\".\",VLOOKUP($G646,'1_Metas_Resultados'!$D$4:$E$403,2,FALSE)))","v":"Sin Registrar"},645," ",{"$f":"IF(ISERROR(CONCATENATE($S646,\".\",VLOOKUP($K646,'1_Metas_Resultados'!$D$4:$E$403,2,FALSE))),\"Sin Registrar\",CONCATENATE($S646,\".\",VLOOKUP($K646,'1_Metas_Resultados'!$D$4:$E$403,2,FALSE)))","v":"Sin Registrar"},{"$f":"IF(ISERROR(CONCATENATE($S646,\".\",VLOOKUP($L646,'1_Metas_Resultados'!$D$4:$E$403,2,FALSE))),\"Sin Registrar\",CONCATENATE($S646,\".\",VLOOKUP($L646,'1_Metas_Resultados'!$D$4:$E$403,2,FALSE)))","v":"Sin Registrar"},{"$f":"IF(ISERROR(VLOOKUP(G646,'1_Metas_Resultados'!$D$4:$I$403,6,FALSE)),\"\",VLOOKUP(G646,'1_Metas_Resultados'!$D$4:$I$403,6,FALSE))","v":""}]
[{"$f":"IF(ISERROR(CONCATENATE($S647,\".\",VLOOKUP($G647,'1_Metas_Resultados'!$D$4:$E$403,2,FALSE))),\"Sin Registrar\",CONCATENATE($S647,\".\",VLOOKUP($G647,'1_Metas_Resultados'!$D$4:$E$403,2,FALSE)))","v":"Sin Registrar"},646," ",{"$f":"IF(ISERROR(CONCATENATE($S647,\".\",VLOOKUP($K647,'1_Metas_Resultados'!$D$4:$E$403,2,FALSE))),\"Sin Registrar\",CONCATENATE($S647,\".\",VLOOKUP($K647,'1_Metas_Resultados'!$D$4:$E$403,2,FALSE)))","v":"Sin Registrar"},{"$f":"IF(ISERROR(CONCATENATE($S647,\".\",VLOOKUP($L647,'1_Metas_Resultados'!$D$4:$E$403,2,FALSE))),\"Sin Registrar\",CONCATENATE($S647,\".\",VLOOKUP($L647,'1_Metas_Resultados'!$D$4:$E$403,2,FALSE)))","v":"Sin Registrar"},{"$f":"IF(ISERROR(VLOOKUP(G647,'1_Metas_Resultados'!$D$4:$I$403,6,FALSE)),\"\",VLOOKUP(G647,'1_Metas_Resultados'!$D$4:$I$403,6,FALSE))","v":""}]
[{"$f":"IF(ISERROR(CONCATENATE($S648,\".\",VLOOKUP($G648,'1_Metas_Resultados'!$D$4:$E$403,2,FALSE))),\"Sin Registrar\",CONCATENATE($S648,\".\",VLOOKUP($G648,'1_Metas_Resultados'!$D$4:$E$403,2,FALSE)))","v":"Sin Registrar"},647," ",{"$f":"IF(ISERROR(CONCATENATE($S648,\".\",VLOOKUP($K648,'1_Metas_Resultados'!$D$4:$E$403,2,FALSE))),\"Sin Registrar\",CONCATENATE($S648,\".\",VLOOKUP($K648,'1_Metas_Resultados'!$D$4:$E$403,2,FALSE)))","v":"Sin Registrar"},{"$f":"IF(ISERROR(CONCATENATE($S648,\".\",VLOOKUP($L648,'1_Metas_Resultados'!$D$4:$E$403,2,FALSE))),\"Sin Registrar\",CONCATENATE($S648,\".\",VLOOKUP($L648,'1_Metas_Resultados'!$D$4:$E$403,2,FALSE)))","v":"Sin Registrar"},{"$f":"IF(ISERROR(VLOOKUP(G648,'1_Metas_Resultados'!$D$4:$I$403,6,FALSE)),\"\",VLOOKUP(G648,'1_Metas_Resultados'!$D$4:$I$403,6,FALSE))","v":""}]
[{"$f":"IF(ISERROR(CONCATENATE($S649,\".\",VLOOKUP($G649,'1_Metas_Resultados'!$D$4:$E$403,2,FALSE))),\"Sin Registrar\",CONCATENATE($S649,\".\",VLOOKUP($G649,'1_Metas_Resultados'!$D$4:$E$403,2,FALSE)))","v":"Sin Registrar"},648," ",{"$f":"IF(ISERROR(CONCATENATE($S649,\".\",VLOOKUP($K649,'1_Metas_Resultados'!$D$4:$E$403,2,FALSE))),\"Sin Registrar\",CONCATENATE($S649,\".\",VLOOKUP($K649,'1_Metas_Resultados'!$D$4:$E$403,2,FALSE)))","v":"Sin Registrar"},{"$f":"IF(ISERROR(CONCATENATE($S649,\".\",VLOOKUP($L649,'1_Metas_Resultados'!$D$4:$E$403,2,FALSE))),\"Sin Registrar\",CONCATENATE($S649,\".\",VLOOKUP($L649,'1_Metas_Resultados'!$D$4:$E$403,2,FALSE)))","v":"Sin Registrar"},{"$f":"IF(ISERROR(VLOOKUP(G649,'1_Metas_Resultados'!$D$4:$I$403,6,FALSE)),\"\",VLOOKUP(G649,'1_Metas_Resultados'!$D$4:$I$403,6,FALSE))","v":""}]
[{"$f":"IF(ISERROR(CONCATENATE($S650,\".\",VLOOKUP($G650,'1_Metas_Resultados'!$D$4:$E$403,2,FALSE))),\"Sin Registrar\",CONCATENATE($S650,\".\",VLOOKUP($G650,'1_Metas_Resultados'!$D$4:$E$403,2,FALSE)))","v":"Sin Registrar"},649," ",{"$f":"IF(ISERROR(CONCATENATE($S650,\".\",VLOOKUP($K650,'1_Metas_Resultados'!$D$4:$E$403,2,FALSE))),\"Sin Registrar\",CONCATENATE($S650,\".\",VLOOKUP($K650,'1_Metas_Resultados'!$D$4:$E$403,2,FALSE)))","v":"Sin Registrar"},{"$f":"IF(ISERROR(CONCATENATE($S650,\".\",VLOOKUP($L650,'1_Metas_Resultados'!$D$4:$E$403,2,FALSE))),\"Sin Registrar\",CONCATENATE($S650,\".\",VLOOKUP($L650,'1_Metas_Resultados'!$D$4:$E$403,2,FALSE)))","v":"Sin Registrar"},{"$f":"IF(ISERROR(VLOOKUP(G650,'1_Metas_Resultados'!$D$4:$I$403,6,FALSE)),\"\",VLOOKUP(G650,'1_Metas_Resultados'!$D$4:$I$403,6,FALSE))","v":""}]
[{"$f":"IF(ISERROR(CONCATENATE($S651,\".\",VLOOKUP($G651,'1_Metas_Resultados'!$D$4:$E$403,2,FALSE))),\"Sin Registrar\",CONCATENATE($S651,\".\",VLOOKUP($G651,'1_Metas_Resultados'!$D$4:$E$403,2,FALSE)))","v":"Sin Registrar"},650," ",{"$f":"IF(ISERROR(CONCATENATE($S651,\".\",VLOOKUP($K651,'1_Metas_Resultados'!$D$4:$E$403,2,FALSE))),\"Sin Registrar\",CONCATENATE($S651,\".\",VLOOKUP($K651,'1_Metas_Resultados'!$D$4:$E$403,2,FALSE)))","v":"Sin Registrar"},{"$f":"IF(ISERROR(CONCATENATE($S651,\".\",VLOOKUP($L651,'1_Metas_Resultados'!$D$4:$E$403,2,FALSE))),\"Sin Registrar\",CONCATENATE($S651,\".\",VLOOKUP($L651,'1_Metas_Resultados'!$D$4:$E$403,2,FALSE)))","v":"Sin Registrar"},{"$f":"IF(ISERROR(VLOOKUP(G651,'1_Metas_Resultados'!$D$4:$I$403,6,FALSE)),\"\",VLOOKUP(G651,'1_Metas_Resultados'!$D$4:$I$403,6,FALSE))","v":""}]
[{"$f":"IF(ISERROR(CONCATENATE($S652,\".\",VLOOKUP($G652,'1_Metas_Resultados'!$D$4:$E$403,2,FALSE))),\"Sin Registrar\",CONCATENATE($S652,\".\",VLOOKUP($G652,'1_Metas_Resultados'!$D$4:$E$403,2,FALSE)))","v":"Sin Registrar"},651," ",{"$f":"IF(ISERROR(CONCATENATE($S652,\".\",VLOOKUP($K652,'1_Metas_Resultados'!$D$4:$E$403,2,FALSE))),\"Sin Registrar\",CONCATENATE($S652,\".\",VLOOKUP($K652,'1_Metas_Resultados'!$D$4:$E$403,2,FALSE)))","v":"Sin Registrar"},{"$f":"IF(ISERROR(CONCATENATE($S652,\".\",VLOOKUP($L652,'1_Metas_Resultados'!$D$4:$E$403,2,FALSE))),\"Sin Registrar\",CONCATENATE($S652,\".\",VLOOKUP($L652,'1_Metas_Resultados'!$D$4:$E$403,2,FALSE)))","v":"Sin Registrar"},{"$f":"IF(ISERROR(VLOOKUP(G652,'1_Metas_Resultados'!$D$4:$I$403,6,FALSE)),\"\",VLOOKUP(G652,'1_Metas_Resultados'!$D$4:$I$403,6,FALSE))","v":""}]
[{"$f":"IF(ISERROR(CONCATENATE($S653,\".\",VLOOKUP($G653,'1_Metas_Resultados'!$D$4:$E$403,2,FALSE))),\"Sin Registrar\",CONCATENATE($S653,\".\",VLOOKUP($G653,'1_Metas_Resultados'!$D$4:$E$403,2,FALSE)))","v":"Sin Registrar"},652," ",{"$f":"IF(ISERROR(CONCATENATE($S653,\".\",VLOOKUP($K653,'1_Metas_Resultados'!$D$4:$E$403,2,FALSE))),\"Sin Registrar\",CONCATENATE($S653,\".\",VLOOKUP($K653,'1_Metas_Resultados'!$D$4:$E$403,2,FALSE)))","v":"Sin Registrar"},{"$f":"IF(ISERROR(CONCATENATE($S653,\".\",VLOOKUP($L653,'1_Metas_Resultados'!$D$4:$E$403,2,FALSE))),\"Sin Registrar\",CONCATENATE($S653,\".\",VLOOKUP($L653,'1_Metas_Resultados'!$D$4:$E$403,2,FALSE)))","v":"Sin Registrar"},{"$f":"IF(ISERROR(VLOOKUP(G653,'1_Metas_Resultados'!$D$4:$I$403,6,FALSE)),\"\",VLOOKUP(G653,'1_Metas_Resultados'!$D$4:$I$403,6,FALSE))","v":""}]
[{"$f":"IF(ISERROR(CONCATENATE($S654,\".\",VLOOKUP($G654,'1_Metas_Resultados'!$D$4:$E$403,2,FALSE))),\"Sin Registrar\",CONCATENATE($S654,\".\",VLOOKUP($G654,'1_Metas_Resultados'!$D$4:$E$403,2,FALSE)))","v":"Sin Registrar"},653," ",{"$f":"IF(ISERROR(CONCATENATE($S654,\".\",VLOOKUP($K654,'1_Metas_Resultados'!$D$4:$E$403,2,FALSE))),\"Sin Registrar\",CONCATENATE($S654,\".\",VLOOKUP($K654,'1_Metas_Resultados'!$D$4:$E$403,2,FALSE)))","v":"Sin Registrar"},{"$f":"IF(ISERROR(CONCATENATE($S654,\".\",VLOOKUP($L654,'1_Metas_Resultados'!$D$4:$E$403,2,FALSE))),\"Sin Registrar\",CONCATENATE($S654,\".\",VLOOKUP($L654,'1_Metas_Resultados'!$D$4:$E$403,2,FALSE)))","v":"Sin Registrar"},{"$f":"IF(ISERROR(VLOOKUP(G654,'1_Metas_Resultados'!$D$4:$I$403,6,FALSE)),\"\",VLOOKUP(G654,'1_Metas_Resultados'!$D$4:$I$403,6,FALSE))","v":""}]
[{"$f":"IF(ISERROR(CONCATENATE($S655,\".\",VLOOKUP($G655,'1_Metas_Resultados'!$D$4:$E$403,2,FALSE))),\"Sin Registrar\",CONCATENATE($S655,\".\",VLOOKUP($G655,'1_Metas_Resultados'!$D$4:$E$403,2,FALSE)))","v":"Sin Registrar"},654," ",{"$f":"IF(ISERROR(CONCATENATE($S655,\".\",VLOOKUP($K655,'1_Metas_Resultados'!$D$4:$E$403,2,FALSE))),\"Sin Registrar\",CONCATENATE($S655,\".\",VLOOKUP($K655,'1_Metas_Resultados'!$D$4:$E$403,2,FALSE)))","v":"Sin Registrar"},{"$f":"IF(ISERROR(CONCATENATE($S655,\".\",VLOOKUP($L655,'1_Metas_Resultados'!$D$4:$E$403,2,FALSE))),\"Sin Registrar\",CONCATENATE($S655,\".\",VLOOKUP($L655,'1_Metas_Resultados'!$D$4:$E$403,2,FALSE)))","v":"Sin Registrar"},{"$f":"IF(ISERROR(VLOOKUP(G655,'1_Metas_Resultados'!$D$4:$I$403,6,FALSE)),\"\",VLOOKUP(G655,'1_Metas_Resultados'!$D$4:$I$403,6,FALSE))","v":""}]
[{"$f":"IF(ISERROR(CONCATENATE($S656,\".\",VLOOKUP($G656,'1_Metas_Resultados'!$D$4:$E$403,2,FALSE))),\"Sin Registrar\",CONCATENATE($S656,\".\",VLOOKUP($G656,'1_Metas_Resultados'!$D$4:$E$403,2,FALSE)))","v":"Sin Registrar"},655," ",{"$f":"IF(ISERROR(CONCATENATE($S656,\".\",VLOOKUP($K656,'1_Metas_Resultados'!$D$4:$E$403,2,FALSE))),\"Sin Registrar\",CONCATENATE($S656,\".\",VLOOKUP($K656,'1_Metas_Resultados'!$D$4:$E$403,2,FALSE)))","v":"Sin Registrar"},{"$f":"IF(ISERROR(CONCATENATE($S656,\".\",VLOOKUP($L656,'1_Metas_Resultados'!$D$4:$E$403,2,FALSE))),\"Sin Registrar\",CONCATENATE($S656,\".\",VLOOKUP($L656,'1_Metas_Resultados'!$D$4:$E$403,2,FALSE)))","v":"Sin Registrar"},{"$f":"IF(ISERROR(VLOOKUP(G656,'1_Metas_Resultados'!$D$4:$I$403,6,FALSE)),\"\",VLOOKUP(G656,'1_Metas_Resultados'!$D$4:$I$403,6,FALSE))","v":""}]
[{"$f":"IF(ISERROR(CONCATENATE($S657,\".\",VLOOKUP($G657,'1_Metas_Resultados'!$D$4:$E$403,2,FALSE))),\"Sin Registrar\",CONCATENATE($S657,\".\",VLOOKUP($G657,'1_Metas_Resultados'!$D$4:$E$403,2,FALSE)))","v":"Sin Registrar"},656," ",{"$f":"IF(ISERROR(CONCATENATE($S657,\".\",VLOOKUP($K657,'1_Metas_Resultados'!$D$4:$E$403,2,FALSE))),\"Sin Registrar\",CONCATENATE($S657,\".\",VLOOKUP($K657,'1_Metas_Resultados'!$D$4:$E$403,2,FALSE)))","v":"Sin Registrar"},{"$f":"IF(ISERROR(CONCATENATE($S657,\".\",VLOOKUP($L657,'1_Metas_Resultados'!$D$4:$E$403,2,FALSE))),\"Sin Registrar\",CONCATENATE($S657,\".\",VLOOKUP($L657,'1_Metas_Resultados'!$D$4:$E$403,2,FALSE)))","v":"Sin Registrar"},{"$f":"IF(ISERROR(VLOOKUP(G657,'1_Metas_Resultados'!$D$4:$I$403,6,FALSE)),\"\",VLOOKUP(G657,'1_Metas_Resultados'!$D$4:$I$403,6,FALSE))","v":""}]
[{"$f":"IF(ISERROR(CONCATENATE($S658,\".\",VLOOKUP($G658,'1_Metas_Resultados'!$D$4:$E$403,2,FALSE))),\"Sin Registrar\",CONCATENATE($S658,\".\",VLOOKUP($G658,'1_Metas_Resultados'!$D$4:$E$403,2,FALSE)))","v":"Sin Registrar"},657," ",{"$f":"IF(ISERROR(CONCATENATE($S658,\".\",VLOOKUP($K658,'1_Metas_Resultados'!$D$4:$E$403,2,FALSE))),\"Sin Registrar\",CONCATENATE($S658,\".\",VLOOKUP($K658,'1_Metas_Resultados'!$D$4:$E$403,2,FALSE)))","v":"Sin Registrar"},{"$f":"IF(ISERROR(CONCATENATE($S658,\".\",VLOOKUP($L658,'1_Metas_Resultados'!$D$4:$E$403,2,FALSE))),\"Sin Registrar\",CONCATENATE($S658,\".\",VLOOKUP($L658,'1_Metas_Resultados'!$D$4:$E$403,2,FALSE)))","v":"Sin Registrar"},{"$f":"IF(ISERROR(VLOOKUP(G658,'1_Metas_Resultados'!$D$4:$I$403,6,FALSE)),\"\",VLOOKUP(G658,'1_Metas_Resultados'!$D$4:$I$403,6,FALSE))","v":""}]
[{"$f":"IF(ISERROR(CONCATENATE($S659,\".\",VLOOKUP($G659,'1_Metas_Resultados'!$D$4:$E$403,2,FALSE))),\"Sin Registrar\",CONCATENATE($S659,\".\",VLOOKUP($G659,'1_Metas_Resultados'!$D$4:$E$403,2,FALSE)))","v":"Sin Registrar"},658," ",{"$f":"IF(ISERROR(CONCATENATE($S659,\".\",VLOOKUP($K659,'1_Metas_Resultados'!$D$4:$E$403,2,FALSE))),\"Sin Registrar\",CONCATENATE($S659,\".\",VLOOKUP($K659,'1_Metas_Resultados'!$D$4:$E$403,2,FALSE)))","v":"Sin Registrar"},{"$f":"IF(ISERROR(CONCATENATE($S659,\".\",VLOOKUP($L659,'1_Metas_Resultados'!$D$4:$E$403,2,FALSE))),\"Sin Registrar\",CONCATENATE($S659,\".\",VLOOKUP($L659,'1_Metas_Resultados'!$D$4:$E$403,2,FALSE)))","v":"Sin Registrar"},{"$f":"IF(ISERROR(VLOOKUP(G659,'1_Metas_Resultados'!$D$4:$I$403,6,FALSE)),\"\",VLOOKUP(G659,'1_Metas_Resultados'!$D$4:$I$403,6,FALSE))","v":""}]
[{"$f":"IF(ISERROR(CONCATENATE($S660,\".\",VLOOKUP($G660,'1_Metas_Resultados'!$D$4:$E$403,2,FALSE))),\"Sin Registrar\",CONCATENATE($S660,\".\",VLOOKUP($G660,'1_Metas_Resultados'!$D$4:$E$403,2,FALSE)))","v":"Sin Registrar"},659," ",{"$f":"IF(ISERROR(CONCATENATE($S660,\".\",VLOOKUP($K660,'1_Metas_Resultados'!$D$4:$E$403,2,FALSE))),\"Sin Registrar\",CONCATENATE($S660,\".\",VLOOKUP($K660,'1_Metas_Resultados'!$D$4:$E$403,2,FALSE)))","v":"Sin Registrar"},{"$f":"IF(ISERROR(CONCATENATE($S660,\".\",VLOOKUP($L660,'1_Metas_Resultados'!$D$4:$E$403,2,FALSE))),\"Sin Registrar\",CONCATENATE($S660,\".\",VLOOKUP($L660,'1_Metas_Resultados'!$D$4:$E$403,2,FALSE)))","v":"Sin Registrar"},{"$f":"IF(ISERROR(VLOOKUP(G660,'1_Metas_Resultados'!$D$4:$I$403,6,FALSE)),\"\",VLOOKUP(G660,'1_Metas_Resultados'!$D$4:$I$403,6,FALSE))","v":""}]
[{"$f":"IF(ISERROR(CONCATENATE($S661,\".\",VLOOKUP($G661,'1_Metas_Resultados'!$D$4:$E$403,2,FALSE))),\"Sin Registrar\",CONCATENATE($S661,\".\",VLOOKUP($G661,'1_Metas_Resultados'!$D$4:$E$403,2,FALSE)))","v":"Sin Registrar"},660," ",{"$f":"IF(ISERROR(CONCATENATE($S661,\".\",VLOOKUP($K661,'1_Metas_Resultados'!$D$4:$E$403,2,FALSE))),\"Sin Registrar\",CONCATENATE($S661,\".\",VLOOKUP($K661,'1_Metas_Resultados'!$D$4:$E$403,2,FALSE)))","v":"Sin Registrar"},{"$f":"IF(ISERROR(CONCATENATE($S661,\".\",VLOOKUP($L661,'1_Metas_Resultados'!$D$4:$E$403,2,FALSE))),\"Sin Registrar\",CONCATENATE($S661,\".\",VLOOKUP($L661,'1_Metas_Resultados'!$D$4:$E$403,2,FALSE)))","v":"Sin Registrar"},{"$f":"IF(ISERROR(VLOOKUP(G661,'1_Metas_Resultados'!$D$4:$I$403,6,FALSE)),\"\",VLOOKUP(G661,'1_Metas_Resultados'!$D$4:$I$403,6,FALSE))","v":""}]
[{"$f":"IF(ISERROR(CONCATENATE($S662,\".\",VLOOKUP($G662,'1_Metas_Resultados'!$D$4:$E$403,2,FALSE))),\"Sin Registrar\",CONCATENATE($S662,\".\",VLOOKUP($G662,'1_Metas_Resultados'!$D$4:$E$403,2,FALSE)))","v":"Sin Registrar"},661," ",{"$f":"IF(ISERROR(CONCATENATE($S662,\".\",VLOOKUP($K662,'1_Metas_Resultados'!$D$4:$E$403,2,FALSE))),\"Sin Registrar\",CONCATENATE($S662,\".\",VLOOKUP($K662,'1_Metas_Resultados'!$D$4:$E$403,2,FALSE)))","v":"Sin Registrar"},{"$f":"IF(ISERROR(CONCATENATE($S662,\".\",VLOOKUP($L662,'1_Metas_Resultados'!$D$4:$E$403,2,FALSE))),\"Sin Registrar\",CONCATENATE($S662,\".\",VLOOKUP($L662,'1_Metas_Resultados'!$D$4:$E$403,2,FALSE)))","v":"Sin Registrar"},{"$f":"IF(ISERROR(VLOOKUP(G662,'1_Metas_Resultados'!$D$4:$I$403,6,FALSE)),\"\",VLOOKUP(G662,'1_Metas_Resultados'!$D$4:$I$403,6,FALSE))","v":""}]
[{"$f":"IF(ISERROR(CONCATENATE($S663,\".\",VLOOKUP($G663,'1_Metas_Resultados'!$D$4:$E$403,2,FALSE))),\"Sin Registrar\",CONCATENATE($S663,\".\",VLOOKUP($G663,'1_Metas_Resultados'!$D$4:$E$403,2,FALSE)))","v":"Sin Registrar"},662," ",{"$f":"IF(ISERROR(CONCATENATE($S663,\".\",VLOOKUP($K663,'1_Metas_Resultados'!$D$4:$E$403,2,FALSE))),\"Sin Registrar\",CONCATENATE($S663,\".\",VLOOKUP($K663,'1_Metas_Resultados'!$D$4:$E$403,2,FALSE)))","v":"Sin Registrar"},{"$f":"IF(ISERROR(CONCATENATE($S663,\".\",VLOOKUP($L663,'1_Metas_Resultados'!$D$4:$E$403,2,FALSE))),\"Sin Registrar\",CONCATENATE($S663,\".\",VLOOKUP($L663,'1_Metas_Resultados'!$D$4:$E$403,2,FALSE)))","v":"Sin Registrar"},{"$f":"IF(ISERROR(VLOOKUP(G663,'1_Metas_Resultados'!$D$4:$I$403,6,FALSE)),\"\",VLOOKUP(G663,'1_Metas_Resultados'!$D$4:$I$403,6,FALSE))","v":""}]
[{"$f":"IF(ISERROR(CONCATENATE($S664,\".\",VLOOKUP($G664,'1_Metas_Resultados'!$D$4:$E$403,2,FALSE))),\"Sin Registrar\",CONCATENATE($S664,\".\",VLOOKUP($G664,'1_Metas_Resultados'!$D$4:$E$403,2,FALSE)))","v":"Sin Registrar"},663," ",{"$f":"IF(ISERROR(CONCATENATE($S664,\".\",VLOOKUP($K664,'1_Metas_Resultados'!$D$4:$E$403,2,FALSE))),\"Sin Registrar\",CONCATENATE($S664,\".\",VLOOKUP($K664,'1_Metas_Resultados'!$D$4:$E$403,2,FALSE)))","v":"Sin Registrar"},{"$f":"IF(ISERROR(CONCATENATE($S664,\".\",VLOOKUP($L664,'1_Metas_Resultados'!$D$4:$E$403,2,FALSE))),\"Sin Registrar\",CONCATENATE($S664,\".\",VLOOKUP($L664,'1_Metas_Resultados'!$D$4:$E$403,2,FALSE)))","v":"Sin Registrar"},{"$f":"IF(ISERROR(VLOOKUP(G664,'1_Metas_Resultados'!$D$4:$I$403,6,FALSE)),\"\",VLOOKUP(G664,'1_Metas_Resultados'!$D$4:$I$403,6,FALSE))","v":""}]
[{"$f":"IF(ISERROR(CONCATENATE($S665,\".\",VLOOKUP($G665,'1_Metas_Resultados'!$D$4:$E$403,2,FALSE))),\"Sin Registrar\",CONCATENATE($S665,\".\",VLOOKUP($G665,'1_Metas_Resultados'!$D$4:$E$403,2,FALSE)))","v":"Sin Registrar"},664," ",{"$f":"IF(ISERROR(CONCATENATE($S665,\".\",VLOOKUP($K665,'1_Metas_Resultados'!$D$4:$E$403,2,FALSE))),\"Sin Registrar\",CONCATENATE($S665,\".\",VLOOKUP($K665,'1_Metas_Resultados'!$D$4:$E$403,2,FALSE)))","v":"Sin Registrar"},{"$f":"IF(ISERROR(CONCATENATE($S665,\".\",VLOOKUP($L665,'1_Metas_Resultados'!$D$4:$E$403,2,FALSE))),\"Sin Registrar\",CONCATENATE($S665,\".\",VLOOKUP($L665,'1_Metas_Resultados'!$D$4:$E$403,2,FALSE)))","v":"Sin Registrar"},{"$f":"IF(ISERROR(VLOOKUP(G665,'1_Metas_Resultados'!$D$4:$I$403,6,FALSE)),\"\",VLOOKUP(G665,'1_Metas_Resultados'!$D$4:$I$403,6,FALSE))","v":""}]
[{"$f":"IF(ISERROR(CONCATENATE($S666,\".\",VLOOKUP($G666,'1_Metas_Resultados'!$D$4:$E$403,2,FALSE))),\"Sin Registrar\",CONCATENATE($S666,\".\",VLOOKUP($G666,'1_Metas_Resultados'!$D$4:$E$403,2,FALSE)))","v":"Sin Registrar"},665," ",{"$f":"IF(ISERROR(CONCATENATE($S666,\".\",VLOOKUP($K666,'1_Metas_Resultados'!$D$4:$E$403,2,FALSE))),\"Sin Registrar\",CONCATENATE($S666,\".\",VLOOKUP($K666,'1_Metas_Resultados'!$D$4:$E$403,2,FALSE)))","v":"Sin Registrar"},{"$f":"IF(ISERROR(CONCATENATE($S666,\".\",VLOOKUP($L666,'1_Metas_Resultados'!$D$4:$E$403,2,FALSE))),\"Sin Registrar\",CONCATENATE($S666,\".\",VLOOKUP($L666,'1_Metas_Resultados'!$D$4:$E$403,2,FALSE)))","v":"Sin Registrar"},{"$f":"IF(ISERROR(VLOOKUP(G666,'1_Metas_Resultados'!$D$4:$I$403,6,FALSE)),\"\",VLOOKUP(G666,'1_Metas_Resultados'!$D$4:$I$403,6,FALSE))","v":""}]
[{"$f":"IF(ISERROR(CONCATENATE($S667,\".\",VLOOKUP($G667,'1_Metas_Resultados'!$D$4:$E$403,2,FALSE))),\"Sin Registrar\",CONCATENATE($S667,\".\",VLOOKUP($G667,'1_Metas_Resultados'!$D$4:$E$403,2,FALSE)))","v":"Sin Registrar"},666," ",{"$f":"IF(ISERROR(CONCATENATE($S667,\".\",VLOOKUP($K667,'1_Metas_Resultados'!$D$4:$E$403,2,FALSE))),\"Sin Registrar\",CONCATENATE($S667,\".\",VLOOKUP($K667,'1_Metas_Resultados'!$D$4:$E$403,2,FALSE)))","v":"Sin Registrar"},{"$f":"IF(ISERROR(CONCATENATE($S667,\".\",VLOOKUP($L667,'1_Metas_Resultados'!$D$4:$E$403,2,FALSE))),\"Sin Registrar\",CONCATENATE($S667,\".\",VLOOKUP($L667,'1_Metas_Resultados'!$D$4:$E$403,2,FALSE)))","v":"Sin Registrar"},{"$f":"IF(ISERROR(VLOOKUP(G667,'1_Metas_Resultados'!$D$4:$I$403,6,FALSE)),\"\",VLOOKUP(G667,'1_Metas_Resultados'!$D$4:$I$403,6,FALSE))","v":""}]
[{"$f":"IF(ISERROR(CONCATENATE($S668,\".\",VLOOKUP($G668,'1_Metas_Resultados'!$D$4:$E$403,2,FALSE))),\"Sin Registrar\",CONCATENATE($S668,\".\",VLOOKUP($G668,'1_Metas_Resultados'!$D$4:$E$403,2,FALSE)))","v":"Sin Registrar"},667," ",{"$f":"IF(ISERROR(CONCATENATE($S668,\".\",VLOOKUP($K668,'1_Metas_Resultados'!$D$4:$E$403,2,FALSE))),\"Sin Registrar\",CONCATENATE($S668,\".\",VLOOKUP($K668,'1_Metas_Resultados'!$D$4:$E$403,2,FALSE)))","v":"Sin Registrar"},{"$f":"IF(ISERROR(CONCATENATE($S668,\".\",VLOOKUP($L668,'1_Metas_Resultados'!$D$4:$E$403,2,FALSE))),\"Sin Registrar\",CONCATENATE($S668,\".\",VLOOKUP($L668,'1_Metas_Resultados'!$D$4:$E$403,2,FALSE)))","v":"Sin Registrar"},{"$f":"IF(ISERROR(VLOOKUP(G668,'1_Metas_Resultados'!$D$4:$I$403,6,FALSE)),\"\",VLOOKUP(G668,'1_Metas_Resultados'!$D$4:$I$403,6,FALSE))","v":""}]
[{"$f":"IF(ISERROR(CONCATENATE($S669,\".\",VLOOKUP($G669,'1_Metas_Resultados'!$D$4:$E$403,2,FALSE))),\"Sin Registrar\",CONCATENATE($S669,\".\",VLOOKUP($G669,'1_Metas_Resultados'!$D$4:$E$403,2,FALSE)))","v":"Sin Registrar"},668," ",{"$f":"IF(ISERROR(CONCATENATE($S669,\".\",VLOOKUP($K669,'1_Metas_Resultados'!$D$4:$E$403,2,FALSE))),\"Sin Registrar\",CONCATENATE($S669,\".\",VLOOKUP($K669,'1_Metas_Resultados'!$D$4:$E$403,2,FALSE)))","v":"Sin Registrar"},{"$f":"IF(ISERROR(CONCATENATE($S669,\".\",VLOOKUP($L669,'1_Metas_Resultados'!$D$4:$E$403,2,FALSE))),\"Sin Registrar\",CONCATENATE($S669,\".\",VLOOKUP($L669,'1_Metas_Resultados'!$D$4:$E$403,2,FALSE)))","v":"Sin Registrar"},{"$f":"IF(ISERROR(VLOOKUP(G669,'1_Metas_Resultados'!$D$4:$I$403,6,FALSE)),\"\",VLOOKUP(G669,'1_Metas_Resultados'!$D$4:$I$403,6,FALSE))","v":""}]
[{"$f":"IF(ISERROR(CONCATENATE($S670,\".\",VLOOKUP($G670,'1_Metas_Resultados'!$D$4:$E$403,2,FALSE))),\"Sin Registrar\",CONCATENATE($S670,\".\",VLOOKUP($G670,'1_Metas_Resultados'!$D$4:$E$403,2,FALSE)))","v":"Sin Registrar"},669," ",{"$f":"IF(ISERROR(CONCATENATE($S670,\".\",VLOOKUP($K670,'1_Metas_Resultados'!$D$4:$E$403,2,FALSE))),\"Sin Registrar\",CONCATENATE($S670,\".\",VLOOKUP($K670,'1_Metas_Resultados'!$D$4:$E$403,2,FALSE)))","v":"Sin Registrar"},{"$f":"IF(ISERROR(CONCATENATE($S670,\".\",VLOOKUP($L670,'1_Metas_Resultados'!$D$4:$E$403,2,FALSE))),\"Sin Registrar\",CONCATENATE($S670,\".\",VLOOKUP($L670,'1_Metas_Resultados'!$D$4:$E$403,2,FALSE)))","v":"Sin Registrar"},{"$f":"IF(ISERROR(VLOOKUP(G670,'1_Metas_Resultados'!$D$4:$I$403,6,FALSE)),\"\",VLOOKUP(G670,'1_Metas_Resultados'!$D$4:$I$403,6,FALSE))","v":""}]
[{"$f":"IF(ISERROR(CONCATENATE($S671,\".\",VLOOKUP($G671,'1_Metas_Resultados'!$D$4:$E$403,2,FALSE))),\"Sin Registrar\",CONCATENATE($S671,\".\",VLOOKUP($G671,'1_Metas_Resultados'!$D$4:$E$403,2,FALSE)))","v":"Sin Registrar"},670," ",{"$f":"IF(ISERROR(CONCATENATE($S671,\".\",VLOOKUP($K671,'1_Metas_Resultados'!$D$4:$E$403,2,FALSE))),\"Sin Registrar\",CONCATENATE($S671,\".\",VLOOKUP($K671,'1_Metas_Resultados'!$D$4:$E$403,2,FALSE)))","v":"Sin Registrar"},{"$f":"IF(ISERROR(CONCATENATE($S671,\".\",VLOOKUP($L671,'1_Metas_Resultados'!$D$4:$E$403,2,FALSE))),\"Sin Registrar\",CONCATENATE($S671,\".\",VLOOKUP($L671,'1_Metas_Resultados'!$D$4:$E$403,2,FALSE)))","v":"Sin Registrar"},{"$f":"IF(ISERROR(VLOOKUP(G671,'1_Metas_Resultados'!$D$4:$I$403,6,FALSE)),\"\",VLOOKUP(G671,'1_Metas_Resultados'!$D$4:$I$403,6,FALSE))","v":""}]
[{"$f":"IF(ISERROR(CONCATENATE($S672,\".\",VLOOKUP($G672,'1_Metas_Resultados'!$D$4:$E$403,2,FALSE))),\"Sin Registrar\",CONCATENATE($S672,\".\",VLOOKUP($G672,'1_Metas_Resultados'!$D$4:$E$403,2,FALSE)))","v":"Sin Registrar"},671," ",{"$f":"IF(ISERROR(CONCATENATE($S672,\".\",VLOOKUP($K672,'1_Metas_Resultados'!$D$4:$E$403,2,FALSE))),\"Sin Registrar\",CONCATENATE($S672,\".\",VLOOKUP($K672,'1_Metas_Resultados'!$D$4:$E$403,2,FALSE)))","v":"Sin Registrar"},{"$f":"IF(ISERROR(CONCATENATE($S672,\".\",VLOOKUP($L672,'1_Metas_Resultados'!$D$4:$E$403,2,FALSE))),\"Sin Registrar\",CONCATENATE($S672,\".\",VLOOKUP($L672,'1_Metas_Resultados'!$D$4:$E$403,2,FALSE)))","v":"Sin Registrar"},{"$f":"IF(ISERROR(VLOOKUP(G672,'1_Metas_Resultados'!$D$4:$I$403,6,FALSE)),\"\",VLOOKUP(G672,'1_Metas_Resultados'!$D$4:$I$403,6,FALSE))","v":""}]
[{"$f":"IF(ISERROR(CONCATENATE($S673,\".\",VLOOKUP($G673,'1_Metas_Resultados'!$D$4:$E$403,2,FALSE))),\"Sin Registrar\",CONCATENATE($S673,\".\",VLOOKUP($G673,'1_Metas_Resultados'!$D$4:$E$403,2,FALSE)))","v":"Sin Registrar"},672," ",{"$f":"IF(ISERROR(CONCATENATE($S673,\".\",VLOOKUP($K673,'1_Metas_Resultados'!$D$4:$E$403,2,FALSE))),\"Sin Registrar\",CONCATENATE($S673,\".\",VLOOKUP($K673,'1_Metas_Resultados'!$D$4:$E$403,2,FALSE)))","v":"Sin Registrar"},{"$f":"IF(ISERROR(CONCATENATE($S673,\".\",VLOOKUP($L673,'1_Metas_Resultados'!$D$4:$E$403,2,FALSE))),\"Sin Registrar\",CONCATENATE($S673,\".\",VLOOKUP($L673,'1_Metas_Resultados'!$D$4:$E$403,2,FALSE)))","v":"Sin Registrar"},{"$f":"IF(ISERROR(VLOOKUP(G673,'1_Metas_Resultados'!$D$4:$I$403,6,FALSE)),\"\",VLOOKUP(G673,'1_Metas_Resultados'!$D$4:$I$403,6,FALSE))","v":""}]
[{"$f":"IF(ISERROR(CONCATENATE($S674,\".\",VLOOKUP($G674,'1_Metas_Resultados'!$D$4:$E$403,2,FALSE))),\"Sin Registrar\",CONCATENATE($S674,\".\",VLOOKUP($G674,'1_Metas_Resultados'!$D$4:$E$403,2,FALSE)))","v":"Sin Registrar"},673," ",{"$f":"IF(ISERROR(CONCATENATE($S674,\".\",VLOOKUP($K674,'1_Metas_Resultados'!$D$4:$E$403,2,FALSE))),\"Sin Registrar\",CONCATENATE($S674,\".\",VLOOKUP($K674,'1_Metas_Resultados'!$D$4:$E$403,2,FALSE)))","v":"Sin Registrar"},{"$f":"IF(ISERROR(CONCATENATE($S674,\".\",VLOOKUP($L674,'1_Metas_Resultados'!$D$4:$E$403,2,FALSE))),\"Sin Registrar\",CONCATENATE($S674,\".\",VLOOKUP($L674,'1_Metas_Resultados'!$D$4:$E$403,2,FALSE)))","v":"Sin Registrar"},{"$f":"IF(ISERROR(VLOOKUP(G674,'1_Metas_Resultados'!$D$4:$I$403,6,FALSE)),\"\",VLOOKUP(G674,'1_Metas_Resultados'!$D$4:$I$403,6,FALSE))","v":""}]
[{"$f":"IF(ISERROR(CONCATENATE($S675,\".\",VLOOKUP($G675,'1_Metas_Resultados'!$D$4:$E$403,2,FALSE))),\"Sin Registrar\",CONCATENATE($S675,\".\",VLOOKUP($G675,'1_Metas_Resultados'!$D$4:$E$403,2,FALSE)))","v":"Sin Registrar"},674," ",{"$f":"IF(ISERROR(CONCATENATE($S675,\".\",VLOOKUP($K675,'1_Metas_Resultados'!$D$4:$E$403,2,FALSE))),\"Sin Registrar\",CONCATENATE($S675,\".\",VLOOKUP($K675,'1_Metas_Resultados'!$D$4:$E$403,2,FALSE)))","v":"Sin Registrar"},{"$f":"IF(ISERROR(CONCATENATE($S675,\".\",VLOOKUP($L675,'1_Metas_Resultados'!$D$4:$E$403,2,FALSE))),\"Sin Registrar\",CONCATENATE($S675,\".\",VLOOKUP($L675,'1_Metas_Resultados'!$D$4:$E$403,2,FALSE)))","v":"Sin Registrar"},{"$f":"IF(ISERROR(VLOOKUP(G675,'1_Metas_Resultados'!$D$4:$I$403,6,FALSE)),\"\",VLOOKUP(G675,'1_Metas_Resultados'!$D$4:$I$403,6,FALSE))","v":""}]
[{"$f":"IF(ISERROR(CONCATENATE($S676,\".\",VLOOKUP($G676,'1_Metas_Resultados'!$D$4:$E$403,2,FALSE))),\"Sin Registrar\",CONCATENATE($S676,\".\",VLOOKUP($G676,'1_Metas_Resultados'!$D$4:$E$403,2,FALSE)))","v":"Sin Registrar"},675," ",{"$f":"IF(ISERROR(CONCATENATE($S676,\".\",VLOOKUP($K676,'1_Metas_Resultados'!$D$4:$E$403,2,FALSE))),\"Sin Registrar\",CONCATENATE($S676,\".\",VLOOKUP($K676,'1_Metas_Resultados'!$D$4:$E$403,2,FALSE)))","v":"Sin Registrar"},{"$f":"IF(ISERROR(CONCATENATE($S676,\".\",VLOOKUP($L676,'1_Metas_Resultados'!$D$4:$E$403,2,FALSE))),\"Sin Registrar\",CONCATENATE($S676,\".\",VLOOKUP($L676,'1_Metas_Resultados'!$D$4:$E$403,2,FALSE)))","v":"Sin Registrar"},{"$f":"IF(ISERROR(VLOOKUP(G676,'1_Metas_Resultados'!$D$4:$I$403,6,FALSE)),\"\",VLOOKUP(G676,'1_Metas_Resultados'!$D$4:$I$403,6,FALSE))","v":""}]
[{"$f":"IF(ISERROR(CONCATENATE($S677,\".\",VLOOKUP($G677,'1_Metas_Resultados'!$D$4:$E$403,2,FALSE))),\"Sin Registrar\",CONCATENATE($S677,\".\",VLOOKUP($G677,'1_Metas_Resultados'!$D$4:$E$403,2,FALSE)))","v":"Sin Registrar"},676," ",{"$f":"IF(ISERROR(CONCATENATE($S677,\".\",VLOOKUP($K677,'1_Metas_Resultados'!$D$4:$E$403,2,FALSE))),\"Sin Registrar\",CONCATENATE($S677,\".\",VLOOKUP($K677,'1_Metas_Resultados'!$D$4:$E$403,2,FALSE)))","v":"Sin Registrar"},{"$f":"IF(ISERROR(CONCATENATE($S677,\".\",VLOOKUP($L677,'1_Metas_Resultados'!$D$4:$E$403,2,FALSE))),\"Sin Registrar\",CONCATENATE($S677,\".\",VLOOKUP($L677,'1_Metas_Resultados'!$D$4:$E$403,2,FALSE)))","v":"Sin Registrar"},{"$f":"IF(ISERROR(VLOOKUP(G677,'1_Metas_Resultados'!$D$4:$I$403,6,FALSE)),\"\",VLOOKUP(G677,'1_Metas_Resultados'!$D$4:$I$403,6,FALSE))","v":""}]
[{"$f":"IF(ISERROR(CONCATENATE($S678,\".\",VLOOKUP($G678,'1_Metas_Resultados'!$D$4:$E$403,2,FALSE))),\"Sin Registrar\",CONCATENATE($S678,\".\",VLOOKUP($G678,'1_Metas_Resultados'!$D$4:$E$403,2,FALSE)))","v":"Sin Registrar"},677," ",{"$f":"IF(ISERROR(CONCATENATE($S678,\".\",VLOOKUP($K678,'1_Metas_Resultados'!$D$4:$E$403,2,FALSE))),\"Sin Registrar\",CONCATENATE($S678,\".\",VLOOKUP($K678,'1_Metas_Resultados'!$D$4:$E$403,2,FALSE)))","v":"Sin Registrar"},{"$f":"IF(ISERROR(CONCATENATE($S678,\".\",VLOOKUP($L678,'1_Metas_Resultados'!$D$4:$E$403,2,FALSE))),\"Sin Registrar\",CONCATENATE($S678,\".\",VLOOKUP($L678,'1_Metas_Resultados'!$D$4:$E$403,2,FALSE)))","v":"Sin Registrar"},{"$f":"IF(ISERROR(VLOOKUP(G678,'1_Metas_Resultados'!$D$4:$I$403,6,FALSE)),\"\",VLOOKUP(G678,'1_Metas_Resultados'!$D$4:$I$403,6,FALSE))","v":""}]
[{"$f":"IF(ISERROR(CONCATENATE($S679,\".\",VLOOKUP($G679,'1_Metas_Resultados'!$D$4:$E$403,2,FALSE))),\"Sin Registrar\",CONCATENATE($S679,\".\",VLOOKUP($G679,'1_Metas_Resultados'!$D$4:$E$403,2,FALSE)))","v":"Sin Registrar"},678," ",{"$f":"IF(ISERROR(CONCATENATE($S679,\".\",VLOOKUP($K679,'1_Metas_Resultados'!$D$4:$E$403,2,FALSE))),\"Sin Registrar\",CONCATENATE($S679,\".\",VLOOKUP($K679,'1_Metas_Resultados'!$D$4:$E$403,2,FALSE)))","v":"Sin Registrar"},{"$f":"IF(ISERROR(CONCATENATE($S679,\".\",VLOOKUP($L679,'1_Metas_Resultados'!$D$4:$E$403,2,FALSE))),\"Sin Registrar\",CONCATENATE($S679,\".\",VLOOKUP($L679,'1_Metas_Resultados'!$D$4:$E$403,2,FALSE)))","v":"Sin Registrar"},{"$f":"IF(ISERROR(VLOOKUP(G679,'1_Metas_Resultados'!$D$4:$I$403,6,FALSE)),\"\",VLOOKUP(G679,'1_Metas_Resultados'!$D$4:$I$403,6,FALSE))","v":""}]
[{"$f":"IF(ISERROR(CONCATENATE($S680,\".\",VLOOKUP($G680,'1_Metas_Resultados'!$D$4:$E$403,2,FALSE))),\"Sin Registrar\",CONCATENATE($S680,\".\",VLOOKUP($G680,'1_Metas_Resultados'!$D$4:$E$403,2,FALSE)))","v":"Sin Registrar"},679," ",{"$f":"IF(ISERROR(CONCATENATE($S680,\".\",VLOOKUP($K680,'1_Metas_Resultados'!$D$4:$E$403,2,FALSE))),\"Sin Registrar\",CONCATENATE($S680,\".\",VLOOKUP($K680,'1_Metas_Resultados'!$D$4:$E$403,2,FALSE)))","v":"Sin Registrar"},{"$f":"IF(ISERROR(CONCATENATE($S680,\".\",VLOOKUP($L680,'1_Metas_Resultados'!$D$4:$E$403,2,FALSE))),\"Sin Registrar\",CONCATENATE($S680,\".\",VLOOKUP($L680,'1_Metas_Resultados'!$D$4:$E$403,2,FALSE)))","v":"Sin Registrar"},{"$f":"IF(ISERROR(VLOOKUP(G680,'1_Metas_Resultados'!$D$4:$I$403,6,FALSE)),\"\",VLOOKUP(G680,'1_Metas_Resultados'!$D$4:$I$403,6,FALSE))","v":""}]
[{"$f":"IF(ISERROR(CONCATENATE($S681,\".\",VLOOKUP($G681,'1_Metas_Resultados'!$D$4:$E$403,2,FALSE))),\"Sin Registrar\",CONCATENATE($S681,\".\",VLOOKUP($G681,'1_Metas_Resultados'!$D$4:$E$403,2,FALSE)))","v":"Sin Registrar"},680," ",{"$f":"IF(ISERROR(CONCATENATE($S681,\".\",VLOOKUP($K681,'1_Metas_Resultados'!$D$4:$E$403,2,FALSE))),\"Sin Registrar\",CONCATENATE($S681,\".\",VLOOKUP($K681,'1_Metas_Resultados'!$D$4:$E$403,2,FALSE)))","v":"Sin Registrar"},{"$f":"IF(ISERROR(CONCATENATE($S681,\".\",VLOOKUP($L681,'1_Metas_Resultados'!$D$4:$E$403,2,FALSE))),\"Sin Registrar\",CONCATENATE($S681,\".\",VLOOKUP($L681,'1_Metas_Resultados'!$D$4:$E$403,2,FALSE)))","v":"Sin Registrar"},{"$f":"IF(ISERROR(VLOOKUP(G681,'1_Metas_Resultados'!$D$4:$I$403,6,FALSE)),\"\",VLOOKUP(G681,'1_Metas_Resultados'!$D$4:$I$403,6,FALSE))","v":""}]
[{"$f":"IF(ISERROR(CONCATENATE($S682,\".\",VLOOKUP($G682,'1_Metas_Resultados'!$D$4:$E$403,2,FALSE))),\"Sin Registrar\",CONCATENATE($S682,\".\",VLOOKUP($G682,'1_Metas_Resultados'!$D$4:$E$403,2,FALSE)))","v":"Sin Registrar"},681," ",{"$f":"IF(ISERROR(CONCATENATE($S682,\".\",VLOOKUP($K682,'1_Metas_Resultados'!$D$4:$E$403,2,FALSE))),\"Sin Registrar\",CONCATENATE($S682,\".\",VLOOKUP($K682,'1_Metas_Resultados'!$D$4:$E$403,2,FALSE)))","v":"Sin Registrar"},{"$f":"IF(ISERROR(CONCATENATE($S682,\".\",VLOOKUP($L682,'1_Metas_Resultados'!$D$4:$E$403,2,FALSE))),\"Sin Registrar\",CONCATENATE($S682,\".\",VLOOKUP($L682,'1_Metas_Resultados'!$D$4:$E$403,2,FALSE)))","v":"Sin Registrar"},{"$f":"IF(ISERROR(VLOOKUP(G682,'1_Metas_Resultados'!$D$4:$I$403,6,FALSE)),\"\",VLOOKUP(G682,'1_Metas_Resultados'!$D$4:$I$403,6,FALSE))","v":""}]
[{"$f":"IF(ISERROR(CONCATENATE($S683,\".\",VLOOKUP($G683,'1_Metas_Resultados'!$D$4:$E$403,2,FALSE))),\"Sin Registrar\",CONCATENATE($S683,\".\",VLOOKUP($G683,'1_Metas_Resultados'!$D$4:$E$403,2,FALSE)))","v":"Sin Registrar"},682," ",{"$f":"IF(ISERROR(CONCATENATE($S683,\".\",VLOOKUP($K683,'1_Metas_Resultados'!$D$4:$E$403,2,FALSE))),\"Sin Registrar\",CONCATENATE($S683,\".\",VLOOKUP($K683,'1_Metas_Resultados'!$D$4:$E$403,2,FALSE)))","v":"Sin Registrar"},{"$f":"IF(ISERROR(CONCATENATE($S683,\".\",VLOOKUP($L683,'1_Metas_Resultados'!$D$4:$E$403,2,FALSE))),\"Sin Registrar\",CONCATENATE($S683,\".\",VLOOKUP($L683,'1_Metas_Resultados'!$D$4:$E$403,2,FALSE)))","v":"Sin Registrar"},{"$f":"IF(ISERROR(VLOOKUP(G683,'1_Metas_Resultados'!$D$4:$I$403,6,FALSE)),\"\",VLOOKUP(G683,'1_Metas_Resultados'!$D$4:$I$403,6,FALSE))","v":""}]
[{"$f":"IF(ISERROR(CONCATENATE($S684,\".\",VLOOKUP($G684,'1_Metas_Resultados'!$D$4:$E$403,2,FALSE))),\"Sin Registrar\",CONCATENATE($S684,\".\",VLOOKUP($G684,'1_Metas_Resultados'!$D$4:$E$403,2,FALSE)))","v":"Sin Registrar"},683," ",{"$f":"IF(ISERROR(CONCATENATE($S684,\".\",VLOOKUP($K684,'1_Metas_Resultados'!$D$4:$E$403,2,FALSE))),\"Sin Registrar\",CONCATENATE($S684,\".\",VLOOKUP($K684,'1_Metas_Resultados'!$D$4:$E$403,2,FALSE)))","v":"Sin Registrar"},{"$f":"IF(ISERROR(CONCATENATE($S684,\".\",VLOOKUP($L684,'1_Metas_Resultados'!$D$4:$E$403,2,FALSE))),\"Sin Registrar\",CONCATENATE($S684,\".\",VLOOKUP($L684,'1_Metas_Resultados'!$D$4:$E$403,2,FALSE)))","v":"Sin Registrar"},{"$f":"IF(ISERROR(VLOOKUP(G684,'1_Metas_Resultados'!$D$4:$I$403,6,FALSE)),\"\",VLOOKUP(G684,'1_Metas_Resultados'!$D$4:$I$403,6,FALSE))","v":""}]
[{"$f":"IF(ISERROR(CONCATENATE($S685,\".\",VLOOKUP($G685,'1_Metas_Resultados'!$D$4:$E$403,2,FALSE))),\"Sin Registrar\",CONCATENATE($S685,\".\",VLOOKUP($G685,'1_Metas_Resultados'!$D$4:$E$403,2,FALSE)))","v":"Sin Registrar"},684," ",{"$f":"IF(ISERROR(CONCATENATE($S685,\".\",VLOOKUP($K685,'1_Metas_Resultados'!$D$4:$E$403,2,FALSE))),\"Sin Registrar\",CONCATENATE($S685,\".\",VLOOKUP($K685,'1_Metas_Resultados'!$D$4:$E$403,2,FALSE)))","v":"Sin Registrar"},{"$f":"IF(ISERROR(CONCATENATE($S685,\".\",VLOOKUP($L685,'1_Metas_Resultados'!$D$4:$E$403,2,FALSE))),\"Sin Registrar\",CONCATENATE($S685,\".\",VLOOKUP($L685,'1_Metas_Resultados'!$D$4:$E$403,2,FALSE)))","v":"Sin Registrar"},{"$f":"IF(ISERROR(VLOOKUP(G685,'1_Metas_Resultados'!$D$4:$I$403,6,FALSE)),\"\",VLOOKUP(G685,'1_Metas_Resultados'!$D$4:$I$403,6,FALSE))","v":""}]
[{"$f":"IF(ISERROR(CONCATENATE($S686,\".\",VLOOKUP($G686,'1_Metas_Resultados'!$D$4:$E$403,2,FALSE))),\"Sin Registrar\",CONCATENATE($S686,\".\",VLOOKUP($G686,'1_Metas_Resultados'!$D$4:$E$403,2,FALSE)))","v":"Sin Registrar"},685," ",{"$f":"IF(ISERROR(CONCATENATE($S686,\".\",VLOOKUP($K686,'1_Metas_Resultados'!$D$4:$E$403,2,FALSE))),\"Sin Registrar\",CONCATENATE($S686,\".\",VLOOKUP($K686,'1_Metas_Resultados'!$D$4:$E$403,2,FALSE)))","v":"Sin Registrar"},{"$f":"IF(ISERROR(CONCATENATE($S686,\".\",VLOOKUP($L686,'1_Metas_Resultados'!$D$4:$E$403,2,FALSE))),\"Sin Registrar\",CONCATENATE($S686,\".\",VLOOKUP($L686,'1_Metas_Resultados'!$D$4:$E$403,2,FALSE)))","v":"Sin Registrar"},{"$f":"IF(ISERROR(VLOOKUP(G686,'1_Metas_Resultados'!$D$4:$I$403,6,FALSE)),\"\",VLOOKUP(G686,'1_Metas_Resultados'!$D$4:$I$403,6,FALSE))","v":""}]
[{"$f":"IF(ISERROR(CONCATENATE($S687,\".\",VLOOKUP($G687,'1_Metas_Resultados'!$D$4:$E$403,2,FALSE))),\"Sin Registrar\",CONCATENATE($S687,\".\",VLOOKUP($G687,'1_Metas_Resultados'!$D$4:$E$403,2,FALSE)))","v":"Sin Registrar"},686," ",{"$f":"IF(ISERROR(CONCATENATE($S687,\".\",VLOOKUP($K687,'1_Metas_Resultados'!$D$4:$E$403,2,FALSE))),\"Sin Registrar\",CONCATENATE($S687,\".\",VLOOKUP($K687,'1_Metas_Resultados'!$D$4:$E$403,2,FALSE)))","v":"Sin Registrar"},{"$f":"IF(ISERROR(CONCATENATE($S687,\".\",VLOOKUP($L687,'1_Metas_Resultados'!$D$4:$E$403,2,FALSE))),\"Sin Registrar\",CONCATENATE($S687,\".\",VLOOKUP($L687,'1_Metas_Resultados'!$D$4:$E$403,2,FALSE)))","v":"Sin Registrar"},{"$f":"IF(ISERROR(VLOOKUP(G687,'1_Metas_Resultados'!$D$4:$I$403,6,FALSE)),\"\",VLOOKUP(G687,'1_Metas_Resultados'!$D$4:$I$403,6,FALSE))","v":""}]
[{"$f":"IF(ISERROR(CONCATENATE($S688,\".\",VLOOKUP($G688,'1_Metas_Resultados'!$D$4:$E$403,2,FALSE))),\"Sin Registrar\",CONCATENATE($S688,\".\",VLOOKUP($G688,'1_Metas_Resultados'!$D$4:$E$403,2,FALSE)))","v":"Sin Registrar"},687," ",{"$f":"IF(ISERROR(CONCATENATE($S688,\".\",VLOOKUP($K688,'1_Metas_Resultados'!$D$4:$E$403,2,FALSE))),\"Sin Registrar\",CONCATENATE($S688,\".\",VLOOKUP($K688,'1_Metas_Resultados'!$D$4:$E$403,2,FALSE)))","v":"Sin Registrar"},{"$f":"IF(ISERROR(CONCATENATE($S688,\".\",VLOOKUP($L688,'1_Metas_Resultados'!$D$4:$E$403,2,FALSE))),\"Sin Registrar\",CONCATENATE($S688,\".\",VLOOKUP($L688,'1_Metas_Resultados'!$D$4:$E$403,2,FALSE)))","v":"Sin Registrar"},{"$f":"IF(ISERROR(VLOOKUP(G688,'1_Metas_Resultados'!$D$4:$I$403,6,FALSE)),\"\",VLOOKUP(G688,'1_Metas_Resultados'!$D$4:$I$403,6,FALSE))","v":""}]
[{"$f":"IF(ISERROR(CONCATENATE($S689,\".\",VLOOKUP($G689,'1_Metas_Resultados'!$D$4:$E$403,2,FALSE))),\"Sin Registrar\",CONCATENATE($S689,\".\",VLOOKUP($G689,'1_Metas_Resultados'!$D$4:$E$403,2,FALSE)))","v":"Sin Registrar"},688," ",{"$f":"IF(ISERROR(CONCATENATE($S689,\".\",VLOOKUP($K689,'1_Metas_Resultados'!$D$4:$E$403,2,FALSE))),\"Sin Registrar\",CONCATENATE($S689,\".\",VLOOKUP($K689,'1_Metas_Resultados'!$D$4:$E$403,2,FALSE)))","v":"Sin Registrar"},{"$f":"IF(ISERROR(CONCATENATE($S689,\".\",VLOOKUP($L689,'1_Metas_Resultados'!$D$4:$E$403,2,FALSE))),\"Sin Registrar\",CONCATENATE($S689,\".\",VLOOKUP($L689,'1_Metas_Resultados'!$D$4:$E$403,2,FALSE)))","v":"Sin Registrar"},{"$f":"IF(ISERROR(VLOOKUP(G689,'1_Metas_Resultados'!$D$4:$I$403,6,FALSE)),\"\",VLOOKUP(G689,'1_Metas_Resultados'!$D$4:$I$403,6,FALSE))","v":""}]
[{"$f":"IF(ISERROR(CONCATENATE($S690,\".\",VLOOKUP($G690,'1_Metas_Resultados'!$D$4:$E$403,2,FALSE))),\"Sin Registrar\",CONCATENATE($S690,\".\",VLOOKUP($G690,'1_Metas_Resultados'!$D$4:$E$403,2,FALSE)))","v":"Sin Registrar"},689," ",{"$f":"IF(ISERROR(CONCATENATE($S690,\".\",VLOOKUP($K690,'1_Metas_Resultados'!$D$4:$E$403,2,FALSE))),\"Sin Registrar\",CONCATENATE($S690,\".\",VLOOKUP($K690,'1_Metas_Resultados'!$D$4:$E$403,2,FALSE)))","v":"Sin Registrar"},{"$f":"IF(ISERROR(CONCATENATE($S690,\".\",VLOOKUP($L690,'1_Metas_Resultados'!$D$4:$E$403,2,FALSE))),\"Sin Registrar\",CONCATENATE($S690,\".\",VLOOKUP($L690,'1_Metas_Resultados'!$D$4:$E$403,2,FALSE)))","v":"Sin Registrar"},{"$f":"IF(ISERROR(VLOOKUP(G690,'1_Metas_Resultados'!$D$4:$I$403,6,FALSE)),\"\",VLOOKUP(G690,'1_Metas_Resultados'!$D$4:$I$403,6,FALSE))","v":""}]
[{"$f":"IF(ISERROR(CONCATENATE($S691,\".\",VLOOKUP($G691,'1_Metas_Resultados'!$D$4:$E$403,2,FALSE))),\"Sin Registrar\",CONCATENATE($S691,\".\",VLOOKUP($G691,'1_Metas_Resultados'!$D$4:$E$403,2,FALSE)))","v":"Sin Registrar"},690," ",{"$f":"IF(ISERROR(CONCATENATE($S691,\".\",VLOOKUP($K691,'1_Metas_Resultados'!$D$4:$E$403,2,FALSE))),\"Sin Registrar\",CONCATENATE($S691,\".\",VLOOKUP($K691,'1_Metas_Resultados'!$D$4:$E$403,2,FALSE)))","v":"Sin Registrar"},{"$f":"IF(ISERROR(CONCATENATE($S691,\".\",VLOOKUP($L691,'1_Metas_Resultados'!$D$4:$E$403,2,FALSE))),\"Sin Registrar\",CONCATENATE($S691,\".\",VLOOKUP($L691,'1_Metas_Resultados'!$D$4:$E$403,2,FALSE)))","v":"Sin Registrar"},{"$f":"IF(ISERROR(VLOOKUP(G691,'1_Metas_Resultados'!$D$4:$I$403,6,FALSE)),\"\",VLOOKUP(G691,'1_Metas_Resultados'!$D$4:$I$403,6,FALSE))","v":""}]
[{"$f":"IF(ISERROR(CONCATENATE($S692,\".\",VLOOKUP($G692,'1_Metas_Resultados'!$D$4:$E$403,2,FALSE))),\"Sin Registrar\",CONCATENATE($S692,\".\",VLOOKUP($G692,'1_Metas_Resultados'!$D$4:$E$403,2,FALSE)))","v":"Sin Registrar"},691," ",{"$f":"IF(ISERROR(CONCATENATE($S692,\".\",VLOOKUP($K692,'1_Metas_Resultados'!$D$4:$E$403,2,FALSE))),\"Sin Registrar\",CONCATENATE($S692,\".\",VLOOKUP($K692,'1_Metas_Resultados'!$D$4:$E$403,2,FALSE)))","v":"Sin Registrar"},{"$f":"IF(ISERROR(CONCATENATE($S692,\".\",VLOOKUP($L692,'1_Metas_Resultados'!$D$4:$E$403,2,FALSE))),\"Sin Registrar\",CONCATENATE($S692,\".\",VLOOKUP($L692,'1_Metas_Resultados'!$D$4:$E$403,2,FALSE)))","v":"Sin Registrar"},{"$f":"IF(ISERROR(VLOOKUP(G692,'1_Metas_Resultados'!$D$4:$I$403,6,FALSE)),\"\",VLOOKUP(G692,'1_Metas_Resultados'!$D$4:$I$403,6,FALSE))","v":""}]
[{"$f":"IF(ISERROR(CONCATENATE($S693,\".\",VLOOKUP($G693,'1_Metas_Resultados'!$D$4:$E$403,2,FALSE))),\"Sin Registrar\",CONCATENATE($S693,\".\",VLOOKUP($G693,'1_Metas_Resultados'!$D$4:$E$403,2,FALSE)))","v":"Sin Registrar"},692," ",{"$f":"IF(ISERROR(CONCATENATE($S693,\".\",VLOOKUP($K693,'1_Metas_Resultados'!$D$4:$E$403,2,FALSE))),\"Sin Registrar\",CONCATENATE($S693,\".\",VLOOKUP($K693,'1_Metas_Resultados'!$D$4:$E$403,2,FALSE)))","v":"Sin Registrar"},{"$f":"IF(ISERROR(CONCATENATE($S693,\".\",VLOOKUP($L693,'1_Metas_Resultados'!$D$4:$E$403,2,FALSE))),\"Sin Registrar\",CONCATENATE($S693,\".\",VLOOKUP($L693,'1_Metas_Resultados'!$D$4:$E$403,2,FALSE)))","v":"Sin Registrar"},{"$f":"IF(ISERROR(VLOOKUP(G693,'1_Metas_Resultados'!$D$4:$I$403,6,FALSE)),\"\",VLOOKUP(G693,'1_Metas_Resultados'!$D$4:$I$403,6,FALSE))","v":""}]
[{"$f":"IF(ISERROR(CONCATENATE($S694,\".\",VLOOKUP($G694,'1_Metas_Resultados'!$D$4:$E$403,2,FALSE))),\"Sin Registrar\",CONCATENATE($S694,\".\",VLOOKUP($G694,'1_Metas_Resultados'!$D$4:$E$403,2,FALSE)))","v":"Sin Registrar"},693," ",{"$f":"IF(ISERROR(CONCATENATE($S694,\".\",VLOOKUP($K694,'1_Metas_Resultados'!$D$4:$E$403,2,FALSE))),\"Sin Registrar\",CONCATENATE($S694,\".\",VLOOKUP($K694,'1_Metas_Resultados'!$D$4:$E$403,2,FALSE)))","v":"Sin Registrar"},{"$f":"IF(ISERROR(CONCATENATE($S694,\".\",VLOOKUP($L694,'1_Metas_Resultados'!$D$4:$E$403,2,FALSE))),\"Sin Registrar\",CONCATENATE($S694,\".\",VLOOKUP($L694,'1_Metas_Resultados'!$D$4:$E$403,2,FALSE)))","v":"Sin Registrar"},{"$f":"IF(ISERROR(VLOOKUP(G694,'1_Metas_Resultados'!$D$4:$I$403,6,FALSE)),\"\",VLOOKUP(G694,'1_Metas_Resultados'!$D$4:$I$403,6,FALSE))","v":""}]
[{"$f":"IF(ISERROR(CONCATENATE($S695,\".\",VLOOKUP($G695,'1_Metas_Resultados'!$D$4:$E$403,2,FALSE))),\"Sin Registrar\",CONCATENATE($S695,\".\",VLOOKUP($G695,'1_Metas_Resultados'!$D$4:$E$403,2,FALSE)))","v":"Sin Registrar"},694," ",{"$f":"IF(ISERROR(CONCATENATE($S695,\".\",VLOOKUP($K695,'1_Metas_Resultados'!$D$4:$E$403,2,FALSE))),\"Sin Registrar\",CONCATENATE($S695,\".\",VLOOKUP($K695,'1_Metas_Resultados'!$D$4:$E$403,2,FALSE)))","v":"Sin Registrar"},{"$f":"IF(ISERROR(CONCATENATE($S695,\".\",VLOOKUP($L695,'1_Metas_Resultados'!$D$4:$E$403,2,FALSE))),\"Sin Registrar\",CONCATENATE($S695,\".\",VLOOKUP($L695,'1_Metas_Resultados'!$D$4:$E$403,2,FALSE)))","v":"Sin Registrar"},{"$f":"IF(ISERROR(VLOOKUP(G695,'1_Metas_Resultados'!$D$4:$I$403,6,FALSE)),\"\",VLOOKUP(G695,'1_Metas_Resultados'!$D$4:$I$403,6,FALSE))","v":""}]
[{"$f":"IF(ISERROR(CONCATENATE($S696,\".\",VLOOKUP($G696,'1_Metas_Resultados'!$D$4:$E$403,2,FALSE))),\"Sin Registrar\",CONCATENATE($S696,\".\",VLOOKUP($G696,'1_Metas_Resultados'!$D$4:$E$403,2,FALSE)))","v":"Sin Registrar"},695," ",{"$f":"IF(ISERROR(CONCATENATE($S696,\".\",VLOOKUP($K696,'1_Metas_Resultados'!$D$4:$E$403,2,FALSE))),\"Sin Registrar\",CONCATENATE($S696,\".\",VLOOKUP($K696,'1_Metas_Resultados'!$D$4:$E$403,2,FALSE)))","v":"Sin Registrar"},{"$f":"IF(ISERROR(CONCATENATE($S696,\".\",VLOOKUP($L696,'1_Metas_Resultados'!$D$4:$E$403,2,FALSE))),\"Sin Registrar\",CONCATENATE($S696,\".\",VLOOKUP($L696,'1_Metas_Resultados'!$D$4:$E$403,2,FALSE)))","v":"Sin Registrar"},{"$f":"IF(ISERROR(VLOOKUP(G696,'1_Metas_Resultados'!$D$4:$I$403,6,FALSE)),\"\",VLOOKUP(G696,'1_Metas_Resultados'!$D$4:$I$403,6,FALSE))","v":""}]
[{"$f":"IF(ISERROR(CONCATENATE($S697,\".\",VLOOKUP($G697,'1_Metas_Resultados'!$D$4:$E$403,2,FALSE))),\"Sin Registrar\",CONCATENATE($S697,\".\",VLOOKUP($G697,'1_Metas_Resultados'!$D$4:$E$403,2,FALSE)))","v":"Sin Registrar"},696," ",{"$f":"IF(ISERROR(CONCATENATE($S697,\".\",VLOOKUP($K697,'1_Metas_Resultados'!$D$4:$E$403,2,FALSE))),\"Sin Registrar\",CONCATENATE($S697,\".\",VLOOKUP($K697,'1_Metas_Resultados'!$D$4:$E$403,2,FALSE)))","v":"Sin Registrar"},{"$f":"IF(ISERROR(CONCATENATE($S697,\".\",VLOOKUP($L697,'1_Metas_Resultados'!$D$4:$E$403,2,FALSE))),\"Sin Registrar\",CONCATENATE($S697,\".\",VLOOKUP($L697,'1_Metas_Resultados'!$D$4:$E$403,2,FALSE)))","v":"Sin Registrar"},{"$f":"IF(ISERROR(VLOOKUP(G697,'1_Metas_Resultados'!$D$4:$I$403,6,FALSE)),\"\",VLOOKUP(G697,'1_Metas_Resultados'!$D$4:$I$403,6,FALSE))","v":""}]
[{"$f":"IF(ISERROR(CONCATENATE($S698,\".\",VLOOKUP($G698,'1_Metas_Resultados'!$D$4:$E$403,2,FALSE))),\"Sin Registrar\",CONCATENATE($S698,\".\",VLOOKUP($G698,'1_Metas_Resultados'!$D$4:$E$403,2,FALSE)))","v":"Sin Registrar"},697," ",{"$f":"IF(ISERROR(CONCATENATE($S698,\".\",VLOOKUP($K698,'1_Metas_Resultados'!$D$4:$E$403,2,FALSE))),\"Sin Registrar\",CONCATENATE($S698,\".\",VLOOKUP($K698,'1_Metas_Resultados'!$D$4:$E$403,2,FALSE)))","v":"Sin Registrar"},{"$f":"IF(ISERROR(CONCATENATE($S698,\".\",VLOOKUP($L698,'1_Metas_Resultados'!$D$4:$E$403,2,FALSE))),\"Sin Registrar\",CONCATENATE($S698,\".\",VLOOKUP($L698,'1_Metas_Resultados'!$D$4:$E$403,2,FALSE)))","v":"Sin Registrar"},{"$f":"IF(ISERROR(VLOOKUP(G698,'1_Metas_Resultados'!$D$4:$I$403,6,FALSE)),\"\",VLOOKUP(G698,'1_Metas_Resultados'!$D$4:$I$403,6,FALSE))","v":""}]
[{"$f":"IF(ISERROR(CONCATENATE($S699,\".\",VLOOKUP($G699,'1_Metas_Resultados'!$D$4:$E$403,2,FALSE))),\"Sin Registrar\",CONCATENATE($S699,\".\",VLOOKUP($G699,'1_Metas_Resultados'!$D$4:$E$403,2,FALSE)))","v":"Sin Registrar"},698," ",{"$f":"IF(ISERROR(CONCATENATE($S699,\".\",VLOOKUP($K699,'1_Metas_Resultados'!$D$4:$E$403,2,FALSE))),\"Sin Registrar\",CONCATENATE($S699,\".\",VLOOKUP($K699,'1_Metas_Resultados'!$D$4:$E$403,2,FALSE)))","v":"Sin Registrar"},{"$f":"IF(ISERROR(CONCATENATE($S699,\".\",VLOOKUP($L699,'1_Metas_Resultados'!$D$4:$E$403,2,FALSE))),\"Sin Registrar\",CONCATENATE($S699,\".\",VLOOKUP($L699,'1_Metas_Resultados'!$D$4:$E$403,2,FALSE)))","v":"Sin Registrar"},{"$f":"IF(ISERROR(VLOOKUP(G699,'1_Metas_Resultados'!$D$4:$I$403,6,FALSE)),\"\",VLOOKUP(G699,'1_Metas_Resultados'!$D$4:$I$403,6,FALSE))","v":""}]
[{"$f":"IF(ISERROR(CONCATENATE($S700,\".\",VLOOKUP($G700,'1_Metas_Resultados'!$D$4:$E$403,2,FALSE))),\"Sin Registrar\",CONCATENATE($S700,\".\",VLOOKUP($G700,'1_Metas_Resultados'!$D$4:$E$403,2,FALSE)))","v":"Sin Registrar"},699," ",{"$f":"IF(ISERROR(CONCATENATE($S700,\".\",VLOOKUP($K700,'1_Metas_Resultados'!$D$4:$E$403,2,FALSE))),\"Sin Registrar\",CONCATENATE($S700,\".\",VLOOKUP($K700,'1_Metas_Resultados'!$D$4:$E$403,2,FALSE)))","v":"Sin Registrar"},{"$f":"IF(ISERROR(CONCATENATE($S700,\".\",VLOOKUP($L700,'1_Metas_Resultados'!$D$4:$E$403,2,FALSE))),\"Sin Registrar\",CONCATENATE($S700,\".\",VLOOKUP($L700,'1_Metas_Resultados'!$D$4:$E$403,2,FALSE)))","v":"Sin Registrar"},{"$f":"IF(ISERROR(VLOOKUP(G700,'1_Metas_Resultados'!$D$4:$I$403,6,FALSE)),\"\",VLOOKUP(G700,'1_Metas_Resultados'!$D$4:$I$403,6,FALSE))","v":""}]
[{"$f":"IF(ISERROR(CONCATENATE($S701,\".\",VLOOKUP($G701,'1_Metas_Resultados'!$D$4:$E$403,2,FALSE))),\"Sin Registrar\",CONCATENATE($S701,\".\",VLOOKUP($G701,'1_Metas_Resultados'!$D$4:$E$403,2,FALSE)))","v":"Sin Registrar"},700," ",{"$f":"IF(ISERROR(CONCATENATE($S701,\".\",VLOOKUP($K701,'1_Metas_Resultados'!$D$4:$E$403,2,FALSE))),\"Sin Registrar\",CONCATENATE($S701,\".\",VLOOKUP($K701,'1_Metas_Resultados'!$D$4:$E$403,2,FALSE)))","v":"Sin Registrar"},{"$f":"IF(ISERROR(CONCATENATE($S701,\".\",VLOOKUP($L701,'1_Metas_Resultados'!$D$4:$E$403,2,FALSE))),\"Sin Registrar\",CONCATENATE($S701,\".\",VLOOKUP($L701,'1_Metas_Resultados'!$D$4:$E$403,2,FALSE)))","v":"Sin Registrar"},{"$f":"IF(ISERROR(VLOOKUP(G701,'1_Metas_Resultados'!$D$4:$I$403,6,FALSE)),\"\",VLOOKUP(G701,'1_Metas_Resultados'!$D$4:$I$403,6,FALSE))","v":""}]
[{"$f":"IF(ISERROR(CONCATENATE($S702,\".\",VLOOKUP($G702,'1_Metas_Resultados'!$D$4:$E$403,2,FALSE))),\"Sin Registrar\",CONCATENATE($S702,\".\",VLOOKUP($G702,'1_Metas_Resultados'!$D$4:$E$403,2,FALSE)))","v":"Sin Registrar"},701," ",{"$f":"IF(ISERROR(CONCATENATE($S702,\".\",VLOOKUP($K702,'1_Metas_Resultados'!$D$4:$E$403,2,FALSE))),\"Sin Registrar\",CONCATENATE($S702,\".\",VLOOKUP($K702,'1_Metas_Resultados'!$D$4:$E$403,2,FALSE)))","v":"Sin Registrar"},{"$f":"IF(ISERROR(CONCATENATE($S702,\".\",VLOOKUP($L702,'1_Metas_Resultados'!$D$4:$E$403,2,FALSE))),\"Sin Registrar\",CONCATENATE($S702,\".\",VLOOKUP($L702,'1_Metas_Resultados'!$D$4:$E$403,2,FALSE)))","v":"Sin Registrar"},{"$f":"IF(ISERROR(VLOOKUP(G702,'1_Metas_Resultados'!$D$4:$I$403,6,FALSE)),\"\",VLOOKUP(G702,'1_Metas_Resultados'!$D$4:$I$403,6,FALSE))","v":""}]
[{"$f":"IF(ISERROR(CONCATENATE($S703,\".\",VLOOKUP($G703,'1_Metas_Resultados'!$D$4:$E$403,2,FALSE))),\"Sin Registrar\",CONCATENATE($S703,\".\",VLOOKUP($G703,'1_Metas_Resultados'!$D$4:$E$403,2,FALSE)))","v":"Sin Registrar"},702," ",{"$f":"IF(ISERROR(CONCATENATE($S703,\".\",VLOOKUP($K703,'1_Metas_Resultados'!$D$4:$E$403,2,FALSE))),\"Sin Registrar\",CONCATENATE($S703,\".\",VLOOKUP($K703,'1_Metas_Resultados'!$D$4:$E$403,2,FALSE)))","v":"Sin Registrar"},{"$f":"IF(ISERROR(CONCATENATE($S703,\".\",VLOOKUP($L703,'1_Metas_Resultados'!$D$4:$E$403,2,FALSE))),\"Sin Registrar\",CONCATENATE($S703,\".\",VLOOKUP($L703,'1_Metas_Resultados'!$D$4:$E$403,2,FALSE)))","v":"Sin Registrar"},{"$f":"IF(ISERROR(VLOOKUP(G703,'1_Metas_Resultados'!$D$4:$I$403,6,FALSE)),\"\",VLOOKUP(G703,'1_Metas_Resultados'!$D$4:$I$403,6,FALSE))","v":""}]
[{"$f":"IF(ISERROR(CONCATENATE($S704,\".\",VLOOKUP($G704,'1_Metas_Resultados'!$D$4:$E$403,2,FALSE))),\"Sin Registrar\",CONCATENATE($S704,\".\",VLOOKUP($G704,'1_Metas_Resultados'!$D$4:$E$403,2,FALSE)))","v":"Sin Registrar"},703," ",{"$f":"IF(ISERROR(CONCATENATE($S704,\".\",VLOOKUP($K704,'1_Metas_Resultados'!$D$4:$E$403,2,FALSE))),\"Sin Registrar\",CONCATENATE($S704,\".\",VLOOKUP($K704,'1_Metas_Resultados'!$D$4:$E$403,2,FALSE)))","v":"Sin Registrar"},{"$f":"IF(ISERROR(CONCATENATE($S704,\".\",VLOOKUP($L704,'1_Metas_Resultados'!$D$4:$E$403,2,FALSE))),\"Sin Registrar\",CONCATENATE($S704,\".\",VLOOKUP($L704,'1_Metas_Resultados'!$D$4:$E$403,2,FALSE)))","v":"Sin Registrar"},{"$f":"IF(ISERROR(VLOOKUP(G704,'1_Metas_Resultados'!$D$4:$I$403,6,FALSE)),\"\",VLOOKUP(G704,'1_Metas_Resultados'!$D$4:$I$403,6,FALSE))","v":""}]
[{"$f":"IF(ISERROR(CONCATENATE($S705,\".\",VLOOKUP($G705,'1_Metas_Resultados'!$D$4:$E$403,2,FALSE))),\"Sin Registrar\",CONCATENATE($S705,\".\",VLOOKUP($G705,'1_Metas_Resultados'!$D$4:$E$403,2,FALSE)))","v":"Sin Registrar"},704," ",{"$f":"IF(ISERROR(CONCATENATE($S705,\".\",VLOOKUP($K705,'1_Metas_Resultados'!$D$4:$E$403,2,FALSE))),\"Sin Registrar\",CONCATENATE($S705,\".\",VLOOKUP($K705,'1_Metas_Resultados'!$D$4:$E$403,2,FALSE)))","v":"Sin Registrar"},{"$f":"IF(ISERROR(CONCATENATE($S705,\".\",VLOOKUP($L705,'1_Metas_Resultados'!$D$4:$E$403,2,FALSE))),\"Sin Registrar\",CONCATENATE($S705,\".\",VLOOKUP($L705,'1_Metas_Resultados'!$D$4:$E$403,2,FALSE)))","v":"Sin Registrar"},{"$f":"IF(ISERROR(VLOOKUP(G705,'1_Metas_Resultados'!$D$4:$I$403,6,FALSE)),\"\",VLOOKUP(G705,'1_Metas_Resultados'!$D$4:$I$403,6,FALSE))","v":""}]
[{"$f":"IF(ISERROR(CONCATENATE($S706,\".\",VLOOKUP($G706,'1_Metas_Resultados'!$D$4:$E$403,2,FALSE))),\"Sin Registrar\",CONCATENATE($S706,\".\",VLOOKUP($G706,'1_Metas_Resultados'!$D$4:$E$403,2,FALSE)))","v":"Sin Registrar"},705," ",{"$f":"IF(ISERROR(CONCATENATE($S706,\".\",VLOOKUP($K706,'1_Metas_Resultados'!$D$4:$E$403,2,FALSE))),\"Sin Registrar\",CONCATENATE($S706,\".\",VLOOKUP($K706,'1_Metas_Resultados'!$D$4:$E$403,2,FALSE)))","v":"Sin Registrar"},{"$f":"IF(ISERROR(CONCATENATE($S706,\".\",VLOOKUP($L706,'1_Metas_Resultados'!$D$4:$E$403,2,FALSE))),\"Sin Registrar\",CONCATENATE($S706,\".\",VLOOKUP($L706,'1_Metas_Resultados'!$D$4:$E$403,2,FALSE)))","v":"Sin Registrar"},{"$f":"IF(ISERROR(VLOOKUP(G706,'1_Metas_Resultados'!$D$4:$I$403,6,FALSE)),\"\",VLOOKUP(G706,'1_Metas_Resultados'!$D$4:$I$403,6,FALSE))","v":""}]
[{"$f":"IF(ISERROR(CONCATENATE($S707,\".\",VLOOKUP($G707,'1_Metas_Resultados'!$D$4:$E$403,2,FALSE))),\"Sin Registrar\",CONCATENATE($S707,\".\",VLOOKUP($G707,'1_Metas_Resultados'!$D$4:$E$403,2,FALSE)))","v":"Sin Registrar"},706," ",{"$f":"IF(ISERROR(CONCATENATE($S707,\".\",VLOOKUP($K707,'1_Metas_Resultados'!$D$4:$E$403,2,FALSE))),\"Sin Registrar\",CONCATENATE($S707,\".\",VLOOKUP($K707,'1_Metas_Resultados'!$D$4:$E$403,2,FALSE)))","v":"Sin Registrar"},{"$f":"IF(ISERROR(CONCATENATE($S707,\".\",VLOOKUP($L707,'1_Metas_Resultados'!$D$4:$E$403,2,FALSE))),\"Sin Registrar\",CONCATENATE($S707,\".\",VLOOKUP($L707,'1_Metas_Resultados'!$D$4:$E$403,2,FALSE)))","v":"Sin Registrar"},{"$f":"IF(ISERROR(VLOOKUP(G707,'1_Metas_Resultados'!$D$4:$I$403,6,FALSE)),\"\",VLOOKUP(G707,'1_Metas_Resultados'!$D$4:$I$403,6,FALSE))","v":""}]
[{"$f":"IF(ISERROR(CONCATENATE($S708,\".\",VLOOKUP($G708,'1_Metas_Resultados'!$D$4:$E$403,2,FALSE))),\"Sin Registrar\",CONCATENATE($S708,\".\",VLOOKUP($G708,'1_Metas_Resultados'!$D$4:$E$403,2,FALSE)))","v":"Sin Registrar"},707," ",{"$f":"IF(ISERROR(CONCATENATE($S708,\".\",VLOOKUP($K708,'1_Metas_Resultados'!$D$4:$E$403,2,FALSE))),\"Sin Registrar\",CONCATENATE($S708,\".\",VLOOKUP($K708,'1_Metas_Resultados'!$D$4:$E$403,2,FALSE)))","v":"Sin Registrar"},{"$f":"IF(ISERROR(CONCATENATE($S708,\".\",VLOOKUP($L708,'1_Metas_Resultados'!$D$4:$E$403,2,FALSE))),\"Sin Registrar\",CONCATENATE($S708,\".\",VLOOKUP($L708,'1_Metas_Resultados'!$D$4:$E$403,2,FALSE)))","v":"Sin Registrar"},{"$f":"IF(ISERROR(VLOOKUP(G708,'1_Metas_Resultados'!$D$4:$I$403,6,FALSE)),\"\",VLOOKUP(G708,'1_Metas_Resultados'!$D$4:$I$403,6,FALSE))","v":""}]
[{"$f":"IF(ISERROR(CONCATENATE($S709,\".\",VLOOKUP($G709,'1_Metas_Resultados'!$D$4:$E$403,2,FALSE))),\"Sin Registrar\",CONCATENATE($S709,\".\",VLOOKUP($G709,'1_Metas_Resultados'!$D$4:$E$403,2,FALSE)))","v":"Sin Registrar"},708,{"$f":"IF(A709=\"Sin Registrar\",\" \",CONCATENATE(A709,\".\",B709))","v":" "},{"$f":"IF(ISERROR(CONCATENATE($S709,\".\",VLOOKUP($K709,'1_Metas_Resultados'!$D$4:$E$403,2,FALSE))),\"Sin Registrar\",CONCATENATE($S709,\".\",VLOOKUP($K709,'1_Metas_Resultados'!$D$4:$E$403,2,FALSE)))","v":"Sin Registrar"},{"$f":"IF(ISERROR(CONCATENATE($S709,\".\",VLOOKUP($L709,'1_Metas_Resultados'!$D$4:$E$403,2,FALSE))),\"Sin Registrar\",CONCATENATE($S709,\".\",VLOOKUP($L709,'1_Metas_Resultados'!$D$4:$E$403,2,FALSE)))","v":"Sin Registrar"},{"$f":"IF(ISERROR(VLOOKUP(G709,'1_Metas_Resultados'!$D$4:$I$403,6,FALSE)),\"\",VLOOKUP(G709,'1_Metas_Resultados'!$D$4:$I$403,6,FALSE))","v":""}]
[{"$f":"IF(ISERROR(CONCATENATE($S710,\".\",VLOOKUP($G710,'1_Metas_Resultados'!$D$4:$E$403,2,FALSE))),\"Sin Registrar\",CONCATENATE($S710,\".\",VLOOKUP($G710,'1_Metas_Resultados'!$D$4:$E$403,2,FALSE)))","v":"Sin Registrar"},709," ",{"$f":"IF(ISERROR(CONCATENATE($S710,\".\",VLOOKUP($K710,'1_Metas_Resultados'!$D$4:$E$403,2,FALSE))),\"Sin Registrar\",CONCATENATE($S710,\".\",VLOOKUP($K710,'1_Metas_Resultados'!$D$4:$E$403,2,FALSE)))","v":"Sin Registrar"},{"$f":"IF(ISERROR(CONCATENATE($S710,\".\",VLOOKUP($L710,'1_Metas_Resultados'!$D$4:$E$403,2,FALSE))),\"Sin Registrar\",CONCATENATE($S710,\".\",VLOOKUP($L710,'1_Metas_Resultados'!$D$4:$E$403,2,FALSE)))","v":"Sin Registrar"},{"$f":"IF(ISERROR(VLOOKUP(G710,'1_Metas_Resultados'!$D$4:$I$403,6,FALSE)),\"\",VLOOKUP(G710,'1_Metas_Resultados'!$D$4:$I$403,6,FALSE))","v":""}]
[{"$f":"IF(ISERROR(CONCATENATE($S711,\".\",VLOOKUP($G711,'1_Metas_Resultados'!$D$4:$E$403,2,FALSE))),\"Sin Registrar\",CONCATENATE($S711,\".\",VLOOKUP($G711,'1_Metas_Resultados'!$D$4:$E$403,2,FALSE)))","v":"Sin Registrar"},710," ",{"$f":"IF(ISERROR(CONCATENATE($S711,\".\",VLOOKUP($K711,'1_Metas_Resultados'!$D$4:$E$403,2,FALSE))),\"Sin Registrar\",CONCATENATE($S711,\".\",VLOOKUP($K711,'1_Metas_Resultados'!$D$4:$E$403,2,FALSE)))","v":"Sin Registrar"},{"$f":"IF(ISERROR(CONCATENATE($S711,\".\",VLOOKUP($L711,'1_Metas_Resultados'!$D$4:$E$403,2,FALSE))),\"Sin Registrar\",CONCATENATE($S711,\".\",VLOOKUP($L711,'1_Metas_Resultados'!$D$4:$E$403,2,FALSE)))","v":"Sin Registrar"},{"$f":"IF(ISERROR(VLOOKUP(G711,'1_Metas_Resultados'!$D$4:$I$403,6,FALSE)),\"\",VLOOKUP(G711,'1_Metas_Resultados'!$D$4:$I$403,6,FALSE))","v":""}]
[{"$f":"IF(ISERROR(CONCATENATE($S712,\".\",VLOOKUP($G712,'1_Metas_Resultados'!$D$4:$E$403,2,FALSE))),\"Sin Registrar\",CONCATENATE($S712,\".\",VLOOKUP($G712,'1_Metas_Resultados'!$D$4:$E$403,2,FALSE)))","v":"Sin Registrar"},711," ",{"$f":"IF(ISERROR(CONCATENATE($S712,\".\",VLOOKUP($K712,'1_Metas_Resultados'!$D$4:$E$403,2,FALSE))),\"Sin Registrar\",CONCATENATE($S712,\".\",VLOOKUP($K712,'1_Metas_Resultados'!$D$4:$E$403,2,FALSE)))","v":"Sin Registrar"},{"$f":"IF(ISERROR(CONCATENATE($S712,\".\",VLOOKUP($L712,'1_Metas_Resultados'!$D$4:$E$403,2,FALSE))),\"Sin Registrar\",CONCATENATE($S712,\".\",VLOOKUP($L712,'1_Metas_Resultados'!$D$4:$E$403,2,FALSE)))","v":"Sin Registrar"},{"$f":"IF(ISERROR(VLOOKUP(G712,'1_Metas_Resultados'!$D$4:$I$403,6,FALSE)),\"\",VLOOKUP(G712,'1_Metas_Resultados'!$D$4:$I$403,6,FALSE))","v":""}]
[{"$f":"IF(ISERROR(CONCATENATE($S713,\".\",VLOOKUP($G713,'1_Metas_Resultados'!$D$4:$E$403,2,FALSE))),\"Sin Registrar\",CONCATENATE($S713,\".\",VLOOKUP($G713,'1_Metas_Resultados'!$D$4:$E$403,2,FALSE)))","v":"Sin Registrar"},712," ",{"$f":"IF(ISERROR(CONCATENATE($S713,\".\",VLOOKUP($K713,'1_Metas_Resultados'!$D$4:$E$403,2,FALSE))),\"Sin Registrar\",CONCATENATE($S713,\".\",VLOOKUP($K713,'1_Metas_Resultados'!$D$4:$E$403,2,FALSE)))","v":"Sin Registrar"},{"$f":"IF(ISERROR(CONCATENATE($S713,\".\",VLOOKUP($L713,'1_Metas_Resultados'!$D$4:$E$403,2,FALSE))),\"Sin Registrar\",CONCATENATE($S713,\".\",VLOOKUP($L713,'1_Metas_Resultados'!$D$4:$E$403,2,FALSE)))","v":"Sin Registrar"},{"$f":"IF(ISERROR(VLOOKUP(G713,'1_Metas_Resultados'!$D$4:$I$403,6,FALSE)),\"\",VLOOKUP(G713,'1_Metas_Resultados'!$D$4:$I$403,6,FALSE))","v":""}]
[{"$f":"IF(ISERROR(CONCATENATE($S714,\".\",VLOOKUP($G714,'1_Metas_Resultados'!$D$4:$E$403,2,FALSE))),\"Sin Registrar\",CONCATENATE($S714,\".\",VLOOKUP($G714,'1_Metas_Resultados'!$D$4:$E$403,2,FALSE)))","v":"Sin Registrar"},713," ",{"$f":"IF(ISERROR(CONCATENATE($S714,\".\",VLOOKUP($K714,'1_Metas_Resultados'!$D$4:$E$403,2,FALSE))),\"Sin Registrar\",CONCATENATE($S714,\".\",VLOOKUP($K714,'1_Metas_Resultados'!$D$4:$E$403,2,FALSE)))","v":"Sin Registrar"},{"$f":"IF(ISERROR(CONCATENATE($S714,\".\",VLOOKUP($L714,'1_Metas_Resultados'!$D$4:$E$403,2,FALSE))),\"Sin Registrar\",CONCATENATE($S714,\".\",VLOOKUP($L714,'1_Metas_Resultados'!$D$4:$E$403,2,FALSE)))","v":"Sin Registrar"},{"$f":"IF(ISERROR(VLOOKUP(G714,'1_Metas_Resultados'!$D$4:$I$403,6,FALSE)),\"\",VLOOKUP(G714,'1_Metas_Resultados'!$D$4:$I$403,6,FALSE))","v":""}]
[{"$f":"IF(ISERROR(CONCATENATE($S715,\".\",VLOOKUP($G715,'1_Metas_Resultados'!$D$4:$E$403,2,FALSE))),\"Sin Registrar\",CONCATENATE($S715,\".\",VLOOKUP($G715,'1_Metas_Resultados'!$D$4:$E$403,2,FALSE)))","v":"Sin Registrar"},714," ",{"$f":"IF(ISERROR(CONCATENATE($S715,\".\",VLOOKUP($K715,'1_Metas_Resultados'!$D$4:$E$403,2,FALSE))),\"Sin Registrar\",CONCATENATE($S715,\".\",VLOOKUP($K715,'1_Metas_Resultados'!$D$4:$E$403,2,FALSE)))","v":"Sin Registrar"},{"$f":"IF(ISERROR(CONCATENATE($S715,\".\",VLOOKUP($L715,'1_Metas_Resultados'!$D$4:$E$403,2,FALSE))),\"Sin Registrar\",CONCATENATE($S715,\".\",VLOOKUP($L715,'1_Metas_Resultados'!$D$4:$E$403,2,FALSE)))","v":"Sin Registrar"},{"$f":"IF(ISERROR(VLOOKUP(G715,'1_Metas_Resultados'!$D$4:$I$403,6,FALSE)),\"\",VLOOKUP(G715,'1_Metas_Resultados'!$D$4:$I$403,6,FALSE))","v":""}]
[{"$f":"IF(ISERROR(CONCATENATE($S716,\".\",VLOOKUP($G716,'1_Metas_Resultados'!$D$4:$E$403,2,FALSE))),\"Sin Registrar\",CONCATENATE($S716,\".\",VLOOKUP($G716,'1_Metas_Resultados'!$D$4:$E$403,2,FALSE)))","v":"Sin Registrar"},715," ",{"$f":"IF(ISERROR(CONCATENATE($S716,\".\",VLOOKUP($K716,'1_Metas_Resultados'!$D$4:$E$403,2,FALSE))),\"Sin Registrar\",CONCATENATE($S716,\".\",VLOOKUP($K716,'1_Metas_Resultados'!$D$4:$E$403,2,FALSE)))","v":"Sin Registrar"},{"$f":"IF(ISERROR(CONCATENATE($S716,\".\",VLOOKUP($L716,'1_Metas_Resultados'!$D$4:$E$403,2,FALSE))),\"Sin Registrar\",CONCATENATE($S716,\".\",VLOOKUP($L716,'1_Metas_Resultados'!$D$4:$E$403,2,FALSE)))","v":"Sin Registrar"},{"$f":"IF(ISERROR(VLOOKUP(G716,'1_Metas_Resultados'!$D$4:$I$403,6,FALSE)),\"\",VLOOKUP(G716,'1_Metas_Resultados'!$D$4:$I$403,6,FALSE))","v":""}]
[{"$f":"IF(ISERROR(CONCATENATE($S717,\".\",VLOOKUP($G717,'1_Metas_Resultados'!$D$4:$E$403,2,FALSE))),\"Sin Registrar\",CONCATENATE($S717,\".\",VLOOKUP($G717,'1_Metas_Resultados'!$D$4:$E$403,2,FALSE)))","v":"Sin Registrar"},716," ",{"$f":"IF(ISERROR(CONCATENATE($S717,\".\",VLOOKUP($K717,'1_Metas_Resultados'!$D$4:$E$403,2,FALSE))),\"Sin Registrar\",CONCATENATE($S717,\".\",VLOOKUP($K717,'1_Metas_Resultados'!$D$4:$E$403,2,FALSE)))","v":"Sin Registrar"},{"$f":"IF(ISERROR(CONCATENATE($S717,\".\",VLOOKUP($L717,'1_Metas_Resultados'!$D$4:$E$403,2,FALSE))),\"Sin Registrar\",CONCATENATE($S717,\".\",VLOOKUP($L717,'1_Metas_Resultados'!$D$4:$E$403,2,FALSE)))","v":"Sin Registrar"},{"$f":"IF(ISERROR(VLOOKUP(G717,'1_Metas_Resultados'!$D$4:$I$403,6,FALSE)),\"\",VLOOKUP(G717,'1_Metas_Resultados'!$D$4:$I$403,6,FALSE))","v":""}]
[{"$f":"IF(ISERROR(CONCATENATE($S718,\".\",VLOOKUP($G718,'1_Metas_Resultados'!$D$4:$E$403,2,FALSE))),\"Sin Registrar\",CONCATENATE($S718,\".\",VLOOKUP($G718,'1_Metas_Resultados'!$D$4:$E$403,2,FALSE)))","v":"Sin Registrar"},717," ",{"$f":"IF(ISERROR(CONCATENATE($S718,\".\",VLOOKUP($K718,'1_Metas_Resultados'!$D$4:$E$403,2,FALSE))),\"Sin Registrar\",CONCATENATE($S718,\".\",VLOOKUP($K718,'1_Metas_Resultados'!$D$4:$E$403,2,FALSE)))","v":"Sin Registrar"},{"$f":"IF(ISERROR(CONCATENATE($S718,\".\",VLOOKUP($L718,'1_Metas_Resultados'!$D$4:$E$403,2,FALSE))),\"Sin Registrar\",CONCATENATE($S718,\".\",VLOOKUP($L718,'1_Metas_Resultados'!$D$4:$E$403,2,FALSE)))","v":"Sin Registrar"},{"$f":"IF(ISERROR(VLOOKUP(G718,'1_Metas_Resultados'!$D$4:$I$403,6,FALSE)),\"\",VLOOKUP(G718,'1_Metas_Resultados'!$D$4:$I$403,6,FALSE))","v":""}]
[{"$f":"IF(ISERROR(CONCATENATE($S719,\".\",VLOOKUP($G719,'1_Metas_Resultados'!$D$4:$E$403,2,FALSE))),\"Sin Registrar\",CONCATENATE($S719,\".\",VLOOKUP($G719,'1_Metas_Resultados'!$D$4:$E$403,2,FALSE)))","v":"Sin Registrar"},718," ",{"$f":"IF(ISERROR(CONCATENATE($S719,\".\",VLOOKUP($K719,'1_Metas_Resultados'!$D$4:$E$403,2,FALSE))),\"Sin Registrar\",CONCATENATE($S719,\".\",VLOOKUP($K719,'1_Metas_Resultados'!$D$4:$E$403,2,FALSE)))","v":"Sin Registrar"},{"$f":"IF(ISERROR(CONCATENATE($S719,\".\",VLOOKUP($L719,'1_Metas_Resultados'!$D$4:$E$403,2,FALSE))),\"Sin Registrar\",CONCATENATE($S719,\".\",VLOOKUP($L719,'1_Metas_Resultados'!$D$4:$E$403,2,FALSE)))","v":"Sin Registrar"},{"$f":"IF(ISERROR(VLOOKUP(G719,'1_Metas_Resultados'!$D$4:$I$403,6,FALSE)),\"\",VLOOKUP(G719,'1_Metas_Resultados'!$D$4:$I$403,6,FALSE))","v":""}]
[{"$f":"IF(ISERROR(CONCATENATE($S720,\".\",VLOOKUP($G720,'1_Metas_Resultados'!$D$4:$E$403,2,FALSE))),\"Sin Registrar\",CONCATENATE($S720,\".\",VLOOKUP($G720,'1_Metas_Resultados'!$D$4:$E$403,2,FALSE)))","v":"Sin Registrar"},719," ",{"$f":"IF(ISERROR(CONCATENATE($S720,\".\",VLOOKUP($K720,'1_Metas_Resultados'!$D$4:$E$403,2,FALSE))),\"Sin Registrar\",CONCATENATE($S720,\".\",VLOOKUP($K720,'1_Metas_Resultados'!$D$4:$E$403,2,FALSE)))","v":"Sin Registrar"},{"$f":"IF(ISERROR(CONCATENATE($S720,\".\",VLOOKUP($L720,'1_Metas_Resultados'!$D$4:$E$403,2,FALSE))),\"Sin Registrar\",CONCATENATE($S720,\".\",VLOOKUP($L720,'1_Metas_Resultados'!$D$4:$E$403,2,FALSE)))","v":"Sin Registrar"},{"$f":"IF(ISERROR(VLOOKUP(G720,'1_Metas_Resultados'!$D$4:$I$403,6,FALSE)),\"\",VLOOKUP(G720,'1_Metas_Resultados'!$D$4:$I$403,6,FALSE))","v":""}]
[{"$f":"IF(ISERROR(CONCATENATE($S721,\".\",VLOOKUP($G721,'1_Metas_Resultados'!$D$4:$E$403,2,FALSE))),\"Sin Registrar\",CONCATENATE($S721,\".\",VLOOKUP($G721,'1_Metas_Resultados'!$D$4:$E$403,2,FALSE)))","v":"Sin Registrar"},720," ",{"$f":"IF(ISERROR(CONCATENATE($S721,\".\",VLOOKUP($K721,'1_Metas_Resultados'!$D$4:$E$403,2,FALSE))),\"Sin Registrar\",CONCATENATE($S721,\".\",VLOOKUP($K721,'1_Metas_Resultados'!$D$4:$E$403,2,FALSE)))","v":"Sin Registrar"},{"$f":"IF(ISERROR(CONCATENATE($S721,\".\",VLOOKUP($L721,'1_Metas_Resultados'!$D$4:$E$403,2,FALSE))),\"Sin Registrar\",CONCATENATE($S721,\".\",VLOOKUP($L721,'1_Metas_Resultados'!$D$4:$E$403,2,FALSE)))","v":"Sin Registrar"},{"$f":"IF(ISERROR(VLOOKUP(G721,'1_Metas_Resultados'!$D$4:$I$403,6,FALSE)),\"\",VLOOKUP(G721,'1_Metas_Resultados'!$D$4:$I$403,6,FALSE))","v":""}]
[{"$f":"IF(ISERROR(CONCATENATE($S722,\".\",VLOOKUP($G722,'1_Metas_Resultados'!$D$4:$E$403,2,FALSE))),\"Sin Registrar\",CONCATENATE($S722,\".\",VLOOKUP($G722,'1_Metas_Resultados'!$D$4:$E$403,2,FALSE)))","v":"Sin Registrar"},721," ",{"$f":"IF(ISERROR(CONCATENATE($S722,\".\",VLOOKUP($K722,'1_Metas_Resultados'!$D$4:$E$403,2,FALSE))),\"Sin Registrar\",CONCATENATE($S722,\".\",VLOOKUP($K722,'1_Metas_Resultados'!$D$4:$E$403,2,FALSE)))","v":"Sin Registrar"},{"$f":"IF(ISERROR(CONCATENATE($S722,\".\",VLOOKUP($L722,'1_Metas_Resultados'!$D$4:$E$403,2,FALSE))),\"Sin Registrar\",CONCATENATE($S722,\".\",VLOOKUP($L722,'1_Metas_Resultados'!$D$4:$E$403,2,FALSE)))","v":"Sin Registrar"},{"$f":"IF(ISERROR(VLOOKUP(G722,'1_Metas_Resultados'!$D$4:$I$403,6,FALSE)),\"\",VLOOKUP(G722,'1_Metas_Resultados'!$D$4:$I$403,6,FALSE))","v":""}]
[{"$f":"IF(ISERROR(CONCATENATE($S723,\".\",VLOOKUP($G723,'1_Metas_Resultados'!$D$4:$E$403,2,FALSE))),\"Sin Registrar\",CONCATENATE($S723,\".\",VLOOKUP($G723,'1_Metas_Resultados'!$D$4:$E$403,2,FALSE)))","v":"Sin Registrar"},722," ",{"$f":"IF(ISERROR(CONCATENATE($S723,\".\",VLOOKUP($K723,'1_Metas_Resultados'!$D$4:$E$403,2,FALSE))),\"Sin Registrar\",CONCATENATE($S723,\".\",VLOOKUP($K723,'1_Metas_Resultados'!$D$4:$E$403,2,FALSE)))","v":"Sin Registrar"},{"$f":"IF(ISERROR(CONCATENATE($S723,\".\",VLOOKUP($L723,'1_Metas_Resultados'!$D$4:$E$403,2,FALSE))),\"Sin Registrar\",CONCATENATE($S723,\".\",VLOOKUP($L723,'1_Metas_Resultados'!$D$4:$E$403,2,FALSE)))","v":"Sin Registrar"},{"$f":"IF(ISERROR(VLOOKUP(G723,'1_Metas_Resultados'!$D$4:$I$403,6,FALSE)),\"\",VLOOKUP(G723,'1_Metas_Resultados'!$D$4:$I$403,6,FALSE))","v":""}]
[{"$f":"IF(ISERROR(CONCATENATE($S724,\".\",VLOOKUP($G724,'1_Metas_Resultados'!$D$4:$E$403,2,FALSE))),\"Sin Registrar\",CONCATENATE($S724,\".\",VLOOKUP($G724,'1_Metas_Resultados'!$D$4:$E$403,2,FALSE)))","v":"Sin Registrar"},723," ",{"$f":"IF(ISERROR(CONCATENATE($S724,\".\",VLOOKUP($K724,'1_Metas_Resultados'!$D$4:$E$403,2,FALSE))),\"Sin Registrar\",CONCATENATE($S724,\".\",VLOOKUP($K724,'1_Metas_Resultados'!$D$4:$E$403,2,FALSE)))","v":"Sin Registrar"},{"$f":"IF(ISERROR(CONCATENATE($S724,\".\",VLOOKUP($L724,'1_Metas_Resultados'!$D$4:$E$403,2,FALSE))),\"Sin Registrar\",CONCATENATE($S724,\".\",VLOOKUP($L724,'1_Metas_Resultados'!$D$4:$E$403,2,FALSE)))","v":"Sin Registrar"},{"$f":"IF(ISERROR(VLOOKUP(G724,'1_Metas_Resultados'!$D$4:$I$403,6,FALSE)),\"\",VLOOKUP(G724,'1_Metas_Resultados'!$D$4:$I$403,6,FALSE))","v":""}]
[{"$f":"IF(ISERROR(CONCATENATE($S725,\".\",VLOOKUP($G725,'1_Metas_Resultados'!$D$4:$E$403,2,FALSE))),\"Sin Registrar\",CONCATENATE($S725,\".\",VLOOKUP($G725,'1_Metas_Resultados'!$D$4:$E$403,2,FALSE)))","v":"Sin Registrar"},724," ",{"$f":"IF(ISERROR(CONCATENATE($S725,\".\",VLOOKUP($K725,'1_Metas_Resultados'!$D$4:$E$403,2,FALSE))),\"Sin Registrar\",CONCATENATE($S725,\".\",VLOOKUP($K725,'1_Metas_Resultados'!$D$4:$E$403,2,FALSE)))","v":"Sin Registrar"},{"$f":"IF(ISERROR(CONCATENATE($S725,\".\",VLOOKUP($L725,'1_Metas_Resultados'!$D$4:$E$403,2,FALSE))),\"Sin Registrar\",CONCATENATE($S725,\".\",VLOOKUP($L725,'1_Metas_Resultados'!$D$4:$E$403,2,FALSE)))","v":"Sin Registrar"},{"$f":"IF(ISERROR(VLOOKUP(G725,'1_Metas_Resultados'!$D$4:$I$403,6,FALSE)),\"\",VLOOKUP(G725,'1_Metas_Resultados'!$D$4:$I$403,6,FALSE))","v":""}]
[{"$f":"IF(ISERROR(CONCATENATE($S726,\".\",VLOOKUP($G726,'1_Metas_Resultados'!$D$4:$E$403,2,FALSE))),\"Sin Registrar\",CONCATENATE($S726,\".\",VLOOKUP($G726,'1_Metas_Resultados'!$D$4:$E$403,2,FALSE)))","v":"Sin Registrar"},725," ",{"$f":"IF(ISERROR(CONCATENATE($S726,\".\",VLOOKUP($K726,'1_Metas_Resultados'!$D$4:$E$403,2,FALSE))),\"Sin Registrar\",CONCATENATE($S726,\".\",VLOOKUP($K726,'1_Metas_Resultados'!$D$4:$E$403,2,FALSE)))","v":"Sin Registrar"},{"$f":"IF(ISERROR(CONCATENATE($S726,\".\",VLOOKUP($L726,'1_Metas_Resultados'!$D$4:$E$403,2,FALSE))),\"Sin Registrar\",CONCATENATE($S726,\".\",VLOOKUP($L726,'1_Metas_Resultados'!$D$4:$E$403,2,FALSE)))","v":"Sin Registrar"},{"$f":"IF(ISERROR(VLOOKUP(G726,'1_Metas_Resultados'!$D$4:$I$403,6,FALSE)),\"\",VLOOKUP(G726,'1_Metas_Resultados'!$D$4:$I$403,6,FALSE))","v":""}]
[{"$f":"IF(ISERROR(CONCATENATE($S727,\".\",VLOOKUP($G727,'1_Metas_Resultados'!$D$4:$E$403,2,FALSE))),\"Sin Registrar\",CONCATENATE($S727,\".\",VLOOKUP($G727,'1_Metas_Resultados'!$D$4:$E$403,2,FALSE)))","v":"Sin Registrar"},726," ",{"$f":"IF(ISERROR(CONCATENATE($S727,\".\",VLOOKUP($K727,'1_Metas_Resultados'!$D$4:$E$403,2,FALSE))),\"Sin Registrar\",CONCATENATE($S727,\".\",VLOOKUP($K727,'1_Metas_Resultados'!$D$4:$E$403,2,FALSE)))","v":"Sin Registrar"},{"$f":"IF(ISERROR(CONCATENATE($S727,\".\",VLOOKUP($L727,'1_Metas_Resultados'!$D$4:$E$403,2,FALSE))),\"Sin Registrar\",CONCATENATE($S727,\".\",VLOOKUP($L727,'1_Metas_Resultados'!$D$4:$E$403,2,FALSE)))","v":"Sin Registrar"},{"$f":"IF(ISERROR(VLOOKUP(G727,'1_Metas_Resultados'!$D$4:$I$403,6,FALSE)),\"\",VLOOKUP(G727,'1_Metas_Resultados'!$D$4:$I$403,6,FALSE))","v":""}]
[{"$f":"IF(ISERROR(CONCATENATE($S728,\".\",VLOOKUP($G728,'1_Metas_Resultados'!$D$4:$E$403,2,FALSE))),\"Sin Registrar\",CONCATENATE($S728,\".\",VLOOKUP($G728,'1_Metas_Resultados'!$D$4:$E$403,2,FALSE)))","v":"Sin Registrar"},727," ",{"$f":"IF(ISERROR(CONCATENATE($S728,\".\",VLOOKUP($K728,'1_Metas_Resultados'!$D$4:$E$403,2,FALSE))),\"Sin Registrar\",CONCATENATE($S728,\".\",VLOOKUP($K728,'1_Metas_Resultados'!$D$4:$E$403,2,FALSE)))","v":"Sin Registrar"},{"$f":"IF(ISERROR(CONCATENATE($S728,\".\",VLOOKUP($L728,'1_Metas_Resultados'!$D$4:$E$403,2,FALSE))),\"Sin Registrar\",CONCATENATE($S728,\".\",VLOOKUP($L728,'1_Metas_Resultados'!$D$4:$E$403,2,FALSE)))","v":"Sin Registrar"},{"$f":"IF(ISERROR(VLOOKUP(G728,'1_Metas_Resultados'!$D$4:$I$403,6,FALSE)),\"\",VLOOKUP(G728,'1_Metas_Resultados'!$D$4:$I$403,6,FALSE))","v":""}]
[{"$f":"IF(ISERROR(CONCATENATE($S729,\".\",VLOOKUP($G729,'1_Metas_Resultados'!$D$4:$E$403,2,FALSE))),\"Sin Registrar\",CONCATENATE($S729,\".\",VLOOKUP($G729,'1_Metas_Resultados'!$D$4:$E$403,2,FALSE)))","v":"Sin Registrar"},728," ",{"$f":"IF(ISERROR(CONCATENATE($S729,\".\",VLOOKUP($K729,'1_Metas_Resultados'!$D$4:$E$403,2,FALSE))),\"Sin Registrar\",CONCATENATE($S729,\".\",VLOOKUP($K729,'1_Metas_Resultados'!$D$4:$E$403,2,FALSE)))","v":"Sin Registrar"},{"$f":"IF(ISERROR(CONCATENATE($S729,\".\",VLOOKUP($L729,'1_Metas_Resultados'!$D$4:$E$403,2,FALSE))),\"Sin Registrar\",CONCATENATE($S729,\".\",VLOOKUP($L729,'1_Metas_Resultados'!$D$4:$E$403,2,FALSE)))","v":"Sin Registrar"},{"$f":"IF(ISERROR(VLOOKUP(G729,'1_Metas_Resultados'!$D$4:$I$403,6,FALSE)),\"\",VLOOKUP(G729,'1_Metas_Resultados'!$D$4:$I$403,6,FALSE))","v":""}]
[{"$f":"IF(ISERROR(CONCATENATE($S730,\".\",VLOOKUP($G730,'1_Metas_Resultados'!$D$4:$E$403,2,FALSE))),\"Sin Registrar\",CONCATENATE($S730,\".\",VLOOKUP($G730,'1_Metas_Resultados'!$D$4:$E$403,2,FALSE)))","v":"Sin Registrar"},729," ",{"$f":"IF(ISERROR(CONCATENATE($S730,\".\",VLOOKUP($K730,'1_Metas_Resultados'!$D$4:$E$403,2,FALSE))),\"Sin Registrar\",CONCATENATE($S730,\".\",VLOOKUP($K730,'1_Metas_Resultados'!$D$4:$E$403,2,FALSE)))","v":"Sin Registrar"},{"$f":"IF(ISERROR(CONCATENATE($S730,\".\",VLOOKUP($L730,'1_Metas_Resultados'!$D$4:$E$403,2,FALSE))),\"Sin Registrar\",CONCATENATE($S730,\".\",VLOOKUP($L730,'1_Metas_Resultados'!$D$4:$E$403,2,FALSE)))","v":"Sin Registrar"},{"$f":"IF(ISERROR(VLOOKUP(G730,'1_Metas_Resultados'!$D$4:$I$403,6,FALSE)),\"\",VLOOKUP(G730,'1_Metas_Resultados'!$D$4:$I$403,6,FALSE))","v":""}]
[{"$f":"IF(ISERROR(CONCATENATE($S731,\".\",VLOOKUP($G731,'1_Metas_Resultados'!$D$4:$E$403,2,FALSE))),\"Sin Registrar\",CONCATENATE($S731,\".\",VLOOKUP($G731,'1_Metas_Resultados'!$D$4:$E$403,2,FALSE)))","v":"Sin Registrar"},730," ",{"$f":"IF(ISERROR(CONCATENATE($S731,\".\",VLOOKUP($K731,'1_Metas_Resultados'!$D$4:$E$403,2,FALSE))),\"Sin Registrar\",CONCATENATE($S731,\".\",VLOOKUP($K731,'1_Metas_Resultados'!$D$4:$E$403,2,FALSE)))","v":"Sin Registrar"},{"$f":"IF(ISERROR(CONCATENATE($S731,\".\",VLOOKUP($L731,'1_Metas_Resultados'!$D$4:$E$403,2,FALSE))),\"Sin Registrar\",CONCATENATE($S731,\".\",VLOOKUP($L731,'1_Metas_Resultados'!$D$4:$E$403,2,FALSE)))","v":"Sin Registrar"},{"$f":"IF(ISERROR(VLOOKUP(G731,'1_Metas_Resultados'!$D$4:$I$403,6,FALSE)),\"\",VLOOKUP(G731,'1_Metas_Resultados'!$D$4:$I$403,6,FALSE))","v":""}]
[{"$f":"IF(ISERROR(CONCATENATE($S732,\".\",VLOOKUP($G732,'1_Metas_Resultados'!$D$4:$E$403,2,FALSE))),\"Sin Registrar\",CONCATENATE($S732,\".\",VLOOKUP($G732,'1_Metas_Resultados'!$D$4:$E$403,2,FALSE)))","v":"Sin Registrar"},731," ",{"$f":"IF(ISERROR(CONCATENATE($S732,\".\",VLOOKUP($K732,'1_Metas_Resultados'!$D$4:$E$403,2,FALSE))),\"Sin Registrar\",CONCATENATE($S732,\".\",VLOOKUP($K732,'1_Metas_Resultados'!$D$4:$E$403,2,FALSE)))","v":"Sin Registrar"},{"$f":"IF(ISERROR(CONCATENATE($S732,\".\",VLOOKUP($L732,'1_Metas_Resultados'!$D$4:$E$403,2,FALSE))),\"Sin Registrar\",CONCATENATE($S732,\".\",VLOOKUP($L732,'1_Metas_Resultados'!$D$4:$E$403,2,FALSE)))","v":"Sin Registrar"},{"$f":"IF(ISERROR(VLOOKUP(G732,'1_Metas_Resultados'!$D$4:$I$403,6,FALSE)),\"\",VLOOKUP(G732,'1_Metas_Resultados'!$D$4:$I$403,6,FALSE))","v":""}]
[{"$f":"IF(ISERROR(CONCATENATE($S733,\".\",VLOOKUP($G733,'1_Metas_Resultados'!$D$4:$E$403,2,FALSE))),\"Sin Registrar\",CONCATENATE($S733,\".\",VLOOKUP($G733,'1_Metas_Resultados'!$D$4:$E$403,2,FALSE)))","v":"Sin Registrar"},732," ",{"$f":"IF(ISERROR(CONCATENATE($S733,\".\",VLOOKUP($K733,'1_Metas_Resultados'!$D$4:$E$403,2,FALSE))),\"Sin Registrar\",CONCATENATE($S733,\".\",VLOOKUP($K733,'1_Metas_Resultados'!$D$4:$E$403,2,FALSE)))","v":"Sin Registrar"},{"$f":"IF(ISERROR(CONCATENATE($S733,\".\",VLOOKUP($L733,'1_Metas_Resultados'!$D$4:$E$403,2,FALSE))),\"Sin Registrar\",CONCATENATE($S733,\".\",VLOOKUP($L733,'1_Metas_Resultados'!$D$4:$E$403,2,FALSE)))","v":"Sin Registrar"},{"$f":"IF(ISERROR(VLOOKUP(G733,'1_Metas_Resultados'!$D$4:$I$403,6,FALSE)),\"\",VLOOKUP(G733,'1_Metas_Resultados'!$D$4:$I$403,6,FALSE))","v":""}]
[{"$f":"IF(ISERROR(CONCATENATE($S734,\".\",VLOOKUP($G734,'1_Metas_Resultados'!$D$4:$E$403,2,FALSE))),\"Sin Registrar\",CONCATENATE($S734,\".\",VLOOKUP($G734,'1_Metas_Resultados'!$D$4:$E$403,2,FALSE)))","v":"Sin Registrar"},733," ",{"$f":"IF(ISERROR(CONCATENATE($S734,\".\",VLOOKUP($K734,'1_Metas_Resultados'!$D$4:$E$403,2,FALSE))),\"Sin Registrar\",CONCATENATE($S734,\".\",VLOOKUP($K734,'1_Metas_Resultados'!$D$4:$E$403,2,FALSE)))","v":"Sin Registrar"},{"$f":"IF(ISERROR(CONCATENATE($S734,\".\",VLOOKUP($L734,'1_Metas_Resultados'!$D$4:$E$403,2,FALSE))),\"Sin Registrar\",CONCATENATE($S734,\".\",VLOOKUP($L734,'1_Metas_Resultados'!$D$4:$E$403,2,FALSE)))","v":"Sin Registrar"},{"$f":"IF(ISERROR(VLOOKUP(G734,'1_Metas_Resultados'!$D$4:$I$403,6,FALSE)),\"\",VLOOKUP(G734,'1_Metas_Resultados'!$D$4:$I$403,6,FALSE))","v":""}]
[{"$f":"IF(ISERROR(CONCATENATE($S735,\".\",VLOOKUP($G735,'1_Metas_Resultados'!$D$4:$E$403,2,FALSE))),\"Sin Registrar\",CONCATENATE($S735,\".\",VLOOKUP($G735,'1_Metas_Resultados'!$D$4:$E$403,2,FALSE)))","v":"Sin Registrar"},734," ",{"$f":"IF(ISERROR(CONCATENATE($S735,\".\",VLOOKUP($K735,'1_Metas_Resultados'!$D$4:$E$403,2,FALSE))),\"Sin Registrar\",CONCATENATE($S735,\".\",VLOOKUP($K735,'1_Metas_Resultados'!$D$4:$E$403,2,FALSE)))","v":"Sin Registrar"},{"$f":"IF(ISERROR(CONCATENATE($S735,\".\",VLOOKUP($L735,'1_Metas_Resultados'!$D$4:$E$403,2,FALSE))),\"Sin Registrar\",CONCATENATE($S735,\".\",VLOOKUP($L735,'1_Metas_Resultados'!$D$4:$E$403,2,FALSE)))","v":"Sin Registrar"},{"$f":"IF(ISERROR(VLOOKUP(G735,'1_Metas_Resultados'!$D$4:$I$403,6,FALSE)),\"\",VLOOKUP(G735,'1_Metas_Resultados'!$D$4:$I$403,6,FALSE))","v":""}]
[{"$f":"IF(ISERROR(CONCATENATE($S736,\".\",VLOOKUP($G736,'1_Metas_Resultados'!$D$4:$E$403,2,FALSE))),\"Sin Registrar\",CONCATENATE($S736,\".\",VLOOKUP($G736,'1_Metas_Resultados'!$D$4:$E$403,2,FALSE)))","v":"Sin Registrar"},735," ",{"$f":"IF(ISERROR(CONCATENATE($S736,\".\",VLOOKUP($K736,'1_Metas_Resultados'!$D$4:$E$403,2,FALSE))),\"Sin Registrar\",CONCATENATE($S736,\".\",VLOOKUP($K736,'1_Metas_Resultados'!$D$4:$E$403,2,FALSE)))","v":"Sin Registrar"},{"$f":"IF(ISERROR(CONCATENATE($S736,\".\",VLOOKUP($L736,'1_Metas_Resultados'!$D$4:$E$403,2,FALSE))),\"Sin Registrar\",CONCATENATE($S736,\".\",VLOOKUP($L736,'1_Metas_Resultados'!$D$4:$E$403,2,FALSE)))","v":"Sin Registrar"},{"$f":"IF(ISERROR(VLOOKUP(G736,'1_Metas_Resultados'!$D$4:$I$403,6,FALSE)),\"\",VLOOKUP(G736,'1_Metas_Resultados'!$D$4:$I$403,6,FALSE))","v":""}]
[{"$f":"IF(ISERROR(CONCATENATE($S737,\".\",VLOOKUP($G737,'1_Metas_Resultados'!$D$4:$E$403,2,FALSE))),\"Sin Registrar\",CONCATENATE($S737,\".\",VLOOKUP($G737,'1_Metas_Resultados'!$D$4:$E$403,2,FALSE)))","v":"Sin Registrar"},736," ",{"$f":"IF(ISERROR(CONCATENATE($S737,\".\",VLOOKUP($K737,'1_Metas_Resultados'!$D$4:$E$403,2,FALSE))),\"Sin Registrar\",CONCATENATE($S737,\".\",VLOOKUP($K737,'1_Metas_Resultados'!$D$4:$E$403,2,FALSE)))","v":"Sin Registrar"},{"$f":"IF(ISERROR(CONCATENATE($S737,\".\",VLOOKUP($L737,'1_Metas_Resultados'!$D$4:$E$403,2,FALSE))),\"Sin Registrar\",CONCATENATE($S737,\".\",VLOOKUP($L737,'1_Metas_Resultados'!$D$4:$E$403,2,FALSE)))","v":"Sin Registrar"},{"$f":"IF(ISERROR(VLOOKUP(G737,'1_Metas_Resultados'!$D$4:$I$403,6,FALSE)),\"\",VLOOKUP(G737,'1_Metas_Resultados'!$D$4:$I$403,6,FALSE))","v":""}]
[{"$f":"IF(ISERROR(CONCATENATE($S738,\".\",VLOOKUP($G738,'1_Metas_Resultados'!$D$4:$E$403,2,FALSE))),\"Sin Registrar\",CONCATENATE($S738,\".\",VLOOKUP($G738,'1_Metas_Resultados'!$D$4:$E$403,2,FALSE)))","v":"Sin Registrar"},737," ",{"$f":"IF(ISERROR(CONCATENATE($S738,\".\",VLOOKUP($K738,'1_Metas_Resultados'!$D$4:$E$403,2,FALSE))),\"Sin Registrar\",CONCATENATE($S738,\".\",VLOOKUP($K738,'1_Metas_Resultados'!$D$4:$E$403,2,FALSE)))","v":"Sin Registrar"},{"$f":"IF(ISERROR(CONCATENATE($S738,\".\",VLOOKUP($L738,'1_Metas_Resultados'!$D$4:$E$403,2,FALSE))),\"Sin Registrar\",CONCATENATE($S738,\".\",VLOOKUP($L738,'1_Metas_Resultados'!$D$4:$E$403,2,FALSE)))","v":"Sin Registrar"},{"$f":"IF(ISERROR(VLOOKUP(G738,'1_Metas_Resultados'!$D$4:$I$403,6,FALSE)),\"\",VLOOKUP(G738,'1_Metas_Resultados'!$D$4:$I$403,6,FALSE))","v":""}]
[{"$f":"IF(ISERROR(CONCATENATE($S739,\".\",VLOOKUP($G739,'1_Metas_Resultados'!$D$4:$E$403,2,FALSE))),\"Sin Registrar\",CONCATENATE($S739,\".\",VLOOKUP($G739,'1_Metas_Resultados'!$D$4:$E$403,2,FALSE)))","v":"Sin Registrar"},738," ",{"$f":"IF(ISERROR(CONCATENATE($S739,\".\",VLOOKUP($K739,'1_Metas_Resultados'!$D$4:$E$403,2,FALSE))),\"Sin Registrar\",CONCATENATE($S739,\".\",VLOOKUP($K739,'1_Metas_Resultados'!$D$4:$E$403,2,FALSE)))","v":"Sin Registrar"},{"$f":"IF(ISERROR(CONCATENATE($S739,\".\",VLOOKUP($L739,'1_Metas_Resultados'!$D$4:$E$403,2,FALSE))),\"Sin Registrar\",CONCATENATE($S739,\".\",VLOOKUP($L739,'1_Metas_Resultados'!$D$4:$E$403,2,FALSE)))","v":"Sin Registrar"},{"$f":"IF(ISERROR(VLOOKUP(G739,'1_Metas_Resultados'!$D$4:$I$403,6,FALSE)),\"\",VLOOKUP(G739,'1_Metas_Resultados'!$D$4:$I$403,6,FALSE))","v":""}]
[{"$f":"IF(ISERROR(CONCATENATE($S740,\".\",VLOOKUP($G740,'1_Metas_Resultados'!$D$4:$E$403,2,FALSE))),\"Sin Registrar\",CONCATENATE($S740,\".\",VLOOKUP($G740,'1_Metas_Resultados'!$D$4:$E$403,2,FALSE)))","v":"Sin Registrar"},739," ",{"$f":"IF(ISERROR(CONCATENATE($S740,\".\",VLOOKUP($K740,'1_Metas_Resultados'!$D$4:$E$403,2,FALSE))),\"Sin Registrar\",CONCATENATE($S740,\".\",VLOOKUP($K740,'1_Metas_Resultados'!$D$4:$E$403,2,FALSE)))","v":"Sin Registrar"},{"$f":"IF(ISERROR(CONCATENATE($S740,\".\",VLOOKUP($L740,'1_Metas_Resultados'!$D$4:$E$403,2,FALSE))),\"Sin Registrar\",CONCATENATE($S740,\".\",VLOOKUP($L740,'1_Metas_Resultados'!$D$4:$E$403,2,FALSE)))","v":"Sin Registrar"},{"$f":"IF(ISERROR(VLOOKUP(G740,'1_Metas_Resultados'!$D$4:$I$403,6,FALSE)),\"\",VLOOKUP(G740,'1_Metas_Resultados'!$D$4:$I$403,6,FALSE))","v":""}]
[{"$f":"IF(ISERROR(CONCATENATE($S741,\".\",VLOOKUP($G741,'1_Metas_Resultados'!$D$4:$E$403,2,FALSE))),\"Sin Registrar\",CONCATENATE($S741,\".\",VLOOKUP($G741,'1_Metas_Resultados'!$D$4:$E$403,2,FALSE)))","v":"Sin Registrar"},740," ",{"$f":"IF(ISERROR(CONCATENATE($S741,\".\",VLOOKUP($K741,'1_Metas_Resultados'!$D$4:$E$403,2,FALSE))),\"Sin Registrar\",CONCATENATE($S741,\".\",VLOOKUP($K741,'1_Metas_Resultados'!$D$4:$E$403,2,FALSE)))","v":"Sin Registrar"},{"$f":"IF(ISERROR(CONCATENATE($S741,\".\",VLOOKUP($L741,'1_Metas_Resultados'!$D$4:$E$403,2,FALSE))),\"Sin Registrar\",CONCATENATE($S741,\".\",VLOOKUP($L741,'1_Metas_Resultados'!$D$4:$E$403,2,FALSE)))","v":"Sin Registrar"},{"$f":"IF(ISERROR(VLOOKUP(G741,'1_Metas_Resultados'!$D$4:$I$403,6,FALSE)),\"\",VLOOKUP(G741,'1_Metas_Resultados'!$D$4:$I$403,6,FALSE))","v":""}]
[{"$f":"IF(ISERROR(CONCATENATE($S742,\".\",VLOOKUP($G742,'1_Metas_Resultados'!$D$4:$E$403,2,FALSE))),\"Sin Registrar\",CONCATENATE($S742,\".\",VLOOKUP($G742,'1_Metas_Resultados'!$D$4:$E$403,2,FALSE)))","v":"Sin Registrar"},741," ",{"$f":"IF(ISERROR(CONCATENATE($S742,\".\",VLOOKUP($K742,'1_Metas_Resultados'!$D$4:$E$403,2,FALSE))),\"Sin Registrar\",CONCATENATE($S742,\".\",VLOOKUP($K742,'1_Metas_Resultados'!$D$4:$E$403,2,FALSE)))","v":"Sin Registrar"},{"$f":"IF(ISERROR(CONCATENATE($S742,\".\",VLOOKUP($L742,'1_Metas_Resultados'!$D$4:$E$403,2,FALSE))),\"Sin Registrar\",CONCATENATE($S742,\".\",VLOOKUP($L742,'1_Metas_Resultados'!$D$4:$E$403,2,FALSE)))","v":"Sin Registrar"},{"$f":"IF(ISERROR(VLOOKUP(G742,'1_Metas_Resultados'!$D$4:$I$403,6,FALSE)),\"\",VLOOKUP(G742,'1_Metas_Resultados'!$D$4:$I$403,6,FALSE))","v":""}]
[{"$f":"IF(ISERROR(CONCATENATE($S743,\".\",VLOOKUP($G743,'1_Metas_Resultados'!$D$4:$E$403,2,FALSE))),\"Sin Registrar\",CONCATENATE($S743,\".\",VLOOKUP($G743,'1_Metas_Resultados'!$D$4:$E$403,2,FALSE)))","v":"Sin Registrar"},742," ",{"$f":"IF(ISERROR(CONCATENATE($S743,\".\",VLOOKUP($K743,'1_Metas_Resultados'!$D$4:$E$403,2,FALSE))),\"Sin Registrar\",CONCATENATE($S743,\".\",VLOOKUP($K743,'1_Metas_Resultados'!$D$4:$E$403,2,FALSE)))","v":"Sin Registrar"},{"$f":"IF(ISERROR(CONCATENATE($S743,\".\",VLOOKUP($L743,'1_Metas_Resultados'!$D$4:$E$403,2,FALSE))),\"Sin Registrar\",CONCATENATE($S743,\".\",VLOOKUP($L743,'1_Metas_Resultados'!$D$4:$E$403,2,FALSE)))","v":"Sin Registrar"},{"$f":"IF(ISERROR(VLOOKUP(G743,'1_Metas_Resultados'!$D$4:$I$403,6,FALSE)),\"\",VLOOKUP(G743,'1_Metas_Resultados'!$D$4:$I$403,6,FALSE))","v":""}]
[{"$f":"IF(ISERROR(CONCATENATE($S744,\".\",VLOOKUP($G744,'1_Metas_Resultados'!$D$4:$E$403,2,FALSE))),\"Sin Registrar\",CONCATENATE($S744,\".\",VLOOKUP($G744,'1_Metas_Resultados'!$D$4:$E$403,2,FALSE)))","v":"Sin Registrar"},743," ",{"$f":"IF(ISERROR(CONCATENATE($S744,\".\",VLOOKUP($K744,'1_Metas_Resultados'!$D$4:$E$403,2,FALSE))),\"Sin Registrar\",CONCATENATE($S744,\".\",VLOOKUP($K744,'1_Metas_Resultados'!$D$4:$E$403,2,FALSE)))","v":"Sin Registrar"},{"$f":"IF(ISERROR(CONCATENATE($S744,\".\",VLOOKUP($L744,'1_Metas_Resultados'!$D$4:$E$403,2,FALSE))),\"Sin Registrar\",CONCATENATE($S744,\".\",VLOOKUP($L744,'1_Metas_Resultados'!$D$4:$E$403,2,FALSE)))","v":"Sin Registrar"},{"$f":"IF(ISERROR(VLOOKUP(G744,'1_Metas_Resultados'!$D$4:$I$403,6,FALSE)),\"\",VLOOKUP(G744,'1_Metas_Resultados'!$D$4:$I$403,6,FALSE))","v":""}]
[{"$f":"IF(ISERROR(CONCATENATE($S745,\".\",VLOOKUP($G745,'1_Metas_Resultados'!$D$4:$E$403,2,FALSE))),\"Sin Registrar\",CONCATENATE($S745,\".\",VLOOKUP($G745,'1_Metas_Resultados'!$D$4:$E$403,2,FALSE)))","v":"Sin Registrar"},744," ",{"$f":"IF(ISERROR(CONCATENATE($S745,\".\",VLOOKUP($K745,'1_Metas_Resultados'!$D$4:$E$403,2,FALSE))),\"Sin Registrar\",CONCATENATE($S745,\".\",VLOOKUP($K745,'1_Metas_Resultados'!$D$4:$E$403,2,FALSE)))","v":"Sin Registrar"},{"$f":"IF(ISERROR(CONCATENATE($S745,\".\",VLOOKUP($L745,'1_Metas_Resultados'!$D$4:$E$403,2,FALSE))),\"Sin Registrar\",CONCATENATE($S745,\".\",VLOOKUP($L745,'1_Metas_Resultados'!$D$4:$E$403,2,FALSE)))","v":"Sin Registrar"},{"$f":"IF(ISERROR(VLOOKUP(G745,'1_Metas_Resultados'!$D$4:$I$403,6,FALSE)),\"\",VLOOKUP(G745,'1_Metas_Resultados'!$D$4:$I$403,6,FALSE))","v":""}]
[{"$f":"IF(ISERROR(CONCATENATE($S746,\".\",VLOOKUP($G746,'1_Metas_Resultados'!$D$4:$E$403,2,FALSE))),\"Sin Registrar\",CONCATENATE($S746,\".\",VLOOKUP($G746,'1_Metas_Resultados'!$D$4:$E$403,2,FALSE)))","v":"Sin Registrar"},745," ",{"$f":"IF(ISERROR(CONCATENATE($S746,\".\",VLOOKUP($K746,'1_Metas_Resultados'!$D$4:$E$403,2,FALSE))),\"Sin Registrar\",CONCATENATE($S746,\".\",VLOOKUP($K746,'1_Metas_Resultados'!$D$4:$E$403,2,FALSE)))","v":"Sin Registrar"},{"$f":"IF(ISERROR(CONCATENATE($S746,\".\",VLOOKUP($L746,'1_Metas_Resultados'!$D$4:$E$403,2,FALSE))),\"Sin Registrar\",CONCATENATE($S746,\".\",VLOOKUP($L746,'1_Metas_Resultados'!$D$4:$E$403,2,FALSE)))","v":"Sin Registrar"},{"$f":"IF(ISERROR(VLOOKUP(G746,'1_Metas_Resultados'!$D$4:$I$403,6,FALSE)),\"\",VLOOKUP(G746,'1_Metas_Resultados'!$D$4:$I$403,6,FALSE))","v":""}]
[{"$f":"IF(ISERROR(CONCATENATE($S747,\".\",VLOOKUP($G747,'1_Metas_Resultados'!$D$4:$E$403,2,FALSE))),\"Sin Registrar\",CONCATENATE($S747,\".\",VLOOKUP($G747,'1_Metas_Resultados'!$D$4:$E$403,2,FALSE)))","v":"Sin Registrar"},746," ",{"$f":"IF(ISERROR(CONCATENATE($S747,\".\",VLOOKUP($K747,'1_Metas_Resultados'!$D$4:$E$403,2,FALSE))),\"Sin Registrar\",CONCATENATE($S747,\".\",VLOOKUP($K747,'1_Metas_Resultados'!$D$4:$E$403,2,FALSE)))","v":"Sin Registrar"},{"$f":"IF(ISERROR(CONCATENATE($S747,\".\",VLOOKUP($L747,'1_Metas_Resultados'!$D$4:$E$403,2,FALSE))),\"Sin Registrar\",CONCATENATE($S747,\".\",VLOOKUP($L747,'1_Metas_Resultados'!$D$4:$E$403,2,FALSE)))","v":"Sin Registrar"},{"$f":"IF(ISERROR(VLOOKUP(G747,'1_Metas_Resultados'!$D$4:$I$403,6,FALSE)),\"\",VLOOKUP(G747,'1_Metas_Resultados'!$D$4:$I$403,6,FALSE))","v":""}]
[{"$f":"IF(ISERROR(CONCATENATE($S748,\".\",VLOOKUP($G748,'1_Metas_Resultados'!$D$4:$E$403,2,FALSE))),\"Sin Registrar\",CONCATENATE($S748,\".\",VLOOKUP($G748,'1_Metas_Resultados'!$D$4:$E$403,2,FALSE)))","v":"Sin Registrar"},747," ",{"$f":"IF(ISERROR(CONCATENATE($S748,\".\",VLOOKUP($K748,'1_Metas_Resultados'!$D$4:$E$403,2,FALSE))),\"Sin Registrar\",CONCATENATE($S748,\".\",VLOOKUP($K748,'1_Metas_Resultados'!$D$4:$E$403,2,FALSE)))","v":"Sin Registrar"},{"$f":"IF(ISERROR(CONCATENATE($S748,\".\",VLOOKUP($L748,'1_Metas_Resultados'!$D$4:$E$403,2,FALSE))),\"Sin Registrar\",CONCATENATE($S748,\".\",VLOOKUP($L748,'1_Metas_Resultados'!$D$4:$E$403,2,FALSE)))","v":"Sin Registrar"},{"$f":"IF(ISERROR(VLOOKUP(G748,'1_Metas_Resultados'!$D$4:$I$403,6,FALSE)),\"\",VLOOKUP(G748,'1_Metas_Resultados'!$D$4:$I$403,6,FALSE))","v":""}]
[{"$f":"IF(ISERROR(CONCATENATE($S749,\".\",VLOOKUP($G749,'1_Metas_Resultados'!$D$4:$E$403,2,FALSE))),\"Sin Registrar\",CONCATENATE($S749,\".\",VLOOKUP($G749,'1_Metas_Resultados'!$D$4:$E$403,2,FALSE)))","v":"Sin Registrar"},748," ",{"$f":"IF(ISERROR(CONCATENATE($S749,\".\",VLOOKUP($K749,'1_Metas_Resultados'!$D$4:$E$403,2,FALSE))),\"Sin Registrar\",CONCATENATE($S749,\".\",VLOOKUP($K749,'1_Metas_Resultados'!$D$4:$E$403,2,FALSE)))","v":"Sin Registrar"},{"$f":"IF(ISERROR(CONCATENATE($S749,\".\",VLOOKUP($L749,'1_Metas_Resultados'!$D$4:$E$403,2,FALSE))),\"Sin Registrar\",CONCATENATE($S749,\".\",VLOOKUP($L749,'1_Metas_Resultados'!$D$4:$E$403,2,FALSE)))","v":"Sin Registrar"},{"$f":"IF(ISERROR(VLOOKUP(G749,'1_Metas_Resultados'!$D$4:$I$403,6,FALSE)),\"\",VLOOKUP(G749,'1_Metas_Resultados'!$D$4:$I$403,6,FALSE))","v":""}]
[{"$f":"IF(ISERROR(CONCATENATE($S750,\".\",VLOOKUP($G750,'1_Metas_Resultados'!$D$4:$E$403,2,FALSE))),\"Sin Registrar\",CONCATENATE($S750,\".\",VLOOKUP($G750,'1_Metas_Resultados'!$D$4:$E$403,2,FALSE)))","v":"Sin Registrar"},749," ",{"$f":"IF(ISERROR(CONCATENATE($S750,\".\",VLOOKUP($K750,'1_Metas_Resultados'!$D$4:$E$403,2,FALSE))),\"Sin Registrar\",CONCATENATE($S750,\".\",VLOOKUP($K750,'1_Metas_Resultados'!$D$4:$E$403,2,FALSE)))","v":"Sin Registrar"},{"$f":"IF(ISERROR(CONCATENATE($S750,\".\",VLOOKUP($L750,'1_Metas_Resultados'!$D$4:$E$403,2,FALSE))),\"Sin Registrar\",CONCATENATE($S750,\".\",VLOOKUP($L750,'1_Metas_Resultados'!$D$4:$E$403,2,FALSE)))","v":"Sin Registrar"},{"$f":"IF(ISERROR(VLOOKUP(G750,'1_Metas_Resultados'!$D$4:$I$403,6,FALSE)),\"\",VLOOKUP(G750,'1_Metas_Resultados'!$D$4:$I$403,6,FALSE))","v":""}]
[{"$f":"IF(ISERROR(CONCATENATE($S751,\".\",VLOOKUP($G751,'1_Metas_Resultados'!$D$4:$E$403,2,FALSE))),\"Sin Registrar\",CONCATENATE($S751,\".\",VLOOKUP($G751,'1_Metas_Resultados'!$D$4:$E$403,2,FALSE)))","v":"Sin Registrar"},750," ",{"$f":"IF(ISERROR(CONCATENATE($S751,\".\",VLOOKUP($K751,'1_Metas_Resultados'!$D$4:$E$403,2,FALSE))),\"Sin Registrar\",CONCATENATE($S751,\".\",VLOOKUP($K751,'1_Metas_Resultados'!$D$4:$E$403,2,FALSE)))","v":"Sin Registrar"},{"$f":"IF(ISERROR(CONCATENATE($S751,\".\",VLOOKUP($L751,'1_Metas_Resultados'!$D$4:$E$403,2,FALSE))),\"Sin Registrar\",CONCATENATE($S751,\".\",VLOOKUP($L751,'1_Metas_Resultados'!$D$4:$E$403,2,FALSE)))","v":"Sin Registrar"},{"$f":"IF(ISERROR(VLOOKUP(G751,'1_Metas_Resultados'!$D$4:$I$403,6,FALSE)),\"\",VLOOKUP(G751,'1_Metas_Resultados'!$D$4:$I$403,6,FALSE))","v":""}]
[{"$f":"IF(ISERROR(CONCATENATE($S752,\".\",VLOOKUP($G752,'1_Metas_Resultados'!$D$4:$E$403,2,FALSE))),\"Sin Registrar\",CONCATENATE($S752,\".\",VLOOKUP($G752,'1_Metas_Resultados'!$D$4:$E$403,2,FALSE)))","v":"Sin Registrar"},751," ",{"$f":"IF(ISERROR(CONCATENATE($S752,\".\",VLOOKUP($K752,'1_Metas_Resultados'!$D$4:$E$403,2,FALSE))),\"Sin Registrar\",CONCATENATE($S752,\".\",VLOOKUP($K752,'1_Metas_Resultados'!$D$4:$E$403,2,FALSE)))","v":"Sin Registrar"},{"$f":"IF(ISERROR(CONCATENATE($S752,\".\",VLOOKUP($L752,'1_Metas_Resultados'!$D$4:$E$403,2,FALSE))),\"Sin Registrar\",CONCATENATE($S752,\".\",VLOOKUP($L752,'1_Metas_Resultados'!$D$4:$E$403,2,FALSE)))","v":"Sin Registrar"},{"$f":"IF(ISERROR(VLOOKUP(G752,'1_Metas_Resultados'!$D$4:$I$403,6,FALSE)),\"\",VLOOKUP(G752,'1_Metas_Resultados'!$D$4:$I$403,6,FALSE))","v":""}]
[{"$f":"IF(ISERROR(CONCATENATE($S753,\".\",VLOOKUP($G753,'1_Metas_Resultados'!$D$4:$E$403,2,FALSE))),\"Sin Registrar\",CONCATENATE($S753,\".\",VLOOKUP($G753,'1_Metas_Resultados'!$D$4:$E$403,2,FALSE)))","v":"Sin Registrar"},752," ",{"$f":"IF(ISERROR(CONCATENATE($S753,\".\",VLOOKUP($K753,'1_Metas_Resultados'!$D$4:$E$403,2,FALSE))),\"Sin Registrar\",CONCATENATE($S753,\".\",VLOOKUP($K753,'1_Metas_Resultados'!$D$4:$E$403,2,FALSE)))","v":"Sin Registrar"},{"$f":"IF(ISERROR(CONCATENATE($S753,\".\",VLOOKUP($L753,'1_Metas_Resultados'!$D$4:$E$403,2,FALSE))),\"Sin Registrar\",CONCATENATE($S753,\".\",VLOOKUP($L753,'1_Metas_Resultados'!$D$4:$E$403,2,FALSE)))","v":"Sin Registrar"},{"$f":"IF(ISERROR(VLOOKUP(G753,'1_Metas_Resultados'!$D$4:$I$403,6,FALSE)),\"\",VLOOKUP(G753,'1_Metas_Resultados'!$D$4:$I$403,6,FALSE))","v":""}]
[{"$f":"IF(ISERROR(CONCATENATE($S754,\".\",VLOOKUP($G754,'1_Metas_Resultados'!$D$4:$E$403,2,FALSE))),\"Sin Registrar\",CONCATENATE($S754,\".\",VLOOKUP($G754,'1_Metas_Resultados'!$D$4:$E$403,2,FALSE)))","v":"Sin Registrar"},753," ",{"$f":"IF(ISERROR(CONCATENATE($S754,\".\",VLOOKUP($K754,'1_Metas_Resultados'!$D$4:$E$403,2,FALSE))),\"Sin Registrar\",CONCATENATE($S754,\".\",VLOOKUP($K754,'1_Metas_Resultados'!$D$4:$E$403,2,FALSE)))","v":"Sin Registrar"},{"$f":"IF(ISERROR(CONCATENATE($S754,\".\",VLOOKUP($L754,'1_Metas_Resultados'!$D$4:$E$403,2,FALSE))),\"Sin Registrar\",CONCATENATE($S754,\".\",VLOOKUP($L754,'1_Metas_Resultados'!$D$4:$E$403,2,FALSE)))","v":"Sin Registrar"},{"$f":"IF(ISERROR(VLOOKUP(G754,'1_Metas_Resultados'!$D$4:$I$403,6,FALSE)),\"\",VLOOKUP(G754,'1_Metas_Resultados'!$D$4:$I$403,6,FALSE))","v":""}]
[{"$f":"IF(ISERROR(CONCATENATE($S755,\".\",VLOOKUP($G755,'1_Metas_Resultados'!$D$4:$E$403,2,FALSE))),\"Sin Registrar\",CONCATENATE($S755,\".\",VLOOKUP($G755,'1_Metas_Resultados'!$D$4:$E$403,2,FALSE)))","v":"Sin Registrar"},754," ",{"$f":"IF(ISERROR(CONCATENATE($S755,\".\",VLOOKUP($K755,'1_Metas_Resultados'!$D$4:$E$403,2,FALSE))),\"Sin Registrar\",CONCATENATE($S755,\".\",VLOOKUP($K755,'1_Metas_Resultados'!$D$4:$E$403,2,FALSE)))","v":"Sin Registrar"},{"$f":"IF(ISERROR(CONCATENATE($S755,\".\",VLOOKUP($L755,'1_Metas_Resultados'!$D$4:$E$403,2,FALSE))),\"Sin Registrar\",CONCATENATE($S755,\".\",VLOOKUP($L755,'1_Metas_Resultados'!$D$4:$E$403,2,FALSE)))","v":"Sin Registrar"},{"$f":"IF(ISERROR(VLOOKUP(G755,'1_Metas_Resultados'!$D$4:$I$403,6,FALSE)),\"\",VLOOKUP(G755,'1_Metas_Resultados'!$D$4:$I$403,6,FALSE))","v":""}]
[{"$f":"IF(ISERROR(CONCATENATE($S756,\".\",VLOOKUP($G756,'1_Metas_Resultados'!$D$4:$E$403,2,FALSE))),\"Sin Registrar\",CONCATENATE($S756,\".\",VLOOKUP($G756,'1_Metas_Resultados'!$D$4:$E$403,2,FALSE)))","v":"Sin Registrar"},755," ",{"$f":"IF(ISERROR(CONCATENATE($S756,\".\",VLOOKUP($K756,'1_Metas_Resultados'!$D$4:$E$403,2,FALSE))),\"Sin Registrar\",CONCATENATE($S756,\".\",VLOOKUP($K756,'1_Metas_Resultados'!$D$4:$E$403,2,FALSE)))","v":"Sin Registrar"},{"$f":"IF(ISERROR(CONCATENATE($S756,\".\",VLOOKUP($L756,'1_Metas_Resultados'!$D$4:$E$403,2,FALSE))),\"Sin Registrar\",CONCATENATE($S756,\".\",VLOOKUP($L756,'1_Metas_Resultados'!$D$4:$E$403,2,FALSE)))","v":"Sin Registrar"},{"$f":"IF(ISERROR(VLOOKUP(G756,'1_Metas_Resultados'!$D$4:$I$403,6,FALSE)),\"\",VLOOKUP(G756,'1_Metas_Resultados'!$D$4:$I$403,6,FALSE))","v":""}]
[{"$f":"IF(ISERROR(CONCATENATE($S757,\".\",VLOOKUP($G757,'1_Metas_Resultados'!$D$4:$E$403,2,FALSE))),\"Sin Registrar\",CONCATENATE($S757,\".\",VLOOKUP($G757,'1_Metas_Resultados'!$D$4:$E$403,2,FALSE)))","v":"Sin Registrar"},756," ",{"$f":"IF(ISERROR(CONCATENATE($S757,\".\",VLOOKUP($K757,'1_Metas_Resultados'!$D$4:$E$403,2,FALSE))),\"Sin Registrar\",CONCATENATE($S757,\".\",VLOOKUP($K757,'1_Metas_Resultados'!$D$4:$E$403,2,FALSE)))","v":"Sin Registrar"},{"$f":"IF(ISERROR(CONCATENATE($S757,\".\",VLOOKUP($L757,'1_Metas_Resultados'!$D$4:$E$403,2,FALSE))),\"Sin Registrar\",CONCATENATE($S757,\".\",VLOOKUP($L757,'1_Metas_Resultados'!$D$4:$E$403,2,FALSE)))","v":"Sin Registrar"},{"$f":"IF(ISERROR(VLOOKUP(G757,'1_Metas_Resultados'!$D$4:$I$403,6,FALSE)),\"\",VLOOKUP(G757,'1_Metas_Resultados'!$D$4:$I$403,6,FALSE))","v":""}]
[{"$f":"IF(ISERROR(CONCATENATE($S758,\".\",VLOOKUP($G758,'1_Metas_Resultados'!$D$4:$E$403,2,FALSE))),\"Sin Registrar\",CONCATENATE($S758,\".\",VLOOKUP($G758,'1_Metas_Resultados'!$D$4:$E$403,2,FALSE)))","v":"Sin Registrar"},757," ",{"$f":"IF(ISERROR(CONCATENATE($S758,\".\",VLOOKUP($K758,'1_Metas_Resultados'!$D$4:$E$403,2,FALSE))),\"Sin Registrar\",CONCATENATE($S758,\".\",VLOOKUP($K758,'1_Metas_Resultados'!$D$4:$E$403,2,FALSE)))","v":"Sin Registrar"},{"$f":"IF(ISERROR(CONCATENATE($S758,\".\",VLOOKUP($L758,'1_Metas_Resultados'!$D$4:$E$403,2,FALSE))),\"Sin Registrar\",CONCATENATE($S758,\".\",VLOOKUP($L758,'1_Metas_Resultados'!$D$4:$E$403,2,FALSE)))","v":"Sin Registrar"},{"$f":"IF(ISERROR(VLOOKUP(G758,'1_Metas_Resultados'!$D$4:$I$403,6,FALSE)),\"\",VLOOKUP(G758,'1_Metas_Resultados'!$D$4:$I$403,6,FALSE))","v":""}]
[{"$f":"IF(ISERROR(CONCATENATE($S759,\".\",VLOOKUP($G759,'1_Metas_Resultados'!$D$4:$E$403,2,FALSE))),\"Sin Registrar\",CONCATENATE($S759,\".\",VLOOKUP($G759,'1_Metas_Resultados'!$D$4:$E$403,2,FALSE)))","v":"Sin Registrar"},758," ",{"$f":"IF(ISERROR(CONCATENATE($S759,\".\",VLOOKUP($K759,'1_Metas_Resultados'!$D$4:$E$403,2,FALSE))),\"Sin Registrar\",CONCATENATE($S759,\".\",VLOOKUP($K759,'1_Metas_Resultados'!$D$4:$E$403,2,FALSE)))","v":"Sin Registrar"},{"$f":"IF(ISERROR(CONCATENATE($S759,\".\",VLOOKUP($L759,'1_Metas_Resultados'!$D$4:$E$403,2,FALSE))),\"Sin Registrar\",CONCATENATE($S759,\".\",VLOOKUP($L759,'1_Metas_Resultados'!$D$4:$E$403,2,FALSE)))","v":"Sin Registrar"},{"$f":"IF(ISERROR(VLOOKUP(G759,'1_Metas_Resultados'!$D$4:$I$403,6,FALSE)),\"\",VLOOKUP(G759,'1_Metas_Resultados'!$D$4:$I$403,6,FALSE))","v":""}]
[{"$f":"IF(ISERROR(CONCATENATE($S760,\".\",VLOOKUP($G760,'1_Metas_Resultados'!$D$4:$E$403,2,FALSE))),\"Sin Registrar\",CONCATENATE($S760,\".\",VLOOKUP($G760,'1_Metas_Resultados'!$D$4:$E$403,2,FALSE)))","v":"Sin Registrar"},759," ",{"$f":"IF(ISERROR(CONCATENATE($S760,\".\",VLOOKUP($K760,'1_Metas_Resultados'!$D$4:$E$403,2,FALSE))),\"Sin Registrar\",CONCATENATE($S760,\".\",VLOOKUP($K760,'1_Metas_Resultados'!$D$4:$E$403,2,FALSE)))","v":"Sin Registrar"},{"$f":"IF(ISERROR(CONCATENATE($S760,\".\",VLOOKUP($L760,'1_Metas_Resultados'!$D$4:$E$403,2,FALSE))),\"Sin Registrar\",CONCATENATE($S760,\".\",VLOOKUP($L760,'1_Metas_Resultados'!$D$4:$E$403,2,FALSE)))","v":"Sin Registrar"},{"$f":"IF(ISERROR(VLOOKUP(G760,'1_Metas_Resultados'!$D$4:$I$403,6,FALSE)),\"\",VLOOKUP(G760,'1_Metas_Resultados'!$D$4:$I$403,6,FALSE))","v":""}]
[{"$f":"IF(ISERROR(CONCATENATE($S761,\".\",VLOOKUP($G761,'1_Metas_Resultados'!$D$4:$E$403,2,FALSE))),\"Sin Registrar\",CONCATENATE($S761,\".\",VLOOKUP($G761,'1_Metas_Resultados'!$D$4:$E$403,2,FALSE)))","v":"Sin Registrar"},760," ",{"$f":"IF(ISERROR(CONCATENATE($S761,\".\",VLOOKUP($K761,'1_Metas_Resultados'!$D$4:$E$403,2,FALSE))),\"Sin Registrar\",CONCATENATE($S761,\".\",VLOOKUP($K761,'1_Metas_Resultados'!$D$4:$E$403,2,FALSE)))","v":"Sin Registrar"},{"$f":"IF(ISERROR(CONCATENATE($S761,\".\",VLOOKUP($L761,'1_Metas_Resultados'!$D$4:$E$403,2,FALSE))),\"Sin Registrar\",CONCATENATE($S761,\".\",VLOOKUP($L761,'1_Metas_Resultados'!$D$4:$E$403,2,FALSE)))","v":"Sin Registrar"},{"$f":"IF(ISERROR(VLOOKUP(G761,'1_Metas_Resultados'!$D$4:$I$403,6,FALSE)),\"\",VLOOKUP(G761,'1_Metas_Resultados'!$D$4:$I$403,6,FALSE))","v":""}]
[{"$f":"IF(ISERROR(CONCATENATE($S762,\".\",VLOOKUP($G762,'1_Metas_Resultados'!$D$4:$E$403,2,FALSE))),\"Sin Registrar\",CONCATENATE($S762,\".\",VLOOKUP($G762,'1_Metas_Resultados'!$D$4:$E$403,2,FALSE)))","v":"Sin Registrar"},761," ",{"$f":"IF(ISERROR(CONCATENATE($S762,\".\",VLOOKUP($K762,'1_Metas_Resultados'!$D$4:$E$403,2,FALSE))),\"Sin Registrar\",CONCATENATE($S762,\".\",VLOOKUP($K762,'1_Metas_Resultados'!$D$4:$E$403,2,FALSE)))","v":"Sin Registrar"},{"$f":"IF(ISERROR(CONCATENATE($S762,\".\",VLOOKUP($L762,'1_Metas_Resultados'!$D$4:$E$403,2,FALSE))),\"Sin Registrar\",CONCATENATE($S762,\".\",VLOOKUP($L762,'1_Metas_Resultados'!$D$4:$E$403,2,FALSE)))","v":"Sin Registrar"},{"$f":"IF(ISERROR(VLOOKUP(G762,'1_Metas_Resultados'!$D$4:$I$403,6,FALSE)),\"\",VLOOKUP(G762,'1_Metas_Resultados'!$D$4:$I$403,6,FALSE))","v":""}]
[{"$f":"IF(ISERROR(CONCATENATE($S763,\".\",VLOOKUP($G763,'1_Metas_Resultados'!$D$4:$E$403,2,FALSE))),\"Sin Registrar\",CONCATENATE($S763,\".\",VLOOKUP($G763,'1_Metas_Resultados'!$D$4:$E$403,2,FALSE)))","v":"Sin Registrar"},762," ",{"$f":"IF(ISERROR(CONCATENATE($S763,\".\",VLOOKUP($K763,'1_Metas_Resultados'!$D$4:$E$403,2,FALSE))),\"Sin Registrar\",CONCATENATE($S763,\".\",VLOOKUP($K763,'1_Metas_Resultados'!$D$4:$E$403,2,FALSE)))","v":"Sin Registrar"},{"$f":"IF(ISERROR(CONCATENATE($S763,\".\",VLOOKUP($L763,'1_Metas_Resultados'!$D$4:$E$403,2,FALSE))),\"Sin Registrar\",CONCATENATE($S763,\".\",VLOOKUP($L763,'1_Metas_Resultados'!$D$4:$E$403,2,FALSE)))","v":"Sin Registrar"},{"$f":"IF(ISERROR(VLOOKUP(G763,'1_Metas_Resultados'!$D$4:$I$403,6,FALSE)),\"\",VLOOKUP(G763,'1_Metas_Resultados'!$D$4:$I$403,6,FALSE))","v":""}]
[{"$f":"IF(ISERROR(CONCATENATE($S764,\".\",VLOOKUP($G764,'1_Metas_Resultados'!$D$4:$E$403,2,FALSE))),\"Sin Registrar\",CONCATENATE($S764,\".\",VLOOKUP($G764,'1_Metas_Resultados'!$D$4:$E$403,2,FALSE)))","v":"Sin Registrar"},763," ",{"$f":"IF(ISERROR(CONCATENATE($S764,\".\",VLOOKUP($K764,'1_Metas_Resultados'!$D$4:$E$403,2,FALSE))),\"Sin Registrar\",CONCATENATE($S764,\".\",VLOOKUP($K764,'1_Metas_Resultados'!$D$4:$E$403,2,FALSE)))","v":"Sin Registrar"},{"$f":"IF(ISERROR(CONCATENATE($S764,\".\",VLOOKUP($L764,'1_Metas_Resultados'!$D$4:$E$403,2,FALSE))),\"Sin Registrar\",CONCATENATE($S764,\".\",VLOOKUP($L764,'1_Metas_Resultados'!$D$4:$E$403,2,FALSE)))","v":"Sin Registrar"},{"$f":"IF(ISERROR(VLOOKUP(G764,'1_Metas_Resultados'!$D$4:$I$403,6,FALSE)),\"\",VLOOKUP(G764,'1_Metas_Resultados'!$D$4:$I$403,6,FALSE))","v":""}]
[{"$f":"IF(ISERROR(CONCATENATE($S765,\".\",VLOOKUP($G765,'1_Metas_Resultados'!$D$4:$E$403,2,FALSE))),\"Sin Registrar\",CONCATENATE($S765,\".\",VLOOKUP($G765,'1_Metas_Resultados'!$D$4:$E$403,2,FALSE)))","v":"Sin Registrar"},764," ",{"$f":"IF(ISERROR(CONCATENATE($S765,\".\",VLOOKUP($K765,'1_Metas_Resultados'!$D$4:$E$403,2,FALSE))),\"Sin Registrar\",CONCATENATE($S765,\".\",VLOOKUP($K765,'1_Metas_Resultados'!$D$4:$E$403,2,FALSE)))","v":"Sin Registrar"},{"$f":"IF(ISERROR(CONCATENATE($S765,\".\",VLOOKUP($L765,'1_Metas_Resultados'!$D$4:$E$403,2,FALSE))),\"Sin Registrar\",CONCATENATE($S765,\".\",VLOOKUP($L765,'1_Metas_Resultados'!$D$4:$E$403,2,FALSE)))","v":"Sin Registrar"},{"$f":"IF(ISERROR(VLOOKUP(G765,'1_Metas_Resultados'!$D$4:$I$403,6,FALSE)),\"\",VLOOKUP(G765,'1_Metas_Resultados'!$D$4:$I$403,6,FALSE))","v":""}]
[{"$f":"IF(ISERROR(CONCATENATE($S766,\".\",VLOOKUP($G766,'1_Metas_Resultados'!$D$4:$E$403,2,FALSE))),\"Sin Registrar\",CONCATENATE($S766,\".\",VLOOKUP($G766,'1_Metas_Resultados'!$D$4:$E$403,2,FALSE)))","v":"Sin Registrar"},765," ",{"$f":"IF(ISERROR(CONCATENATE($S766,\".\",VLOOKUP($K766,'1_Metas_Resultados'!$D$4:$E$403,2,FALSE))),\"Sin Registrar\",CONCATENATE($S766,\".\",VLOOKUP($K766,'1_Metas_Resultados'!$D$4:$E$403,2,FALSE)))","v":"Sin Registrar"},{"$f":"IF(ISERROR(CONCATENATE($S766,\".\",VLOOKUP($L766,'1_Metas_Resultados'!$D$4:$E$403,2,FALSE))),\"Sin Registrar\",CONCATENATE($S766,\".\",VLOOKUP($L766,'1_Metas_Resultados'!$D$4:$E$403,2,FALSE)))","v":"Sin Registrar"},{"$f":"IF(ISERROR(VLOOKUP(G766,'1_Metas_Resultados'!$D$4:$I$403,6,FALSE)),\"\",VLOOKUP(G766,'1_Metas_Resultados'!$D$4:$I$403,6,FALSE))","v":""}]
[{"$f":"IF(ISERROR(CONCATENATE($S767,\".\",VLOOKUP($G767,'1_Metas_Resultados'!$D$4:$E$403,2,FALSE))),\"Sin Registrar\",CONCATENATE($S767,\".\",VLOOKUP($G767,'1_Metas_Resultados'!$D$4:$E$403,2,FALSE)))","v":"Sin Registrar"},766," ",{"$f":"IF(ISERROR(CONCATENATE($S767,\".\",VLOOKUP($K767,'1_Metas_Resultados'!$D$4:$E$403,2,FALSE))),\"Sin Registrar\",CONCATENATE($S767,\".\",VLOOKUP($K767,'1_Metas_Resultados'!$D$4:$E$403,2,FALSE)))","v":"Sin Registrar"},{"$f":"IF(ISERROR(CONCATENATE($S767,\".\",VLOOKUP($L767,'1_Metas_Resultados'!$D$4:$E$403,2,FALSE))),\"Sin Registrar\",CONCATENATE($S767,\".\",VLOOKUP($L767,'1_Metas_Resultados'!$D$4:$E$403,2,FALSE)))","v":"Sin Registrar"},{"$f":"IF(ISERROR(VLOOKUP(G767,'1_Metas_Resultados'!$D$4:$I$403,6,FALSE)),\"\",VLOOKUP(G767,'1_Metas_Resultados'!$D$4:$I$403,6,FALSE))","v":""}]
[{"$f":"IF(ISERROR(CONCATENATE($S768,\".\",VLOOKUP($G768,'1_Metas_Resultados'!$D$4:$E$403,2,FALSE))),\"Sin Registrar\",CONCATENATE($S768,\".\",VLOOKUP($G768,'1_Metas_Resultados'!$D$4:$E$403,2,FALSE)))","v":"Sin Registrar"},767," ",{"$f":"IF(ISERROR(CONCATENATE($S768,\".\",VLOOKUP($K768,'1_Metas_Resultados'!$D$4:$E$403,2,FALSE))),\"Sin Registrar\",CONCATENATE($S768,\".\",VLOOKUP($K768,'1_Metas_Resultados'!$D$4:$E$403,2,FALSE)))","v":"Sin Registrar"},{"$f":"IF(ISERROR(CONCATENATE($S768,\".\",VLOOKUP($L768,'1_Metas_Resultados'!$D$4:$E$403,2,FALSE))),\"Sin Registrar\",CONCATENATE($S768,\".\",VLOOKUP($L768,'1_Metas_Resultados'!$D$4:$E$403,2,FALSE)))","v":"Sin Registrar"},{"$f":"IF(ISERROR(VLOOKUP(G768,'1_Metas_Resultados'!$D$4:$I$403,6,FALSE)),\"\",VLOOKUP(G768,'1_Metas_Resultados'!$D$4:$I$403,6,FALSE))","v":""}]
[{"$f":"IF(ISERROR(CONCATENATE($S769,\".\",VLOOKUP($G769,'1_Metas_Resultados'!$D$4:$E$403,2,FALSE))),\"Sin Registrar\",CONCATENATE($S769,\".\",VLOOKUP($G769,'1_Metas_Resultados'!$D$4:$E$403,2,FALSE)))","v":"Sin Registrar"},768," ",{"$f":"IF(ISERROR(CONCATENATE($S769,\".\",VLOOKUP($K769,'1_Metas_Resultados'!$D$4:$E$403,2,FALSE))),\"Sin Registrar\",CONCATENATE($S769,\".\",VLOOKUP($K769,'1_Metas_Resultados'!$D$4:$E$403,2,FALSE)))","v":"Sin Registrar"},{"$f":"IF(ISERROR(CONCATENATE($S769,\".\",VLOOKUP($L769,'1_Metas_Resultados'!$D$4:$E$403,2,FALSE))),\"Sin Registrar\",CONCATENATE($S769,\".\",VLOOKUP($L769,'1_Metas_Resultados'!$D$4:$E$403,2,FALSE)))","v":"Sin Registrar"},{"$f":"IF(ISERROR(VLOOKUP(G769,'1_Metas_Resultados'!$D$4:$I$403,6,FALSE)),\"\",VLOOKUP(G769,'1_Metas_Resultados'!$D$4:$I$403,6,FALSE))","v":""}]
[{"$f":"IF(ISERROR(CONCATENATE($S770,\".\",VLOOKUP($G770,'1_Metas_Resultados'!$D$4:$E$403,2,FALSE))),\"Sin Registrar\",CONCATENATE($S770,\".\",VLOOKUP($G770,'1_Metas_Resultados'!$D$4:$E$403,2,FALSE)))","v":"Sin Registrar"},769," ",{"$f":"IF(ISERROR(CONCATENATE($S770,\".\",VLOOKUP($K770,'1_Metas_Resultados'!$D$4:$E$403,2,FALSE))),\"Sin Registrar\",CONCATENATE($S770,\".\",VLOOKUP($K770,'1_Metas_Resultados'!$D$4:$E$403,2,FALSE)))","v":"Sin Registrar"},{"$f":"IF(ISERROR(CONCATENATE($S770,\".\",VLOOKUP($L770,'1_Metas_Resultados'!$D$4:$E$403,2,FALSE))),\"Sin Registrar\",CONCATENATE($S770,\".\",VLOOKUP($L770,'1_Metas_Resultados'!$D$4:$E$403,2,FALSE)))","v":"Sin Registrar"},{"$f":"IF(ISERROR(VLOOKUP(G770,'1_Metas_Resultados'!$D$4:$I$403,6,FALSE)),\"\",VLOOKUP(G770,'1_Metas_Resultados'!$D$4:$I$403,6,FALSE))","v":""}]
[{"$f":"IF(ISERROR(CONCATENATE($S771,\".\",VLOOKUP($G771,'1_Metas_Resultados'!$D$4:$E$403,2,FALSE))),\"Sin Registrar\",CONCATENATE($S771,\".\",VLOOKUP($G771,'1_Metas_Resultados'!$D$4:$E$403,2,FALSE)))","v":"Sin Registrar"},770," ",{"$f":"IF(ISERROR(CONCATENATE($S771,\".\",VLOOKUP($K771,'1_Metas_Resultados'!$D$4:$E$403,2,FALSE))),\"Sin Registrar\",CONCATENATE($S771,\".\",VLOOKUP($K771,'1_Metas_Resultados'!$D$4:$E$403,2,FALSE)))","v":"Sin Registrar"},{"$f":"IF(ISERROR(CONCATENATE($S771,\".\",VLOOKUP($L771,'1_Metas_Resultados'!$D$4:$E$403,2,FALSE))),\"Sin Registrar\",CONCATENATE($S771,\".\",VLOOKUP($L771,'1_Metas_Resultados'!$D$4:$E$403,2,FALSE)))","v":"Sin Registrar"},{"$f":"IF(ISERROR(VLOOKUP(G771,'1_Metas_Resultados'!$D$4:$I$403,6,FALSE)),\"\",VLOOKUP(G771,'1_Metas_Resultados'!$D$4:$I$403,6,FALSE))","v":""}]
[{"$f":"IF(ISERROR(CONCATENATE($S772,\".\",VLOOKUP($G772,'1_Metas_Resultados'!$D$4:$E$403,2,FALSE))),\"Sin Registrar\",CONCATENATE($S772,\".\",VLOOKUP($G772,'1_Metas_Resultados'!$D$4:$E$403,2,FALSE)))","v":"Sin Registrar"},771," ",{"$f":"IF(ISERROR(CONCATENATE($S772,\".\",VLOOKUP($K772,'1_Metas_Resultados'!$D$4:$E$403,2,FALSE))),\"Sin Registrar\",CONCATENATE($S772,\".\",VLOOKUP($K772,'1_Metas_Resultados'!$D$4:$E$403,2,FALSE)))","v":"Sin Registrar"},{"$f":"IF(ISERROR(CONCATENATE($S772,\".\",VLOOKUP($L772,'1_Metas_Resultados'!$D$4:$E$403,2,FALSE))),\"Sin Registrar\",CONCATENATE($S772,\".\",VLOOKUP($L772,'1_Metas_Resultados'!$D$4:$E$403,2,FALSE)))","v":"Sin Registrar"},{"$f":"IF(ISERROR(VLOOKUP(G772,'1_Metas_Resultados'!$D$4:$I$403,6,FALSE)),\"\",VLOOKUP(G772,'1_Metas_Resultados'!$D$4:$I$403,6,FALSE))","v":""}]
[{"$f":"IF(ISERROR(CONCATENATE($S773,\".\",VLOOKUP($G773,'1_Metas_Resultados'!$D$4:$E$403,2,FALSE))),\"Sin Registrar\",CONCATENATE($S773,\".\",VLOOKUP($G773,'1_Metas_Resultados'!$D$4:$E$403,2,FALSE)))","v":"Sin Registrar"},772,{"$f":"IF(A773=\"Sin Registrar\",\" \",CONCATENATE(A773,\".\",B773))","v":" "},{"$f":"IF(ISERROR(CONCATENATE($S773,\".\",VLOOKUP($K773,'1_Metas_Resultados'!$D$4:$E$403,2,FALSE))),\"Sin Registrar\",CONCATENATE($S773,\".\",VLOOKUP($K773,'1_Metas_Resultados'!$D$4:$E$403,2,FALSE)))","v":"Sin Registrar"},{"$f":"IF(ISERROR(CONCATENATE($S773,\".\",VLOOKUP($L773,'1_Metas_Resultados'!$D$4:$E$403,2,FALSE))),\"Sin Registrar\",CONCATENATE($S773,\".\",VLOOKUP($L773,'1_Metas_Resultados'!$D$4:$E$403,2,FALSE)))","v":"Sin Registrar"},{"$f":"IF(ISERROR(VLOOKUP(G773,'1_Metas_Resultados'!$D$4:$I$403,6,FALSE)),\"\",VLOOKUP(G773,'1_Metas_Resultados'!$D$4:$I$403,6,FALSE))","v":""}]
[{"$f":"IF(ISERROR(CONCATENATE($S774,\".\",VLOOKUP($G774,'1_Metas_Resultados'!$D$4:$E$403,2,FALSE))),\"Sin Registrar\",CONCATENATE($S774,\".\",VLOOKUP($G774,'1_Metas_Resultados'!$D$4:$E$403,2,FALSE)))","v":"Sin Registrar"},773," ",{"$f":"IF(ISERROR(CONCATENATE($S774,\".\",VLOOKUP($K774,'1_Metas_Resultados'!$D$4:$E$403,2,FALSE))),\"Sin Registrar\",CONCATENATE($S774,\".\",VLOOKUP($K774,'1_Metas_Resultados'!$D$4:$E$403,2,FALSE)))","v":"Sin Registrar"},{"$f":"IF(ISERROR(CONCATENATE($S774,\".\",VLOOKUP($L774,'1_Metas_Resultados'!$D$4:$E$403,2,FALSE))),\"Sin Registrar\",CONCATENATE($S774,\".\",VLOOKUP($L774,'1_Metas_Resultados'!$D$4:$E$403,2,FALSE)))","v":"Sin Registrar"},{"$f":"IF(ISERROR(VLOOKUP(G774,'1_Metas_Resultados'!$D$4:$I$403,6,FALSE)),\"\",VLOOKUP(G774,'1_Metas_Resultados'!$D$4:$I$403,6,FALSE))","v":""}]
[{"$f":"IF(ISERROR(CONCATENATE($S775,\".\",VLOOKUP($G775,'1_Metas_Resultados'!$D$4:$E$403,2,FALSE))),\"Sin Registrar\",CONCATENATE($S775,\".\",VLOOKUP($G775,'1_Metas_Resultados'!$D$4:$E$403,2,FALSE)))","v":"Sin Registrar"},774," ",{"$f":"IF(ISERROR(CONCATENATE($S775,\".\",VLOOKUP($K775,'1_Metas_Resultados'!$D$4:$E$403,2,FALSE))),\"Sin Registrar\",CONCATENATE($S775,\".\",VLOOKUP($K775,'1_Metas_Resultados'!$D$4:$E$403,2,FALSE)))","v":"Sin Registrar"},{"$f":"IF(ISERROR(CONCATENATE($S775,\".\",VLOOKUP($L775,'1_Metas_Resultados'!$D$4:$E$403,2,FALSE))),\"Sin Registrar\",CONCATENATE($S775,\".\",VLOOKUP($L775,'1_Metas_Resultados'!$D$4:$E$403,2,FALSE)))","v":"Sin Registrar"},{"$f":"IF(ISERROR(VLOOKUP(G775,'1_Metas_Resultados'!$D$4:$I$403,6,FALSE)),\"\",VLOOKUP(G775,'1_Metas_Resultados'!$D$4:$I$403,6,FALSE))","v":""}]
[{"$f":"IF(ISERROR(CONCATENATE($S776,\".\",VLOOKUP($G776,'1_Metas_Resultados'!$D$4:$E$403,2,FALSE))),\"Sin Registrar\",CONCATENATE($S776,\".\",VLOOKUP($G776,'1_Metas_Resultados'!$D$4:$E$403,2,FALSE)))","v":"Sin Registrar"},775," ",{"$f":"IF(ISERROR(CONCATENATE($S776,\".\",VLOOKUP($K776,'1_Metas_Resultados'!$D$4:$E$403,2,FALSE))),\"Sin Registrar\",CONCATENATE($S776,\".\",VLOOKUP($K776,'1_Metas_Resultados'!$D$4:$E$403,2,FALSE)))","v":"Sin Registrar"},{"$f":"IF(ISERROR(CONCATENATE($S776,\".\",VLOOKUP($L776,'1_Metas_Resultados'!$D$4:$E$403,2,FALSE))),\"Sin Registrar\",CONCATENATE($S776,\".\",VLOOKUP($L776,'1_Metas_Resultados'!$D$4:$E$403,2,FALSE)))","v":"Sin Registrar"},{"$f":"IF(ISERROR(VLOOKUP(G776,'1_Metas_Resultados'!$D$4:$I$403,6,FALSE)),\"\",VLOOKUP(G776,'1_Metas_Resultados'!$D$4:$I$403,6,FALSE))","v":""}]
[{"$f":"IF(ISERROR(CONCATENATE($S777,\".\",VLOOKUP($G777,'1_Metas_Resultados'!$D$4:$E$403,2,FALSE))),\"Sin Registrar\",CONCATENATE($S777,\".\",VLOOKUP($G777,'1_Metas_Resultados'!$D$4:$E$403,2,FALSE)))","v":"Sin Registrar"},776," ",{"$f":"IF(ISERROR(CONCATENATE($S777,\".\",VLOOKUP($K777,'1_Metas_Resultados'!$D$4:$E$403,2,FALSE))),\"Sin Registrar\",CONCATENATE($S777,\".\",VLOOKUP($K777,'1_Metas_Resultados'!$D$4:$E$403,2,FALSE)))","v":"Sin Registrar"},{"$f":"IF(ISERROR(CONCATENATE($S777,\".\",VLOOKUP($L777,'1_Metas_Resultados'!$D$4:$E$403,2,FALSE))),\"Sin Registrar\",CONCATENATE($S777,\".\",VLOOKUP($L777,'1_Metas_Resultados'!$D$4:$E$403,2,FALSE)))","v":"Sin Registrar"},{"$f":"IF(ISERROR(VLOOKUP(G777,'1_Metas_Resultados'!$D$4:$I$403,6,FALSE)),\"\",VLOOKUP(G777,'1_Metas_Resultados'!$D$4:$I$403,6,FALSE))","v":""}]
[{"$f":"IF(ISERROR(CONCATENATE($S778,\".\",VLOOKUP($G778,'1_Metas_Resultados'!$D$4:$E$403,2,FALSE))),\"Sin Registrar\",CONCATENATE($S778,\".\",VLOOKUP($G778,'1_Metas_Resultados'!$D$4:$E$403,2,FALSE)))","v":"Sin Registrar"},777," ",{"$f":"IF(ISERROR(CONCATENATE($S778,\".\",VLOOKUP($K778,'1_Metas_Resultados'!$D$4:$E$403,2,FALSE))),\"Sin Registrar\",CONCATENATE($S778,\".\",VLOOKUP($K778,'1_Metas_Resultados'!$D$4:$E$403,2,FALSE)))","v":"Sin Registrar"},{"$f":"IF(ISERROR(CONCATENATE($S778,\".\",VLOOKUP($L778,'1_Metas_Resultados'!$D$4:$E$403,2,FALSE))),\"Sin Registrar\",CONCATENATE($S778,\".\",VLOOKUP($L778,'1_Metas_Resultados'!$D$4:$E$403,2,FALSE)))","v":"Sin Registrar"},{"$f":"IF(ISERROR(VLOOKUP(G778,'1_Metas_Resultados'!$D$4:$I$403,6,FALSE)),\"\",VLOOKUP(G778,'1_Metas_Resultados'!$D$4:$I$403,6,FALSE))","v":""}]
[{"$f":"IF(ISERROR(CONCATENATE($S779,\".\",VLOOKUP($G779,'1_Metas_Resultados'!$D$4:$E$403,2,FALSE))),\"Sin Registrar\",CONCATENATE($S779,\".\",VLOOKUP($G779,'1_Metas_Resultados'!$D$4:$E$403,2,FALSE)))","v":"Sin Registrar"},778," ",{"$f":"IF(ISERROR(CONCATENATE($S779,\".\",VLOOKUP($K779,'1_Metas_Resultados'!$D$4:$E$403,2,FALSE))),\"Sin Registrar\",CONCATENATE($S779,\".\",VLOOKUP($K779,'1_Metas_Resultados'!$D$4:$E$403,2,FALSE)))","v":"Sin Registrar"},{"$f":"IF(ISERROR(CONCATENATE($S779,\".\",VLOOKUP($L779,'1_Metas_Resultados'!$D$4:$E$403,2,FALSE))),\"Sin Registrar\",CONCATENATE($S779,\".\",VLOOKUP($L779,'1_Metas_Resultados'!$D$4:$E$403,2,FALSE)))","v":"Sin Registrar"},{"$f":"IF(ISERROR(VLOOKUP(G779,'1_Metas_Resultados'!$D$4:$I$403,6,FALSE)),\"\",VLOOKUP(G779,'1_Metas_Resultados'!$D$4:$I$403,6,FALSE))","v":""}]
[{"$f":"IF(ISERROR(CONCATENATE($S780,\".\",VLOOKUP($G780,'1_Metas_Resultados'!$D$4:$E$403,2,FALSE))),\"Sin Registrar\",CONCATENATE($S780,\".\",VLOOKUP($G780,'1_Metas_Resultados'!$D$4:$E$403,2,FALSE)))","v":"Sin Registrar"},779," ",{"$f":"IF(ISERROR(CONCATENATE($S780,\".\",VLOOKUP($K780,'1_Metas_Resultados'!$D$4:$E$403,2,FALSE))),\"Sin Registrar\",CONCATENATE($S780,\".\",VLOOKUP($K780,'1_Metas_Resultados'!$D$4:$E$403,2,FALSE)))","v":"Sin Registrar"},{"$f":"IF(ISERROR(CONCATENATE($S780,\".\",VLOOKUP($L780,'1_Metas_Resultados'!$D$4:$E$403,2,FALSE))),\"Sin Registrar\",CONCATENATE($S780,\".\",VLOOKUP($L780,'1_Metas_Resultados'!$D$4:$E$403,2,FALSE)))","v":"Sin Registrar"},{"$f":"IF(ISERROR(VLOOKUP(G780,'1_Metas_Resultados'!$D$4:$I$403,6,FALSE)),\"\",VLOOKUP(G780,'1_Metas_Resultados'!$D$4:$I$403,6,FALSE))","v":""}]
[{"$f":"IF(ISERROR(CONCATENATE($S781,\".\",VLOOKUP($G781,'1_Metas_Resultados'!$D$4:$E$403,2,FALSE))),\"Sin Registrar\",CONCATENATE($S781,\".\",VLOOKUP($G781,'1_Metas_Resultados'!$D$4:$E$403,2,FALSE)))","v":"Sin Registrar"},780," ",{"$f":"IF(ISERROR(CONCATENATE($S781,\".\",VLOOKUP($K781,'1_Metas_Resultados'!$D$4:$E$403,2,FALSE))),\"Sin Registrar\",CONCATENATE($S781,\".\",VLOOKUP($K781,'1_Metas_Resultados'!$D$4:$E$403,2,FALSE)))","v":"Sin Registrar"},{"$f":"IF(ISERROR(CONCATENATE($S781,\".\",VLOOKUP($L781,'1_Metas_Resultados'!$D$4:$E$403,2,FALSE))),\"Sin Registrar\",CONCATENATE($S781,\".\",VLOOKUP($L781,'1_Metas_Resultados'!$D$4:$E$403,2,FALSE)))","v":"Sin Registrar"},{"$f":"IF(ISERROR(VLOOKUP(G781,'1_Metas_Resultados'!$D$4:$I$403,6,FALSE)),\"\",VLOOKUP(G781,'1_Metas_Resultados'!$D$4:$I$403,6,FALSE))","v":""}]
[{"$f":"IF(ISERROR(CONCATENATE($S782,\".\",VLOOKUP($G782,'1_Metas_Resultados'!$D$4:$E$403,2,FALSE))),\"Sin Registrar\",CONCATENATE($S782,\".\",VLOOKUP($G782,'1_Metas_Resultados'!$D$4:$E$403,2,FALSE)))","v":"Sin Registrar"},781," ",{"$f":"IF(ISERROR(CONCATENATE($S782,\".\",VLOOKUP($K782,'1_Metas_Resultados'!$D$4:$E$403,2,FALSE))),\"Sin Registrar\",CONCATENATE($S782,\".\",VLOOKUP($K782,'1_Metas_Resultados'!$D$4:$E$403,2,FALSE)))","v":"Sin Registrar"},{"$f":"IF(ISERROR(CONCATENATE($S782,\".\",VLOOKUP($L782,'1_Metas_Resultados'!$D$4:$E$403,2,FALSE))),\"Sin Registrar\",CONCATENATE($S782,\".\",VLOOKUP($L782,'1_Metas_Resultados'!$D$4:$E$403,2,FALSE)))","v":"Sin Registrar"},{"$f":"IF(ISERROR(VLOOKUP(G782,'1_Metas_Resultados'!$D$4:$I$403,6,FALSE)),\"\",VLOOKUP(G782,'1_Metas_Resultados'!$D$4:$I$403,6,FALSE))","v":""}]
[{"$f":"IF(ISERROR(CONCATENATE($S783,\".\",VLOOKUP($G783,'1_Metas_Resultados'!$D$4:$E$403,2,FALSE))),\"Sin Registrar\",CONCATENATE($S783,\".\",VLOOKUP($G783,'1_Metas_Resultados'!$D$4:$E$403,2,FALSE)))","v":"Sin Registrar"},782," ",{"$f":"IF(ISERROR(CONCATENATE($S783,\".\",VLOOKUP($K783,'1_Metas_Resultados'!$D$4:$E$403,2,FALSE))),\"Sin Registrar\",CONCATENATE($S783,\".\",VLOOKUP($K783,'1_Metas_Resultados'!$D$4:$E$403,2,FALSE)))","v":"Sin Registrar"},{"$f":"IF(ISERROR(CONCATENATE($S783,\".\",VLOOKUP($L783,'1_Metas_Resultados'!$D$4:$E$403,2,FALSE))),\"Sin Registrar\",CONCATENATE($S783,\".\",VLOOKUP($L783,'1_Metas_Resultados'!$D$4:$E$403,2,FALSE)))","v":"Sin Registrar"},{"$f":"IF(ISERROR(VLOOKUP(G783,'1_Metas_Resultados'!$D$4:$I$403,6,FALSE)),\"\",VLOOKUP(G783,'1_Metas_Resultados'!$D$4:$I$403,6,FALSE))","v":""}]
[{"$f":"IF(ISERROR(CONCATENATE($S784,\".\",VLOOKUP($G784,'1_Metas_Resultados'!$D$4:$E$403,2,FALSE))),\"Sin Registrar\",CONCATENATE($S784,\".\",VLOOKUP($G784,'1_Metas_Resultados'!$D$4:$E$403,2,FALSE)))","v":"Sin Registrar"},783," ",{"$f":"IF(ISERROR(CONCATENATE($S784,\".\",VLOOKUP($K784,'1_Metas_Resultados'!$D$4:$E$403,2,FALSE))),\"Sin Registrar\",CONCATENATE($S784,\".\",VLOOKUP($K784,'1_Metas_Resultados'!$D$4:$E$403,2,FALSE)))","v":"Sin Registrar"},{"$f":"IF(ISERROR(CONCATENATE($S784,\".\",VLOOKUP($L784,'1_Metas_Resultados'!$D$4:$E$403,2,FALSE))),\"Sin Registrar\",CONCATENATE($S784,\".\",VLOOKUP($L784,'1_Metas_Resultados'!$D$4:$E$403,2,FALSE)))","v":"Sin Registrar"},{"$f":"IF(ISERROR(VLOOKUP(G784,'1_Metas_Resultados'!$D$4:$I$403,6,FALSE)),\"\",VLOOKUP(G784,'1_Metas_Resultados'!$D$4:$I$403,6,FALSE))","v":""}]
[{"$f":"IF(ISERROR(CONCATENATE($S785,\".\",VLOOKUP($G785,'1_Metas_Resultados'!$D$4:$E$403,2,FALSE))),\"Sin Registrar\",CONCATENATE($S785,\".\",VLOOKUP($G785,'1_Metas_Resultados'!$D$4:$E$403,2,FALSE)))","v":"Sin Registrar"},784," ",{"$f":"IF(ISERROR(CONCATENATE($S785,\".\",VLOOKUP($K785,'1_Metas_Resultados'!$D$4:$E$403,2,FALSE))),\"Sin Registrar\",CONCATENATE($S785,\".\",VLOOKUP($K785,'1_Metas_Resultados'!$D$4:$E$403,2,FALSE)))","v":"Sin Registrar"},{"$f":"IF(ISERROR(CONCATENATE($S785,\".\",VLOOKUP($L785,'1_Metas_Resultados'!$D$4:$E$403,2,FALSE))),\"Sin Registrar\",CONCATENATE($S785,\".\",VLOOKUP($L785,'1_Metas_Resultados'!$D$4:$E$403,2,FALSE)))","v":"Sin Registrar"},{"$f":"IF(ISERROR(VLOOKUP(G785,'1_Metas_Resultados'!$D$4:$I$403,6,FALSE)),\"\",VLOOKUP(G785,'1_Metas_Resultados'!$D$4:$I$403,6,FALSE))","v":""}]
[{"$f":"IF(ISERROR(CONCATENATE($S786,\".\",VLOOKUP($G786,'1_Metas_Resultados'!$D$4:$E$403,2,FALSE))),\"Sin Registrar\",CONCATENATE($S786,\".\",VLOOKUP($G786,'1_Metas_Resultados'!$D$4:$E$403,2,FALSE)))","v":"Sin Registrar"},785," ",{"$f":"IF(ISERROR(CONCATENATE($S786,\".\",VLOOKUP($K786,'1_Metas_Resultados'!$D$4:$E$403,2,FALSE))),\"Sin Registrar\",CONCATENATE($S786,\".\",VLOOKUP($K786,'1_Metas_Resultados'!$D$4:$E$403,2,FALSE)))","v":"Sin Registrar"},{"$f":"IF(ISERROR(CONCATENATE($S786,\".\",VLOOKUP($L786,'1_Metas_Resultados'!$D$4:$E$403,2,FALSE))),\"Sin Registrar\",CONCATENATE($S786,\".\",VLOOKUP($L786,'1_Metas_Resultados'!$D$4:$E$403,2,FALSE)))","v":"Sin Registrar"},{"$f":"IF(ISERROR(VLOOKUP(G786,'1_Metas_Resultados'!$D$4:$I$403,6,FALSE)),\"\",VLOOKUP(G786,'1_Metas_Resultados'!$D$4:$I$403,6,FALSE))","v":""}]
[{"$f":"IF(ISERROR(CONCATENATE($S787,\".\",VLOOKUP($G787,'1_Metas_Resultados'!$D$4:$E$403,2,FALSE))),\"Sin Registrar\",CONCATENATE($S787,\".\",VLOOKUP($G787,'1_Metas_Resultados'!$D$4:$E$403,2,FALSE)))","v":"Sin Registrar"},786," ",{"$f":"IF(ISERROR(CONCATENATE($S787,\".\",VLOOKUP($K787,'1_Metas_Resultados'!$D$4:$E$403,2,FALSE))),\"Sin Registrar\",CONCATENATE($S787,\".\",VLOOKUP($K787,'1_Metas_Resultados'!$D$4:$E$403,2,FALSE)))","v":"Sin Registrar"},{"$f":"IF(ISERROR(CONCATENATE($S787,\".\",VLOOKUP($L787,'1_Metas_Resultados'!$D$4:$E$403,2,FALSE))),\"Sin Registrar\",CONCATENATE($S787,\".\",VLOOKUP($L787,'1_Metas_Resultados'!$D$4:$E$403,2,FALSE)))","v":"Sin Registrar"},{"$f":"IF(ISERROR(VLOOKUP(G787,'1_Metas_Resultados'!$D$4:$I$403,6,FALSE)),\"\",VLOOKUP(G787,'1_Metas_Resultados'!$D$4:$I$403,6,FALSE))","v":""}]
[{"$f":"IF(ISERROR(CONCATENATE($S788,\".\",VLOOKUP($G788,'1_Metas_Resultados'!$D$4:$E$403,2,FALSE))),\"Sin Registrar\",CONCATENATE($S788,\".\",VLOOKUP($G788,'1_Metas_Resultados'!$D$4:$E$403,2,FALSE)))","v":"Sin Registrar"},787," ",{"$f":"IF(ISERROR(CONCATENATE($S788,\".\",VLOOKUP($K788,'1_Metas_Resultados'!$D$4:$E$403,2,FALSE))),\"Sin Registrar\",CONCATENATE($S788,\".\",VLOOKUP($K788,'1_Metas_Resultados'!$D$4:$E$403,2,FALSE)))","v":"Sin Registrar"},{"$f":"IF(ISERROR(CONCATENATE($S788,\".\",VLOOKUP($L788,'1_Metas_Resultados'!$D$4:$E$403,2,FALSE))),\"Sin Registrar\",CONCATENATE($S788,\".\",VLOOKUP($L788,'1_Metas_Resultados'!$D$4:$E$403,2,FALSE)))","v":"Sin Registrar"},{"$f":"IF(ISERROR(VLOOKUP(G788,'1_Metas_Resultados'!$D$4:$I$403,6,FALSE)),\"\",VLOOKUP(G788,'1_Metas_Resultados'!$D$4:$I$403,6,FALSE))","v":""}]
[{"$f":"IF(ISERROR(CONCATENATE($S789,\".\",VLOOKUP($G789,'1_Metas_Resultados'!$D$4:$E$403,2,FALSE))),\"Sin Registrar\",CONCATENATE($S789,\".\",VLOOKUP($G789,'1_Metas_Resultados'!$D$4:$E$403,2,FALSE)))","v":"Sin Registrar"},788," ",{"$f":"IF(ISERROR(CONCATENATE($S789,\".\",VLOOKUP($K789,'1_Metas_Resultados'!$D$4:$E$403,2,FALSE))),\"Sin Registrar\",CONCATENATE($S789,\".\",VLOOKUP($K789,'1_Metas_Resultados'!$D$4:$E$403,2,FALSE)))","v":"Sin Registrar"},{"$f":"IF(ISERROR(CONCATENATE($S789,\".\",VLOOKUP($L789,'1_Metas_Resultados'!$D$4:$E$403,2,FALSE))),\"Sin Registrar\",CONCATENATE($S789,\".\",VLOOKUP($L789,'1_Metas_Resultados'!$D$4:$E$403,2,FALSE)))","v":"Sin Registrar"},{"$f":"IF(ISERROR(VLOOKUP(G789,'1_Metas_Resultados'!$D$4:$I$403,6,FALSE)),\"\",VLOOKUP(G789,'1_Metas_Resultados'!$D$4:$I$403,6,FALSE))","v":""}]
[{"$f":"IF(ISERROR(CONCATENATE($S790,\".\",VLOOKUP($G790,'1_Metas_Resultados'!$D$4:$E$403,2,FALSE))),\"Sin Registrar\",CONCATENATE($S790,\".\",VLOOKUP($G790,'1_Metas_Resultados'!$D$4:$E$403,2,FALSE)))","v":"Sin Registrar"},789," ",{"$f":"IF(ISERROR(CONCATENATE($S790,\".\",VLOOKUP($K790,'1_Metas_Resultados'!$D$4:$E$403,2,FALSE))),\"Sin Registrar\",CONCATENATE($S790,\".\",VLOOKUP($K790,'1_Metas_Resultados'!$D$4:$E$403,2,FALSE)))","v":"Sin Registrar"},{"$f":"IF(ISERROR(CONCATENATE($S790,\".\",VLOOKUP($L790,'1_Metas_Resultados'!$D$4:$E$403,2,FALSE))),\"Sin Registrar\",CONCATENATE($S790,\".\",VLOOKUP($L790,'1_Metas_Resultados'!$D$4:$E$403,2,FALSE)))","v":"Sin Registrar"},{"$f":"IF(ISERROR(VLOOKUP(G790,'1_Metas_Resultados'!$D$4:$I$403,6,FALSE)),\"\",VLOOKUP(G790,'1_Metas_Resultados'!$D$4:$I$403,6,FALSE))","v":""}]
[{"$f":"IF(ISERROR(CONCATENATE($S791,\".\",VLOOKUP($G791,'1_Metas_Resultados'!$D$4:$E$403,2,FALSE))),\"Sin Registrar\",CONCATENATE($S791,\".\",VLOOKUP($G791,'1_Metas_Resultados'!$D$4:$E$403,2,FALSE)))","v":"Sin Registrar"},790," ",{"$f":"IF(ISERROR(CONCATENATE($S791,\".\",VLOOKUP($K791,'1_Metas_Resultados'!$D$4:$E$403,2,FALSE))),\"Sin Registrar\",CONCATENATE($S791,\".\",VLOOKUP($K791,'1_Metas_Resultados'!$D$4:$E$403,2,FALSE)))","v":"Sin Registrar"},{"$f":"IF(ISERROR(CONCATENATE($S791,\".\",VLOOKUP($L791,'1_Metas_Resultados'!$D$4:$E$403,2,FALSE))),\"Sin Registrar\",CONCATENATE($S791,\".\",VLOOKUP($L791,'1_Metas_Resultados'!$D$4:$E$403,2,FALSE)))","v":"Sin Registrar"},{"$f":"IF(ISERROR(VLOOKUP(G791,'1_Metas_Resultados'!$D$4:$I$403,6,FALSE)),\"\",VLOOKUP(G791,'1_Metas_Resultados'!$D$4:$I$403,6,FALSE))","v":""}]
[{"$f":"IF(ISERROR(CONCATENATE($S792,\".\",VLOOKUP($G792,'1_Metas_Resultados'!$D$4:$E$403,2,FALSE))),\"Sin Registrar\",CONCATENATE($S792,\".\",VLOOKUP($G792,'1_Metas_Resultados'!$D$4:$E$403,2,FALSE)))","v":"Sin Registrar"},791," ",{"$f":"IF(ISERROR(CONCATENATE($S792,\".\",VLOOKUP($K792,'1_Metas_Resultados'!$D$4:$E$403,2,FALSE))),\"Sin Registrar\",CONCATENATE($S792,\".\",VLOOKUP($K792,'1_Metas_Resultados'!$D$4:$E$403,2,FALSE)))","v":"Sin Registrar"},{"$f":"IF(ISERROR(CONCATENATE($S792,\".\",VLOOKUP($L792,'1_Metas_Resultados'!$D$4:$E$403,2,FALSE))),\"Sin Registrar\",CONCATENATE($S792,\".\",VLOOKUP($L792,'1_Metas_Resultados'!$D$4:$E$403,2,FALSE)))","v":"Sin Registrar"},{"$f":"IF(ISERROR(VLOOKUP(G792,'1_Metas_Resultados'!$D$4:$I$403,6,FALSE)),\"\",VLOOKUP(G792,'1_Metas_Resultados'!$D$4:$I$403,6,FALSE))","v":""}]
[{"$f":"IF(ISERROR(CONCATENATE($S793,\".\",VLOOKUP($G793,'1_Metas_Resultados'!$D$4:$E$403,2,FALSE))),\"Sin Registrar\",CONCATENATE($S793,\".\",VLOOKUP($G793,'1_Metas_Resultados'!$D$4:$E$403,2,FALSE)))","v":"Sin Registrar"},792," ",{"$f":"IF(ISERROR(CONCATENATE($S793,\".\",VLOOKUP($K793,'1_Metas_Resultados'!$D$4:$E$403,2,FALSE))),\"Sin Registrar\",CONCATENATE($S793,\".\",VLOOKUP($K793,'1_Metas_Resultados'!$D$4:$E$403,2,FALSE)))","v":"Sin Registrar"},{"$f":"IF(ISERROR(CONCATENATE($S793,\".\",VLOOKUP($L793,'1_Metas_Resultados'!$D$4:$E$403,2,FALSE))),\"Sin Registrar\",CONCATENATE($S793,\".\",VLOOKUP($L793,'1_Metas_Resultados'!$D$4:$E$403,2,FALSE)))","v":"Sin Registrar"},{"$f":"IF(ISERROR(VLOOKUP(G793,'1_Metas_Resultados'!$D$4:$I$403,6,FALSE)),\"\",VLOOKUP(G793,'1_Metas_Resultados'!$D$4:$I$403,6,FALSE))","v":""}]
[{"$f":"IF(ISERROR(CONCATENATE($S794,\".\",VLOOKUP($G794,'1_Metas_Resultados'!$D$4:$E$403,2,FALSE))),\"Sin Registrar\",CONCATENATE($S794,\".\",VLOOKUP($G794,'1_Metas_Resultados'!$D$4:$E$403,2,FALSE)))","v":"Sin Registrar"},793," ",{"$f":"IF(ISERROR(CONCATENATE($S794,\".\",VLOOKUP($K794,'1_Metas_Resultados'!$D$4:$E$403,2,FALSE))),\"Sin Registrar\",CONCATENATE($S794,\".\",VLOOKUP($K794,'1_Metas_Resultados'!$D$4:$E$403,2,FALSE)))","v":"Sin Registrar"},{"$f":"IF(ISERROR(CONCATENATE($S794,\".\",VLOOKUP($L794,'1_Metas_Resultados'!$D$4:$E$403,2,FALSE))),\"Sin Registrar\",CONCATENATE($S794,\".\",VLOOKUP($L794,'1_Metas_Resultados'!$D$4:$E$403,2,FALSE)))","v":"Sin Registrar"},{"$f":"IF(ISERROR(VLOOKUP(G794,'1_Metas_Resultados'!$D$4:$I$403,6,FALSE)),\"\",VLOOKUP(G794,'1_Metas_Resultados'!$D$4:$I$403,6,FALSE))","v":""}]
[{"$f":"IF(ISERROR(CONCATENATE($S795,\".\",VLOOKUP($G795,'1_Metas_Resultados'!$D$4:$E$403,2,FALSE))),\"Sin Registrar\",CONCATENATE($S795,\".\",VLOOKUP($G795,'1_Metas_Resultados'!$D$4:$E$403,2,FALSE)))","v":"Sin Registrar"},794," ",{"$f":"IF(ISERROR(CONCATENATE($S795,\".\",VLOOKUP($K795,'1_Metas_Resultados'!$D$4:$E$403,2,FALSE))),\"Sin Registrar\",CONCATENATE($S795,\".\",VLOOKUP($K795,'1_Metas_Resultados'!$D$4:$E$403,2,FALSE)))","v":"Sin Registrar"},{"$f":"IF(ISERROR(CONCATENATE($S795,\".\",VLOOKUP($L795,'1_Metas_Resultados'!$D$4:$E$403,2,FALSE))),\"Sin Registrar\",CONCATENATE($S795,\".\",VLOOKUP($L795,'1_Metas_Resultados'!$D$4:$E$403,2,FALSE)))","v":"Sin Registrar"},{"$f":"IF(ISERROR(VLOOKUP(G795,'1_Metas_Resultados'!$D$4:$I$403,6,FALSE)),\"\",VLOOKUP(G795,'1_Metas_Resultados'!$D$4:$I$403,6,FALSE))","v":""}]
[{"$f":"IF(ISERROR(CONCATENATE($S796,\".\",VLOOKUP($G796,'1_Metas_Resultados'!$D$4:$E$403,2,FALSE))),\"Sin Registrar\",CONCATENATE($S796,\".\",VLOOKUP($G796,'1_Metas_Resultados'!$D$4:$E$403,2,FALSE)))","v":"Sin Registrar"},795," ",{"$f":"IF(ISERROR(CONCATENATE($S796,\".\",VLOOKUP($K796,'1_Metas_Resultados'!$D$4:$E$403,2,FALSE))),\"Sin Registrar\",CONCATENATE($S796,\".\",VLOOKUP($K796,'1_Metas_Resultados'!$D$4:$E$403,2,FALSE)))","v":"Sin Registrar"},{"$f":"IF(ISERROR(CONCATENATE($S796,\".\",VLOOKUP($L796,'1_Metas_Resultados'!$D$4:$E$403,2,FALSE))),\"Sin Registrar\",CONCATENATE($S796,\".\",VLOOKUP($L796,'1_Metas_Resultados'!$D$4:$E$403,2,FALSE)))","v":"Sin Registrar"},{"$f":"IF(ISERROR(VLOOKUP(G796,'1_Metas_Resultados'!$D$4:$I$403,6,FALSE)),\"\",VLOOKUP(G796,'1_Metas_Resultados'!$D$4:$I$403,6,FALSE))","v":""}]
[{"$f":"IF(ISERROR(CONCATENATE($S797,\".\",VLOOKUP($G797,'1_Metas_Resultados'!$D$4:$E$403,2,FALSE))),\"Sin Registrar\",CONCATENATE($S797,\".\",VLOOKUP($G797,'1_Metas_Resultados'!$D$4:$E$403,2,FALSE)))","v":"Sin Registrar"},796," ",{"$f":"IF(ISERROR(CONCATENATE($S797,\".\",VLOOKUP($K797,'1_Metas_Resultados'!$D$4:$E$403,2,FALSE))),\"Sin Registrar\",CONCATENATE($S797,\".\",VLOOKUP($K797,'1_Metas_Resultados'!$D$4:$E$403,2,FALSE)))","v":"Sin Registrar"},{"$f":"IF(ISERROR(CONCATENATE($S797,\".\",VLOOKUP($L797,'1_Metas_Resultados'!$D$4:$E$403,2,FALSE))),\"Sin Registrar\",CONCATENATE($S797,\".\",VLOOKUP($L797,'1_Metas_Resultados'!$D$4:$E$403,2,FALSE)))","v":"Sin Registrar"},{"$f":"IF(ISERROR(VLOOKUP(G797,'1_Metas_Resultados'!$D$4:$I$403,6,FALSE)),\"\",VLOOKUP(G797,'1_Metas_Resultados'!$D$4:$I$403,6,FALSE))","v":""}]
[{"$f":"IF(ISERROR(CONCATENATE($S798,\".\",VLOOKUP($G798,'1_Metas_Resultados'!$D$4:$E$403,2,FALSE))),\"Sin Registrar\",CONCATENATE($S798,\".\",VLOOKUP($G798,'1_Metas_Resultados'!$D$4:$E$403,2,FALSE)))","v":"Sin Registrar"},797," ",{"$f":"IF(ISERROR(CONCATENATE($S798,\".\",VLOOKUP($K798,'1_Metas_Resultados'!$D$4:$E$403,2,FALSE))),\"Sin Registrar\",CONCATENATE($S798,\".\",VLOOKUP($K798,'1_Metas_Resultados'!$D$4:$E$403,2,FALSE)))","v":"Sin Registrar"},{"$f":"IF(ISERROR(CONCATENATE($S798,\".\",VLOOKUP($L798,'1_Metas_Resultados'!$D$4:$E$403,2,FALSE))),\"Sin Registrar\",CONCATENATE($S798,\".\",VLOOKUP($L798,'1_Metas_Resultados'!$D$4:$E$403,2,FALSE)))","v":"Sin Registrar"},{"$f":"IF(ISERROR(VLOOKUP(G798,'1_Metas_Resultados'!$D$4:$I$403,6,FALSE)),\"\",VLOOKUP(G798,'1_Metas_Resultados'!$D$4:$I$403,6,FALSE))","v":""}]
[{"$f":"IF(ISERROR(CONCATENATE($S799,\".\",VLOOKUP($G799,'1_Metas_Resultados'!$D$4:$E$403,2,FALSE))),\"Sin Registrar\",CONCATENATE($S799,\".\",VLOOKUP($G799,'1_Metas_Resultados'!$D$4:$E$403,2,FALSE)))","v":"Sin Registrar"},798," ",{"$f":"IF(ISERROR(CONCATENATE($S799,\".\",VLOOKUP($K799,'1_Metas_Resultados'!$D$4:$E$403,2,FALSE))),\"Sin Registrar\",CONCATENATE($S799,\".\",VLOOKUP($K799,'1_Metas_Resultados'!$D$4:$E$403,2,FALSE)))","v":"Sin Registrar"},{"$f":"IF(ISERROR(CONCATENATE($S799,\".\",VLOOKUP($L799,'1_Metas_Resultados'!$D$4:$E$403,2,FALSE))),\"Sin Registrar\",CONCATENATE($S799,\".\",VLOOKUP($L799,'1_Metas_Resultados'!$D$4:$E$403,2,FALSE)))","v":"Sin Registrar"},{"$f":"IF(ISERROR(VLOOKUP(G799,'1_Metas_Resultados'!$D$4:$I$403,6,FALSE)),\"\",VLOOKUP(G799,'1_Metas_Resultados'!$D$4:$I$403,6,FALSE))","v":""}]
[{"$f":"IF(ISERROR(CONCATENATE($S800,\".\",VLOOKUP($G800,'1_Metas_Resultados'!$D$4:$E$403,2,FALSE))),\"Sin Registrar\",CONCATENATE($S800,\".\",VLOOKUP($G800,'1_Metas_Resultados'!$D$4:$E$403,2,FALSE)))","v":"Sin Registrar"},799," ",{"$f":"IF(ISERROR(CONCATENATE($S800,\".\",VLOOKUP($K800,'1_Metas_Resultados'!$D$4:$E$403,2,FALSE))),\"Sin Registrar\",CONCATENATE($S800,\".\",VLOOKUP($K800,'1_Metas_Resultados'!$D$4:$E$403,2,FALSE)))","v":"Sin Registrar"},{"$f":"IF(ISERROR(CONCATENATE($S800,\".\",VLOOKUP($L800,'1_Metas_Resultados'!$D$4:$E$403,2,FALSE))),\"Sin Registrar\",CONCATENATE($S800,\".\",VLOOKUP($L800,'1_Metas_Resultados'!$D$4:$E$403,2,FALSE)))","v":"Sin Registrar"},{"$f":"IF(ISERROR(VLOOKUP(G800,'1_Metas_Resultados'!$D$4:$I$403,6,FALSE)),\"\",VLOOKUP(G800,'1_Metas_Resultados'!$D$4:$I$403,6,FALSE))","v":""}]
[{"$f":"IF(ISERROR(CONCATENATE($S801,\".\",VLOOKUP($G801,'1_Metas_Resultados'!$D$4:$E$403,2,FALSE))),\"Sin Registrar\",CONCATENATE($S801,\".\",VLOOKUP($G801,'1_Metas_Resultados'!$D$4:$E$403,2,FALSE)))","v":"Sin Registrar"},800," ",{"$f":"IF(ISERROR(CONCATENATE($S801,\".\",VLOOKUP($K801,'1_Metas_Resultados'!$D$4:$E$403,2,FALSE))),\"Sin Registrar\",CONCATENATE($S801,\".\",VLOOKUP($K801,'1_Metas_Resultados'!$D$4:$E$403,2,FALSE)))","v":"Sin Registrar"},{"$f":"IF(ISERROR(CONCATENATE($S801,\".\",VLOOKUP($L801,'1_Metas_Resultados'!$D$4:$E$403,2,FALSE))),\"Sin Registrar\",CONCATENATE($S801,\".\",VLOOKUP($L801,'1_Metas_Resultados'!$D$4:$E$403,2,FALSE)))","v":"Sin Registrar"},{"$f":"IF(ISERROR(VLOOKUP(G801,'1_Metas_Resultados'!$D$4:$I$403,6,FALSE)),\"\",VLOOKUP(G801,'1_Metas_Resultados'!$D$4:$I$403,6,FALSE))","v":""}]
[{"$f":"IF(ISERROR(CONCATENATE($S802,\".\",VLOOKUP($G802,'1_Metas_Resultados'!$D$4:$E$403,2,FALSE))),\"Sin Registrar\",CONCATENATE($S802,\".\",VLOOKUP($G802,'1_Metas_Resultados'!$D$4:$E$403,2,FALSE)))","v":"Sin Registrar"},801," ",{"$f":"IF(ISERROR(CONCATENATE($S802,\".\",VLOOKUP($K802,'1_Metas_Resultados'!$D$4:$E$403,2,FALSE))),\"Sin Registrar\",CONCATENATE($S802,\".\",VLOOKUP($K802,'1_Metas_Resultados'!$D$4:$E$403,2,FALSE)))","v":"Sin Registrar"},{"$f":"IF(ISERROR(CONCATENATE($S802,\".\",VLOOKUP($L802,'1_Metas_Resultados'!$D$4:$E$403,2,FALSE))),\"Sin Registrar\",CONCATENATE($S802,\".\",VLOOKUP($L802,'1_Metas_Resultados'!$D$4:$E$403,2,FALSE)))","v":"Sin Registrar"},{"$f":"IF(ISERROR(VLOOKUP(G802,'1_Metas_Resultados'!$D$4:$I$403,6,FALSE)),\"\",VLOOKUP(G802,'1_Metas_Resultados'!$D$4:$I$403,6,FALSE))","v":""}]
[{"$f":"IF(ISERROR(CONCATENATE($S803,\".\",VLOOKUP($G803,'1_Metas_Resultados'!$D$4:$E$403,2,FALSE))),\"Sin Registrar\",CONCATENATE($S803,\".\",VLOOKUP($G803,'1_Metas_Resultados'!$D$4:$E$403,2,FALSE)))","v":"Sin Registrar"},802," ",{"$f":"IF(ISERROR(CONCATENATE($S803,\".\",VLOOKUP($K803,'1_Metas_Resultados'!$D$4:$E$403,2,FALSE))),\"Sin Registrar\",CONCATENATE($S803,\".\",VLOOKUP($K803,'1_Metas_Resultados'!$D$4:$E$403,2,FALSE)))","v":"Sin Registrar"},{"$f":"IF(ISERROR(CONCATENATE($S803,\".\",VLOOKUP($L803,'1_Metas_Resultados'!$D$4:$E$403,2,FALSE))),\"Sin Registrar\",CONCATENATE($S803,\".\",VLOOKUP($L803,'1_Metas_Resultados'!$D$4:$E$403,2,FALSE)))","v":"Sin Registrar"},{"$f":"IF(ISERROR(VLOOKUP(G803,'1_Metas_Resultados'!$D$4:$I$403,6,FALSE)),\"\",VLOOKUP(G803,'1_Metas_Resultados'!$D$4:$I$403,6,FALSE))","v":""}]
[{"$f":"IF(ISERROR(CONCATENATE($S804,\".\",VLOOKUP($G804,'1_Metas_Resultados'!$D$4:$E$403,2,FALSE))),\"Sin Registrar\",CONCATENATE($S804,\".\",VLOOKUP($G804,'1_Metas_Resultados'!$D$4:$E$403,2,FALSE)))","v":"Sin Registrar"},803," ",{"$f":"IF(ISERROR(CONCATENATE($S804,\".\",VLOOKUP($K804,'1_Metas_Resultados'!$D$4:$E$403,2,FALSE))),\"Sin Registrar\",CONCATENATE($S804,\".\",VLOOKUP($K804,'1_Metas_Resultados'!$D$4:$E$403,2,FALSE)))","v":"Sin Registrar"},{"$f":"IF(ISERROR(CONCATENATE($S804,\".\",VLOOKUP($L804,'1_Metas_Resultados'!$D$4:$E$403,2,FALSE))),\"Sin Registrar\",CONCATENATE($S804,\".\",VLOOKUP($L804,'1_Metas_Resultados'!$D$4:$E$403,2,FALSE)))","v":"Sin Registrar"},{"$f":"IF(ISERROR(VLOOKUP(G804,'1_Metas_Resultados'!$D$4:$I$403,6,FALSE)),\"\",VLOOKUP(G804,'1_Metas_Resultados'!$D$4:$I$403,6,FALSE))","v":""}]
[{"$f":"IF(ISERROR(CONCATENATE($S805,\".\",VLOOKUP($G805,'1_Metas_Resultados'!$D$4:$E$403,2,FALSE))),\"Sin Registrar\",CONCATENATE($S805,\".\",VLOOKUP($G805,'1_Metas_Resultados'!$D$4:$E$403,2,FALSE)))","v":"Sin Registrar"},804," ",{"$f":"IF(ISERROR(CONCATENATE($S805,\".\",VLOOKUP($K805,'1_Metas_Resultados'!$D$4:$E$403,2,FALSE))),\"Sin Registrar\",CONCATENATE($S805,\".\",VLOOKUP($K805,'1_Metas_Resultados'!$D$4:$E$403,2,FALSE)))","v":"Sin Registrar"},{"$f":"IF(ISERROR(CONCATENATE($S805,\".\",VLOOKUP($L805,'1_Metas_Resultados'!$D$4:$E$403,2,FALSE))),\"Sin Registrar\",CONCATENATE($S805,\".\",VLOOKUP($L805,'1_Metas_Resultados'!$D$4:$E$403,2,FALSE)))","v":"Sin Registrar"},{"$f":"IF(ISERROR(VLOOKUP(G805,'1_Metas_Resultados'!$D$4:$I$403,6,FALSE)),\"\",VLOOKUP(G805,'1_Metas_Resultados'!$D$4:$I$403,6,FALSE))","v":""}]
[{"$f":"IF(ISERROR(CONCATENATE($S806,\".\",VLOOKUP($G806,'1_Metas_Resultados'!$D$4:$E$403,2,FALSE))),\"Sin Registrar\",CONCATENATE($S806,\".\",VLOOKUP($G806,'1_Metas_Resultados'!$D$4:$E$403,2,FALSE)))","v":"Sin Registrar"},805," ",{"$f":"IF(ISERROR(CONCATENATE($S806,\".\",VLOOKUP($K806,'1_Metas_Resultados'!$D$4:$E$403,2,FALSE))),\"Sin Registrar\",CONCATENATE($S806,\".\",VLOOKUP($K806,'1_Metas_Resultados'!$D$4:$E$403,2,FALSE)))","v":"Sin Registrar"},{"$f":"IF(ISERROR(CONCATENATE($S806,\".\",VLOOKUP($L806,'1_Metas_Resultados'!$D$4:$E$403,2,FALSE))),\"Sin Registrar\",CONCATENATE($S806,\".\",VLOOKUP($L806,'1_Metas_Resultados'!$D$4:$E$403,2,FALSE)))","v":"Sin Registrar"},{"$f":"IF(ISERROR(VLOOKUP(G806,'1_Metas_Resultados'!$D$4:$I$403,6,FALSE)),\"\",VLOOKUP(G806,'1_Metas_Resultados'!$D$4:$I$403,6,FALSE))","v":""}]
[{"$f":"IF(ISERROR(CONCATENATE($S807,\".\",VLOOKUP($G807,'1_Metas_Resultados'!$D$4:$E$403,2,FALSE))),\"Sin Registrar\",CONCATENATE($S807,\".\",VLOOKUP($G807,'1_Metas_Resultados'!$D$4:$E$403,2,FALSE)))","v":"Sin Registrar"},806," ",{"$f":"IF(ISERROR(CONCATENATE($S807,\".\",VLOOKUP($K807,'1_Metas_Resultados'!$D$4:$E$403,2,FALSE))),\"Sin Registrar\",CONCATENATE($S807,\".\",VLOOKUP($K807,'1_Metas_Resultados'!$D$4:$E$403,2,FALSE)))","v":"Sin Registrar"},{"$f":"IF(ISERROR(CONCATENATE($S807,\".\",VLOOKUP($L807,'1_Metas_Resultados'!$D$4:$E$403,2,FALSE))),\"Sin Registrar\",CONCATENATE($S807,\".\",VLOOKUP($L807,'1_Metas_Resultados'!$D$4:$E$403,2,FALSE)))","v":"Sin Registrar"},{"$f":"IF(ISERROR(VLOOKUP(G807,'1_Metas_Resultados'!$D$4:$I$403,6,FALSE)),\"\",VLOOKUP(G807,'1_Metas_Resultados'!$D$4:$I$403,6,FALSE))","v":""}]
[{"$f":"IF(ISERROR(CONCATENATE($S808,\".\",VLOOKUP($G808,'1_Metas_Resultados'!$D$4:$E$403,2,FALSE))),\"Sin Registrar\",CONCATENATE($S808,\".\",VLOOKUP($G808,'1_Metas_Resultados'!$D$4:$E$403,2,FALSE)))","v":"Sin Registrar"},807," ",{"$f":"IF(ISERROR(CONCATENATE($S808,\".\",VLOOKUP($K808,'1_Metas_Resultados'!$D$4:$E$403,2,FALSE))),\"Sin Registrar\",CONCATENATE($S808,\".\",VLOOKUP($K808,'1_Metas_Resultados'!$D$4:$E$403,2,FALSE)))","v":"Sin Registrar"},{"$f":"IF(ISERROR(CONCATENATE($S808,\".\",VLOOKUP($L808,'1_Metas_Resultados'!$D$4:$E$403,2,FALSE))),\"Sin Registrar\",CONCATENATE($S808,\".\",VLOOKUP($L808,'1_Metas_Resultados'!$D$4:$E$403,2,FALSE)))","v":"Sin Registrar"},{"$f":"IF(ISERROR(VLOOKUP(G808,'1_Metas_Resultados'!$D$4:$I$403,6,FALSE)),\"\",VLOOKUP(G808,'1_Metas_Resultados'!$D$4:$I$403,6,FALSE))","v":""}]
[{"$f":"IF(ISERROR(CONCATENATE($S809,\".\",VLOOKUP($G809,'1_Metas_Resultados'!$D$4:$E$403,2,FALSE))),\"Sin Registrar\",CONCATENATE($S809,\".\",VLOOKUP($G809,'1_Metas_Resultados'!$D$4:$E$403,2,FALSE)))","v":"Sin Registrar"},808," ",{"$f":"IF(ISERROR(CONCATENATE($S809,\".\",VLOOKUP($K809,'1_Metas_Resultados'!$D$4:$E$403,2,FALSE))),\"Sin Registrar\",CONCATENATE($S809,\".\",VLOOKUP($K809,'1_Metas_Resultados'!$D$4:$E$403,2,FALSE)))","v":"Sin Registrar"},{"$f":"IF(ISERROR(CONCATENATE($S809,\".\",VLOOKUP($L809,'1_Metas_Resultados'!$D$4:$E$403,2,FALSE))),\"Sin Registrar\",CONCATENATE($S809,\".\",VLOOKUP($L809,'1_Metas_Resultados'!$D$4:$E$403,2,FALSE)))","v":"Sin Registrar"},{"$f":"IF(ISERROR(VLOOKUP(G809,'1_Metas_Resultados'!$D$4:$I$403,6,FALSE)),\"\",VLOOKUP(G809,'1_Metas_Resultados'!$D$4:$I$403,6,FALSE))","v":""}]
[{"$f":"IF(ISERROR(CONCATENATE($S810,\".\",VLOOKUP($G810,'1_Metas_Resultados'!$D$4:$E$403,2,FALSE))),\"Sin Registrar\",CONCATENATE($S810,\".\",VLOOKUP($G810,'1_Metas_Resultados'!$D$4:$E$403,2,FALSE)))","v":"Sin Registrar"},809," ",{"$f":"IF(ISERROR(CONCATENATE($S810,\".\",VLOOKUP($K810,'1_Metas_Resultados'!$D$4:$E$403,2,FALSE))),\"Sin Registrar\",CONCATENATE($S810,\".\",VLOOKUP($K810,'1_Metas_Resultados'!$D$4:$E$403,2,FALSE)))","v":"Sin Registrar"},{"$f":"IF(ISERROR(CONCATENATE($S810,\".\",VLOOKUP($L810,'1_Metas_Resultados'!$D$4:$E$403,2,FALSE))),\"Sin Registrar\",CONCATENATE($S810,\".\",VLOOKUP($L810,'1_Metas_Resultados'!$D$4:$E$403,2,FALSE)))","v":"Sin Registrar"},{"$f":"IF(ISERROR(VLOOKUP(G810,'1_Metas_Resultados'!$D$4:$I$403,6,FALSE)),\"\",VLOOKUP(G810,'1_Metas_Resultados'!$D$4:$I$403,6,FALSE))","v":""}]
[{"$f":"IF(ISERROR(CONCATENATE($S811,\".\",VLOOKUP($G811,'1_Metas_Resultados'!$D$4:$E$403,2,FALSE))),\"Sin Registrar\",CONCATENATE($S811,\".\",VLOOKUP($G811,'1_Metas_Resultados'!$D$4:$E$403,2,FALSE)))","v":"Sin Registrar"},810," ",{"$f":"IF(ISERROR(CONCATENATE($S811,\".\",VLOOKUP($K811,'1_Metas_Resultados'!$D$4:$E$403,2,FALSE))),\"Sin Registrar\",CONCATENATE($S811,\".\",VLOOKUP($K811,'1_Metas_Resultados'!$D$4:$E$403,2,FALSE)))","v":"Sin Registrar"},{"$f":"IF(ISERROR(CONCATENATE($S811,\".\",VLOOKUP($L811,'1_Metas_Resultados'!$D$4:$E$403,2,FALSE))),\"Sin Registrar\",CONCATENATE($S811,\".\",VLOOKUP($L811,'1_Metas_Resultados'!$D$4:$E$403,2,FALSE)))","v":"Sin Registrar"},{"$f":"IF(ISERROR(VLOOKUP(G811,'1_Metas_Resultados'!$D$4:$I$403,6,FALSE)),\"\",VLOOKUP(G811,'1_Metas_Resultados'!$D$4:$I$403,6,FALSE))","v":""}]
[{"$f":"IF(ISERROR(CONCATENATE($S812,\".\",VLOOKUP($G812,'1_Metas_Resultados'!$D$4:$E$403,2,FALSE))),\"Sin Registrar\",CONCATENATE($S812,\".\",VLOOKUP($G812,'1_Metas_Resultados'!$D$4:$E$403,2,FALSE)))","v":"Sin Registrar"},811," ",{"$f":"IF(ISERROR(CONCATENATE($S812,\".\",VLOOKUP($K812,'1_Metas_Resultados'!$D$4:$E$403,2,FALSE))),\"Sin Registrar\",CONCATENATE($S812,\".\",VLOOKUP($K812,'1_Metas_Resultados'!$D$4:$E$403,2,FALSE)))","v":"Sin Registrar"},{"$f":"IF(ISERROR(CONCATENATE($S812,\".\",VLOOKUP($L812,'1_Metas_Resultados'!$D$4:$E$403,2,FALSE))),\"Sin Registrar\",CONCATENATE($S812,\".\",VLOOKUP($L812,'1_Metas_Resultados'!$D$4:$E$403,2,FALSE)))","v":"Sin Registrar"},{"$f":"IF(ISERROR(VLOOKUP(G812,'1_Metas_Resultados'!$D$4:$I$403,6,FALSE)),\"\",VLOOKUP(G812,'1_Metas_Resultados'!$D$4:$I$403,6,FALSE))","v":""}]
[{"$f":"IF(ISERROR(CONCATENATE($S813,\".\",VLOOKUP($G813,'1_Metas_Resultados'!$D$4:$E$403,2,FALSE))),\"Sin Registrar\",CONCATENATE($S813,\".\",VLOOKUP($G813,'1_Metas_Resultados'!$D$4:$E$403,2,FALSE)))","v":"Sin Registrar"},812," ",{"$f":"IF(ISERROR(CONCATENATE($S813,\".\",VLOOKUP($K813,'1_Metas_Resultados'!$D$4:$E$403,2,FALSE))),\"Sin Registrar\",CONCATENATE($S813,\".\",VLOOKUP($K813,'1_Metas_Resultados'!$D$4:$E$403,2,FALSE)))","v":"Sin Registrar"},{"$f":"IF(ISERROR(CONCATENATE($S813,\".\",VLOOKUP($L813,'1_Metas_Resultados'!$D$4:$E$403,2,FALSE))),\"Sin Registrar\",CONCATENATE($S813,\".\",VLOOKUP($L813,'1_Metas_Resultados'!$D$4:$E$403,2,FALSE)))","v":"Sin Registrar"},{"$f":"IF(ISERROR(VLOOKUP(G813,'1_Metas_Resultados'!$D$4:$I$403,6,FALSE)),\"\",VLOOKUP(G813,'1_Metas_Resultados'!$D$4:$I$403,6,FALSE))","v":""}]
[{"$f":"IF(ISERROR(CONCATENATE($S814,\".\",VLOOKUP($G814,'1_Metas_Resultados'!$D$4:$E$403,2,FALSE))),\"Sin Registrar\",CONCATENATE($S814,\".\",VLOOKUP($G814,'1_Metas_Resultados'!$D$4:$E$403,2,FALSE)))","v":"Sin Registrar"},813," ",{"$f":"IF(ISERROR(CONCATENATE($S814,\".\",VLOOKUP($K814,'1_Metas_Resultados'!$D$4:$E$403,2,FALSE))),\"Sin Registrar\",CONCATENATE($S814,\".\",VLOOKUP($K814,'1_Metas_Resultados'!$D$4:$E$403,2,FALSE)))","v":"Sin Registrar"},{"$f":"IF(ISERROR(CONCATENATE($S814,\".\",VLOOKUP($L814,'1_Metas_Resultados'!$D$4:$E$403,2,FALSE))),\"Sin Registrar\",CONCATENATE($S814,\".\",VLOOKUP($L814,'1_Metas_Resultados'!$D$4:$E$403,2,FALSE)))","v":"Sin Registrar"},{"$f":"IF(ISERROR(VLOOKUP(G814,'1_Metas_Resultados'!$D$4:$I$403,6,FALSE)),\"\",VLOOKUP(G814,'1_Metas_Resultados'!$D$4:$I$403,6,FALSE))","v":""}]
[{"$f":"IF(ISERROR(CONCATENATE($S815,\".\",VLOOKUP($G815,'1_Metas_Resultados'!$D$4:$E$403,2,FALSE))),\"Sin Registrar\",CONCATENATE($S815,\".\",VLOOKUP($G815,'1_Metas_Resultados'!$D$4:$E$403,2,FALSE)))","v":"Sin Registrar"},814," ",{"$f":"IF(ISERROR(CONCATENATE($S815,\".\",VLOOKUP($K815,'1_Metas_Resultados'!$D$4:$E$403,2,FALSE))),\"Sin Registrar\",CONCATENATE($S815,\".\",VLOOKUP($K815,'1_Metas_Resultados'!$D$4:$E$403,2,FALSE)))","v":"Sin Registrar"},{"$f":"IF(ISERROR(CONCATENATE($S815,\".\",VLOOKUP($L815,'1_Metas_Resultados'!$D$4:$E$403,2,FALSE))),\"Sin Registrar\",CONCATENATE($S815,\".\",VLOOKUP($L815,'1_Metas_Resultados'!$D$4:$E$403,2,FALSE)))","v":"Sin Registrar"},{"$f":"IF(ISERROR(VLOOKUP(G815,'1_Metas_Resultados'!$D$4:$I$403,6,FALSE)),\"\",VLOOKUP(G815,'1_Metas_Resultados'!$D$4:$I$403,6,FALSE))","v":""}]
[{"$f":"IF(ISERROR(CONCATENATE($S816,\".\",VLOOKUP($G816,'1_Metas_Resultados'!$D$4:$E$403,2,FALSE))),\"Sin Registrar\",CONCATENATE($S816,\".\",VLOOKUP($G816,'1_Metas_Resultados'!$D$4:$E$403,2,FALSE)))","v":"Sin Registrar"},815," ",{"$f":"IF(ISERROR(CONCATENATE($S816,\".\",VLOOKUP($K816,'1_Metas_Resultados'!$D$4:$E$403,2,FALSE))),\"Sin Registrar\",CONCATENATE($S816,\".\",VLOOKUP($K816,'1_Metas_Resultados'!$D$4:$E$403,2,FALSE)))","v":"Sin Registrar"},{"$f":"IF(ISERROR(CONCATENATE($S816,\".\",VLOOKUP($L816,'1_Metas_Resultados'!$D$4:$E$403,2,FALSE))),\"Sin Registrar\",CONCATENATE($S816,\".\",VLOOKUP($L816,'1_Metas_Resultados'!$D$4:$E$403,2,FALSE)))","v":"Sin Registrar"},{"$f":"IF(ISERROR(VLOOKUP(G816,'1_Metas_Resultados'!$D$4:$I$403,6,FALSE)),\"\",VLOOKUP(G816,'1_Metas_Resultados'!$D$4:$I$403,6,FALSE))","v":""}]
[{"$f":"IF(ISERROR(CONCATENATE($S817,\".\",VLOOKUP($G817,'1_Metas_Resultados'!$D$4:$E$403,2,FALSE))),\"Sin Registrar\",CONCATENATE($S817,\".\",VLOOKUP($G817,'1_Metas_Resultados'!$D$4:$E$403,2,FALSE)))","v":"Sin Registrar"},816," ",{"$f":"IF(ISERROR(CONCATENATE($S817,\".\",VLOOKUP($K817,'1_Metas_Resultados'!$D$4:$E$403,2,FALSE))),\"Sin Registrar\",CONCATENATE($S817,\".\",VLOOKUP($K817,'1_Metas_Resultados'!$D$4:$E$403,2,FALSE)))","v":"Sin Registrar"},{"$f":"IF(ISERROR(CONCATENATE($S817,\".\",VLOOKUP($L817,'1_Metas_Resultados'!$D$4:$E$403,2,FALSE))),\"Sin Registrar\",CONCATENATE($S817,\".\",VLOOKUP($L817,'1_Metas_Resultados'!$D$4:$E$403,2,FALSE)))","v":"Sin Registrar"},{"$f":"IF(ISERROR(VLOOKUP(G817,'1_Metas_Resultados'!$D$4:$I$403,6,FALSE)),\"\",VLOOKUP(G817,'1_Metas_Resultados'!$D$4:$I$403,6,FALSE))","v":""}]
[{"$f":"IF(ISERROR(CONCATENATE($S818,\".\",VLOOKUP($G818,'1_Metas_Resultados'!$D$4:$E$403,2,FALSE))),\"Sin Registrar\",CONCATENATE($S818,\".\",VLOOKUP($G818,'1_Metas_Resultados'!$D$4:$E$403,2,FALSE)))","v":"Sin Registrar"},817," ",{"$f":"IF(ISERROR(CONCATENATE($S818,\".\",VLOOKUP($K818,'1_Metas_Resultados'!$D$4:$E$403,2,FALSE))),\"Sin Registrar\",CONCATENATE($S818,\".\",VLOOKUP($K818,'1_Metas_Resultados'!$D$4:$E$403,2,FALSE)))","v":"Sin Registrar"},{"$f":"IF(ISERROR(CONCATENATE($S818,\".\",VLOOKUP($L818,'1_Metas_Resultados'!$D$4:$E$403,2,FALSE))),\"Sin Registrar\",CONCATENATE($S818,\".\",VLOOKUP($L818,'1_Metas_Resultados'!$D$4:$E$403,2,FALSE)))","v":"Sin Registrar"},{"$f":"IF(ISERROR(VLOOKUP(G818,'1_Metas_Resultados'!$D$4:$I$403,6,FALSE)),\"\",VLOOKUP(G818,'1_Metas_Resultados'!$D$4:$I$403,6,FALSE))","v":""}]
[{"$f":"IF(ISERROR(CONCATENATE($S819,\".\",VLOOKUP($G819,'1_Metas_Resultados'!$D$4:$E$403,2,FALSE))),\"Sin Registrar\",CONCATENATE($S819,\".\",VLOOKUP($G819,'1_Metas_Resultados'!$D$4:$E$403,2,FALSE)))","v":"Sin Registrar"},818," ",{"$f":"IF(ISERROR(CONCATENATE($S819,\".\",VLOOKUP($K819,'1_Metas_Resultados'!$D$4:$E$403,2,FALSE))),\"Sin Registrar\",CONCATENATE($S819,\".\",VLOOKUP($K819,'1_Metas_Resultados'!$D$4:$E$403,2,FALSE)))","v":"Sin Registrar"},{"$f":"IF(ISERROR(CONCATENATE($S819,\".\",VLOOKUP($L819,'1_Metas_Resultados'!$D$4:$E$403,2,FALSE))),\"Sin Registrar\",CONCATENATE($S819,\".\",VLOOKUP($L819,'1_Metas_Resultados'!$D$4:$E$403,2,FALSE)))","v":"Sin Registrar"},{"$f":"IF(ISERROR(VLOOKUP(G819,'1_Metas_Resultados'!$D$4:$I$403,6,FALSE)),\"\",VLOOKUP(G819,'1_Metas_Resultados'!$D$4:$I$403,6,FALSE))","v":""}]
[{"$f":"IF(ISERROR(CONCATENATE($S820,\".\",VLOOKUP($G820,'1_Metas_Resultados'!$D$4:$E$403,2,FALSE))),\"Sin Registrar\",CONCATENATE($S820,\".\",VLOOKUP($G820,'1_Metas_Resultados'!$D$4:$E$403,2,FALSE)))","v":"Sin Registrar"},819," ",{"$f":"IF(ISERROR(CONCATENATE($S820,\".\",VLOOKUP($K820,'1_Metas_Resultados'!$D$4:$E$403,2,FALSE))),\"Sin Registrar\",CONCATENATE($S820,\".\",VLOOKUP($K820,'1_Metas_Resultados'!$D$4:$E$403,2,FALSE)))","v":"Sin Registrar"},{"$f":"IF(ISERROR(CONCATENATE($S820,\".\",VLOOKUP($L820,'1_Metas_Resultados'!$D$4:$E$403,2,FALSE))),\"Sin Registrar\",CONCATENATE($S820,\".\",VLOOKUP($L820,'1_Metas_Resultados'!$D$4:$E$403,2,FALSE)))","v":"Sin Registrar"},{"$f":"IF(ISERROR(VLOOKUP(G820,'1_Metas_Resultados'!$D$4:$I$403,6,FALSE)),\"\",VLOOKUP(G820,'1_Metas_Resultados'!$D$4:$I$403,6,FALSE))","v":""}]
[{"$f":"IF(ISERROR(CONCATENATE($S821,\".\",VLOOKUP($G821,'1_Metas_Resultados'!$D$4:$E$403,2,FALSE))),\"Sin Registrar\",CONCATENATE($S821,\".\",VLOOKUP($G821,'1_Metas_Resultados'!$D$4:$E$403,2,FALSE)))","v":"Sin Registrar"},820," ",{"$f":"IF(ISERROR(CONCATENATE($S821,\".\",VLOOKUP($K821,'1_Metas_Resultados'!$D$4:$E$403,2,FALSE))),\"Sin Registrar\",CONCATENATE($S821,\".\",VLOOKUP($K821,'1_Metas_Resultados'!$D$4:$E$403,2,FALSE)))","v":"Sin Registrar"},{"$f":"IF(ISERROR(CONCATENATE($S821,\".\",VLOOKUP($L821,'1_Metas_Resultados'!$D$4:$E$403,2,FALSE))),\"Sin Registrar\",CONCATENATE($S821,\".\",VLOOKUP($L821,'1_Metas_Resultados'!$D$4:$E$403,2,FALSE)))","v":"Sin Registrar"},{"$f":"IF(ISERROR(VLOOKUP(G821,'1_Metas_Resultados'!$D$4:$I$403,6,FALSE)),\"\",VLOOKUP(G821,'1_Metas_Resultados'!$D$4:$I$403,6,FALSE))","v":""}]
[{"$f":"IF(ISERROR(CONCATENATE($S822,\".\",VLOOKUP($G822,'1_Metas_Resultados'!$D$4:$E$403,2,FALSE))),\"Sin Registrar\",CONCATENATE($S822,\".\",VLOOKUP($G822,'1_Metas_Resultados'!$D$4:$E$403,2,FALSE)))","v":"Sin Registrar"},821," ",{"$f":"IF(ISERROR(CONCATENATE($S822,\".\",VLOOKUP($K822,'1_Metas_Resultados'!$D$4:$E$403,2,FALSE))),\"Sin Registrar\",CONCATENATE($S822,\".\",VLOOKUP($K822,'1_Metas_Resultados'!$D$4:$E$403,2,FALSE)))","v":"Sin Registrar"},{"$f":"IF(ISERROR(CONCATENATE($S822,\".\",VLOOKUP($L822,'1_Metas_Resultados'!$D$4:$E$403,2,FALSE))),\"Sin Registrar\",CONCATENATE($S822,\".\",VLOOKUP($L822,'1_Metas_Resultados'!$D$4:$E$403,2,FALSE)))","v":"Sin Registrar"},{"$f":"IF(ISERROR(VLOOKUP(G822,'1_Metas_Resultados'!$D$4:$I$403,6,FALSE)),\"\",VLOOKUP(G822,'1_Metas_Resultados'!$D$4:$I$403,6,FALSE))","v":""}]
[{"$f":"IF(ISERROR(CONCATENATE($S823,\".\",VLOOKUP($G823,'1_Metas_Resultados'!$D$4:$E$403,2,FALSE))),\"Sin Registrar\",CONCATENATE($S823,\".\",VLOOKUP($G823,'1_Metas_Resultados'!$D$4:$E$403,2,FALSE)))","v":"Sin Registrar"},822," ",{"$f":"IF(ISERROR(CONCATENATE($S823,\".\",VLOOKUP($K823,'1_Metas_Resultados'!$D$4:$E$403,2,FALSE))),\"Sin Registrar\",CONCATENATE($S823,\".\",VLOOKUP($K823,'1_Metas_Resultados'!$D$4:$E$403,2,FALSE)))","v":"Sin Registrar"},{"$f":"IF(ISERROR(CONCATENATE($S823,\".\",VLOOKUP($L823,'1_Metas_Resultados'!$D$4:$E$403,2,FALSE))),\"Sin Registrar\",CONCATENATE($S823,\".\",VLOOKUP($L823,'1_Metas_Resultados'!$D$4:$E$403,2,FALSE)))","v":"Sin Registrar"},{"$f":"IF(ISERROR(VLOOKUP(G823,'1_Metas_Resultados'!$D$4:$I$403,6,FALSE)),\"\",VLOOKUP(G823,'1_Metas_Resultados'!$D$4:$I$403,6,FALSE))","v":""}]
[{"$f":"IF(ISERROR(CONCATENATE($S824,\".\",VLOOKUP($G824,'1_Metas_Resultados'!$D$4:$E$403,2,FALSE))),\"Sin Registrar\",CONCATENATE($S824,\".\",VLOOKUP($G824,'1_Metas_Resultados'!$D$4:$E$403,2,FALSE)))","v":"Sin Registrar"},823," ",{"$f":"IF(ISERROR(CONCATENATE($S824,\".\",VLOOKUP($K824,'1_Metas_Resultados'!$D$4:$E$403,2,FALSE))),\"Sin Registrar\",CONCATENATE($S824,\".\",VLOOKUP($K824,'1_Metas_Resultados'!$D$4:$E$403,2,FALSE)))","v":"Sin Registrar"},{"$f":"IF(ISERROR(CONCATENATE($S824,\".\",VLOOKUP($L824,'1_Metas_Resultados'!$D$4:$E$403,2,FALSE))),\"Sin Registrar\",CONCATENATE($S824,\".\",VLOOKUP($L824,'1_Metas_Resultados'!$D$4:$E$403,2,FALSE)))","v":"Sin Registrar"},{"$f":"IF(ISERROR(VLOOKUP(G824,'1_Metas_Resultados'!$D$4:$I$403,6,FALSE)),\"\",VLOOKUP(G824,'1_Metas_Resultados'!$D$4:$I$403,6,FALSE))","v":""}]
[{"$f":"IF(ISERROR(CONCATENATE($S825,\".\",VLOOKUP($G825,'1_Metas_Resultados'!$D$4:$E$403,2,FALSE))),\"Sin Registrar\",CONCATENATE($S825,\".\",VLOOKUP($G825,'1_Metas_Resultados'!$D$4:$E$403,2,FALSE)))","v":"Sin Registrar"},824," ",{"$f":"IF(ISERROR(CONCATENATE($S825,\".\",VLOOKUP($K825,'1_Metas_Resultados'!$D$4:$E$403,2,FALSE))),\"Sin Registrar\",CONCATENATE($S825,\".\",VLOOKUP($K825,'1_Metas_Resultados'!$D$4:$E$403,2,FALSE)))","v":"Sin Registrar"},{"$f":"IF(ISERROR(CONCATENATE($S825,\".\",VLOOKUP($L825,'1_Metas_Resultados'!$D$4:$E$403,2,FALSE))),\"Sin Registrar\",CONCATENATE($S825,\".\",VLOOKUP($L825,'1_Metas_Resultados'!$D$4:$E$403,2,FALSE)))","v":"Sin Registrar"},{"$f":"IF(ISERROR(VLOOKUP(G825,'1_Metas_Resultados'!$D$4:$I$403,6,FALSE)),\"\",VLOOKUP(G825,'1_Metas_Resultados'!$D$4:$I$403,6,FALSE))","v":""}]
[{"$f":"IF(ISERROR(CONCATENATE($S826,\".\",VLOOKUP($G826,'1_Metas_Resultados'!$D$4:$E$403,2,FALSE))),\"Sin Registrar\",CONCATENATE($S826,\".\",VLOOKUP($G826,'1_Metas_Resultados'!$D$4:$E$403,2,FALSE)))","v":"Sin Registrar"},825," ",{"$f":"IF(ISERROR(CONCATENATE($S826,\".\",VLOOKUP($K826,'1_Metas_Resultados'!$D$4:$E$403,2,FALSE))),\"Sin Registrar\",CONCATENATE($S826,\".\",VLOOKUP($K826,'1_Metas_Resultados'!$D$4:$E$403,2,FALSE)))","v":"Sin Registrar"},{"$f":"IF(ISERROR(CONCATENATE($S826,\".\",VLOOKUP($L826,'1_Metas_Resultados'!$D$4:$E$403,2,FALSE))),\"Sin Registrar\",CONCATENATE($S826,\".\",VLOOKUP($L826,'1_Metas_Resultados'!$D$4:$E$403,2,FALSE)))","v":"Sin Registrar"},{"$f":"IF(ISERROR(VLOOKUP(G826,'1_Metas_Resultados'!$D$4:$I$403,6,FALSE)),\"\",VLOOKUP(G826,'1_Metas_Resultados'!$D$4:$I$403,6,FALSE))","v":""}]
[{"$f":"IF(ISERROR(CONCATENATE($S827,\".\",VLOOKUP($G827,'1_Metas_Resultados'!$D$4:$E$403,2,FALSE))),\"Sin Registrar\",CONCATENATE($S827,\".\",VLOOKUP($G827,'1_Metas_Resultados'!$D$4:$E$403,2,FALSE)))","v":"Sin Registrar"},826," ",{"$f":"IF(ISERROR(CONCATENATE($S827,\".\",VLOOKUP($K827,'1_Metas_Resultados'!$D$4:$E$403,2,FALSE))),\"Sin Registrar\",CONCATENATE($S827,\".\",VLOOKUP($K827,'1_Metas_Resultados'!$D$4:$E$403,2,FALSE)))","v":"Sin Registrar"},{"$f":"IF(ISERROR(CONCATENATE($S827,\".\",VLOOKUP($L827,'1_Metas_Resultados'!$D$4:$E$403,2,FALSE))),\"Sin Registrar\",CONCATENATE($S827,\".\",VLOOKUP($L827,'1_Metas_Resultados'!$D$4:$E$403,2,FALSE)))","v":"Sin Registrar"},{"$f":"IF(ISERROR(VLOOKUP(G827,'1_Metas_Resultados'!$D$4:$I$403,6,FALSE)),\"\",VLOOKUP(G827,'1_Metas_Resultados'!$D$4:$I$403,6,FALSE))","v":""}]
[{"$f":"IF(ISERROR(CONCATENATE($S828,\".\",VLOOKUP($G828,'1_Metas_Resultados'!$D$4:$E$403,2,FALSE))),\"Sin Registrar\",CONCATENATE($S828,\".\",VLOOKUP($G828,'1_Metas_Resultados'!$D$4:$E$403,2,FALSE)))","v":"Sin Registrar"},827," ",{"$f":"IF(ISERROR(CONCATENATE($S828,\".\",VLOOKUP($K828,'1_Metas_Resultados'!$D$4:$E$403,2,FALSE))),\"Sin Registrar\",CONCATENATE($S828,\".\",VLOOKUP($K828,'1_Metas_Resultados'!$D$4:$E$403,2,FALSE)))","v":"Sin Registrar"},{"$f":"IF(ISERROR(CONCATENATE($S828,\".\",VLOOKUP($L828,'1_Metas_Resultados'!$D$4:$E$403,2,FALSE))),\"Sin Registrar\",CONCATENATE($S828,\".\",VLOOKUP($L828,'1_Metas_Resultados'!$D$4:$E$403,2,FALSE)))","v":"Sin Registrar"},{"$f":"IF(ISERROR(VLOOKUP(G828,'1_Metas_Resultados'!$D$4:$I$403,6,FALSE)),\"\",VLOOKUP(G828,'1_Metas_Resultados'!$D$4:$I$403,6,FALSE))","v":""}]
[{"$f":"IF(ISERROR(CONCATENATE($S829,\".\",VLOOKUP($G829,'1_Metas_Resultados'!$D$4:$E$403,2,FALSE))),\"Sin Registrar\",CONCATENATE($S829,\".\",VLOOKUP($G829,'1_Metas_Resultados'!$D$4:$E$403,2,FALSE)))","v":"Sin Registrar"},828," ",{"$f":"IF(ISERROR(CONCATENATE($S829,\".\",VLOOKUP($K829,'1_Metas_Resultados'!$D$4:$E$403,2,FALSE))),\"Sin Registrar\",CONCATENATE($S829,\".\",VLOOKUP($K829,'1_Metas_Resultados'!$D$4:$E$403,2,FALSE)))","v":"Sin Registrar"},{"$f":"IF(ISERROR(CONCATENATE($S829,\".\",VLOOKUP($L829,'1_Metas_Resultados'!$D$4:$E$403,2,FALSE))),\"Sin Registrar\",CONCATENATE($S829,\".\",VLOOKUP($L829,'1_Metas_Resultados'!$D$4:$E$403,2,FALSE)))","v":"Sin Registrar"},{"$f":"IF(ISERROR(VLOOKUP(G829,'1_Metas_Resultados'!$D$4:$I$403,6,FALSE)),\"\",VLOOKUP(G829,'1_Metas_Resultados'!$D$4:$I$403,6,FALSE))","v":""}]
[{"$f":"IF(ISERROR(CONCATENATE($S830,\".\",VLOOKUP($G830,'1_Metas_Resultados'!$D$4:$E$403,2,FALSE))),\"Sin Registrar\",CONCATENATE($S830,\".\",VLOOKUP($G830,'1_Metas_Resultados'!$D$4:$E$403,2,FALSE)))","v":"Sin Registrar"},829," ",{"$f":"IF(ISERROR(CONCATENATE($S830,\".\",VLOOKUP($K830,'1_Metas_Resultados'!$D$4:$E$403,2,FALSE))),\"Sin Registrar\",CONCATENATE($S830,\".\",VLOOKUP($K830,'1_Metas_Resultados'!$D$4:$E$403,2,FALSE)))","v":"Sin Registrar"},{"$f":"IF(ISERROR(CONCATENATE($S830,\".\",VLOOKUP($L830,'1_Metas_Resultados'!$D$4:$E$403,2,FALSE))),\"Sin Registrar\",CONCATENATE($S830,\".\",VLOOKUP($L830,'1_Metas_Resultados'!$D$4:$E$403,2,FALSE)))","v":"Sin Registrar"},{"$f":"IF(ISERROR(VLOOKUP(G830,'1_Metas_Resultados'!$D$4:$I$403,6,FALSE)),\"\",VLOOKUP(G830,'1_Metas_Resultados'!$D$4:$I$403,6,FALSE))","v":""}]
[{"$f":"IF(ISERROR(CONCATENATE($S831,\".\",VLOOKUP($G831,'1_Metas_Resultados'!$D$4:$E$403,2,FALSE))),\"Sin Registrar\",CONCATENATE($S831,\".\",VLOOKUP($G831,'1_Metas_Resultados'!$D$4:$E$403,2,FALSE)))","v":"Sin Registrar"},830," ",{"$f":"IF(ISERROR(CONCATENATE($S831,\".\",VLOOKUP($K831,'1_Metas_Resultados'!$D$4:$E$403,2,FALSE))),\"Sin Registrar\",CONCATENATE($S831,\".\",VLOOKUP($K831,'1_Metas_Resultados'!$D$4:$E$403,2,FALSE)))","v":"Sin Registrar"},{"$f":"IF(ISERROR(CONCATENATE($S831,\".\",VLOOKUP($L831,'1_Metas_Resultados'!$D$4:$E$403,2,FALSE))),\"Sin Registrar\",CONCATENATE($S831,\".\",VLOOKUP($L831,'1_Metas_Resultados'!$D$4:$E$403,2,FALSE)))","v":"Sin Registrar"},{"$f":"IF(ISERROR(VLOOKUP(G831,'1_Metas_Resultados'!$D$4:$I$403,6,FALSE)),\"\",VLOOKUP(G831,'1_Metas_Resultados'!$D$4:$I$403,6,FALSE))","v":""}]
[{"$f":"IF(ISERROR(CONCATENATE($S832,\".\",VLOOKUP($G832,'1_Metas_Resultados'!$D$4:$E$403,2,FALSE))),\"Sin Registrar\",CONCATENATE($S832,\".\",VLOOKUP($G832,'1_Metas_Resultados'!$D$4:$E$403,2,FALSE)))","v":"Sin Registrar"},831," ",{"$f":"IF(ISERROR(CONCATENATE($S832,\".\",VLOOKUP($K832,'1_Metas_Resultados'!$D$4:$E$403,2,FALSE))),\"Sin Registrar\",CONCATENATE($S832,\".\",VLOOKUP($K832,'1_Metas_Resultados'!$D$4:$E$403,2,FALSE)))","v":"Sin Registrar"},{"$f":"IF(ISERROR(CONCATENATE($S832,\".\",VLOOKUP($L832,'1_Metas_Resultados'!$D$4:$E$403,2,FALSE))),\"Sin Registrar\",CONCATENATE($S832,\".\",VLOOKUP($L832,'1_Metas_Resultados'!$D$4:$E$403,2,FALSE)))","v":"Sin Registrar"},{"$f":"IF(ISERROR(VLOOKUP(G832,'1_Metas_Resultados'!$D$4:$I$403,6,FALSE)),\"\",VLOOKUP(G832,'1_Metas_Resultados'!$D$4:$I$403,6,FALSE))","v":""}]
[{"$f":"IF(ISERROR(CONCATENATE($S833,\".\",VLOOKUP($G833,'1_Metas_Resultados'!$D$4:$E$403,2,FALSE))),\"Sin Registrar\",CONCATENATE($S833,\".\",VLOOKUP($G833,'1_Metas_Resultados'!$D$4:$E$403,2,FALSE)))","v":"Sin Registrar"},832," ",{"$f":"IF(ISERROR(CONCATENATE($S833,\".\",VLOOKUP($K833,'1_Metas_Resultados'!$D$4:$E$403,2,FALSE))),\"Sin Registrar\",CONCATENATE($S833,\".\",VLOOKUP($K833,'1_Metas_Resultados'!$D$4:$E$403,2,FALSE)))","v":"Sin Registrar"},{"$f":"IF(ISERROR(CONCATENATE($S833,\".\",VLOOKUP($L833,'1_Metas_Resultados'!$D$4:$E$403,2,FALSE))),\"Sin Registrar\",CONCATENATE($S833,\".\",VLOOKUP($L833,'1_Metas_Resultados'!$D$4:$E$403,2,FALSE)))","v":"Sin Registrar"},{"$f":"IF(ISERROR(VLOOKUP(G833,'1_Metas_Resultados'!$D$4:$I$403,6,FALSE)),\"\",VLOOKUP(G833,'1_Metas_Resultados'!$D$4:$I$403,6,FALSE))","v":""}]
[{"$f":"IF(ISERROR(CONCATENATE($S834,\".\",VLOOKUP($G834,'1_Metas_Resultados'!$D$4:$E$403,2,FALSE))),\"Sin Registrar\",CONCATENATE($S834,\".\",VLOOKUP($G834,'1_Metas_Resultados'!$D$4:$E$403,2,FALSE)))","v":"Sin Registrar"},833," ",{"$f":"IF(ISERROR(CONCATENATE($S834,\".\",VLOOKUP($K834,'1_Metas_Resultados'!$D$4:$E$403,2,FALSE))),\"Sin Registrar\",CONCATENATE($S834,\".\",VLOOKUP($K834,'1_Metas_Resultados'!$D$4:$E$403,2,FALSE)))","v":"Sin Registrar"},{"$f":"IF(ISERROR(CONCATENATE($S834,\".\",VLOOKUP($L834,'1_Metas_Resultados'!$D$4:$E$403,2,FALSE))),\"Sin Registrar\",CONCATENATE($S834,\".\",VLOOKUP($L834,'1_Metas_Resultados'!$D$4:$E$403,2,FALSE)))","v":"Sin Registrar"},{"$f":"IF(ISERROR(VLOOKUP(G834,'1_Metas_Resultados'!$D$4:$I$403,6,FALSE)),\"\",VLOOKUP(G834,'1_Metas_Resultados'!$D$4:$I$403,6,FALSE))","v":""}]
[{"$f":"IF(ISERROR(CONCATENATE($S835,\".\",VLOOKUP($G835,'1_Metas_Resultados'!$D$4:$E$403,2,FALSE))),\"Sin Registrar\",CONCATENATE($S835,\".\",VLOOKUP($G835,'1_Metas_Resultados'!$D$4:$E$403,2,FALSE)))","v":"Sin Registrar"},834," ",{"$f":"IF(ISERROR(CONCATENATE($S835,\".\",VLOOKUP($K835,'1_Metas_Resultados'!$D$4:$E$403,2,FALSE))),\"Sin Registrar\",CONCATENATE($S835,\".\",VLOOKUP($K835,'1_Metas_Resultados'!$D$4:$E$403,2,FALSE)))","v":"Sin Registrar"},{"$f":"IF(ISERROR(CONCATENATE($S835,\".\",VLOOKUP($L835,'1_Metas_Resultados'!$D$4:$E$403,2,FALSE))),\"Sin Registrar\",CONCATENATE($S835,\".\",VLOOKUP($L835,'1_Metas_Resultados'!$D$4:$E$403,2,FALSE)))","v":"Sin Registrar"},{"$f":"IF(ISERROR(VLOOKUP(G835,'1_Metas_Resultados'!$D$4:$I$403,6,FALSE)),\"\",VLOOKUP(G835,'1_Metas_Resultados'!$D$4:$I$403,6,FALSE))","v":""}]
[{"$f":"IF(ISERROR(CONCATENATE($S836,\".\",VLOOKUP($G836,'1_Metas_Resultados'!$D$4:$E$403,2,FALSE))),\"Sin Registrar\",CONCATENATE($S836,\".\",VLOOKUP($G836,'1_Metas_Resultados'!$D$4:$E$403,2,FALSE)))","v":"Sin Registrar"},835," ",{"$f":"IF(ISERROR(CONCATENATE($S836,\".\",VLOOKUP($K836,'1_Metas_Resultados'!$D$4:$E$403,2,FALSE))),\"Sin Registrar\",CONCATENATE($S836,\".\",VLOOKUP($K836,'1_Metas_Resultados'!$D$4:$E$403,2,FALSE)))","v":"Sin Registrar"},{"$f":"IF(ISERROR(CONCATENATE($S836,\".\",VLOOKUP($L836,'1_Metas_Resultados'!$D$4:$E$403,2,FALSE))),\"Sin Registrar\",CONCATENATE($S836,\".\",VLOOKUP($L836,'1_Metas_Resultados'!$D$4:$E$403,2,FALSE)))","v":"Sin Registrar"},{"$f":"IF(ISERROR(VLOOKUP(G836,'1_Metas_Resultados'!$D$4:$I$403,6,FALSE)),\"\",VLOOKUP(G836,'1_Metas_Resultados'!$D$4:$I$403,6,FALSE))","v":""}]
[{"$f":"IF(ISERROR(CONCATENATE($S837,\".\",VLOOKUP($G837,'1_Metas_Resultados'!$D$4:$E$403,2,FALSE))),\"Sin Registrar\",CONCATENATE($S837,\".\",VLOOKUP($G837,'1_Metas_Resultados'!$D$4:$E$403,2,FALSE)))","v":"Sin Registrar"},836,{"$f":"IF(A837=\"Sin Registrar\",\" \",CONCATENATE(A837,\".\",B837))","v":" "},{"$f":"IF(ISERROR(CONCATENATE($S837,\".\",VLOOKUP($K837,'1_Metas_Resultados'!$D$4:$E$403,2,FALSE))),\"Sin Registrar\",CONCATENATE($S837,\".\",VLOOKUP($K837,'1_Metas_Resultados'!$D$4:$E$403,2,FALSE)))","v":"Sin Registrar"},{"$f":"IF(ISERROR(CONCATENATE($S837,\".\",VLOOKUP($L837,'1_Metas_Resultados'!$D$4:$E$403,2,FALSE))),\"Sin Registrar\",CONCATENATE($S837,\".\",VLOOKUP($L837,'1_Metas_Resultados'!$D$4:$E$403,2,FALSE)))","v":"Sin Registrar"},{"$f":"IF(ISERROR(VLOOKUP(G837,'1_Metas_Resultados'!$D$4:$I$403,6,FALSE)),\"\",VLOOKUP(G837,'1_Metas_Resultados'!$D$4:$I$403,6,FALSE))","v":""}]
[{"$f":"IF(ISERROR(CONCATENATE($S838,\".\",VLOOKUP($G838,'1_Metas_Resultados'!$D$4:$E$403,2,FALSE))),\"Sin Registrar\",CONCATENATE($S838,\".\",VLOOKUP($G838,'1_Metas_Resultados'!$D$4:$E$403,2,FALSE)))","v":"Sin Registrar"},837," ",{"$f":"IF(ISERROR(CONCATENATE($S838,\".\",VLOOKUP($K838,'1_Metas_Resultados'!$D$4:$E$403,2,FALSE))),\"Sin Registrar\",CONCATENATE($S838,\".\",VLOOKUP($K838,'1_Metas_Resultados'!$D$4:$E$403,2,FALSE)))","v":"Sin Registrar"},{"$f":"IF(ISERROR(CONCATENATE($S838,\".\",VLOOKUP($L838,'1_Metas_Resultados'!$D$4:$E$403,2,FALSE))),\"Sin Registrar\",CONCATENATE($S838,\".\",VLOOKUP($L838,'1_Metas_Resultados'!$D$4:$E$403,2,FALSE)))","v":"Sin Registrar"},{"$f":"IF(ISERROR(VLOOKUP(G838,'1_Metas_Resultados'!$D$4:$I$403,6,FALSE)),\"\",VLOOKUP(G838,'1_Metas_Resultados'!$D$4:$I$403,6,FALSE))","v":""}]
[{"$f":"IF(ISERROR(CONCATENATE($S839,\".\",VLOOKUP($G839,'1_Metas_Resultados'!$D$4:$E$403,2,FALSE))),\"Sin Registrar\",CONCATENATE($S839,\".\",VLOOKUP($G839,'1_Metas_Resultados'!$D$4:$E$403,2,FALSE)))","v":"Sin Registrar"},838," ",{"$f":"IF(ISERROR(CONCATENATE($S839,\".\",VLOOKUP($K839,'1_Metas_Resultados'!$D$4:$E$403,2,FALSE))),\"Sin Registrar\",CONCATENATE($S839,\".\",VLOOKUP($K839,'1_Metas_Resultados'!$D$4:$E$403,2,FALSE)))","v":"Sin Registrar"},{"$f":"IF(ISERROR(CONCATENATE($S839,\".\",VLOOKUP($L839,'1_Metas_Resultados'!$D$4:$E$403,2,FALSE))),\"Sin Registrar\",CONCATENATE($S839,\".\",VLOOKUP($L839,'1_Metas_Resultados'!$D$4:$E$403,2,FALSE)))","v":"Sin Registrar"},{"$f":"IF(ISERROR(VLOOKUP(G839,'1_Metas_Resultados'!$D$4:$I$403,6,FALSE)),\"\",VLOOKUP(G839,'1_Metas_Resultados'!$D$4:$I$403,6,FALSE))","v":""}]
[{"$f":"IF(ISERROR(CONCATENATE($S840,\".\",VLOOKUP($G840,'1_Metas_Resultados'!$D$4:$E$403,2,FALSE))),\"Sin Registrar\",CONCATENATE($S840,\".\",VLOOKUP($G840,'1_Metas_Resultados'!$D$4:$E$403,2,FALSE)))","v":"Sin Registrar"},839," ",{"$f":"IF(ISERROR(CONCATENATE($S840,\".\",VLOOKUP($K840,'1_Metas_Resultados'!$D$4:$E$403,2,FALSE))),\"Sin Registrar\",CONCATENATE($S840,\".\",VLOOKUP($K840,'1_Metas_Resultados'!$D$4:$E$403,2,FALSE)))","v":"Sin Registrar"},{"$f":"IF(ISERROR(CONCATENATE($S840,\".\",VLOOKUP($L840,'1_Metas_Resultados'!$D$4:$E$403,2,FALSE))),\"Sin Registrar\",CONCATENATE($S840,\".\",VLOOKUP($L840,'1_Metas_Resultados'!$D$4:$E$403,2,FALSE)))","v":"Sin Registrar"},{"$f":"IF(ISERROR(VLOOKUP(G840,'1_Metas_Resultados'!$D$4:$I$403,6,FALSE)),\"\",VLOOKUP(G840,'1_Metas_Resultados'!$D$4:$I$403,6,FALSE))","v":""}]
[{"$f":"IF(ISERROR(CONCATENATE($S841,\".\",VLOOKUP($G841,'1_Metas_Resultados'!$D$4:$E$403,2,FALSE))),\"Sin Registrar\",CONCATENATE($S841,\".\",VLOOKUP($G841,'1_Metas_Resultados'!$D$4:$E$403,2,FALSE)))","v":"Sin Registrar"},840," ",{"$f":"IF(ISERROR(CONCATENATE($S841,\".\",VLOOKUP($K841,'1_Metas_Resultados'!$D$4:$E$403,2,FALSE))),\"Sin Registrar\",CONCATENATE($S841,\".\",VLOOKUP($K841,'1_Metas_Resultados'!$D$4:$E$403,2,FALSE)))","v":"Sin Registrar"},{"$f":"IF(ISERROR(CONCATENATE($S841,\".\",VLOOKUP($L841,'1_Metas_Resultados'!$D$4:$E$403,2,FALSE))),\"Sin Registrar\",CONCATENATE($S841,\".\",VLOOKUP($L841,'1_Metas_Resultados'!$D$4:$E$403,2,FALSE)))","v":"Sin Registrar"},{"$f":"IF(ISERROR(VLOOKUP(G841,'1_Metas_Resultados'!$D$4:$I$403,6,FALSE)),\"\",VLOOKUP(G841,'1_Metas_Resultados'!$D$4:$I$403,6,FALSE))","v":""}]
[{"$f":"IF(ISERROR(CONCATENATE($S842,\".\",VLOOKUP($G842,'1_Metas_Resultados'!$D$4:$E$403,2,FALSE))),\"Sin Registrar\",CONCATENATE($S842,\".\",VLOOKUP($G842,'1_Metas_Resultados'!$D$4:$E$403,2,FALSE)))","v":"Sin Registrar"},841," ",{"$f":"IF(ISERROR(CONCATENATE($S842,\".\",VLOOKUP($K842,'1_Metas_Resultados'!$D$4:$E$403,2,FALSE))),\"Sin Registrar\",CONCATENATE($S842,\".\",VLOOKUP($K842,'1_Metas_Resultados'!$D$4:$E$403,2,FALSE)))","v":"Sin Registrar"},{"$f":"IF(ISERROR(CONCATENATE($S842,\".\",VLOOKUP($L842,'1_Metas_Resultados'!$D$4:$E$403,2,FALSE))),\"Sin Registrar\",CONCATENATE($S842,\".\",VLOOKUP($L842,'1_Metas_Resultados'!$D$4:$E$403,2,FALSE)))","v":"Sin Registrar"},{"$f":"IF(ISERROR(VLOOKUP(G842,'1_Metas_Resultados'!$D$4:$I$403,6,FALSE)),\"\",VLOOKUP(G842,'1_Metas_Resultados'!$D$4:$I$403,6,FALSE))","v":""}]
[{"$f":"IF(ISERROR(CONCATENATE($S843,\".\",VLOOKUP($G843,'1_Metas_Resultados'!$D$4:$E$403,2,FALSE))),\"Sin Registrar\",CONCATENATE($S843,\".\",VLOOKUP($G843,'1_Metas_Resultados'!$D$4:$E$403,2,FALSE)))","v":"Sin Registrar"},842," ",{"$f":"IF(ISERROR(CONCATENATE($S843,\".\",VLOOKUP($K843,'1_Metas_Resultados'!$D$4:$E$403,2,FALSE))),\"Sin Registrar\",CONCATENATE($S843,\".\",VLOOKUP($K843,'1_Metas_Resultados'!$D$4:$E$403,2,FALSE)))","v":"Sin Registrar"},{"$f":"IF(ISERROR(CONCATENATE($S843,\".\",VLOOKUP($L843,'1_Metas_Resultados'!$D$4:$E$403,2,FALSE))),\"Sin Registrar\",CONCATENATE($S843,\".\",VLOOKUP($L843,'1_Metas_Resultados'!$D$4:$E$403,2,FALSE)))","v":"Sin Registrar"},{"$f":"IF(ISERROR(VLOOKUP(G843,'1_Metas_Resultados'!$D$4:$I$403,6,FALSE)),\"\",VLOOKUP(G843,'1_Metas_Resultados'!$D$4:$I$403,6,FALSE))","v":""}]
[{"$f":"IF(ISERROR(CONCATENATE($S844,\".\",VLOOKUP($G844,'1_Metas_Resultados'!$D$4:$E$403,2,FALSE))),\"Sin Registrar\",CONCATENATE($S844,\".\",VLOOKUP($G844,'1_Metas_Resultados'!$D$4:$E$403,2,FALSE)))","v":"Sin Registrar"},843," ",{"$f":"IF(ISERROR(CONCATENATE($S844,\".\",VLOOKUP($K844,'1_Metas_Resultados'!$D$4:$E$403,2,FALSE))),\"Sin Registrar\",CONCATENATE($S844,\".\",VLOOKUP($K844,'1_Metas_Resultados'!$D$4:$E$403,2,FALSE)))","v":"Sin Registrar"},{"$f":"IF(ISERROR(CONCATENATE($S844,\".\",VLOOKUP($L844,'1_Metas_Resultados'!$D$4:$E$403,2,FALSE))),\"Sin Registrar\",CONCATENATE($S844,\".\",VLOOKUP($L844,'1_Metas_Resultados'!$D$4:$E$403,2,FALSE)))","v":"Sin Registrar"},{"$f":"IF(ISERROR(VLOOKUP(G844,'1_Metas_Resultados'!$D$4:$I$403,6,FALSE)),\"\",VLOOKUP(G844,'1_Metas_Resultados'!$D$4:$I$403,6,FALSE))","v":""}]
[{"$f":"IF(ISERROR(CONCATENATE($S845,\".\",VLOOKUP($G845,'1_Metas_Resultados'!$D$4:$E$403,2,FALSE))),\"Sin Registrar\",CONCATENATE($S845,\".\",VLOOKUP($G845,'1_Metas_Resultados'!$D$4:$E$403,2,FALSE)))","v":"Sin Registrar"},844," ",{"$f":"IF(ISERROR(CONCATENATE($S845,\".\",VLOOKUP($K845,'1_Metas_Resultados'!$D$4:$E$403,2,FALSE))),\"Sin Registrar\",CONCATENATE($S845,\".\",VLOOKUP($K845,'1_Metas_Resultados'!$D$4:$E$403,2,FALSE)))","v":"Sin Registrar"},{"$f":"IF(ISERROR(CONCATENATE($S845,\".\",VLOOKUP($L845,'1_Metas_Resultados'!$D$4:$E$403,2,FALSE))),\"Sin Registrar\",CONCATENATE($S845,\".\",VLOOKUP($L845,'1_Metas_Resultados'!$D$4:$E$403,2,FALSE)))","v":"Sin Registrar"},{"$f":"IF(ISERROR(VLOOKUP(G845,'1_Metas_Resultados'!$D$4:$I$403,6,FALSE)),\"\",VLOOKUP(G845,'1_Metas_Resultados'!$D$4:$I$403,6,FALSE))","v":""}]
[{"$f":"IF(ISERROR(CONCATENATE($S846,\".\",VLOOKUP($G846,'1_Metas_Resultados'!$D$4:$E$403,2,FALSE))),\"Sin Registrar\",CONCATENATE($S846,\".\",VLOOKUP($G846,'1_Metas_Resultados'!$D$4:$E$403,2,FALSE)))","v":"Sin Registrar"},845," ",{"$f":"IF(ISERROR(CONCATENATE($S846,\".\",VLOOKUP($K846,'1_Metas_Resultados'!$D$4:$E$403,2,FALSE))),\"Sin Registrar\",CONCATENATE($S846,\".\",VLOOKUP($K846,'1_Metas_Resultados'!$D$4:$E$403,2,FALSE)))","v":"Sin Registrar"},{"$f":"IF(ISERROR(CONCATENATE($S846,\".\",VLOOKUP($L846,'1_Metas_Resultados'!$D$4:$E$403,2,FALSE))),\"Sin Registrar\",CONCATENATE($S846,\".\",VLOOKUP($L846,'1_Metas_Resultados'!$D$4:$E$403,2,FALSE)))","v":"Sin Registrar"},{"$f":"IF(ISERROR(VLOOKUP(G846,'1_Metas_Resultados'!$D$4:$I$403,6,FALSE)),\"\",VLOOKUP(G846,'1_Metas_Resultados'!$D$4:$I$403,6,FALSE))","v":""}]
[{"$f":"IF(ISERROR(CONCATENATE($S847,\".\",VLOOKUP($G847,'1_Metas_Resultados'!$D$4:$E$403,2,FALSE))),\"Sin Registrar\",CONCATENATE($S847,\".\",VLOOKUP($G847,'1_Metas_Resultados'!$D$4:$E$403,2,FALSE)))","v":"Sin Registrar"},846," ",{"$f":"IF(ISERROR(CONCATENATE($S847,\".\",VLOOKUP($K847,'1_Metas_Resultados'!$D$4:$E$403,2,FALSE))),\"Sin Registrar\",CONCATENATE($S847,\".\",VLOOKUP($K847,'1_Metas_Resultados'!$D$4:$E$403,2,FALSE)))","v":"Sin Registrar"},{"$f":"IF(ISERROR(CONCATENATE($S847,\".\",VLOOKUP($L847,'1_Metas_Resultados'!$D$4:$E$403,2,FALSE))),\"Sin Registrar\",CONCATENATE($S847,\".\",VLOOKUP($L847,'1_Metas_Resultados'!$D$4:$E$403,2,FALSE)))","v":"Sin Registrar"},{"$f":"IF(ISERROR(VLOOKUP(G847,'1_Metas_Resultados'!$D$4:$I$403,6,FALSE)),\"\",VLOOKUP(G847,'1_Metas_Resultados'!$D$4:$I$403,6,FALSE))","v":""}]
[{"$f":"IF(ISERROR(CONCATENATE($S848,\".\",VLOOKUP($G848,'1_Metas_Resultados'!$D$4:$E$403,2,FALSE))),\"Sin Registrar\",CONCATENATE($S848,\".\",VLOOKUP($G848,'1_Metas_Resultados'!$D$4:$E$403,2,FALSE)))","v":"Sin Registrar"},847," ",{"$f":"IF(ISERROR(CONCATENATE($S848,\".\",VLOOKUP($K848,'1_Metas_Resultados'!$D$4:$E$403,2,FALSE))),\"Sin Registrar\",CONCATENATE($S848,\".\",VLOOKUP($K848,'1_Metas_Resultados'!$D$4:$E$403,2,FALSE)))","v":"Sin Registrar"},{"$f":"IF(ISERROR(CONCATENATE($S848,\".\",VLOOKUP($L848,'1_Metas_Resultados'!$D$4:$E$403,2,FALSE))),\"Sin Registrar\",CONCATENATE($S848,\".\",VLOOKUP($L848,'1_Metas_Resultados'!$D$4:$E$403,2,FALSE)))","v":"Sin Registrar"},{"$f":"IF(ISERROR(VLOOKUP(G848,'1_Metas_Resultados'!$D$4:$I$403,6,FALSE)),\"\",VLOOKUP(G848,'1_Metas_Resultados'!$D$4:$I$403,6,FALSE))","v":""}]
[{"$f":"IF(ISERROR(CONCATENATE($S849,\".\",VLOOKUP($G849,'1_Metas_Resultados'!$D$4:$E$403,2,FALSE))),\"Sin Registrar\",CONCATENATE($S849,\".\",VLOOKUP($G849,'1_Metas_Resultados'!$D$4:$E$403,2,FALSE)))","v":"Sin Registrar"},848," ",{"$f":"IF(ISERROR(CONCATENATE($S849,\".\",VLOOKUP($K849,'1_Metas_Resultados'!$D$4:$E$403,2,FALSE))),\"Sin Registrar\",CONCATENATE($S849,\".\",VLOOKUP($K849,'1_Metas_Resultados'!$D$4:$E$403,2,FALSE)))","v":"Sin Registrar"},{"$f":"IF(ISERROR(CONCATENATE($S849,\".\",VLOOKUP($L849,'1_Metas_Resultados'!$D$4:$E$403,2,FALSE))),\"Sin Registrar\",CONCATENATE($S849,\".\",VLOOKUP($L849,'1_Metas_Resultados'!$D$4:$E$403,2,FALSE)))","v":"Sin Registrar"},{"$f":"IF(ISERROR(VLOOKUP(G849,'1_Metas_Resultados'!$D$4:$I$403,6,FALSE)),\"\",VLOOKUP(G849,'1_Metas_Resultados'!$D$4:$I$403,6,FALSE))","v":""}]
[{"$f":"IF(ISERROR(CONCATENATE($S850,\".\",VLOOKUP($G850,'1_Metas_Resultados'!$D$4:$E$403,2,FALSE))),\"Sin Registrar\",CONCATENATE($S850,\".\",VLOOKUP($G850,'1_Metas_Resultados'!$D$4:$E$403,2,FALSE)))","v":"Sin Registrar"},849," ",{"$f":"IF(ISERROR(CONCATENATE($S850,\".\",VLOOKUP($K850,'1_Metas_Resultados'!$D$4:$E$403,2,FALSE))),\"Sin Registrar\",CONCATENATE($S850,\".\",VLOOKUP($K850,'1_Metas_Resultados'!$D$4:$E$403,2,FALSE)))","v":"Sin Registrar"},{"$f":"IF(ISERROR(CONCATENATE($S850,\".\",VLOOKUP($L850,'1_Metas_Resultados'!$D$4:$E$403,2,FALSE))),\"Sin Registrar\",CONCATENATE($S850,\".\",VLOOKUP($L850,'1_Metas_Resultados'!$D$4:$E$403,2,FALSE)))","v":"Sin Registrar"},{"$f":"IF(ISERROR(VLOOKUP(G850,'1_Metas_Resultados'!$D$4:$I$403,6,FALSE)),\"\",VLOOKUP(G850,'1_Metas_Resultados'!$D$4:$I$403,6,FALSE))","v":""}]
[{"$f":"IF(ISERROR(CONCATENATE($S851,\".\",VLOOKUP($G851,'1_Metas_Resultados'!$D$4:$E$403,2,FALSE))),\"Sin Registrar\",CONCATENATE($S851,\".\",VLOOKUP($G851,'1_Metas_Resultados'!$D$4:$E$403,2,FALSE)))","v":"Sin Registrar"},850," ",{"$f":"IF(ISERROR(CONCATENATE($S851,\".\",VLOOKUP($K851,'1_Metas_Resultados'!$D$4:$E$403,2,FALSE))),\"Sin Registrar\",CONCATENATE($S851,\".\",VLOOKUP($K851,'1_Metas_Resultados'!$D$4:$E$403,2,FALSE)))","v":"Sin Registrar"},{"$f":"IF(ISERROR(CONCATENATE($S851,\".\",VLOOKUP($L851,'1_Metas_Resultados'!$D$4:$E$403,2,FALSE))),\"Sin Registrar\",CONCATENATE($S851,\".\",VLOOKUP($L851,'1_Metas_Resultados'!$D$4:$E$403,2,FALSE)))","v":"Sin Registrar"},{"$f":"IF(ISERROR(VLOOKUP(G851,'1_Metas_Resultados'!$D$4:$I$403,6,FALSE)),\"\",VLOOKUP(G851,'1_Metas_Resultados'!$D$4:$I$403,6,FALSE))","v":""}]
[{"$f":"IF(ISERROR(CONCATENATE($S852,\".\",VLOOKUP($G852,'1_Metas_Resultados'!$D$4:$E$403,2,FALSE))),\"Sin Registrar\",CONCATENATE($S852,\".\",VLOOKUP($G852,'1_Metas_Resultados'!$D$4:$E$403,2,FALSE)))","v":"Sin Registrar"},851," ",{"$f":"IF(ISERROR(CONCATENATE($S852,\".\",VLOOKUP($K852,'1_Metas_Resultados'!$D$4:$E$403,2,FALSE))),\"Sin Registrar\",CONCATENATE($S852,\".\",VLOOKUP($K852,'1_Metas_Resultados'!$D$4:$E$403,2,FALSE)))","v":"Sin Registrar"},{"$f":"IF(ISERROR(CONCATENATE($S852,\".\",VLOOKUP($L852,'1_Metas_Resultados'!$D$4:$E$403,2,FALSE))),\"Sin Registrar\",CONCATENATE($S852,\".\",VLOOKUP($L852,'1_Metas_Resultados'!$D$4:$E$403,2,FALSE)))","v":"Sin Registrar"},{"$f":"IF(ISERROR(VLOOKUP(G852,'1_Metas_Resultados'!$D$4:$I$403,6,FALSE)),\"\",VLOOKUP(G852,'1_Metas_Resultados'!$D$4:$I$403,6,FALSE))","v":""}]
[{"$f":"IF(ISERROR(CONCATENATE($S853,\".\",VLOOKUP($G853,'1_Metas_Resultados'!$D$4:$E$403,2,FALSE))),\"Sin Registrar\",CONCATENATE($S853,\".\",VLOOKUP($G853,'1_Metas_Resultados'!$D$4:$E$403,2,FALSE)))","v":"Sin Registrar"},852," ",{"$f":"IF(ISERROR(CONCATENATE($S853,\".\",VLOOKUP($K853,'1_Metas_Resultados'!$D$4:$E$403,2,FALSE))),\"Sin Registrar\",CONCATENATE($S853,\".\",VLOOKUP($K853,'1_Metas_Resultados'!$D$4:$E$403,2,FALSE)))","v":"Sin Registrar"},{"$f":"IF(ISERROR(CONCATENATE($S853,\".\",VLOOKUP($L853,'1_Metas_Resultados'!$D$4:$E$403,2,FALSE))),\"Sin Registrar\",CONCATENATE($S853,\".\",VLOOKUP($L853,'1_Metas_Resultados'!$D$4:$E$403,2,FALSE)))","v":"Sin Registrar"},{"$f":"IF(ISERROR(VLOOKUP(G853,'1_Metas_Resultados'!$D$4:$I$403,6,FALSE)),\"\",VLOOKUP(G853,'1_Metas_Resultados'!$D$4:$I$403,6,FALSE))","v":""}]
[{"$f":"IF(ISERROR(CONCATENATE($S854,\".\",VLOOKUP($G854,'1_Metas_Resultados'!$D$4:$E$403,2,FALSE))),\"Sin Registrar\",CONCATENATE($S854,\".\",VLOOKUP($G854,'1_Metas_Resultados'!$D$4:$E$403,2,FALSE)))","v":"Sin Registrar"},853," ",{"$f":"IF(ISERROR(CONCATENATE($S854,\".\",VLOOKUP($K854,'1_Metas_Resultados'!$D$4:$E$403,2,FALSE))),\"Sin Registrar\",CONCATENATE($S854,\".\",VLOOKUP($K854,'1_Metas_Resultados'!$D$4:$E$403,2,FALSE)))","v":"Sin Registrar"},{"$f":"IF(ISERROR(CONCATENATE($S854,\".\",VLOOKUP($L854,'1_Metas_Resultados'!$D$4:$E$403,2,FALSE))),\"Sin Registrar\",CONCATENATE($S854,\".\",VLOOKUP($L854,'1_Metas_Resultados'!$D$4:$E$403,2,FALSE)))","v":"Sin Registrar"},{"$f":"IF(ISERROR(VLOOKUP(G854,'1_Metas_Resultados'!$D$4:$I$403,6,FALSE)),\"\",VLOOKUP(G854,'1_Metas_Resultados'!$D$4:$I$403,6,FALSE))","v":""}]
[{"$f":"IF(ISERROR(CONCATENATE($S855,\".\",VLOOKUP($G855,'1_Metas_Resultados'!$D$4:$E$403,2,FALSE))),\"Sin Registrar\",CONCATENATE($S855,\".\",VLOOKUP($G855,'1_Metas_Resultados'!$D$4:$E$403,2,FALSE)))","v":"Sin Registrar"},854," ",{"$f":"IF(ISERROR(CONCATENATE($S855,\".\",VLOOKUP($K855,'1_Metas_Resultados'!$D$4:$E$403,2,FALSE))),\"Sin Registrar\",CONCATENATE($S855,\".\",VLOOKUP($K855,'1_Metas_Resultados'!$D$4:$E$403,2,FALSE)))","v":"Sin Registrar"},{"$f":"IF(ISERROR(CONCATENATE($S855,\".\",VLOOKUP($L855,'1_Metas_Resultados'!$D$4:$E$403,2,FALSE))),\"Sin Registrar\",CONCATENATE($S855,\".\",VLOOKUP($L855,'1_Metas_Resultados'!$D$4:$E$403,2,FALSE)))","v":"Sin Registrar"},{"$f":"IF(ISERROR(VLOOKUP(G855,'1_Metas_Resultados'!$D$4:$I$403,6,FALSE)),\"\",VLOOKUP(G855,'1_Metas_Resultados'!$D$4:$I$403,6,FALSE))","v":""}]
[{"$f":"IF(ISERROR(CONCATENATE($S856,\".\",VLOOKUP($G856,'1_Metas_Resultados'!$D$4:$E$403,2,FALSE))),\"Sin Registrar\",CONCATENATE($S856,\".\",VLOOKUP($G856,'1_Metas_Resultados'!$D$4:$E$403,2,FALSE)))","v":"Sin Registrar"},855," ",{"$f":"IF(ISERROR(CONCATENATE($S856,\".\",VLOOKUP($K856,'1_Metas_Resultados'!$D$4:$E$403,2,FALSE))),\"Sin Registrar\",CONCATENATE($S856,\".\",VLOOKUP($K856,'1_Metas_Resultados'!$D$4:$E$403,2,FALSE)))","v":"Sin Registrar"},{"$f":"IF(ISERROR(CONCATENATE($S856,\".\",VLOOKUP($L856,'1_Metas_Resultados'!$D$4:$E$403,2,FALSE))),\"Sin Registrar\",CONCATENATE($S856,\".\",VLOOKUP($L856,'1_Metas_Resultados'!$D$4:$E$403,2,FALSE)))","v":"Sin Registrar"},{"$f":"IF(ISERROR(VLOOKUP(G856,'1_Metas_Resultados'!$D$4:$I$403,6,FALSE)),\"\",VLOOKUP(G856,'1_Metas_Resultados'!$D$4:$I$403,6,FALSE))","v":""}]
[{"$f":"IF(ISERROR(CONCATENATE($S857,\".\",VLOOKUP($G857,'1_Metas_Resultados'!$D$4:$E$403,2,FALSE))),\"Sin Registrar\",CONCATENATE($S857,\".\",VLOOKUP($G857,'1_Metas_Resultados'!$D$4:$E$403,2,FALSE)))","v":"Sin Registrar"},856," ",{"$f":"IF(ISERROR(CONCATENATE($S857,\".\",VLOOKUP($K857,'1_Metas_Resultados'!$D$4:$E$403,2,FALSE))),\"Sin Registrar\",CONCATENATE($S857,\".\",VLOOKUP($K857,'1_Metas_Resultados'!$D$4:$E$403,2,FALSE)))","v":"Sin Registrar"},{"$f":"IF(ISERROR(CONCATENATE($S857,\".\",VLOOKUP($L857,'1_Metas_Resultados'!$D$4:$E$403,2,FALSE))),\"Sin Registrar\",CONCATENATE($S857,\".\",VLOOKUP($L857,'1_Metas_Resultados'!$D$4:$E$403,2,FALSE)))","v":"Sin Registrar"},{"$f":"IF(ISERROR(VLOOKUP(G857,'1_Metas_Resultados'!$D$4:$I$403,6,FALSE)),\"\",VLOOKUP(G857,'1_Metas_Resultados'!$D$4:$I$403,6,FALSE))","v":""}]
[{"$f":"IF(ISERROR(CONCATENATE($S858,\".\",VLOOKUP($G858,'1_Metas_Resultados'!$D$4:$E$403,2,FALSE))),\"Sin Registrar\",CONCATENATE($S858,\".\",VLOOKUP($G858,'1_Metas_Resultados'!$D$4:$E$403,2,FALSE)))","v":"Sin Registrar"},857," ",{"$f":"IF(ISERROR(CONCATENATE($S858,\".\",VLOOKUP($K858,'1_Metas_Resultados'!$D$4:$E$403,2,FALSE))),\"Sin Registrar\",CONCATENATE($S858,\".\",VLOOKUP($K858,'1_Metas_Resultados'!$D$4:$E$403,2,FALSE)))","v":"Sin Registrar"},{"$f":"IF(ISERROR(CONCATENATE($S858,\".\",VLOOKUP($L858,'1_Metas_Resultados'!$D$4:$E$403,2,FALSE))),\"Sin Registrar\",CONCATENATE($S858,\".\",VLOOKUP($L858,'1_Metas_Resultados'!$D$4:$E$403,2,FALSE)))","v":"Sin Registrar"},{"$f":"IF(ISERROR(VLOOKUP(G858,'1_Metas_Resultados'!$D$4:$I$403,6,FALSE)),\"\",VLOOKUP(G858,'1_Metas_Resultados'!$D$4:$I$403,6,FALSE))","v":""}]
[{"$f":"IF(ISERROR(CONCATENATE($S859,\".\",VLOOKUP($G859,'1_Metas_Resultados'!$D$4:$E$403,2,FALSE))),\"Sin Registrar\",CONCATENATE($S859,\".\",VLOOKUP($G859,'1_Metas_Resultados'!$D$4:$E$403,2,FALSE)))","v":"Sin Registrar"},858," ",{"$f":"IF(ISERROR(CONCATENATE($S859,\".\",VLOOKUP($K859,'1_Metas_Resultados'!$D$4:$E$403,2,FALSE))),\"Sin Registrar\",CONCATENATE($S859,\".\",VLOOKUP($K859,'1_Metas_Resultados'!$D$4:$E$403,2,FALSE)))","v":"Sin Registrar"},{"$f":"IF(ISERROR(CONCATENATE($S859,\".\",VLOOKUP($L859,'1_Metas_Resultados'!$D$4:$E$403,2,FALSE))),\"Sin Registrar\",CONCATENATE($S859,\".\",VLOOKUP($L859,'1_Metas_Resultados'!$D$4:$E$403,2,FALSE)))","v":"Sin Registrar"},{"$f":"IF(ISERROR(VLOOKUP(G859,'1_Metas_Resultados'!$D$4:$I$403,6,FALSE)),\"\",VLOOKUP(G859,'1_Metas_Resultados'!$D$4:$I$403,6,FALSE))","v":""}]
[{"$f":"IF(ISERROR(CONCATENATE($S860,\".\",VLOOKUP($G860,'1_Metas_Resultados'!$D$4:$E$403,2,FALSE))),\"Sin Registrar\",CONCATENATE($S860,\".\",VLOOKUP($G860,'1_Metas_Resultados'!$D$4:$E$403,2,FALSE)))","v":"Sin Registrar"},859," ",{"$f":"IF(ISERROR(CONCATENATE($S860,\".\",VLOOKUP($K860,'1_Metas_Resultados'!$D$4:$E$403,2,FALSE))),\"Sin Registrar\",CONCATENATE($S860,\".\",VLOOKUP($K860,'1_Metas_Resultados'!$D$4:$E$403,2,FALSE)))","v":"Sin Registrar"},{"$f":"IF(ISERROR(CONCATENATE($S860,\".\",VLOOKUP($L860,'1_Metas_Resultados'!$D$4:$E$403,2,FALSE))),\"Sin Registrar\",CONCATENATE($S860,\".\",VLOOKUP($L860,'1_Metas_Resultados'!$D$4:$E$403,2,FALSE)))","v":"Sin Registrar"},{"$f":"IF(ISERROR(VLOOKUP(G860,'1_Metas_Resultados'!$D$4:$I$403,6,FALSE)),\"\",VLOOKUP(G860,'1_Metas_Resultados'!$D$4:$I$403,6,FALSE))","v":""}]
[{"$f":"IF(ISERROR(CONCATENATE($S861,\".\",VLOOKUP($G861,'1_Metas_Resultados'!$D$4:$E$403,2,FALSE))),\"Sin Registrar\",CONCATENATE($S861,\".\",VLOOKUP($G861,'1_Metas_Resultados'!$D$4:$E$403,2,FALSE)))","v":"Sin Registrar"},860," ",{"$f":"IF(ISERROR(CONCATENATE($S861,\".\",VLOOKUP($K861,'1_Metas_Resultados'!$D$4:$E$403,2,FALSE))),\"Sin Registrar\",CONCATENATE($S861,\".\",VLOOKUP($K861,'1_Metas_Resultados'!$D$4:$E$403,2,FALSE)))","v":"Sin Registrar"},{"$f":"IF(ISERROR(CONCATENATE($S861,\".\",VLOOKUP($L861,'1_Metas_Resultados'!$D$4:$E$403,2,FALSE))),\"Sin Registrar\",CONCATENATE($S861,\".\",VLOOKUP($L861,'1_Metas_Resultados'!$D$4:$E$403,2,FALSE)))","v":"Sin Registrar"},{"$f":"IF(ISERROR(VLOOKUP(G861,'1_Metas_Resultados'!$D$4:$I$403,6,FALSE)),\"\",VLOOKUP(G861,'1_Metas_Resultados'!$D$4:$I$403,6,FALSE))","v":""}]
[{"$f":"IF(ISERROR(CONCATENATE($S862,\".\",VLOOKUP($G862,'1_Metas_Resultados'!$D$4:$E$403,2,FALSE))),\"Sin Registrar\",CONCATENATE($S862,\".\",VLOOKUP($G862,'1_Metas_Resultados'!$D$4:$E$403,2,FALSE)))","v":"Sin Registrar"},861," ",{"$f":"IF(ISERROR(CONCATENATE($S862,\".\",VLOOKUP($K862,'1_Metas_Resultados'!$D$4:$E$403,2,FALSE))),\"Sin Registrar\",CONCATENATE($S862,\".\",VLOOKUP($K862,'1_Metas_Resultados'!$D$4:$E$403,2,FALSE)))","v":"Sin Registrar"},{"$f":"IF(ISERROR(CONCATENATE($S862,\".\",VLOOKUP($L862,'1_Metas_Resultados'!$D$4:$E$403,2,FALSE))),\"Sin Registrar\",CONCATENATE($S862,\".\",VLOOKUP($L862,'1_Metas_Resultados'!$D$4:$E$403,2,FALSE)))","v":"Sin Registrar"},{"$f":"IF(ISERROR(VLOOKUP(G862,'1_Metas_Resultados'!$D$4:$I$403,6,FALSE)),\"\",VLOOKUP(G862,'1_Metas_Resultados'!$D$4:$I$403,6,FALSE))","v":""}]
[{"$f":"IF(ISERROR(CONCATENATE($S863,\".\",VLOOKUP($G863,'1_Metas_Resultados'!$D$4:$E$403,2,FALSE))),\"Sin Registrar\",CONCATENATE($S863,\".\",VLOOKUP($G863,'1_Metas_Resultados'!$D$4:$E$403,2,FALSE)))","v":"Sin Registrar"},862," ",{"$f":"IF(ISERROR(CONCATENATE($S863,\".\",VLOOKUP($K863,'1_Metas_Resultados'!$D$4:$E$403,2,FALSE))),\"Sin Registrar\",CONCATENATE($S863,\".\",VLOOKUP($K863,'1_Metas_Resultados'!$D$4:$E$403,2,FALSE)))","v":"Sin Registrar"},{"$f":"IF(ISERROR(CONCATENATE($S863,\".\",VLOOKUP($L863,'1_Metas_Resultados'!$D$4:$E$403,2,FALSE))),\"Sin Registrar\",CONCATENATE($S863,\".\",VLOOKUP($L863,'1_Metas_Resultados'!$D$4:$E$403,2,FALSE)))","v":"Sin Registrar"},{"$f":"IF(ISERROR(VLOOKUP(G863,'1_Metas_Resultados'!$D$4:$I$403,6,FALSE)),\"\",VLOOKUP(G863,'1_Metas_Resultados'!$D$4:$I$403,6,FALSE))","v":""}]
[{"$f":"IF(ISERROR(CONCATENATE($S864,\".\",VLOOKUP($G864,'1_Metas_Resultados'!$D$4:$E$403,2,FALSE))),\"Sin Registrar\",CONCATENATE($S864,\".\",VLOOKUP($G864,'1_Metas_Resultados'!$D$4:$E$403,2,FALSE)))","v":"Sin Registrar"},863," ",{"$f":"IF(ISERROR(CONCATENATE($S864,\".\",VLOOKUP($K864,'1_Metas_Resultados'!$D$4:$E$403,2,FALSE))),\"Sin Registrar\",CONCATENATE($S864,\".\",VLOOKUP($K864,'1_Metas_Resultados'!$D$4:$E$403,2,FALSE)))","v":"Sin Registrar"},{"$f":"IF(ISERROR(CONCATENATE($S864,\".\",VLOOKUP($L864,'1_Metas_Resultados'!$D$4:$E$403,2,FALSE))),\"Sin Registrar\",CONCATENATE($S864,\".\",VLOOKUP($L864,'1_Metas_Resultados'!$D$4:$E$403,2,FALSE)))","v":"Sin Registrar"},{"$f":"IF(ISERROR(VLOOKUP(G864,'1_Metas_Resultados'!$D$4:$I$403,6,FALSE)),\"\",VLOOKUP(G864,'1_Metas_Resultados'!$D$4:$I$403,6,FALSE))","v":""}]
[{"$f":"IF(ISERROR(CONCATENATE($S865,\".\",VLOOKUP($G865,'1_Metas_Resultados'!$D$4:$E$403,2,FALSE))),\"Sin Registrar\",CONCATENATE($S865,\".\",VLOOKUP($G865,'1_Metas_Resultados'!$D$4:$E$403,2,FALSE)))","v":"Sin Registrar"},864," ",{"$f":"IF(ISERROR(CONCATENATE($S865,\".\",VLOOKUP($K865,'1_Metas_Resultados'!$D$4:$E$403,2,FALSE))),\"Sin Registrar\",CONCATENATE($S865,\".\",VLOOKUP($K865,'1_Metas_Resultados'!$D$4:$E$403,2,FALSE)))","v":"Sin Registrar"},{"$f":"IF(ISERROR(CONCATENATE($S865,\".\",VLOOKUP($L865,'1_Metas_Resultados'!$D$4:$E$403,2,FALSE))),\"Sin Registrar\",CONCATENATE($S865,\".\",VLOOKUP($L865,'1_Metas_Resultados'!$D$4:$E$403,2,FALSE)))","v":"Sin Registrar"},{"$f":"IF(ISERROR(VLOOKUP(G865,'1_Metas_Resultados'!$D$4:$I$403,6,FALSE)),\"\",VLOOKUP(G865,'1_Metas_Resultados'!$D$4:$I$403,6,FALSE))","v":""}]
[{"$f":"IF(ISERROR(CONCATENATE($S866,\".\",VLOOKUP($G866,'1_Metas_Resultados'!$D$4:$E$403,2,FALSE))),\"Sin Registrar\",CONCATENATE($S866,\".\",VLOOKUP($G866,'1_Metas_Resultados'!$D$4:$E$403,2,FALSE)))","v":"Sin Registrar"},865," ",{"$f":"IF(ISERROR(CONCATENATE($S866,\".\",VLOOKUP($K866,'1_Metas_Resultados'!$D$4:$E$403,2,FALSE))),\"Sin Registrar\",CONCATENATE($S866,\".\",VLOOKUP($K866,'1_Metas_Resultados'!$D$4:$E$403,2,FALSE)))","v":"Sin Registrar"},{"$f":"IF(ISERROR(CONCATENATE($S866,\".\",VLOOKUP($L866,'1_Metas_Resultados'!$D$4:$E$403,2,FALSE))),\"Sin Registrar\",CONCATENATE($S866,\".\",VLOOKUP($L866,'1_Metas_Resultados'!$D$4:$E$403,2,FALSE)))","v":"Sin Registrar"},{"$f":"IF(ISERROR(VLOOKUP(G866,'1_Metas_Resultados'!$D$4:$I$403,6,FALSE)),\"\",VLOOKUP(G866,'1_Metas_Resultados'!$D$4:$I$403,6,FALSE))","v":""}]
[{"$f":"IF(ISERROR(CONCATENATE($S867,\".\",VLOOKUP($G867,'1_Metas_Resultados'!$D$4:$E$403,2,FALSE))),\"Sin Registrar\",CONCATENATE($S867,\".\",VLOOKUP($G867,'1_Metas_Resultados'!$D$4:$E$403,2,FALSE)))","v":"Sin Registrar"},866," ",{"$f":"IF(ISERROR(CONCATENATE($S867,\".\",VLOOKUP($K867,'1_Metas_Resultados'!$D$4:$E$403,2,FALSE))),\"Sin Registrar\",CONCATENATE($S867,\".\",VLOOKUP($K867,'1_Metas_Resultados'!$D$4:$E$403,2,FALSE)))","v":"Sin Registrar"},{"$f":"IF(ISERROR(CONCATENATE($S867,\".\",VLOOKUP($L867,'1_Metas_Resultados'!$D$4:$E$403,2,FALSE))),\"Sin Registrar\",CONCATENATE($S867,\".\",VLOOKUP($L867,'1_Metas_Resultados'!$D$4:$E$403,2,FALSE)))","v":"Sin Registrar"},{"$f":"IF(ISERROR(VLOOKUP(G867,'1_Metas_Resultados'!$D$4:$I$403,6,FALSE)),\"\",VLOOKUP(G867,'1_Metas_Resultados'!$D$4:$I$403,6,FALSE))","v":""}]
[{"$f":"IF(ISERROR(CONCATENATE($S868,\".\",VLOOKUP($G868,'1_Metas_Resultados'!$D$4:$E$403,2,FALSE))),\"Sin Registrar\",CONCATENATE($S868,\".\",VLOOKUP($G868,'1_Metas_Resultados'!$D$4:$E$403,2,FALSE)))","v":"Sin Registrar"},867," ",{"$f":"IF(ISERROR(CONCATENATE($S868,\".\",VLOOKUP($K868,'1_Metas_Resultados'!$D$4:$E$403,2,FALSE))),\"Sin Registrar\",CONCATENATE($S868,\".\",VLOOKUP($K868,'1_Metas_Resultados'!$D$4:$E$403,2,FALSE)))","v":"Sin Registrar"},{"$f":"IF(ISERROR(CONCATENATE($S868,\".\",VLOOKUP($L868,'1_Metas_Resultados'!$D$4:$E$403,2,FALSE))),\"Sin Registrar\",CONCATENATE($S868,\".\",VLOOKUP($L868,'1_Metas_Resultados'!$D$4:$E$403,2,FALSE)))","v":"Sin Registrar"},{"$f":"IF(ISERROR(VLOOKUP(G868,'1_Metas_Resultados'!$D$4:$I$403,6,FALSE)),\"\",VLOOKUP(G868,'1_Metas_Resultados'!$D$4:$I$403,6,FALSE))","v":""}]
[{"$f":"IF(ISERROR(CONCATENATE($S869,\".\",VLOOKUP($G869,'1_Metas_Resultados'!$D$4:$E$403,2,FALSE))),\"Sin Registrar\",CONCATENATE($S869,\".\",VLOOKUP($G869,'1_Metas_Resultados'!$D$4:$E$403,2,FALSE)))","v":"Sin Registrar"},868," ",{"$f":"IF(ISERROR(CONCATENATE($S869,\".\",VLOOKUP($K869,'1_Metas_Resultados'!$D$4:$E$403,2,FALSE))),\"Sin Registrar\",CONCATENATE($S869,\".\",VLOOKUP($K869,'1_Metas_Resultados'!$D$4:$E$403,2,FALSE)))","v":"Sin Registrar"},{"$f":"IF(ISERROR(CONCATENATE($S869,\".\",VLOOKUP($L869,'1_Metas_Resultados'!$D$4:$E$403,2,FALSE))),\"Sin Registrar\",CONCATENATE($S869,\".\",VLOOKUP($L869,'1_Metas_Resultados'!$D$4:$E$403,2,FALSE)))","v":"Sin Registrar"},{"$f":"IF(ISERROR(VLOOKUP(G869,'1_Metas_Resultados'!$D$4:$I$403,6,FALSE)),\"\",VLOOKUP(G869,'1_Metas_Resultados'!$D$4:$I$403,6,FALSE))","v":""}]
[{"$f":"IF(ISERROR(CONCATENATE($S870,\".\",VLOOKUP($G870,'1_Metas_Resultados'!$D$4:$E$403,2,FALSE))),\"Sin Registrar\",CONCATENATE($S870,\".\",VLOOKUP($G870,'1_Metas_Resultados'!$D$4:$E$403,2,FALSE)))","v":"Sin Registrar"},869," ",{"$f":"IF(ISERROR(CONCATENATE($S870,\".\",VLOOKUP($K870,'1_Metas_Resultados'!$D$4:$E$403,2,FALSE))),\"Sin Registrar\",CONCATENATE($S870,\".\",VLOOKUP($K870,'1_Metas_Resultados'!$D$4:$E$403,2,FALSE)))","v":"Sin Registrar"},{"$f":"IF(ISERROR(CONCATENATE($S870,\".\",VLOOKUP($L870,'1_Metas_Resultados'!$D$4:$E$403,2,FALSE))),\"Sin Registrar\",CONCATENATE($S870,\".\",VLOOKUP($L870,'1_Metas_Resultados'!$D$4:$E$403,2,FALSE)))","v":"Sin Registrar"},{"$f":"IF(ISERROR(VLOOKUP(G870,'1_Metas_Resultados'!$D$4:$I$403,6,FALSE)),\"\",VLOOKUP(G870,'1_Metas_Resultados'!$D$4:$I$403,6,FALSE))","v":""}]
[{"$f":"IF(ISERROR(CONCATENATE($S871,\".\",VLOOKUP($G871,'1_Metas_Resultados'!$D$4:$E$403,2,FALSE))),\"Sin Registrar\",CONCATENATE($S871,\".\",VLOOKUP($G871,'1_Metas_Resultados'!$D$4:$E$403,2,FALSE)))","v":"Sin Registrar"},870," ",{"$f":"IF(ISERROR(CONCATENATE($S871,\".\",VLOOKUP($K871,'1_Metas_Resultados'!$D$4:$E$403,2,FALSE))),\"Sin Registrar\",CONCATENATE($S871,\".\",VLOOKUP($K871,'1_Metas_Resultados'!$D$4:$E$403,2,FALSE)))","v":"Sin Registrar"},{"$f":"IF(ISERROR(CONCATENATE($S871,\".\",VLOOKUP($L871,'1_Metas_Resultados'!$D$4:$E$403,2,FALSE))),\"Sin Registrar\",CONCATENATE($S871,\".\",VLOOKUP($L871,'1_Metas_Resultados'!$D$4:$E$403,2,FALSE)))","v":"Sin Registrar"},{"$f":"IF(ISERROR(VLOOKUP(G871,'1_Metas_Resultados'!$D$4:$I$403,6,FALSE)),\"\",VLOOKUP(G871,'1_Metas_Resultados'!$D$4:$I$403,6,FALSE))","v":""}]
[{"$f":"IF(ISERROR(CONCATENATE($S872,\".\",VLOOKUP($G872,'1_Metas_Resultados'!$D$4:$E$403,2,FALSE))),\"Sin Registrar\",CONCATENATE($S872,\".\",VLOOKUP($G872,'1_Metas_Resultados'!$D$4:$E$403,2,FALSE)))","v":"Sin Registrar"},871," ",{"$f":"IF(ISERROR(CONCATENATE($S872,\".\",VLOOKUP($K872,'1_Metas_Resultados'!$D$4:$E$403,2,FALSE))),\"Sin Registrar\",CONCATENATE($S872,\".\",VLOOKUP($K872,'1_Metas_Resultados'!$D$4:$E$403,2,FALSE)))","v":"Sin Registrar"},{"$f":"IF(ISERROR(CONCATENATE($S872,\".\",VLOOKUP($L872,'1_Metas_Resultados'!$D$4:$E$403,2,FALSE))),\"Sin Registrar\",CONCATENATE($S872,\".\",VLOOKUP($L872,'1_Metas_Resultados'!$D$4:$E$403,2,FALSE)))","v":"Sin Registrar"},{"$f":"IF(ISERROR(VLOOKUP(G872,'1_Metas_Resultados'!$D$4:$I$403,6,FALSE)),\"\",VLOOKUP(G872,'1_Metas_Resultados'!$D$4:$I$403,6,FALSE))","v":""}]
[{"$f":"IF(ISERROR(CONCATENATE($S873,\".\",VLOOKUP($G873,'1_Metas_Resultados'!$D$4:$E$403,2,FALSE))),\"Sin Registrar\",CONCATENATE($S873,\".\",VLOOKUP($G873,'1_Metas_Resultados'!$D$4:$E$403,2,FALSE)))","v":"Sin Registrar"},872," ",{"$f":"IF(ISERROR(CONCATENATE($S873,\".\",VLOOKUP($K873,'1_Metas_Resultados'!$D$4:$E$403,2,FALSE))),\"Sin Registrar\",CONCATENATE($S873,\".\",VLOOKUP($K873,'1_Metas_Resultados'!$D$4:$E$403,2,FALSE)))","v":"Sin Registrar"},{"$f":"IF(ISERROR(CONCATENATE($S873,\".\",VLOOKUP($L873,'1_Metas_Resultados'!$D$4:$E$403,2,FALSE))),\"Sin Registrar\",CONCATENATE($S873,\".\",VLOOKUP($L873,'1_Metas_Resultados'!$D$4:$E$403,2,FALSE)))","v":"Sin Registrar"},{"$f":"IF(ISERROR(VLOOKUP(G873,'1_Metas_Resultados'!$D$4:$I$403,6,FALSE)),\"\",VLOOKUP(G873,'1_Metas_Resultados'!$D$4:$I$403,6,FALSE))","v":""}]
[{"$f":"IF(ISERROR(CONCATENATE($S874,\".\",VLOOKUP($G874,'1_Metas_Resultados'!$D$4:$E$403,2,FALSE))),\"Sin Registrar\",CONCATENATE($S874,\".\",VLOOKUP($G874,'1_Metas_Resultados'!$D$4:$E$403,2,FALSE)))","v":"Sin Registrar"},873," ",{"$f":"IF(ISERROR(CONCATENATE($S874,\".\",VLOOKUP($K874,'1_Metas_Resultados'!$D$4:$E$403,2,FALSE))),\"Sin Registrar\",CONCATENATE($S874,\".\",VLOOKUP($K874,'1_Metas_Resultados'!$D$4:$E$403,2,FALSE)))","v":"Sin Registrar"},{"$f":"IF(ISERROR(CONCATENATE($S874,\".\",VLOOKUP($L874,'1_Metas_Resultados'!$D$4:$E$403,2,FALSE))),\"Sin Registrar\",CONCATENATE($S874,\".\",VLOOKUP($L874,'1_Metas_Resultados'!$D$4:$E$403,2,FALSE)))","v":"Sin Registrar"},{"$f":"IF(ISERROR(VLOOKUP(G874,'1_Metas_Resultados'!$D$4:$I$403,6,FALSE)),\"\",VLOOKUP(G874,'1_Metas_Resultados'!$D$4:$I$403,6,FALSE))","v":""}]
[{"$f":"IF(ISERROR(CONCATENATE($S875,\".\",VLOOKUP($G875,'1_Metas_Resultados'!$D$4:$E$403,2,FALSE))),\"Sin Registrar\",CONCATENATE($S875,\".\",VLOOKUP($G875,'1_Metas_Resultados'!$D$4:$E$403,2,FALSE)))","v":"Sin Registrar"},874," ",{"$f":"IF(ISERROR(CONCATENATE($S875,\".\",VLOOKUP($K875,'1_Metas_Resultados'!$D$4:$E$403,2,FALSE))),\"Sin Registrar\",CONCATENATE($S875,\".\",VLOOKUP($K875,'1_Metas_Resultados'!$D$4:$E$403,2,FALSE)))","v":"Sin Registrar"},{"$f":"IF(ISERROR(CONCATENATE($S875,\".\",VLOOKUP($L875,'1_Metas_Resultados'!$D$4:$E$403,2,FALSE))),\"Sin Registrar\",CONCATENATE($S875,\".\",VLOOKUP($L875,'1_Metas_Resultados'!$D$4:$E$403,2,FALSE)))","v":"Sin Registrar"},{"$f":"IF(ISERROR(VLOOKUP(G875,'1_Metas_Resultados'!$D$4:$I$403,6,FALSE)),\"\",VLOOKUP(G875,'1_Metas_Resultados'!$D$4:$I$403,6,FALSE))","v":""}]
[{"$f":"IF(ISERROR(CONCATENATE($S876,\".\",VLOOKUP($G876,'1_Metas_Resultados'!$D$4:$E$403,2,FALSE))),\"Sin Registrar\",CONCATENATE($S876,\".\",VLOOKUP($G876,'1_Metas_Resultados'!$D$4:$E$403,2,FALSE)))","v":"Sin Registrar"},875," ",{"$f":"IF(ISERROR(CONCATENATE($S876,\".\",VLOOKUP($K876,'1_Metas_Resultados'!$D$4:$E$403,2,FALSE))),\"Sin Registrar\",CONCATENATE($S876,\".\",VLOOKUP($K876,'1_Metas_Resultados'!$D$4:$E$403,2,FALSE)))","v":"Sin Registrar"},{"$f":"IF(ISERROR(CONCATENATE($S876,\".\",VLOOKUP($L876,'1_Metas_Resultados'!$D$4:$E$403,2,FALSE))),\"Sin Registrar\",CONCATENATE($S876,\".\",VLOOKUP($L876,'1_Metas_Resultados'!$D$4:$E$403,2,FALSE)))","v":"Sin Registrar"},{"$f":"IF(ISERROR(VLOOKUP(G876,'1_Metas_Resultados'!$D$4:$I$403,6,FALSE)),\"\",VLOOKUP(G876,'1_Metas_Resultados'!$D$4:$I$403,6,FALSE))","v":""}]
[{"$f":"IF(ISERROR(CONCATENATE($S877,\".\",VLOOKUP($G877,'1_Metas_Resultados'!$D$4:$E$403,2,FALSE))),\"Sin Registrar\",CONCATENATE($S877,\".\",VLOOKUP($G877,'1_Metas_Resultados'!$D$4:$E$403,2,FALSE)))","v":"Sin Registrar"},876," ",{"$f":"IF(ISERROR(CONCATENATE($S877,\".\",VLOOKUP($K877,'1_Metas_Resultados'!$D$4:$E$403,2,FALSE))),\"Sin Registrar\",CONCATENATE($S877,\".\",VLOOKUP($K877,'1_Metas_Resultados'!$D$4:$E$403,2,FALSE)))","v":"Sin Registrar"},{"$f":"IF(ISERROR(CONCATENATE($S877,\".\",VLOOKUP($L877,'1_Metas_Resultados'!$D$4:$E$403,2,FALSE))),\"Sin Registrar\",CONCATENATE($S877,\".\",VLOOKUP($L877,'1_Metas_Resultados'!$D$4:$E$403,2,FALSE)))","v":"Sin Registrar"},{"$f":"IF(ISERROR(VLOOKUP(G877,'1_Metas_Resultados'!$D$4:$I$403,6,FALSE)),\"\",VLOOKUP(G877,'1_Metas_Resultados'!$D$4:$I$403,6,FALSE))","v":""}]
[{"$f":"IF(ISERROR(CONCATENATE($S878,\".\",VLOOKUP($G878,'1_Metas_Resultados'!$D$4:$E$403,2,FALSE))),\"Sin Registrar\",CONCATENATE($S878,\".\",VLOOKUP($G878,'1_Metas_Resultados'!$D$4:$E$403,2,FALSE)))","v":"Sin Registrar"},877," ",{"$f":"IF(ISERROR(CONCATENATE($S878,\".\",VLOOKUP($K878,'1_Metas_Resultados'!$D$4:$E$403,2,FALSE))),\"Sin Registrar\",CONCATENATE($S878,\".\",VLOOKUP($K878,'1_Metas_Resultados'!$D$4:$E$403,2,FALSE)))","v":"Sin Registrar"},{"$f":"IF(ISERROR(CONCATENATE($S878,\".\",VLOOKUP($L878,'1_Metas_Resultados'!$D$4:$E$403,2,FALSE))),\"Sin Registrar\",CONCATENATE($S878,\".\",VLOOKUP($L878,'1_Metas_Resultados'!$D$4:$E$403,2,FALSE)))","v":"Sin Registrar"},{"$f":"IF(ISERROR(VLOOKUP(G878,'1_Metas_Resultados'!$D$4:$I$403,6,FALSE)),\"\",VLOOKUP(G878,'1_Metas_Resultados'!$D$4:$I$403,6,FALSE))","v":""}]
[{"$f":"IF(ISERROR(CONCATENATE($S879,\".\",VLOOKUP($G879,'1_Metas_Resultados'!$D$4:$E$403,2,FALSE))),\"Sin Registrar\",CONCATENATE($S879,\".\",VLOOKUP($G879,'1_Metas_Resultados'!$D$4:$E$403,2,FALSE)))","v":"Sin Registrar"},878," ",{"$f":"IF(ISERROR(CONCATENATE($S879,\".\",VLOOKUP($K879,'1_Metas_Resultados'!$D$4:$E$403,2,FALSE))),\"Sin Registrar\",CONCATENATE($S879,\".\",VLOOKUP($K879,'1_Metas_Resultados'!$D$4:$E$403,2,FALSE)))","v":"Sin Registrar"},{"$f":"IF(ISERROR(CONCATENATE($S879,\".\",VLOOKUP($L879,'1_Metas_Resultados'!$D$4:$E$403,2,FALSE))),\"Sin Registrar\",CONCATENATE($S879,\".\",VLOOKUP($L879,'1_Metas_Resultados'!$D$4:$E$403,2,FALSE)))","v":"Sin Registrar"},{"$f":"IF(ISERROR(VLOOKUP(G879,'1_Metas_Resultados'!$D$4:$I$403,6,FALSE)),\"\",VLOOKUP(G879,'1_Metas_Resultados'!$D$4:$I$403,6,FALSE))","v":""}]
[{"$f":"IF(ISERROR(CONCATENATE($S880,\".\",VLOOKUP($G880,'1_Metas_Resultados'!$D$4:$E$403,2,FALSE))),\"Sin Registrar\",CONCATENATE($S880,\".\",VLOOKUP($G880,'1_Metas_Resultados'!$D$4:$E$403,2,FALSE)))","v":"Sin Registrar"},879," ",{"$f":"IF(ISERROR(CONCATENATE($S880,\".\",VLOOKUP($K880,'1_Metas_Resultados'!$D$4:$E$403,2,FALSE))),\"Sin Registrar\",CONCATENATE($S880,\".\",VLOOKUP($K880,'1_Metas_Resultados'!$D$4:$E$403,2,FALSE)))","v":"Sin Registrar"},{"$f":"IF(ISERROR(CONCATENATE($S880,\".\",VLOOKUP($L880,'1_Metas_Resultados'!$D$4:$E$403,2,FALSE))),\"Sin Registrar\",CONCATENATE($S880,\".\",VLOOKUP($L880,'1_Metas_Resultados'!$D$4:$E$403,2,FALSE)))","v":"Sin Registrar"},{"$f":"IF(ISERROR(VLOOKUP(G880,'1_Metas_Resultados'!$D$4:$I$403,6,FALSE)),\"\",VLOOKUP(G880,'1_Metas_Resultados'!$D$4:$I$403,6,FALSE))","v":""}]
[{"$f":"IF(ISERROR(CONCATENATE($S881,\".\",VLOOKUP($G881,'1_Metas_Resultados'!$D$4:$E$403,2,FALSE))),\"Sin Registrar\",CONCATENATE($S881,\".\",VLOOKUP($G881,'1_Metas_Resultados'!$D$4:$E$403,2,FALSE)))","v":"Sin Registrar"},880," ",{"$f":"IF(ISERROR(CONCATENATE($S881,\".\",VLOOKUP($K881,'1_Metas_Resultados'!$D$4:$E$403,2,FALSE))),\"Sin Registrar\",CONCATENATE($S881,\".\",VLOOKUP($K881,'1_Metas_Resultados'!$D$4:$E$403,2,FALSE)))","v":"Sin Registrar"},{"$f":"IF(ISERROR(CONCATENATE($S881,\".\",VLOOKUP($L881,'1_Metas_Resultados'!$D$4:$E$403,2,FALSE))),\"Sin Registrar\",CONCATENATE($S881,\".\",VLOOKUP($L881,'1_Metas_Resultados'!$D$4:$E$403,2,FALSE)))","v":"Sin Registrar"},{"$f":"IF(ISERROR(VLOOKUP(G881,'1_Metas_Resultados'!$D$4:$I$403,6,FALSE)),\"\",VLOOKUP(G881,'1_Metas_Resultados'!$D$4:$I$403,6,FALSE))","v":""}]
[{"$f":"IF(ISERROR(CONCATENATE($S882,\".\",VLOOKUP($G882,'1_Metas_Resultados'!$D$4:$E$403,2,FALSE))),\"Sin Registrar\",CONCATENATE($S882,\".\",VLOOKUP($G882,'1_Metas_Resultados'!$D$4:$E$403,2,FALSE)))","v":"Sin Registrar"},881," ",{"$f":"IF(ISERROR(CONCATENATE($S882,\".\",VLOOKUP($K882,'1_Metas_Resultados'!$D$4:$E$403,2,FALSE))),\"Sin Registrar\",CONCATENATE($S882,\".\",VLOOKUP($K882,'1_Metas_Resultados'!$D$4:$E$403,2,FALSE)))","v":"Sin Registrar"},{"$f":"IF(ISERROR(CONCATENATE($S882,\".\",VLOOKUP($L882,'1_Metas_Resultados'!$D$4:$E$403,2,FALSE))),\"Sin Registrar\",CONCATENATE($S882,\".\",VLOOKUP($L882,'1_Metas_Resultados'!$D$4:$E$403,2,FALSE)))","v":"Sin Registrar"},{"$f":"IF(ISERROR(VLOOKUP(G882,'1_Metas_Resultados'!$D$4:$I$403,6,FALSE)),\"\",VLOOKUP(G882,'1_Metas_Resultados'!$D$4:$I$403,6,FALSE))","v":""}]
[{"$f":"IF(ISERROR(CONCATENATE($S883,\".\",VLOOKUP($G883,'1_Metas_Resultados'!$D$4:$E$403,2,FALSE))),\"Sin Registrar\",CONCATENATE($S883,\".\",VLOOKUP($G883,'1_Metas_Resultados'!$D$4:$E$403,2,FALSE)))","v":"Sin Registrar"},882," ",{"$f":"IF(ISERROR(CONCATENATE($S883,\".\",VLOOKUP($K883,'1_Metas_Resultados'!$D$4:$E$403,2,FALSE))),\"Sin Registrar\",CONCATENATE($S883,\".\",VLOOKUP($K883,'1_Metas_Resultados'!$D$4:$E$403,2,FALSE)))","v":"Sin Registrar"},{"$f":"IF(ISERROR(CONCATENATE($S883,\".\",VLOOKUP($L883,'1_Metas_Resultados'!$D$4:$E$403,2,FALSE))),\"Sin Registrar\",CONCATENATE($S883,\".\",VLOOKUP($L883,'1_Metas_Resultados'!$D$4:$E$403,2,FALSE)))","v":"Sin Registrar"},{"$f":"IF(ISERROR(VLOOKUP(G883,'1_Metas_Resultados'!$D$4:$I$403,6,FALSE)),\"\",VLOOKUP(G883,'1_Metas_Resultados'!$D$4:$I$403,6,FALSE))","v":""}]
[{"$f":"IF(ISERROR(CONCATENATE($S884,\".\",VLOOKUP($G884,'1_Metas_Resultados'!$D$4:$E$403,2,FALSE))),\"Sin Registrar\",CONCATENATE($S884,\".\",VLOOKUP($G884,'1_Metas_Resultados'!$D$4:$E$403,2,FALSE)))","v":"Sin Registrar"},883," ",{"$f":"IF(ISERROR(CONCATENATE($S884,\".\",VLOOKUP($K884,'1_Metas_Resultados'!$D$4:$E$403,2,FALSE))),\"Sin Registrar\",CONCATENATE($S884,\".\",VLOOKUP($K884,'1_Metas_Resultados'!$D$4:$E$403,2,FALSE)))","v":"Sin Registrar"},{"$f":"IF(ISERROR(CONCATENATE($S884,\".\",VLOOKUP($L884,'1_Metas_Resultados'!$D$4:$E$403,2,FALSE))),\"Sin Registrar\",CONCATENATE($S884,\".\",VLOOKUP($L884,'1_Metas_Resultados'!$D$4:$E$403,2,FALSE)))","v":"Sin Registrar"},{"$f":"IF(ISERROR(VLOOKUP(G884,'1_Metas_Resultados'!$D$4:$I$403,6,FALSE)),\"\",VLOOKUP(G884,'1_Metas_Resultados'!$D$4:$I$403,6,FALSE))","v":""}]
[{"$f":"IF(ISERROR(CONCATENATE($S885,\".\",VLOOKUP($G885,'1_Metas_Resultados'!$D$4:$E$403,2,FALSE))),\"Sin Registrar\",CONCATENATE($S885,\".\",VLOOKUP($G885,'1_Metas_Resultados'!$D$4:$E$403,2,FALSE)))","v":"Sin Registrar"},884," ",{"$f":"IF(ISERROR(CONCATENATE($S885,\".\",VLOOKUP($K885,'1_Metas_Resultados'!$D$4:$E$403,2,FALSE))),\"Sin Registrar\",CONCATENATE($S885,\".\",VLOOKUP($K885,'1_Metas_Resultados'!$D$4:$E$403,2,FALSE)))","v":"Sin Registrar"},{"$f":"IF(ISERROR(CONCATENATE($S885,\".\",VLOOKUP($L885,'1_Metas_Resultados'!$D$4:$E$403,2,FALSE))),\"Sin Registrar\",CONCATENATE($S885,\".\",VLOOKUP($L885,'1_Metas_Resultados'!$D$4:$E$403,2,FALSE)))","v":"Sin Registrar"},{"$f":"IF(ISERROR(VLOOKUP(G885,'1_Metas_Resultados'!$D$4:$I$403,6,FALSE)),\"\",VLOOKUP(G885,'1_Metas_Resultados'!$D$4:$I$403,6,FALSE))","v":""}]
[{"$f":"IF(ISERROR(CONCATENATE($S886,\".\",VLOOKUP($G886,'1_Metas_Resultados'!$D$4:$E$403,2,FALSE))),\"Sin Registrar\",CONCATENATE($S886,\".\",VLOOKUP($G886,'1_Metas_Resultados'!$D$4:$E$403,2,FALSE)))","v":"Sin Registrar"},885," ",{"$f":"IF(ISERROR(CONCATENATE($S886,\".\",VLOOKUP($K886,'1_Metas_Resultados'!$D$4:$E$403,2,FALSE))),\"Sin Registrar\",CONCATENATE($S886,\".\",VLOOKUP($K886,'1_Metas_Resultados'!$D$4:$E$403,2,FALSE)))","v":"Sin Registrar"},{"$f":"IF(ISERROR(CONCATENATE($S886,\".\",VLOOKUP($L886,'1_Metas_Resultados'!$D$4:$E$403,2,FALSE))),\"Sin Registrar\",CONCATENATE($S886,\".\",VLOOKUP($L886,'1_Metas_Resultados'!$D$4:$E$403,2,FALSE)))","v":"Sin Registrar"},{"$f":"IF(ISERROR(VLOOKUP(G886,'1_Metas_Resultados'!$D$4:$I$403,6,FALSE)),\"\",VLOOKUP(G886,'1_Metas_Resultados'!$D$4:$I$403,6,FALSE))","v":""}]
[{"$f":"IF(ISERROR(CONCATENATE($S887,\".\",VLOOKUP($G887,'1_Metas_Resultados'!$D$4:$E$403,2,FALSE))),\"Sin Registrar\",CONCATENATE($S887,\".\",VLOOKUP($G887,'1_Metas_Resultados'!$D$4:$E$403,2,FALSE)))","v":"Sin Registrar"},886," ",{"$f":"IF(ISERROR(CONCATENATE($S887,\".\",VLOOKUP($K887,'1_Metas_Resultados'!$D$4:$E$403,2,FALSE))),\"Sin Registrar\",CONCATENATE($S887,\".\",VLOOKUP($K887,'1_Metas_Resultados'!$D$4:$E$403,2,FALSE)))","v":"Sin Registrar"},{"$f":"IF(ISERROR(CONCATENATE($S887,\".\",VLOOKUP($L887,'1_Metas_Resultados'!$D$4:$E$403,2,FALSE))),\"Sin Registrar\",CONCATENATE($S887,\".\",VLOOKUP($L887,'1_Metas_Resultados'!$D$4:$E$403,2,FALSE)))","v":"Sin Registrar"},{"$f":"IF(ISERROR(VLOOKUP(G887,'1_Metas_Resultados'!$D$4:$I$403,6,FALSE)),\"\",VLOOKUP(G887,'1_Metas_Resultados'!$D$4:$I$403,6,FALSE))","v":""}]
[{"$f":"IF(ISERROR(CONCATENATE($S888,\".\",VLOOKUP($G888,'1_Metas_Resultados'!$D$4:$E$403,2,FALSE))),\"Sin Registrar\",CONCATENATE($S888,\".\",VLOOKUP($G888,'1_Metas_Resultados'!$D$4:$E$403,2,FALSE)))","v":"Sin Registrar"},887," ",{"$f":"IF(ISERROR(CONCATENATE($S888,\".\",VLOOKUP($K888,'1_Metas_Resultados'!$D$4:$E$403,2,FALSE))),\"Sin Registrar\",CONCATENATE($S888,\".\",VLOOKUP($K888,'1_Metas_Resultados'!$D$4:$E$403,2,FALSE)))","v":"Sin Registrar"},{"$f":"IF(ISERROR(CONCATENATE($S888,\".\",VLOOKUP($L888,'1_Metas_Resultados'!$D$4:$E$403,2,FALSE))),\"Sin Registrar\",CONCATENATE($S888,\".\",VLOOKUP($L888,'1_Metas_Resultados'!$D$4:$E$403,2,FALSE)))","v":"Sin Registrar"},{"$f":"IF(ISERROR(VLOOKUP(G888,'1_Metas_Resultados'!$D$4:$I$403,6,FALSE)),\"\",VLOOKUP(G888,'1_Metas_Resultados'!$D$4:$I$403,6,FALSE))","v":""}]
[{"$f":"IF(ISERROR(CONCATENATE($S889,\".\",VLOOKUP($G889,'1_Metas_Resultados'!$D$4:$E$403,2,FALSE))),\"Sin Registrar\",CONCATENATE($S889,\".\",VLOOKUP($G889,'1_Metas_Resultados'!$D$4:$E$403,2,FALSE)))","v":"Sin Registrar"},888," ",{"$f":"IF(ISERROR(CONCATENATE($S889,\".\",VLOOKUP($K889,'1_Metas_Resultados'!$D$4:$E$403,2,FALSE))),\"Sin Registrar\",CONCATENATE($S889,\".\",VLOOKUP($K889,'1_Metas_Resultados'!$D$4:$E$403,2,FALSE)))","v":"Sin Registrar"},{"$f":"IF(ISERROR(CONCATENATE($S889,\".\",VLOOKUP($L889,'1_Metas_Resultados'!$D$4:$E$403,2,FALSE))),\"Sin Registrar\",CONCATENATE($S889,\".\",VLOOKUP($L889,'1_Metas_Resultados'!$D$4:$E$403,2,FALSE)))","v":"Sin Registrar"},{"$f":"IF(ISERROR(VLOOKUP(G889,'1_Metas_Resultados'!$D$4:$I$403,6,FALSE)),\"\",VLOOKUP(G889,'1_Metas_Resultados'!$D$4:$I$403,6,FALSE))","v":""}]
[{"$f":"IF(ISERROR(CONCATENATE($S890,\".\",VLOOKUP($G890,'1_Metas_Resultados'!$D$4:$E$403,2,FALSE))),\"Sin Registrar\",CONCATENATE($S890,\".\",VLOOKUP($G890,'1_Metas_Resultados'!$D$4:$E$403,2,FALSE)))","v":"Sin Registrar"},889," ",{"$f":"IF(ISERROR(CONCATENATE($S890,\".\",VLOOKUP($K890,'1_Metas_Resultados'!$D$4:$E$403,2,FALSE))),\"Sin Registrar\",CONCATENATE($S890,\".\",VLOOKUP($K890,'1_Metas_Resultados'!$D$4:$E$403,2,FALSE)))","v":"Sin Registrar"},{"$f":"IF(ISERROR(CONCATENATE($S890,\".\",VLOOKUP($L890,'1_Metas_Resultados'!$D$4:$E$403,2,FALSE))),\"Sin Registrar\",CONCATENATE($S890,\".\",VLOOKUP($L890,'1_Metas_Resultados'!$D$4:$E$403,2,FALSE)))","v":"Sin Registrar"},{"$f":"IF(ISERROR(VLOOKUP(G890,'1_Metas_Resultados'!$D$4:$I$403,6,FALSE)),\"\",VLOOKUP(G890,'1_Metas_Resultados'!$D$4:$I$403,6,FALSE))","v":""}]
[{"$f":"IF(ISERROR(CONCATENATE($S891,\".\",VLOOKUP($G891,'1_Metas_Resultados'!$D$4:$E$403,2,FALSE))),\"Sin Registrar\",CONCATENATE($S891,\".\",VLOOKUP($G891,'1_Metas_Resultados'!$D$4:$E$403,2,FALSE)))","v":"Sin Registrar"},890," ",{"$f":"IF(ISERROR(CONCATENATE($S891,\".\",VLOOKUP($K891,'1_Metas_Resultados'!$D$4:$E$403,2,FALSE))),\"Sin Registrar\",CONCATENATE($S891,\".\",VLOOKUP($K891,'1_Metas_Resultados'!$D$4:$E$403,2,FALSE)))","v":"Sin Registrar"},{"$f":"IF(ISERROR(CONCATENATE($S891,\".\",VLOOKUP($L891,'1_Metas_Resultados'!$D$4:$E$403,2,FALSE))),\"Sin Registrar\",CONCATENATE($S891,\".\",VLOOKUP($L891,'1_Metas_Resultados'!$D$4:$E$403,2,FALSE)))","v":"Sin Registrar"},{"$f":"IF(ISERROR(VLOOKUP(G891,'1_Metas_Resultados'!$D$4:$I$403,6,FALSE)),\"\",VLOOKUP(G891,'1_Metas_Resultados'!$D$4:$I$403,6,FALSE))","v":""}]
[{"$f":"IF(ISERROR(CONCATENATE($S892,\".\",VLOOKUP($G892,'1_Metas_Resultados'!$D$4:$E$403,2,FALSE))),\"Sin Registrar\",CONCATENATE($S892,\".\",VLOOKUP($G892,'1_Metas_Resultados'!$D$4:$E$403,2,FALSE)))","v":"Sin Registrar"},891," ",{"$f":"IF(ISERROR(CONCATENATE($S892,\".\",VLOOKUP($K892,'1_Metas_Resultados'!$D$4:$E$403,2,FALSE))),\"Sin Registrar\",CONCATENATE($S892,\".\",VLOOKUP($K892,'1_Metas_Resultados'!$D$4:$E$403,2,FALSE)))","v":"Sin Registrar"},{"$f":"IF(ISERROR(CONCATENATE($S892,\".\",VLOOKUP($L892,'1_Metas_Resultados'!$D$4:$E$403,2,FALSE))),\"Sin Registrar\",CONCATENATE($S892,\".\",VLOOKUP($L892,'1_Metas_Resultados'!$D$4:$E$403,2,FALSE)))","v":"Sin Registrar"},{"$f":"IF(ISERROR(VLOOKUP(G892,'1_Metas_Resultados'!$D$4:$I$403,6,FALSE)),\"\",VLOOKUP(G892,'1_Metas_Resultados'!$D$4:$I$403,6,FALSE))","v":""}]
[{"$f":"IF(ISERROR(CONCATENATE($S893,\".\",VLOOKUP($G893,'1_Metas_Resultados'!$D$4:$E$403,2,FALSE))),\"Sin Registrar\",CONCATENATE($S893,\".\",VLOOKUP($G893,'1_Metas_Resultados'!$D$4:$E$403,2,FALSE)))","v":"Sin Registrar"},892," ",{"$f":"IF(ISERROR(CONCATENATE($S893,\".\",VLOOKUP($K893,'1_Metas_Resultados'!$D$4:$E$403,2,FALSE))),\"Sin Registrar\",CONCATENATE($S893,\".\",VLOOKUP($K893,'1_Metas_Resultados'!$D$4:$E$403,2,FALSE)))","v":"Sin Registrar"},{"$f":"IF(ISERROR(CONCATENATE($S893,\".\",VLOOKUP($L893,'1_Metas_Resultados'!$D$4:$E$403,2,FALSE))),\"Sin Registrar\",CONCATENATE($S893,\".\",VLOOKUP($L893,'1_Metas_Resultados'!$D$4:$E$403,2,FALSE)))","v":"Sin Registrar"},{"$f":"IF(ISERROR(VLOOKUP(G893,'1_Metas_Resultados'!$D$4:$I$403,6,FALSE)),\"\",VLOOKUP(G893,'1_Metas_Resultados'!$D$4:$I$403,6,FALSE))","v":""}]
[{"$f":"IF(ISERROR(CONCATENATE($S894,\".\",VLOOKUP($G894,'1_Metas_Resultados'!$D$4:$E$403,2,FALSE))),\"Sin Registrar\",CONCATENATE($S894,\".\",VLOOKUP($G894,'1_Metas_Resultados'!$D$4:$E$403,2,FALSE)))","v":"Sin Registrar"},893," ",{"$f":"IF(ISERROR(CONCATENATE($S894,\".\",VLOOKUP($K894,'1_Metas_Resultados'!$D$4:$E$403,2,FALSE))),\"Sin Registrar\",CONCATENATE($S894,\".\",VLOOKUP($K894,'1_Metas_Resultados'!$D$4:$E$403,2,FALSE)))","v":"Sin Registrar"},{"$f":"IF(ISERROR(CONCATENATE($S894,\".\",VLOOKUP($L894,'1_Metas_Resultados'!$D$4:$E$403,2,FALSE))),\"Sin Registrar\",CONCATENATE($S894,\".\",VLOOKUP($L894,'1_Metas_Resultados'!$D$4:$E$403,2,FALSE)))","v":"Sin Registrar"},{"$f":"IF(ISERROR(VLOOKUP(G894,'1_Metas_Resultados'!$D$4:$I$403,6,FALSE)),\"\",VLOOKUP(G894,'1_Metas_Resultados'!$D$4:$I$403,6,FALSE))","v":""}]
[{"$f":"IF(ISERROR(CONCATENATE($S895,\".\",VLOOKUP($G895,'1_Metas_Resultados'!$D$4:$E$403,2,FALSE))),\"Sin Registrar\",CONCATENATE($S895,\".\",VLOOKUP($G895,'1_Metas_Resultados'!$D$4:$E$403,2,FALSE)))","v":"Sin Registrar"},894," ",{"$f":"IF(ISERROR(CONCATENATE($S895,\".\",VLOOKUP($K895,'1_Metas_Resultados'!$D$4:$E$403,2,FALSE))),\"Sin Registrar\",CONCATENATE($S895,\".\",VLOOKUP($K895,'1_Metas_Resultados'!$D$4:$E$403,2,FALSE)))","v":"Sin Registrar"},{"$f":"IF(ISERROR(CONCATENATE($S895,\".\",VLOOKUP($L895,'1_Metas_Resultados'!$D$4:$E$403,2,FALSE))),\"Sin Registrar\",CONCATENATE($S895,\".\",VLOOKUP($L895,'1_Metas_Resultados'!$D$4:$E$403,2,FALSE)))","v":"Sin Registrar"},{"$f":"IF(ISERROR(VLOOKUP(G895,'1_Metas_Resultados'!$D$4:$I$403,6,FALSE)),\"\",VLOOKUP(G895,'1_Metas_Resultados'!$D$4:$I$403,6,FALSE))","v":""}]
[{"$f":"IF(ISERROR(CONCATENATE($S896,\".\",VLOOKUP($G896,'1_Metas_Resultados'!$D$4:$E$403,2,FALSE))),\"Sin Registrar\",CONCATENATE($S896,\".\",VLOOKUP($G896,'1_Metas_Resultados'!$D$4:$E$403,2,FALSE)))","v":"Sin Registrar"},895," ",{"$f":"IF(ISERROR(CONCATENATE($S896,\".\",VLOOKUP($K896,'1_Metas_Resultados'!$D$4:$E$403,2,FALSE))),\"Sin Registrar\",CONCATENATE($S896,\".\",VLOOKUP($K896,'1_Metas_Resultados'!$D$4:$E$403,2,FALSE)))","v":"Sin Registrar"},{"$f":"IF(ISERROR(CONCATENATE($S896,\".\",VLOOKUP($L896,'1_Metas_Resultados'!$D$4:$E$403,2,FALSE))),\"Sin Registrar\",CONCATENATE($S896,\".\",VLOOKUP($L896,'1_Metas_Resultados'!$D$4:$E$403,2,FALSE)))","v":"Sin Registrar"},{"$f":"IF(ISERROR(VLOOKUP(G896,'1_Metas_Resultados'!$D$4:$I$403,6,FALSE)),\"\",VLOOKUP(G896,'1_Metas_Resultados'!$D$4:$I$403,6,FALSE))","v":""}]
[{"$f":"IF(ISERROR(CONCATENATE($S897,\".\",VLOOKUP($G897,'1_Metas_Resultados'!$D$4:$E$403,2,FALSE))),\"Sin Registrar\",CONCATENATE($S897,\".\",VLOOKUP($G897,'1_Metas_Resultados'!$D$4:$E$403,2,FALSE)))","v":"Sin Registrar"},896," ",{"$f":"IF(ISERROR(CONCATENATE($S897,\".\",VLOOKUP($K897,'1_Metas_Resultados'!$D$4:$E$403,2,FALSE))),\"Sin Registrar\",CONCATENATE($S897,\".\",VLOOKUP($K897,'1_Metas_Resultados'!$D$4:$E$403,2,FALSE)))","v":"Sin Registrar"},{"$f":"IF(ISERROR(CONCATENATE($S897,\".\",VLOOKUP($L897,'1_Metas_Resultados'!$D$4:$E$403,2,FALSE))),\"Sin Registrar\",CONCATENATE($S897,\".\",VLOOKUP($L897,'1_Metas_Resultados'!$D$4:$E$403,2,FALSE)))","v":"Sin Registrar"},{"$f":"IF(ISERROR(VLOOKUP(G897,'1_Metas_Resultados'!$D$4:$I$403,6,FALSE)),\"\",VLOOKUP(G897,'1_Metas_Resultados'!$D$4:$I$403,6,FALSE))","v":""}]
[{"$f":"IF(ISERROR(CONCATENATE($S898,\".\",VLOOKUP($G898,'1_Metas_Resultados'!$D$4:$E$403,2,FALSE))),\"Sin Registrar\",CONCATENATE($S898,\".\",VLOOKUP($G898,'1_Metas_Resultados'!$D$4:$E$403,2,FALSE)))","v":"Sin Registrar"},897," ",{"$f":"IF(ISERROR(CONCATENATE($S898,\".\",VLOOKUP($K898,'1_Metas_Resultados'!$D$4:$E$403,2,FALSE))),\"Sin Registrar\",CONCATENATE($S898,\".\",VLOOKUP($K898,'1_Metas_Resultados'!$D$4:$E$403,2,FALSE)))","v":"Sin Registrar"},{"$f":"IF(ISERROR(CONCATENATE($S898,\".\",VLOOKUP($L898,'1_Metas_Resultados'!$D$4:$E$403,2,FALSE))),\"Sin Registrar\",CONCATENATE($S898,\".\",VLOOKUP($L898,'1_Metas_Resultados'!$D$4:$E$403,2,FALSE)))","v":"Sin Registrar"},{"$f":"IF(ISERROR(VLOOKUP(G898,'1_Metas_Resultados'!$D$4:$I$403,6,FALSE)),\"\",VLOOKUP(G898,'1_Metas_Resultados'!$D$4:$I$403,6,FALSE))","v":""}]
[{"$f":"IF(ISERROR(CONCATENATE($S899,\".\",VLOOKUP($G899,'1_Metas_Resultados'!$D$4:$E$403,2,FALSE))),\"Sin Registrar\",CONCATENATE($S899,\".\",VLOOKUP($G899,'1_Metas_Resultados'!$D$4:$E$403,2,FALSE)))","v":"Sin Registrar"},898," ",{"$f":"IF(ISERROR(CONCATENATE($S899,\".\",VLOOKUP($K899,'1_Metas_Resultados'!$D$4:$E$403,2,FALSE))),\"Sin Registrar\",CONCATENATE($S899,\".\",VLOOKUP($K899,'1_Metas_Resultados'!$D$4:$E$403,2,FALSE)))","v":"Sin Registrar"},{"$f":"IF(ISERROR(CONCATENATE($S899,\".\",VLOOKUP($L899,'1_Metas_Resultados'!$D$4:$E$403,2,FALSE))),\"Sin Registrar\",CONCATENATE($S899,\".\",VLOOKUP($L899,'1_Metas_Resultados'!$D$4:$E$403,2,FALSE)))","v":"Sin Registrar"},{"$f":"IF(ISERROR(VLOOKUP(G899,'1_Metas_Resultados'!$D$4:$I$403,6,FALSE)),\"\",VLOOKUP(G899,'1_Metas_Resultados'!$D$4:$I$403,6,FALSE))","v":""}]
[{"$f":"IF(ISERROR(CONCATENATE($S900,\".\",VLOOKUP($G900,'1_Metas_Resultados'!$D$4:$E$403,2,FALSE))),\"Sin Registrar\",CONCATENATE($S900,\".\",VLOOKUP($G900,'1_Metas_Resultados'!$D$4:$E$403,2,FALSE)))","v":"Sin Registrar"},899," ",{"$f":"IF(ISERROR(CONCATENATE($S900,\".\",VLOOKUP($K900,'1_Metas_Resultados'!$D$4:$E$403,2,FALSE))),\"Sin Registrar\",CONCATENATE($S900,\".\",VLOOKUP($K900,'1_Metas_Resultados'!$D$4:$E$403,2,FALSE)))","v":"Sin Registrar"},{"$f":"IF(ISERROR(CONCATENATE($S900,\".\",VLOOKUP($L900,'1_Metas_Resultados'!$D$4:$E$403,2,FALSE))),\"Sin Registrar\",CONCATENATE($S900,\".\",VLOOKUP($L900,'1_Metas_Resultados'!$D$4:$E$403,2,FALSE)))","v":"Sin Registrar"},{"$f":"IF(ISERROR(VLOOKUP(G900,'1_Metas_Resultados'!$D$4:$I$403,6,FALSE)),\"\",VLOOKUP(G900,'1_Metas_Resultados'!$D$4:$I$403,6,FALSE))","v":""}]
[{"$f":"IF(ISERROR(CONCATENATE($S901,\".\",VLOOKUP($G901,'1_Metas_Resultados'!$D$4:$E$403,2,FALSE))),\"Sin Registrar\",CONCATENATE($S901,\".\",VLOOKUP($G901,'1_Metas_Resultados'!$D$4:$E$403,2,FALSE)))","v":"Sin Registrar"},900,{"$f":"IF(A901=\"Sin Registrar\",\" \",CONCATENATE(A901,\".\",B901))","v":" "},{"$f":"IF(ISERROR(CONCATENATE($S901,\".\",VLOOKUP($K901,'1_Metas_Resultados'!$D$4:$E$403,2,FALSE))),\"Sin Registrar\",CONCATENATE($S901,\".\",VLOOKUP($K901,'1_Metas_Resultados'!$D$4:$E$403,2,FALSE)))","v":"Sin Registrar"},{"$f":"IF(ISERROR(CONCATENATE($S901,\".\",VLOOKUP($L901,'1_Metas_Resultados'!$D$4:$E$403,2,FALSE))),\"Sin Registrar\",CONCATENATE($S901,\".\",VLOOKUP($L901,'1_Metas_Resultados'!$D$4:$E$403,2,FALSE)))","v":"Sin Registrar"},{"$f":"IF(ISERROR(VLOOKUP(G901,'1_Metas_Resultados'!$D$4:$I$403,6,FALSE)),\"\",VLOOKUP(G901,'1_Metas_Resultados'!$D$4:$I$403,6,FALSE))","v":""}]
[{"$f":"IF(ISERROR(CONCATENATE($S902,\".\",VLOOKUP($G902,'1_Metas_Resultados'!$D$4:$E$403,2,FALSE))),\"Sin Registrar\",CONCATENATE($S902,\".\",VLOOKUP($G902,'1_Metas_Resultados'!$D$4:$E$403,2,FALSE)))","v":"Sin Registrar"},901," ",{"$f":"IF(ISERROR(CONCATENATE($S902,\".\",VLOOKUP($K902,'1_Metas_Resultados'!$D$4:$E$403,2,FALSE))),\"Sin Registrar\",CONCATENATE($S902,\".\",VLOOKUP($K902,'1_Metas_Resultados'!$D$4:$E$403,2,FALSE)))","v":"Sin Registrar"},{"$f":"IF(ISERROR(CONCATENATE($S902,\".\",VLOOKUP($L902,'1_Metas_Resultados'!$D$4:$E$403,2,FALSE))),\"Sin Registrar\",CONCATENATE($S902,\".\",VLOOKUP($L902,'1_Metas_Resultados'!$D$4:$E$403,2,FALSE)))","v":"Sin Registrar"},{"$f":"IF(ISERROR(VLOOKUP(G902,'1_Metas_Resultados'!$D$4:$I$403,6,FALSE)),\"\",VLOOKUP(G902,'1_Metas_Resultados'!$D$4:$I$403,6,FALSE))","v":""}]
[{"$f":"IF(ISERROR(CONCATENATE($S903,\".\",VLOOKUP($G903,'1_Metas_Resultados'!$D$4:$E$403,2,FALSE))),\"Sin Registrar\",CONCATENATE($S903,\".\",VLOOKUP($G903,'1_Metas_Resultados'!$D$4:$E$403,2,FALSE)))","v":"Sin Registrar"},902," ",{"$f":"IF(ISERROR(CONCATENATE($S903,\".\",VLOOKUP($K903,'1_Metas_Resultados'!$D$4:$E$403,2,FALSE))),\"Sin Registrar\",CONCATENATE($S903,\".\",VLOOKUP($K903,'1_Metas_Resultados'!$D$4:$E$403,2,FALSE)))","v":"Sin Registrar"},{"$f":"IF(ISERROR(CONCATENATE($S903,\".\",VLOOKUP($L903,'1_Metas_Resultados'!$D$4:$E$403,2,FALSE))),\"Sin Registrar\",CONCATENATE($S903,\".\",VLOOKUP($L903,'1_Metas_Resultados'!$D$4:$E$403,2,FALSE)))","v":"Sin Registrar"},{"$f":"IF(ISERROR(VLOOKUP(G903,'1_Metas_Resultados'!$D$4:$I$403,6,FALSE)),\"\",VLOOKUP(G903,'1_Metas_Resultados'!$D$4:$I$403,6,FALSE))","v":""}]
[{"$f":"IF(ISERROR(CONCATENATE($S904,\".\",VLOOKUP($G904,'1_Metas_Resultados'!$D$4:$E$403,2,FALSE))),\"Sin Registrar\",CONCATENATE($S904,\".\",VLOOKUP($G904,'1_Metas_Resultados'!$D$4:$E$403,2,FALSE)))","v":"Sin Registrar"},903," ",{"$f":"IF(ISERROR(CONCATENATE($S904,\".\",VLOOKUP($K904,'1_Metas_Resultados'!$D$4:$E$403,2,FALSE))),\"Sin Registrar\",CONCATENATE($S904,\".\",VLOOKUP($K904,'1_Metas_Resultados'!$D$4:$E$403,2,FALSE)))","v":"Sin Registrar"},{"$f":"IF(ISERROR(CONCATENATE($S904,\".\",VLOOKUP($L904,'1_Metas_Resultados'!$D$4:$E$403,2,FALSE))),\"Sin Registrar\",CONCATENATE($S904,\".\",VLOOKUP($L904,'1_Metas_Resultados'!$D$4:$E$403,2,FALSE)))","v":"Sin Registrar"},{"$f":"IF(ISERROR(VLOOKUP(G904,'1_Metas_Resultados'!$D$4:$I$403,6,FALSE)),\"\",VLOOKUP(G904,'1_Metas_Resultados'!$D$4:$I$403,6,FALSE))","v":""}]
[{"$f":"IF(ISERROR(CONCATENATE($S905,\".\",VLOOKUP($G905,'1_Metas_Resultados'!$D$4:$E$403,2,FALSE))),\"Sin Registrar\",CONCATENATE($S905,\".\",VLOOKUP($G905,'1_Metas_Resultados'!$D$4:$E$403,2,FALSE)))","v":"Sin Registrar"},904," ",{"$f":"IF(ISERROR(CONCATENATE($S905,\".\",VLOOKUP($K905,'1_Metas_Resultados'!$D$4:$E$403,2,FALSE))),\"Sin Registrar\",CONCATENATE($S905,\".\",VLOOKUP($K905,'1_Metas_Resultados'!$D$4:$E$403,2,FALSE)))","v":"Sin Registrar"},{"$f":"IF(ISERROR(CONCATENATE($S905,\".\",VLOOKUP($L905,'1_Metas_Resultados'!$D$4:$E$403,2,FALSE))),\"Sin Registrar\",CONCATENATE($S905,\".\",VLOOKUP($L905,'1_Metas_Resultados'!$D$4:$E$403,2,FALSE)))","v":"Sin Registrar"},{"$f":"IF(ISERROR(VLOOKUP(G905,'1_Metas_Resultados'!$D$4:$I$403,6,FALSE)),\"\",VLOOKUP(G905,'1_Metas_Resultados'!$D$4:$I$403,6,FALSE))","v":""}]
[{"$f":"IF(ISERROR(CONCATENATE($S906,\".\",VLOOKUP($G906,'1_Metas_Resultados'!$D$4:$E$403,2,FALSE))),\"Sin Registrar\",CONCATENATE($S906,\".\",VLOOKUP($G906,'1_Metas_Resultados'!$D$4:$E$403,2,FALSE)))","v":"Sin Registrar"},905," ",{"$f":"IF(ISERROR(CONCATENATE($S906,\".\",VLOOKUP($K906,'1_Metas_Resultados'!$D$4:$E$403,2,FALSE))),\"Sin Registrar\",CONCATENATE($S906,\".\",VLOOKUP($K906,'1_Metas_Resultados'!$D$4:$E$403,2,FALSE)))","v":"Sin Registrar"},{"$f":"IF(ISERROR(CONCATENATE($S906,\".\",VLOOKUP($L906,'1_Metas_Resultados'!$D$4:$E$403,2,FALSE))),\"Sin Registrar\",CONCATENATE($S906,\".\",VLOOKUP($L906,'1_Metas_Resultados'!$D$4:$E$403,2,FALSE)))","v":"Sin Registrar"},{"$f":"IF(ISERROR(VLOOKUP(G906,'1_Metas_Resultados'!$D$4:$I$403,6,FALSE)),\"\",VLOOKUP(G906,'1_Metas_Resultados'!$D$4:$I$403,6,FALSE))","v":""}]
[{"$f":"IF(ISERROR(CONCATENATE($S907,\".\",VLOOKUP($G907,'1_Metas_Resultados'!$D$4:$E$403,2,FALSE))),\"Sin Registrar\",CONCATENATE($S907,\".\",VLOOKUP($G907,'1_Metas_Resultados'!$D$4:$E$403,2,FALSE)))","v":"Sin Registrar"},906," ",{"$f":"IF(ISERROR(CONCATENATE($S907,\".\",VLOOKUP($K907,'1_Metas_Resultados'!$D$4:$E$403,2,FALSE))),\"Sin Registrar\",CONCATENATE($S907,\".\",VLOOKUP($K907,'1_Metas_Resultados'!$D$4:$E$403,2,FALSE)))","v":"Sin Registrar"},{"$f":"IF(ISERROR(CONCATENATE($S907,\".\",VLOOKUP($L907,'1_Metas_Resultados'!$D$4:$E$403,2,FALSE))),\"Sin Registrar\",CONCATENATE($S907,\".\",VLOOKUP($L907,'1_Metas_Resultados'!$D$4:$E$403,2,FALSE)))","v":"Sin Registrar"},{"$f":"IF(ISERROR(VLOOKUP(G907,'1_Metas_Resultados'!$D$4:$I$403,6,FALSE)),\"\",VLOOKUP(G907,'1_Metas_Resultados'!$D$4:$I$403,6,FALSE))","v":""}]
[{"$f":"IF(ISERROR(CONCATENATE($S908,\".\",VLOOKUP($G908,'1_Metas_Resultados'!$D$4:$E$403,2,FALSE))),\"Sin Registrar\",CONCATENATE($S908,\".\",VLOOKUP($G908,'1_Metas_Resultados'!$D$4:$E$403,2,FALSE)))","v":"Sin Registrar"},907," ",{"$f":"IF(ISERROR(CONCATENATE($S908,\".\",VLOOKUP($K908,'1_Metas_Resultados'!$D$4:$E$403,2,FALSE))),\"Sin Registrar\",CONCATENATE($S908,\".\",VLOOKUP($K908,'1_Metas_Resultados'!$D$4:$E$403,2,FALSE)))","v":"Sin Registrar"},{"$f":"IF(ISERROR(CONCATENATE($S908,\".\",VLOOKUP($L908,'1_Metas_Resultados'!$D$4:$E$403,2,FALSE))),\"Sin Registrar\",CONCATENATE($S908,\".\",VLOOKUP($L908,'1_Metas_Resultados'!$D$4:$E$403,2,FALSE)))","v":"Sin Registrar"},{"$f":"IF(ISERROR(VLOOKUP(G908,'1_Metas_Resultados'!$D$4:$I$403,6,FALSE)),\"\",VLOOKUP(G908,'1_Metas_Resultados'!$D$4:$I$403,6,FALSE))","v":""}]
[{"$f":"IF(ISERROR(CONCATENATE($S909,\".\",VLOOKUP($G909,'1_Metas_Resultados'!$D$4:$E$403,2,FALSE))),\"Sin Registrar\",CONCATENATE($S909,\".\",VLOOKUP($G909,'1_Metas_Resultados'!$D$4:$E$403,2,FALSE)))","v":"Sin Registrar"},908," ",{"$f":"IF(ISERROR(CONCATENATE($S909,\".\",VLOOKUP($K909,'1_Metas_Resultados'!$D$4:$E$403,2,FALSE))),\"Sin Registrar\",CONCATENATE($S909,\".\",VLOOKUP($K909,'1_Metas_Resultados'!$D$4:$E$403,2,FALSE)))","v":"Sin Registrar"},{"$f":"IF(ISERROR(CONCATENATE($S909,\".\",VLOOKUP($L909,'1_Metas_Resultados'!$D$4:$E$403,2,FALSE))),\"Sin Registrar\",CONCATENATE($S909,\".\",VLOOKUP($L909,'1_Metas_Resultados'!$D$4:$E$403,2,FALSE)))","v":"Sin Registrar"},{"$f":"IF(ISERROR(VLOOKUP(G909,'1_Metas_Resultados'!$D$4:$I$403,6,FALSE)),\"\",VLOOKUP(G909,'1_Metas_Resultados'!$D$4:$I$403,6,FALSE))","v":""}]
[{"$f":"IF(ISERROR(CONCATENATE($S910,\".\",VLOOKUP($G910,'1_Metas_Resultados'!$D$4:$E$403,2,FALSE))),\"Sin Registrar\",CONCATENATE($S910,\".\",VLOOKUP($G910,'1_Metas_Resultados'!$D$4:$E$403,2,FALSE)))","v":"Sin Registrar"},909," ",{"$f":"IF(ISERROR(CONCATENATE($S910,\".\",VLOOKUP($K910,'1_Metas_Resultados'!$D$4:$E$403,2,FALSE))),\"Sin Registrar\",CONCATENATE($S910,\".\",VLOOKUP($K910,'1_Metas_Resultados'!$D$4:$E$403,2,FALSE)))","v":"Sin Registrar"},{"$f":"IF(ISERROR(CONCATENATE($S910,\".\",VLOOKUP($L910,'1_Metas_Resultados'!$D$4:$E$403,2,FALSE))),\"Sin Registrar\",CONCATENATE($S910,\".\",VLOOKUP($L910,'1_Metas_Resultados'!$D$4:$E$403,2,FALSE)))","v":"Sin Registrar"},{"$f":"IF(ISERROR(VLOOKUP(G910,'1_Metas_Resultados'!$D$4:$I$403,6,FALSE)),\"\",VLOOKUP(G910,'1_Metas_Resultados'!$D$4:$I$403,6,FALSE))","v":""}]
[{"$f":"IF(ISERROR(CONCATENATE($S911,\".\",VLOOKUP($G911,'1_Metas_Resultados'!$D$4:$E$403,2,FALSE))),\"Sin Registrar\",CONCATENATE($S911,\".\",VLOOKUP($G911,'1_Metas_Resultados'!$D$4:$E$403,2,FALSE)))","v":"Sin Registrar"},910," ",{"$f":"IF(ISERROR(CONCATENATE($S911,\".\",VLOOKUP($K911,'1_Metas_Resultados'!$D$4:$E$403,2,FALSE))),\"Sin Registrar\",CONCATENATE($S911,\".\",VLOOKUP($K911,'1_Metas_Resultados'!$D$4:$E$403,2,FALSE)))","v":"Sin Registrar"},{"$f":"IF(ISERROR(CONCATENATE($S911,\".\",VLOOKUP($L911,'1_Metas_Resultados'!$D$4:$E$403,2,FALSE))),\"Sin Registrar\",CONCATENATE($S911,\".\",VLOOKUP($L911,'1_Metas_Resultados'!$D$4:$E$403,2,FALSE)))","v":"Sin Registrar"},{"$f":"IF(ISERROR(VLOOKUP(G911,'1_Metas_Resultados'!$D$4:$I$403,6,FALSE)),\"\",VLOOKUP(G911,'1_Metas_Resultados'!$D$4:$I$403,6,FALSE))","v":""}]
[{"$f":"IF(ISERROR(CONCATENATE($S912,\".\",VLOOKUP($G912,'1_Metas_Resultados'!$D$4:$E$403,2,FALSE))),\"Sin Registrar\",CONCATENATE($S912,\".\",VLOOKUP($G912,'1_Metas_Resultados'!$D$4:$E$403,2,FALSE)))","v":"Sin Registrar"},911," ",{"$f":"IF(ISERROR(CONCATENATE($S912,\".\",VLOOKUP($K912,'1_Metas_Resultados'!$D$4:$E$403,2,FALSE))),\"Sin Registrar\",CONCATENATE($S912,\".\",VLOOKUP($K912,'1_Metas_Resultados'!$D$4:$E$403,2,FALSE)))","v":"Sin Registrar"},{"$f":"IF(ISERROR(CONCATENATE($S912,\".\",VLOOKUP($L912,'1_Metas_Resultados'!$D$4:$E$403,2,FALSE))),\"Sin Registrar\",CONCATENATE($S912,\".\",VLOOKUP($L912,'1_Metas_Resultados'!$D$4:$E$403,2,FALSE)))","v":"Sin Registrar"},{"$f":"IF(ISERROR(VLOOKUP(G912,'1_Metas_Resultados'!$D$4:$I$403,6,FALSE)),\"\",VLOOKUP(G912,'1_Metas_Resultados'!$D$4:$I$403,6,FALSE))","v":""}]
[{"$f":"IF(ISERROR(CONCATENATE($S913,\".\",VLOOKUP($G913,'1_Metas_Resultados'!$D$4:$E$403,2,FALSE))),\"Sin Registrar\",CONCATENATE($S913,\".\",VLOOKUP($G913,'1_Metas_Resultados'!$D$4:$E$403,2,FALSE)))","v":"Sin Registrar"},912," ",{"$f":"IF(ISERROR(CONCATENATE($S913,\".\",VLOOKUP($K913,'1_Metas_Resultados'!$D$4:$E$403,2,FALSE))),\"Sin Registrar\",CONCATENATE($S913,\".\",VLOOKUP($K913,'1_Metas_Resultados'!$D$4:$E$403,2,FALSE)))","v":"Sin Registrar"},{"$f":"IF(ISERROR(CONCATENATE($S913,\".\",VLOOKUP($L913,'1_Metas_Resultados'!$D$4:$E$403,2,FALSE))),\"Sin Registrar\",CONCATENATE($S913,\".\",VLOOKUP($L913,'1_Metas_Resultados'!$D$4:$E$403,2,FALSE)))","v":"Sin Registrar"},{"$f":"IF(ISERROR(VLOOKUP(G913,'1_Metas_Resultados'!$D$4:$I$403,6,FALSE)),\"\",VLOOKUP(G913,'1_Metas_Resultados'!$D$4:$I$403,6,FALSE))","v":""}]
[{"$f":"IF(ISERROR(CONCATENATE($S914,\".\",VLOOKUP($G914,'1_Metas_Resultados'!$D$4:$E$403,2,FALSE))),\"Sin Registrar\",CONCATENATE($S914,\".\",VLOOKUP($G914,'1_Metas_Resultados'!$D$4:$E$403,2,FALSE)))","v":"Sin Registrar"},913," ",{"$f":"IF(ISERROR(CONCATENATE($S914,\".\",VLOOKUP($K914,'1_Metas_Resultados'!$D$4:$E$403,2,FALSE))),\"Sin Registrar\",CONCATENATE($S914,\".\",VLOOKUP($K914,'1_Metas_Resultados'!$D$4:$E$403,2,FALSE)))","v":"Sin Registrar"},{"$f":"IF(ISERROR(CONCATENATE($S914,\".\",VLOOKUP($L914,'1_Metas_Resultados'!$D$4:$E$403,2,FALSE))),\"Sin Registrar\",CONCATENATE($S914,\".\",VLOOKUP($L914,'1_Metas_Resultados'!$D$4:$E$403,2,FALSE)))","v":"Sin Registrar"},{"$f":"IF(ISERROR(VLOOKUP(G914,'1_Metas_Resultados'!$D$4:$I$403,6,FALSE)),\"\",VLOOKUP(G914,'1_Metas_Resultados'!$D$4:$I$403,6,FALSE))","v":""}]
[{"$f":"IF(ISERROR(CONCATENATE($S915,\".\",VLOOKUP($G915,'1_Metas_Resultados'!$D$4:$E$403,2,FALSE))),\"Sin Registrar\",CONCATENATE($S915,\".\",VLOOKUP($G915,'1_Metas_Resultados'!$D$4:$E$403,2,FALSE)))","v":"Sin Registrar"},914," ",{"$f":"IF(ISERROR(CONCATENATE($S915,\".\",VLOOKUP($K915,'1_Metas_Resultados'!$D$4:$E$403,2,FALSE))),\"Sin Registrar\",CONCATENATE($S915,\".\",VLOOKUP($K915,'1_Metas_Resultados'!$D$4:$E$403,2,FALSE)))","v":"Sin Registrar"},{"$f":"IF(ISERROR(CONCATENATE($S915,\".\",VLOOKUP($L915,'1_Metas_Resultados'!$D$4:$E$403,2,FALSE))),\"Sin Registrar\",CONCATENATE($S915,\".\",VLOOKUP($L915,'1_Metas_Resultados'!$D$4:$E$403,2,FALSE)))","v":"Sin Registrar"},{"$f":"IF(ISERROR(VLOOKUP(G915,'1_Metas_Resultados'!$D$4:$I$403,6,FALSE)),\"\",VLOOKUP(G915,'1_Metas_Resultados'!$D$4:$I$403,6,FALSE))","v":""}]
[{"$f":"IF(ISERROR(CONCATENATE($S916,\".\",VLOOKUP($G916,'1_Metas_Resultados'!$D$4:$E$403,2,FALSE))),\"Sin Registrar\",CONCATENATE($S916,\".\",VLOOKUP($G916,'1_Metas_Resultados'!$D$4:$E$403,2,FALSE)))","v":"Sin Registrar"},915," ",{"$f":"IF(ISERROR(CONCATENATE($S916,\".\",VLOOKUP($K916,'1_Metas_Resultados'!$D$4:$E$403,2,FALSE))),\"Sin Registrar\",CONCATENATE($S916,\".\",VLOOKUP($K916,'1_Metas_Resultados'!$D$4:$E$403,2,FALSE)))","v":"Sin Registrar"},{"$f":"IF(ISERROR(CONCATENATE($S916,\".\",VLOOKUP($L916,'1_Metas_Resultados'!$D$4:$E$403,2,FALSE))),\"Sin Registrar\",CONCATENATE($S916,\".\",VLOOKUP($L916,'1_Metas_Resultados'!$D$4:$E$403,2,FALSE)))","v":"Sin Registrar"},{"$f":"IF(ISERROR(VLOOKUP(G916,'1_Metas_Resultados'!$D$4:$I$403,6,FALSE)),\"\",VLOOKUP(G916,'1_Metas_Resultados'!$D$4:$I$403,6,FALSE))","v":""}]
[{"$f":"IF(ISERROR(CONCATENATE($S917,\".\",VLOOKUP($G917,'1_Metas_Resultados'!$D$4:$E$403,2,FALSE))),\"Sin Registrar\",CONCATENATE($S917,\".\",VLOOKUP($G917,'1_Metas_Resultados'!$D$4:$E$403,2,FALSE)))","v":"Sin Registrar"},916," ",{"$f":"IF(ISERROR(CONCATENATE($S917,\".\",VLOOKUP($K917,'1_Metas_Resultados'!$D$4:$E$403,2,FALSE))),\"Sin Registrar\",CONCATENATE($S917,\".\",VLOOKUP($K917,'1_Metas_Resultados'!$D$4:$E$403,2,FALSE)))","v":"Sin Registrar"},{"$f":"IF(ISERROR(CONCATENATE($S917,\".\",VLOOKUP($L917,'1_Metas_Resultados'!$D$4:$E$403,2,FALSE))),\"Sin Registrar\",CONCATENATE($S917,\".\",VLOOKUP($L917,'1_Metas_Resultados'!$D$4:$E$403,2,FALSE)))","v":"Sin Registrar"},{"$f":"IF(ISERROR(VLOOKUP(G917,'1_Metas_Resultados'!$D$4:$I$403,6,FALSE)),\"\",VLOOKUP(G917,'1_Metas_Resultados'!$D$4:$I$403,6,FALSE))","v":""}]
[{"$f":"IF(ISERROR(CONCATENATE($S918,\".\",VLOOKUP($G918,'1_Metas_Resultados'!$D$4:$E$403,2,FALSE))),\"Sin Registrar\",CONCATENATE($S918,\".\",VLOOKUP($G918,'1_Metas_Resultados'!$D$4:$E$403,2,FALSE)))","v":"Sin Registrar"},917," ",{"$f":"IF(ISERROR(CONCATENATE($S918,\".\",VLOOKUP($K918,'1_Metas_Resultados'!$D$4:$E$403,2,FALSE))),\"Sin Registrar\",CONCATENATE($S918,\".\",VLOOKUP($K918,'1_Metas_Resultados'!$D$4:$E$403,2,FALSE)))","v":"Sin Registrar"},{"$f":"IF(ISERROR(CONCATENATE($S918,\".\",VLOOKUP($L918,'1_Metas_Resultados'!$D$4:$E$403,2,FALSE))),\"Sin Registrar\",CONCATENATE($S918,\".\",VLOOKUP($L918,'1_Metas_Resultados'!$D$4:$E$403,2,FALSE)))","v":"Sin Registrar"},{"$f":"IF(ISERROR(VLOOKUP(G918,'1_Metas_Resultados'!$D$4:$I$403,6,FALSE)),\"\",VLOOKUP(G918,'1_Metas_Resultados'!$D$4:$I$403,6,FALSE))","v":""}]
[{"$f":"IF(ISERROR(CONCATENATE($S919,\".\",VLOOKUP($G919,'1_Metas_Resultados'!$D$4:$E$403,2,FALSE))),\"Sin Registrar\",CONCATENATE($S919,\".\",VLOOKUP($G919,'1_Metas_Resultados'!$D$4:$E$403,2,FALSE)))","v":"Sin Registrar"},918," ",{"$f":"IF(ISERROR(CONCATENATE($S919,\".\",VLOOKUP($K919,'1_Metas_Resultados'!$D$4:$E$403,2,FALSE))),\"Sin Registrar\",CONCATENATE($S919,\".\",VLOOKUP($K919,'1_Metas_Resultados'!$D$4:$E$403,2,FALSE)))","v":"Sin Registrar"},{"$f":"IF(ISERROR(CONCATENATE($S919,\".\",VLOOKUP($L919,'1_Metas_Resultados'!$D$4:$E$403,2,FALSE))),\"Sin Registrar\",CONCATENATE($S919,\".\",VLOOKUP($L919,'1_Metas_Resultados'!$D$4:$E$403,2,FALSE)))","v":"Sin Registrar"},{"$f":"IF(ISERROR(VLOOKUP(G919,'1_Metas_Resultados'!$D$4:$I$403,6,FALSE)),\"\",VLOOKUP(G919,'1_Metas_Resultados'!$D$4:$I$403,6,FALSE))","v":""}]
[{"$f":"IF(ISERROR(CONCATENATE($S920,\".\",VLOOKUP($G920,'1_Metas_Resultados'!$D$4:$E$403,2,FALSE))),\"Sin Registrar\",CONCATENATE($S920,\".\",VLOOKUP($G920,'1_Metas_Resultados'!$D$4:$E$403,2,FALSE)))","v":"Sin Registrar"},919," ",{"$f":"IF(ISERROR(CONCATENATE($S920,\".\",VLOOKUP($K920,'1_Metas_Resultados'!$D$4:$E$403,2,FALSE))),\"Sin Registrar\",CONCATENATE($S920,\".\",VLOOKUP($K920,'1_Metas_Resultados'!$D$4:$E$403,2,FALSE)))","v":"Sin Registrar"},{"$f":"IF(ISERROR(CONCATENATE($S920,\".\",VLOOKUP($L920,'1_Metas_Resultados'!$D$4:$E$403,2,FALSE))),\"Sin Registrar\",CONCATENATE($S920,\".\",VLOOKUP($L920,'1_Metas_Resultados'!$D$4:$E$403,2,FALSE)))","v":"Sin Registrar"},{"$f":"IF(ISERROR(VLOOKUP(G920,'1_Metas_Resultados'!$D$4:$I$403,6,FALSE)),\"\",VLOOKUP(G920,'1_Metas_Resultados'!$D$4:$I$403,6,FALSE))","v":""}]
[{"$f":"IF(ISERROR(CONCATENATE($S921,\".\",VLOOKUP($G921,'1_Metas_Resultados'!$D$4:$E$403,2,FALSE))),\"Sin Registrar\",CONCATENATE($S921,\".\",VLOOKUP($G921,'1_Metas_Resultados'!$D$4:$E$403,2,FALSE)))","v":"Sin Registrar"},920," ",{"$f":"IF(ISERROR(CONCATENATE($S921,\".\",VLOOKUP($K921,'1_Metas_Resultados'!$D$4:$E$403,2,FALSE))),\"Sin Registrar\",CONCATENATE($S921,\".\",VLOOKUP($K921,'1_Metas_Resultados'!$D$4:$E$403,2,FALSE)))","v":"Sin Registrar"},{"$f":"IF(ISERROR(CONCATENATE($S921,\".\",VLOOKUP($L921,'1_Metas_Resultados'!$D$4:$E$403,2,FALSE))),\"Sin Registrar\",CONCATENATE($S921,\".\",VLOOKUP($L921,'1_Metas_Resultados'!$D$4:$E$403,2,FALSE)))","v":"Sin Registrar"},{"$f":"IF(ISERROR(VLOOKUP(G921,'1_Metas_Resultados'!$D$4:$I$403,6,FALSE)),\"\",VLOOKUP(G921,'1_Metas_Resultados'!$D$4:$I$403,6,FALSE))","v":""}]
[{"$f":"IF(ISERROR(CONCATENATE($S922,\".\",VLOOKUP($G922,'1_Metas_Resultados'!$D$4:$E$403,2,FALSE))),\"Sin Registrar\",CONCATENATE($S922,\".\",VLOOKUP($G922,'1_Metas_Resultados'!$D$4:$E$403,2,FALSE)))","v":"Sin Registrar"},921," ",{"$f":"IF(ISERROR(CONCATENATE($S922,\".\",VLOOKUP($K922,'1_Metas_Resultados'!$D$4:$E$403,2,FALSE))),\"Sin Registrar\",CONCATENATE($S922,\".\",VLOOKUP($K922,'1_Metas_Resultados'!$D$4:$E$403,2,FALSE)))","v":"Sin Registrar"},{"$f":"IF(ISERROR(CONCATENATE($S922,\".\",VLOOKUP($L922,'1_Metas_Resultados'!$D$4:$E$403,2,FALSE))),\"Sin Registrar\",CONCATENATE($S922,\".\",VLOOKUP($L922,'1_Metas_Resultados'!$D$4:$E$403,2,FALSE)))","v":"Sin Registrar"},{"$f":"IF(ISERROR(VLOOKUP(G922,'1_Metas_Resultados'!$D$4:$I$403,6,FALSE)),\"\",VLOOKUP(G922,'1_Metas_Resultados'!$D$4:$I$403,6,FALSE))","v":""}]
[{"$f":"IF(ISERROR(CONCATENATE($S923,\".\",VLOOKUP($G923,'1_Metas_Resultados'!$D$4:$E$403,2,FALSE))),\"Sin Registrar\",CONCATENATE($S923,\".\",VLOOKUP($G923,'1_Metas_Resultados'!$D$4:$E$403,2,FALSE)))","v":"Sin Registrar"},922," ",{"$f":"IF(ISERROR(CONCATENATE($S923,\".\",VLOOKUP($K923,'1_Metas_Resultados'!$D$4:$E$403,2,FALSE))),\"Sin Registrar\",CONCATENATE($S923,\".\",VLOOKUP($K923,'1_Metas_Resultados'!$D$4:$E$403,2,FALSE)))","v":"Sin Registrar"},{"$f":"IF(ISERROR(CONCATENATE($S923,\".\",VLOOKUP($L923,'1_Metas_Resultados'!$D$4:$E$403,2,FALSE))),\"Sin Registrar\",CONCATENATE($S923,\".\",VLOOKUP($L923,'1_Metas_Resultados'!$D$4:$E$403,2,FALSE)))","v":"Sin Registrar"},{"$f":"IF(ISERROR(VLOOKUP(G923,'1_Metas_Resultados'!$D$4:$I$403,6,FALSE)),\"\",VLOOKUP(G923,'1_Metas_Resultados'!$D$4:$I$403,6,FALSE))","v":""}]
[{"$f":"IF(ISERROR(CONCATENATE($S924,\".\",VLOOKUP($G924,'1_Metas_Resultados'!$D$4:$E$403,2,FALSE))),\"Sin Registrar\",CONCATENATE($S924,\".\",VLOOKUP($G924,'1_Metas_Resultados'!$D$4:$E$403,2,FALSE)))","v":"Sin Registrar"},923," ",{"$f":"IF(ISERROR(CONCATENATE($S924,\".\",VLOOKUP($K924,'1_Metas_Resultados'!$D$4:$E$403,2,FALSE))),\"Sin Registrar\",CONCATENATE($S924,\".\",VLOOKUP($K924,'1_Metas_Resultados'!$D$4:$E$403,2,FALSE)))","v":"Sin Registrar"},{"$f":"IF(ISERROR(CONCATENATE($S924,\".\",VLOOKUP($L924,'1_Metas_Resultados'!$D$4:$E$403,2,FALSE))),\"Sin Registrar\",CONCATENATE($S924,\".\",VLOOKUP($L924,'1_Metas_Resultados'!$D$4:$E$403,2,FALSE)))","v":"Sin Registrar"},{"$f":"IF(ISERROR(VLOOKUP(G924,'1_Metas_Resultados'!$D$4:$I$403,6,FALSE)),\"\",VLOOKUP(G924,'1_Metas_Resultados'!$D$4:$I$403,6,FALSE))","v":""}]
[{"$f":"IF(ISERROR(CONCATENATE($S925,\".\",VLOOKUP($G925,'1_Metas_Resultados'!$D$4:$E$403,2,FALSE))),\"Sin Registrar\",CONCATENATE($S925,\".\",VLOOKUP($G925,'1_Metas_Resultados'!$D$4:$E$403,2,FALSE)))","v":"Sin Registrar"},924," ",{"$f":"IF(ISERROR(CONCATENATE($S925,\".\",VLOOKUP($K925,'1_Metas_Resultados'!$D$4:$E$403,2,FALSE))),\"Sin Registrar\",CONCATENATE($S925,\".\",VLOOKUP($K925,'1_Metas_Resultados'!$D$4:$E$403,2,FALSE)))","v":"Sin Registrar"},{"$f":"IF(ISERROR(CONCATENATE($S925,\".\",VLOOKUP($L925,'1_Metas_Resultados'!$D$4:$E$403,2,FALSE))),\"Sin Registrar\",CONCATENATE($S925,\".\",VLOOKUP($L925,'1_Metas_Resultados'!$D$4:$E$403,2,FALSE)))","v":"Sin Registrar"},{"$f":"IF(ISERROR(VLOOKUP(G925,'1_Metas_Resultados'!$D$4:$I$403,6,FALSE)),\"\",VLOOKUP(G925,'1_Metas_Resultados'!$D$4:$I$403,6,FALSE))","v":""}]
[{"$f":"IF(ISERROR(CONCATENATE($S926,\".\",VLOOKUP($G926,'1_Metas_Resultados'!$D$4:$E$403,2,FALSE))),\"Sin Registrar\",CONCATENATE($S926,\".\",VLOOKUP($G926,'1_Metas_Resultados'!$D$4:$E$403,2,FALSE)))","v":"Sin Registrar"},925," ",{"$f":"IF(ISERROR(CONCATENATE($S926,\".\",VLOOKUP($K926,'1_Metas_Resultados'!$D$4:$E$403,2,FALSE))),\"Sin Registrar\",CONCATENATE($S926,\".\",VLOOKUP($K926,'1_Metas_Resultados'!$D$4:$E$403,2,FALSE)))","v":"Sin Registrar"},{"$f":"IF(ISERROR(CONCATENATE($S926,\".\",VLOOKUP($L926,'1_Metas_Resultados'!$D$4:$E$403,2,FALSE))),\"Sin Registrar\",CONCATENATE($S926,\".\",VLOOKUP($L926,'1_Metas_Resultados'!$D$4:$E$403,2,FALSE)))","v":"Sin Registrar"},{"$f":"IF(ISERROR(VLOOKUP(G926,'1_Metas_Resultados'!$D$4:$I$403,6,FALSE)),\"\",VLOOKUP(G926,'1_Metas_Resultados'!$D$4:$I$403,6,FALSE))","v":""}]
[{"$f":"IF(ISERROR(CONCATENATE($S927,\".\",VLOOKUP($G927,'1_Metas_Resultados'!$D$4:$E$403,2,FALSE))),\"Sin Registrar\",CONCATENATE($S927,\".\",VLOOKUP($G927,'1_Metas_Resultados'!$D$4:$E$403,2,FALSE)))","v":"Sin Registrar"},926," ",{"$f":"IF(ISERROR(CONCATENATE($S927,\".\",VLOOKUP($K927,'1_Metas_Resultados'!$D$4:$E$403,2,FALSE))),\"Sin Registrar\",CONCATENATE($S927,\".\",VLOOKUP($K927,'1_Metas_Resultados'!$D$4:$E$403,2,FALSE)))","v":"Sin Registrar"},{"$f":"IF(ISERROR(CONCATENATE($S927,\".\",VLOOKUP($L927,'1_Metas_Resultados'!$D$4:$E$403,2,FALSE))),\"Sin Registrar\",CONCATENATE($S927,\".\",VLOOKUP($L927,'1_Metas_Resultados'!$D$4:$E$403,2,FALSE)))","v":"Sin Registrar"},{"$f":"IF(ISERROR(VLOOKUP(G927,'1_Metas_Resultados'!$D$4:$I$403,6,FALSE)),\"\",VLOOKUP(G927,'1_Metas_Resultados'!$D$4:$I$403,6,FALSE))","v":""}]
[{"$f":"IF(ISERROR(CONCATENATE($S928,\".\",VLOOKUP($G928,'1_Metas_Resultados'!$D$4:$E$403,2,FALSE))),\"Sin Registrar\",CONCATENATE($S928,\".\",VLOOKUP($G928,'1_Metas_Resultados'!$D$4:$E$403,2,FALSE)))","v":"Sin Registrar"},927," ",{"$f":"IF(ISERROR(CONCATENATE($S928,\".\",VLOOKUP($K928,'1_Metas_Resultados'!$D$4:$E$403,2,FALSE))),\"Sin Registrar\",CONCATENATE($S928,\".\",VLOOKUP($K928,'1_Metas_Resultados'!$D$4:$E$403,2,FALSE)))","v":"Sin Registrar"},{"$f":"IF(ISERROR(CONCATENATE($S928,\".\",VLOOKUP($L928,'1_Metas_Resultados'!$D$4:$E$403,2,FALSE))),\"Sin Registrar\",CONCATENATE($S928,\".\",VLOOKUP($L928,'1_Metas_Resultados'!$D$4:$E$403,2,FALSE)))","v":"Sin Registrar"},{"$f":"IF(ISERROR(VLOOKUP(G928,'1_Metas_Resultados'!$D$4:$I$403,6,FALSE)),\"\",VLOOKUP(G928,'1_Metas_Resultados'!$D$4:$I$403,6,FALSE))","v":""}]
[{"$f":"IF(ISERROR(CONCATENATE($S929,\".\",VLOOKUP($G929,'1_Metas_Resultados'!$D$4:$E$403,2,FALSE))),\"Sin Registrar\",CONCATENATE($S929,\".\",VLOOKUP($G929,'1_Metas_Resultados'!$D$4:$E$403,2,FALSE)))","v":"Sin Registrar"},928," ",{"$f":"IF(ISERROR(CONCATENATE($S929,\".\",VLOOKUP($K929,'1_Metas_Resultados'!$D$4:$E$403,2,FALSE))),\"Sin Registrar\",CONCATENATE($S929,\".\",VLOOKUP($K929,'1_Metas_Resultados'!$D$4:$E$403,2,FALSE)))","v":"Sin Registrar"},{"$f":"IF(ISERROR(CONCATENATE($S929,\".\",VLOOKUP($L929,'1_Metas_Resultados'!$D$4:$E$403,2,FALSE))),\"Sin Registrar\",CONCATENATE($S929,\".\",VLOOKUP($L929,'1_Metas_Resultados'!$D$4:$E$403,2,FALSE)))","v":"Sin Registrar"},{"$f":"IF(ISERROR(VLOOKUP(G929,'1_Metas_Resultados'!$D$4:$I$403,6,FALSE)),\"\",VLOOKUP(G929,'1_Metas_Resultados'!$D$4:$I$403,6,FALSE))","v":""}]
[{"$f":"IF(ISERROR(CONCATENATE($S930,\".\",VLOOKUP($G930,'1_Metas_Resultados'!$D$4:$E$403,2,FALSE))),\"Sin Registrar\",CONCATENATE($S930,\".\",VLOOKUP($G930,'1_Metas_Resultados'!$D$4:$E$403,2,FALSE)))","v":"Sin Registrar"},929," ",{"$f":"IF(ISERROR(CONCATENATE($S930,\".\",VLOOKUP($K930,'1_Metas_Resultados'!$D$4:$E$403,2,FALSE))),\"Sin Registrar\",CONCATENATE($S930,\".\",VLOOKUP($K930,'1_Metas_Resultados'!$D$4:$E$403,2,FALSE)))","v":"Sin Registrar"},{"$f":"IF(ISERROR(CONCATENATE($S930,\".\",VLOOKUP($L930,'1_Metas_Resultados'!$D$4:$E$403,2,FALSE))),\"Sin Registrar\",CONCATENATE($S930,\".\",VLOOKUP($L930,'1_Metas_Resultados'!$D$4:$E$403,2,FALSE)))","v":"Sin Registrar"},{"$f":"IF(ISERROR(VLOOKUP(G930,'1_Metas_Resultados'!$D$4:$I$403,6,FALSE)),\"\",VLOOKUP(G930,'1_Metas_Resultados'!$D$4:$I$403,6,FALSE))","v":""}]
[{"$f":"IF(ISERROR(CONCATENATE($S931,\".\",VLOOKUP($G931,'1_Metas_Resultados'!$D$4:$E$403,2,FALSE))),\"Sin Registrar\",CONCATENATE($S931,\".\",VLOOKUP($G931,'1_Metas_Resultados'!$D$4:$E$403,2,FALSE)))","v":"Sin Registrar"},930," ",{"$f":"IF(ISERROR(CONCATENATE($S931,\".\",VLOOKUP($K931,'1_Metas_Resultados'!$D$4:$E$403,2,FALSE))),\"Sin Registrar\",CONCATENATE($S931,\".\",VLOOKUP($K931,'1_Metas_Resultados'!$D$4:$E$403,2,FALSE)))","v":"Sin Registrar"},{"$f":"IF(ISERROR(CONCATENATE($S931,\".\",VLOOKUP($L931,'1_Metas_Resultados'!$D$4:$E$403,2,FALSE))),\"Sin Registrar\",CONCATENATE($S931,\".\",VLOOKUP($L931,'1_Metas_Resultados'!$D$4:$E$403,2,FALSE)))","v":"Sin Registrar"},{"$f":"IF(ISERROR(VLOOKUP(G931,'1_Metas_Resultados'!$D$4:$I$403,6,FALSE)),\"\",VLOOKUP(G931,'1_Metas_Resultados'!$D$4:$I$403,6,FALSE))","v":""}]
[{"$f":"IF(ISERROR(CONCATENATE($S932,\".\",VLOOKUP($G932,'1_Metas_Resultados'!$D$4:$E$403,2,FALSE))),\"Sin Registrar\",CONCATENATE($S932,\".\",VLOOKUP($G932,'1_Metas_Resultados'!$D$4:$E$403,2,FALSE)))","v":"Sin Registrar"},931," ",{"$f":"IF(ISERROR(CONCATENATE($S932,\".\",VLOOKUP($K932,'1_Metas_Resultados'!$D$4:$E$403,2,FALSE))),\"Sin Registrar\",CONCATENATE($S932,\".\",VLOOKUP($K932,'1_Metas_Resultados'!$D$4:$E$403,2,FALSE)))","v":"Sin Registrar"},{"$f":"IF(ISERROR(CONCATENATE($S932,\".\",VLOOKUP($L932,'1_Metas_Resultados'!$D$4:$E$403,2,FALSE))),\"Sin Registrar\",CONCATENATE($S932,\".\",VLOOKUP($L932,'1_Metas_Resultados'!$D$4:$E$403,2,FALSE)))","v":"Sin Registrar"},{"$f":"IF(ISERROR(VLOOKUP(G932,'1_Metas_Resultados'!$D$4:$I$403,6,FALSE)),\"\",VLOOKUP(G932,'1_Metas_Resultados'!$D$4:$I$403,6,FALSE))","v":""}]
[{"$f":"IF(ISERROR(CONCATENATE($S933,\".\",VLOOKUP($G933,'1_Metas_Resultados'!$D$4:$E$403,2,FALSE))),\"Sin Registrar\",CONCATENATE($S933,\".\",VLOOKUP($G933,'1_Metas_Resultados'!$D$4:$E$403,2,FALSE)))","v":"Sin Registrar"},932," ",{"$f":"IF(ISERROR(CONCATENATE($S933,\".\",VLOOKUP($K933,'1_Metas_Resultados'!$D$4:$E$403,2,FALSE))),\"Sin Registrar\",CONCATENATE($S933,\".\",VLOOKUP($K933,'1_Metas_Resultados'!$D$4:$E$403,2,FALSE)))","v":"Sin Registrar"},{"$f":"IF(ISERROR(CONCATENATE($S933,\".\",VLOOKUP($L933,'1_Metas_Resultados'!$D$4:$E$403,2,FALSE))),\"Sin Registrar\",CONCATENATE($S933,\".\",VLOOKUP($L933,'1_Metas_Resultados'!$D$4:$E$403,2,FALSE)))","v":"Sin Registrar"},{"$f":"IF(ISERROR(VLOOKUP(G933,'1_Metas_Resultados'!$D$4:$I$403,6,FALSE)),\"\",VLOOKUP(G933,'1_Metas_Resultados'!$D$4:$I$403,6,FALSE))","v":""}]
[{"$f":"IF(ISERROR(CONCATENATE($S934,\".\",VLOOKUP($G934,'1_Metas_Resultados'!$D$4:$E$403,2,FALSE))),\"Sin Registrar\",CONCATENATE($S934,\".\",VLOOKUP($G934,'1_Metas_Resultados'!$D$4:$E$403,2,FALSE)))","v":"Sin Registrar"},933," ",{"$f":"IF(ISERROR(CONCATENATE($S934,\".\",VLOOKUP($K934,'1_Metas_Resultados'!$D$4:$E$403,2,FALSE))),\"Sin Registrar\",CONCATENATE($S934,\".\",VLOOKUP($K934,'1_Metas_Resultados'!$D$4:$E$403,2,FALSE)))","v":"Sin Registrar"},{"$f":"IF(ISERROR(CONCATENATE($S934,\".\",VLOOKUP($L934,'1_Metas_Resultados'!$D$4:$E$403,2,FALSE))),\"Sin Registrar\",CONCATENATE($S934,\".\",VLOOKUP($L934,'1_Metas_Resultados'!$D$4:$E$403,2,FALSE)))","v":"Sin Registrar"},{"$f":"IF(ISERROR(VLOOKUP(G934,'1_Metas_Resultados'!$D$4:$I$403,6,FALSE)),\"\",VLOOKUP(G934,'1_Metas_Resultados'!$D$4:$I$403,6,FALSE))","v":""}]
[{"$f":"IF(ISERROR(CONCATENATE($S935,\".\",VLOOKUP($G935,'1_Metas_Resultados'!$D$4:$E$403,2,FALSE))),\"Sin Registrar\",CONCATENATE($S935,\".\",VLOOKUP($G935,'1_Metas_Resultados'!$D$4:$E$403,2,FALSE)))","v":"Sin Registrar"},934," ",{"$f":"IF(ISERROR(CONCATENATE($S935,\".\",VLOOKUP($K935,'1_Metas_Resultados'!$D$4:$E$403,2,FALSE))),\"Sin Registrar\",CONCATENATE($S935,\".\",VLOOKUP($K935,'1_Metas_Resultados'!$D$4:$E$403,2,FALSE)))","v":"Sin Registrar"},{"$f":"IF(ISERROR(CONCATENATE($S935,\".\",VLOOKUP($L935,'1_Metas_Resultados'!$D$4:$E$403,2,FALSE))),\"Sin Registrar\",CONCATENATE($S935,\".\",VLOOKUP($L935,'1_Metas_Resultados'!$D$4:$E$403,2,FALSE)))","v":"Sin Registrar"},{"$f":"IF(ISERROR(VLOOKUP(G935,'1_Metas_Resultados'!$D$4:$I$403,6,FALSE)),\"\",VLOOKUP(G935,'1_Metas_Resultados'!$D$4:$I$403,6,FALSE))","v":""}]
[{"$f":"IF(ISERROR(CONCATENATE($S936,\".\",VLOOKUP($G936,'1_Metas_Resultados'!$D$4:$E$403,2,FALSE))),\"Sin Registrar\",CONCATENATE($S936,\".\",VLOOKUP($G936,'1_Metas_Resultados'!$D$4:$E$403,2,FALSE)))","v":"Sin Registrar"},935," ",{"$f":"IF(ISERROR(CONCATENATE($S936,\".\",VLOOKUP($K936,'1_Metas_Resultados'!$D$4:$E$403,2,FALSE))),\"Sin Registrar\",CONCATENATE($S936,\".\",VLOOKUP($K936,'1_Metas_Resultados'!$D$4:$E$403,2,FALSE)))","v":"Sin Registrar"},{"$f":"IF(ISERROR(CONCATENATE($S936,\".\",VLOOKUP($L936,'1_Metas_Resultados'!$D$4:$E$403,2,FALSE))),\"Sin Registrar\",CONCATENATE($S936,\".\",VLOOKUP($L936,'1_Metas_Resultados'!$D$4:$E$403,2,FALSE)))","v":"Sin Registrar"},{"$f":"IF(ISERROR(VLOOKUP(G936,'1_Metas_Resultados'!$D$4:$I$403,6,FALSE)),\"\",VLOOKUP(G936,'1_Metas_Resultados'!$D$4:$I$403,6,FALSE))","v":""}]
[{"$f":"IF(ISERROR(CONCATENATE($S937,\".\",VLOOKUP($G937,'1_Metas_Resultados'!$D$4:$E$403,2,FALSE))),\"Sin Registrar\",CONCATENATE($S937,\".\",VLOOKUP($G937,'1_Metas_Resultados'!$D$4:$E$403,2,FALSE)))","v":"Sin Registrar"},936," ",{"$f":"IF(ISERROR(CONCATENATE($S937,\".\",VLOOKUP($K937,'1_Metas_Resultados'!$D$4:$E$403,2,FALSE))),\"Sin Registrar\",CONCATENATE($S937,\".\",VLOOKUP($K937,'1_Metas_Resultados'!$D$4:$E$403,2,FALSE)))","v":"Sin Registrar"},{"$f":"IF(ISERROR(CONCATENATE($S937,\".\",VLOOKUP($L937,'1_Metas_Resultados'!$D$4:$E$403,2,FALSE))),\"Sin Registrar\",CONCATENATE($S937,\".\",VLOOKUP($L937,'1_Metas_Resultados'!$D$4:$E$403,2,FALSE)))","v":"Sin Registrar"},{"$f":"IF(ISERROR(VLOOKUP(G937,'1_Metas_Resultados'!$D$4:$I$403,6,FALSE)),\"\",VLOOKUP(G937,'1_Metas_Resultados'!$D$4:$I$403,6,FALSE))","v":""}]
[{"$f":"IF(ISERROR(CONCATENATE($S938,\".\",VLOOKUP($G938,'1_Metas_Resultados'!$D$4:$E$403,2,FALSE))),\"Sin Registrar\",CONCATENATE($S938,\".\",VLOOKUP($G938,'1_Metas_Resultados'!$D$4:$E$403,2,FALSE)))","v":"Sin Registrar"},937," ",{"$f":"IF(ISERROR(CONCATENATE($S938,\".\",VLOOKUP($K938,'1_Metas_Resultados'!$D$4:$E$403,2,FALSE))),\"Sin Registrar\",CONCATENATE($S938,\".\",VLOOKUP($K938,'1_Metas_Resultados'!$D$4:$E$403,2,FALSE)))","v":"Sin Registrar"},{"$f":"IF(ISERROR(CONCATENATE($S938,\".\",VLOOKUP($L938,'1_Metas_Resultados'!$D$4:$E$403,2,FALSE))),\"Sin Registrar\",CONCATENATE($S938,\".\",VLOOKUP($L938,'1_Metas_Resultados'!$D$4:$E$403,2,FALSE)))","v":"Sin Registrar"},{"$f":"IF(ISERROR(VLOOKUP(G938,'1_Metas_Resultados'!$D$4:$I$403,6,FALSE)),\"\",VLOOKUP(G938,'1_Metas_Resultados'!$D$4:$I$403,6,FALSE))","v":""}]
[{"$f":"IF(ISERROR(CONCATENATE($S939,\".\",VLOOKUP($G939,'1_Metas_Resultados'!$D$4:$E$403,2,FALSE))),\"Sin Registrar\",CONCATENATE($S939,\".\",VLOOKUP($G939,'1_Metas_Resultados'!$D$4:$E$403,2,FALSE)))","v":"Sin Registrar"},938," ",{"$f":"IF(ISERROR(CONCATENATE($S939,\".\",VLOOKUP($K939,'1_Metas_Resultados'!$D$4:$E$403,2,FALSE))),\"Sin Registrar\",CONCATENATE($S939,\".\",VLOOKUP($K939,'1_Metas_Resultados'!$D$4:$E$403,2,FALSE)))","v":"Sin Registrar"},{"$f":"IF(ISERROR(CONCATENATE($S939,\".\",VLOOKUP($L939,'1_Metas_Resultados'!$D$4:$E$403,2,FALSE))),\"Sin Registrar\",CONCATENATE($S939,\".\",VLOOKUP($L939,'1_Metas_Resultados'!$D$4:$E$403,2,FALSE)))","v":"Sin Registrar"},{"$f":"IF(ISERROR(VLOOKUP(G939,'1_Metas_Resultados'!$D$4:$I$403,6,FALSE)),\"\",VLOOKUP(G939,'1_Metas_Resultados'!$D$4:$I$403,6,FALSE))","v":""}]
[{"$f":"IF(ISERROR(CONCATENATE($S940,\".\",VLOOKUP($G940,'1_Metas_Resultados'!$D$4:$E$403,2,FALSE))),\"Sin Registrar\",CONCATENATE($S940,\".\",VLOOKUP($G940,'1_Metas_Resultados'!$D$4:$E$403,2,FALSE)))","v":"Sin Registrar"},939," ",{"$f":"IF(ISERROR(CONCATENATE($S940,\".\",VLOOKUP($K940,'1_Metas_Resultados'!$D$4:$E$403,2,FALSE))),\"Sin Registrar\",CONCATENATE($S940,\".\",VLOOKUP($K940,'1_Metas_Resultados'!$D$4:$E$403,2,FALSE)))","v":"Sin Registrar"},{"$f":"IF(ISERROR(CONCATENATE($S940,\".\",VLOOKUP($L940,'1_Metas_Resultados'!$D$4:$E$403,2,FALSE))),\"Sin Registrar\",CONCATENATE($S940,\".\",VLOOKUP($L940,'1_Metas_Resultados'!$D$4:$E$403,2,FALSE)))","v":"Sin Registrar"},{"$f":"IF(ISERROR(VLOOKUP(G940,'1_Metas_Resultados'!$D$4:$I$403,6,FALSE)),\"\",VLOOKUP(G940,'1_Metas_Resultados'!$D$4:$I$403,6,FALSE))","v":""}]
[{"$f":"IF(ISERROR(CONCATENATE($S941,\".\",VLOOKUP($G941,'1_Metas_Resultados'!$D$4:$E$403,2,FALSE))),\"Sin Registrar\",CONCATENATE($S941,\".\",VLOOKUP($G941,'1_Metas_Resultados'!$D$4:$E$403,2,FALSE)))","v":"Sin Registrar"},940," ",{"$f":"IF(ISERROR(CONCATENATE($S941,\".\",VLOOKUP($K941,'1_Metas_Resultados'!$D$4:$E$403,2,FALSE))),\"Sin Registrar\",CONCATENATE($S941,\".\",VLOOKUP($K941,'1_Metas_Resultados'!$D$4:$E$403,2,FALSE)))","v":"Sin Registrar"},{"$f":"IF(ISERROR(CONCATENATE($S941,\".\",VLOOKUP($L941,'1_Metas_Resultados'!$D$4:$E$403,2,FALSE))),\"Sin Registrar\",CONCATENATE($S941,\".\",VLOOKUP($L941,'1_Metas_Resultados'!$D$4:$E$403,2,FALSE)))","v":"Sin Registrar"},{"$f":"IF(ISERROR(VLOOKUP(G941,'1_Metas_Resultados'!$D$4:$I$403,6,FALSE)),\"\",VLOOKUP(G941,'1_Metas_Resultados'!$D$4:$I$403,6,FALSE))","v":""}]
[{"$f":"IF(ISERROR(CONCATENATE($S942,\".\",VLOOKUP($G942,'1_Metas_Resultados'!$D$4:$E$403,2,FALSE))),\"Sin Registrar\",CONCATENATE($S942,\".\",VLOOKUP($G942,'1_Metas_Resultados'!$D$4:$E$403,2,FALSE)))","v":"Sin Registrar"},941," ",{"$f":"IF(ISERROR(CONCATENATE($S942,\".\",VLOOKUP($K942,'1_Metas_Resultados'!$D$4:$E$403,2,FALSE))),\"Sin Registrar\",CONCATENATE($S942,\".\",VLOOKUP($K942,'1_Metas_Resultados'!$D$4:$E$403,2,FALSE)))","v":"Sin Registrar"},{"$f":"IF(ISERROR(CONCATENATE($S942,\".\",VLOOKUP($L942,'1_Metas_Resultados'!$D$4:$E$403,2,FALSE))),\"Sin Registrar\",CONCATENATE($S942,\".\",VLOOKUP($L942,'1_Metas_Resultados'!$D$4:$E$403,2,FALSE)))","v":"Sin Registrar"},{"$f":"IF(ISERROR(VLOOKUP(G942,'1_Metas_Resultados'!$D$4:$I$403,6,FALSE)),\"\",VLOOKUP(G942,'1_Metas_Resultados'!$D$4:$I$403,6,FALSE))","v":""}]
[{"$f":"IF(ISERROR(CONCATENATE($S943,\".\",VLOOKUP($G943,'1_Metas_Resultados'!$D$4:$E$403,2,FALSE))),\"Sin Registrar\",CONCATENATE($S943,\".\",VLOOKUP($G943,'1_Metas_Resultados'!$D$4:$E$403,2,FALSE)))","v":"Sin Registrar"},942," ",{"$f":"IF(ISERROR(CONCATENATE($S943,\".\",VLOOKUP($K943,'1_Metas_Resultados'!$D$4:$E$403,2,FALSE))),\"Sin Registrar\",CONCATENATE($S943,\".\",VLOOKUP($K943,'1_Metas_Resultados'!$D$4:$E$403,2,FALSE)))","v":"Sin Registrar"},{"$f":"IF(ISERROR(CONCATENATE($S943,\".\",VLOOKUP($L943,'1_Metas_Resultados'!$D$4:$E$403,2,FALSE))),\"Sin Registrar\",CONCATENATE($S943,\".\",VLOOKUP($L943,'1_Metas_Resultados'!$D$4:$E$403,2,FALSE)))","v":"Sin Registrar"},{"$f":"IF(ISERROR(VLOOKUP(G943,'1_Metas_Resultados'!$D$4:$I$403,6,FALSE)),\"\",VLOOKUP(G943,'1_Metas_Resultados'!$D$4:$I$403,6,FALSE))","v":""}]
[{"$f":"IF(ISERROR(CONCATENATE($S944,\".\",VLOOKUP($G944,'1_Metas_Resultados'!$D$4:$E$403,2,FALSE))),\"Sin Registrar\",CONCATENATE($S944,\".\",VLOOKUP($G944,'1_Metas_Resultados'!$D$4:$E$403,2,FALSE)))","v":"Sin Registrar"},943," ",{"$f":"IF(ISERROR(CONCATENATE($S944,\".\",VLOOKUP($K944,'1_Metas_Resultados'!$D$4:$E$403,2,FALSE))),\"Sin Registrar\",CONCATENATE($S944,\".\",VLOOKUP($K944,'1_Metas_Resultados'!$D$4:$E$403,2,FALSE)))","v":"Sin Registrar"},{"$f":"IF(ISERROR(CONCATENATE($S944,\".\",VLOOKUP($L944,'1_Metas_Resultados'!$D$4:$E$403,2,FALSE))),\"Sin Registrar\",CONCATENATE($S944,\".\",VLOOKUP($L944,'1_Metas_Resultados'!$D$4:$E$403,2,FALSE)))","v":"Sin Registrar"},{"$f":"IF(ISERROR(VLOOKUP(G944,'1_Metas_Resultados'!$D$4:$I$403,6,FALSE)),\"\",VLOOKUP(G944,'1_Metas_Resultados'!$D$4:$I$403,6,FALSE))","v":""}]
[{"$f":"IF(ISERROR(CONCATENATE($S945,\".\",VLOOKUP($G945,'1_Metas_Resultados'!$D$4:$E$403,2,FALSE))),\"Sin Registrar\",CONCATENATE($S945,\".\",VLOOKUP($G945,'1_Metas_Resultados'!$D$4:$E$403,2,FALSE)))","v":"Sin Registrar"},944," ",{"$f":"IF(ISERROR(CONCATENATE($S945,\".\",VLOOKUP($K945,'1_Metas_Resultados'!$D$4:$E$403,2,FALSE))),\"Sin Registrar\",CONCATENATE($S945,\".\",VLOOKUP($K945,'1_Metas_Resultados'!$D$4:$E$403,2,FALSE)))","v":"Sin Registrar"},{"$f":"IF(ISERROR(CONCATENATE($S945,\".\",VLOOKUP($L945,'1_Metas_Resultados'!$D$4:$E$403,2,FALSE))),\"Sin Registrar\",CONCATENATE($S945,\".\",VLOOKUP($L945,'1_Metas_Resultados'!$D$4:$E$403,2,FALSE)))","v":"Sin Registrar"},{"$f":"IF(ISERROR(VLOOKUP(G945,'1_Metas_Resultados'!$D$4:$I$403,6,FALSE)),\"\",VLOOKUP(G945,'1_Metas_Resultados'!$D$4:$I$403,6,FALSE))","v":""}]
[{"$f":"IF(ISERROR(CONCATENATE($S946,\".\",VLOOKUP($G946,'1_Metas_Resultados'!$D$4:$E$403,2,FALSE))),\"Sin Registrar\",CONCATENATE($S946,\".\",VLOOKUP($G946,'1_Metas_Resultados'!$D$4:$E$403,2,FALSE)))","v":"Sin Registrar"},945," ",{"$f":"IF(ISERROR(CONCATENATE($S946,\".\",VLOOKUP($K946,'1_Metas_Resultados'!$D$4:$E$403,2,FALSE))),\"Sin Registrar\",CONCATENATE($S946,\".\",VLOOKUP($K946,'1_Metas_Resultados'!$D$4:$E$403,2,FALSE)))","v":"Sin Registrar"},{"$f":"IF(ISERROR(CONCATENATE($S946,\".\",VLOOKUP($L946,'1_Metas_Resultados'!$D$4:$E$403,2,FALSE))),\"Sin Registrar\",CONCATENATE($S946,\".\",VLOOKUP($L946,'1_Metas_Resultados'!$D$4:$E$403,2,FALSE)))","v":"Sin Registrar"},{"$f":"IF(ISERROR(VLOOKUP(G946,'1_Metas_Resultados'!$D$4:$I$403,6,FALSE)),\"\",VLOOKUP(G946,'1_Metas_Resultados'!$D$4:$I$403,6,FALSE))","v":""}]
[{"$f":"IF(ISERROR(CONCATENATE($S947,\".\",VLOOKUP($G947,'1_Metas_Resultados'!$D$4:$E$403,2,FALSE))),\"Sin Registrar\",CONCATENATE($S947,\".\",VLOOKUP($G947,'1_Metas_Resultados'!$D$4:$E$403,2,FALSE)))","v":"Sin Registrar"},946," ",{"$f":"IF(ISERROR(CONCATENATE($S947,\".\",VLOOKUP($K947,'1_Metas_Resultados'!$D$4:$E$403,2,FALSE))),\"Sin Registrar\",CONCATENATE($S947,\".\",VLOOKUP($K947,'1_Metas_Resultados'!$D$4:$E$403,2,FALSE)))","v":"Sin Registrar"},{"$f":"IF(ISERROR(CONCATENATE($S947,\".\",VLOOKUP($L947,'1_Metas_Resultados'!$D$4:$E$403,2,FALSE))),\"Sin Registrar\",CONCATENATE($S947,\".\",VLOOKUP($L947,'1_Metas_Resultados'!$D$4:$E$403,2,FALSE)))","v":"Sin Registrar"},{"$f":"IF(ISERROR(VLOOKUP(G947,'1_Metas_Resultados'!$D$4:$I$403,6,FALSE)),\"\",VLOOKUP(G947,'1_Metas_Resultados'!$D$4:$I$403,6,FALSE))","v":""}]
[{"$f":"IF(ISERROR(CONCATENATE($S948,\".\",VLOOKUP($G948,'1_Metas_Resultados'!$D$4:$E$403,2,FALSE))),\"Sin Registrar\",CONCATENATE($S948,\".\",VLOOKUP($G948,'1_Metas_Resultados'!$D$4:$E$403,2,FALSE)))","v":"Sin Registrar"},947," ",{"$f":"IF(ISERROR(CONCATENATE($S948,\".\",VLOOKUP($K948,'1_Metas_Resultados'!$D$4:$E$403,2,FALSE))),\"Sin Registrar\",CONCATENATE($S948,\".\",VLOOKUP($K948,'1_Metas_Resultados'!$D$4:$E$403,2,FALSE)))","v":"Sin Registrar"},{"$f":"IF(ISERROR(CONCATENATE($S948,\".\",VLOOKUP($L948,'1_Metas_Resultados'!$D$4:$E$403,2,FALSE))),\"Sin Registrar\",CONCATENATE($S948,\".\",VLOOKUP($L948,'1_Metas_Resultados'!$D$4:$E$403,2,FALSE)))","v":"Sin Registrar"},{"$f":"IF(ISERROR(VLOOKUP(G948,'1_Metas_Resultados'!$D$4:$I$403,6,FALSE)),\"\",VLOOKUP(G948,'1_Metas_Resultados'!$D$4:$I$403,6,FALSE))","v":""}]
[{"$f":"IF(ISERROR(CONCATENATE($S949,\".\",VLOOKUP($G949,'1_Metas_Resultados'!$D$4:$E$403,2,FALSE))),\"Sin Registrar\",CONCATENATE($S949,\".\",VLOOKUP($G949,'1_Metas_Resultados'!$D$4:$E$403,2,FALSE)))","v":"Sin Registrar"},948," ",{"$f":"IF(ISERROR(CONCATENATE($S949,\".\",VLOOKUP($K949,'1_Metas_Resultados'!$D$4:$E$403,2,FALSE))),\"Sin Registrar\",CONCATENATE($S949,\".\",VLOOKUP($K949,'1_Metas_Resultados'!$D$4:$E$403,2,FALSE)))","v":"Sin Registrar"},{"$f":"IF(ISERROR(CONCATENATE($S949,\".\",VLOOKUP($L949,'1_Metas_Resultados'!$D$4:$E$403,2,FALSE))),\"Sin Registrar\",CONCATENATE($S949,\".\",VLOOKUP($L949,'1_Metas_Resultados'!$D$4:$E$403,2,FALSE)))","v":"Sin Registrar"},{"$f":"IF(ISERROR(VLOOKUP(G949,'1_Metas_Resultados'!$D$4:$I$403,6,FALSE)),\"\",VLOOKUP(G949,'1_Metas_Resultados'!$D$4:$I$403,6,FALSE))","v":""}]
[{"$f":"IF(ISERROR(CONCATENATE($S950,\".\",VLOOKUP($G950,'1_Metas_Resultados'!$D$4:$E$403,2,FALSE))),\"Sin Registrar\",CONCATENATE($S950,\".\",VLOOKUP($G950,'1_Metas_Resultados'!$D$4:$E$403,2,FALSE)))","v":"Sin Registrar"},949," ",{"$f":"IF(ISERROR(CONCATENATE($S950,\".\",VLOOKUP($K950,'1_Metas_Resultados'!$D$4:$E$403,2,FALSE))),\"Sin Registrar\",CONCATENATE($S950,\".\",VLOOKUP($K950,'1_Metas_Resultados'!$D$4:$E$403,2,FALSE)))","v":"Sin Registrar"},{"$f":"IF(ISERROR(CONCATENATE($S950,\".\",VLOOKUP($L950,'1_Metas_Resultados'!$D$4:$E$403,2,FALSE))),\"Sin Registrar\",CONCATENATE($S950,\".\",VLOOKUP($L950,'1_Metas_Resultados'!$D$4:$E$403,2,FALSE)))","v":"Sin Registrar"},{"$f":"IF(ISERROR(VLOOKUP(G950,'1_Metas_Resultados'!$D$4:$I$403,6,FALSE)),\"\",VLOOKUP(G950,'1_Metas_Resultados'!$D$4:$I$403,6,FALSE))","v":""}]
[{"$f":"IF(ISERROR(CONCATENATE($S951,\".\",VLOOKUP($G951,'1_Metas_Resultados'!$D$4:$E$403,2,FALSE))),\"Sin Registrar\",CONCATENATE($S951,\".\",VLOOKUP($G951,'1_Metas_Resultados'!$D$4:$E$403,2,FALSE)))","v":"Sin Registrar"},950," ",{"$f":"IF(ISERROR(CONCATENATE($S951,\".\",VLOOKUP($K951,'1_Metas_Resultados'!$D$4:$E$403,2,FALSE))),\"Sin Registrar\",CONCATENATE($S951,\".\",VLOOKUP($K951,'1_Metas_Resultados'!$D$4:$E$403,2,FALSE)))","v":"Sin Registrar"},{"$f":"IF(ISERROR(CONCATENATE($S951,\".\",VLOOKUP($L951,'1_Metas_Resultados'!$D$4:$E$403,2,FALSE))),\"Sin Registrar\",CONCATENATE($S951,\".\",VLOOKUP($L951,'1_Metas_Resultados'!$D$4:$E$403,2,FALSE)))","v":"Sin Registrar"},{"$f":"IF(ISERROR(VLOOKUP(G951,'1_Metas_Resultados'!$D$4:$I$403,6,FALSE)),\"\",VLOOKUP(G951,'1_Metas_Resultados'!$D$4:$I$403,6,FALSE))","v":""}]
[{"$f":"IF(ISERROR(CONCATENATE($S952,\".\",VLOOKUP($G952,'1_Metas_Resultados'!$D$4:$E$403,2,FALSE))),\"Sin Registrar\",CONCATENATE($S952,\".\",VLOOKUP($G952,'1_Metas_Resultados'!$D$4:$E$403,2,FALSE)))","v":"Sin Registrar"},951," ",{"$f":"IF(ISERROR(CONCATENATE($S952,\".\",VLOOKUP($K952,'1_Metas_Resultados'!$D$4:$E$403,2,FALSE))),\"Sin Registrar\",CONCATENATE($S952,\".\",VLOOKUP($K952,'1_Metas_Resultados'!$D$4:$E$403,2,FALSE)))","v":"Sin Registrar"},{"$f":"IF(ISERROR(CONCATENATE($S952,\".\",VLOOKUP($L952,'1_Metas_Resultados'!$D$4:$E$403,2,FALSE))),\"Sin Registrar\",CONCATENATE($S952,\".\",VLOOKUP($L952,'1_Metas_Resultados'!$D$4:$E$403,2,FALSE)))","v":"Sin Registrar"},{"$f":"IF(ISERROR(VLOOKUP(G952,'1_Metas_Resultados'!$D$4:$I$403,6,FALSE)),\"\",VLOOKUP(G952,'1_Metas_Resultados'!$D$4:$I$403,6,FALSE))","v":""}]
[{"$f":"IF(ISERROR(CONCATENATE($S953,\".\",VLOOKUP($G953,'1_Metas_Resultados'!$D$4:$E$403,2,FALSE))),\"Sin Registrar\",CONCATENATE($S953,\".\",VLOOKUP($G953,'1_Metas_Resultados'!$D$4:$E$403,2,FALSE)))","v":"Sin Registrar"},952," ",{"$f":"IF(ISERROR(CONCATENATE($S953,\".\",VLOOKUP($K953,'1_Metas_Resultados'!$D$4:$E$403,2,FALSE))),\"Sin Registrar\",CONCATENATE($S953,\".\",VLOOKUP($K953,'1_Metas_Resultados'!$D$4:$E$403,2,FALSE)))","v":"Sin Registrar"},{"$f":"IF(ISERROR(CONCATENATE($S953,\".\",VLOOKUP($L953,'1_Metas_Resultados'!$D$4:$E$403,2,FALSE))),\"Sin Registrar\",CONCATENATE($S953,\".\",VLOOKUP($L953,'1_Metas_Resultados'!$D$4:$E$403,2,FALSE)))","v":"Sin Registrar"},{"$f":"IF(ISERROR(VLOOKUP(G953,'1_Metas_Resultados'!$D$4:$I$403,6,FALSE)),\"\",VLOOKUP(G953,'1_Metas_Resultados'!$D$4:$I$403,6,FALSE))","v":""}]
[{"$f":"IF(ISERROR(CONCATENATE($S954,\".\",VLOOKUP($G954,'1_Metas_Resultados'!$D$4:$E$403,2,FALSE))),\"Sin Registrar\",CONCATENATE($S954,\".\",VLOOKUP($G954,'1_Metas_Resultados'!$D$4:$E$403,2,FALSE)))","v":"Sin Registrar"},953," ",{"$f":"IF(ISERROR(CONCATENATE($S954,\".\",VLOOKUP($K954,'1_Metas_Resultados'!$D$4:$E$403,2,FALSE))),\"Sin Registrar\",CONCATENATE($S954,\".\",VLOOKUP($K954,'1_Metas_Resultados'!$D$4:$E$403,2,FALSE)))","v":"Sin Registrar"},{"$f":"IF(ISERROR(CONCATENATE($S954,\".\",VLOOKUP($L954,'1_Metas_Resultados'!$D$4:$E$403,2,FALSE))),\"Sin Registrar\",CONCATENATE($S954,\".\",VLOOKUP($L954,'1_Metas_Resultados'!$D$4:$E$403,2,FALSE)))","v":"Sin Registrar"},{"$f":"IF(ISERROR(VLOOKUP(G954,'1_Metas_Resultados'!$D$4:$I$403,6,FALSE)),\"\",VLOOKUP(G954,'1_Metas_Resultados'!$D$4:$I$403,6,FALSE))","v":""}]
[{"$f":"IF(ISERROR(CONCATENATE($S955,\".\",VLOOKUP($G955,'1_Metas_Resultados'!$D$4:$E$403,2,FALSE))),\"Sin Registrar\",CONCATENATE($S955,\".\",VLOOKUP($G955,'1_Metas_Resultados'!$D$4:$E$403,2,FALSE)))","v":"Sin Registrar"},954," ",{"$f":"IF(ISERROR(CONCATENATE($S955,\".\",VLOOKUP($K955,'1_Metas_Resultados'!$D$4:$E$403,2,FALSE))),\"Sin Registrar\",CONCATENATE($S955,\".\",VLOOKUP($K955,'1_Metas_Resultados'!$D$4:$E$403,2,FALSE)))","v":"Sin Registrar"},{"$f":"IF(ISERROR(CONCATENATE($S955,\".\",VLOOKUP($L955,'1_Metas_Resultados'!$D$4:$E$403,2,FALSE))),\"Sin Registrar\",CONCATENATE($S955,\".\",VLOOKUP($L955,'1_Metas_Resultados'!$D$4:$E$403,2,FALSE)))","v":"Sin Registrar"},{"$f":"IF(ISERROR(VLOOKUP(G955,'1_Metas_Resultados'!$D$4:$I$403,6,FALSE)),\"\",VLOOKUP(G955,'1_Metas_Resultados'!$D$4:$I$403,6,FALSE))","v":""}]
[{"$f":"IF(ISERROR(CONCATENATE($S956,\".\",VLOOKUP($G956,'1_Metas_Resultados'!$D$4:$E$403,2,FALSE))),\"Sin Registrar\",CONCATENATE($S956,\".\",VLOOKUP($G956,'1_Metas_Resultados'!$D$4:$E$403,2,FALSE)))","v":"Sin Registrar"},955," ",{"$f":"IF(ISERROR(CONCATENATE($S956,\".\",VLOOKUP($K956,'1_Metas_Resultados'!$D$4:$E$403,2,FALSE))),\"Sin Registrar\",CONCATENATE($S956,\".\",VLOOKUP($K956,'1_Metas_Resultados'!$D$4:$E$403,2,FALSE)))","v":"Sin Registrar"},{"$f":"IF(ISERROR(CONCATENATE($S956,\".\",VLOOKUP($L956,'1_Metas_Resultados'!$D$4:$E$403,2,FALSE))),\"Sin Registrar\",CONCATENATE($S956,\".\",VLOOKUP($L956,'1_Metas_Resultados'!$D$4:$E$403,2,FALSE)))","v":"Sin Registrar"},{"$f":"IF(ISERROR(VLOOKUP(G956,'1_Metas_Resultados'!$D$4:$I$403,6,FALSE)),\"\",VLOOKUP(G956,'1_Metas_Resultados'!$D$4:$I$403,6,FALSE))","v":""}]
[{"$f":"IF(ISERROR(CONCATENATE($S957,\".\",VLOOKUP($G957,'1_Metas_Resultados'!$D$4:$E$403,2,FALSE))),\"Sin Registrar\",CONCATENATE($S957,\".\",VLOOKUP($G957,'1_Metas_Resultados'!$D$4:$E$403,2,FALSE)))","v":"Sin Registrar"},956," ",{"$f":"IF(ISERROR(CONCATENATE($S957,\".\",VLOOKUP($K957,'1_Metas_Resultados'!$D$4:$E$403,2,FALSE))),\"Sin Registrar\",CONCATENATE($S957,\".\",VLOOKUP($K957,'1_Metas_Resultados'!$D$4:$E$403,2,FALSE)))","v":"Sin Registrar"},{"$f":"IF(ISERROR(CONCATENATE($S957,\".\",VLOOKUP($L957,'1_Metas_Resultados'!$D$4:$E$403,2,FALSE))),\"Sin Registrar\",CONCATENATE($S957,\".\",VLOOKUP($L957,'1_Metas_Resultados'!$D$4:$E$403,2,FALSE)))","v":"Sin Registrar"},{"$f":"IF(ISERROR(VLOOKUP(G957,'1_Metas_Resultados'!$D$4:$I$403,6,FALSE)),\"\",VLOOKUP(G957,'1_Metas_Resultados'!$D$4:$I$403,6,FALSE))","v":""}]
[{"$f":"IF(ISERROR(CONCATENATE($S958,\".\",VLOOKUP($G958,'1_Metas_Resultados'!$D$4:$E$403,2,FALSE))),\"Sin Registrar\",CONCATENATE($S958,\".\",VLOOKUP($G958,'1_Metas_Resultados'!$D$4:$E$403,2,FALSE)))","v":"Sin Registrar"},957," ",{"$f":"IF(ISERROR(CONCATENATE($S958,\".\",VLOOKUP($K958,'1_Metas_Resultados'!$D$4:$E$403,2,FALSE))),\"Sin Registrar\",CONCATENATE($S958,\".\",VLOOKUP($K958,'1_Metas_Resultados'!$D$4:$E$403,2,FALSE)))","v":"Sin Registrar"},{"$f":"IF(ISERROR(CONCATENATE($S958,\".\",VLOOKUP($L958,'1_Metas_Resultados'!$D$4:$E$403,2,FALSE))),\"Sin Registrar\",CONCATENATE($S958,\".\",VLOOKUP($L958,'1_Metas_Resultados'!$D$4:$E$403,2,FALSE)))","v":"Sin Registrar"},{"$f":"IF(ISERROR(VLOOKUP(G958,'1_Metas_Resultados'!$D$4:$I$403,6,FALSE)),\"\",VLOOKUP(G958,'1_Metas_Resultados'!$D$4:$I$403,6,FALSE))","v":""}]
[{"$f":"IF(ISERROR(CONCATENATE($S959,\".\",VLOOKUP($G959,'1_Metas_Resultados'!$D$4:$E$403,2,FALSE))),\"Sin Registrar\",CONCATENATE($S959,\".\",VLOOKUP($G959,'1_Metas_Resultados'!$D$4:$E$403,2,FALSE)))","v":"Sin Registrar"},958," ",{"$f":"IF(ISERROR(CONCATENATE($S959,\".\",VLOOKUP($K959,'1_Metas_Resultados'!$D$4:$E$403,2,FALSE))),\"Sin Registrar\",CONCATENATE($S959,\".\",VLOOKUP($K959,'1_Metas_Resultados'!$D$4:$E$403,2,FALSE)))","v":"Sin Registrar"},{"$f":"IF(ISERROR(CONCATENATE($S959,\".\",VLOOKUP($L959,'1_Metas_Resultados'!$D$4:$E$403,2,FALSE))),\"Sin Registrar\",CONCATENATE($S959,\".\",VLOOKUP($L959,'1_Metas_Resultados'!$D$4:$E$403,2,FALSE)))","v":"Sin Registrar"},{"$f":"IF(ISERROR(VLOOKUP(G959,'1_Metas_Resultados'!$D$4:$I$403,6,FALSE)),\"\",VLOOKUP(G959,'1_Metas_Resultados'!$D$4:$I$403,6,FALSE))","v":""}]
[{"$f":"IF(ISERROR(CONCATENATE($S960,\".\",VLOOKUP($G960,'1_Metas_Resultados'!$D$4:$E$403,2,FALSE))),\"Sin Registrar\",CONCATENATE($S960,\".\",VLOOKUP($G960,'1_Metas_Resultados'!$D$4:$E$403,2,FALSE)))","v":"Sin Registrar"},959," ",{"$f":"IF(ISERROR(CONCATENATE($S960,\".\",VLOOKUP($K960,'1_Metas_Resultados'!$D$4:$E$403,2,FALSE))),\"Sin Registrar\",CONCATENATE($S960,\".\",VLOOKUP($K960,'1_Metas_Resultados'!$D$4:$E$403,2,FALSE)))","v":"Sin Registrar"},{"$f":"IF(ISERROR(CONCATENATE($S960,\".\",VLOOKUP($L960,'1_Metas_Resultados'!$D$4:$E$403,2,FALSE))),\"Sin Registrar\",CONCATENATE($S960,\".\",VLOOKUP($L960,'1_Metas_Resultados'!$D$4:$E$403,2,FALSE)))","v":"Sin Registrar"},{"$f":"IF(ISERROR(VLOOKUP(G960,'1_Metas_Resultados'!$D$4:$I$403,6,FALSE)),\"\",VLOOKUP(G960,'1_Metas_Resultados'!$D$4:$I$403,6,FALSE))","v":""}]
[{"$f":"IF(ISERROR(CONCATENATE($S961,\".\",VLOOKUP($G961,'1_Metas_Resultados'!$D$4:$E$403,2,FALSE))),\"Sin Registrar\",CONCATENATE($S961,\".\",VLOOKUP($G961,'1_Metas_Resultados'!$D$4:$E$403,2,FALSE)))","v":"Sin Registrar"},960," ",{"$f":"IF(ISERROR(CONCATENATE($S961,\".\",VLOOKUP($K961,'1_Metas_Resultados'!$D$4:$E$403,2,FALSE))),\"Sin Registrar\",CONCATENATE($S961,\".\",VLOOKUP($K961,'1_Metas_Resultados'!$D$4:$E$403,2,FALSE)))","v":"Sin Registrar"},{"$f":"IF(ISERROR(CONCATENATE($S961,\".\",VLOOKUP($L961,'1_Metas_Resultados'!$D$4:$E$403,2,FALSE))),\"Sin Registrar\",CONCATENATE($S961,\".\",VLOOKUP($L961,'1_Metas_Resultados'!$D$4:$E$403,2,FALSE)))","v":"Sin Registrar"},{"$f":"IF(ISERROR(VLOOKUP(G961,'1_Metas_Resultados'!$D$4:$I$403,6,FALSE)),\"\",VLOOKUP(G961,'1_Metas_Resultados'!$D$4:$I$403,6,FALSE))","v":""}]
[{"$f":"IF(ISERROR(CONCATENATE($S962,\".\",VLOOKUP($G962,'1_Metas_Resultados'!$D$4:$E$403,2,FALSE))),\"Sin Registrar\",CONCATENATE($S962,\".\",VLOOKUP($G962,'1_Metas_Resultados'!$D$4:$E$403,2,FALSE)))","v":"Sin Registrar"},961," ",{"$f":"IF(ISERROR(CONCATENATE($S962,\".\",VLOOKUP($K962,'1_Metas_Resultados'!$D$4:$E$403,2,FALSE))),\"Sin Registrar\",CONCATENATE($S962,\".\",VLOOKUP($K962,'1_Metas_Resultados'!$D$4:$E$403,2,FALSE)))","v":"Sin Registrar"},{"$f":"IF(ISERROR(CONCATENATE($S962,\".\",VLOOKUP($L962,'1_Metas_Resultados'!$D$4:$E$403,2,FALSE))),\"Sin Registrar\",CONCATENATE($S962,\".\",VLOOKUP($L962,'1_Metas_Resultados'!$D$4:$E$403,2,FALSE)))","v":"Sin Registrar"},{"$f":"IF(ISERROR(VLOOKUP(G962,'1_Metas_Resultados'!$D$4:$I$403,6,FALSE)),\"\",VLOOKUP(G962,'1_Metas_Resultados'!$D$4:$I$403,6,FALSE))","v":""}]
[{"$f":"IF(ISERROR(CONCATENATE($S963,\".\",VLOOKUP($G963,'1_Metas_Resultados'!$D$4:$E$403,2,FALSE))),\"Sin Registrar\",CONCATENATE($S963,\".\",VLOOKUP($G963,'1_Metas_Resultados'!$D$4:$E$403,2,FALSE)))","v":"Sin Registrar"},962," ",{"$f":"IF(ISERROR(CONCATENATE($S963,\".\",VLOOKUP($K963,'1_Metas_Resultados'!$D$4:$E$403,2,FALSE))),\"Sin Registrar\",CONCATENATE($S963,\".\",VLOOKUP($K963,'1_Metas_Resultados'!$D$4:$E$403,2,FALSE)))","v":"Sin Registrar"},{"$f":"IF(ISERROR(CONCATENATE($S963,\".\",VLOOKUP($L963,'1_Metas_Resultados'!$D$4:$E$403,2,FALSE))),\"Sin Registrar\",CONCATENATE($S963,\".\",VLOOKUP($L963,'1_Metas_Resultados'!$D$4:$E$403,2,FALSE)))","v":"Sin Registrar"},{"$f":"IF(ISERROR(VLOOKUP(G963,'1_Metas_Resultados'!$D$4:$I$403,6,FALSE)),\"\",VLOOKUP(G963,'1_Metas_Resultados'!$D$4:$I$403,6,FALSE))","v":""}]
[{"$f":"IF(ISERROR(CONCATENATE($S964,\".\",VLOOKUP($G964,'1_Metas_Resultados'!$D$4:$E$403,2,FALSE))),\"Sin Registrar\",CONCATENATE($S964,\".\",VLOOKUP($G964,'1_Metas_Resultados'!$D$4:$E$403,2,FALSE)))","v":"Sin Registrar"},963," ",{"$f":"IF(ISERROR(CONCATENATE($S964,\".\",VLOOKUP($K964,'1_Metas_Resultados'!$D$4:$E$403,2,FALSE))),\"Sin Registrar\",CONCATENATE($S964,\".\",VLOOKUP($K964,'1_Metas_Resultados'!$D$4:$E$403,2,FALSE)))","v":"Sin Registrar"},{"$f":"IF(ISERROR(CONCATENATE($S964,\".\",VLOOKUP($L964,'1_Metas_Resultados'!$D$4:$E$403,2,FALSE))),\"Sin Registrar\",CONCATENATE($S964,\".\",VLOOKUP($L964,'1_Metas_Resultados'!$D$4:$E$403,2,FALSE)))","v":"Sin Registrar"},{"$f":"IF(ISERROR(VLOOKUP(G964,'1_Metas_Resultados'!$D$4:$I$403,6,FALSE)),\"\",VLOOKUP(G964,'1_Metas_Resultados'!$D$4:$I$403,6,FALSE))","v":""}]
[{"$f":"IF(ISERROR(CONCATENATE($S965,\".\",VLOOKUP($G965,'1_Metas_Resultados'!$D$4:$E$403,2,FALSE))),\"Sin Registrar\",CONCATENATE($S965,\".\",VLOOKUP($G965,'1_Metas_Resultados'!$D$4:$E$403,2,FALSE)))","v":"Sin Registrar"},964,{"$f":"IF(A965=\"Sin Registrar\",\" \",CONCATENATE(A965,\".\",B965))","v":" "},{"$f":"IF(ISERROR(CONCATENATE($S965,\".\",VLOOKUP($K965,'1_Metas_Resultados'!$D$4:$E$403,2,FALSE))),\"Sin Registrar\",CONCATENATE($S965,\".\",VLOOKUP($K965,'1_Metas_Resultados'!$D$4:$E$403,2,FALSE)))","v":"Sin Registrar"},{"$f":"IF(ISERROR(CONCATENATE($S965,\".\",VLOOKUP($L965,'1_Metas_Resultados'!$D$4:$E$403,2,FALSE))),\"Sin Registrar\",CONCATENATE($S965,\".\",VLOOKUP($L965,'1_Metas_Resultados'!$D$4:$E$403,2,FALSE)))","v":"Sin Registrar"},{"$f":"IF(ISERROR(VLOOKUP(G965,'1_Metas_Resultados'!$D$4:$I$403,6,FALSE)),\"\",VLOOKUP(G965,'1_Metas_Resultados'!$D$4:$I$403,6,FALSE))","v":""}]
[{"$f":"IF(ISERROR(CONCATENATE($S966,\".\",VLOOKUP($G966,'1_Metas_Resultados'!$D$4:$E$403,2,FALSE))),\"Sin Registrar\",CONCATENATE($S966,\".\",VLOOKUP($G966,'1_Metas_Resultados'!$D$4:$E$403,2,FALSE)))","v":"Sin Registrar"},965," ",{"$f":"IF(ISERROR(CONCATENATE($S966,\".\",VLOOKUP($K966,'1_Metas_Resultados'!$D$4:$E$403,2,FALSE))),\"Sin Registrar\",CONCATENATE($S966,\".\",VLOOKUP($K966,'1_Metas_Resultados'!$D$4:$E$403,2,FALSE)))","v":"Sin Registrar"},{"$f":"IF(ISERROR(CONCATENATE($S966,\".\",VLOOKUP($L966,'1_Metas_Resultados'!$D$4:$E$403,2,FALSE))),\"Sin Registrar\",CONCATENATE($S966,\".\",VLOOKUP($L966,'1_Metas_Resultados'!$D$4:$E$403,2,FALSE)))","v":"Sin Registrar"},{"$f":"IF(ISERROR(VLOOKUP(G966,'1_Metas_Resultados'!$D$4:$I$403,6,FALSE)),\"\",VLOOKUP(G966,'1_Metas_Resultados'!$D$4:$I$403,6,FALSE))","v":""}]
[{"$f":"IF(ISERROR(CONCATENATE($S967,\".\",VLOOKUP($G967,'1_Metas_Resultados'!$D$4:$E$403,2,FALSE))),\"Sin Registrar\",CONCATENATE($S967,\".\",VLOOKUP($G967,'1_Metas_Resultados'!$D$4:$E$403,2,FALSE)))","v":"Sin Registrar"},966," ",{"$f":"IF(ISERROR(CONCATENATE($S967,\".\",VLOOKUP($K967,'1_Metas_Resultados'!$D$4:$E$403,2,FALSE))),\"Sin Registrar\",CONCATENATE($S967,\".\",VLOOKUP($K967,'1_Metas_Resultados'!$D$4:$E$403,2,FALSE)))","v":"Sin Registrar"},{"$f":"IF(ISERROR(CONCATENATE($S967,\".\",VLOOKUP($L967,'1_Metas_Resultados'!$D$4:$E$403,2,FALSE))),\"Sin Registrar\",CONCATENATE($S967,\".\",VLOOKUP($L967,'1_Metas_Resultados'!$D$4:$E$403,2,FALSE)))","v":"Sin Registrar"},{"$f":"IF(ISERROR(VLOOKUP(G967,'1_Metas_Resultados'!$D$4:$I$403,6,FALSE)),\"\",VLOOKUP(G967,'1_Metas_Resultados'!$D$4:$I$403,6,FALSE))","v":""}]
[{"$f":"IF(ISERROR(CONCATENATE($S968,\".\",VLOOKUP($G968,'1_Metas_Resultados'!$D$4:$E$403,2,FALSE))),\"Sin Registrar\",CONCATENATE($S968,\".\",VLOOKUP($G968,'1_Metas_Resultados'!$D$4:$E$403,2,FALSE)))","v":"Sin Registrar"},967," ",{"$f":"IF(ISERROR(CONCATENATE($S968,\".\",VLOOKUP($K968,'1_Metas_Resultados'!$D$4:$E$403,2,FALSE))),\"Sin Registrar\",CONCATENATE($S968,\".\",VLOOKUP($K968,'1_Metas_Resultados'!$D$4:$E$403,2,FALSE)))","v":"Sin Registrar"},{"$f":"IF(ISERROR(CONCATENATE($S968,\".\",VLOOKUP($L968,'1_Metas_Resultados'!$D$4:$E$403,2,FALSE))),\"Sin Registrar\",CONCATENATE($S968,\".\",VLOOKUP($L968,'1_Metas_Resultados'!$D$4:$E$403,2,FALSE)))","v":"Sin Registrar"},{"$f":"IF(ISERROR(VLOOKUP(G968,'1_Metas_Resultados'!$D$4:$I$403,6,FALSE)),\"\",VLOOKUP(G968,'1_Metas_Resultados'!$D$4:$I$403,6,FALSE))","v":""}]
[{"$f":"IF(ISERROR(CONCATENATE($S969,\".\",VLOOKUP($G969,'1_Metas_Resultados'!$D$4:$E$403,2,FALSE))),\"Sin Registrar\",CONCATENATE($S969,\".\",VLOOKUP($G969,'1_Metas_Resultados'!$D$4:$E$403,2,FALSE)))","v":"Sin Registrar"},968," ",{"$f":"IF(ISERROR(CONCATENATE($S969,\".\",VLOOKUP($K969,'1_Metas_Resultados'!$D$4:$E$403,2,FALSE))),\"Sin Registrar\",CONCATENATE($S969,\".\",VLOOKUP($K969,'1_Metas_Resultados'!$D$4:$E$403,2,FALSE)))","v":"Sin Registrar"},{"$f":"IF(ISERROR(CONCATENATE($S969,\".\",VLOOKUP($L969,'1_Metas_Resultados'!$D$4:$E$403,2,FALSE))),\"Sin Registrar\",CONCATENATE($S969,\".\",VLOOKUP($L969,'1_Metas_Resultados'!$D$4:$E$403,2,FALSE)))","v":"Sin Registrar"},{"$f":"IF(ISERROR(VLOOKUP(G969,'1_Metas_Resultados'!$D$4:$I$403,6,FALSE)),\"\",VLOOKUP(G969,'1_Metas_Resultados'!$D$4:$I$403,6,FALSE))","v":""}]
[{"$f":"IF(ISERROR(CONCATENATE($S970,\".\",VLOOKUP($G970,'1_Metas_Resultados'!$D$4:$E$403,2,FALSE))),\"Sin Registrar\",CONCATENATE($S970,\".\",VLOOKUP($G970,'1_Metas_Resultados'!$D$4:$E$403,2,FALSE)))","v":"Sin Registrar"},969," ",{"$f":"IF(ISERROR(CONCATENATE($S970,\".\",VLOOKUP($K970,'1_Metas_Resultados'!$D$4:$E$403,2,FALSE))),\"Sin Registrar\",CONCATENATE($S970,\".\",VLOOKUP($K970,'1_Metas_Resultados'!$D$4:$E$403,2,FALSE)))","v":"Sin Registrar"},{"$f":"IF(ISERROR(CONCATENATE($S970,\".\",VLOOKUP($L970,'1_Metas_Resultados'!$D$4:$E$403,2,FALSE))),\"Sin Registrar\",CONCATENATE($S970,\".\",VLOOKUP($L970,'1_Metas_Resultados'!$D$4:$E$403,2,FALSE)))","v":"Sin Registrar"},{"$f":"IF(ISERROR(VLOOKUP(G970,'1_Metas_Resultados'!$D$4:$I$403,6,FALSE)),\"\",VLOOKUP(G970,'1_Metas_Resultados'!$D$4:$I$403,6,FALSE))","v":""}]
[{"$f":"IF(ISERROR(CONCATENATE($S971,\".\",VLOOKUP($G971,'1_Metas_Resultados'!$D$4:$E$403,2,FALSE))),\"Sin Registrar\",CONCATENATE($S971,\".\",VLOOKUP($G971,'1_Metas_Resultados'!$D$4:$E$403,2,FALSE)))","v":"Sin Registrar"},970," ",{"$f":"IF(ISERROR(CONCATENATE($S971,\".\",VLOOKUP($K971,'1_Metas_Resultados'!$D$4:$E$403,2,FALSE))),\"Sin Registrar\",CONCATENATE($S971,\".\",VLOOKUP($K971,'1_Metas_Resultados'!$D$4:$E$403,2,FALSE)))","v":"Sin Registrar"},{"$f":"IF(ISERROR(CONCATENATE($S971,\".\",VLOOKUP($L971,'1_Metas_Resultados'!$D$4:$E$403,2,FALSE))),\"Sin Registrar\",CONCATENATE($S971,\".\",VLOOKUP($L971,'1_Metas_Resultados'!$D$4:$E$403,2,FALSE)))","v":"Sin Registrar"},{"$f":"IF(ISERROR(VLOOKUP(G971,'1_Metas_Resultados'!$D$4:$I$403,6,FALSE)),\"\",VLOOKUP(G971,'1_Metas_Resultados'!$D$4:$I$403,6,FALSE))","v":""}]
[{"$f":"IF(ISERROR(CONCATENATE($S972,\".\",VLOOKUP($G972,'1_Metas_Resultados'!$D$4:$E$403,2,FALSE))),\"Sin Registrar\",CONCATENATE($S972,\".\",VLOOKUP($G972,'1_Metas_Resultados'!$D$4:$E$403,2,FALSE)))","v":"Sin Registrar"},971," ",{"$f":"IF(ISERROR(CONCATENATE($S972,\".\",VLOOKUP($K972,'1_Metas_Resultados'!$D$4:$E$403,2,FALSE))),\"Sin Registrar\",CONCATENATE($S972,\".\",VLOOKUP($K972,'1_Metas_Resultados'!$D$4:$E$403,2,FALSE)))","v":"Sin Registrar"},{"$f":"IF(ISERROR(CONCATENATE($S972,\".\",VLOOKUP($L972,'1_Metas_Resultados'!$D$4:$E$403,2,FALSE))),\"Sin Registrar\",CONCATENATE($S972,\".\",VLOOKUP($L972,'1_Metas_Resultados'!$D$4:$E$403,2,FALSE)))","v":"Sin Registrar"},{"$f":"IF(ISERROR(VLOOKUP(G972,'1_Metas_Resultados'!$D$4:$I$403,6,FALSE)),\"\",VLOOKUP(G972,'1_Metas_Resultados'!$D$4:$I$403,6,FALSE))","v":""}]
[{"$f":"IF(ISERROR(CONCATENATE($S973,\".\",VLOOKUP($G973,'1_Metas_Resultados'!$D$4:$E$403,2,FALSE))),\"Sin Registrar\",CONCATENATE($S973,\".\",VLOOKUP($G973,'1_Metas_Resultados'!$D$4:$E$403,2,FALSE)))","v":"Sin Registrar"},972," ",{"$f":"IF(ISERROR(CONCATENATE($S973,\".\",VLOOKUP($K973,'1_Metas_Resultados'!$D$4:$E$403,2,FALSE))),\"Sin Registrar\",CONCATENATE($S973,\".\",VLOOKUP($K973,'1_Metas_Resultados'!$D$4:$E$403,2,FALSE)))","v":"Sin Registrar"},{"$f":"IF(ISERROR(CONCATENATE($S973,\".\",VLOOKUP($L973,'1_Metas_Resultados'!$D$4:$E$403,2,FALSE))),\"Sin Registrar\",CONCATENATE($S973,\".\",VLOOKUP($L973,'1_Metas_Resultados'!$D$4:$E$403,2,FALSE)))","v":"Sin Registrar"},{"$f":"IF(ISERROR(VLOOKUP(G973,'1_Metas_Resultados'!$D$4:$I$403,6,FALSE)),\"\",VLOOKUP(G973,'1_Metas_Resultados'!$D$4:$I$403,6,FALSE))","v":""}]
[{"$f":"IF(ISERROR(CONCATENATE($S974,\".\",VLOOKUP($G974,'1_Metas_Resultados'!$D$4:$E$403,2,FALSE))),\"Sin Registrar\",CONCATENATE($S974,\".\",VLOOKUP($G974,'1_Metas_Resultados'!$D$4:$E$403,2,FALSE)))","v":"Sin Registrar"},973," ",{"$f":"IF(ISERROR(CONCATENATE($S974,\".\",VLOOKUP($K974,'1_Metas_Resultados'!$D$4:$E$403,2,FALSE))),\"Sin Registrar\",CONCATENATE($S974,\".\",VLOOKUP($K974,'1_Metas_Resultados'!$D$4:$E$403,2,FALSE)))","v":"Sin Registrar"},{"$f":"IF(ISERROR(CONCATENATE($S974,\".\",VLOOKUP($L974,'1_Metas_Resultados'!$D$4:$E$403,2,FALSE))),\"Sin Registrar\",CONCATENATE($S974,\".\",VLOOKUP($L974,'1_Metas_Resultados'!$D$4:$E$403,2,FALSE)))","v":"Sin Registrar"},{"$f":"IF(ISERROR(VLOOKUP(G974,'1_Metas_Resultados'!$D$4:$I$403,6,FALSE)),\"\",VLOOKUP(G974,'1_Metas_Resultados'!$D$4:$I$403,6,FALSE))","v":""}]
[{"$f":"IF(ISERROR(CONCATENATE($S975,\".\",VLOOKUP($G975,'1_Metas_Resultados'!$D$4:$E$403,2,FALSE))),\"Sin Registrar\",CONCATENATE($S975,\".\",VLOOKUP($G975,'1_Metas_Resultados'!$D$4:$E$403,2,FALSE)))","v":"Sin Registrar"},974," ",{"$f":"IF(ISERROR(CONCATENATE($S975,\".\",VLOOKUP($K975,'1_Metas_Resultados'!$D$4:$E$403,2,FALSE))),\"Sin Registrar\",CONCATENATE($S975,\".\",VLOOKUP($K975,'1_Metas_Resultados'!$D$4:$E$403,2,FALSE)))","v":"Sin Registrar"},{"$f":"IF(ISERROR(CONCATENATE($S975,\".\",VLOOKUP($L975,'1_Metas_Resultados'!$D$4:$E$403,2,FALSE))),\"Sin Registrar\",CONCATENATE($S975,\".\",VLOOKUP($L975,'1_Metas_Resultados'!$D$4:$E$403,2,FALSE)))","v":"Sin Registrar"},{"$f":"IF(ISERROR(VLOOKUP(G975,'1_Metas_Resultados'!$D$4:$I$403,6,FALSE)),\"\",VLOOKUP(G975,'1_Metas_Resultados'!$D$4:$I$403,6,FALSE))","v":""}]
[{"$f":"IF(ISERROR(CONCATENATE($S976,\".\",VLOOKUP($G976,'1_Metas_Resultados'!$D$4:$E$403,2,FALSE))),\"Sin Registrar\",CONCATENATE($S976,\".\",VLOOKUP($G976,'1_Metas_Resultados'!$D$4:$E$403,2,FALSE)))","v":"Sin Registrar"},975," ",{"$f":"IF(ISERROR(CONCATENATE($S976,\".\",VLOOKUP($K976,'1_Metas_Resultados'!$D$4:$E$403,2,FALSE))),\"Sin Registrar\",CONCATENATE($S976,\".\",VLOOKUP($K976,'1_Metas_Resultados'!$D$4:$E$403,2,FALSE)))","v":"Sin Registrar"},{"$f":"IF(ISERROR(CONCATENATE($S976,\".\",VLOOKUP($L976,'1_Metas_Resultados'!$D$4:$E$403,2,FALSE))),\"Sin Registrar\",CONCATENATE($S976,\".\",VLOOKUP($L976,'1_Metas_Resultados'!$D$4:$E$403,2,FALSE)))","v":"Sin Registrar"},{"$f":"IF(ISERROR(VLOOKUP(G976,'1_Metas_Resultados'!$D$4:$I$403,6,FALSE)),\"\",VLOOKUP(G976,'1_Metas_Resultados'!$D$4:$I$403,6,FALSE))","v":""}]
[{"$f":"IF(ISERROR(CONCATENATE($S977,\".\",VLOOKUP($G977,'1_Metas_Resultados'!$D$4:$E$403,2,FALSE))),\"Sin Registrar\",CONCATENATE($S977,\".\",VLOOKUP($G977,'1_Metas_Resultados'!$D$4:$E$403,2,FALSE)))","v":"Sin Registrar"},976," ",{"$f":"IF(ISERROR(CONCATENATE($S977,\".\",VLOOKUP($K977,'1_Metas_Resultados'!$D$4:$E$403,2,FALSE))),\"Sin Registrar\",CONCATENATE($S977,\".\",VLOOKUP($K977,'1_Metas_Resultados'!$D$4:$E$403,2,FALSE)))","v":"Sin Registrar"},{"$f":"IF(ISERROR(CONCATENATE($S977,\".\",VLOOKUP($L977,'1_Metas_Resultados'!$D$4:$E$403,2,FALSE))),\"Sin Registrar\",CONCATENATE($S977,\".\",VLOOKUP($L977,'1_Metas_Resultados'!$D$4:$E$403,2,FALSE)))","v":"Sin Registrar"},{"$f":"IF(ISERROR(VLOOKUP(G977,'1_Metas_Resultados'!$D$4:$I$403,6,FALSE)),\"\",VLOOKUP(G977,'1_Metas_Resultados'!$D$4:$I$403,6,FALSE))","v":""}]
[{"$f":"IF(ISERROR(CONCATENATE($S978,\".\",VLOOKUP($G978,'1_Metas_Resultados'!$D$4:$E$403,2,FALSE))),\"Sin Registrar\",CONCATENATE($S978,\".\",VLOOKUP($G978,'1_Metas_Resultados'!$D$4:$E$403,2,FALSE)))","v":"Sin Registrar"},977," ",{"$f":"IF(ISERROR(CONCATENATE($S978,\".\",VLOOKUP($K978,'1_Metas_Resultados'!$D$4:$E$403,2,FALSE))),\"Sin Registrar\",CONCATENATE($S978,\".\",VLOOKUP($K978,'1_Metas_Resultados'!$D$4:$E$403,2,FALSE)))","v":"Sin Registrar"},{"$f":"IF(ISERROR(CONCATENATE($S978,\".\",VLOOKUP($L978,'1_Metas_Resultados'!$D$4:$E$403,2,FALSE))),\"Sin Registrar\",CONCATENATE($S978,\".\",VLOOKUP($L978,'1_Metas_Resultados'!$D$4:$E$403,2,FALSE)))","v":"Sin Registrar"},{"$f":"IF(ISERROR(VLOOKUP(G978,'1_Metas_Resultados'!$D$4:$I$403,6,FALSE)),\"\",VLOOKUP(G978,'1_Metas_Resultados'!$D$4:$I$403,6,FALSE))","v":""}]
[{"$f":"IF(ISERROR(CONCATENATE($S979,\".\",VLOOKUP($G979,'1_Metas_Resultados'!$D$4:$E$403,2,FALSE))),\"Sin Registrar\",CONCATENATE($S979,\".\",VLOOKUP($G979,'1_Metas_Resultados'!$D$4:$E$403,2,FALSE)))","v":"Sin Registrar"},978," ",{"$f":"IF(ISERROR(CONCATENATE($S979,\".\",VLOOKUP($K979,'1_Metas_Resultados'!$D$4:$E$403,2,FALSE))),\"Sin Registrar\",CONCATENATE($S979,\".\",VLOOKUP($K979,'1_Metas_Resultados'!$D$4:$E$403,2,FALSE)))","v":"Sin Registrar"},{"$f":"IF(ISERROR(CONCATENATE($S979,\".\",VLOOKUP($L979,'1_Metas_Resultados'!$D$4:$E$403,2,FALSE))),\"Sin Registrar\",CONCATENATE($S979,\".\",VLOOKUP($L979,'1_Metas_Resultados'!$D$4:$E$403,2,FALSE)))","v":"Sin Registrar"},{"$f":"IF(ISERROR(VLOOKUP(G979,'1_Metas_Resultados'!$D$4:$I$403,6,FALSE)),\"\",VLOOKUP(G979,'1_Metas_Resultados'!$D$4:$I$403,6,FALSE))","v":""}]
[{"$f":"IF(ISERROR(CONCATENATE($S980,\".\",VLOOKUP($G980,'1_Metas_Resultados'!$D$4:$E$403,2,FALSE))),\"Sin Registrar\",CONCATENATE($S980,\".\",VLOOKUP($G980,'1_Metas_Resultados'!$D$4:$E$403,2,FALSE)))","v":"Sin Registrar"},979," ",{"$f":"IF(ISERROR(CONCATENATE($S980,\".\",VLOOKUP($K980,'1_Metas_Resultados'!$D$4:$E$403,2,FALSE))),\"Sin Registrar\",CONCATENATE($S980,\".\",VLOOKUP($K980,'1_Metas_Resultados'!$D$4:$E$403,2,FALSE)))","v":"Sin Registrar"},{"$f":"IF(ISERROR(CONCATENATE($S980,\".\",VLOOKUP($L980,'1_Metas_Resultados'!$D$4:$E$403,2,FALSE))),\"Sin Registrar\",CONCATENATE($S980,\".\",VLOOKUP($L980,'1_Metas_Resultados'!$D$4:$E$403,2,FALSE)))","v":"Sin Registrar"},{"$f":"IF(ISERROR(VLOOKUP(G980,'1_Metas_Resultados'!$D$4:$I$403,6,FALSE)),\"\",VLOOKUP(G980,'1_Metas_Resultados'!$D$4:$I$403,6,FALSE))","v":""}]
[{"$f":"IF(ISERROR(CONCATENATE($S981,\".\",VLOOKUP($G981,'1_Metas_Resultados'!$D$4:$E$403,2,FALSE))),\"Sin Registrar\",CONCATENATE($S981,\".\",VLOOKUP($G981,'1_Metas_Resultados'!$D$4:$E$403,2,FALSE)))","v":"Sin Registrar"},980," ",{"$f":"IF(ISERROR(CONCATENATE($S981,\".\",VLOOKUP($K981,'1_Metas_Resultados'!$D$4:$E$403,2,FALSE))),\"Sin Registrar\",CONCATENATE($S981,\".\",VLOOKUP($K981,'1_Metas_Resultados'!$D$4:$E$403,2,FALSE)))","v":"Sin Registrar"},{"$f":"IF(ISERROR(CONCATENATE($S981,\".\",VLOOKUP($L981,'1_Metas_Resultados'!$D$4:$E$403,2,FALSE))),\"Sin Registrar\",CONCATENATE($S981,\".\",VLOOKUP($L981,'1_Metas_Resultados'!$D$4:$E$403,2,FALSE)))","v":"Sin Registrar"},{"$f":"IF(ISERROR(VLOOKUP(G981,'1_Metas_Resultados'!$D$4:$I$403,6,FALSE)),\"\",VLOOKUP(G981,'1_Metas_Resultados'!$D$4:$I$403,6,FALSE))","v":""}]
[{"$f":"IF(ISERROR(CONCATENATE($S982,\".\",VLOOKUP($G982,'1_Metas_Resultados'!$D$4:$E$403,2,FALSE))),\"Sin Registrar\",CONCATENATE($S982,\".\",VLOOKUP($G982,'1_Metas_Resultados'!$D$4:$E$403,2,FALSE)))","v":"Sin Registrar"},981," ",{"$f":"IF(ISERROR(CONCATENATE($S982,\".\",VLOOKUP($K982,'1_Metas_Resultados'!$D$4:$E$403,2,FALSE))),\"Sin Registrar\",CONCATENATE($S982,\".\",VLOOKUP($K982,'1_Metas_Resultados'!$D$4:$E$403,2,FALSE)))","v":"Sin Registrar"},{"$f":"IF(ISERROR(CONCATENATE($S982,\".\",VLOOKUP($L982,'1_Metas_Resultados'!$D$4:$E$403,2,FALSE))),\"Sin Registrar\",CONCATENATE($S982,\".\",VLOOKUP($L982,'1_Metas_Resultados'!$D$4:$E$403,2,FALSE)))","v":"Sin Registrar"},{"$f":"IF(ISERROR(VLOOKUP(G982,'1_Metas_Resultados'!$D$4:$I$403,6,FALSE)),\"\",VLOOKUP(G982,'1_Metas_Resultados'!$D$4:$I$403,6,FALSE))","v":""}]
[{"$f":"IF(ISERROR(CONCATENATE($S983,\".\",VLOOKUP($G983,'1_Metas_Resultados'!$D$4:$E$403,2,FALSE))),\"Sin Registrar\",CONCATENATE($S983,\".\",VLOOKUP($G983,'1_Metas_Resultados'!$D$4:$E$403,2,FALSE)))","v":"Sin Registrar"},982," ",{"$f":"IF(ISERROR(CONCATENATE($S983,\".\",VLOOKUP($K983,'1_Metas_Resultados'!$D$4:$E$403,2,FALSE))),\"Sin Registrar\",CONCATENATE($S983,\".\",VLOOKUP($K983,'1_Metas_Resultados'!$D$4:$E$403,2,FALSE)))","v":"Sin Registrar"},{"$f":"IF(ISERROR(CONCATENATE($S983,\".\",VLOOKUP($L983,'1_Metas_Resultados'!$D$4:$E$403,2,FALSE))),\"Sin Registrar\",CONCATENATE($S983,\".\",VLOOKUP($L983,'1_Metas_Resultados'!$D$4:$E$403,2,FALSE)))","v":"Sin Registrar"},{"$f":"IF(ISERROR(VLOOKUP(G983,'1_Metas_Resultados'!$D$4:$I$403,6,FALSE)),\"\",VLOOKUP(G983,'1_Metas_Resultados'!$D$4:$I$403,6,FALSE))","v":""}]
[{"$f":"IF(ISERROR(CONCATENATE($S984,\".\",VLOOKUP($G984,'1_Metas_Resultados'!$D$4:$E$403,2,FALSE))),\"Sin Registrar\",CONCATENATE($S984,\".\",VLOOKUP($G984,'1_Metas_Resultados'!$D$4:$E$403,2,FALSE)))","v":"Sin Registrar"},983," ",{"$f":"IF(ISERROR(CONCATENATE($S984,\".\",VLOOKUP($K984,'1_Metas_Resultados'!$D$4:$E$403,2,FALSE))),\"Sin Registrar\",CONCATENATE($S984,\".\",VLOOKUP($K984,'1_Metas_Resultados'!$D$4:$E$403,2,FALSE)))","v":"Sin Registrar"},{"$f":"IF(ISERROR(CONCATENATE($S984,\".\",VLOOKUP($L984,'1_Metas_Resultados'!$D$4:$E$403,2,FALSE))),\"Sin Registrar\",CONCATENATE($S984,\".\",VLOOKUP($L984,'1_Metas_Resultados'!$D$4:$E$403,2,FALSE)))","v":"Sin Registrar"},{"$f":"IF(ISERROR(VLOOKUP(G984,'1_Metas_Resultados'!$D$4:$I$403,6,FALSE)),\"\",VLOOKUP(G984,'1_Metas_Resultados'!$D$4:$I$403,6,FALSE))","v":""}]
[{"$f":"IF(ISERROR(CONCATENATE($S985,\".\",VLOOKUP($G985,'1_Metas_Resultados'!$D$4:$E$403,2,FALSE))),\"Sin Registrar\",CONCATENATE($S985,\".\",VLOOKUP($G985,'1_Metas_Resultados'!$D$4:$E$403,2,FALSE)))","v":"Sin Registrar"},984," ",{"$f":"IF(ISERROR(CONCATENATE($S985,\".\",VLOOKUP($K985,'1_Metas_Resultados'!$D$4:$E$403,2,FALSE))),\"Sin Registrar\",CONCATENATE($S985,\".\",VLOOKUP($K985,'1_Metas_Resultados'!$D$4:$E$403,2,FALSE)))","v":"Sin Registrar"},{"$f":"IF(ISERROR(CONCATENATE($S985,\".\",VLOOKUP($L985,'1_Metas_Resultados'!$D$4:$E$403,2,FALSE))),\"Sin Registrar\",CONCATENATE($S985,\".\",VLOOKUP($L985,'1_Metas_Resultados'!$D$4:$E$403,2,FALSE)))","v":"Sin Registrar"},{"$f":"IF(ISERROR(VLOOKUP(G985,'1_Metas_Resultados'!$D$4:$I$403,6,FALSE)),\"\",VLOOKUP(G985,'1_Metas_Resultados'!$D$4:$I$403,6,FALSE))","v":""}]
[{"$f":"IF(ISERROR(CONCATENATE($S986,\".\",VLOOKUP($G986,'1_Metas_Resultados'!$D$4:$E$403,2,FALSE))),\"Sin Registrar\",CONCATENATE($S986,\".\",VLOOKUP($G986,'1_Metas_Resultados'!$D$4:$E$403,2,FALSE)))","v":"Sin Registrar"},985," ",{"$f":"IF(ISERROR(CONCATENATE($S986,\".\",VLOOKUP($K986,'1_Metas_Resultados'!$D$4:$E$403,2,FALSE))),\"Sin Registrar\",CONCATENATE($S986,\".\",VLOOKUP($K986,'1_Metas_Resultados'!$D$4:$E$403,2,FALSE)))","v":"Sin Registrar"},{"$f":"IF(ISERROR(CONCATENATE($S986,\".\",VLOOKUP($L986,'1_Metas_Resultados'!$D$4:$E$403,2,FALSE))),\"Sin Registrar\",CONCATENATE($S986,\".\",VLOOKUP($L986,'1_Metas_Resultados'!$D$4:$E$403,2,FALSE)))","v":"Sin Registrar"},{"$f":"IF(ISERROR(VLOOKUP(G986,'1_Metas_Resultados'!$D$4:$I$403,6,FALSE)),\"\",VLOOKUP(G986,'1_Metas_Resultados'!$D$4:$I$403,6,FALSE))","v":""}]
[{"$f":"IF(ISERROR(CONCATENATE($S987,\".\",VLOOKUP($G987,'1_Metas_Resultados'!$D$4:$E$403,2,FALSE))),\"Sin Registrar\",CONCATENATE($S987,\".\",VLOOKUP($G987,'1_Metas_Resultados'!$D$4:$E$403,2,FALSE)))","v":"Sin Registrar"},986," ",{"$f":"IF(ISERROR(CONCATENATE($S987,\".\",VLOOKUP($K987,'1_Metas_Resultados'!$D$4:$E$403,2,FALSE))),\"Sin Registrar\",CONCATENATE($S987,\".\",VLOOKUP($K987,'1_Metas_Resultados'!$D$4:$E$403,2,FALSE)))","v":"Sin Registrar"},{"$f":"IF(ISERROR(CONCATENATE($S987,\".\",VLOOKUP($L987,'1_Metas_Resultados'!$D$4:$E$403,2,FALSE))),\"Sin Registrar\",CONCATENATE($S987,\".\",VLOOKUP($L987,'1_Metas_Resultados'!$D$4:$E$403,2,FALSE)))","v":"Sin Registrar"},{"$f":"IF(ISERROR(VLOOKUP(G987,'1_Metas_Resultados'!$D$4:$I$403,6,FALSE)),\"\",VLOOKUP(G987,'1_Metas_Resultados'!$D$4:$I$403,6,FALSE))","v":""}]
[{"$f":"IF(ISERROR(CONCATENATE($S988,\".\",VLOOKUP($G988,'1_Metas_Resultados'!$D$4:$E$403,2,FALSE))),\"Sin Registrar\",CONCATENATE($S988,\".\",VLOOKUP($G988,'1_Metas_Resultados'!$D$4:$E$403,2,FALSE)))","v":"Sin Registrar"},987," ",{"$f":"IF(ISERROR(CONCATENATE($S988,\".\",VLOOKUP($K988,'1_Metas_Resultados'!$D$4:$E$403,2,FALSE))),\"Sin Registrar\",CONCATENATE($S988,\".\",VLOOKUP($K988,'1_Metas_Resultados'!$D$4:$E$403,2,FALSE)))","v":"Sin Registrar"},{"$f":"IF(ISERROR(CONCATENATE($S988,\".\",VLOOKUP($L988,'1_Metas_Resultados'!$D$4:$E$403,2,FALSE))),\"Sin Registrar\",CONCATENATE($S988,\".\",VLOOKUP($L988,'1_Metas_Resultados'!$D$4:$E$403,2,FALSE)))","v":"Sin Registrar"},{"$f":"IF(ISERROR(VLOOKUP(G988,'1_Metas_Resultados'!$D$4:$I$403,6,FALSE)),\"\",VLOOKUP(G988,'1_Metas_Resultados'!$D$4:$I$403,6,FALSE))","v":""}]
[{"$f":"IF(ISERROR(CONCATENATE($S989,\".\",VLOOKUP($G989,'1_Metas_Resultados'!$D$4:$E$403,2,FALSE))),\"Sin Registrar\",CONCATENATE($S989,\".\",VLOOKUP($G989,'1_Metas_Resultados'!$D$4:$E$403,2,FALSE)))","v":"Sin Registrar"},988," ",{"$f":"IF(ISERROR(CONCATENATE($S989,\".\",VLOOKUP($K989,'1_Metas_Resultados'!$D$4:$E$403,2,FALSE))),\"Sin Registrar\",CONCATENATE($S989,\".\",VLOOKUP($K989,'1_Metas_Resultados'!$D$4:$E$403,2,FALSE)))","v":"Sin Registrar"},{"$f":"IF(ISERROR(CONCATENATE($S989,\".\",VLOOKUP($L989,'1_Metas_Resultados'!$D$4:$E$403,2,FALSE))),\"Sin Registrar\",CONCATENATE($S989,\".\",VLOOKUP($L989,'1_Metas_Resultados'!$D$4:$E$403,2,FALSE)))","v":"Sin Registrar"},{"$f":"IF(ISERROR(VLOOKUP(G989,'1_Metas_Resultados'!$D$4:$I$403,6,FALSE)),\"\",VLOOKUP(G989,'1_Metas_Resultados'!$D$4:$I$403,6,FALSE))","v":""}]
[{"$f":"IF(ISERROR(CONCATENATE($S990,\".\",VLOOKUP($G990,'1_Metas_Resultados'!$D$4:$E$403,2,FALSE))),\"Sin Registrar\",CONCATENATE($S990,\".\",VLOOKUP($G990,'1_Metas_Resultados'!$D$4:$E$403,2,FALSE)))","v":"Sin Registrar"},989," ",{"$f":"IF(ISERROR(CONCATENATE($S990,\".\",VLOOKUP($K990,'1_Metas_Resultados'!$D$4:$E$403,2,FALSE))),\"Sin Registrar\",CONCATENATE($S990,\".\",VLOOKUP($K990,'1_Metas_Resultados'!$D$4:$E$403,2,FALSE)))","v":"Sin Registrar"},{"$f":"IF(ISERROR(CONCATENATE($S990,\".\",VLOOKUP($L990,'1_Metas_Resultados'!$D$4:$E$403,2,FALSE))),\"Sin Registrar\",CONCATENATE($S990,\".\",VLOOKUP($L990,'1_Metas_Resultados'!$D$4:$E$403,2,FALSE)))","v":"Sin Registrar"},{"$f":"IF(ISERROR(VLOOKUP(G990,'1_Metas_Resultados'!$D$4:$I$403,6,FALSE)),\"\",VLOOKUP(G990,'1_Metas_Resultados'!$D$4:$I$403,6,FALSE))","v":""}]
[{"$f":"IF(ISERROR(CONCATENATE($S991,\".\",VLOOKUP($G991,'1_Metas_Resultados'!$D$4:$E$403,2,FALSE))),\"Sin Registrar\",CONCATENATE($S991,\".\",VLOOKUP($G991,'1_Metas_Resultados'!$D$4:$E$403,2,FALSE)))","v":"Sin Registrar"},990," ",{"$f":"IF(ISERROR(CONCATENATE($S991,\".\",VLOOKUP($K991,'1_Metas_Resultados'!$D$4:$E$403,2,FALSE))),\"Sin Registrar\",CONCATENATE($S991,\".\",VLOOKUP($K991,'1_Metas_Resultados'!$D$4:$E$403,2,FALSE)))","v":"Sin Registrar"},{"$f":"IF(ISERROR(CONCATENATE($S991,\".\",VLOOKUP($L991,'1_Metas_Resultados'!$D$4:$E$403,2,FALSE))),\"Sin Registrar\",CONCATENATE($S991,\".\",VLOOKUP($L991,'1_Metas_Resultados'!$D$4:$E$403,2,FALSE)))","v":"Sin Registrar"},{"$f":"IF(ISERROR(VLOOKUP(G991,'1_Metas_Resultados'!$D$4:$I$403,6,FALSE)),\"\",VLOOKUP(G991,'1_Metas_Resultados'!$D$4:$I$403,6,FALSE))","v":""}]
[{"$f":"IF(ISERROR(CONCATENATE($S992,\".\",VLOOKUP($G992,'1_Metas_Resultados'!$D$4:$E$403,2,FALSE))),\"Sin Registrar\",CONCATENATE($S992,\".\",VLOOKUP($G992,'1_Metas_Resultados'!$D$4:$E$403,2,FALSE)))","v":"Sin Registrar"},991," ",{"$f":"IF(ISERROR(CONCATENATE($S992,\".\",VLOOKUP($K992,'1_Metas_Resultados'!$D$4:$E$403,2,FALSE))),\"Sin Registrar\",CONCATENATE($S992,\".\",VLOOKUP($K992,'1_Metas_Resultados'!$D$4:$E$403,2,FALSE)))","v":"Sin Registrar"},{"$f":"IF(ISERROR(CONCATENATE($S992,\".\",VLOOKUP($L992,'1_Metas_Resultados'!$D$4:$E$403,2,FALSE))),\"Sin Registrar\",CONCATENATE($S992,\".\",VLOOKUP($L992,'1_Metas_Resultados'!$D$4:$E$403,2,FALSE)))","v":"Sin Registrar"},{"$f":"IF(ISERROR(VLOOKUP(G992,'1_Metas_Resultados'!$D$4:$I$403,6,FALSE)),\"\",VLOOKUP(G992,'1_Metas_Resultados'!$D$4:$I$403,6,FALSE))","v":""}]
[{"$f":"IF(ISERROR(CONCATENATE($S993,\".\",VLOOKUP($G993,'1_Metas_Resultados'!$D$4:$E$403,2,FALSE))),\"Sin Registrar\",CONCATENATE($S993,\".\",VLOOKUP($G993,'1_Metas_Resultados'!$D$4:$E$403,2,FALSE)))","v":"Sin Registrar"},992," ",{"$f":"IF(ISERROR(CONCATENATE($S993,\".\",VLOOKUP($K993,'1_Metas_Resultados'!$D$4:$E$403,2,FALSE))),\"Sin Registrar\",CONCATENATE($S993,\".\",VLOOKUP($K993,'1_Metas_Resultados'!$D$4:$E$403,2,FALSE)))","v":"Sin Registrar"},{"$f":"IF(ISERROR(CONCATENATE($S993,\".\",VLOOKUP($L993,'1_Metas_Resultados'!$D$4:$E$403,2,FALSE))),\"Sin Registrar\",CONCATENATE($S993,\".\",VLOOKUP($L993,'1_Metas_Resultados'!$D$4:$E$403,2,FALSE)))","v":"Sin Registrar"},{"$f":"IF(ISERROR(VLOOKUP(G993,'1_Metas_Resultados'!$D$4:$I$403,6,FALSE)),\"\",VLOOKUP(G993,'1_Metas_Resultados'!$D$4:$I$403,6,FALSE))","v":""}]
[{"$f":"IF(ISERROR(CONCATENATE($S994,\".\",VLOOKUP($G994,'1_Metas_Resultados'!$D$4:$E$403,2,FALSE))),\"Sin Registrar\",CONCATENATE($S994,\".\",VLOOKUP($G994,'1_Metas_Resultados'!$D$4:$E$403,2,FALSE)))","v":"Sin Registrar"},993," ",{"$f":"IF(ISERROR(CONCATENATE($S994,\".\",VLOOKUP($K994,'1_Metas_Resultados'!$D$4:$E$403,2,FALSE))),\"Sin Registrar\",CONCATENATE($S994,\".\",VLOOKUP($K994,'1_Metas_Resultados'!$D$4:$E$403,2,FALSE)))","v":"Sin Registrar"},{"$f":"IF(ISERROR(CONCATENATE($S994,\".\",VLOOKUP($L994,'1_Metas_Resultados'!$D$4:$E$403,2,FALSE))),\"Sin Registrar\",CONCATENATE($S994,\".\",VLOOKUP($L994,'1_Metas_Resultados'!$D$4:$E$403,2,FALSE)))","v":"Sin Registrar"},{"$f":"IF(ISERROR(VLOOKUP(G994,'1_Metas_Resultados'!$D$4:$I$403,6,FALSE)),\"\",VLOOKUP(G994,'1_Metas_Resultados'!$D$4:$I$403,6,FALSE))","v":""}]
[{"$f":"IF(ISERROR(CONCATENATE($S995,\".\",VLOOKUP($G995,'1_Metas_Resultados'!$D$4:$E$403,2,FALSE))),\"Sin Registrar\",CONCATENATE($S995,\".\",VLOOKUP($G995,'1_Metas_Resultados'!$D$4:$E$403,2,FALSE)))","v":"Sin Registrar"},994," ",{"$f":"IF(ISERROR(CONCATENATE($S995,\".\",VLOOKUP($K995,'1_Metas_Resultados'!$D$4:$E$403,2,FALSE))),\"Sin Registrar\",CONCATENATE($S995,\".\",VLOOKUP($K995,'1_Metas_Resultados'!$D$4:$E$403,2,FALSE)))","v":"Sin Registrar"},{"$f":"IF(ISERROR(CONCATENATE($S995,\".\",VLOOKUP($L995,'1_Metas_Resultados'!$D$4:$E$403,2,FALSE))),\"Sin Registrar\",CONCATENATE($S995,\".\",VLOOKUP($L995,'1_Metas_Resultados'!$D$4:$E$403,2,FALSE)))","v":"Sin Registrar"},{"$f":"IF(ISERROR(VLOOKUP(G995,'1_Metas_Resultados'!$D$4:$I$403,6,FALSE)),\"\",VLOOKUP(G995,'1_Metas_Resultados'!$D$4:$I$403,6,FALSE))","v":""}]
[{"$f":"IF(ISERROR(CONCATENATE($S996,\".\",VLOOKUP($G996,'1_Metas_Resultados'!$D$4:$E$403,2,FALSE))),\"Sin Registrar\",CONCATENATE($S996,\".\",VLOOKUP($G996,'1_Metas_Resultados'!$D$4:$E$403,2,FALSE)))","v":"Sin Registrar"},995," ",{"$f":"IF(ISERROR(CONCATENATE($S996,\".\",VLOOKUP($K996,'1_Metas_Resultados'!$D$4:$E$403,2,FALSE))),\"Sin Registrar\",CONCATENATE($S996,\".\",VLOOKUP($K996,'1_Metas_Resultados'!$D$4:$E$403,2,FALSE)))","v":"Sin Registrar"},{"$f":"IF(ISERROR(CONCATENATE($S996,\".\",VLOOKUP($L996,'1_Metas_Resultados'!$D$4:$E$403,2,FALSE))),\"Sin Registrar\",CONCATENATE($S996,\".\",VLOOKUP($L996,'1_Metas_Resultados'!$D$4:$E$403,2,FALSE)))","v":"Sin Registrar"},{"$f":"IF(ISERROR(VLOOKUP(G996,'1_Metas_Resultados'!$D$4:$I$403,6,FALSE)),\"\",VLOOKUP(G996,'1_Metas_Resultados'!$D$4:$I$403,6,FALSE))","v":""}]
[{"$f":"IF(ISERROR(CONCATENATE($S997,\".\",VLOOKUP($G997,'1_Metas_Resultados'!$D$4:$E$403,2,FALSE))),\"Sin Registrar\",CONCATENATE($S997,\".\",VLOOKUP($G997,'1_Metas_Resultados'!$D$4:$E$403,2,FALSE)))","v":"Sin Registrar"},996," ",{"$f":"IF(ISERROR(CONCATENATE($S997,\".\",VLOOKUP($K997,'1_Metas_Resultados'!$D$4:$E$403,2,FALSE))),\"Sin Registrar\",CONCATENATE($S997,\".\",VLOOKUP($K997,'1_Metas_Resultados'!$D$4:$E$403,2,FALSE)))","v":"Sin Registrar"},{"$f":"IF(ISERROR(CONCATENATE($S997,\".\",VLOOKUP($L997,'1_Metas_Resultados'!$D$4:$E$403,2,FALSE))),\"Sin Registrar\",CONCATENATE($S997,\".\",VLOOKUP($L997,'1_Metas_Resultados'!$D$4:$E$403,2,FALSE)))","v":"Sin Registrar"},{"$f":"IF(ISERROR(VLOOKUP(G997,'1_Metas_Resultados'!$D$4:$I$403,6,FALSE)),\"\",VLOOKUP(G997,'1_Metas_Resultados'!$D$4:$I$403,6,FALSE))","v":""}]
[{"$f":"IF(ISERROR(CONCATENATE($S998,\".\",VLOOKUP($G998,'1_Metas_Resultados'!$D$4:$E$403,2,FALSE))),\"Sin Registrar\",CONCATENATE($S998,\".\",VLOOKUP($G998,'1_Metas_Resultados'!$D$4:$E$403,2,FALSE)))","v":"Sin Registrar"},997," ",{"$f":"IF(ISERROR(CONCATENATE($S998,\".\",VLOOKUP($K998,'1_Metas_Resultados'!$D$4:$E$403,2,FALSE))),\"Sin Registrar\",CONCATENATE($S998,\".\",VLOOKUP($K998,'1_Metas_Resultados'!$D$4:$E$403,2,FALSE)))","v":"Sin Registrar"},{"$f":"IF(ISERROR(CONCATENATE($S998,\".\",VLOOKUP($L998,'1_Metas_Resultados'!$D$4:$E$403,2,FALSE))),\"Sin Registrar\",CONCATENATE($S998,\".\",VLOOKUP($L998,'1_Metas_Resultados'!$D$4:$E$403,2,FALSE)))","v":"Sin Registrar"},{"$f":"IF(ISERROR(VLOOKUP(G998,'1_Metas_Resultados'!$D$4:$I$403,6,FALSE)),\"\",VLOOKUP(G998,'1_Metas_Resultados'!$D$4:$I$403,6,FALSE))","v":""}]
[{"$f":"IF(ISERROR(CONCATENATE($S999,\".\",VLOOKUP($G999,'1_Metas_Resultados'!$D$4:$E$403,2,FALSE))),\"Sin Registrar\",CONCATENATE($S999,\".\",VLOOKUP($G999,'1_Metas_Resultados'!$D$4:$E$403,2,FALSE)))","v":"Sin Registrar"},998," ",{"$f":"IF(ISERROR(CONCATENATE($S999,\".\",VLOOKUP($K999,'1_Metas_Resultados'!$D$4:$E$403,2,FALSE))),\"Sin Registrar\",CONCATENATE($S999,\".\",VLOOKUP($K999,'1_Metas_Resultados'!$D$4:$E$403,2,FALSE)))","v":"Sin Registrar"},{"$f":"IF(ISERROR(CONCATENATE($S999,\".\",VLOOKUP($L999,'1_Metas_Resultados'!$D$4:$E$403,2,FALSE))),\"Sin Registrar\",CONCATENATE($S999,\".\",VLOOKUP($L999,'1_Metas_Resultados'!$D$4:$E$403,2,FALSE)))","v":"Sin Registrar"},{"$f":"IF(ISERROR(VLOOKUP(G999,'1_Metas_Resultados'!$D$4:$I$403,6,FALSE)),\"\",VLOOKUP(G999,'1_Metas_Resultados'!$D$4:$I$403,6,FALSE))","v":""}]
[{"$f":"IF(ISERROR(CONCATENATE($S1000,\".\",VLOOKUP($G1000,'1_Metas_Resultados'!$D$4:$E$403,2,FALSE))),\"Sin Registrar\",CONCATENATE($S1000,\".\",VLOOKUP($G1000,'1_Metas_Resultados'!$D$4:$E$403,2,FALSE)))","v":"Sin Registrar"},999," ",{"$f":"IF(ISERROR(CONCATENATE($S1000,\".\",VLOOKUP($K1000,'1_Metas_Resultados'!$D$4:$E$403,2,FALSE))),\"Sin Registrar\",CONCATENATE($S1000,\".\",VLOOKUP($K1000,'1_Metas_Resultados'!$D$4:$E$403,2,FALSE)))","v":"Sin Registrar"},{"$f":"IF(ISERROR(CONCATENATE($S1000,\".\",VLOOKUP($L1000,'1_Metas_Resultados'!$D$4:$E$403,2,FALSE))),\"Sin Registrar\",CONCATENATE($S1000,\".\",VLOOKUP($L1000,'1_Metas_Resultados'!$D$4:$E$403,2,FALSE)))","v":"Sin Registrar"},{"$f":"IF(ISERROR(VLOOKUP(G1000,'1_Metas_Resultados'!$D$4:$I$403,6,FALSE)),\"\",VLOOKUP(G1000,'1_Metas_Resultados'!$D$4:$I$403,6,FALSE))","v":""}]

{"sheet":"PI_Ejec","index":5,"n_rows":1,"n_cols":84,"rows_kept":1,"cut":false,"hidden":true,"merged":[]}
["Programa","Código Resultado","Descripción Meta Resultado","Indicador de Resultado"," Línea Base  Resultado"," Meta de Resultado 2019","Código Producto","Descripción Meta Producto","Indicador de Producto","Línea Base","Meta Para el cuatrenio","Tipo de Meta","CodSec","Sector","ODS de Producto","Responsable","Valor Logrado 2016","Valor Logrado 2017","Valor Logrado 2018","Valor Logrado 2019","Cofinanciación Departamento 2016","Cofinanciación Nacion 2016","Credito 2016","Otros 2016","Recursos Propios 2016","2SGP Alimentacion Escolar 2016","SGP APSB 2016","SGP Cultura 2016","SGP Deporte 2016","SGP Educacion 2016","SGP Libre Destinación 42% Mpios 4, 5 y 6 Cat 2016","SGP Libre Inversion 2016","SGP Municipios Rio Magdalena 2016"," SGP Salud 2016"," Regalías 2016"," Total 2016 (miles)","Cofinanciación Departamental 2017","Cofinanciación Nacion 2017","Credito 2017","Otros 2017","Recursos Propios 2017","SGP Alimentacion Escolar 2017","SGP APSB 2017","SGP Cultura 2017"," SGP Deporte 2017"," SGP Educacion 2017","SGP Libre Destinación 42% Mpios 4, 5 y 6 Cat 2017"," SGP Libre Inversion 2017","SGP Municipios Rio Magdalena 2017","SGP Salud 2017","Regalías 2017","Total 2017 (miles)","Cofinanciación Departamental 2018","Cofinanciación Nacion 2018","Credito 2018","Otros 2018"," Recursos Propios 2018"," SGP Alimentacion Escolar 2018"," SGP APSB 2018","SGP Cultura 2018","SGP Deporte 2018","SGP Educacion 2018","SGP Libre Destinación 42% Mpios 4, 5 y 6 Cat","SGP Libre Inversion 2018","SGP Municipios Rio Magdalena 2018","SGP Salud 2018","Regalías 2018","Total 2018 (miles)","Cofinanciación Departamental 2019","Cofinanciación Nacion 2019","Credito 2019","Otros 2019","Recursos Propios 2019","SGP Alimentacion Escolar 2019","SGP APSB 2019","SGP Cultura 2019","SGP Deporte 2019","SGP Educacion 2019","SGP Libre Destinación 42% Mpios 4, 5 y 6 Cat","SGP Libre Inversion 2019","SGP Municipios Rio Magdalena 2019","SGP Salud 2019","Regalías 2019","Total 2019 (miles)"]