{"text_format":"1","workbook":"xlsx","n_sheets":8,"sheets":["Listas","TC - Bolsas","por Entidad","Instrucciones","Calificación","Tabla de pesos y puntajes","Hoja2","Hoja3"],"not_rendered":{"charts":6,"images":1,"macros":1,"external_links":0,"defined_names":105,"comments":0,"pivot_tables":2},"unopened":[],"bounds":{"document_bytes":16777216,"sheet_cells":100000,"rows_first":2000,"rows_last":500,"rows_between":2000,"halvings":0,"cell_chars":16384,"cell_head_chars":4096},"cells_cut":0,"cells_raw":0,"read":"whole","date_system":"1900"}

{"sheet":"Listas","index":0,"n_rows":15430,"n_cols":104,"rows_kept":1125,"cut":true,"hidden":true,"merged":[[3,70,4,70],[5,70,6,70],[7,70,8,70]],"bounds":{"rows_first":500,"rows_last":125,"rows_between":500,"halvings":2}}
["Codio Municipio","Subregión","Municipio","Consejo","Resguardo","con Resguardo y/o Consejos",null,null,null,null,null,null,null,null,null,null,null,null,null,null,null,null,null,null,null,null,null,null,null,null,null,null,null,null,null,null,null,null,null,null,null,null,null,null,null,null,null,null,null,null,null,null,null,null,null,null,null,null,null,null,null,null,null,null,null,null,null,null,null,null,null,null,"Código DANE","Región","Departamento","Municipio","Subregión funcional","Subregión_PDET","Cantidad Subregión funcional","Cantidad Subregión PDET","Cantidad Min",0.75,0.5,"Concatenado","Municipio","Código DANE"]
[5031," ","Amalfi","No tiene consejo","No tiene resguardo",0,null,"DEPARTAMENTOS",null,"AMAZONAS","ANTIOQUIA","ARAUCA","ARCHIPIÉLAGO_DE_SAN_ANDRÉS","ATLÁNTICO","BOGOTÁ","BOLÍVAR","BOYACÁ","CALDAS","CAQUETÁ","CASANARE","CAUCA","CESAR","CHOCÓ","CÓRDOBA","CUNDINAMARCA","GUAINÍA","GUAVIARE","HUILA","LA_GUAJIRA","MAGDALENA","META","NARIÑO","NORTE_DE_SANTANDER","PUTUMAYO","QUINDIO","RISARALDA","SANTANDER","SUCRE","TOLIMA","VALLE_DEL_CAUCA","VAUPÉS","VICHADA","Código DANE","Departamento","Municipio","concatenar","Subregión PDET","Código DANE",null,"Sector","Sector","Calificación ","Sector",null,"Concatenado","Departamento","cod_mpio","Municipio","GrupodecapacidadesMDM","Sector","Puesto",null,"Binario",null,"Puesto del sector al que contribuye la inversión","Puntaje de la variable contribución al cierre de brechas más relevantes ",null,null,null,"Municipios de la subregión beneficiados","Puntaje",null,18592,"Centro Sur","Caquetá","Puerto Rico",78,"CUENCA DEL CAGUÁN Y PIEDEMONTE CAQUETEÑO",{"$f":"+COUNTIF($BY$4:$BY$171,BY2)","v":7},{"$f":"+IF(BZ2=\"No es PDET\",9999999999999,COUNTIF($BZ$4:$BZ$171,BZ2))","v":16},{"$f":"+MIN(CA2:CB2)","v":7},{"$f":"+ROUNDUP(CC2*$CD$1,0)","v":6},{"$f":"ROUNDUP(CC2*$CE$1,0)","v":4},"Setentayocho","Puerto Rico",18592,null,"Código DANE","Municipio","Subregión PDET","Código DANE",null,null,"SUBREGIÓN ","CÓDIGO MUNICIPIO","MUNICIPIO","DEPARTAMENTO","Resultado IICA 2021","IICA 2021 - DNP - direccionado","IICA 2021 - DNP","IICA 2021 - DNP"]
[5040," ","Anorí","Tiene consejo","No tiene resguardo",1,null,"AMAZONAS",null,"LETICIA","ABEJORRAL","ARAUCA","PROVIDENCIA","BARANOA","BOGOTÁ, D.C.","ALTOS DEL ROSARIO","ALMEIDA","AGUADAS","ALBANIA","AGUAZUL","ALMAGUER","AGUACHICA","ACANDÍ","AYAPEL","AGUA DE DIOS","BARRANCOMINAS (CD)","CALAMAR","ACEVEDO","ALBANIA","ALGARROBO","ACACÍAS","ALBÁN","ÁBREGO","COLÓN","ARMENIA","APÍA","AGUADA","BUENAVISTA","ALPUJARRA","ALCALÁ","CARURÚ","CUMARIBO",5031,"ANTIOQUIA","AMALFI",{"$f":"+AR3&AS3","v":"ANTIOQUIAAMALFI"},"BAJO CAUCA Y NORDESTE ANTIOQUENO",5031,null,"Información estadística","Desarrollo económico",{"$f":"+IF(Calificación!F6=\"\",\"\",VLOOKUP(Calificación!F6,Listas!$AX$3:$AY$19,2,FALSE))","v":""},"Desarrollo Economico",null,{"$f":"+BE3&BH3","v":"5031Tecnologías de la Información y las Comunicaciones"},"Antioquia",5031,"Amalfi",null,"Tecnologías de la Información y las Comunicaciones",1,null,"Sí",null,1,1,0.56000000000000005,"<",2," 2 municipios",0,null,19473,"Pacífico","Cauca","Morales",83,"ALTO PATÍA - NORTE DEL CAUCA",4,23,{"$f":"+MIN(CA3:CB3)","v":4},{"$f":"+ROUNDUP(CC3*$CD$1,0)","v":3},{"$f":"ROUNDUP(CC3*$CE$1,0)","v":2},"Ochentaytres","Morales",{"$f":"+BU3","v":19473},null,19050,"ARGELIA","ALTO PATÍA - NORTE DEL CAUCA",19050,"AltoPat",null,"PACÍFICO Y FRONTERA NARIÑENSE",52621,"ROBERTO PAYÁN","NARIÑO","Muy Alto",{"$f":"+VLOOKUP(CT3,$CY$3:$CZ$7,2,FALSE)","v":80},{"$f":"+(CU3-AVERAGE(CU$3:CU$172))/STDEVP(CU$3:CU$172)","v":1.2406592652597446},{"$f":"(+(CV3-MIN(CV$3:CV$172))/(MAX(CV$3:CV$172)-MIN(CV$3:CV$172)))*100","v":100},null,"Muy alto",80]
[5045," ","Apartadó","No tiene consejo","Tiene resguardo",1,null,"ANTIOQUIA",null,"PUERTO NARIÑO","ABRIAQUÍ","ARAUQUITA",null,"BARRANQUILLA",null,"ARENAL","AQUITANIA","ANSERMA","BELÉN DE LOS ANDAQUÍES","CHÁMEZA","ARGELIA","AGUSTÍN CODAZZI","ALTO BAUDÓ","BUENAVISTA","ALBÁN","INÍRIDA","EL RETORNO","AGRADO","BARRANCAS","ARACATACA","BARRANCA DE UPÍA","ALDANA","ARBOLEDAS","MOCOA","BUENAVISTA","BALBOA","ALBANIA","CAIMITO","ALVARADO","ANDALUCÍA","MITÚ","LA PRIMAVERA",5040,"ANTIOQUIA","ANORÍ",{"$f":"+AR4&AS4","v":"ANTIOQUIAANORÍ"},"BAJO CAUCA Y NORDESTE ANTIOQUENO",5040,null,"Justicia y del derecho","Justicia y del Derecho",{"$f":"+IF(Calificación!F7=\"\",\"\",VLOOKUP(Calificación!F7,Listas!$AX$3:$AY$19,2,FALSE))","v":""},"Agricultura y desarrollo rural",null,{"$f":"+BE4&BH4","v":"5031Desarrollo Económico"},"Antioquia",5031,"Amalfi",null,"Desarrollo Económico",2,null,"No",{"$f":"+BO4+0.2","v":0.72080000000000011},2,0.93,{"$f":"+BO3*BN4","v":0.52080000000000004},">=",2," 2 municipios y ",25,null,13248,"Caribe","Bolívar","El Guamo",0,"MONTES DE MARÍA",3,15,{"$f":"+MIN(CA4:CB4)","v":3},{"$f":"+ROUNDUP(CC4*$CD$1,0)","v":3},{"$f":"ROUNDUP(CC4*$CE$1,0)","v":2},"Cero","El Guamo",13248,{"$f":"+CB4<CA4","v":false},19075,"BALBOA","ALTO PATÍA - NORTE DEL CAUCA",19075,"AltoPat",null,"PACÍFICO Y FRONTERA NARIÑENSE",52490,"OLAYA HERRERA","NARIÑO","Muy Alto",{"$f":"+VLOOKUP(CT4,$CY$3:$CZ$7,2,FALSE)","v":80},{"$f":"+(CU4-AVERAGE(CU$3:CU$172))/STDEVP(CU$3:CU$172)","v":1.2406592652597446},{"$f":"(+(CV4-MIN(CV$3:CV$172))/(MAX(CV$3:CV$172)-MIN(CV$3:CV$172)))*100","v":100},null,"Alto",60]
[5107," ","Briceño","No tiene consejo","No tiene resguardo",0,null,"ARAUCA",null,null,"ALEJANDRÍA","CRAVO NORTE",null,"CAMPO DE LA CRUZ",null,"ARJONA","ARCABUCO","ARANZAZU","CARTAGENA DEL CHAIRÁ","HATO COROZAL","BALBOA","ASTREA","ATRATO","CANALETE","ANAPOIMA",null,"MIRAFLORES","AIPE","DIBULLA","ARIGUANÍ","CABUYARO","ANCUYA","BOCHALEMA","ORITO","CALARCÁ","BELÉN DE UMBRÍA","ARATOCA","CHALÁN","AMBALEMA","ANSERMANUEVO","TARAIRA","PUERTO CARREÑO",5107,"ANTIOQUIA","BRICEÑO","ANTIOQUIABRICEÑO","BAJO CAUCA Y NORDESTE ANTIOQUENO",5107,null,"Agricultura y desarrollo rural","Agricultura y desarrollo rural",{"$f":"+IF(Calificación!F8=\"\",\"\",VLOOKUP(Calificación!F8,Listas!$AX$3:$AY$19,2,FALSE))","v":""},"Tecnologías de la Información y las Comunicaciones",null,"5031Agricultura y desarrollo rural","Antioquia",5031,"Amalfi",null,"Agricultura y desarrollo rural",3,null,null,0.64788800000000002,3,0.86,0.44788800000000001,"<",0.5,"50% de los municipios de la subregión",null,null,13654,"Caribe","Bolívar","San Jacinto",0,"MONTES DE MARÍA",3,15,3,3,2,"Cero","San Jacinto",13654,false,19110,"BUENOS AIRES","ALTO PATÍA - NORTE DEL CAUCA",19110,"AltoPat",null,"PACÍFICO Y FRONTERA NARIÑENSE",52427,"MAGÜI","NARIÑO","Muy Alto",80,1.2406592652597446,100,null,"Medio",40]
[5120," ","Cáceres","No tiene consejo","Tiene resguardo",1,null,"ARCHIPIÉLAGO_DE_SAN_ANDRÉS",null,null,"AMAGÁ","FORTUL",null,"CANDELARIA",null,"ARROYOHONDO","BELÉN","BELALCÁZAR","CURILLO","LA SALINA","BOLÍVAR","BECERRIL","BAGADÓ","CERETÉ","ANOLAIMA",null,"SAN JOSÉ DEL GUAVIARE","ALGECIRAS","DISTRACCIÓN","CERRO DE SAN ANTONIO","CASTILLA LA NUEVA","ARBOLEDA","BUCARASICA","PUERTO ASÍS","CIRCASIA","DOSQUEBRADAS","BARBOSA","COLOSÓ","ANZOÁTEGUI","ARGELIA",null,"SANTA ROSALÍA",5120,"ANTIOQUIA","CÁCERES","ANTIOQUIACÁCERES","BAJO CAUCA Y NORDESTE ANTIOQUENO",5120,null,"Salud y protección social","Salud y Protección social",{"$f":"+IF(Calificación!F9=\"\",\"\",VLOOKUP(Calificación!F9,Listas!$AX$3:$AY$19,2,FALSE))","v":""},"Ambiente y Desarrollo Sostenible",null,"5031Educación","Antioquia",5031,"Amalfi",null,"Educación",4,null,null,0.55383152000000002,4,0.79,0.35383152000000001,">=",0.5," 50% y ",50,null,13657,"Caribe","Bolívar","San Juan Nepomuceno",0,"MONTES DE MARÍA",3,15,3,3,2,"Cero","San Juan Nepomuceno",13657,false,19130,"CAJIBÍO","ALTO PATÍA - NORTE DEL CAUCA",19130,"AltoPat",null,"CHOCÓ",27250,"EL LITORAL DEL SAN JUAN","CHOCÓ","Alto",60,0.41355308841991484,74.999999999999986,null,"Medio bajo",20]
[5147," ","Carepa","No tiene consejo","No tiene resguardo",0,null,"ATLÁNTICO",null,null,"AMALFI","PUERTO RONDÓN",null,"GALAPA",null,"BARRANCO DE LOBA","BERBEO","CHINCHINÁ","EL DONCELLO","MANÍ","BUENOS AIRES","BOSCONIA","BAHÍA SOLANO","CHIMÁ","APULO",null,null,"ALTAMIRA","EL MOLINO","CHIBOLO","CUBARRAL","BARBACOAS","CÁCHIRA","PUERTO CAICEDO","CÓRDOBA","GUÁTICA","BARICHARA","COROZAL","ARMERO","BOLÍVAR",null,null,5154,"ANTIOQUIA","CAUCASIA","ANTIOQUIACAUCASIA","BAJO CAUCA Y NORDESTE ANTIOQUENO",5154,null,"Minas y energía","Minas y Energía",{"$f":"+IF(Calificación!F10=\"\",\"\",VLOOKUP(Calificación!F10,Listas!$AX$3:$AY$19,2,FALSE))","v":""},"Educación",null,"5031Vivienda, Ciudad Y Territorio","Antioquia",5031,"Amalfi",null,"Vivienda, Ciudad Y Territorio",5,null,null,0.45122037920000002,5,0.71,0.25122037920000001,"<",0.75,"75% de los municipios de la subregión",null,null,54720,"Centro Oriente","Norte de Santander","Sardinata",2,"CATATUMBO",2,8,2,2,1,"Dos","Sardinata",54720,false,19137,"CALDONO","ALTO PATÍA - NORTE DEL CAUCA",19137,"AltoPat",null,"CHOCÓ",5475,"MURINDÓ","ANTIOQUIA","Muy Alto",80,1.2406592652597446,100,null,"Bajo",0]
[5154," ","Caucasia","No tiene consejo","No tiene resguardo",0,null,"BOGOTÁ",null,null,"ANDES","SARAVENA",null,"JUAN DE ACOSTA",null,"CALAMAR","BETÉITIVA","FILADELFIA","EL PAUJÍL","MONTERREY","CAJIBÍO","CHIMICHAGUA","BAJO BAUDÓ","CHINÚ","ARBELÁEZ",null,null,"BARAYA","FONSECA","CIÉNAGA","CUMARAL","BELÉN","CÁCOTA","PUERTO GUZMÁN","FILANDIA","LA CELIA","BARRANCABERMEJA","COVEÑAS","ATACO","BUENAVENTURA",null,null,5250,"ANTIOQUIA","EL BAGRE","ANTIOQUIAEL BAGRE","BAJO CAUCA Y NORDESTE ANTIOQUENO",5250,null,"Educación","Educación",{"$f":"+IF(Calificación!F11=\"\",\"\",VLOOKUP(Calificación!F11,Listas!$AX$3:$AY$19,2,FALSE))","v":""},"Justicia y del Derecho",null,"5031Inclusión Social Y Reconciliación","Antioquia",5031,"Amalfi",null,"Inclusión Social Y Reconciliación",6,null,null,0.36078104268800004,6,0.64,0.160781042688,">=",0.75," 75% y ",75,null,54810,"Centro Oriente","Norte de Santander","Tibú",2,"CATATUMBO",2,8,2,2,1,"Dos","Tibú",54810,false,19142,"CALOTO","ALTO PATÍA - NORTE DEL CAUCA",19142,"AltoPat",null,"CATATUMBO",54250,"EL TARRA","NORTE DE SANTANDER","Muy Alto",80,1.2406592652597446,100]
[5172," ","Chigorodó","No tiene consejo","Tiene resguardo",1,null,"BOLÍVAR",null,null,"ANGELÓPOLIS","TAME",null,"LURUACO",null,"CANTAGALLO","BOAVITA","LA DORADA","FLORENCIA","NUNCHÍA","CALDONO","CHIRIGUANÁ","BOJAYÁ","CIÉNAGA DE ORO","BELTRÁN",null,null,"CAMPOALEGRE","HATONUEVO","CONCORDIA","EL CALVARIO","BUESACO","CHINÁCOTA","PUERTO LEGUÍZAMO","GÉNOVA","LA VIRGINIA","BETULIA","EL ROBLE","CAJAMARCA","BUGALAGRANDE",null,null,5361,"ANTIOQUIA","ITUANGO","ANTIOQUIAITUANGO","BAJO CAUCA Y NORDESTE ANTIOQUENO",5361,null,"Tecnologías de la información y las comunicaciones","Tecnologías de la Información y las Comunicaciones",{"$f":"+IF(Calificación!F12=\"\",\"\",VLOOKUP(Calificación!F12,Listas!$AX$3:$AY$19,2,FALSE))","v":""},"Inclusión Social Y Reconciliación",null,"5031Gobierno territorial","Antioquia",5031,"Amalfi",null,"Gobierno territorial",7,null,null,0.29164519433216002,7,0.56999999999999995,9.1645194332159993E-2,"<",1,"100% de los municipios de la subregión",null,null,19110,"Pacífico","Cauca","Buenos Aires",9,"ALTO PATÍA - NORTE DEL CAUCA",6,23,6,5,3,"Nueve","Buenos Aires",19110,false,19212,"CORINTO","ALTO PATÍA - NORTE DEL CAUCA",19212,"AltoPat",null,"PACÍFICO Y FRONTERA NARIÑENSE",52079,"BARBACOAS","NARIÑO","Muy Alto",80,1.2406592652597446,100]
[5234," ","Dabeiba","No tiene consejo","Tiene resguardo",1,null,"BOYACÁ",null,null,"ANGOSTURA",null,null,"MALAMBO",null,"CARTAGENA DE INDIAS","BOYACÁ","LA MERCED","LA MONTAÑITA","OROCUÉ","CALOTO","CURUMANÍ","CARMEN DEL DARIÉN","COTORRA","BITUIMA",null,null,"COLOMBIA","LA JAGUA DEL PILAR","EL BANCO","EL CASTILLO","CHACHAGÜÍ","CHITAGÁ","SAN FRANCISCO","LA TEBAIDA","MARSELLA","BOLÍVAR","GALERAS","CARMEN DE APICALÁ","CAICEDONIA",null,null,5495,"ANTIOQUIA","NECHÍ","ANTIOQUIANECHÍ","BAJO CAUCA Y NORDESTE ANTIOQUENO",5495,null,"Transporte","Transporte",{"$f":"+IF(Calificación!F13=\"\",\"\",VLOOKUP(Calificación!F13,Listas!$AX$3:$AY$19,2,FALSE))","v":""},"Deporte Y Recreación",null,"5031Justicia y del Derecho","Antioquia",5031,"Amalfi",null,"Justicia y del Derecho",8,null,null,0.24582259716608001,8,0.5,4.5822597166079997E-2,"=",1,"100% de los municipios de la subregión",100,null,19137,"Pacífico","Cauca","Caldono",9,"ALTO PATÍA - NORTE DEL CAUCA",6,23,6,5,3,"Nueve","Caldono",19137,false,19256,"EL TAMBO","ALTO PATÍA - NORTE DEL CAUCA",19256,"AltoPat",null,"PACÍFICO MEDIO",76109,"BUENAVENTURA","VALLE DEL CAUCA","Alto",60,0.41355308841991484,74.999999999999986]
[5250," ","El Bagre","Tiene consejo","Tiene resguardo",1,null,"CALDAS",null,null,"ANORÍ",null,null,"MANATÍ",null,"CICUCO","BRICEÑO","MANIZALES","MILÁN","PAZ DE ARIPORO","CORINTO","EL COPEY","CÉRTEGUI","LA APARTADA","BOJACÁ",null,null,"ELÍAS","MAICAO","EL PIÑÓN","EL DORADO","COLÓN","CONVENCIÓN","SAN MIGUEL","MONTENEGRO","MISTRATÓ","BUCARAMANGA","GUARANDA","CASABIANCA","CALI",null,null,5604,"ANTIOQUIA","REMEDIOS","ANTIOQUIAREMEDIOS","BAJO CAUCA Y NORDESTE ANTIOQUENO",5604,null,"Ambiente y desarrollo sostenible","Ambiente y Desarrollo Sostenible",{"$f":"+IF(Calificación!F14=\"\",\"\",VLOOKUP(Calificación!F14,Listas!$AX$3:$AY$19,2,FALSE))","v":""},"Vivienda, Ciudad Y Territorio",null,"5031Ambiente y Desarrollo Sostenible","Antioquia",5031,"Amalfi",null,"Ambiente y Desarrollo Sostenible",9,null,null,0.2,9,0.43,null,null,null,null,null,null,19142,"Pacífico","Cauca","Caloto",9,"ALTO PATÍA - NORTE DEL CAUCA",6,23,6,5,3,"Nueve","Caloto",19142,false,19364,"JAMBALÓ","ALTO PATÍA - NORTE DEL CAUCA",19364,"AltoPat",null,"CATATUMBO",54800,"TEORAMA","NORTE DE SANTANDER","Muy Alto",80,1.2406592652597446,100]
[5361," ","Ituango","No tiene consejo","No tiene resguardo",0,null,"CAQUETÁ",null,null,"ANZÁ",null,null,"PALMAR DE VARELA",null,"CLEMENCIA","BUENAVISTA","MANZANARES","MORELIA","PORE","EL TAMBO","EL PASO","CONDOTO","LORICA","CABRERA",null,null,"GARZÓN","MANAURE","EL RETÉN","FUENTE DE ORO","CONSACÁ","CUCUTILLA","SANTIAGO","PIJAO","PEREIRA","CABRERA","LA UNIÓN","CHAPARRAL","CALIMA",null,null,5736,"ANTIOQUIA","SEGOVIA","ANTIOQUIASEGOVIA","BAJO CAUCA Y NORDESTE ANTIOQUENO",5736,null,"Cultura","Cultura",{"$f":"+IF(Calificación!F15=\"\",\"\",VLOOKUP(Calificación!F15,Listas!$AX$3:$AY$19,2,FALSE))","v":""},"Cultura",null,"5031Deporte Y Recreación","Antioquia",5031,"Amalfi",null,"Deporte Y Recreación",10,null,null,0.2,10,0.36,null,null,null,null,null,null,19212,"Pacífico","Cauca","Corinto",9,"ALTO PATÍA - NORTE DEL CAUCA",6,23,6,5,3,"Nueve","Corinto",19212,false,19450,"MERCADERES","ALTO PATÍA - NORTE DEL CAUCA",19450,"AltoPat",null,"PACÍFICO Y FRONTERA NARIÑENSE",52835,"SAN ANDRES DE TUMACO","NARIÑO","Muy Alto",80,1.2406592652597446,100]
[5475," ","Murindó","Tiene consejo","No tiene resguardo",1,null,"CASANARE",null,null,"APARTADÓ",null,null,"PIOJÓ",null,"CÓRDOBA","BUSBANZÁ","MARMATO","PUERTO RICO","RECETOR","FLORENCIA","GAMARRA","EL CANTÓN DEL SAN PABLO","LOS CÓRDOBAS","CACHIPAY",null,null,"GIGANTE","RIOHACHA","FUNDACIÓN","GRANADA","CONTADERO","DURANIA","SIBUNDOY","QUIMBAYA","PUEBLO RICO","CALIFORNIA","LOS PALMITOS","COELLO","CANDELARIA",null,null,5790,"ANTIOQUIA","TARAZÁ","ANTIOQUIATARAZÁ","BAJO CAUCA Y NORDESTE ANTIOQUENO",5790,null,"Comercio, industria y turismo","Desarrollo económico",{"$f":"+IF(Calificación!F16=\"\",\"\",VLOOKUP(Calificación!F16,Listas!$AX$3:$AY$19,2,FALSE))","v":""},"Gobierno territorial",null,"5031Cultura","Antioquia",5031,"Amalfi",null,"Cultura",11,null,null,0.2,11,0.28999999999999998,null,null,null,null,null,null,19455,"Pacífico","Cauca","Miranda",9,"ALTO PATÍA - NORTE DEL CAUCA",6,23,6,5,3,"Nueve","Miranda",19455,false,19455,"MIRANDA","ALTO PATÍA - NORTE DEL CAUCA",19455,"AltoPat",null,"PACÍFICO Y FRONTERA NARIÑENSE",52390,"LA TOLA","NARIÑO","Muy Alto",80,1.2406592652597446,100]
[5480," ","Mutatá","No tiene consejo","No tiene resguardo",0,null,"CAUCA",null,null,"ARBOLETES",null,null,"POLONUEVO",null,"EL CARMEN DE BOLÍVAR","CALDAS","MARQUETALIA","SAN JOSÉ DEL FRAGUA","SABANALARGA","GUACHENÉ","GONZÁLEZ","EL CARMEN DE ATRATO","MOMIL","CAJICÁ",null,null,"GUADALUPE","SAN JUAN DEL CESAR","GUAMAL","GUAMAL","CÓRDOBA","EL CARMEN","VALLE DEL GUAMUEZ","SALENTO","QUINCHÍA","CAPITANEJO","MAJAGUAL","COYAIMA","CARTAGO",null,null,5854,"ANTIOQUIA","VALDIVIA","ANTIOQUIAVALDIVIA","BAJO CAUCA Y NORDESTE ANTIOQUENO",5854,null,"Trabajo","Desarrollo económico",{"$f":"+IF(Calificación!F17=\"\",\"\",VLOOKUP(Calificación!F17,Listas!$AX$3:$AY$19,2,FALSE))","v":""},"Transporte",null,"5031Transporte","Antioquia",5031,"Amalfi",null,"Transporte",12,null,null,0.2,12,0.21,null,null,null,null,null,null,19698,"Pacífico","Cauca","Santander de Quilichao",9,"ALTO PATÍA - NORTE DEL CAUCA",6,23,6,5,3,"Nueve","Santander de Quilichao",19698,false,19473,"MORALES","ALTO PATÍA - NORTE DEL CAUCA",19473,"AltoPat",null,"PACÍFICO Y FRONTERA NARIÑENSE",52473,"MOSQUERA","NARIÑO","Alto",60,0.41355308841991484,74.999999999999986]
[5490," ","Necoclí","No tiene consejo","No tiene resguardo",0,null,"CESAR",null,null,"ARGELIA",null,null,"PONEDERA",null,"EL GUAMO","CAMPOHERMOSO","MARULANDA","SAN VICENTE DEL CAGUÁN","SÁCAMA","GUAPI","LA GLORIA","EL LITORAL DEL SAN JUAN","MONTELÍBANO","CAPARRAPÍ",null,null,"HOBO","URIBIA","NUEVA GRANADA","LA MACARENA","CUASPUD CARLOSAMA","EL TARRA","VILLAGARZÓN",null,"SANTA ROSA DE CABAL","CARCASÍ","MORROA","CUNDAY","DAGUA",null,null,5895,"ANTIOQUIA","ZARAGOZA","ANTIOQUIAZARAGOZA","BAJO CAUCA Y NORDESTE ANTIOQUENO",5895,null,"Ciencia, tecnología e innovación","Desarrollo económico",{"$f":"+IF(Calificación!F18=\"\",\"\",VLOOKUP(Calificación!F18,Listas!$AX$3:$AY$19,2,FALSE))","v":""},"Salud y Protección social",null,"5031Salud y Protección social","Antioquia",5031,"Amalfi",null,"Salud y Protección social",13,null,null,0.2,13,0.14000000000000001,null,null,null,null,null,null,95025,"Llano","Guaviare","El Retorno",10,"MACARENA - GUAVIARE",2,12,2,2,1,"Diez","El Retorno",95025,false,19532,"PATÍA","ALTO PATÍA - NORTE DEL CAUCA",19532,"AltoPat",null,"CHOCÓ",27099,"BOJAYA","CHOCÓ","Alto",60,0.41355308841991484,74.999999999999986]
[5495," ","Nechí","No tiene consejo","No tiene resguardo",0,null,"CHOCÓ",null,null,"ARMENIA",null,null,"PUERTO COLOMBIA",null,"EL PEÑÓN","CERINZA","NEIRA","SOLANO","SAN LUIS DE PALENQUE","INZÁ","LA JAGUA DE IBIRICO","ISTMINA","MONTERÍA","CÁQUEZA",null,null,"ÍQUIRA","URUMITA","PEDRAZA","LEJANÍAS","CUMBAL","EL ZULIA",null,null,"SANTUARIO","CEPITÁ","OVEJAS","DOLORES","EL ÁGUILA",null,null,5475,"ANTIOQUIA","MURINDÓ","ANTIOQUIAMURINDÓ","CHOCÓ",5475,null,"Vivienda, ciudad y territorio","Vivienda, Ciudad Y Territorio",{"$f":"+IF(Calificación!F19=\"\",\"\",VLOOKUP(Calificación!F19,Listas!$AX$3:$AY$19,2,FALSE))","v":""},"Minas y Energía",null,"5031Minas y Energía","Antioquia",5031,"Amalfi",null,"Minas y Energía",14,null,null,0.2,14,7.0000000000000007E-2,null,null,null,null,null,null,95200,"Llano","Guaviare","Miraflores",10,"MACARENA - GUAVIARE",2,12,2,2,1,"Diez","Miraflores",95200,false,19548,"PIENDAMÓ","ALTO PATÍA - NORTE DEL CAUCA",19548,"AltoPat",null,"PACÍFICO Y FRONTERA NARIÑENSE",52250,"EL CHARCO","NARIÑO","Muy Alto",80,1.2406592652597446,100]
[5604," ","Remedios","No tiene consejo","No tiene resguardo",0,null,"CÓRDOBA",null,null,"BARBOSA",null,null,"REPELÓN",null,"HATILLO DE LOBA","CHINAVITA","NORCASIA","SOLITA","TÁMARA","JAMBALÓ","LA PAZ","JURADÓ","MOÑITOS","CARMEN DE CARUPA",null,null,"ISNOS","VILLANUEVA","PIJIÑO DEL CARMEN","MAPIRIPÁN","CUMBITARA","GRAMALOTE",null,null,null,"CERRITO","PALMITO","ESPINAL","EL CAIRO",null,null,5873,"ANTIOQUIA","VIGÍA DEL FUERTE","ANTIOQUIAVIGÍA DEL FUERTE","CHOCÓ",5873,null,"Inclusión social y reconciliación","Inclusión Social Y Reconciliación",{"$f":"+IF(Calificación!F20=\"\",\"\",VLOOKUP(Calificación!F20,Listas!$AX$3:$AY$19,2,FALSE))","v":""},null,null,"5040Tecnologías de la Información y las Comunicaciones","Antioquia",5040,"Anorí",null,"Tecnologías de la Información y las Comunicaciones",1,null,null,null,null,null,null,null,null,null,null,null,47001,"Caribe","Magdalena","Santa Marta",11,"SIERRA NEVADA - PERIJÁ",3,15,3,3,2,"Once","Santa Marta",47001,false,19698,"SANTANDER DE QUILICHAO","ALTO PATÍA - NORTE DEL CAUCA",19698,"AltoPat",null,"CHOCÓ",27450,"MEDIO SAN JUAN","CHOCÓ","Muy Alto",80,1.2406592652597446,100]
[5665," ","San Pedro de Uraba","No tiene consejo","No tiene resguardo",0,null,"CUNDINAMARCA",null,null,"BELLO",null,null,"SABANAGRANDE",null,"MAGANGUÉ","CHIQUINQUIRÁ","PÁCORA","VALPARAÍSO","TAURAMENA","LA SIERRA","MANAURE BALCÓN DEL CESAR","LLORÓ","PLANETA RICA","CHAGUANÍ",null,null,"LA ARGENTINA",null,"PIVIJAY","MESETAS","EL CHARCO","HACARÍ",null,null,null,"CHARALÁ","SAMPUÉS","FALAN","EL CERRITO",null,null,5893,"ANTIOQUIA","YONDÓ","ANTIOQUIAYONDÓ","SUR DE BOLÍVAR",5893,null,"Deporte y recreación","Deporte Y Recreación",{"$f":"+IF(Calificación!F21=\"\",\"\",VLOOKUP(Calificación!F21,Listas!$AX$3:$AY$19,2,FALSE))","v":""},null,null,"5040Desarrollo Económico","Antioquia",5040,"Anorí",null,"Desarrollo Económico",2,null,null,null,null,null,null,null,null,null,null,null,47053,"Caribe","Magdalena","Aracataca",11,"SIERRA NEVADA - PERIJÁ",3,15,3,3,2,"Once","Aracataca",47053,false,19780,"SUÁREZ","ALTO PATÍA - NORTE DEL CAUCA",19780,"AltoPat",null,"CATATUMBO",54206,"CONVENCIÓN","NORTE DE SANTANDER","Muy Alto",80,1.2406592652597446,100]
[5736," ","Segovia","No tiene consejo","No tiene resguardo",0,null,"GUAINÍA",null,null,"BELMIRA",null,null,"SABANALARGA",null,"MAHATES","CHÍQUIZA","PALESTINA",null,"TRINIDAD","LA VEGA","PAILITAS","MEDIO ATRATO","PUEBLO NUEVO","CHÍA",null,null,"LA PLATA",null,"PLATO","PUERTO CONCORDIA","EL PEÑOL","HERRÁN",null,null,null,"CHARTA","SAN BENITO ABAD","FLANDES","EL DOVIO",null,null,5045,"ANTIOQUIA","APARTADÓ","ANTIOQUIAAPARTADÓ","URABÁ ANTIOQUEÑO",5045,null,"Gobierno territorial","Gobierno territorial",{"$f":"+IF(Calificación!F22=\"\",\"\",VLOOKUP(Calificación!F22,Listas!$AX$3:$AY$19,2,FALSE))","v":""},null,null,"5040Vivienda, Ciudad Y Territorio","Antioquia",5040,"Anorí",null,"Vivienda, Ciudad Y Territorio",3,null,null,null,null,null,null,null,null,null,null,null,47189,"Caribe","Magdalena","Ciénaga",11,"SIERRA NEVADA - PERIJÁ",3,15,3,3,2,"Once","Ciénaga",47189,false,19821,"TORIBÍO","ALTO PATÍA - NORTE DEL CAUCA",19821,"AltoPat",null,"ALTO PATÍA Y NORTE DEL CAUCA",19142,"CALOTO","CAUCA","Muy Alto",80,1.2406592652597446,100]
[5790," ","Tarazá","No tiene consejo","No tiene resguardo",0,null,"GUAVIARE",null,null,"BETANIA",null,null,"SANTA LUCÍA",null,"MARGARITA","CHISCAS","PENSILVANIA",null,"VILLANUEVA","LÓPEZ DE MICAY","PELAYA","MEDIO BAUDÓ","PUERTO ESCONDIDO","CHIPAQUE",null,null,"NÁTAGA",null,"PUEBLOVIEJO","PUERTO GAITÁN","EL ROSARIO","LA ESPERANZA",null,null,null,"CHIMÁ","SAN JUAN DE BETULIA","FRESNO","FLORIDA",null,null,5147,"ANTIOQUIA","CAREPA","ANTIOQUIACAREPA","URABÁ ANTIOQUEÑO",5147,null,null,null,{"$f":"+IF(Calificación!F23=\"\",\"\",VLOOKUP(Calificación!F23,Listas!$AX$3:$AY$19,2,FALSE))","v":""},null,null,"5040Educación","Antioquia",5040,"Anorí",null,"Educación",4,null,null,null,null,null,null,null,null,null,null,null,27250,"Pacífico","Chocó","El Litoral del San Juan",12,"CHOCÓ",5,14,5,4,3,"Doce","El Litoral del San Juan",27250,false,52233,"CUMBITARA","ALTO PATÍA - NORTE DEL CAUCA",52233,"AltoPat",null,"CHOCÓ",27425,"MEDIO ATRATO","CHOCÓ","Medio",40,-0.41355308841991484,50]
[5837," ","Turbo","Tiene consejo","No tiene resguardo",1,null,"HUILA",null,null,"BETULIA",null,null,"SANTO TOMÁS",null,"MARÍA LA BAJA","CHITA","RIOSUCIO",null,"YOPAL","MERCADERES","PUEBLO BELLO","MEDIO SAN JUAN","PUERTO LIBERTADOR","CHOACHÍ",null,null,"NEIVA",null,"REMOLINO","PUERTO LLERAS","EL TABLÓN DE GÓMEZ","LA PLAYA",null,null,null,"CHIPATÁ","SAN LUIS DE SINCÉ","GUAMO","GINEBRA",null,null,5172,"ANTIOQUIA","CHIGORODÓ","ANTIOQUIACHIGORODÓ","URABÁ ANTIOQUEÑO",5172,null,null,null,{"$f":"+IF(Calificación!F24=\"\",\"\",VLOOKUP(Calificación!F24,Listas!$AX$3:$AY$19,2,FALSE))","v":""},null,null,"5040Inclusión Social Y Reconciliación","Antioquia",5040,"Anorí",null,"Inclusión Social Y Reconciliación",5,null,null,null,null,null,null,null,null,null,null,null,19318,"Pacífico","Cauca","Guapi",12,"PACÍFICO MEDIO",5,4,4,3,2,"Doce","Guapi",19318,true,52256,"EL ROSARIO","ALTO PATÍA - NORTE DEL CAUCA",52256,"AltoPat",null,"CHOCÓ",27150,"CARMEN DEL DARIEN","CHOCÓ","Alto",60,0.41355308841991484,74.999999999999986]
[5854," ","Valdivia","No tiene consejo","No tiene resguardo",0,null,"LA_GUAJIRA",null,null,"BRICEÑO",null,null,"SOLEDAD",null,"MOMPÓS","CHITARAQUE","RISARALDA",null,null,"MIRANDA","RÍO DE ORO","NÓVITA","PURÍSIMA DE LA CONCEPCIÓN","CHOCONTÁ",null,null,"OPORAPA",null,"SABANAS DE SAN ÁNGEL","PUERTO LÓPEZ","EL TAMBO","LABATECA",null,null,null,"CIMITARRA","SAN MARCOS","HERVEO","GUACARÍ",null,null,5234,"ANTIOQUIA","DABEIBA","ANTIOQUIADABEIBA","URABÁ ANTIOQUEÑO",5234,null,null,null,{"$f":"+IF(Calificación!F25=\"\",\"\",VLOOKUP(Calificación!F25,Listas!$AX$3:$AY$19,2,FALSE))","v":""},null,null,"5040Agricultura y desarrollo rural","Antioquia",5040,"Anorí",null,"Agricultura y desarrollo rural",6,null,null,null,null,null,null,null,null,null,null,null,19418,"Pacífico","Cauca","López",12,"PACÍFICO MEDIO",5,4,4,3,2,"Doce","López",19418,true,52405,"LEIVA","ALTO PATÍA - NORTE DEL CAUCA",52405,"AltoPat",null,"CHOCÓ",27361,"ISTMINA","CHOCÓ","Alto",60,0.41355308841991484,74.999999999999986]
[5873," ","Vigía del Fuerte","No tiene consejo","No tiene resguardo",0,null,"MAGDALENA",null,null,"BURITICÁ",null,null,"SUAN",null,"MONTECRISTO","CHIVATÁ","SALAMINA",null,null,"MORALES","SAN ALBERTO","NUQUÍ","SAHAGÚN","COGUA",null,null,"PAICOL",null,"SALAMINA","PUERTO RICO","FRANCISCO PIZARRO","LOS PATIOS",null,null,null,"CONCEPCIÓN","SAN ONOFRE","HONDA","GUADALAJARA DE BUGA",null,null,5480,"ANTIOQUIA","MUTATÁ","ANTIOQUIAMUTATÁ","URABÁ ANTIOQUEÑO",5480,null,null,null,{"$f":"+IF(Calificación!F26=\"\",\"\",VLOOKUP(Calificación!F26,Listas!$AX$3:$AY$19,2,FALSE))","v":""},null,null,"5040Gobierno territorial","Antioquia",5040,"Anorí",null,"Gobierno territorial",7,null,null,null,null,null,null,null,null,null,null,null,19809,"Pacífico","Cauca","Timbiquí",12,"PACÍFICO MEDIO",5,4,4,3,2,"Doce","Timbiquí",19809,true,52418,"LOS ANDES","ALTO PATÍA - NORTE DEL CAUCA",52418,"AltoPat",null,"PACÍFICO Y FRONTERA NARIÑENSE",52696,"SANTA BÁRBARA","NARIÑO","Alto",60,0.41355308841991484,74.999999999999986]
[5893," ","Yondó","Tiene consejo","No tiene resguardo",1,null,"META",null,null,"CÁCERES",null,null,"TUBARÁ",null,"MORALES","CHIVOR","SAMANÁ",null,null,"PADILLA","SAN DIEGO","QUIBDÓ","SAN ANDRÉS SOTAVENTO","COTA",null,null,"PALERMO",null,"SAN SEBASTIÁN DE BUENAVISTA","RESTREPO","FUNES","LOURDES",null,null,null,"CONFINES","SAN PEDRO","IBAGUÉ","JAMUNDÍ",null,null,5490,"ANTIOQUIA","NECOCLÍ","ANTIOQUIANECOCLÍ","URABÁ ANTIOQUEÑO",5490,null,null,null,{"$f":"+IF(Calificación!F27=\"\",\"\",VLOOKUP(Calificación!F27,Listas!$AX$3:$AY$19,2,FALSE))","v":""},null,null,"5040Justicia y del Derecho","Antioquia",5040,"Anorí",null,"Justicia y del Derecho",8,null,null,null,null,null,null,null,null,null,null,null,76109,"Pacífico","Valle del Cauca","Buenaventura",12,"PACÍFICO MEDIO",5,4,4,3,2,"Doce","Buenaventura",76109,true,52540,"POLICARPA","ALTO PATÍA - NORTE DEL CAUCA",52540,"AltoPat",null,"MACARENA GUAVIARE",50350,"LA MACARENA","META","Muy Alto",80,1.2406592652597446,100]
[5895," ","Zaragoza","Tiene consejo","No tiene resguardo",1,null,"NARIÑO",null,null,"CAICEDO",null,null,"USIACURÍ",null,"NOROSÍ","CIÉNEGA","SAN JOSÉ",null,null,"PÁEZ","SAN MARTÍN","RÍO IRÓ","SAN ANTERO","CUCUNUBÁ",null,null,"PALESTINA",null,"SAN ZENÓN","SAN CARLOS DE GUAROA","GUACHUCAL","MUTISCUA",null,null,null,"CONTRATACIÓN","SANTIAGO DE TOLÚ","ICONONZO","LA CUMBRE",null,null,5665,"ANTIOQUIA","SAN PEDRO DE URABÁ","ANTIOQUIASAN PEDRO DE URABÁ","URABÁ ANTIOQUEÑO",5665,null,null,null,{"$f":"+IF(Calificación!F28=\"\",\"\",VLOOKUP(Calificación!F28,Listas!$AX$3:$AY$19,2,FALSE))","v":""},null,null,"5040Ambiente y Desarrollo Sostenible","Antioquia",5040,"Anorí",null,"Ambiente y Desarrollo Sostenible",9,null,null,null,null,null,null,null,null,null,null,null,23807,"Caribe","Córdoba","Tierralta",15,"SUR DE CÓRDOBA",2,5,2,2,1,"Quince","Tierralta",23807,false,76275,"FLORIDA","ALTO PATÍA - NORTE DEL CAUCA",76275,"AltoPat",null,"BAJO CAUCA Y NORDESTE ANTIOQUEÑO",5854,"VALDIVIA","ANTIOQUIA","Muy Alto",80,1.2406592652597446,100]
[13042," ","Arenal","No tiene consejo","No tiene resguardo",0,null,"NORTE_DE_SANTANDER",null,null,"CALDAS",null,null,null,null,"PINILLOS","CÓMBITA","SUPÍA",null,null,"PATÍA","TAMALAMEQUE","RÍO QUITO","SAN BERNARDO DEL VIENTO","EL COLEGIO",null,null,"PITAL",null,"SANTA ANA","SAN JUAN DE ARAMA","GUAITARILLA","OCAÑA",null,null,null,"COROMORO","SINCELEJO","LÉRIDA","LA UNIÓN",null,null,5837,"ANTIOQUIA","TURBO","ANTIOQUIATURBO","URABÁ ANTIOQUEÑO",5837,null,null,null,{"$f":"+IF(Calificación!F29=\"\",\"\",VLOOKUP(Calificación!F29,Listas!$AX$3:$AY$19,2,FALSE))","v":""},null,null,"5040Deporte Y Recreación","Antioquia",5040,"Anorí",null,"Deporte Y Recreación",10,null,null,null,null,null,null,null,null,null,null,null,23855,"Caribe","Córdoba","Valencia",15,"SUR DE CÓRDOBA",2,5,2,2,1,"Dieciseis","Valencia",23855,false,76563,"PRADERA","ALTO PATÍA - NORTE DEL CAUCA",76563,"AltoPat",null,"URABÁ ANTIOQUEÑO",5234,"DABEIBA","ANTIOQUIA","Muy Alto",80,1.2406592652597446,100]
[13160," ","Cantagallo","No tiene consejo","No tiene resguardo",0,null,"PUTUMAYO",null,null,"CAMPAMENTO",null,null,null,null,"REGIDOR","COPER","VICTORIA",null,null,"PIAMONTE","VALLEDUPAR","RIOSUCIO","SAN CARLOS","EL PEÑÓN",null,null,"PITALITO",null,"SANTA BÁRBARA DE PINTO","SAN JUANITO","GUALMATÁN","PAMPLONA",null,null,null,"CURITÍ","SUCRE","LÍBANO","LA VICTORIA",null,null,81065,"ARAUCA","ARAUQUITA","ARAUCAARAUQUITA","ARAUCA",81065,null,null,null,{"$f":"+IF(Calificación!F30=\"\",\"\",VLOOKUP(Calificación!F30,Listas!$AX$3:$AY$19,2,FALSE))","v":""},null,null,"5040Cultura","Antioquia",5040,"Anorí",null,"Cultura",11,null,null,null,null,null,null,null,null,null,null,null,19050,"Pacífico","Cauca","Argelia",16,"ALTO PATÍA - NORTE DEL CAUCA",5,23,5,4,3,"Dieciseis","Argelia",19050,false,81065,"ARAUQUITA","ARAUCA",81065,"AraucaPDET",null,"CHOCÓ",27615,"RIOSUCIO","CHOCÓ","Medio",40,-0.41355308841991484,50]
[13212," ","Córdoba","No tiene consejo","No tiene resguardo",0,null,"QUINDIO",null,null,"CAÑASGORDAS",null,null,null,null,"RÍO VIEJO","CORRALES","VILLAMARÍA",null,null,"PIENDAMÓ - TUNÍA",null,"SAN JOSÉ DEL PALMAR","SAN JOSÉ DE URÉ","EL ROSAL",null,null,"RIVERA",null,"SANTA MARTA","SAN MARTÍN","ILES","PAMPLONITA",null,null,null,"EL CARMEN DE CHUCURÍ","TOLÚ VIEJO","MARIQUITA","OBANDO",null,null,81300,"ARAUCA","FORTUL","ARAUCAFORTUL","ARAUCA",81300,null,null,null,{"$f":"+IF(Calificación!F31=\"\",\"\",VLOOKUP(Calificación!F31,Listas!$AX$3:$AY$19,2,FALSE))","v":""},null,null,"5040Transporte","Antioquia",5040,"Anorí",null,"Transporte",12,null,null,null,null,null,null,null,null,null,null,null,19075,"Pacífico","Cauca","Balboa",16,"ALTO PATÍA - NORTE DEL CAUCA",5,23,5,4,3,"Dieciseis","Balboa",19075,false,81300,"FORTUL","ARAUCA",81300,"AraucaPDET",null,"ALTO PATÍA Y NORTE DEL CAUCA",19050,"ARGELIA","CAUCA","Muy Alto",80,1.2406592652597446,100]
[13244," ","El Carmen de Bolívar","Tiene consejo","No tiene resguardo",1,null,"RISARALDA",null,null,"CARACOLÍ",null,null,null,null,"SAN CRISTÓBAL","COVARACHÍA","VITERBO",null,null,"POPAYÁN",null,"SIPÍ","SAN PELAYO","FACATATIVÁ",null,null,"SALADOBLANCO",null,"SITIONUEVO","URIBE","IMUÉS","PUERTO SANTANDER",null,null,null,"EL GUACAMAYO",null,"MELGAR","PALMIRA",null,null,81736,"ARAUCA","SARAVENA","ARAUCASARAVENA","ARAUCA",81736,null,null,null,{"$f":"+IF(Calificación!F32=\"\",\"\",VLOOKUP(Calificación!F32,Listas!$AX$3:$AY$19,2,FALSE))","v":""},null,null,"5040Salud y Protección social","Antioquia",5040,"Anorí",null,"Salud y Protección social",13,null,null,null,null,null,null,null,null,null,null,null,19450,"Pacífico","Cauca","Mercaderes",16,"ALTO PATÍA - NORTE DEL CAUCA",5,23,5,4,3,"Dieciseis","Mercaderes",19450,false,81736,"SARAVENA","ARAUCA",81736,"AraucaPDET",null,"CUENCA DEL CAGUÁN Y PIEDEMONTE CAQUETEÑO",18756,"SOLANO","CAQUETÁ","Alto",60,0.41355308841991484,74.999999999999986]
[13248," ","El Guamo","No tiene consejo","No tiene resguardo",0,null,"SANTANDER",null,null,"CARAMANTA",null,null,null,null,"SAN ESTANISLAO","CUBARÁ",null,null,null,"PUERTO TEJADA",null,"TADÓ","TIERRALTA","FÓMEQUE",null,null,"SAN AGUSTÍN",null,"TENERIFE","VILLAVICENCIO","IPIALES","RAGONVALIA",null,null,null,"EL PEÑÓN",null,"MURILLO","PRADERA",null,null,81794,"ARAUCA","TAME","ARAUCATAME","ARAUCA",81794,null,null,null,{"$f":"+IF(Calificación!F33=\"\",\"\",VLOOKUP(Calificación!F33,Listas!$AX$3:$AY$19,2,FALSE))","v":""},null,null,"5040Minas y Energía","Antioquia",5040,"Anorí",null,"Minas y Energía",14,null,null,null,null,null,null,null,null,null,null,null,19532,"Pacífico","Cauca","Patía",16,"ALTO PATÍA - NORTE DEL CAUCA",5,23,5,4,3,"Dieciseis","Patía",19532,false,81794,"TAME","ARAUCA",81794,"AraucaPDET",null,"ALTO PATÍA Y NORTE DEL CAUCA",19110,"BUENOS AIRES","CAUCA","Muy Alto",80,1.2406592652597446,100]
[13442," ","María La Baja","No tiene consejo","No tiene resguardo",0,null,"SUCRE",null,null,"CAREPA",null,null,null,null,"SAN FERNANDO","CUCAITA",null,null,null,"PURACÉ",null,"UNGUÍA","TUCHÍN","FOSCA",null,null,"SANTA MARÍA",null,"ZAPAYÁN","VISTAHERMOSA","LA CRUZ","SALAZAR",null,null,null,"EL PLAYÓN",null,"NATAGAIMA","RESTREPO",null,null,13212,"BOLÍVAR","CÓRDOBA","BOLÍVARCÓRDOBA","MONTES DE MARÍA",13212,null,null,null,{"$f":"+IF(Calificación!F34=\"\",\"\",VLOOKUP(Calificación!F34,Listas!$AX$3:$AY$19,2,FALSE))","v":""},null,null,"5045Desarrollo Económico","Antioquia",5045,"Apartadó",null,"Desarrollo Económico",1,null,null,null,null,null,null,null,null,null,null,null,52405,"Pacífico","Nariño","Leiva",16,"ALTO PATÍA - NORTE DEL CAUCA",5,23,5,4,3,"Dieciseis","Leiva",52405,false,5031,"AMALFI","BAJO CAUCA Y NORDESTE ANTIOQUENO",5031,"BajoCauca",null,"CATATUMBO",54245,"EL CARMEN","NORTE DE SANTANDER","Muy Alto",80,1.2406592652597446,100]
[13473," ","Morales","No tiene consejo","No tiene resguardo",0,null,"TOLIMA",null,null,"CAROLINA",null,null,null,null,"SAN JACINTO","CUÍTIVA",null,null,null,"ROSAS",null,"UNIÓN PANAMERICANA","VALENCIA","FUNZA",null,null,"SUAZA",null,"ZONA BANANERA",null,"LA FLORIDA","SAN CALIXTO",null,null,null,"ENCINO",null,"ORTEGA","RIOFRÍO",null,null,13244,"BOLÍVAR","EL CARMEN DE BOLÍVAR","BOLÍVAREL CARMEN DE BOLÍVAR","MONTES DE MARÍA",13244,null,null,null,{"$f":"+IF(Calificación!F35=\"\",\"\",VLOOKUP(Calificación!F35,Listas!$AX$3:$AY$19,2,FALSE))","v":""},null,null,"5045Tecnologías de la Información y las Comunicaciones","Antioquia",5045,"Apartadó",null,"Tecnologías de la Información y las Comunicaciones",2,null,null,null,null,null,null,null,null,null,null,null,5893,"Eje Cafetero","Antioquia","Yondó",17,"SUR DE BOLÍVAR",3,7,3,3,2,"Diecisiete","Yondó",5893,false,5040,"ANORÍ","BAJO CAUCA Y NORDESTE ANTIOQUENO",5040,"BajoCauca",null,"BAJO CAUCA Y NORDESTE ANTIOQUEÑO",5361,"ITUANGO","ANTIOQUIA","Muy Alto",80,1.2406592652597446,100]
[13654," ","San Jacinto","No tiene consejo","No tiene resguardo",0,null,"VALLE_DEL_CAUCA",null,null,"CAUCASIA",null,null,null,null,"SAN JACINTO DEL CAUCA","DUITAMA",null,null,null,"SAN SEBASTIÁN",null,null,null,"FÚQUENE",null,null,"TARQUI",null,null,null,"LA LLANADA","SAN CAYETANO",null,null,null,"ENCISO",null,"PALOCABILDO","ROLDANILLO",null,null,13248,"BOLÍVAR","EL GUAMO","BOLÍVAREL GUAMO","MONTES DE MARÍA",13248,null,null,null,{"$f":"+IF(Calificación!F36=\"\",\"\",VLOOKUP(Calificación!F36,Listas!$AX$3:$AY$19,2,FALSE))","v":""},null,null,"5045Agricultura y desarrollo rural","Antioquia",5045,"Apartadó",null,"Agricultura y desarrollo rural",3,null,null,null,null,null,null,null,null,null,null,null,13160,"Caribe","Bolívar","Cantagallo",17,"SUR DE BOLÍVAR",3,7,3,3,2,"Diecisiete","Cantagallo",13160,false,5107,"BRICEÑO","BAJO CAUCA Y NORDESTE ANTIOQUENO",5107,"BajoCauca",null,"MACARENA GUAVIARE",50590,"PUERTO RICO","META","Muy Alto",80,1.2406592652597446,100]
[13657," ","San Juan Nepomuceno","No tiene consejo","No tiene resguardo",0,null,"VAUPÉS",null,null,"CHIGORODÓ",null,null,null,null,"SAN JUAN NEPOMUCENO","EL COCUY",null,null,null,"SANTA ROSA",null,null,null,"FUSAGASUGÁ",null,null,"TELLO",null,null,null,"LA TOLA","SAN JOSÉ DE CÚCUTA",null,null,null,"FLORIÁN",null,"PIEDRAS","SAN PEDRO",null,null,13442,"BOLÍVAR","MARÍA LA BAJA","BOLÍVARMARÍA LA BAJA","MONTES DE MARÍA",13442,null,null,null,{"$f":"+IF(Calificación!F37=\"\",\"\",VLOOKUP(Calificación!F37,Listas!$AX$3:$AY$19,2,FALSE))","v":""},null,null,"5045Educación","Antioquia",5045,"Apartadó",null,"Educación",4,null,null,null,null,null,null,null,null,null,null,null,13744,"Caribe","Bolívar","Simití",17,"SUR DE BOLÍVAR",{"$f":"+COUNTIF($BY$4:$BY$171,BY34)","v":3},{"$f":"+IF(BZ34=\"No es PDET\",9999999999999,COUNTIF($BZ$4:$BZ$171,BZ34))","v":7},3,3,2,"Diecisiete","Simití",13744,false,5120,"CÁCERES","BAJO CAUCA Y NORDESTE ANTIOQUENO",5120,"BajoCauca",null,"CATATUMBO",54670,"SAN CALIXTO","NORTE DE SANTANDER","Muy Alto",80,1.2406592652597446,100]
[13670," ","San Pablo","No tiene consejo","No tiene resguardo",0,null,"VICHADA",null,null,"CISNEROS",null,null,null,null,"SAN MARTÍN DE LOBA","EL ESPINO",null,null,null,"SANTANDER DE QUILICHAO",null,null,null,"GACHALÁ",null,null,"TERUEL",null,null,null,"LA UNIÓN","SANTIAGO",null,null,null,"FLORIDABLANCA",null,"PLANADAS","SEVILLA",null,null,13654,"BOLÍVAR","SAN JACINTO","BOLÍVARSAN JACINTO","MONTES DE MARÍA",13654,null,null,null,{"$f":"+IF(Calificación!F38=\"\",\"\",VLOOKUP(Calificación!F38,Listas!$AX$3:$AY$19,2,FALSE))","v":""},null,null,"5045Vivienda, Ciudad Y Territorio","Antioquia",5045,"Apartadó",null,"Vivienda, Ciudad Y Territorio",5,null,null,null,null,null,null,null,null,null,null,null,5154,"Eje Cafetero","Antioquia","Caucasia",20,"BAJO CAUCA Y NORDESTE ANTIOQUENO",2,13,2,2,1,"Veinte","Caucasia",5154,false,5154,"CAUCASIA","BAJO CAUCA Y NORDESTE ANTIOQUENO",5154,"BajoCauca",null,"SUR DE BOLÍVAR",13670,"SAN PABLO","BOLÍVAR","Muy Alto",80,1.2406592652597446,100]
[13688," ","Santa Rosa del Sur","No tiene consejo","No tiene resguardo",0,null,null,null,null,"CIUDAD BOLÍVAR",null,null,null,null,"SAN PABLO","FIRAVITOBA",null,null,null,"SILVIA",null,null,null,"GACHANCIPÁ",null,null,"TESALIA",null,null,null,"LEIVA","SARDINATA",null,null,null,"GALÁN",null,"PRADO","TORO",null,null,13657,"BOLÍVAR","SAN JUAN NEPOMUCENO","BOLÍVARSAN JUAN NEPOMUCENO","MONTES DE MARÍA",13657,null,null,null,{"$f":"+IF(Calificación!F39=\"\",\"\",VLOOKUP(Calificación!F39,Listas!$AX$3:$AY$19,2,FALSE))","v":""},null,null,"5045Inclusión Social Y Reconciliación","Antioquia",5045,"Apartadó",null,"Inclusión Social Y Reconciliación",6,null,null,null,null,null,null,null,null,null,null,null,5495,"Eje Cafetero","Antioquia","Nechí",20,"BAJO CAUCA Y NORDESTE ANTIOQUENO",2,13,{"$f":"+MIN(CA36:CB36)","v":2},{"$f":"+ROUNDUP(CC36*$CD$1,0)","v":2},{"$f":"ROUNDUP(CC36*$CE$1,0)","v":1},"Veinte","Nechí",5495,{"$f":"+CB36<CA36","v":false},5250,"EL BAGRE","BAJO CAUCA Y NORDESTE ANTIOQUENO",5250,"BajoCauca",null,"PACÍFICO Y FRONTERA NARIÑENSE",52612,"RICAURTE","NARIÑO","Medio",40,-0.41355308841991484,50]
[13744," ","Simití","No tiene consejo","No tiene resguardo",0,null,null,null,null,"COCORNÁ",null,null,null,null,"SANTA CATALINA","FLORESTA",null,null,null,"SOTARÁ PAISPAMBA",null,null,null,"GACHETÁ",null,null,"TIMANÁ",null,null,null,"LINARES","SILOS",null,null,null,"GÁMBITA",null,"PURIFICACIÓN","TRUJILLO",null,null,13894,"BOLÍVAR","ZAMBRANO","BOLÍVARZAMBRANO","MONTES DE MARÍA",13894,null,null,null,{"$f":"+IF(Calificación!F40=\"\",\"\",VLOOKUP(Calificación!F40,Listas!$AX$3:$AY$19,2,FALSE))","v":""},null,null,"5045Gobierno territorial","Antioquia",5045,"Apartadó",null,"Gobierno territorial",7,null,null,null,null,null,null,null,null,null,null,null,5361,"Eje Cafetero","Antioquia","Ituango",22,"BAJO CAUCA Y NORDESTE ANTIOQUENO",8,13,8,6,4,"Veintidos","Ituango",5361,false,5361,"ITUANGO","BAJO CAUCA Y NORDESTE ANTIOQUENO",5361,"BajoCauca",null,"ALTO PATÍA Y NORTE DEL CAUCA",52233,"CUMBITARA","NARIÑO","Muy Alto",80,1.2406592652597446,100]
[13894," ","Zambrano","No tiene consejo","No tiene resguardo",0,null,null,null,null,"CONCEPCIÓN",null,null,null,null,"SANTA ROSA","GACHANTIVÁ",null,null,null,"SUÁREZ",null,null,null,"GAMA",null,null,"VILLAVIEJA",null,null,null,"LOS ANDES","TEORAMA",null,null,null,"GIRÓN",null,"RIOBLANCO","TULUÁ",null,null,13042,"BOLÍVAR","ARENAL","BOLÍVARARENAL","SUR DE BOLÍVAR",13042,null,null,null,{"$f":"+IF(Calificación!F41=\"\",\"\",VLOOKUP(Calificación!F41,Listas!$AX$3:$AY$19,2,FALSE))","v":""},null,null,"5045Justicia y del Derecho","Antioquia",5045,"Apartadó",null,"Justicia y del Derecho",8,null,null,null,null,null,null,null,null,null,null,null,5045,"Eje Cafetero","Antioquia","Apartadó",22,"URABÁ ANTIOQUEÑO",8,8,8,6,4,"Veintidos","Apartadó",5045,false,5495,"NECHÍ","BAJO CAUCA Y NORDESTE ANTIOQUENO",5495,"BajoCauca",null,"ALTO PATÍA Y NORTE DEL CAUCA",19212,"CORINTO","CAUCA","Muy Alto",80,1.2406592652597446,100]
[18001," ","Florencia","No tiene consejo","Tiene resguardo",1,null,null,null,null,"CONCORDIA",null,null,null,null,"SANTA ROSA DEL SUR","GÁMEZA",null,null,null,"SUCRE",null,null,null,"GIRARDOT",null,null,"YAGUARÁ",null,null,null,"MAGÜÍ","TIBÚ",null,null,null,"GUACA",null,"RONCESVALLES","ULLOA",null,null,13160,"BOLÍVAR","CANTAGALLO","BOLÍVARCANTAGALLO","SUR DE BOLÍVAR",13160,null,null,null,{"$f":"+IF(Calificación!F42=\"\",\"\",VLOOKUP(Calificación!F42,Listas!$AX$3:$AY$19,2,FALSE))","v":""},null,null,"5045Ambiente y Desarrollo Sostenible","Antioquia",5045,"Apartadó",null,"Ambiente y Desarrollo Sostenible",9,null,null,null,null,null,null,null,null,null,null,null,5147,"Eje Cafetero","Antioquia","Carepa",22,"URABÁ ANTIOQUEÑO",8,8,8,6,4,"Veintidos","Carepa",5147,false,5604,"REMEDIOS","BAJO CAUCA Y NORDESTE ANTIOQUENO",5604,"BajoCauca",null,"SUR DE CÓRDOBA",23807,"TIERRALTA","CÓRDOBA","Alto",60,0.41355308841991484,74.999999999999986]
[18029," ","Albania","No tiene consejo","Tiene resguardo",1,null,null,null,null,"COPACABANA",null,null,null,null,"SIMITÍ","GARAGOA",null,null,null,"TIMBÍO",null,null,null,"GRANADA",null,null,null,null,null,null,"MALLAMA","TOLEDO",null,null,null,"GUADALUPE",null,"ROVIRA","VERSALLES",null,null,13473,"BOLÍVAR","MORALES","BOLÍVARMORALES","SUR DE BOLÍVAR",13473,null,null,null,{"$f":"+IF(Calificación!F43=\"\",\"\",VLOOKUP(Calificación!F43,Listas!$AX$3:$AY$19,2,FALSE))","v":""},null,null,"5045Salud y Protección social","Antioquia",5045,"Apartadó",null,"Salud y Protección social",10,null,null,null,null,null,null,null,null,null,null,null,5172,"Eje Cafetero","Antioquia","Chigorodó",22,"URABÁ ANTIOQUEÑO",8,8,8,6,4,"Veintidos","Chigorodó",5172,false,5736,"SEGOVIA","BAJO CAUCA Y NORDESTE ANTIOQUENO",5736,"BajoCauca",null,"CHOCÓ",27800,"UNGUÍA","CHOCÓ","Alto",60,0.41355308841991484,74.999999999999986]
[18094," ","Belén de los Andaquies","No tiene consejo","Tiene resguardo",1,null,null,null,null,"DABEIBA",null,null,null,null,"SOPLAVIENTO","GUACAMAYAS",null,null,null,"TIMBIQUÍ",null,null,null,"GUACHETÁ",null,null,null,null,null,null,"MOSQUERA","VILLA CARO",null,null,null,"GUAPOTÁ",null,"SALDAÑA","VIJES",null,null,13670,"BOLÍVAR","SAN PABLO","BOLÍVARSAN PABLO","SUR DE BOLÍVAR",13670,null,null,null,{"$f":"+IF(Calificación!F44=\"\",\"\",VLOOKUP(Calificación!F44,Listas!$AX$3:$AY$19,2,FALSE))","v":""},null,null,"5045Deporte Y Recreación","Antioquia",5045,"Apartadó",null,"Deporte Y Recreación",11,null,null,null,null,null,null,null,null,null,null,null,5480,"Eje Cafetero","Antioquia","Mutatá",22,"URABÁ ANTIOQUEÑO",8,8,8,6,4,"Veintidos","Mutatá",5480,false,5790,"TARAZÁ","BAJO CAUCA Y NORDESTE ANTIOQUENO",5790,"BajoCauca",null,"ALTO PATÍA Y NORTE DEL CAUCA",19137,"CALDONO","CAUCA","Medio",40,-0.41355308841991484,50]
[18150," ","Cartagena del Chairá","No tiene consejo","No tiene resguardo",0,null,null,null,null,"DONMATÍAS",null,null,null,null,"TALAIGUA NUEVO","GUATEQUE",null,null,null,"TORIBÍO",null,null,null,"GUADUAS",null,null,null,null,null,null,"NARIÑO","VILLA DEL ROSARIO",null,null,null,"GUAVATÁ",null,"SAN ANTONIO","YOTOCO",null,null,13688,"BOLÍVAR","SANTA ROSA DEL SUR","BOLÍVARSANTA ROSA DEL SUR","SUR DE BOLÍVAR",13688,null,null,null,{"$f":"+IF(Calificación!F45=\"\",\"\",VLOOKUP(Calificación!F45,Listas!$AX$3:$AY$19,2,FALSE))","v":""},null,null,"5045Cultura","Antioquia",5045,"Apartadó",null,"Cultura",12,null,null,null,null,null,null,null,null,null,null,null,5490,"Eje Cafetero","Antioquia","Necoclí",22,"URABÁ ANTIOQUEÑO",8,8,8,6,4,"Veintidos","Necoclí",5490,false,5854,"VALDIVIA","BAJO CAUCA Y NORDESTE ANTIOQUENO",5854,"BajoCauca",null,"ARAUCA",81300,"FORTUL","ARAUCA","Muy Alto",80,1.2406592652597446,100]
[18205," ","Curillo","No tiene consejo","No tiene resguardo",0,null,null,null,null,"EBÉJICO",null,null,null,null,"TIQUISIO","GUAYATÁ",null,null,null,"TOTORÓ",null,null,null,"GUASCA",null,null,null,null,null,null,"OLAYA HERRERA",null,null,null,null,"GÜEPSA",null,"SAN LUIS","YUMBO",null,null,13744,"BOLÍVAR","SIMITÍ","BOLÍVARSIMITÍ","SUR DE BOLÍVAR",13744,null,null,null,{"$f":"+IF(Calificación!F46=\"\",\"\",VLOOKUP(Calificación!F46,Listas!$AX$3:$AY$19,2,FALSE))","v":""},null,null,"5045Transporte","Antioquia",5045,"Apartadó",null,"Transporte",13,null,null,null,null,null,null,null,null,null,null,null,5665,"Eje Cafetero","Antioquia","San Pedro de Uraba",22,"URABÁ ANTIOQUEÑO",8,8,8,6,4,"Veintidos","San Pedro de Uraba",5665,false,5895,"ZARAGOZA","BAJO CAUCA Y NORDESTE ANTIOQUENO",5895,"BajoCauca",null,"MACARENA GUAVIARE",95001,"SAN JOSÉ DEL GUAVIARE","GUAVIARE","Alto",60,0.41355308841991484,74.999999999999986]
[18247," ","El Doncello","No tiene consejo","No tiene resguardo",0,null,null,null,null,"EL BAGRE",null,null,null,null,"TURBACO","GÜICÁN DE LA SIERRA",null,null,null,"VILLA RICA",null,null,null,"GUATAQUÍ",null,null,null,null,null,null,"OSPINA",null,null,null,null,"HATO",null,"SANTA ISABEL","ZARZAL",null,null,18001,"CAQUETÁ","FLORENCIA","CAQUETÁFLORENCIA","CUENCA DEL CAGUÁN Y PIEDEMONTE CAQUETEÑO",18001,null,null,null,{"$f":"+IF(Calificación!F47=\"\",\"\",VLOOKUP(Calificación!F47,Listas!$AX$3:$AY$19,2,FALSE))","v":""},null,null,"5045Minas y Energía","Antioquia",5045,"Apartadó",null,"Minas y Energía",14,null,null,null,null,null,null,null,null,null,null,null,5837,"Eje Cafetero","Antioquia","Turbo",22,"URABÁ ANTIOQUEÑO",8,8,8,6,4,"Veintidos","Turbo",5837,false,54206,"CONVENCIÓN","CATATUMBO",54206,"CatatumboPDET",null,"CATATUMBO",54344,"HACARÍ","NORTE DE SANTANDER","Muy Alto",80,1.2406592652597446,100]
[18256," ","El Paujil","No tiene consejo","No tiene resguardo",0,null,null,null,null,"EL CARMEN DE VIBORAL",null,null,null,null,"TURBANÁ","IZA",null,null,null,null,null,null,null,"GUATAVITA",null,null,null,null,null,null,"PASTO",null,null,null,null,"JESÚS MARÍA",null,"SUÁREZ",null,null,null,18029,"CAQUETÁ","ALBANIA","CAQUETÁALBANIA","CUENCA DEL CAGUÁN Y PIEDEMONTE CAQUETEÑO",18029,null,null,null,{"$f":"+IF(Calificación!F48=\"\",\"\",VLOOKUP(Calificación!F48,Listas!$AX$3:$AY$19,2,FALSE))","v":""},null,null,"5107Desarrollo Económico","Antioquia",5107,"Briceño",null,"Desarrollo Económico",1,null,null,null,null,null,null,null,null,null,null,null,27205,"Pacífico","Chocó","Condoto",24,"CHOCÓ",3,14,3,3,2,"Venticuatro","Condoto",27205,false,54245,"EL CARMEN","CATATUMBO",54245,"CatatumboPDET",null,"SUR DE BOLÍVAR",13688,"SANTA ROSA DEL SUR","BOLÍVAR","Alto",60,0.41355308841991484,74.999999999999986]
[18410," ","La Montañita","No tiene consejo","No tiene resguardo",0,null,null,null,null,"EL SANTUARIO",null,null,null,null,"VILLANUEVA","JENESANO",null,null,null,null,null,null,null,"GUAYABAL DE SÍQUIMA",null,null,null,null,null,null,"POLICARPA",null,null,null,null,"JORDÁN",null,"VALLE DE SAN JUAN",null,null,null,18094,"CAQUETÁ","BELÉN DE LOS ANDAQUÍES","CAQUETÁBELÉN DE LOS ANDAQUÍES","CUENCA DEL CAGUÁN Y PIEDEMONTE CAQUETEÑO",18094,null,null,null,{"$f":"+IF(Calificación!F49=\"\",\"\",VLOOKUP(Calificación!F49,Listas!$AX$3:$AY$19,2,FALSE))","v":""},null,null,"5107Tecnologías de la Información y las Comunicaciones","Antioquia",5107,"Briceño",null,"Tecnologías de la Información y las Comunicaciones",2,null,null,null,null,null,null,null,null,null,null,null,27450,"Pacífico","Chocó","Medio San Juan",24,"CHOCÓ",3,14,3,3,2,"Venticuatro","Medio San Juan",27450,false,54250,"EL TARRA","CATATUMBO",54250,"CatatumboPDET",null,"SUR DE BOLÍVAR",13042,"ARENAL","BOLÍVAR","Alto",60,0.41355308841991484,74.999999999999986]
[18460," ","Milán","No tiene consejo","No tiene resguardo",0,null,null,null,null,"ENTRERRÍOS",null,null,null,null,"ZAMBRANO","JERICÓ",null,null,null,null,null,null,null,"GUAYABETAL",null,null,null,null,null,null,"POTOSÍ",null,null,null,null,"LA BELLEZA",null,"VENADILLO",null,null,null,18150,"CAQUETÁ","CARTAGENA DEL CHAIRÁ","CAQUETÁCARTAGENA DEL CHAIRÁ","CUENCA DEL CAGUÁN Y PIEDEMONTE CAQUETEÑO",18150,null,null,null,{"$f":"+IF(Calificación!F50=\"\",\"\",VLOOKUP(Calificación!F50,Listas!$AX$3:$AY$19,2,FALSE))","v":""},null,null,"5107Educación","Antioquia",5107,"Briceño",null,"Educación",3,null,null,null,null,null,null,null,null,null,null,null,27491,"Pacífico","Chocó","Nóvita",24,"CHOCÓ",3,14,3,3,2,"Venticuatro","Nóvita",27491,false,54344,"HACARÍ","CATATUMBO",54344,"CatatumboPDET",null,"ALTO PATÍA Y NORTE DEL CAUCA",19821,"TORIBIO","CAUCA","Medio",40,-0.41355308841991484,50]
[18479," ","Morelia","No tiene consejo","No tiene resguardo",0,null,null,null,null,"ENVIGADO",null,null,null,null,null,"LA CAPILLA",null,null,null,null,null,null,null,"GUTIÉRREZ",null,null,null,null,null,null,"PROVIDENCIA",null,null,null,null,"LA PAZ",null,"VILLAHERMOSA",null,null,null,18205,"CAQUETÁ","CURILLO","CAQUETÁCURILLO","CUENCA DEL CAGUÁN Y PIEDEMONTE CAQUETEÑO",18205,null,null,null,{"$f":"+IF(Calificación!F51=\"\",\"\",VLOOKUP(Calificación!F51,Listas!$AX$3:$AY$19,2,FALSE))","v":""},null,null,"5107Inclusión Social Y Reconciliación","Antioquia",5107,"Briceño",null,"Inclusión Social Y Reconciliación",4,null,null,null,null,null,null,null,null,null,null,null,86320,"Centro Sur","Putumayo","Orito",25,"PUTUMAYO",6,9,6,5,3,"Venticinco","Orito",86320,false,54670,"SAN CALIXTO","CATATUMBO",54670,"CatatumboPDET",null,"CHOCÓ",27745,"SIPÍ","CHOCÓ","Medio Bajo",20,-1.2406592652597446,25]
[18592," ","Puerto Rico","No tiene consejo","No tiene resguardo",0,null,null,null,null,"FREDONIA",null,null,null,null,null,"LA UVITA",null,null,null,null,null,null,null,"JERUSALÉN",null,null,null,null,null,null,"PUERRES",null,null,null,null,"LANDÁZURI",null,"VILLARRICA",null,null,null,18247,"CAQUETÁ","EL DONCELLO","CAQUETÁEL DONCELLO","CUENCA DEL CAGUÁN Y PIEDEMONTE CAQUETEÑO",18247,null,null,null,{"$f":"+IF(Calificación!F52=\"\",\"\",VLOOKUP(Calificación!F52,Listas!$AX$3:$AY$19,2,FALSE))","v":""},null,null,"5107Agricultura y desarrollo rural","Antioquia",5107,"Briceño",null,"Agricultura y desarrollo rural",5,null,null,null,null,null,null,null,null,null,null,null,86568,"Centro Sur","Putumayo","Puerto Asís",25,"PUTUMAYO",6,9,6,5,3,"Venticinco","Puerto Asís",86568,false,54720,"SARDINATA","CATATUMBO",54720,"CatatumboPDET",null,"CUENCA DEL CAGUÁN Y PIEDEMONTE CAQUETEÑO",18753,"SAN VICENTE DEL CAGUÁN","CAQUETÁ","Alto",60,0.41355308841991484,74.999999999999986]
[18610," ","San José del Fragua","No tiene consejo","No tiene resguardo",0,null,null,null,null,"FRONTINO",null,null,null,null,null,"LA VICTORIA",null,null,null,null,null,null,null,"JUNÍN",null,null,null,null,null,null,"PUPIALES",null,null,null,null,"LEBRIJA",null,null,null,null,null,18256,"CAQUETÁ","EL PAUJÍL","CAQUETÁEL PAUJÍL","CUENCA DEL CAGUÁN Y PIEDEMONTE CAQUETEÑO",18256,null,null,null,{"$f":"+IF(Calificación!F53=\"\",\"\",VLOOKUP(Calificación!F53,Listas!$AX$3:$AY$19,2,FALSE))","v":""},null,null,"5107Vivienda, Ciudad Y Territorio","Antioquia",5107,"Briceño",null,"Vivienda, Ciudad Y Territorio",6,null,null,null,null,null,null,null,null,null,null,null,86569,"Centro Sur","Putumayo","Puerto Caicedo",25,"PUTUMAYO",6,9,6,5,3,"Venticinco","Puerto Caicedo",86569,false,54800,"TEORAMA","CATATUMBO",54800,"CatatumboPDET",null,"ALTO PATÍA Y NORTE DEL CAUCA",19256,"EL TAMBO","CAUCA","Muy Alto",80,1.2406592652597446,100]
[18753," ","San Vicente del Caguán","No tiene consejo","No tiene resguardo",0,null,null,null,null,"GIRALDO",null,null,null,null,null,"LABRANZAGRANDE",null,null,null,null,null,null,null,"LA CALERA",null,null,null,null,null,null,"RICAURTE",null,null,null,null,"LOS SANTOS",null,null,null,null,null,18410,"CAQUETÁ","LA MONTAÑITA","CAQUETÁLA MONTAÑITA","CUENCA DEL CAGUÁN Y PIEDEMONTE CAQUETEÑO",18410,null,null,null,{"$f":"+IF(Calificación!F54=\"\",\"\",VLOOKUP(Calificación!F54,Listas!$AX$3:$AY$19,2,FALSE))","v":""},null,null,"5107Gobierno territorial","Antioquia",5107,"Briceño",null,"Gobierno territorial",7,null,null,null,null,null,null,null,null,null,null,null,86757,"Centro Sur","Putumayo","San Miguel",25,"PUTUMAYO",6,9,6,5,3,"Venticinco","San Miguel",86757,false,54810,"TIBÚ","CATATUMBO",54810,"CatatumboPDET",null,"MACARENA GUAVIARE",95200,"MIRAFLORES","GUAVIARE","Alto",60,0.41355308841991484,74.999999999999986]
[18756," ","Solano","No tiene consejo","No tiene resguardo",0,null,null,null,null,"GIRARDOTA",null,null,null,null,null,"MACANAL",null,null,null,null,null,null,null,"LA MESA",null,null,null,null,null,null,"ROBERTO PAYÁN",null,null,null,null,"MACARAVITA",null,null,null,null,null,18460,"CAQUETÁ","MILÁN","CAQUETÁMILÁN","CUENCA DEL CAGUÁN Y PIEDEMONTE CAQUETEÑO",18460,null,null,null,{"$f":"+IF(Calificación!F55=\"\",\"\",VLOOKUP(Calificación!F55,Listas!$AX$3:$AY$19,2,FALSE))","v":""},null,null,"5107Ambiente y Desarrollo Sostenible","Antioquia",5107,"Briceño",null,"Ambiente y Desarrollo Sostenible",8,null,null,null,null,null,null,null,null,null,null,null,86865,"Centro Sur","Putumayo","Valle del Guamuez",25,"PUTUMAYO",6,9,6,5,3,"Venticinco","Valle del Guamuez",86865,false,5475,"MURINDÓ","CHOCÓ",5475,"ChocoPDET",null,"BAJO CAUCA Y NORDESTE ANTIOQUEÑO",5790,"TARAZÁ","ANTIOQUIA","Muy Alto",80,1.2406592652597446,100]
[18785," ","Solita","No tiene consejo","No tiene resguardo",0,null,null,null,null,"GÓMEZ PLATA",null,null,null,null,null,"MARIPÍ",null,null,null,null,null,null,null,"LA PALMA",null,null,null,null,null,null,"SAMANIEGO",null,null,null,null,"MÁLAGA",null,null,null,null,null,18479,"CAQUETÁ","MORELIA","CAQUETÁMORELIA","CUENCA DEL CAGUÁN Y PIEDEMONTE CAQUETEÑO",18479,null,null,null,{"$f":"+IF(Calificación!F56=\"\",\"\",VLOOKUP(Calificación!F56,Listas!$AX$3:$AY$19,2,FALSE))","v":""},null,null,"5107Justicia y del Derecho","Antioquia",5107,"Briceño",null,"Justicia y del Derecho",9,null,null,null,null,null,null,null,null,null,null,null,86885,"Centro Sur","Putumayo","Villagarzón",25,"PUTUMAYO",6,9,6,5,3,"Venticinco","Villagarzón",86885,false,5873,"VIGÍA DEL FUERTE","CHOCÓ",5873,"ChocoPDET",null,"PUTUMAYO",86568,"PUERTO ASÍS","PUTUMAYO","Muy Alto",80,1.2406592652597446,100]
[18860," ","Valparaíso","No tiene consejo","No tiene resguardo",0,null,null,null,null,"GRANADA",null,null,null,null,null,"MIRAFLORES",null,null,null,null,null,null,null,"LA PEÑA",null,null,null,null,null,null,"SAN ANDRÉS DE TUMACO",null,null,null,null,"MATANZA",null,null,null,null,null,18592,"CAQUETÁ","PUERTO RICO","CAQUETÁPUERTO RICO","CUENCA DEL CAGUÁN Y PIEDEMONTE CAQUETEÑO",18592,null,null,null,{"$f":"+IF(Calificación!F57=\"\",\"\",VLOOKUP(Calificación!F57,Listas!$AX$3:$AY$19,2,FALSE))","v":""},null,null,"5107Deporte Y Recreación","Antioquia",5107,"Briceño",null,"Deporte Y Recreación",10,null,null,null,null,null,null,null,null,null,null,null,13042,"Caribe","Bolívar","Arenal",27,"SUR DE BOLÍVAR",1,7,{"$f":"ROUNDUP(AVERAGE(CA54,CB54),0)","v":4},3,2,"Ventisiete","Arenal",13042,false,27006,"ACANDÍ","CHOCÓ",27006,"ChocoPDET",null,"BAJO CAUCA Y NORDESTE ANTIOQUEÑO",5736,"SEGOVIA","ANTIOQUIA","Muy Alto",80,1.2406592652597446,100]
[19050," ","Argelia","No tiene consejo","No tiene resguardo",0,null,null,null,null,"GUADALUPE",null,null,null,null,null,"MONGUA",null,null,null,null,null,null,null,"LA VEGA",null,null,null,null,null,null,"SAN BERNARDO",null,null,null,null,"MOGOTES",null,null,null,null,null,18610,"CAQUETÁ","SAN JOSÉ DEL FRAGUA","CAQUETÁSAN JOSÉ DEL FRAGUA","CUENCA DEL CAGUÁN Y PIEDEMONTE CAQUETEÑO",18610,null,null,null,{"$f":"+IF(Calificación!F58=\"\",\"\",VLOOKUP(Calificación!F58,Listas!$AX$3:$AY$19,2,FALSE))","v":""},null,null,"5107Cultura","Antioquia",5107,"Briceño",null,"Cultura",11,null,null,null,null,null,null,null,null,null,null,null,50330,"Llano","Meta","Mesetas",31,"MACARENA - GUAVIARE",2,12,{"$f":"+MIN(CA55:CB55)","v":2},2,1,"Treintayuno","Mesetas",50330,false,27099,"BOJAYÁ","CHOCÓ",27099,"ChocoPDET",null,"BAJO CAUCA Y NORDESTE ANTIOQUEÑO",5250,"EL BAGRE","ANTIOQUIA","Alto",60,0.41355308841991484,74.999999999999986]
[19075," ","Balboa","Tiene consejo","No tiene resguardo",1,null,null,null,null,"GUARNE",null,null,null,null,null,"MONGUÍ",null,null,null,null,null,null,null,"LENGUAZAQUE",null,null,null,null,null,null,"SAN LORENZO",null,null,null,null,"MOLAGAVITA",null,null,null,null,null,18753,"CAQUETÁ","SAN VICENTE DEL CAGUÁN","CAQUETÁSAN VICENTE DEL CAGUÁN","CUENCA DEL CAGUÁN Y PIEDEMONTE CAQUETEÑO",18753,null,null,null,{"$f":"+IF(Calificación!F59=\"\",\"\",VLOOKUP(Calificación!F59,Listas!$AX$3:$AY$19,2,FALSE))","v":""},null,null,"5107Transporte","Antioquia",5107,"Briceño",null,"Transporte",12,null,null,null,null,null,null,null,null,null,null,null,50370,"Llano","Meta","Uribe",31,"MACARENA - GUAVIARE",2,12,2,2,1,"Treintayuno","Uribe",50370,false,27150,"CARMEN DEL DARIÉN","CHOCÓ",27150,"ChocoPDET",null,"MACARENA GUAVIARE",95015,"CALAMAR","GUAVIARE","Medio",40,-0.41355308841991484,50]
[19110," ","Buenos Aires","No tiene consejo","Tiene resguardo",1,null,null,null,null,"GUATAPÉ",null,null,null,null,null,"MONIQUIRÁ",null,null,null,null,null,null,null,"MACHETÁ",null,null,null,null,null,null,"SAN PABLO",null,null,null,null,"OCAMONTE",null,null,null,null,null,18756,"CAQUETÁ","SOLANO","CAQUETÁSOLANO","CUENCA DEL CAGUÁN Y PIEDEMONTE CAQUETEÑO",18756,null,null,null,{"$f":"+IF(Calificación!F60=\"\",\"\",VLOOKUP(Calificación!F60,Listas!$AX$3:$AY$19,2,FALSE))","v":""},null,null,"5107Salud y Protección social","Antioquia",5107,"Briceño",null,"Salud y Protección social",13,null,null,null,null,null,null,null,null,null,null,null,86001,"Centro Sur","Putumayo","Mocoa",32,"PUTUMAYO",3,9,3,3,2,"Treintaydos","Mocoa",86001,false,27205,"CONDOTO","CHOCÓ",27205,"ChocoPDET",null,"CATATUMBO",54810,"TIBÚ","NORTE DE SANTANDER","Muy Alto",80,1.2406592652597446,100]
[19130," ","Cajibío","Tiene consejo","Tiene resguardo",1,null,null,null,null,"HELICONIA",null,null,null,null,null,"MOTAVITA",null,null,null,null,null,null,null,"MADRID",null,null,null,null,null,null,"SAN PEDRO DE CARTAGO",null,null,null,null,"OIBA",null,null,null,null,null,18785,"CAQUETÁ","SOLITA","CAQUETÁSOLITA","CUENCA DEL CAGUÁN Y PIEDEMONTE CAQUETEÑO",18785,null,null,null,{"$f":"+IF(Calificación!F61=\"\",\"\",VLOOKUP(Calificación!F61,Listas!$AX$3:$AY$19,2,FALSE))","v":""},null,null,"5107Minas y Energía","Antioquia",5107,"Briceño",null,"Minas y Energía",14,null,null,null,null,null,null,null,null,null,null,null,86571,"Centro Sur","Putumayo","Puerto Guzmán",32,"PUTUMAYO",3,9,3,3,2,"Treintaydos","Puerto Guzmán",86571,false,27250,"EL LITORAL DEL SAN JUAN","CHOCÓ",27250,"ChocoPDET",null,"PUTUMAYO",86757,"SAN MIGUEL","PUTUMAYO","Muy Alto",80,1.2406592652597446,100]
[19137," ","Caldono","No tiene consejo","Tiene resguardo",1,null,null,null,null,"HISPANIA",null,null,null,null,null,"MUZO",null,null,null,null,null,null,null,"MANTA",null,null,null,null,null,null,"SANDONÁ",null,null,null,null,"ONZAGA",null,null,null,null,null,18860,"CAQUETÁ","VALPARAÍSO","CAQUETÁVALPARAÍSO","CUENCA DEL CAGUÁN Y PIEDEMONTE CAQUETEÑO",18860,null,null,null,{"$f":"+IF(Calificación!F62=\"\",\"\",VLOOKUP(Calificación!F62,Listas!$AX$3:$AY$19,2,FALSE))","v":""},null,null,"5120Tecnologías de la Información y las Comunicaciones","Antioquia",5120,"Cáceres",null,"Tecnologías de la Información y las Comunicaciones",1,null,null,null,null,null,null,null,null,null,null,null,86573,"Centro Sur","Putumayo","Leguízamo",32,"PUTUMAYO",3,9,3,3,2,"Treintaydos","Leguízamo",86573,false,27361,"ISTMINA","CHOCÓ",27361,"ChocoPDET",null,"BAJO CAUCA Y NORDESTE ANTIOQUEÑO",5120,"CÁCERES","ANTIOQUIA","Muy Alto",80,1.2406592652597446,100]
[19142," ","Caloto","Tiene consejo","Tiene resguardo",1,null,null,null,null,"ITAGÜÍ",null,null,null,null,null,"NOBSA",null,null,null,null,null,null,null,"MEDINA",null,null,null,null,null,null,"SANTA BÁRBARA",null,null,null,null,"PALMAR",null,null,null,null,null,19050,"CAUCA","ARGELIA","CAUCAARGELIA","ALTO PATÍA - NORTE DEL CAUCA",19050,null,null,null,{"$f":"+IF(Calificación!F63=\"\",\"\",VLOOKUP(Calificación!F63,Listas!$AX$3:$AY$19,2,FALSE))","v":""},null,null,"5120Vivienda, Ciudad Y Territorio","Antioquia",5120,"Cáceres",null,"Vivienda, Ciudad Y Territorio",2,null,null,null,null,null,null,null,null,null,null,null,5250,"Eje Cafetero","Antioquia","El Bagre",33,"BAJO CAUCA Y NORDESTE ANTIOQUENO",5,13,5,4,3,"Treintaytres","El Bagre",5250,false,27425,"MEDIO ATRATO","CHOCÓ",27425,"ChocoPDET",null,"CUENCA DEL CAGUÁN Y PIEDEMONTE CAQUETEÑO",41020,"ALGECIRAS","HUILA","Muy Alto",80,1.2406592652597446,100]
[19212," ","Corinto","No tiene consejo","No tiene resguardo",0,null,null,null,null,"ITUANGO",null,null,null,null,null,"NUEVO COLÓN",null,null,null,null,null,null,null,"MOSQUERA",null,null,null,null,null,null,"SANTACRUZ",null,null,null,null,"PALMAS DEL SOCORRO",null,null,null,null,null,19075,"CAUCA","BALBOA","CAUCABALBOA","ALTO PATÍA - NORTE DEL CAUCA",19075,null,null,null,{"$f":"+IF(Calificación!F64=\"\",\"\",VLOOKUP(Calificación!F64,Listas!$AX$3:$AY$19,2,FALSE))","v":""},null,null,"5120Desarrollo Económico","Antioquia",5120,"Cáceres",null,"Desarrollo Económico",3,null,null,null,null,null,null,null,null,null,null,null,5604,"Eje Cafetero","Antioquia","Remedios",33,"BAJO CAUCA Y NORDESTE ANTIOQUENO",5,13,5,4,3,"Treintaytres","Remedios",5604,false,27450,"MEDIO SAN JUAN","CHOCÓ",27450,"ChocoPDET",null,"URABÁ ANTIOQUEÑO",5480,"MUTATÁ","ANTIOQUIA","Alto",60,0.41355308841991484,74.999999999999986]
[19256," ","El Tambo","Tiene consejo","No tiene resguardo",1,null,null,null,null,"JARDÍN",null,null,null,null,null,"OICATÁ",null,null,null,null,null,null,null,"NARIÑO",null,null,null,null,null,null,"SAPUYES",null,null,null,null,"PÁRAMO",null,null,null,null,null,19110,"CAUCA","BUENOS AIRES","CAUCABUENOS AIRES","ALTO PATÍA - NORTE DEL CAUCA",19110,null,null,null,{"$f":"+IF(Calificación!F65=\"\",\"\",VLOOKUP(Calificación!F65,Listas!$AX$3:$AY$19,2,FALSE))","v":""},null,null,"5120Educación","Antioquia",5120,"Cáceres",null,"Educación",4,null,null,null,null,null,null,null,null,null,null,null,13473,"Caribe","Bolívar","Morales",33,"SUR DE BOLÍVAR",5,7,5,4,3,"Treintaytres","Morales",13473,false,27491,"NÓVITA","CHOCÓ",27491,"ChocoPDET",null,"PACÍFICO MEDIO",19809,"TIMBIQUÍ","CAUCA","Alto",60,0.41355308841991484,74.999999999999986]
[19318," ","Guapi","Tiene consejo","Tiene resguardo",1,null,null,null,null,"JERICÓ",null,null,null,null,null,"OTANCHE",null,null,null,null,null,null,null,"NEMOCÓN",null,null,null,null,null,null,"TAMINANGO",null,null,null,null,"PIEDECUESTA",null,null,null,null,null,19130,"CAUCA","CAJIBÍO","CAUCACAJIBÍO","ALTO PATÍA - NORTE DEL CAUCA",19130,null,null,null,{"$f":"+IF(Calificación!F66=\"\",\"\",VLOOKUP(Calificación!F66,Listas!$AX$3:$AY$19,2,FALSE))","v":""},null,null,"5120Inclusión Social Y Reconciliación","Antioquia",5120,"Cáceres",null,"Inclusión Social Y Reconciliación",5,null,null,null,null,null,null,null,null,null,null,null,13670,"Caribe","Bolívar","San Pablo",33,"SUR DE BOLÍVAR",5,7,5,4,3,"Treintaytres","San Pablo",13670,false,27615,"RIOSUCIO","CHOCÓ",27615,"ChocoPDET",null,"BAJO CAUCA Y NORDESTE ANTIOQUEÑO",5895,"ZARAGOZA","ANTIOQUIA","Alto",60,0.41355308841991484,74.999999999999986]
[19364," ","Jambaló","No tiene consejo","Tiene resguardo",1,null,null,null,null,"LA CEJA",null,null,null,null,null,"PACHAVITA",null,null,null,null,null,null,null,"NILO",null,null,null,null,null,null,"TANGUA",null,null,null,null,"PINCHOTE",null,null,null,null,null,19137,"CAUCA","CALDONO","CAUCACALDONO","ALTO PATÍA - NORTE DEL CAUCA",19137,null,null,null,{"$f":"+IF(Calificación!F67=\"\",\"\",VLOOKUP(Calificación!F67,Listas!$AX$3:$AY$19,2,FALSE))","v":""},null,null,"5120Agricultura y desarrollo rural","Antioquia",5120,"Cáceres",null,"Agricultura y desarrollo rural",6,null,null,null,null,null,null,null,null,null,null,null,13688,"Caribe","Bolívar","Santa Rosa del Sur",33,"SUR DE BOLÍVAR",5,7,5,4,3,"Treintaytres","Santa Rosa del Sur",13688,false,27745,"SIPÍ","CHOCÓ",27745,"ChocoPDET",null,"CATATUMBO",54720,"SARDINATA","NORTE DE SANTANDER","Muy Alto",80,1.2406592652597446,100]
[19418," ","López","Tiene consejo","No tiene resguardo",1,null,null,null,null,"LA ESTRELLA",null,null,null,null,null,"PÁEZ",null,null,null,null,null,null,null,"NIMAIMA",null,null,null,null,null,null,"TÚQUERRES",null,null,null,null,"PUENTE NACIONAL",null,null,null,null,null,19142,"CAUCA","CALOTO","CAUCACALOTO","ALTO PATÍA - NORTE DEL CAUCA",19142,null,null,null,{"$f":"+IF(Calificación!F68=\"\",\"\",VLOOKUP(Calificación!F68,Listas!$AX$3:$AY$19,2,FALSE))","v":""},null,null,"5120Gobierno territorial","Antioquia",5120,"Cáceres",null,"Gobierno territorial",7,null,null,null,null,null,null,null,null,null,null,null,13244,"Caribe","Bolívar","El Carmen de Bolívar",34,"MONTES DE MARÍA",3,15,3,3,2,"Treintaycuatro","El Carmen de Bolívar",13244,false,27800,"UNGUÍA","CHOCÓ",27800,"ChocoPDET",null,"MONTES DE MARÍA",70713,"SAN ONOFRE","SUCRE","Medio",40,-0.41355308841991484,50]
[19450," ","Mercaderes","Tiene consejo","No tiene resguardo",1,null,null,null,null,"LA PINTADA",null,null,null,null,null,"PAIPA",null,null,null,null,null,null,null,"NOCAIMA",null,null,null,null,null,null,"YACUANQUER",null,null,null,null,"PUERTO PARRA",null,null,null,null,null,19212,"CAUCA","CORINTO","CAUCACORINTO","ALTO PATÍA - NORTE DEL CAUCA",19212,null,null,null,{"$f":"+IF(Calificación!F69=\"\",\"\",VLOOKUP(Calificación!F69,Listas!$AX$3:$AY$19,2,FALSE))","v":""},null,null,"5120Justicia y del Derecho","Antioquia",5120,"Cáceres",null,"Justicia y del Derecho",8,null,null,null,null,null,null,null,null,null,null,null,13442,"Caribe","Bolívar","María La Baja",34,"MONTES DE MARÍA",{"$f":"+COUNTIF($BY$4:$BY$171,BY66)","v":3},{"$f":"+IF(BZ66=\"No es PDET\",9999999999999,COUNTIF($BZ$4:$BZ$171,BZ66))","v":15},3,3,2,"Treintaycuatro","María La Baja",13442,false,18001,"FLORENCIA","CUENCA DEL CAGUÁN Y PIEDEMONTE CAQUETEÑO",18001,"Cuenca",null,"ARAUCA",81065,"ARAUQUITA","ARAUCA","Alto",60,0.41355308841991484,74.999999999999986]
[19455," ","Miranda","No tiene consejo","No tiene resguardo",0,null,null,null,null,"LA UNIÓN",null,null,null,null,null,"PAJARITO",null,null,null,null,null,null,null,"PACHO",null,null,null,null,null,null,null,null,null,null,null,"PUERTO WILCHES",null,null,null,null,null,19256,"CAUCA","EL TAMBO","CAUCAEL TAMBO","ALTO PATÍA - NORTE DEL CAUCA",19256,null,null,null,{"$f":"+IF(Calificación!F70=\"\",\"\",VLOOKUP(Calificación!F70,Listas!$AX$3:$AY$19,2,FALSE))","v":""},null,null,"5120Ambiente y Desarrollo Sostenible","Antioquia",5120,"Cáceres",null,"Ambiente y Desarrollo Sostenible",9,null,null,null,null,null,null,null,null,null,null,null,13894,"Caribe","Bolívar","Zambrano",34,"MONTES DE MARÍA",3,15,3,3,2,"Treintaycuatro","Zambrano",13894,false,18029,"ALBANIA","CUENCA DEL CAGUÁN Y PIEDEMONTE CAQUETEÑO",18029,"Cuenca",null,"ALTO PATÍA Y NORTE DEL CAUCA",19455,"MIRANDA","CAUCA","Muy Alto",80,1.2406592652597446,100]
[19473," ","Morales","No tiene consejo","No tiene resguardo",0,null,null,null,null,"LIBORINA",null,null,null,null,null,"PANQUEBA",null,null,null,null,null,null,null,"PAIME",null,null,null,null,null,null,null,null,null,null,null,"RIONEGRO",null,null,null,null,null,19364,"CAUCA","JAMBALÓ",{"$f":"+AR68&AS68","v":"CAUCAJAMBALÓ"},"ALTO PATÍA - NORTE DEL CAUCA",19364,null,null,null,{"$f":"+IF(Calificación!F71=\"\",\"\",VLOOKUP(Calificación!F71,Listas!$AX$3:$AY$19,2,FALSE))","v":""},null,null,{"$f":"+BE68&BH68","v":"5120Salud y Protección social"},"Antioquia",5120,"Cáceres",null,"Salud y Protección social",10,null,null,null,null,null,null,null,null,null,null,null,50590,"Llano","Meta","Puerto Rico",37,"MACARENA - GUAVIARE",6,12,6,{"$f":"+ROUNDUP(CC68*$CD$1,0)","v":5},{"$f":"ROUNDUP(CC68*$CE$1,0)","v":3},"Treintaysiete","Puerto Rico",50590,{"$f":"+CB68<CA68","v":false},18094,"BELÉN DE LOS ANDAQUÍES","CUENCA DEL CAGUÁN Y PIEDEMONTE CAQUETEÑO",18094,"Cuenca",null,"CUENCA DEL CAGUÁN Y PIEDEMONTE CAQUETEÑO",18150,"CARTAGENA DEL CHAIRÁ","CAQUETÁ","Alto",{"$f":"+VLOOKUP(CT68,$CY$3:$CZ$7,2,FALSE)","v":60},{"$f":"+(CU68-AVERAGE(CU$3:CU$172))/STDEVP(CU$3:CU$172)","v":0.41355308841991484},{"$f":"(+(CV68-MIN(CV$3:CV$172))/(MAX(CV$3:CV$172)-MIN(CV$3:CV$172)))*100","v":74.999999999999986}]
[19532," ","Patía","Tiene consejo","No tiene resguardo",1,null,null,null,null,"MACEO",null,null,null,null,null,"PAUNA",null,null,null,null,null,null,null,"PANDI",null,null,null,null,null,null,null,null,null,null,null,"SABANA DE TORRES",null,null,null,null,null,19450,"CAUCA","MERCADERES","CAUCAMERCADERES","ALTO PATÍA - NORTE DEL CAUCA",19450,null,null,null,{"$f":"+IF(Calificación!F72=\"\",\"\",VLOOKUP(Calificación!F72,Listas!$AX$3:$AY$19,2,FALSE))","v":""},null,null,"5120Deporte Y Recreación","Antioquia",5120,"Cáceres",null,"Deporte Y Recreación",11,null,null,null,null,null,null,null,null,null,null,null,50325,"Llano","Meta","Mapiripán",37,"MACARENA - GUAVIARE",6,12,6,5,3,"Treintaysiete","Mapiripán",50325,false,18150,"CARTAGENA DEL CHAIRÁ","CUENCA DEL CAGUÁN Y PIEDEMONTE CAQUETEÑO",18150,"Cuenca",null,"CUENCA DEL CAGUÁN Y PIEDEMONTE CAQUETEÑO",18610,"SAN JOSÉ DEL FRAGUA","CAQUETÁ","Muy Alto",80,1.2406592652597446,100]
[19548," ","Piendamó","No tiene consejo","No tiene resguardo",0,null,null,null,null,"MARINILLA",null,null,null,null,null,"PAYA",null,null,null,null,null,null,null,"PARATEBUENO",null,null,null,null,null,null,null,null,null,null,null,"SAN ANDRÉS",null,null,null,null,null,19455,"CAUCA","MIRANDA","CAUCAMIRANDA","ALTO PATÍA - NORTE DEL CAUCA",19455,null,null,null,{"$f":"+IF(Calificación!F73=\"\",\"\",VLOOKUP(Calificación!F73,Listas!$AX$3:$AY$19,2,FALSE))","v":""},null,null,"5120Cultura","Antioquia",5120,"Cáceres",null,"Cultura",12,null,null,null,null,null,null,null,null,null,null,null,50450,"Llano","Meta","Puerto Concordia",37,"MACARENA - GUAVIARE",6,12,6,5,3,"Treintaysiete","Puerto Concordia",50450,false,18205,"CURILLO","CUENCA DEL CAGUÁN Y PIEDEMONTE CAQUETEÑO",18205,"Cuenca",null,"ALTO PATÍA Y NORTE DEL CAUCA",52405,"LEIVA","NARIÑO","Muy Alto",80,1.2406592652597446,100]
[19698," ","Santander de Quilichao","No tiene consejo","No tiene resguardo",0,null,null,null,null,"MEDELLÍN",null,null,null,null,null,"PAZ DE RÍO",null,null,null,null,null,null,null,"PASCA",null,null,null,null,null,null,null,null,null,null,null,"SAN BENITO",null,null,null,null,null,19473,"CAUCA","MORALES","CAUCAMORALES","ALTO PATÍA - NORTE DEL CAUCA",19473,null,null,null,{"$f":"+IF(Calificación!F74=\"\",\"\",VLOOKUP(Calificación!F74,Listas!$AX$3:$AY$19,2,FALSE))","v":""},null,null,"5120Transporte","Antioquia",5120,"Cáceres",null,"Transporte",13,null,null,null,null,null,null,null,null,null,null,null,50577,"Llano","Meta","Puerto Lleras",37,"MACARENA - GUAVIARE",6,12,6,5,3,"Treintaysiete","Puerto Lleras",50577,false,18247,"EL DONCELLO","CUENCA DEL CAGUÁN Y PIEDEMONTE CAQUETEÑO",18247,"Cuenca",null,"SUR DEL TOLIMA",73555,"PLANADAS","TOLIMA","Medio",40,-0.41355308841991484,50]
[19780," ","Suárez","Tiene consejo","No tiene resguardo",1,null,null,null,null,"MONTEBELLO",null,null,null,null,null,"PESCA",null,null,null,null,null,null,null,"PUERTO SALGAR",null,null,null,null,null,null,null,null,null,null,null,"SAN GIL",null,null,null,null,null,19532,"CAUCA","PATÍA","CAUCAPATÍA","ALTO PATÍA - NORTE DEL CAUCA",19532,null,null,null,{"$f":"+IF(Calificación!F75=\"\",\"\",VLOOKUP(Calificación!F75,Listas!$AX$3:$AY$19,2,FALSE))","v":""},null,null,"5120Minas y Energía","Antioquia",5120,"Cáceres",null,"Minas y Energía",14,null,null,null,null,null,null,null,null,null,null,null,50711,"Llano","Meta","Vistahermosa",37,"MACARENA - GUAVIARE",6,12,6,5,3,"Treintaysiete","Vistahermosa",50711,false,18256,"EL PAUJÍL","CUENCA DEL CAGUÁN Y PIEDEMONTE CAQUETEÑO",18256,"Cuenca",null,"PUTUMAYO",86573,"LEGUÍZAMO","PUTUMAYO","Alto",60,0.41355308841991484,74.999999999999986]
[19809," ","Timbiquí","Tiene consejo","No tiene resguardo",1,null,null,null,null,"MURINDÓ",null,null,null,null,null,"PISBA",null,null,null,null,null,null,null,"PULÍ",null,null,null,null,null,null,null,null,null,null,null,"SAN JOAQUÍN",null,null,null,null,null,19548,"CAUCA","PIENDAMÓ - TUNÍA","CAUCAPIENDAMÓ - TUNÍA","ALTO PATÍA - NORTE DEL CAUCA",19548,null,null,null,{"$f":"+IF(Calificación!F76=\"\",\"\",VLOOKUP(Calificación!F76,Listas!$AX$3:$AY$19,2,FALSE))","v":""},null,null,"5147Desarrollo Económico","Antioquia",5147,"Carepa",null,"Desarrollo Económico",1,null,null,null,null,null,null,null,null,null,null,null,95001,"Llano","Guaviare","San José del Guaviare",37,"MACARENA - GUAVIARE",6,12,6,5,3,"Treintaysiete","San José del Guaviare",95001,false,18410,"LA MONTAÑITA","CUENCA DEL CAGUÁN Y PIEDEMONTE CAQUETEÑO",18410,"Cuenca",null,"SUR DE CÓRDOBA",23580,"PUERTO LIBERTADOR","CÓRDOBA","Alto",60,0.41355308841991484,74.999999999999986]
[19821," ","Toribio","No tiene consejo","No tiene resguardo",0,null,null,null,null,"MUTATÁ",null,null,null,null,null,"PUERTO BOYACÁ",null,null,null,null,null,null,null,"QUEBRADANEGRA",null,null,null,null,null,null,null,null,null,null,null,"SAN JOSÉ DE MIRANDA",null,null,null,null,null,19698,"CAUCA","SANTANDER DE QUILICHAO","CAUCASANTANDER DE QUILICHAO","ALTO PATÍA - NORTE DEL CAUCA",19698,null,null,null,{"$f":"+IF(Calificación!F77=\"\",\"\",VLOOKUP(Calificación!F77,Listas!$AX$3:$AY$19,2,FALSE))","v":""},null,null,"5147Tecnologías de la Información y las Comunicaciones","Antioquia",5147,"Carepa",null,"Tecnologías de la Información y las Comunicaciones",2,null,null,null,null,null,null,null,null,null,null,null,52233,"Pacífico","Nariño","Cumbitara",38,"ALTO PATÍA - NORTE DEL CAUCA",4,23,4,3,2,"Treintayocho","Cumbitara",52233,false,18460,"MILÁN","CUENCA DEL CAGUÁN Y PIEDEMONTE CAQUETEÑO",18460,"Cuenca",null,"SIERRA NEVADA-PERIJÁ-ZONA BANANERA",20001,"VALLEDUPAR","CESAR","Medio Bajo",20,-1.2406592652597446,25]
[20001," ","Valledupar","No tiene consejo","No tiene resguardo",0,null,null,null,null,"NARIÑO",null,null,null,null,null,"QUÍPAMA",null,null,null,null,null,null,null,"QUETAME",null,null,null,null,null,null,null,null,null,null,null,"SAN MIGUEL",null,null,null,null,null,19780,"CAUCA","SUÁREZ","CAUCASUÁREZ","ALTO PATÍA - NORTE DEL CAUCA",19780,null,null,null,{"$f":"+IF(Calificación!F78=\"\",\"\",VLOOKUP(Calificación!F78,Listas!$AX$3:$AY$19,2,FALSE))","v":""},null,null,"5147Educación","Antioquia",5147,"Carepa",null,"Educación",3,null,null,null,null,null,null,null,null,null,null,null,52256,"Pacífico","Nariño","El Rosario",38,"ALTO PATÍA - NORTE DEL CAUCA",4,23,4,3,2,"Treintayocho","El Rosario",52256,false,18479,"MORELIA","CUENCA DEL CAGUÁN Y PIEDEMONTE CAQUETEÑO",18479,"Cuenca",null,"MONTES DE MARÍA",70508,"OVEJAS","SUCRE","Alto",60,0.41355308841991484,74.999999999999986]
[20013," ","Agustín Codazzi","No tiene consejo","Tiene resguardo",1,null,null,null,null,"NECHÍ",null,null,null,null,null,"RAMIRIQUÍ",null,null,null,null,null,null,null,"QUIPILE",null,null,null,null,null,null,null,null,null,null,null,"SAN VICENTE DE CHUCURÍ",null,null,null,null,null,19821,"CAUCA","TORIBÍO","CAUCATORIBÍO","ALTO PATÍA - NORTE DEL CAUCA",19821,null,null,null,{"$f":"+IF(Calificación!F79=\"\",\"\",VLOOKUP(Calificación!F79,Listas!$AX$3:$AY$19,2,FALSE))","v":""},null,null,"5147Agricultura y desarrollo rural","Antioquia",5147,"Carepa",null,"Agricultura y desarrollo rural",4,null,null,null,null,null,null,null,null,null,null,null,52418,"Pacífico","Nariño","Los Andes",38,"ALTO PATÍA - NORTE DEL CAUCA",4,23,4,3,2,"Treintayocho","Los Andes",52418,false,18592,"PUERTO RICO","CUENCA DEL CAGUÁN Y PIEDEMONTE CAQUETEÑO",18592,"Cuenca",null,"CHOCÓ",5873,"VIGÍA DEL FUERTE","ANTIOQUIA","Medio Bajo",20,-1.2406592652597446,25]
[20045," ","Becerril","No tiene consejo","Tiene resguardo",1,null,null,null,null,"NECOCLÍ",null,null,null,null,null,"RÁQUIRA",null,null,null,null,null,null,null,"RICAURTE",null,null,null,null,null,null,null,null,null,null,null,"SANTA BÁRBARA",null,null,null,null,null,19318,"CAUCA","GUAPI","CAUCAGUAPI","PACÍFICO MEDIO",19318,null,null,null,{"$f":"+IF(Calificación!F80=\"\",\"\",VLOOKUP(Calificación!F80,Listas!$AX$3:$AY$19,2,FALSE))","v":""},null,null,"5147Vivienda, Ciudad Y Territorio","Antioquia",5147,"Carepa",null,"Vivienda, Ciudad Y Territorio",5,null,null,null,null,null,null,null,null,null,null,null,52540,"Pacífico","Nariño","Policarpa",38,"ALTO PATÍA - NORTE DEL CAUCA",4,23,4,3,2,"Treintayocho","Policarpa",52540,false,18610,"SAN JOSÉ DEL FRAGUA","CUENCA DEL CAGUÁN Y PIEDEMONTE CAQUETEÑO",18610,"Cuenca",null,"PACÍFICO MEDIO",19318,"GUAPI","CAUCA","Alto",60,0.41355308841991484,74.999999999999986]
[20400," ","La Jagua de Ibirico","No tiene consejo","No tiene resguardo",0,null,null,null,null,"OLAYA",null,null,null,null,null,"RONDÓN",null,null,null,null,null,null,null,"SAN ANTONIO DEL TEQUENDAMA",null,null,null,null,null,null,null,null,null,null,null,"SANTA HELENA DEL OPÓN",null,null,null,null,null,19418,"CAUCA","LÓPEZ DE MICAY","CAUCALÓPEZ DE MICAY","PACÍFICO MEDIO",19418,null,null,null,{"$f":"+IF(Calificación!F81=\"\",\"\",VLOOKUP(Calificación!F81,Listas!$AX$3:$AY$19,2,FALSE))","v":""},null,null,"5147Inclusión Social Y Reconciliación","Antioquia",5147,"Carepa",null,"Inclusión Social Y Reconciliación",6,null,null,null,null,null,null,null,null,null,null,null,81065,"Llano","Arauca","Arauquita",39,"ARAUCA",4,4,4,3,2,"Treintaunueve","Arauquita",81065,false,18753,"SAN VICENTE DEL CAGUÁN","CUENCA DEL CAGUÁN Y PIEDEMONTE CAQUETEÑO",18753,"Cuenca",null,"ARAUCA",81794,"TAME","ARAUCA","Alto",60,0.41355308841991484,74.999999999999986]
[20443," ","Manaure","No tiene consejo","No tiene resguardo",0,null,null,null,null,"PEÑOL",null,null,null,null,null,"SABOYÁ",null,null,null,null,null,null,null,"SAN BERNARDO",null,null,null,null,null,null,null,null,null,null,null,"SIMACOTA",null,null,null,null,null,19809,"CAUCA","TIMBIQUÍ","CAUCATIMBIQUÍ","PACÍFICO MEDIO",19809,null,null,null,{"$f":"+IF(Calificación!F82=\"\",\"\",VLOOKUP(Calificación!F82,Listas!$AX$3:$AY$19,2,FALSE))","v":""},null,null,"5147Gobierno territorial","Antioquia",5147,"Carepa",null,"Gobierno territorial",7,null,null,null,null,null,null,null,null,null,null,null,81300,"Llano","Arauca","Fortul",39,"ARAUCA",4,4,4,3,2,"Treintaunueve","Fortul",81300,false,18756,"SOLANO","CUENCA DEL CAGUÁN Y PIEDEMONTE CAQUETEÑO",18756,"Cuenca",null,"SIERRA NEVADA-PERIJÁ-ZONA BANANERA",47001,"SANTA MARTA","MAGDALENA","Medio Bajo",20,-1.2406592652597446,25]
[20570," ","Pueblo Bello","No tiene consejo","No tiene resguardo",0,null,null,null,null,"PEQUE",null,null,null,null,null,"SÁCHICA",null,null,null,null,null,null,null,"SAN CAYETANO",null,null,null,null,null,null,null,null,null,null,null,"SOCORRO",null,null,null,null,null,20001,"CESAR","VALLEDUPAR","CESARVALLEDUPAR","SIERRA NEVADA - PERIJÁ",20001,null,null,null,{"$f":"+IF(Calificación!F83=\"\",\"\",VLOOKUP(Calificación!F83,Listas!$AX$3:$AY$19,2,FALSE))","v":""},null,null,"5147Justicia y del Derecho","Antioquia",5147,"Carepa",null,"Justicia y del Derecho",8,null,null,null,null,null,null,null,null,null,null,null,81736,"Llano","Arauca","Saravena",39,"ARAUCA",4,4,4,3,2,"Treintaunueve","Saravena",81736,false,18785,"SOLITA","CUENCA DEL CAGUÁN Y PIEDEMONTE CAQUETEÑO",18785,"Cuenca",null,"ALTO PATÍA Y NORTE DEL CAUCA",19364,"JAMBALÓ","CAUCA","Medio",40,-0.41355308841991484,50]
[20621," ","La Paz","No tiene consejo","No tiene resguardo",0,null,null,null,null,"PUEBLORRICO",null,null,null,null,null,"SAMACÁ",null,null,null,null,null,null,null,"SAN FRANCISCO",null,null,null,null,null,null,null,null,null,null,null,"SUAITA",null,null,null,null,null,20013,"CESAR","AGUSTÍN CODAZZI","CESARAGUSTÍN CODAZZI","SIERRA NEVADA - PERIJÁ",20013,null,null,null,{"$f":"+IF(Calificación!F84=\"\",\"\",VLOOKUP(Calificación!F84,Listas!$AX$3:$AY$19,2,FALSE))","v":""},null,null,"5147Deporte Y Recreación","Antioquia",5147,"Carepa",null,"Deporte Y Recreación",9,null,null,null,null,null,null,null,null,null,null,null,81794,"Llano","Arauca","Tame",39,"ARAUCA",4,4,4,3,2,"Treintaunueve","Tame",81794,false,18860,"VALPARAÍSO","CUENCA DEL CAGUÁN Y PIEDEMONTE CAQUETEÑO",18860,"Cuenca",null,"CUENCA DEL CAGUÁN Y PIEDEMONTE CAQUETEÑO",18592,"PUERTO RICO","CAQUETÁ","Alto",60,0.41355308841991484,74.999999999999986]
[20750," ","San Diego","No tiene consejo","No tiene resguardo",0,null,null,null,null,"PUERTO BERRÍO",null,null,null,null,null,"SAN EDUARDO",null,null,null,null,null,null,null,"SAN JUAN DE RIOSECO",null,null,null,null,null,null,null,null,null,null,null,"SUCRE",null,null,null,null,null,20045,"CESAR","BECERRIL","CESARBECERRIL","SIERRA NEVADA - PERIJÁ",20045,null,null,null,{"$f":"+IF(Calificación!F85=\"\",\"\",VLOOKUP(Calificación!F85,Listas!$AX$3:$AY$19,2,FALSE))","v":""},null,null,"5147Cultura","Antioquia",5147,"Carepa",null,"Cultura",10,null,null,null,null,null,null,null,null,null,null,null,5040,"Eje Cafetero","Antioquia","Anorí",42,"BAJO CAUCA Y NORDESTE ANTIOQUENO",5,13,5,4,3,"Cuarentaydos","Anorí",5040,false,41020,"ALGECIRAS","CUENCA DEL CAGUÁN Y PIEDEMONTE CAQUETEÑO",41020,"Cuenca",null,"SIERRA NEVADA-PERIJÁ-ZONA BANANERA",44090,"DIBULLA","LA GUAJIRA","Medio Bajo",20,-1.2406592652597446,25]
[23466," ","Montelíbano","No tiene consejo","No tiene resguardo",0,null,null,null,null,"PUERTO NARE",null,null,null,null,null,"SAN JOSÉ DE PARE",null,null,null,null,null,null,null,"SASAIMA",null,null,null,null,null,null,null,null,null,null,null,"SURATÁ",null,null,null,null,null,20400,"CESAR","LA JAGUA DE IBIRICO","CESARLA JAGUA DE IBIRICO","SIERRA NEVADA - PERIJÁ",20400,null,null,null,{"$f":"+IF(Calificación!F86=\"\",\"\",VLOOKUP(Calificación!F86,Listas!$AX$3:$AY$19,2,FALSE))","v":""},null,null,"5147Ambiente y Desarrollo Sostenible","Antioquia",5147,"Carepa",null,"Ambiente y Desarrollo Sostenible",11,null,null,null,null,null,null,null,null,null,null,null,5107,"Eje Cafetero","Antioquia","Briceño",42,"BAJO CAUCA Y NORDESTE ANTIOQUENO",5,13,5,4,3,"Cuarentaydos","Briceño",5107,false,95001,"SAN JOSÉ DEL GUAVIARE","MACARENA - GUAVIARE",95001,"MacarenaPDET",null,"BAJO CAUCA Y NORDESTE ANTIOQUEÑO",5495,"NECHÍ","ANTIOQUIA","Alto",60,0.41355308841991484,74.999999999999986]
[23580," ","Puerto Libertador","No tiene consejo","No tiene resguardo",0,null,null,null,null,"PUERTO TRIUNFO",null,null,null,null,null,"SAN LUIS DE GACENO",null,null,null,null,null,null,null,"SESQUILÉ",null,null,null,null,null,null,null,null,null,null,null,"TONA",null,null,null,null,null,20570,"CESAR","PUEBLO BELLO","CESARPUEBLO BELLO","SIERRA NEVADA - PERIJÁ",20570,null,null,null,{"$f":"+IF(Calificación!F87=\"\",\"\",VLOOKUP(Calificación!F87,Listas!$AX$3:$AY$19,2,FALSE))","v":""},null,null,"5147Salud y Protección social","Antioquia",5147,"Carepa",null,"Salud y Protección social",12,null,null,null,null,null,null,null,null,null,null,null,5790,"Eje Cafetero","Antioquia","Tarazá",42,"BAJO CAUCA Y NORDESTE ANTIOQUENO",5,13,5,4,3,"Cuarentaydos","Tarazá",5790,false,95015,"CALAMAR","MACARENA - GUAVIARE",95015,"MacarenaPDET",null,"SUR DE BOLÍVAR",13473,"MORALES","BOLÍVAR","Alto",60,0.41355308841991484,74.999999999999986]
[23682," ","San José de Ure","No tiene consejo","No tiene resguardo",0,null,null,null,null,"REMEDIOS",null,null,null,null,null,"SAN MATEO",null,null,null,null,null,null,null,"SIBATÉ",null,null,null,null,null,null,null,null,null,null,null,"VALLE DE SAN JOSÉ",null,null,null,null,null,20621,"CESAR","LA PAZ","CESARLA PAZ","SIERRA NEVADA - PERIJÁ",20621,null,null,null,{"$f":"+IF(Calificación!F88=\"\",\"\",VLOOKUP(Calificación!F88,Listas!$AX$3:$AY$19,2,FALSE))","v":""},null,null,"5147Transporte","Antioquia",5147,"Carepa",null,"Transporte",13,null,null,null,null,null,null,null,null,null,null,null,5854,"Eje Cafetero","Antioquia","Valdivia",42,"BAJO CAUCA Y NORDESTE ANTIOQUENO",5,13,5,4,3,"Cuarentaydos","Valdivia",5854,false,95025,"EL RETORNO","MACARENA - GUAVIARE",95025,"MacarenaPDET",null,"CUENCA DEL CAGUÁN Y PIEDEMONTE CAQUETEÑO",18001,"FLORENCIA","CAQUETÁ","Medio Bajo",20,-1.2406592652597446,25]
[23807," ","Tierralta","Tiene consejo","No tiene resguardo",1,null,null,null,null,"RETIRO",null,null,null,null,null,"SAN MIGUEL DE SEMA",null,null,null,null,null,null,null,"SILVANIA",null,null,null,null,null,null,null,null,null,null,null,"VÉLEZ",null,null,null,null,null,20750,"CESAR","SAN DIEGO","CESARSAN DIEGO","SIERRA NEVADA - PERIJÁ",20750,null,null,null,{"$f":"+IF(Calificación!F89=\"\",\"\",VLOOKUP(Calificación!F89,Listas!$AX$3:$AY$19,2,FALSE))","v":""},null,null,"5147Minas y Energía","Antioquia",5147,"Carepa",null,"Minas y Energía",14,null,null,null,null,null,null,null,null,null,null,null,23682,"Caribe","Córdoba","San José de Uré",42,"SUR DE CÓRDOBA",5,5,5,4,3,"Cuarentaydos","San José de Uré",23682,false,95200,"MIRAFLORES","MACARENA - GUAVIARE",95200,"MacarenaPDET",null,"ALTO PATÍA Y NORTE DEL CAUCA",19698,"SANTANDER DE QUILICHAO","CAUCA","Alto",60,0.41355308841991484,74.999999999999986]
[23855," ","Valencia","No tiene consejo","No tiene resguardo",0,null,null,null,null,"RIONEGRO",null,null,null,null,null,"SAN PABLO DE BORBUR",null,null,null,null,null,null,null,"SIMIJACA",null,null,null,null,null,null,null,null,null,null,null,"VETAS",null,null,null,null,null,27006,"CHOCÓ","ACANDÍ","CHOCÓACANDÍ","CHOCÓ",27006,null,null,null,{"$f":"+IF(Calificación!F90=\"\",\"\",VLOOKUP(Calificación!F90,Listas!$AX$3:$AY$19,2,FALSE))","v":""},null,null,"5154Desarrollo Económico","Antioquia",5154,"Caucasia",null,"Desarrollo Económico",1,null,null,null,null,null,null,null,null,null,null,null,20001,"Caribe","Cesar","Valledupar",43,"SIERRA NEVADA - PERIJÁ",7,15,{"$f":"+MIN(CA87:CB87)","v":7},6,4,"Cuarentaytres","Valledupar",20001,false,50325,"MAPIRIPÁN","MACARENA - GUAVIARE",50325,"MacarenaPDET",null,"ARAUCA",81736,"SARAVENA","ARAUCA","Alto",60,0.41355308841991484,74.999999999999986]
[27006," ","Acandí","Tiene consejo","Tiene resguardo",1,null,null,null,null,"SABANALARGA",null,null,null,null,null,"SANTA MARÍA",null,null,null,null,null,null,null,"SOACHA",null,null,null,null,null,null,null,null,null,null,null,"VILLANUEVA",null,null,null,null,null,27099,"CHOCÓ","BOJAYÁ","CHOCÓBOJAYÁ","CHOCÓ",27099,null,null,null,{"$f":"+IF(Calificación!F91=\"\",\"\",VLOOKUP(Calificación!F91,Listas!$AX$3:$AY$19,2,FALSE))","v":""},null,null,"5154Tecnologías de la Información y las Comunicaciones","Antioquia",5154,"Caucasia",null,"Tecnologías de la Información y las Comunicaciones",2,null,null,null,null,null,null,null,null,null,null,null,20013,"Caribe","Cesar","Agustín Codazzi",43,"SIERRA NEVADA - PERIJÁ",7,15,7,6,4,"Cuarentaytres","Agustín Codazzi",20013,false,50330,"MESETAS","MACARENA - GUAVIARE",50330,"MacarenaPDET",null,"MACARENA GUAVIARE",50711,"VISTA HERMOSA","META","Medio",40,-0.41355308841991484,50]
[27099," ","Bojaya","No tiene consejo","Tiene resguardo",1,null,null,null,null,"SABANETA",null,null,null,null,null,"SANTA ROSA DE VITERBO",null,null,null,null,null,null,null,"SOPÓ",null,null,null,null,null,null,null,null,null,null,null,"ZAPATOCA",null,null,null,null,null,27150,"CHOCÓ","CARMEN DEL DARIÉN","CHOCÓCARMEN DEL DARIÉN","CHOCÓ",27150,null,null,null,{"$f":"+IF(Calificación!F92=\"\",\"\",VLOOKUP(Calificación!F92,Listas!$AX$3:$AY$19,2,FALSE))","v":""},null,null,"5154Agricultura y desarrollo rural","Antioquia",5154,"Caucasia",null,"Agricultura y desarrollo rural",3,null,null,null,null,null,null,null,null,null,null,null,20045,"Caribe","Cesar","Becerril",43,"SIERRA NEVADA - PERIJÁ",7,15,7,6,4,"Cuarentaytres","Becerril",20045,false,50350,"LA MACARENA","MACARENA - GUAVIARE",50350,"MacarenaPDET",null,"CHOCÓ",27006,"ACANDÍ","CHOCÓ","Alto",60,0.41355308841991484,74.999999999999986]
[27150," ","Carmen del Darien","Tiene consejo","Tiene resguardo",1,null,null,null,null,"SALGAR",null,null,null,null,null,"SANTA SOFÍA",null,null,null,null,null,null,null,"SUBACHOQUE",null,null,null,null,null,null,null,null,null,null,null,null,null,null,null,null,null,27205,"CHOCÓ","CONDOTO","CHOCÓCONDOTO","CHOCÓ",27205,null,null,null,{"$f":"+IF(Calificación!F93=\"\",\"\",VLOOKUP(Calificación!F93,Listas!$AX$3:$AY$19,2,FALSE))","v":""},null,null,"5154Educación","Antioquia",5154,"Caucasia",null,"Educación",4,null,null,null,null,null,null,null,null,null,null,null,20400,"Caribe","Cesar","La Jagua de Ibirico",43,"SIERRA NEVADA - PERIJÁ",7,15,7,6,4,"Cuarentaytres","La Jagua de Ibirico",20400,false,50370,"URIBE","MACARENA - GUAVIARE",50370,"MacarenaPDET",null,"BAJO CAUCA Y NORDESTE ANTIOQUEÑO",5107,"BRICEÑO","ANTIOQUIA","Muy Alto",80,1.2406592652597446,100]
[27205," ","Condoto","Tiene consejo","Tiene resguardo",1,null,null,null,null,"SAN ANDRÉS DE CUERQUÍA",null,null,null,null,null,"SANTANA",null,null,null,null,null,null,null,"SUESCA",null,null,null,null,null,null,null,null,null,null,null,null,null,null,null,null,null,27250,"CHOCÓ","EL LITORAL DEL SAN JUAN","CHOCÓEL LITORAL DEL SAN JUAN","CHOCÓ",27250,null,null,null,{"$f":"+IF(Calificación!F94=\"\",\"\",VLOOKUP(Calificación!F94,Listas!$AX$3:$AY$19,2,FALSE))","v":""},null,null,"5154Vivienda, Ciudad Y Territorio","Antioquia",5154,"Caucasia",null,"Vivienda, Ciudad Y Territorio",5,null,null,null,null,null,null,null,null,null,null,null,20443,"Caribe","Cesar","Manaure",43,"SIERRA NEVADA - PERIJÁ",7,15,7,6,4,"Cuarentaytres","Manaure",20443,false,50450,"PUERTO CONCORDIA","MACARENA - GUAVIARE",50450,"MacarenaPDET",null,"URABÁ ANTIOQUEÑO",5837,"TURBO","ANTIOQUIA","Medio",40,-0.41355308841991484,50]
[27250," ","El Litoral del San Juan","Tiene consejo","No tiene resguardo",1,null,null,null,null,"SAN CARLOS",null,null,null,null,null,"SATIVANORTE",null,null,null,null,null,null,null,"SUPATÁ",null,null,null,null,null,null,null,null,null,null,null,null,null,null,null,null,null,27361,"CHOCÓ","ISTMINA","CHOCÓISTMINA","CHOCÓ",27361,null,null,null,{"$f":"+IF(Calificación!F95=\"\",\"\",VLOOKUP(Calificación!F95,Listas!$AX$3:$AY$19,2,FALSE))","v":""},null,null,"5154Inclusión Social Y Reconciliación","Antioquia",5154,"Caucasia",null,"Inclusión Social Y Reconciliación",6,null,null,null,null,null,null,null,null,null,null,null,20621,"Caribe","Cesar","La Paz",43,"SIERRA NEVADA - PERIJÁ",7,15,7,6,4,"Cuarentaytres","La Paz",20621,false,50577,"PUERTO LLERAS","MACARENA - GUAVIARE",50577,"MacarenaPDET",null,"SUR DE CÓRDOBA",23466,"MONTELÍBANO","CÓRDOBA","Alto",60,0.41355308841991484,74.999999999999986]
[27361," ","Istmina","Tiene consejo","Tiene resguardo",1,null,null,null,null,"SAN FRANCISCO",null,null,null,null,null,"SATIVASUR",null,null,null,null,null,null,null,"SUSA",null,null,null,null,null,null,null,null,null,null,null,null,null,null,null,null,null,27425,"CHOCÓ","MEDIO ATRATO","CHOCÓMEDIO ATRATO","CHOCÓ",27425,null,null,null,{"$f":"+IF(Calificación!F96=\"\",\"\",VLOOKUP(Calificación!F96,Listas!$AX$3:$AY$19,2,FALSE))","v":""},null,null,"5154Gobierno territorial","Antioquia",5154,"Caucasia",null,"Gobierno territorial",7,null,null,null,null,null,null,null,null,null,null,null,20750,"Caribe","Cesar","San Diego",43,"SIERRA NEVADA - PERIJÁ",7,15,7,6,4,"Cuarentaytres","San Diego",20750,false,50590,"PUERTO RICO","MACARENA - GUAVIARE",50590,"MacarenaPDET",null,"PACÍFICO MEDIO",19418,"LÓPEZ","CAUCA","Medio",40,-0.41355308841991484,50]
[27425," ","Medio Atrato","No tiene consejo","No tiene resguardo",0,null,null,null,null,"SAN JERÓNIMO",null,null,null,null,null,"SIACHOQUE",null,null,null,null,null,null,null,"SUTATAUSA",null,null,null,null,null,null,null,null,null,null,null,null,null,null,null,null,null,27450,"CHOCÓ","MEDIO SAN JUAN","CHOCÓMEDIO SAN JUAN","CHOCÓ",27450,null,null,null,{"$f":"+IF(Calificación!F97=\"\",\"\",VLOOKUP(Calificación!F97,Listas!$AX$3:$AY$19,2,FALSE))","v":""},null,null,"5154Justicia y del Derecho","Antioquia",5154,"Caucasia",null,"Justicia y del Derecho",8,null,null,null,null,null,null,null,null,null,null,null,70418,"Caribe","Sucre","Los Palmitos",46,"MONTES DE MARÍA",3,15,3,3,2,"Cuarentayseis","Los Palmitos",70418,false,50711,"VISTAHERMOSA","MACARENA - GUAVIARE",50711,"MacarenaPDET",null,"URABÁ ANTIOQUEÑO",5045,"APARTADÓ","ANTIOQUIA","Medio Bajo",20,-1.2406592652597446,25]
[27450," ","Medio San Juan","No tiene consejo","No tiene resguardo",0,null,null,null,null,"SAN JOSÉ DE LA MONTAÑA",null,null,null,null,null,"SOATÁ",null,null,null,null,null,null,null,"TABIO",null,null,null,null,null,null,null,null,null,null,null,null,null,null,null,null,null,27491,"CHOCÓ","NÓVITA","CHOCÓNÓVITA","CHOCÓ",27491,null,null,null,{"$f":"+IF(Calificación!F98=\"\",\"\",VLOOKUP(Calificación!F98,Listas!$AX$3:$AY$19,2,FALSE))","v":""},null,null,"5154Ambiente y Desarrollo Sostenible","Antioquia",5154,"Caucasia",null,"Ambiente y Desarrollo Sostenible",9,null,null,null,null,null,null,null,null,null,null,null,70473,"Caribe","Sucre","Morroa",46,"MONTES DE MARÍA",3,15,3,3,2,"Cuarentayseis","Morroa",70473,false,13212,"CÓRDOBA","MONTES DE MARÍA",13212,"Montes",null,"ALTO PATÍA Y NORTE DEL CAUCA",52256,"EL ROSARIO","NARIÑO","Medio",40,-0.41355308841991484,50]
[27491," ","Nóvita","No tiene consejo","No tiene resguardo",0,null,null,null,null,"SAN JUAN DE URABÁ",null,null,null,null,null,"SOCHA",null,null,null,null,null,null,null,"TAUSA",null,null,null,null,null,null,null,null,null,null,null,null,null,null,null,null,null,27615,"CHOCÓ","RIOSUCIO","CHOCÓRIOSUCIO","CHOCÓ",27615,null,null,null,{"$f":"+IF(Calificación!F99=\"\",\"\",VLOOKUP(Calificación!F99,Listas!$AX$3:$AY$19,2,FALSE))","v":""},null,null,"5154Deporte Y Recreación","Antioquia",5154,"Caucasia",null,"Deporte Y Recreación",10,null,null,null,null,null,null,null,null,null,null,null,70508,"Caribe","Sucre","Ovejas",46,"MONTES DE MARÍA",3,15,3,3,2,"Cuarentayseis","Ovejas",70508,false,13244,"EL CARMEN DE BOLÍVAR","MONTES DE MARÍA",13244,"Montes",null,"ALTO PATÍA Y NORTE DEL CAUCA",19780,"SUÁREZ","CAUCA","Alto",60,0.41355308841991484,74.999999999999986]
[27615," ","Riosucio","Tiene consejo","No tiene resguardo",1,null,null,null,null,"SAN LUIS",null,null,null,null,null,"SOCOTÁ",null,null,null,null,null,null,null,"TENA",null,null,null,null,null,null,null,null,null,null,null,null,null,null,null,null,null,27745,"CHOCÓ","SIPÍ","CHOCÓSIPÍ","CHOCÓ",27745,null,null,null,{"$f":"+IF(Calificación!F100=\"\",\"\",VLOOKUP(Calificación!F100,Listas!$AX$3:$AY$19,2,FALSE))","v":""},null,null,"5154Cultura","Antioquia",5154,"Caucasia",null,"Cultura",11,null,null,null,null,null,null,null,null,null,null,null,20570,"Caribe","Cesar","Pueblo Bello",48,"SIERRA NEVADA - PERIJÁ",2,15,2,2,1,"Cuarentayocho","Pueblo Bello",20570,false,13248,"EL GUAMO","MONTES DE MARÍA",13248,"Montes",null,"ALTO PATÍA Y NORTE DEL CAUCA",19075,"BALBOA","CAUCA","Alto",60,0.41355308841991484,74.999999999999986]
[27745," ","Sipí","No tiene consejo","No tiene resguardo",0,null,null,null,null,"SAN PEDRO DE LOS MILAGROS",null,null,null,null,null,"SOGAMOSO",null,null,null,null,null,null,null,"TENJO",null,null,null,null,null,null,null,null,null,null,null,null,null,null,null,null,null,27800,"CHOCÓ","UNGUÍA","CHOCÓUNGUÍA","CHOCÓ",27800,null,null,null,{"$f":"+IF(Calificación!F101=\"\",\"\",VLOOKUP(Calificación!F101,Listas!$AX$3:$AY$19,2,FALSE))","v":""},null,null,"5154Transporte","Antioquia",5154,"Caucasia",null,"Transporte",12,null,null,null,null,null,null,null,null,null,null,null,47288,"Caribe","Magdalena","Fundación",48,"SIERRA NEVADA - PERIJÁ",{"$f":"+COUNTIF($BY$4:$BY$171,BY98)","v":2},{"$f":"+IF(BZ98=\"No es PDET\",9999999999999,COUNTIF($BZ$4:$BZ$171,BZ98))","v":15},2,2,1,"Cuarentayocho","Fundación",47288,false,13442,"MARÍA LA BAJA","MONTES DE MARÍA",13442,"Montes",null,"MACARENA GUAVIARE",50450,"PUERTO CONCORDIA","META","Medio",40,-0.41355308841991484,50]
[27800," ","Unguía","Tiene consejo","No tiene resguardo",1,null,null,null,null,"SAN PEDRO DE URABÁ",null,null,null,null,null,"SOMONDOCO",null,null,null,null,null,null,null,"TIBACUY",null,null,null,null,null,null,null,null,null,null,null,null,null,null,null,null,null,23466,"CÓRDOBA","MONTELÍBANO","CÓRDOBAMONTELÍBANO","SUR DE CÓRDOBA",23466,null,null,null,{"$f":"+IF(Calificación!F102=\"\",\"\",VLOOKUP(Calificación!F102,Listas!$AX$3:$AY$19,2,FALSE))","v":""},null,null,"5154Salud y Protección social","Antioquia",5154,"Caucasia",null,"Salud y Protección social",13,null,null,null,null,null,null,null,null,null,null,null,5031,"Eje Cafetero","Antioquia","Amalfi",49,"BAJO CAUCA Y NORDESTE ANTIOQUENO",6,13,6,5,3,"Cuarentaynueve","Amalfi",5031,false,13654,"SAN JACINTO","MONTES DE MARÍA",13654,"Montes",null,"PACÍFICO Y FRONTERA NARIÑENSE",52520,"FRANCISCO PIZARRO","NARIÑO","Medio",40,-0.41355308841991484,50]
[41020," ","Algeciras","No tiene consejo","No tiene resguardo",0,null,null,null,null,"SAN RAFAEL",null,null,null,null,null,"SORA",null,null,null,null,null,null,null,"TIBIRITA",null,null,null,null,null,null,null,null,null,null,null,null,null,null,null,null,null,23580,"CÓRDOBA","PUERTO LIBERTADOR","CÓRDOBAPUERTO LIBERTADOR","SUR DE CÓRDOBA",23580,null,null,null,{"$f":"+IF(Calificación!F103=\"\",\"\",VLOOKUP(Calificación!F103,Listas!$AX$3:$AY$19,2,FALSE))","v":""},null,null,"5154Minas y Energía","Antioquia",5154,"Caucasia",null,"Minas y Energía",14,null,null,null,null,null,null,null,null,null,null,null,5120,"Eje Cafetero","Antioquia","Cáceres",49,"BAJO CAUCA Y NORDESTE ANTIOQUENO",6,13,6,{"$f":"+ROUNDUP(CC100*$CD$1,0)","v":5},{"$f":"ROUNDUP(CC100*$CE$1,0)","v":3},"Cuarentaynueve","Cáceres",5120,{"$f":"+CB100<CA100","v":false},13657,"SAN JUAN NEPOMUCENO","MONTES DE MARÍA",13657,"Montes",null,"ALTO PATÍA Y NORTE DEL CAUCA",19473,"MORALES","CAUCA","Medio",40,-0.41355308841991484,50]
[44090," ","Dibulla","No tiene consejo","No tiene resguardo",0,null,null,null,null,"SAN ROQUE",null,null,null,null,null,"SORACÁ",null,null,null,null,null,null,null,"TOCAIMA",null,null,null,null,null,null,null,null,null,null,null,null,null,null,null,null,null,23682,"CÓRDOBA","SAN JOSÉ DE URÉ","CÓRDOBASAN JOSÉ DE URÉ","SUR DE CÓRDOBA",23682,null,null,null,{"$f":"+IF(Calificación!F104=\"\",\"\",VLOOKUP(Calificación!F104,Listas!$AX$3:$AY$19,2,FALSE))","v":""},null,null,"5172Desarrollo Económico","Antioquia",5172,"Chigorodó",null,"Desarrollo Económico",1,null,null,null,null,null,null,null,null,null,null,null,5736,"Eje Cafetero","Antioquia","Segovia",49,"BAJO CAUCA Y NORDESTE ANTIOQUENO",6,13,6,5,3,"Cuarentaynueve","Segovia",5736,false,13894,"ZAMBRANO","MONTES DE MARÍA",13894,"Montes",null,"PUTUMAYO",86885,"VILLAGARZÓN","PUTUMAYO","Alto",60,0.41355308841991484,74.999999999999986]
[44279," ","Fonseca","No tiene consejo","Tiene resguardo",1,null,null,null,null,"SAN VICENTE",null,null,null,null,null,"SOTAQUIRÁ",null,null,null,null,null,null,null,"TOCANCIPÁ",null,null,null,null,null,null,null,null,null,null,null,null,null,null,null,null,null,23807,"CÓRDOBA","TIERRALTA","CÓRDOBATIERRALTA","SUR DE CÓRDOBA",23807,null,null,null,{"$f":"+IF(Calificación!F105=\"\",\"\",VLOOKUP(Calificación!F105,Listas!$AX$3:$AY$19,2,FALSE))","v":""},null,null,"5172Tecnologías de la Información y las Comunicaciones","Antioquia",5172,"Chigorodó",null,"Tecnologías de la Información y las Comunicaciones",2,null,null,null,null,null,null,null,null,null,null,null,5895,"Eje Cafetero","Antioquia","Zaragoza",49,"BAJO CAUCA Y NORDESTE ANTIOQUENO",6,13,6,5,3,"Cuarentaynueve","Zaragoza",5895,false,70204,"COLOSÓ","MONTES DE MARÍA",70204,"Montes",null,"PUTUMAYO",86571,"PUERTO GUZMÁN","PUTUMAYO","Medio",40,-0.41355308841991484,50]
[44650," ","San Juan del Cesar","Tiene consejo","No tiene resguardo",1,null,null,null,null,"SANTA BÁRBARA",null,null,null,null,null,"SUSACÓN",null,null,null,null,null,null,null,"TOPAIPÍ",null,null,null,null,null,null,null,null,null,null,null,null,null,null,null,null,null,23855,"CÓRDOBA","VALENCIA","CÓRDOBAVALENCIA","SUR DE CÓRDOBA",23855,null,null,null,{"$f":"+IF(Calificación!F106=\"\",\"\",VLOOKUP(Calificación!F106,Listas!$AX$3:$AY$19,2,FALSE))","v":""},null,null,"5172Agricultura y desarrollo rural","Antioquia",5172,"Chigorodó",null,"Agricultura y desarrollo rural",3,null,null,null,null,null,null,null,null,null,null,null,23466,"Caribe","Córdoba","Montelíbano",49,"SUR DE CÓRDOBA",6,5,5,4,3,"Cuarentaynueve","Montelíbano",23466,true,70230,"CHALÁN","MONTES DE MARÍA",70230,"Montes",null,"MONTES DE MARÍA",13894,"ZAMBRANO","BOLÍVAR","Medio Bajo",20,-1.2406592652597446,25]
[47001," ","Santa Marta","No tiene consejo","No tiene resguardo",0,null,null,null,null,"SANTA ROSA DE OSOS",null,null,null,null,null,"SUTAMARCHÁN",null,null,null,null,null,null,null,"UBALÁ",null,null,null,null,null,null,null,null,null,null,null,null,null,null,null,null,null,95001,"GUAVIARE","SAN JOSÉ DEL GUAVIARE","GUAVIARESAN JOSÉ DEL GUAVIARE","MACARENA - GUAVIARE",95001,null,null,null,{"$f":"+IF(Calificación!F107=\"\",\"\",VLOOKUP(Calificación!F107,Listas!$AX$3:$AY$19,2,FALSE))","v":""},null,null,"5172Educación","Antioquia",5172,"Chigorodó",null,"Educación",4,null,null,null,null,null,null,null,null,null,null,null,23580,"Caribe","Córdoba","Puerto Libertador",49,"SUR DE CÓRDOBA",6,5,5,4,3,"Cuarentaynueve","Puerto Libertador",23580,true,70418,"LOS PALMITOS","MONTES DE MARÍA",70418,"Montes",null,"BAJO CAUCA Y NORDESTE ANTIOQUEÑO",5040,"ANORÍ","ANTIOQUIA","Muy Alto",80,1.2406592652597446,100]
[47053," ","Aracataca","No tiene consejo","No tiene resguardo",0,null,null,null,null,"SANTAFÉ DE ANTIOQUIA",null,null,null,null,null,"SUTATENZA",null,null,null,null,null,null,null,"UBAQUE",null,null,null,null,null,null,null,null,null,null,null,null,null,null,null,null,null,95015,"GUAVIARE","CALAMAR","GUAVIARECALAMAR","MACARENA - GUAVIARE",95015,null,null,null,{"$f":"+IF(Calificación!F108=\"\",\"\",VLOOKUP(Calificación!F108,Listas!$AX$3:$AY$19,2,FALSE))","v":""},null,null,"5172Vivienda, Ciudad Y Territorio","Antioquia",5172,"Chigorodó",null,"Vivienda, Ciudad Y Territorio",5,null,null,null,null,null,null,null,null,null,null,null,18029,"Centro Sur","Caquetá","Albania",52,"CUENCA DEL CAGUÁN Y PIEDEMONTE CAQUETEÑO",11,16,11,9,6,"Cincuentaydos","Albania",18029,false,70473,"MORROA","MONTES DE MARÍA",70473,"Montes",null,"SUR DE BOLÍVAR",13744,"SIMITÍ","BOLÍVAR","Medio",40,-0.41355308841991484,50]
[47189," ","Ciénaga","No tiene consejo","No tiene resguardo",0,null,null,null,null,"SANTO DOMINGO",null,null,null,null,null,"TASCO",null,null,null,null,null,null,null,"UNE",null,null,null,null,null,null,null,null,null,null,null,null,null,null,null,null,null,95025,"GUAVIARE","EL RETORNO","GUAVIAREEL RETORNO","MACARENA - GUAVIARE",95025,null,null,null,{"$f":"+IF(Calificación!F109=\"\",\"\",VLOOKUP(Calificación!F109,Listas!$AX$3:$AY$19,2,FALSE))","v":""},null,null,"5172Inclusión Social Y Reconciliación","Antioquia",5172,"Chigorodó",null,"Inclusión Social Y Reconciliación",6,null,null,null,null,null,null,null,null,null,null,null,18094,"Centro Sur","Caquetá","Belén de Los Andaquies",52,"CUENCA DEL CAGUÁN Y PIEDEMONTE CAQUETEÑO",11,16,11,9,6,"Cincuentaydos","Belén de Los Andaquies",18094,false,70508,"OVEJAS","MONTES DE MARÍA",70508,"Montes",null,"MONTES DE MARÍA",70230,"CHALÁN","SUCRE","Medio",40,-0.41355308841991484,50]
[47288," ","Fundación","Tiene consejo","Tiene resguardo",1,null,null,null,null,"SEGOVIA",null,null,null,null,null,"TENZA",null,null,null,null,null,null,null,"ÚTICA",null,null,null,null,null,null,null,null,null,null,null,null,null,null,null,null,null,95200,"GUAVIARE","MIRAFLORES","GUAVIAREMIRAFLORES","MACARENA - GUAVIARE",95200,null,null,null,{"$f":"+IF(Calificación!F110=\"\",\"\",VLOOKUP(Calificación!F110,Listas!$AX$3:$AY$19,2,FALSE))","v":""},null,null,"5172Gobierno territorial","Antioquia",5172,"Chigorodó",null,"Gobierno territorial",7,null,null,null,null,null,null,null,null,null,null,null,18205,"Centro Sur","Caquetá","Curillo",52,"CUENCA DEL CAGUÁN Y PIEDEMONTE CAQUETEÑO",11,16,11,9,6,"Cincuentaydos","Curillo",18205,false,70523,"PALMITO","MONTES DE MARÍA",70523,"Montes",null,"BAJO CAUCA Y NORDESTE ANTIOQUEÑO",5154,"CAUCASIA","ANTIOQUIA","Alto",60,0.41355308841991484,74.999999999999986]
[50325," ","Mapiripán","No tiene consejo","No tiene resguardo",0,null,null,null,null,"SONSÓN",null,null,null,null,null,"TIBANÁ",null,null,null,null,null,null,null,"VENECIA",null,null,null,null,null,null,null,null,null,null,null,null,null,null,null,null,null,41020,"HUILA","ALGECIRAS","HUILAALGECIRAS","CUENCA DEL CAGUÁN Y PIEDEMONTE CAQUETEÑO",41020,null,null,null,{"$f":"+IF(Calificación!F111=\"\",\"\",VLOOKUP(Calificación!F111,Listas!$AX$3:$AY$19,2,FALSE))","v":""},null,null,"5172Justicia y del Derecho","Antioquia",5172,"Chigorodó",null,"Justicia y del Derecho",8,null,null,null,null,null,null,null,null,null,null,null,18410,"Centro Sur","Caquetá","La Montañita",52,"CUENCA DEL CAGUÁN Y PIEDEMONTE CAQUETEÑO",11,16,11,9,6,"Cincuentaydos","La Montañita",18410,false,70713,"SAN ONOFRE","MONTES DE MARÍA",70713,"Montes",null,"URABÁ ANTIOQUEÑO",5172,"CHIGORODÓ","ANTIOQUIA","Medio Bajo",20,-1.2406592652597446,25]
[50330," ","Mesetas","No tiene consejo","No tiene resguardo",0,null,null,null,null,"SOPETRÁN",null,null,null,null,null,"TIBASOSA",null,null,null,null,null,null,null,"VERGARA",null,null,null,null,null,null,null,null,null,null,null,null,null,null,null,null,null,44090,"LA_GUAJIRA","DIBULLA","LA_GUAJIRADIBULLA","SIERRA NEVADA - PERIJÁ",44090,null,null,null,{"$f":"+IF(Calificación!F112=\"\",\"\",VLOOKUP(Calificación!F112,Listas!$AX$3:$AY$19,2,FALSE))","v":""},null,null,"5172Ambiente y Desarrollo Sostenible","Antioquia",5172,"Chigorodó",null,"Ambiente y Desarrollo Sostenible",9,null,null,null,null,null,null,null,null,null,null,null,18460,"Centro Sur","Caquetá","Milán",52,"CUENCA DEL CAGUÁN Y PIEDEMONTE CAQUETEÑO",11,16,11,9,6,"Cincuentaydos","Milán",18460,false,70823,"TOLÚ VIEJO","MONTES DE MARÍA",70823,"Montes",null,"SUR DEL TOLIMA",73616,"RIOBLANCO","TOLIMA","Medio Bajo",20,-1.2406592652597446,25]
[50350," ","La Macarena","No tiene consejo","No tiene resguardo",0,null,null,null,null,"TÁMESIS",null,null,null,null,null,"TINJACÁ",null,null,null,null,null,null,null,"VIANÍ",null,null,null,null,null,null,null,null,null,null,null,null,null,null,null,null,null,44279,"LA_GUAJIRA","FONSECA","LA_GUAJIRAFONSECA","SIERRA NEVADA - PERIJÁ",44279,null,null,null,{"$f":"+IF(Calificación!F113=\"\",\"\",VLOOKUP(Calificación!F113,Listas!$AX$3:$AY$19,2,FALSE))","v":""},null,null,"5172Deporte Y Recreación","Antioquia",5172,"Chigorodó",null,"Deporte Y Recreación",10,null,null,null,null,null,null,null,null,null,null,null,18610,"Centro Sur","Caquetá","San José del Fragua",52,"CUENCA DEL CAGUÁN Y PIEDEMONTE CAQUETEÑO",11,16,11,9,6,"Cincuentaydos","San José del Fragua",18610,false,19318,"GUAPÍ","PACÍFICO MEDIO",19318,"PacificoM",null,"BAJO CAUCA Y NORDESTE ANTIOQUEÑO",5604,"REMEDIOS","ANTIOQUIA","Alto",60,0.41355308841991484,74.999999999999986]
[50370," ","Uribe","No tiene consejo","No tiene resguardo",0,null,null,null,null,"TARAZÁ",null,null,null,null,null,"TIPACOQUE",null,null,null,null,null,null,null,"VILLA DE SAN DIEGO DE UBATÉ",null,null,null,null,null,null,null,null,null,null,null,null,null,null,null,null,null,20443,"CESAR","MANAURE BALCÓN DEL CESAR","CESARMANAURE BALCÓN DEL CESAR","SIERRA NEVADA - PERIJÁ",20443,null,null,null,{"$f":"+IF(Calificación!F114=\"\",\"\",VLOOKUP(Calificación!F114,Listas!$AX$3:$AY$19,2,FALSE))","v":""},null,null,"5172Cultura","Antioquia",5172,"Chigorodó",null,"Cultura",11,null,null,null,null,null,null,null,null,null,null,null,18756,"Centro Sur","Caquetá","Solano",52,"CUENCA DEL CAGUÁN Y PIEDEMONTE CAQUETEÑO",11,16,11,9,6,"Cincuentaydos","Solano",18756,false,19418,"LÓPEZ DE MICAY","PACÍFICO MEDIO",19418,"PacificoM",null,"ALTO PATÍA Y NORTE DEL CAUCA",19532,"PATÍA","CAUCA","Alto",60,0.41355308841991484,74.999999999999986]
[50450," ","Puerto Concordia","No tiene consejo","No tiene resguardo",0,null,null,null,null,"TARSO",null,null,null,null,null,"TOCA",null,null,null,null,null,null,null,"VILLAGÓMEZ",null,null,null,null,null,null,null,null,null,null,null,null,null,null,null,null,null,44650,"LA_GUAJIRA","SAN JUAN DEL CESAR","LA_GUAJIRASAN JUAN DEL CESAR","SIERRA NEVADA - PERIJÁ",44650,null,null,null,{"$f":"+IF(Calificación!F115=\"\",\"\",VLOOKUP(Calificación!F115,Listas!$AX$3:$AY$19,2,FALSE))","v":""},null,null,"5172Salud y Protección social","Antioquia",5172,"Chigorodó",null,"Salud y Protección social",12,null,null,null,null,null,null,null,null,null,null,null,18785,"Centro Sur","Caquetá","Solita",52,"CUENCA DEL CAGUÁN Y PIEDEMONTE CAQUETEÑO",11,16,11,9,6,"Cincuentaydos","Solita",18785,false,19809,"TIMBIQUÍ","PACÍFICO MEDIO",19809,"PacificoM",null,"ALTO PATÍA Y NORTE DEL CAUCA",52540,"POLICARPA","NARIÑO","Muy Alto",80,1.2406592652597446,100]
[50577," ","Puerto Lleras","No tiene consejo","No tiene resguardo",0,null,null,null,null,"TITIRIBÍ",null,null,null,null,null,"TOGÜÍ",null,null,null,null,null,null,null,"VILLAPINZÓN",null,null,null,null,null,null,null,null,null,null,null,null,null,null,null,null,null,47001,"MAGDALENA","SANTA MARTA","MAGDALENASANTA MARTA","SIERRA NEVADA - PERIJÁ",47001,null,null,null,{"$f":"+IF(Calificación!F116=\"\",\"\",VLOOKUP(Calificación!F116,Listas!$AX$3:$AY$19,2,FALSE))","v":""},null,null,"5172Transporte","Antioquia",5172,"Chigorodó",null,"Transporte",13,null,null,null,null,null,null,null,null,null,null,null,18860,"Centro Sur","Caquetá","Valparaíso",52,"CUENCA DEL CAGUÁN Y PIEDEMONTE CAQUETEÑO",11,16,11,9,6,"Cincuentaydos","Valparaíso",18860,false,76109,"BUENAVENTURA","PACÍFICO MEDIO",76109,"PacificoM",null,"SUR DE CÓRDOBA",23682,"SAN JOSE DE URE","CÓRDOBA","Muy Alto",80,1.2406592652597446,100]
[50590," ","Puerto Rico","No tiene consejo","No tiene resguardo",0,null,null,null,null,"TOLEDO",null,null,null,null,null,"TÓPAGA",null,null,null,null,null,null,null,"VILLETA",null,null,null,null,null,null,null,null,null,null,null,null,null,null,null,null,null,47053,"MAGDALENA","ARACATACA","MAGDALENAARACATACA","SIERRA NEVADA - PERIJÁ",47053,null,null,null,{"$f":"+IF(Calificación!F117=\"\",\"\",VLOOKUP(Calificación!F117,Listas!$AX$3:$AY$19,2,FALSE))","v":""},null,null,"5172Minas y Energía","Antioquia",5172,"Chigorodó",null,"Minas y Energía",14,null,null,null,null,null,null,null,null,null,null,null,50350,"Llano","Meta","La Macarena",52,"MACARENA - GUAVIARE",11,12,11,9,6,"Cincuentaydos","La Macarena",50350,false,52079,"BARBACOAS","PACÍFICO Y FRONTERA NARIÑENSE",52079,"PacificoFront",null,"MACARENA GUAVIARE",95025,"EL RETORNO","GUAVIARE","Alto",60,0.41355308841991484,74.999999999999986]
[50711," ","Vistahermosa","No tiene consejo","No tiene resguardo",0,null,null,null,null,"TURBO",null,null,null,null,null,"TOTA",null,null,null,null,null,null,null,"VIOTÁ",null,null,null,null,null,null,null,null,null,null,null,null,null,null,null,null,null,47189,"MAGDALENA","CIÉNAGA","MAGDALENACIÉNAGA","SIERRA NEVADA - PERIJÁ",47189,null,null,null,{"$f":"+IF(Calificación!F118=\"\",\"\",VLOOKUP(Calificación!F118,Listas!$AX$3:$AY$19,2,FALSE))","v":""},null,null,"5234Tecnologías de la Información y las Comunicaciones","Antioquia",5234,"Dabeiba",null,"Tecnologías de la Información y las Comunicaciones",1,null,null,null,null,null,null,null,null,null,null,null,95015,"Llano","Guaviare","Calamar",52,"MACARENA - GUAVIARE",11,12,11,9,6,"Cincuentaydos","Calamar",95015,false,52250,"EL CHARCO","PACÍFICO Y FRONTERA NARIÑENSE",52250,"PacificoFront",null,"CHOCÓ",27491,"NÓVITA","CHOCÓ","Medio",40,-0.41355308841991484,50]
[52079," ","Barbacoas","Tiene consejo","Tiene resguardo",1,null,null,null,null,"URAMITA",null,null,null,null,null,"TUNJA",null,null,null,null,null,null,null,"YACOPÍ",null,null,null,null,null,null,null,null,null,null,null,null,null,null,null,null,null,47288,"MAGDALENA","FUNDACIÓN","MAGDALENAFUNDACIÓN","SIERRA NEVADA - PERIJÁ",47288,null,null,null,{"$f":"+IF(Calificación!F119=\"\",\"\",VLOOKUP(Calificación!F119,Listas!$AX$3:$AY$19,2,FALSE))","v":""},null,null,"5234Inclusión Social Y Reconciliación","Antioquia",5234,"Dabeiba",null,"Inclusión Social Y Reconciliación",2,null,null,null,null,null,null,null,null,null,null,null,19364,"Pacífico","Cauca","Jambaló",59,"ALTO PATÍA - NORTE DEL CAUCA",2,23,2,2,1,"Cincuentaynueve","Jambaló",19364,false,52390,"LA TOLA","PACÍFICO Y FRONTERA NARIÑENSE",52390,"PacificoFront",null,"PUTUMAYO",86569,"PUERTO CAICEDO","PUTUMAYO","Muy Alto",80,1.2406592652597446,100]
[52233," ","Cumbitara","No tiene consejo","No tiene resguardo",0,null,null,null,null,"URRAO",null,null,null,null,null,"TUNUNGUÁ",null,null,null,null,null,null,null,"ZIPACÓN",null,null,null,null,null,null,null,null,null,null,null,null,null,null,null,null,null,50325,"META","MAPIRIPÁN","METAMAPIRIPÁN","MACARENA - GUAVIARE",50325,null,null,null,{"$f":"+IF(Calificación!F120=\"\",\"\",VLOOKUP(Calificación!F120,Listas!$AX$3:$AY$19,2,FALSE))","v":""},null,null,"5234Desarrollo Económico","Antioquia",5234,"Dabeiba",null,"Desarrollo Económico",3,null,null,null,null,null,null,null,null,null,null,null,19821,"Pacífico","Cauca","Toribio",59,"ALTO PATÍA - NORTE DEL CAUCA",2,23,2,2,1,"Cincuentaynueve","Toribio",19821,false,52427,"MAGÜÍ","PACÍFICO Y FRONTERA NARIÑENSE",52427,"PacificoFront",null,"BAJO CAUCA Y NORDESTE ANTIOQUEÑO",5031,"AMALFI","ANTIOQUIA","Medio",40,-0.41355308841991484,50]
[52250," ","El Charco","Tiene consejo","Tiene resguardo",1,null,null,null,null,"VALDIVIA",null,null,null,null,null,"TURMEQUÉ",null,null,null,null,null,null,null,"ZIPAQUIRÁ",null,null,null,null,null,null,null,null,null,null,null,null,null,null,null,null,null,50330,"META","MESETAS","METAMESETAS","MACARENA - GUAVIARE",50330,null,null,null,{"$f":"+IF(Calificación!F121=\"\",\"\",VLOOKUP(Calificación!F121,Listas!$AX$3:$AY$19,2,FALSE))","v":""},null,null,"5234Vivienda, Ciudad Y Territorio","Antioquia",5234,"Dabeiba",null,"Vivienda, Ciudad Y Territorio",4,null,null,null,null,null,null,null,null,null,null,null,54206,"Centro Oriente","Norte de Santander","Convención",60,"CATATUMBO",6,8,6,5,3,"Sesenta","Convención",54206,false,52473,"MOSQUERA","PACÍFICO Y FRONTERA NARIÑENSE",52473,"PacificoFront",null,"MONTES DE MARÍA",13442,"MARÍA LA BAJA","BOLÍVAR","Medio Bajo",20,-1.2406592652597446,25]
[52256," ","El Rosario","No tiene consejo","No tiene resguardo",0,null,null,null,null,"VALPARAÍSO",null,null,null,null,null,"TUTA",null,null,null,null,null,null,null,null,null,null,null,null,null,null,null,null,null,null,null,null,null,null,null,null,null,50350,"META","LA MACARENA","METALA MACARENA","MACARENA - GUAVIARE",50350,null,null,null,{"$f":"+IF(Calificación!F122=\"\",\"\",VLOOKUP(Calificación!F122,Listas!$AX$3:$AY$19,2,FALSE))","v":""},null,null,"5234Educación","Antioquia",5234,"Dabeiba",null,"Educación",5,null,null,null,null,null,null,null,null,null,null,null,54245,"Centro Oriente","Norte de Santander","El Carmen",60,"CATATUMBO",6,8,{"$f":"+MIN(CA119:CB119)","v":6},5,3,"Sesenta","El Carmen",54245,false,52490,"OLAYA HERRERA","PACÍFICO Y FRONTERA NARIÑENSE",52490,"PacificoFront",null,"ALTO PATÍA Y NORTE DEL CAUCA",19548,"PIENDAMÓ","CAUCA","Medio Bajo",20,-1.2406592652597446,25]
[52390," ","La Tola","Tiene consejo","No tiene resguardo",1,null,null,null,null,"VEGACHÍ",null,null,null,null,null,"TUTAZÁ",null,null,null,null,null,null,null,null,null,null,null,null,null,null,null,null,null,null,null,null,null,null,null,null,null,50370,"META","URIBE","METAURIBE","MACARENA - GUAVIARE",50370,null,null,null,{"$f":"+IF(Calificación!F123=\"\",\"\",VLOOKUP(Calificación!F123,Listas!$AX$3:$AY$19,2,FALSE))","v":""},null,null,"5234Agricultura y desarrollo rural","Antioquia",5234,"Dabeiba",null,"Agricultura y desarrollo rural",6,null,null,null,null,null,null,null,null,null,null,null,54250,"Centro Oriente","Norte de Santander","El Tarra",60,"CATATUMBO",6,8,6,5,3,"Sesenta","El Tarra",54250,false,52520,"FRANCISCO PIZARRO","PACÍFICO Y FRONTERA NARIÑENSE",52520,"PacificoFront",null,"SUR DE BOLÍVAR",13160,"CANTAGALLO","BOLÍVAR","Alto",60,0.41355308841991484,74.999999999999986]
[52405," ","Leiva","No tiene consejo","No tiene resguardo",0,null,null,null,null,"VENECIA",null,null,null,null,null,"ÚMBITA",null,null,null,null,null,null,null,null,null,null,null,null,null,null,null,null,null,null,null,null,null,null,null,null,null,50450,"META","PUERTO CONCORDIA","METAPUERTO CONCORDIA","MACARENA - GUAVIARE",50450,null,null,null,{"$f":"+IF(Calificación!F124=\"\",\"\",VLOOKUP(Calificación!F124,Listas!$AX$3:$AY$19,2,FALSE))","v":""},null,null,"5234Gobierno territorial","Antioquia",5234,"Dabeiba",null,"Gobierno territorial",7,null,null,null,null,null,null,null,null,null,null,null,54344,"Centro Oriente","Norte de Santander","Hacarí",60,"CATATUMBO",6,8,6,5,3,"Sesenta","Hacarí",54344,false,52612,"RICAURTE","PACÍFICO Y FRONTERA NARIÑENSE",52612,"PacificoFront",null,"PUTUMAYO",86865,"VALLE DEL GUAMUEZ","PUTUMAYO","Muy Alto",80,1.2406592652597446,100]
[52418," ","Los Andes","Tiene consejo","No tiene resguardo",1,null,null,null,null,"VIGÍA DEL FUERTE",null,null,null,null,null,"VENTAQUEMADA",null,null,null,null,null,null,null,null,null,null,null,null,null,null,null,null,null,null,null,null,null,null,null,null,null,50577,"META","PUERTO LLERAS","METAPUERTO LLERAS","MACARENA - GUAVIARE",50577,null,null,null,{"$f":"+IF(Calificación!F125=\"\",\"\",VLOOKUP(Calificación!F125,Listas!$AX$3:$AY$19,2,FALSE))","v":""},null,null,"5234Ambiente y Desarrollo Sostenible","Antioquia",5234,"Dabeiba",null,"Ambiente y Desarrollo Sostenible",8,null,null,null,null,null,null,null,null,null,null,null,54670,"Centro Oriente","Norte de Santander","San Calixto",60,"CATATUMBO",6,8,6,5,3,"Sesenta","San Calixto",54670,false,52621,"ROBERTO PAYÁN","PACÍFICO Y FRONTERA NARIÑENSE",52621,"PacificoFront",null,"SUR DEL TOLIMA",73168,"CHAPARRAL","TOLIMA","Medio Bajo",20,-1.2406592652597446,25]
[52427," ","Magüi","Tiene consejo","No tiene resguardo",1,null,null,null,null,"YALÍ",null,null,null,null,null,"VILLA DE LEYVA",null,null,null,null,null,null,null,null,null,null,null,null,null,null,null,null,null,null,null,null,null,null,null,null,null,50590,"META","PUERTO RICO","METAPUERTO RICO","MACARENA - GUAVIARE",50590,null,null,null,{"$f":"+IF(Calificación!F126=\"\",\"\",VLOOKUP(Calificación!F126,Listas!$AX$3:$AY$19,2,FALSE))","v":""},null,null,"5234Justicia y del Derecho","Antioquia",5234,"Dabeiba",null,"Justicia y del Derecho",9,null,null,null,null,null,null,null,null,null,null,null,54800,"Centro Oriente","Norte de Santander","Teorama",60,"CATATUMBO",6,8,6,5,3,"Sesenta","Teorama",54800,false,52696,"SANTA BÁRBARA","PACÍFICO Y FRONTERA NARIÑENSE",52696,"PacificoFront",null,"SIERRA NEVADA-PERIJÁ-ZONA BANANERA",44650,"SAN JUAN DEL CESAR","LA GUAJIRA","Medio Bajo",20,-1.2406592652597446,25]
[52473," ","Mosquera","Tiene consejo","No tiene resguardo",1,null,null,null,null,"YARUMAL",null,null,null,null,null,"VIRACACHÁ",null,null,null,null,null,null,null,null,null,null,null,null,null,null,null,null,null,null,null,null,null,null,null,null,null,50711,"META","VISTAHERMOSA","METAVISTAHERMOSA","MACARENA - GUAVIARE",50711,null,null,null,{"$f":"+IF(Calificación!F127=\"\",\"\",VLOOKUP(Calificación!F127,Listas!$AX$3:$AY$19,2,FALSE))","v":""},null,null,"5234Deporte Y Recreación","Antioquia",5234,"Dabeiba",null,"Deporte Y Recreación",10,null,null,null,null,null,null,null,null,null,null,null,76275,"Pacífico","Valle del Cauca","Florida",62,"ALTO PATÍA - NORTE DEL CAUCA",2,23,2,2,1,"Sesentaydos","Florida",76275,false,52835,"SAN ANDRÉS DE TUMACO","PACÍFICO Y FRONTERA NARIÑENSE",52835,"PacificoFront",null,"CUENCA DEL CAGUÁN Y PIEDEMONTE CAQUETEÑO",18205,"CURILLO","CAQUETÁ","Medio",40,-0.41355308841991484,50]
[52490," ","Olaya Herrera","Tiene consejo","No tiene resguardo",1,null,null,null,null,"YOLOMBÓ",null,null,null,null,null,"ZETAQUIRA",null,null,null,null,null,null,null,null,null,null,null,null,null,null,null,null,null,null,null,null,null,null,null,null,null,52233,"NARIÑO","CUMBITARA","NARIÑOCUMBITARA","ALTO PATÍA - NORTE DEL CAUCA",52233,null,null,null,{"$f":"+IF(Calificación!F128=\"\",\"\",VLOOKUP(Calificación!F128,Listas!$AX$3:$AY$19,2,FALSE))","v":""},null,null,"5234Salud y Protección social","Antioquia",5234,"Dabeiba",null,"Salud y Protección social",11,null,null,null,null,null,null,null,null,null,null,null,76563,"Pacífico","Valle del Cauca","Pradera",62,"ALTO PATÍA - NORTE DEL CAUCA",2,23,2,2,1,"Sesentaydos","Pradera",76563,false,86001,"MOCOA","PUTUMAYO",86001,"PutumayoPDET",null,"MACARENA GUAVIARE",50325,"MAPIRIPÁN","META","Medio",40,-0.41355308841991484,50]
[52520," ","Francisco Pizarro","Tiene consejo","No tiene resguardo",1,null,null,null,null,"YONDÓ",null,null,null,null,null,null,null,null,null,null,null,null,null,null,null,null,null,null,null,null,null,null,null,null,null,null,null,null,null,null,null,52256,"NARIÑO","EL ROSARIO","NARIÑOEL ROSARIO","ALTO PATÍA - NORTE DEL CAUCA",52256,null,null,null,{"$f":"+IF(Calificación!F129=\"\",\"\",VLOOKUP(Calificación!F129,Listas!$AX$3:$AY$19,2,FALSE))","v":""},null,null,"5234Cultura","Antioquia",5234,"Dabeiba",null,"Cultura",12,null,null,null,null,null,null,null,null,null,null,null,52079,"Pacífico","Nariño","Barbacoas",66,"PACÍFICO Y FRONTERA NARIÑENSE",11,11,11,9,6,"Sesentayseis","Barbacoas",52079,false,86320,"ORITO","PUTUMAYO",86320,"PutumayoPDET",null,"SIERRA NEVADA-PERIJÁ-ZONA BANANERA",47189,"CIÉNAGA","MAGDALENA","Medio Bajo",20,-1.2406592652597446,25]
[52540," ","Policarpa","No tiene consejo","No tiene resguardo",0,null,null,null,null,"ZARAGOZA",null,null,null,null,null,null,null,null,null,null,null,null,null,null,null,null,null,null,null,null,null,null,null,null,null,null,null,null,null,null,null,52405,"NARIÑO","LEIVA","NARIÑOLEIVA","ALTO PATÍA - NORTE DEL CAUCA",52405,null,null,null,{"$f":"+IF(Calificación!F130=\"\",\"\",VLOOKUP(Calificación!F130,Listas!$AX$3:$AY$19,2,FALSE))","v":""},null,null,"5234Transporte","Antioquia",5234,"Dabeiba",null,"Transporte",13,null,null,null,null,null,null,null,null,null,null,null,52250,"Pacífico","Nariño","El Charco",66,"PACÍFICO Y FRONTERA NARIÑENSE",11,11,11,9,6,"Sesentayseis","El Charco",52250,false,86568,"PUERTO ASÍS","PUTUMAYO",86568,"PutumayoPDET",null,"URABÁ ANTIOQUEÑO",5490,"NECOCLÍ","ANTIOQUIA","Medio Bajo",20,-1.2406592652597446,25]
[52612," ","Ricaurte","No tiene consejo","No tiene resguardo",0,null,null,null,null,null,null,null,null,null,null,null,null,null,null,null,null,null,null,null,null,null,null,null,null,null,null,null,null,null,null,null,null,null,null,null,null,52418,"NARIÑO","LOS ANDES","NARIÑOLOS ANDES","ALTO PATÍA - NORTE DEL CAUCA",52418,null,null,null,{"$f":"+IF(Calificación!F131=\"\",\"\",VLOOKUP(Calificación!F131,Listas!$AX$3:$AY$19,2,FALSE))","v":""},null,null,"5234Minas y Energía","Antioquia",5234,"Dabeiba",null,"Minas y Energía",14,null,null,null,null,null,null,null,null,null,null,null,52390,"Pacífico","Nariño","La Tola",66,"PACÍFICO Y FRONTERA NARIÑENSE",11,11,11,9,6,"Sesentayseis","La Tola",52390,false,86569,"PUERTO CAICEDO","PUTUMAYO",86569,"PutumayoPDET",null,"CUENCA DEL CAGUÁN Y PIEDEMONTE CAQUETEÑO",18410,"LA MONTAÑITA","CAQUETÁ","Muy Alto",80,1.2406592652597446,100]
[52621," ","Roberto Payán","Tiene consejo","No tiene resguardo",1,null,null,null,null,null,null,null,null,null,null,null,null,null,null,null,null,null,null,null,null,null,null,null,null,null,null,null,null,null,null,null,null,null,null,null,null,52540,"NARIÑO","POLICARPA","NARIÑOPOLICARPA","ALTO PATÍA - NORTE DEL CAUCA",52540,null,null,null,{"$f":"+IF(Calificación!F132=\"\",\"\",VLOOKUP(Calificación!F132,Listas!$AX$3:$AY$19,2,FALSE))","v":""},null,null,"5250Desarrollo Económico","Antioquia",5250,"El Bagre",null,"Desarrollo Económico",1,null,null,null,null,null,null,null,null,null,null,null,52427,"Pacífico","Nariño","Magüi",66,"PACÍFICO Y FRONTERA NARIÑENSE",11,11,11,9,6,"Sesentayseis","Magüi",52427,false,86571,"PUERTO GUZMÁN","PUTUMAYO",86571,"PutumayoPDET",null,"SIERRA NEVADA-PERIJÁ-ZONA BANANERA",47288,"FUNDACIÓN","MAGDALENA","Medio Bajo",20,-1.2406592652597446,25]
[52696," ","Santa Bárbara","Tiene consejo","No tiene resguardo",1,null,null,null,null,null,null,null,null,null,null,null,null,null,null,null,null,null,null,null,null,null,null,null,null,null,null,null,null,null,null,null,null,null,null,null,null,52079,"NARIÑO","BARBACOAS","NARIÑOBARBACOAS","PACÍFICO Y FRONTERA NARIÑENSE",52079,null,null,null,{"$f":"+IF(Calificación!F133=\"\",\"\",VLOOKUP(Calificación!F133,Listas!$AX$3:$AY$19,2,FALSE))","v":""},null,null,"5250Tecnologías de la Información y las Comunicaciones","Antioquia",5250,"El Bagre",null,"Tecnologías de la Información y las Comunicaciones",2,null,null,null,null,null,null,null,null,null,null,null,52473,"Pacífico","Nariño","Mosquera",66,"PACÍFICO Y FRONTERA NARIÑENSE",{"$f":"+COUNTIF($BY$4:$BY$171,BY130)","v":11},{"$f":"+IF(BZ130=\"No es PDET\",9999999999999,COUNTIF($BZ$4:$BZ$171,BZ130))","v":11},11,9,6,"Sesentayseis","Mosquera",52473,false,86573,"PUERTO LEGUÍZAMO","PUTUMAYO",86573,"PutumayoPDET",null,"URABÁ ANTIOQUEÑO",5147,"CAREPA","ANTIOQUIA","Medio Bajo",20,-1.2406592652597446,25]
[52835," ","San Andres de Tumaco","Tiene consejo","No tiene resguardo",1,null,null,null,null,null,null,null,null,null,null,null,null,null,null,null,null,null,null,null,null,null,null,null,null,null,null,null,null,null,null,null,null,null,null,null,null,52250,"NARIÑO","EL CHARCO","NARIÑOEL CHARCO","PACÍFICO Y FRONTERA NARIÑENSE",52250,null,null,null,{"$f":"+IF(Calificación!F134=\"\",\"\",VLOOKUP(Calificación!F134,Listas!$AX$3:$AY$19,2,FALSE))","v":""},null,null,"5250Vivienda, Ciudad Y Territorio","Antioquia",5250,"El Bagre",null,"Vivienda, Ciudad Y Territorio",3,null,null,null,null,null,null,null,null,null,null,null,52490,"Pacífico","Nariño","Olaya Herrera",66,"PACÍFICO Y FRONTERA NARIÑENSE",11,11,11,9,6,"Sesentayseis","Olaya Herrera",52490,false,86757,"SAN MIGUEL","PUTUMAYO",86757,"PutumayoPDET",null,"SIERRA NEVADA-PERIJÁ-ZONA BANANERA",20570,"PUEBLO BELLO","CESAR","Medio Bajo",20,-1.2406592652597446,25]
[54206," ","Convención","No tiene consejo","No tiene resguardo",0,null,null,null,null,null,null,null,null,null,null,null,null,null,null,null,null,null,null,null,null,null,null,null,null,null,null,null,null,null,null,null,null,null,null,null,null,52390,"NARIÑO","LA TOLA",{"$f":"+AR132&AS132","v":"NARIÑOLA TOLA"},"PACÍFICO Y FRONTERA NARIÑENSE",52390,null,null,null,{"$f":"+IF(Calificación!F135=\"\",\"\",VLOOKUP(Calificación!F135,Listas!$AX$3:$AY$19,2,FALSE))","v":""},null,null,{"$f":"+BE132&BH132","v":"5250Agricultura y desarrollo rural"},"Antioquia",5250,"El Bagre",null,"Agricultura y desarrollo rural",4,null,null,null,null,null,null,null,null,null,null,null,52520,"Pacífico","Nariño","Francisco Pizarro",66,"PACÍFICO Y FRONTERA NARIÑENSE",11,11,11,{"$f":"+ROUNDUP(CC132*$CD$1,0)","v":9},{"$f":"ROUNDUP(CC132*$CE$1,0)","v":6},"Sesentayseis","Francisco Pizarro",52520,{"$f":"+CB132<CA132","v":false},86865,"VALLE DEL GUAMUEZ","PUTUMAYO",86865,"PutumayoPDET",null,"SIERRA NEVADA-PERIJÁ-ZONA BANANERA",47053,"ARACATACA","MAGDALENA","Medio Bajo",{"$f":"+VLOOKUP(CT132,$CY$3:$CZ$7,2,FALSE)","v":20},{"$f":"+(CU132-AVERAGE(CU$3:CU$172))/STDEVP(CU$3:CU$172)","v":-1.2406592652597446},{"$f":"(+(CV132-MIN(CV$3:CV$172))/(MAX(CV$3:CV$172)-MIN(CV$3:CV$172)))*100","v":25}]
[54245," ","El Carmen","No tiene consejo","Tiene resguardo",1,null,null,null,null,null,null,null,null,null,null,null,null,null,null,null,null,null,null,null,null,null,null,null,null,null,null,null,null,null,null,null,null,null,null,null,null,52427,"NARIÑO","MAGÜÍ","NARIÑOMAGÜÍ","PACÍFICO Y FRONTERA NARIÑENSE",52427,null,null,null,{"$f":"+IF(Calificación!F136=\"\",\"\",VLOOKUP(Calificación!F136,Listas!$AX$3:$AY$19,2,FALSE))","v":""},null,null,"5250Educación","Antioquia",5250,"El Bagre",null,"Educación",5,null,null,null,null,null,null,null,null,null,null,null,52612,"Pacífico","Nariño","Ricaurte",66,"PACÍFICO Y FRONTERA NARIÑENSE",11,11,11,9,6,"Sesentayseis","Ricaurte",52612,false,86885,"VILLAGARZÓN","PUTUMAYO",86885,"PutumayoPDET",null,"PUTUMAYO",86320,"ORITO","PUTUMAYO","Alto",60,0.41355308841991484,74.999999999999986]
[54250," ","El Tarra","No tiene consejo","No tiene resguardo",0,null,null,null,null,null,null,null,null,null,null,null,null,null,null,null,null,null,null,null,null,null,null,null,null,null,null,null,null,null,null,null,null,null,null,null,null,52473,"NARIÑO","MOSQUERA","NARIÑOMOSQUERA","PACÍFICO Y FRONTERA NARIÑENSE",52473,null,null,null,{"$f":"+IF(Calificación!F137=\"\",\"\",VLOOKUP(Calificación!F137,Listas!$AX$3:$AY$19,2,FALSE))","v":""},null,null,"5250Inclusión Social Y Reconciliación","Antioquia",5250,"El Bagre",null,"Inclusión Social Y Reconciliación",6,null,null,null,null,null,null,null,null,null,null,null,52621,"Pacífico","Nariño","Roberto Payán",66,"PACÍFICO Y FRONTERA NARIÑENSE",11,11,11,9,6,"Sesentayseis","Roberto Payán",52621,false,20001,"VALLEDUPAR","SIERRA NEVADA - PERIJÁ",20001,"Sierra",null,"ALTO PATÍA Y NORTE DEL CAUCA",19450,"MERCADERES","CAUCA","Medio",40,-0.41355308841991484,50]
[54344," ","Hacarí","No tiene consejo","No tiene resguardo",0,null,null,null,null,null,null,null,null,null,null,null,null,null,null,null,null,null,null,null,null,null,null,null,null,null,null,null,null,null,null,null,null,null,null,null,null,52490,"NARIÑO","OLAYA HERRERA","NARIÑOOLAYA HERRERA","PACÍFICO Y FRONTERA NARIÑENSE",52490,null,null,null,{"$f":"+IF(Calificación!F138=\"\",\"\",VLOOKUP(Calificación!F138,Listas!$AX$3:$AY$19,2,FALSE))","v":""},null,null,"5250Gobierno territorial","Antioquia",5250,"El Bagre",null,"Gobierno territorial",7,null,null,null,null,null,null,null,null,null,null,null,52696,"Pacífico","Nariño","Santa Bárbara",66,"PACÍFICO Y FRONTERA NARIÑENSE",11,11,11,9,6,"Sesentayseis","Santa Bárbara",52696,false,20013,"AGUSTÍN CODAZZI","SIERRA NEVADA - PERIJÁ",20013,"Sierra",null,"ALTO PATÍA Y NORTE DEL CAUCA",76563,"PRADERA","VALLE DEL CAUCA","Medio Bajo",20,-1.2406592652597446,25]
[54670," ","San Calixto","No tiene consejo","No tiene resguardo",0,null,null,null,null,null,null,null,null,null,null,null,null,null,null,null,null,null,null,null,null,null,null,null,null,null,null,null,null,null,null,null,null,null,null,null,null,52520,"NARIÑO","FRANCISCO PIZARRO","NARIÑOFRANCISCO PIZARRO","PACÍFICO Y FRONTERA NARIÑENSE",52520,null,null,null,{"$f":"+IF(Calificación!F139=\"\",\"\",VLOOKUP(Calificación!F139,Listas!$AX$3:$AY$19,2,FALSE))","v":""},null,null,"5250Ambiente y Desarrollo Sostenible","Antioquia",5250,"El Bagre",null,"Ambiente y Desarrollo Sostenible",8,null,null,null,null,null,null,null,null,null,null,null,52835,"Pacífico","Nariño","Tumaco",66,"PACÍFICO Y FRONTERA NARIÑENSE",11,11,11,9,6,"Sesentayseis","Tumaco",52835,false,20045,"BECERRIL","SIERRA NEVADA - PERIJÁ",20045,"Sierra",null,"MONTES DE MARÍA",70523,"PALMITO","SUCRE","Bajo",0,-2.0677654420995744,0]
[54720," ","Sardinata","No tiene consejo","No tiene resguardo",0,null,null,null,null,null,null,null,null,null,null,null,null,null,null,null,null,null,null,null,null,null,null,null,null,null,null,null,null,null,null,null,null,null,null,null,null,52612,"NARIÑO","RICAURTE","NARIÑORICAURTE","PACÍFICO Y FRONTERA NARIÑENSE",52612,null,null,null,{"$f":"+IF(Calificación!F140=\"\",\"\",VLOOKUP(Calificación!F140,Listas!$AX$3:$AY$19,2,FALSE))","v":""},null,null,"5250Justicia y del Derecho","Antioquia",5250,"El Bagre",null,"Justicia y del Derecho",9,null,null,null,null,null,null,null,null,null,null,null,70204,"Caribe","Sucre","Coloso",68,"MONTES DE MARÍA",5,15,5,4,3,"Sesentayocho","Coloso",70204,false,20400,"LA JAGUA DE IBIRICO","SIERRA NEVADA - PERIJÁ",20400,"Sierra",null,"ALTO PATÍA Y NORTE DEL CAUCA",19130,"CAJIBÍO","CAUCA","Medio",40,-0.41355308841991484,50]
[54800," ","Teorama","No tiene consejo","No tiene resguardo",0,null,null,null,null,null,null,null,null,null,null,null,null,null,null,null,null,null,null,null,null,null,null,null,null,null,null,null,null,null,null,null,null,null,null,null,null,52621,"NARIÑO","ROBERTO PAYÁN","NARIÑOROBERTO PAYÁN","PACÍFICO Y FRONTERA NARIÑENSE",52621,null,null,null,{"$f":"+IF(Calificación!F141=\"\",\"\",VLOOKUP(Calificación!F141,Listas!$AX$3:$AY$19,2,FALSE))","v":""},null,null,"5250Deporte Y Recreación","Antioquia",5250,"El Bagre",null,"Deporte Y Recreación",10,null,null,null,null,null,null,null,null,null,null,null,70230,"Caribe","Sucre","Chalán",68,"MONTES DE MARÍA",5,15,5,4,3,"Sesentayocho","Chalán",70230,false,20570,"PUEBLO BELLO","SIERRA NEVADA - PERIJÁ",20570,"Sierra",null,"MACARENA GUAVIARE",50370,"URIBE","META","Muy Alto",80,1.2406592652597446,100]
[54810," ","Tibú","No tiene consejo","No tiene resguardo",0,null,null,null,null,null,null,null,null,null,null,null,null,null,null,null,null,null,null,null,null,null,null,null,null,null,null,null,null,null,null,null,null,null,null,null,null,52696,"NARIÑO","SANTA BÁRBARA","NARIÑOSANTA BÁRBARA","PACÍFICO Y FRONTERA NARIÑENSE",52696,null,null,null,{"$f":"+IF(Calificación!F142=\"\",\"\",VLOOKUP(Calificación!F142,Listas!$AX$3:$AY$19,2,FALSE))","v":""},null,null,"5250Cultura","Antioquia",5250,"El Bagre",null,"Cultura",11,null,null,null,null,null,null,null,null,null,null,null,70523,"Caribe","Sucre","Palmito",68,"MONTES DE MARÍA",5,15,5,4,3,"Sesentayocho","Palmito",70523,false,20621,"LA PAZ","SIERRA NEVADA - PERIJÁ",20621,"Sierra",null,"CUENCA DEL CAGUÁN Y PIEDEMONTE CAQUETEÑO",18460,"MILÁN","CAQUETÁ","Medio",40,-0.41355308841991484,50]
[70204," ","Coloso","Tiene consejo","No tiene resguardo",1,null,null,null,null,null,null,null,null,null,null,null,null,null,null,null,null,null,null,null,null,null,null,null,null,null,null,null,null,null,null,null,null,null,null,null,null,52835,"NARIÑO","SAN ANDRÉS DE TUMACO","NARIÑOSAN ANDRÉS DE TUMACO","PACÍFICO Y FRONTERA NARIÑENSE",52835,null,null,null,{"$f":"+IF(Calificación!F143=\"\",\"\",VLOOKUP(Calificación!F143,Listas!$AX$3:$AY$19,2,FALSE))","v":""},null,null,"5250Transporte","Antioquia",5250,"El Bagre",null,"Transporte",12,null,null,null,null,null,null,null,null,null,null,null,70713,"Caribe","Sucre","San Onofre",68,"MONTES DE MARÍA",5,15,5,4,3,"Sesentayocho","San Onofre",70713,false,20750,"SAN DIEGO","SIERRA NEVADA - PERIJÁ",20750,"Sierra",null,"URABÁ ANTIOQUEÑO",5665,"SAN PEDRO DE URABA","ANTIOQUIA","Medio Bajo",20,-1.2406592652597446,25]
[70230," ","Chalán","No tiene consejo","No tiene resguardo",0,null,null,null,null,null,null,null,null,null,null,null,null,null,null,null,null,null,null,null,null,null,null,null,null,null,null,null,null,null,null,null,null,null,null,null,null,54206,"NORTE_DE_SANTANDER","CONVENCIÓN","NORTE_DE_SANTANDERCONVENCIÓN","CATATUMBO",54206,null,null,null,{"$f":"+IF(Calificación!F144=\"\",\"\",VLOOKUP(Calificación!F144,Listas!$AX$3:$AY$19,2,FALSE))","v":""},null,null,"5250Salud y Protección social","Antioquia",5250,"El Bagre",null,"Salud y Protección social",13,null,null,null,null,null,null,null,null,null,null,null,70823,"Caribe","Sucre","Tolú Viejo",68,"MONTES DE MARÍA",5,15,5,4,3,"Sesentayocho","Tolú Viejo",70823,false,44090,"DIBULLA","SIERRA NEVADA - PERIJÁ",44090,"Sierra",null,"ALTO PATÍA Y NORTE DEL CAUCA",76275,"FLORIDA","VALLE DEL CAUCA","Medio",40,-0.41355308841991484,50]
[70418," ","Los Palmitos","No tiene consejo","No tiene resguardo",0,null,null,null,null,null,null,null,null,null,null,null,null,null,null,null,null,null,null,null,null,null,null,null,null,null,null,null,null,null,null,null,null,null,null,null,null,54245,"NORTE_DE_SANTANDER","EL CARMEN","NORTE_DE_SANTANDEREL CARMEN","CATATUMBO",54245,null,null,null,{"$f":"+IF(Calificación!F145=\"\",\"\",VLOOKUP(Calificación!F145,Listas!$AX$3:$AY$19,2,FALSE))","v":""},null,null,"5250Minas y Energía","Antioquia",5250,"El Bagre",null,"Minas y Energía",14,null,null,null,null,null,null,null,null,null,null,null,27006,"Pacífico","Chocó","Acandí",69,"CHOCÓ",4,14,4,3,2,"Sesentaynueve","Acandí",27006,false,44279,"FONSECA","SIERRA NEVADA - PERIJÁ",44279,"Sierra",null,"SUR DE BOLÍVAR",5893,"YONDÓ","ANTIOQUIA","Medio Bajo",20,-1.2406592652597446,25]
[70473," ","Morroa","No tiene consejo","No tiene resguardo",0,null,null,null,null,null,null,null,null,null,null,null,null,null,null,null,null,null,null,null,null,null,null,null,null,null,null,null,null,null,null,null,null,null,null,null,null,54250,"NORTE_DE_SANTANDER","EL TARRA","NORTE_DE_SANTANDEREL TARRA","CATATUMBO",54250,null,null,null,{"$f":"+IF(Calificación!F146=\"\",\"\",VLOOKUP(Calificación!F146,Listas!$AX$3:$AY$19,2,FALSE))","v":""},null,null,"5361Tecnologías de la Información y las Comunicaciones","Antioquia",5361,"Ituango",null,"Tecnologías de la Información y las Comunicaciones",1,null,null,null,null,null,null,null,null,null,null,null,27615,"Pacífico","Chocó","Riosucio",69,"CHOCÓ",4,14,4,3,2,"Sesentaynueve","Riosucio",27615,false,20443,"MANAURE","SIERRA NEVADA - PERIJÁ",20443,"Sierra",null,"CUENCA DEL CAGUÁN Y PIEDEMONTE CAQUETEÑO",18094,"BELÉN DE LOS ANDAQUÍES","CAQUETÁ","Medio Bajo",20,-1.2406592652597446,25]
[70508," ","Ovejas","No tiene consejo","No tiene resguardo",0,null,null,null,null,null,null,null,null,null,null,null,null,null,null,null,null,null,null,null,null,null,null,null,null,null,null,null,null,null,null,null,null,null,null,null,null,54344,"NORTE_DE_SANTANDER","HACARÍ","NORTE_DE_SANTANDERHACARÍ","CATATUMBO",54344,null,null,null,{"$f":"+IF(Calificación!F147=\"\",\"\",VLOOKUP(Calificación!F147,Listas!$AX$3:$AY$19,2,FALSE))","v":""},null,null,"5361Desarrollo Económico","Antioquia",5361,"Ituango",null,"Desarrollo Económico",2,null,null,null,null,null,null,null,null,null,null,null,27800,"Pacífico","Chocó","Unguía",69,"CHOCÓ",4,14,4,3,2,"Sesentaynueve","Unguía",27800,false,44650,"SAN JUAN DEL CESAR","SIERRA NEVADA - PERIJÁ",44650,"Sierra",null,"SIERRA NEVADA-PERIJÁ-ZONA BANANERA",20400,"LA JAGUA DE IBIRICO","CESAR","Medio Bajo",20,-1.2406592652597446,25]
[70523," ","Palmito","No tiene consejo","No tiene resguardo",0,null,null,null,null,null,null,null,null,null,null,null,null,null,null,null,null,null,null,null,null,null,null,null,null,null,null,null,null,null,null,null,null,null,null,null,null,54670,"NORTE_DE_SANTANDER","SAN CALIXTO","NORTE_DE_SANTANDERSAN CALIXTO","CATATUMBO",54670,null,null,null,{"$f":"+IF(Calificación!F148=\"\",\"\",VLOOKUP(Calificación!F148,Listas!$AX$3:$AY$19,2,FALSE))","v":""},null,null,"5361Agricultura y desarrollo rural","Antioquia",5361,"Ituango",null,"Agricultura y desarrollo rural",3,null,null,null,null,null,null,null,null,null,null,null,5234,"Eje Cafetero","Antioquia","Dabeiba",69,"URABÁ ANTIOQUEÑO",4,8,4,3,2,"Sesentaynueve","Dabeiba",5234,false,47001,"SANTA MARTA","SIERRA NEVADA - PERIJÁ",47001,"Sierra",null,"CUENCA DEL CAGUÁN Y PIEDEMONTE CAQUETEÑO",18785,"SOLITA","CAQUETÁ","Medio",40,-0.41355308841991484,50]
[70713," ","San Onofre","No tiene consejo","No tiene resguardo",0,null,null,null,null,null,null,null,null,null,null,null,null,null,null,null,null,null,null,null,null,null,null,null,null,null,null,null,null,null,null,null,null,null,null,null,null,54720,"NORTE_DE_SANTANDER","SARDINATA","NORTE_DE_SANTANDERSARDINATA","CATATUMBO",54720,null,null,null,{"$f":"+IF(Calificación!F149=\"\",\"\",VLOOKUP(Calificación!F149,Listas!$AX$3:$AY$19,2,FALSE))","v":""},null,null,"5361Educación","Antioquia",5361,"Ituango",null,"Educación",4,null,null,null,null,null,null,null,null,null,null,null,13212,"Caribe","Bolívar","Córdoba",72,"MONTES DE MARÍA",1,15,{"$f":"ROUNDUP(AVERAGE(CA146,CB146),0)","v":8},6,4,"Setentaydos","Córdoba",13212,false,47053,"ARACATACA","SIERRA NEVADA - PERIJÁ",47053,"Sierra",null,"CUENCA DEL CAGUÁN Y PIEDEMONTE CAQUETEÑO",18247,"EL DONCELLO","CAQUETÁ","Medio Bajo",20,-1.2406592652597446,25]
[70823," ","Tolú Viejo","No tiene consejo","No tiene resguardo",0,null,null,null,null,null,null,null,null,null,null,null,null,null,null,null,null,null,null,null,null,null,null,null,null,null,null,null,null,null,null,null,null,null,null,null,null,54800,"NORTE_DE_SANTANDER","TEORAMA","NORTE_DE_SANTANDERTEORAMA","CATATUMBO",54800,null,null,null,{"$f":"+IF(Calificación!F150=\"\",\"\",VLOOKUP(Calificación!F150,Listas!$AX$3:$AY$19,2,FALSE))","v":""},null,null,"5361Vivienda, Ciudad Y Territorio","Antioquia",5361,"Ituango",null,"Vivienda, Ciudad Y Territorio",5,null,null,null,null,null,null,null,null,null,null,null,18001,"Centro Sur","Caquetá","Florencia",78,"CUENCA DEL CAGUÁN Y PIEDEMONTE CAQUETEÑO",7,16,{"$f":"+MIN(CA147:CB147)","v":7},6,4,"Setentayocho","Florencia",18001,false,47189,"CIÉNAGA","SIERRA NEVADA - PERIJÁ",47189,"Sierra",null,"MONTES DE MARÍA",70473,"MORROA","SUCRE","Medio Bajo",20,-1.2406592652597446,25]
[73067," ","Ataco","No tiene consejo","Tiene resguardo",1,null,null,null,null,null,null,null,null,null,null,null,null,null,null,null,null,null,null,null,null,null,null,null,null,null,null,null,null,null,null,null,null,null,null,null,null,54810,"NORTE_DE_SANTANDER","TIBÚ","NORTE_DE_SANTANDERTIBÚ","CATATUMBO",54810,null,null,null,{"$f":"+IF(Calificación!F151=\"\",\"\",VLOOKUP(Calificación!F151,Listas!$AX$3:$AY$19,2,FALSE))","v":""},null,null,"5361Inclusión Social Y Reconciliación","Antioquia",5361,"Ituango",null,"Inclusión Social Y Reconciliación",6,null,null,null,null,null,null,null,null,null,null,null,18150,"Centro Sur","Caquetá","Cartagena del Chairá",78,"CUENCA DEL CAGUÁN Y PIEDEMONTE CAQUETEÑO",7,16,7,6,4,"Setentayocho","Cartagena del Chairá",18150,false,47288,"FUNDACIÓN","SIERRA NEVADA - PERIJÁ",47288,"Sierra",null,"SIERRA NEVADA-PERIJÁ-ZONA BANANERA",20045,"BECERRIL","CESAR","Medio Bajo",20,-1.2406592652597446,25]
[73168," ","Chaparral","No tiene consejo","No tiene resguardo",0,null,null,null,null,null,null,null,null,null,null,null,null,null,null,null,null,null,null,null,null,null,null,null,null,null,null,null,null,null,null,null,null,null,null,null,null,86001,"PUTUMAYO","MOCOA","PUTUMAYOMOCOA","PUTUMAYO",86001,null,null,null,{"$f":"+IF(Calificación!F152=\"\",\"\",VLOOKUP(Calificación!F152,Listas!$AX$3:$AY$19,2,FALSE))","v":""},null,null,"5361Gobierno territorial","Antioquia",5361,"Ituango",null,"Gobierno territorial",7,null,null,null,null,null,null,null,null,null,null,null,18247,"Centro Sur","Caquetá","El Doncello",78,"CUENCA DEL CAGUÁN Y PIEDEMONTE CAQUETEÑO",7,16,7,6,4,"Setentayocho","El Doncello",18247,false,5893,"YONDÓ","SUR DE BOLÍVAR",5893,"SurBolivar",null,"MONTES DE MARÍA",13657,"SAN JUAN NEPOMUCENO","BOLÍVAR","Medio Bajo",20,-1.2406592652597446,25]
[73555," ","Planadas","No tiene consejo","No tiene resguardo",0,null,null,null,null,null,null,null,null,null,null,null,null,null,null,null,null,null,null,null,null,null,null,null,null,null,null,null,null,null,null,null,null,null,null,null,null,86320,"PUTUMAYO","ORITO","PUTUMAYOORITO","PUTUMAYO",86320,null,null,null,{"$f":"+IF(Calificación!F153=\"\",\"\",VLOOKUP(Calificación!F153,Listas!$AX$3:$AY$19,2,FALSE))","v":""},null,null,"5361Ambiente y Desarrollo Sostenible","Antioquia",5361,"Ituango",null,"Ambiente y Desarrollo Sostenible",8,null,null,null,null,null,null,null,null,null,null,null,18256,"Centro Sur","Caquetá","El Paujil",78,"CUENCA DEL CAGUÁN Y PIEDEMONTE CAQUETEÑO",7,16,7,6,4,"Setentayocho","El Paujil",18256,false,13042,"ARENAL","SUR DE BOLÍVAR",13042,"SurBolivar",null,"CUENCA DEL CAGUÁN Y PIEDEMONTE CAQUETEÑO",18256,"EL PAUJIL","CAQUETÁ","Medio Bajo",20,-1.2406592652597446,25]
[73616," ","Rioblanco","No tiene consejo","No tiene resguardo",0,null,null,null,null,null,null,null,null,null,null,null,null,null,null,null,null,null,null,null,null,null,null,null,null,null,null,null,null,null,null,null,null,null,null,null,null,86568,"PUTUMAYO","PUERTO ASÍS","PUTUMAYOPUERTO ASÍS","PUTUMAYO",86568,null,null,null,{"$f":"+IF(Calificación!F154=\"\",\"\",VLOOKUP(Calificación!F154,Listas!$AX$3:$AY$19,2,FALSE))","v":""},null,null,"5361Justicia y del Derecho","Antioquia",5361,"Ituango",null,"Justicia y del Derecho",9,null,null,null,null,null,null,null,null,null,null,null,18479,"Centro Sur","Caquetá","Morelia",78,"CUENCA DEL CAGUÁN Y PIEDEMONTE CAQUETEÑO",7,16,7,6,4,"Setentayocho","Morelia",18479,false,13160,"CANTAGALLO","SUR DE BOLÍVAR",13160,"SurBolivar",null,"MONTES DE MARÍA",70823,"TOLÚ VIEJO","SUCRE","Medio Bajo",20,-1.2406592652597446,25]
[76109," ","Buenaventura","Tiene consejo","Tiene resguardo",1,null,null,null,null,null,null,null,null,null,null,null,null,null,null,null,null,null,null,null,null,null,null,null,null,null,null,null,null,null,null,null,null,null,null,null,null,86569,"PUTUMAYO","PUERTO CAICEDO","PUTUMAYOPUERTO CAICEDO","PUTUMAYO",86569,null,null,null,{"$f":"+IF(Calificación!F155=\"\",\"\",VLOOKUP(Calificación!F155,Listas!$AX$3:$AY$19,2,FALSE))","v":""},null,null,"5361Deporte Y Recreación","Antioquia",5361,"Ituango",null,"Deporte Y Recreación",10,null,null,null,null,null,null,null,null,null,null,null,18753,"Centro Sur","Caquetá","San Vicente del Caguán",78,"CUENCA DEL CAGUÁN Y PIEDEMONTE CAQUETEÑO",7,16,7,6,4,"Setentayocho","San Vicente del Caguán",18753,false,13473,"MORALES","SUR DE BOLÍVAR",13473,"SurBolivar",null,"MONTES DE MARÍA",70204,"COLOSO","SUCRE","Medio Bajo",20,-1.2406592652597446,25]
[76275," ","Florida","No tiene consejo","Tiene resguardo",1,null,null,null,null,null,null,null,null,null,null,null,null,null,null,null,null,null,null,null,null,null,null,null,null,null,null,null,null,null,null,null,null,null,null,null,null,86571,"PUTUMAYO","PUERTO GUZMÁN","PUTUMAYOPUERTO GUZMÁN","PUTUMAYO",86571,null,null,null,{"$f":"+IF(Calificación!F156=\"\",\"\",VLOOKUP(Calificación!F156,Listas!$AX$3:$AY$19,2,FALSE))","v":""},null,null,"5361Cultura","Antioquia",5361,"Ituango",null,"Cultura",11,null,null,null,null,null,null,null,null,null,null,null,41020,"Centro Sur","Huila","Algeciras",78,"CUENCA DEL CAGUÁN Y PIEDEMONTE CAQUETEÑO",7,16,7,6,4,"Setentayocho","Algeciras",41020,false,13670,"SAN PABLO","SUR DE BOLÍVAR",13670,"SurBolivar",null,"MONTES DE MARÍA",13654,"SAN JACINTO","BOLÍVAR","Medio Bajo",20,-1.2406592652597446,25]
[76563," ","Pradera","No tiene consejo","No tiene resguardo",0,null,null,null,null,null,null,null,null,null,null,null,null,null,null,null,null,null,null,null,null,null,null,null,null,null,null,null,null,null,null,null,null,null,null,null,null,86573,"PUTUMAYO","PUERTO LEGUÍZAMO","PUTUMAYOPUERTO LEGUÍZAMO","PUTUMAYO",86573,null,null,null,{"$f":"+IF(Calificación!F157=\"\",\"\",VLOOKUP(Calificación!F157,Listas!$AX$3:$AY$19,2,FALSE))","v":""},null,null,"5361Transporte","Antioquia",5361,"Ituango",null,"Transporte",12,null,null,null,null,null,null,null,null,null,null,null,5475,"Eje Cafetero","Antioquia","Murindó",80,"CHOCÓ",6,14,6,5,3,"Ochenta","Murindó",5475,false,13688,"SANTA ROSA DEL SUR","SUR DE BOLÍVAR",13688,"SurBolivar",null,"SIERRA NEVADA-PERIJÁ-ZONA BANANERA",20621,"LA PAZ","CESAR","Medio Bajo",20,-1.2406592652597446,25]
[81065," ","Arauquita","Tiene consejo","Tiene resguardo",1,null,null,null,null,null,null,null,null,null,null,null,null,null,null,null,null,null,null,null,null,null,null,null,null,null,null,null,null,null,null,null,null,null,null,null,null,86757,"PUTUMAYO","SAN MIGUEL","PUTUMAYOSAN MIGUEL","PUTUMAYO",86757,null,null,null,{"$f":"+IF(Calificación!F158=\"\",\"\",VLOOKUP(Calificación!F158,Listas!$AX$3:$AY$19,2,FALSE))","v":""},null,null,"5361Salud y Protección social","Antioquia",5361,"Ituango",null,"Salud y Protección social",13,null,null,null,null,null,null,null,null,null,null,null,5873,"Eje Cafetero","Antioquia","Vigía del Fuerte",80,"CHOCÓ",6,14,6,5,3,"Ochenta","Vigía del Fuerte",5873,false,13744,"SIMITÍ","SUR DE BOLÍVAR",13744,"SurBolivar",null,"PUTUMAYO",86001,"MOCOA","PUTUMAYO","Medio Bajo",20,-1.2406592652597446,25]
[81300," ","Fortul","No tiene consejo","Tiene resguardo",1,null,null,null,null,null,null,null,null,null,null,null,null,null,null,null,null,null,null,null,null,null,null,null,null,null,null,null,null,null,null,null,null,null,null,null,null,86865,"PUTUMAYO","VALLE DEL GUAMUEZ","PUTUMAYOVALLE DEL GUAMUEZ","PUTUMAYO",86865,null,null,null,{"$f":"+IF(Calificación!F159=\"\",\"\",VLOOKUP(Calificación!F159,Listas!$AX$3:$AY$19,2,FALSE))","v":""},null,null,"5361Minas y Energía","Antioquia",5361,"Ituango",null,"Minas y Energía",14,null,null,null,null,null,null,null,null,null,null,null,27099,"Pacífico","Chocó","Bojaya",80,"CHOCÓ",6,14,6,5,3,"Ochenta","Bojaya",27099,false,23466,"MONTELÍBANO","SUR DE CÓRDOBA",23466,"SurCordoba",null,"CUENCA DEL CAGUÁN Y PIEDEMONTE CAQUETEÑO",18860,"VALPARAÍSO","CAQUETÁ","Medio Bajo",20,-1.2406592652597446,25]
[81736," ","Saravena","No tiene consejo","No tiene resguardo",0,null,null,null,null,null,null,null,null,null,null,null,null,null,null,null,null,null,null,null,null,null,null,null,null,null,null,null,null,null,null,null,null,null,null,null,null,86885,"PUTUMAYO","VILLAGARZÓN","PUTUMAYOVILLAGARZÓN","PUTUMAYO",86885,null,null,null,{"$f":"+IF(Calificación!F160=\"\",\"\",VLOOKUP(Calificación!F160,Listas!$AX$3:$AY$19,2,FALSE))","v":""},null,null,"5475Vivienda, Ciudad Y Territorio","Antioquia",5475,"Murindó",null,"Vivienda, Ciudad Y Territorio",1,null,null,null,null,null,null,null,null,null,null,null,27150,"Pacífico","Chocó","Carmen del Darien",80,"CHOCÓ",6,14,6,5,3,"Ochenta","Carmen del Darien",27150,false,23580,"PUERTO LIBERTADOR","SUR DE CÓRDOBA",23580,"SurCordoba",null,"SUR DEL TOLIMA",73067,"ATACO","TOLIMA","Medio Bajo",20,-1.2406592652597446,25]
[81794," ","Tame","No tiene consejo","No tiene resguardo",0,null,null,null,null,null,null,null,null,null,null,null,null,null,null,null,null,null,null,null,null,null,null,null,null,null,null,null,null,null,null,null,null,null,null,null,null,70204,"SUCRE","COLOSÓ","SUCRECOLOSÓ","MONTES DE MARÍA",70204,null,null,null,{"$f":"+IF(Calificación!F161=\"\",\"\",VLOOKUP(Calificación!F161,Listas!$AX$3:$AY$19,2,FALSE))","v":""},null,null,"5475Tecnologías de la Información y las Comunicaciones","Antioquia",5475,"Murindó",null,"Tecnologías de la Información y las Comunicaciones",2,null,null,null,null,null,null,null,null,null,null,null,27361,"Pacífico","Chocó","Istmina",80,"CHOCÓ",6,14,6,5,3,"Ochenta","Istmina",27361,false,23682,"SAN JOSÉ DE URÉ","SUR DE CÓRDOBA",23682,"SurCordoba",null,"SIERRA NEVADA-PERIJÁ-ZONA BANANERA",20013,"AGUSTÍN CODAZZI","CESAR","Medio Bajo",20,-1.2406592652597446,25]
[86001," ","Mocoa","Tiene consejo","No tiene resguardo",1,null,null,null,null,null,null,null,null,null,null,null,null,null,null,null,null,null,null,null,null,null,null,null,null,null,null,null,null,null,null,null,null,null,null,null,null,70230,"SUCRE","CHALÁN","SUCRECHALÁN","MONTES DE MARÍA",70230,null,null,null,{"$f":"+IF(Calificación!F162=\"\",\"\",VLOOKUP(Calificación!F162,Listas!$AX$3:$AY$19,2,FALSE))","v":""},null,null,"5475Agricultura y desarrollo rural","Antioquia",5475,"Murindó",null,"Agricultura y desarrollo rural",3,null,null,null,null,null,null,null,null,null,null,null,27745,"Pacífico","Chocó","Sipí",80,"CHOCÓ",6,14,6,5,3,"Ochenta","Sipí",27745,false,23807,"TIERRALTA","SUR DE CÓRDOBA",23807,"SurCordoba",null,"SIERRA NEVADA-PERIJÁ-ZONA BANANERA",44279,"FONSECA","LA GUAJIRA","Medio Bajo",20,-1.2406592652597446,25]
[86320," ","Orito","Tiene consejo","No tiene resguardo",1,null,null,null,null,null,null,null,null,null,null,null,null,null,null,null,null,null,null,null,null,null,null,null,null,null,null,null,null,null,null,null,null,null,null,null,null,70418,"SUCRE","LOS PALMITOS","SUCRELOS PALMITOS","MONTES DE MARÍA",70418,null,null,null,{"$f":"+IF(Calificación!F163=\"\",\"\",VLOOKUP(Calificación!F163,Listas!$AX$3:$AY$19,2,FALSE))","v":""},null,null,"5475Desarrollo Económico","Antioquia",5475,"Murindó",null,"Desarrollo Económico",4,null,null,null,null,null,null,null,null,null,null,null,73067,"Centro Sur","Tolima","Ataco",81,"SUR DEL TOLIMA",1,4,{"$f":"ROUNDUP(AVERAGE(CA160,CB160),0)","v":3},3,2,"Ochentayuno","Ataco",73067,false,23855,"VALENCIA","SUR DE CÓRDOBA",23855,"SurCordoba",null,"MACARENA GUAVIARE",50330,"MESETAS","META","Muy Alto",80,1.2406592652597446,100]
[86568," ","Puerto Asís","Tiene consejo","No tiene resguardo",1,null,null,null,null,null,null,null,null,null,null,null,null,null,null,null,null,null,null,null,null,null,null,null,null,null,null,null,null,null,null,null,null,null,null,null,null,70473,"SUCRE","MORROA","SUCREMORROA","MONTES DE MARÍA",70473,null,null,null,{"$f":"+IF(Calificación!F164=\"\",\"\",VLOOKUP(Calificación!F164,Listas!$AX$3:$AY$19,2,FALSE))","v":""},null,null,"5475Inclusión Social Y Reconciliación","Antioquia",5475,"Murindó",null,"Inclusión Social Y Reconciliación",5,null,null,null,null,null,null,null,null,null,null,null,19130,"Pacífico","Cauca","Cajibío",83,"ALTO PATÍA - NORTE DEL CAUCA",4,23,{"$f":"+MIN(CA161:CB161)","v":4},3,2,"Ochentaytres","Cajibío",19130,false,73067,"ATACO","SUR DEL TOLIMA",73067,"SurTolima",null,"MONTES DE MARÍA",13244,"EL CARMEN DE BOLÍVAR","BOLÍVAR","Medio Bajo",20,-1.2406592652597446,25]
[86569," ","Puerto Caicedo","No tiene consejo","No tiene resguardo",0,null,null,null,null,null,null,null,null,null,null,null,null,null,null,null,null,null,null,null,null,null,null,null,null,null,null,null,null,null,null,null,null,null,null,null,null,70508,"SUCRE","OVEJAS","SUCREOVEJAS","MONTES DE MARÍA",70508,null,null,null,{"$f":"+IF(Calificación!F165=\"\",\"\",VLOOKUP(Calificación!F165,Listas!$AX$3:$AY$19,2,FALSE))","v":""},null,null,"5475Educación","Antioquia",5475,"Murindó",null,"Educación",6,null,null,null,null,null,null,null,null,null,null,null,19256,"Pacífico","Cauca","El Tambo",83,"ALTO PATÍA - NORTE DEL CAUCA",{"$f":"+COUNTIF($BY$4:$BY$171,BY162)","v":4},{"$f":"+IF(BZ162=\"No es PDET\",9999999999999,COUNTIF($BZ$4:$BZ$171,BZ162))","v":23},4,3,2,"Ochentaytres","El Tambo",19256,false,73168,"CHAPARRAL","SUR DEL TOLIMA",73168,"SurTolima",null,"MACARENA GUAVIARE",50577,"PUERTO LLERAS","META","Medio Bajo",20,-1.2406592652597446,25]
[86571," ","Puerto Guzmán","Tiene consejo","No tiene resguardo",1,null,null,null,null,null,null,null,null,null,null,null,null,null,null,null,null,null,null,null,null,null,null,null,null,null,null,null,null,null,null,null,null,null,null,null,null,70523,"SUCRE","PALMITO","SUCREPALMITO","MONTES DE MARÍA",70523,null,null,null,{"$f":"+IF(Calificación!F166=\"\",\"\",VLOOKUP(Calificación!F166,Listas!$AX$3:$AY$19,2,FALSE))","v":""},null,null,"5475Gobierno territorial","Antioquia",5475,"Murindó",null,"Gobierno territorial",7,null,null,null,null,null,null,null,null,null,null,null,19548,"Pacífico","Cauca","Piendamó",83,"ALTO PATÍA - NORTE DEL CAUCA",4,23,4,3,2,"Ochentaytres","Piendamó",19548,false,73555,"PLANADAS","SUR DEL TOLIMA",73555,"SurTolima",null,"SUR DE CÓRDOBA",23855,"VALENCIA","CÓRDOBA","Medio Bajo",20,-1.2406592652597446,25]
[86573," ","Leguízamo","No tiene consejo","No tiene resguardo",0,null,null,null,null,null,null,null,null,null,null,null,null,null,null,null,null,null,null,null,null,null,null,null,null,null,null,null,null,null,null,null,null,null,null,null,null,70713,"SUCRE","SAN ONOFRE","SUCRESAN ONOFRE","MONTES DE MARÍA",70713,null,null,null,{"$f":"+IF(Calificación!F167=\"\",\"\",VLOOKUP(Calificación!F167,Listas!$AX$3:$AY$19,2,FALSE))","v":""},null,null,"5475Justicia y del Derecho","Antioquia",5475,"Murindó",null,"Justicia y del Derecho",8,null,null,null,null,null,null,null,null,null,null,null,19780,"Pacífico","Cauca","Suárez",83,"ALTO PATÍA - NORTE DEL CAUCA",4,23,4,{"$f":"+ROUNDUP(CC164*$CD$1,0)","v":3},{"$f":"ROUNDUP(CC164*$CE$1,0)","v":2},"Ochentaytres","Suárez",19780,{"$f":"+CB164<CA164","v":false},73616,"RIOBLANCO","SUR DEL TOLIMA",73616,"SurTolima",null,"SIERRA NEVADA-PERIJÁ-ZONA BANANERA",20443,"MANAURE","CESAR","Medio Bajo",20,-1.2406592652597446,25]
[86757," ","San Miguel","No tiene consejo","No tiene resguardo",0,null,null,null,null,null,null,null,null,null,null,null,null,null,null,null,null,null,null,null,null,null,null,null,null,null,null,null,null,null,null,null,null,null,null,null,null,70823,"SUCRE","TOLÚ VIEJO","SUCRETOLÚ VIEJO","MONTES DE MARÍA",70823,null,null,null,{"$f":"+IF(Calificación!F168=\"\",\"\",VLOOKUP(Calificación!F168,Listas!$AX$3:$AY$19,2,FALSE))","v":""},null,null,"5475Ambiente y Desarrollo Sostenible","Antioquia",5475,"Murindó",null,"Ambiente y Desarrollo Sostenible",9,null,null,null,null,null,null,null,null,null,null,null,44090,"Caribe","La Guajira","Dibulla",84,"SIERRA NEVADA - PERIJÁ",2,15,2,2,1,"Ochentaycuatro","Dibulla",44090,false,5045,"APARTADÓ","URABÁ ANTIOQUEÑO",5045,"UrabaAnt",null,"MONTES DE MARÍA",13212,"CÓRDOBA","BOLÍVAR","Medio Bajo",20,-1.2406592652597446,25]
[86865," ","Valle del Guamuez","No tiene consejo","No tiene resguardo",0,null,null,null,null,null,null,null,null,null,null,null,null,null,null,null,null,null,null,null,null,null,null,null,null,null,null,null,null,null,null,null,null,null,null,null,null,73067,"TOLIMA","ATACO","TOLIMAATACO","SUR DEL TOLIMA",73067,null,null,null,{"$f":"+IF(Calificación!F169=\"\",\"\",VLOOKUP(Calificación!F169,Listas!$AX$3:$AY$19,2,FALSE))","v":""},null,null,"5475Salud y Protección social","Antioquia",5475,"Murindó",null,"Salud y Protección social",10,null,null,null,null,null,null,null,null,null,null,null,44650,"Caribe","La Guajira","San Juan del Cesar",84,"SIERRA NEVADA - PERIJÁ",2,15,2,2,1,"Ochentaycuatro","San Juan del Cesar",44650,false,5147,"CAREPA","URABÁ ANTIOQUEÑO",5147,"UrabaAnt",null,"CUENCA DEL CAGUÁN Y PIEDEMONTE CAQUETEÑO",18029,"ALBANIA","CAQUETÁ","Medio",40,-0.41355308841991484,50]
[86885," ","Villagarzón","No tiene consejo","No tiene resguardo",0,null,null,null,null,null,null,null,null,null,null,null,null,null,null,null,null,null,null,null,null,null,null,null,null,null,null,null,null,null,null,null,null,null,null,null,null,73168,"TOLIMA","CHAPARRAL","TOLIMACHAPARRAL","SUR DEL TOLIMA",73168,null,null,null,{"$f":"+IF(Calificación!F170=\"\",\"\",VLOOKUP(Calificación!F170,Listas!$AX$3:$AY$19,2,FALSE))","v":""},null,null,"5475Deporte Y Recreación","Antioquia",5475,"Murindó",null,"Deporte Y Recreación",11,null,null,null,null,null,null,null,null,null,null,null,44279,"Caribe","La Guajira","Fonseca",88,"SIERRA NEVADA - PERIJÁ",1,15,{"$f":"ROUNDUP(AVERAGE(CA167,CB167),0)","v":8},6,4,"Ochentayocho","Fonseca",44279,false,5172,"CHIGORODÓ","URABÁ ANTIOQUEÑO",5172,"UrabaAnt",null,"MONTES DE MARÍA",70418,"LOS PALMITOS","SUCRE","Medio Bajo",20,-1.2406592652597446,25]
[95001," ","San José del Guaviare","No tiene consejo","No tiene resguardo",0,null,null,null,null,null,null,null,null,null,null,null,null,null,null,null,null,null,null,null,null,null,null,null,null,null,null,null,null,null,null,null,null,null,null,null,null,73555,"TOLIMA","PLANADAS","TOLIMAPLANADAS","SUR DEL TOLIMA",73555,null,null,null,{"$f":"+IF(Calificación!F171=\"\",\"\",VLOOKUP(Calificación!F171,Listas!$AX$3:$AY$19,2,FALSE))","v":""},null,null,"5475Cultura","Antioquia",5475,"Murindó",null,"Cultura",12,null,null,null,null,null,null,null,null,null,null,null,27425,"Pacífico","Chocó","Medio Atrato",91,"CHOCÓ",1,14,{"$f":"ROUNDUP(AVERAGE(CA168,CB168),0)","v":8},6,4,"Noventayuno","Medio Atrato",27425,false,5234,"DABEIBA","URABÁ ANTIOQUEÑO",5234,"UrabaAnt",null,"SIERRA NEVADA-PERIJÁ-ZONA BANANERA",20750,"SAN DIEGO","CESAR","Medio Bajo",20,-1.2406592652597446,25]
[95015," ","Calamar","No tiene consejo","Tiene resguardo",1,null,null,null,null,null,null,null,null,null,null,null,null,null,null,null,null,null,null,null,null,null,null,null,null,null,null,null,null,null,null,null,null,null,null,null,null,73616,"TOLIMA","RIOBLANCO","TOLIMARIOBLANCO","SUR DEL TOLIMA",73616,null,null,null,{"$f":"+IF(Calificación!F172=\"\",\"\",VLOOKUP(Calificación!F172,Listas!$AX$3:$AY$19,2,FALSE))","v":""},null,null,"5475Transporte","Antioquia",5475,"Murindó",null,"Transporte",13,null,null,null,null,null,null,null,null,null,null,null,73168,"Centro Sur","Tolima","Chaparral",94,"SUR DEL TOLIMA",3,4,{"$f":"+MIN(CA169:CB169)","v":3},3,2,"Noventaycuatro","Chaparral",73168,false,5480,"MUTATÁ","URABÁ ANTIOQUEÑO",5480,"UrabaAnt",null,"ALTO PATÍA Y NORTE DEL CAUCA",52418,"LOS ANDES","NARIÑO","Medio Bajo",20,-1.2406592652597446,25]
[95025," ","El Retorno","No tiene consejo","No tiene resguardo",0,null,null,null,null,null,null,null,null,null,null,null,null,null,null,null,null,null,null,null,null,null,null,null,null,null,null,null,null,null,null,null,null,null,null,null,null,76275,"VALLE_DEL_CAUCA","FLORIDA","VALLE_DEL_CAUCAFLORIDA","ALTO PATÍA - NORTE DEL CAUCA",76275,null,null,null,{"$f":"+IF(Calificación!F173=\"\",\"\",VLOOKUP(Calificación!F173,Listas!$AX$3:$AY$19,2,FALSE))","v":""},null,null,"5475Minas y Energía","Antioquia",5475,"Murindó",null,"Minas y Energía",14,null,null,null,null,null,null,null,null,null,null,null,73555,"Centro Sur","Tolima","Planadas",94,"SUR DEL TOLIMA",3,4,{"$f":"+MIN(CA170:CB170)","v":3},3,2,"Noventaycuatro","Planadas",73555,false,5490,"NECOCLÍ","URABÁ ANTIOQUEÑO",5490,"UrabaAnt",null,"CHOCÓ",27205,"CONDOTO","CHOCÓ","Medio Bajo",20,-1.2406592652597446,25]
[95200," ","Miraflores","No tiene consejo","No tiene resguardo",0,null,null,null,null,null,null,null,null,null,null,null,null,null,null,null,null,null,null,null,null,null,null,null,null,null,null,null,null,null,null,null,null,null,null,null,null,76563,"VALLE_DEL_CAUCA","PRADERA","VALLE_DEL_CAUCAPRADERA","ALTO PATÍA - NORTE DEL CAUCA",76563,null,null,null,{"$f":"+IF(Calificación!F174=\"\",\"\",VLOOKUP(Calificación!F174,Listas!$AX$3:$AY$19,2,FALSE))","v":""},null,null,"5480Tecnologías de la Información y las Comunicaciones","Antioquia",5480,"Mutatá",null,"Tecnologías de la Información y las Comunicaciones",1,null,null,null,null,null,null,null,null,null,null,null,73616,"Centro Sur","Tolima","Rioblanco",94,"SUR DEL TOLIMA",3,4,{"$f":"+MIN(CA171:CB171)","v":3},3,2,"Noventaycuatro","Rioblanco",73616,false,5665,"SAN PEDRO DE URABÁ","URABÁ ANTIOQUEÑO",5665,"UrabaAnt",null,"CUENCA DEL CAGUÁN Y PIEDEMONTE CAQUETEÑO",18479,"MORELIA","CAQUETÁ","Medio Bajo",20,-1.2406592652597446,25]
[null,null,null,null,null,null,null,null,null,null,null,null,null,null,null,null,null,null,null,null,null,null,null,null,null,null,null,null,null,null,null,null,null,null,null,null,null,null,null,null,null,null,76109,"VALLE_DEL_CAUCA","BUENAVENTURA","VALLE_DEL_CAUCABUENAVENTURA","PACÍFICO MEDIO",76109,null,null,null,{"$f":"+IF(Calificación!F175=\"\",\"\",VLOOKUP(Calificación!F175,Listas!$AX$3:$AY$19,2,FALSE))","v":""},null,null,"5480Desarrollo Económico","Antioquia",5480,"Mutatá",null,"Desarrollo Económico",2,null,null,null,null,null,null,null,null,null,null,null,null,null,null,null,null,null,null,null,null,null,null,{"$f":"+_xlfn.UNIQUE(CF4:CF171)","v":"Cero"},null,null,null,5837,"TURBO","URABÁ ANTIOQUEÑO",5837,"UrabaAnt",null,"MONTES DE MARÍA",13248,"EL GUAMO","BOLÍVAR","Bajo",0,-2.0677654420995744,0]
[null,null,null,null,null,null,null,null,null,null,null,null,null,null,null,null,null,null,null,null,null,null,null,null,null,null,null,null,null,null,null,null,null,null,null,null,null,null,null,null,null,null,91001,"AMAZONAS","LETICIA","AMAZONASLETICIA","NO PDET",91001,null,null,null,{"$f":"+IF(Calificación!F176=\"\",\"\",VLOOKUP(Calificación!F176,Listas!$AX$3:$AY$19,2,FALSE))","v":""},null,null,"5480Vivienda, Ciudad Y Territorio","Antioquia",5480,"Mutatá",null,"Vivienda, Ciudad Y Territorio",3,null,null,null,null,null,null,null,null,null,null,null,null,null,null,null,null,null,null,null,null,null,null,"Dos",null,null,null,null,null,null,null,null,null,"NO PDET",91001,"LETICIA","AMAZONAS","Medio Bajo",20,-1.2406592652597446,25]
[null,null,null,null,null,null,null,null,null,null,null,null,null,null,null,null,null,null,null,null,null,null,null,null,null,null,null,null,null,null,null,null,null,null,null,null,null,null,null,null,null,null,91540,"AMAZONAS","PUERTO NARIÑO","AMAZONASPUERTO NARIÑO","NO PDET",91540,null,null,null,{"$f":"+IF(Calificación!F177=\"\",\"\",VLOOKUP(Calificación!F177,Listas!$AX$3:$AY$19,2,FALSE))","v":""},null,null,"5480Agricultura y desarrollo rural","Antioquia",5480,"Mutatá",null,"Agricultura y desarrollo rural",4,null,null,null,null,null,null,null,null,null,null,null,null,null,null,null,null,null,null,null,null,null,null,"Nueve",null,null,null,null,null,null,null,null,null,"NO PDET",91540,"PUERTO NARIÑO","AMAZONAS","Medio Bajo",20,-1.2406592652597446,25]
[null,null,null,null,null,null,null,null,null,null,null,null,null,null,null,null,null,null,null,null,null,null,null,null,null,null,null,null,null,null,null,null,null,null,null,null,null,null,null,null,null,null,5002,"ANTIOQUIA","ABEJORRAL","ANTIOQUIAABEJORRAL","NO PDET",5002,null,null,null,{"$f":"+IF(Calificación!F178=\"\",\"\",VLOOKUP(Calificación!F178,Listas!$AX$3:$AY$19,2,FALSE))","v":""},null,null,"5480Inclusión Social Y Reconciliación","Antioquia",5480,"Mutatá",null,"Inclusión Social Y Reconciliación",5,null,null,null,null,null,null,null,null,null,null,null,null,null,null,null,null,null,null,null,null,null,null,"Diez",null,null,null,null,null,null,null,null,null,"NO PDET",5002,"ABEJORRAL","ANTIOQUIA","Medio Bajo",20,-1.2406592652597446,25]
[null,null,null,null,null,null,null,null,null,null,null,null,null,null,null,null,null,null,null,null,null,null,null,null,null,null,null,null,null,null,null,null,null,null,null,null,null,null,null,null,null,null,5004,"ANTIOQUIA","ABRIAQUÍ","ANTIOQUIAABRIAQUÍ","NO PDET",5004,null,null,null,{"$f":"+IF(Calificación!F179=\"\",\"\",VLOOKUP(Calificación!F179,Listas!$AX$3:$AY$19,2,FALSE))","v":""},null,null,"5480Educación","Antioquia",5480,"Mutatá",null,"Educación",6,null,null,null,null,null,null,null,null,null,null,null,null,null,null,null,null,null,null,null,null,null,null,"Once",null,null,null,null,null,null,null,null,null,"NO PDET",5004,"ABRIAQUÍ","ANTIOQUIA","Alto",60,0.41355308841991484,74.999999999999986]
[null,null,null,null,null,null,null,null,null,null,null,null,null,null,null,null,null,null,null,null,null,null,null,null,null,null,null,null,null,null,null,null,null,null,null,null,null,null,null,null,null,null,5021,"ANTIOQUIA","ALEJANDRÍA","ANTIOQUIAALEJANDRÍA","NO PDET",5021,null,null,null,{"$f":"+IF(Calificación!F180=\"\",\"\",VLOOKUP(Calificación!F180,Listas!$AX$3:$AY$19,2,FALSE))","v":""},null,null,"5480Gobierno territorial","Antioquia",5480,"Mutatá",null,"Gobierno territorial",7,null,null,null,null,null,null,null,null,null,null,null,null,null,null,null,null,null,null,null,null,null,null,"Doce",null,null,null,null,null,null,null,null,null,"NO PDET",5021,"ALEJANDRÍA","ANTIOQUIA","Bajo",0,-2.0677654420995744,0]
[null,null,null,null,null,null,null,null,null,null,null,null,null,null,null,null,null,null,null,null,null,null,null,null,null,null,null,null,null,null,null,null,null,null,null,null,null,null,null,null,null,null,5030,"ANTIOQUIA","AMAGÁ","ANTIOQUIAAMAGÁ","NO PDET",5030,null,null,null,{"$f":"+IF(Calificación!F181=\"\",\"\",VLOOKUP(Calificación!F181,Listas!$AX$3:$AY$19,2,FALSE))","v":""},null,null,"5480Salud y Protección social","Antioquia",5480,"Mutatá",null,"Salud y Protección social",8,null,null,null,null,null,null,null,null,null,null,null,null,null,null,null,null,null,null,null,null,null,null,"Quince",null,null,null,null,null,null,null,null,null,"NO PDET",5030,"AMAGÁ","ANTIOQUIA","Medio Bajo",20,-1.2406592652597446,25]
[null,null,null,null,null,null,null,null,null,null,null,null,null,null,null,null,null,null,null,null,null,null,null,null,null,null,null,null,null,null,null,null,null,null,null,null,null,null,null,null,null,null,5034,"ANTIOQUIA","ANDES","ANTIOQUIAANDES","NO PDET",5034,null,null,null,{"$f":"+IF(Calificación!F182=\"\",\"\",VLOOKUP(Calificación!F182,Listas!$AX$3:$AY$19,2,FALSE))","v":""},null,null,"5480Justicia y del Derecho","Antioquia",5480,"Mutatá",null,"Justicia y del Derecho",9,null,null,null,null,null,null,null,null,null,null,null,null,null,null,null,null,null,null,null,null,null,null,"Dieciseis",null,null,null,null,null,null,null,null,null,"NO PDET",5034,"ANDES","ANTIOQUIA","Medio",40,-0.41355308841991484,50]
[null,null,null,null,null,null,null,null,null,null,null,null,null,null,null,null,null,null,null,null,null,null,null,null,null,null,null,null,null,null,null,null,null,null,null,null,null,null,null,null,null,null,5036,"ANTIOQUIA","ANGELÓPOLIS","ANTIOQUIAANGELÓPOLIS","NO PDET",5036,null,null,null,{"$f":"+IF(Calificación!F183=\"\",\"\",VLOOKUP(Calificación!F183,Listas!$AX$3:$AY$19,2,FALSE))","v":""},null,null,"5480Ambiente y Desarrollo Sostenible","Antioquia",5480,"Mutatá",null,"Ambiente y Desarrollo Sostenible",10,null,null,null,null,null,null,null,null,null,null,null,null,null,null,null,null,null,null,null,null,null,null,"Diecisiete",null,null,null,null,null,null,null,null,null,"NO PDET",5036,"ANGELÓPOLIS","ANTIOQUIA","Medio Bajo",20,-1.2406592652597446,25]
[null,null,null,null,null,null,null,null,null,null,null,null,null,null,null,null,null,null,null,null,null,null,null,null,null,null,null,null,null,null,null,null,null,null,null,null,null,null,null,null,null,null,5038,"ANTIOQUIA","ANGOSTURA","ANTIOQUIAANGOSTURA","NO PDET",5038,null,null,null,{"$f":"+IF(Calificación!F184=\"\",\"\",VLOOKUP(Calificación!F184,Listas!$AX$3:$AY$19,2,FALSE))","v":""},null,null,"5480Deporte Y Recreación","Antioquia",5480,"Mutatá",null,"Deporte Y Recreación",11,null,null,null,null,null,null,null,null,null,null,null,null,null,null,null,null,null,null,null,null,null,null,"Veinte",null,null,null,null,null,null,null,null,null,"NO PDET",5038,"ANGOSTURA","ANTIOQUIA","Medio",40,-0.41355308841991484,50]
[null,null,null,null,null,null,null,null,null,null,null,null,null,null,null,null,null,null,null,null,null,null,null,null,null,null,null,null,null,null,null,null,null,null,null,null,null,null,null,null,null,null,5044,"ANTIOQUIA","ANZÁ","ANTIOQUIAANZÁ","NO PDET",5044,null,null,null,{"$f":"+IF(Calificación!F185=\"\",\"\",VLOOKUP(Calificación!F185,Listas!$AX$3:$AY$19,2,FALSE))","v":""},null,null,"5480Cultura","Antioquia",5480,"Mutatá",null,"Cultura",12,null,null,null,null,null,null,null,null,null,null,null,null,null,null,null,null,null,null,null,null,null,null,"Veintidos",null,null,null,null,null,null,null,null,null,"NO PDET",5044,"ANZÁ","ANTIOQUIA","Medio Bajo",20,-1.2406592652597446,25]
[null,null,null,null,null,null,null,null,null,null,null,null,null,null,null,null,null,null,null,null,null,null,null,null,null,null,null,null,null,null,null,null,null,null,null,null,null,null,null,null,null,null,5051,"ANTIOQUIA","ARBOLETES","ANTIOQUIAARBOLETES","NO PDET",5051,null,null,null,{"$f":"+IF(Calificación!F186=\"\",\"\",VLOOKUP(Calificación!F186,Listas!$AX$3:$AY$19,2,FALSE))","v":""},null,null,"5480Transporte","Antioquia",5480,"Mutatá",null,"Transporte",13,null,null,null,null,null,null,null,null,null,null,null,null,null,null,null,null,null,null,null,null,null,null,"Venticuatro",null,null,null,null,null,null,null,null,null,"NO PDET",5051,"ARBOLETES","ANTIOQUIA","Medio Bajo",20,-1.2406592652597446,25]
[null,null,null,null,null,null,null,null,null,null,null,null,null,null,null,null,null,null,null,null,null,null,null,null,null,null,null,null,null,null,null,null,null,null,null,null,null,null,null,null,null,null,5055,"ANTIOQUIA","ARGELIA","ANTIOQUIAARGELIA","NO PDET",5055,null,null,null,{"$f":"+IF(Calificación!F187=\"\",\"\",VLOOKUP(Calificación!F187,Listas!$AX$3:$AY$19,2,FALSE))","v":""},null,null,"5480Minas y Energía","Antioquia",5480,"Mutatá",null,"Minas y Energía",14,null,null,null,null,null,null,null,null,null,null,null,null,null,null,null,null,null,null,null,null,null,null,"Venticinco",null,null,null,null,null,null,null,null,null,"NO PDET",5055,"ARGELIA","ANTIOQUIA","Medio Bajo",20,-1.2406592652597446,25]
[null,null,null,null,null,null,null,null,null,null,null,null,null,null,null,null,null,null,null,null,null,null,null,null,null,null,null,null,null,null,null,null,null,null,null,null,null,null,null,null,null,null,5059,"ANTIOQUIA","ARMENIA","ANTIOQUIAARMENIA","NO PDET",5059,null,null,null,{"$f":"+IF(Calificación!F188=\"\",\"\",VLOOKUP(Calificación!F188,Listas!$AX$3:$AY$19,2,FALSE))","v":""},null,null,"5490Tecnologías de la Información y las Comunicaciones","Antioquia",5490,"Necoclí",null,"Tecnologías de la Información y las Comunicaciones",1,null,null,null,null,null,null,null,null,null,null,null,null,null,null,null,null,null,null,null,null,null,null,"Ventisiete",null,null,null,null,null,null,null,null,null,"NO PDET",5059,"ARMENIA","ANTIOQUIA","Medio",40,-0.41355308841991484,50]
[null,null,null,null,null,null,null,null,null,null,null,null,null,null,null,null,null,null,null,null,null,null,null,null,null,null,null,null,null,null,null,null,null,null,null,null,null,null,null,null,null,null,5079,"ANTIOQUIA","BARBOSA","ANTIOQUIABARBOSA","NO PDET",5079,null,null,null,{"$f":"+IF(Calificación!F189=\"\",\"\",VLOOKUP(Calificación!F189,Listas!$AX$3:$AY$19,2,FALSE))","v":""},null,null,"5490Vivienda, Ciudad Y Territorio","Antioquia",5490,"Necoclí",null,"Vivienda, Ciudad Y Territorio",2,null,null,null,null,null,null,null,null,null,null,null,null,null,null,null,null,null,null,null,null,null,null,"Treintayuno",null,null,null,null,null,null,null,null,null,"NO PDET",5079,"BARBOSA","ANTIOQUIA","Medio Bajo",20,-1.2406592652597446,25]
[null,null,null,null,null,null,null,null,null,null,null,null,null,null,null,null,null,null,null,null,null,null,null,null,null,null,null,null,null,null,null,null,null,null,null,null,null,null,null,null,null,null,5088,"ANTIOQUIA","BELLO","ANTIOQUIABELLO","NO PDET",5088,null,null,null,{"$f":"+IF(Calificación!F190=\"\",\"\",VLOOKUP(Calificación!F190,Listas!$AX$3:$AY$19,2,FALSE))","v":""},null,null,"5490Agricultura y desarrollo rural","Antioquia",5490,"Necoclí",null,"Agricultura y desarrollo rural",3,null,null,null,null,null,null,null,null,null,null,null,null,null,null,null,null,null,null,null,null,null,null,"Treintaydos",null,null,null,null,null,null,null,null,null,"NO PDET",5088,"BELLO","ANTIOQUIA","Medio Bajo",20,-1.2406592652597446,25]
[null,null,null,null,null,null,null,null,null,null,null,null,null,null,null,null,null,null,null,null,null,null,null,null,null,null,null,null,null,null,null,null,null,null,null,null,null,null,null,null,null,null,5086,"ANTIOQUIA","BELMIRA","ANTIOQUIABELMIRA","NO PDET",5086,null,null,null,{"$f":"+IF(Calificación!F191=\"\",\"\",VLOOKUP(Calificación!F191,Listas!$AX$3:$AY$19,2,FALSE))","v":""},null,null,"5490Desarrollo Económico","Antioquia",5490,"Necoclí",null,"Desarrollo Económico",4,null,null,null,null,null,null,null,null,null,null,null,null,null,null,null,null,null,null,null,null,null,null,"Treintaytres",null,null,null,null,null,null,null,null,null,"NO PDET",5086,"BELMIRA","ANTIOQUIA","Medio Bajo",20,-1.2406592652597446,25]
[null,null,null,null,null,null,null,null,null,null,null,null,null,null,null,null,null,null,null,null,null,null,null,null,null,null,null,null,null,null,null,null,null,null,null,null,null,null,null,null,null,null,5091,"ANTIOQUIA","BETANIA","ANTIOQUIABETANIA","NO PDET",5091,null,null,null,{"$f":"+IF(Calificación!F192=\"\",\"\",VLOOKUP(Calificación!F192,Listas!$AX$3:$AY$19,2,FALSE))","v":""},null,null,"5490Inclusión Social Y Reconciliación","Antioquia",5490,"Necoclí",null,"Inclusión Social Y Reconciliación",5,null,null,null,null,null,null,null,null,null,null,null,null,null,null,null,null,null,null,null,null,null,null,"Treintaycuatro",null,null,null,null,null,null,null,null,null,"NO PDET",5091,"BETANIA","ANTIOQUIA","Alto",60,0.41355308841991484,74.999999999999986]
[null,null,null,null,null,null,null,null,null,null,null,null,null,null,null,null,null,null,null,null,null,null,null,null,null,null,null,null,null,null,null,null,null,null,null,null,null,null,null,null,null,null,5093,"ANTIOQUIA","BETULIA","ANTIOQUIABETULIA","NO PDET",5093,null,null,null,{"$f":"+IF(Calificación!F193=\"\",\"\",VLOOKUP(Calificación!F193,Listas!$AX$3:$AY$19,2,FALSE))","v":""},null,null,"5490Educación","Antioquia",5490,"Necoclí",null,"Educación",6,null,null,null,null,null,null,null,null,null,null,null,null,null,null,null,null,null,null,null,null,null,null,"Treintaysiete",null,null,null,null,null,null,null,null,null,"NO PDET",5093,"BETULIA","ANTIOQUIA","Medio",40,-0.41355308841991484,50]
[null,null,null,null,null,null,null,null,null,null,null,null,null,null,null,null,null,null,null,null,null,null,null,null,null,null,null,null,null,null,null,null,null,null,null,null,null,null,null,null,null,null,5113,"ANTIOQUIA","BURITICÁ","ANTIOQUIABURITICÁ","NO PDET",5113,null,null,null,{"$f":"+IF(Calificación!F194=\"\",\"\",VLOOKUP(Calificación!F194,Listas!$AX$3:$AY$19,2,FALSE))","v":""},null,null,"5490Gobierno territorial","Antioquia",5490,"Necoclí",null,"Gobierno territorial",7,null,null,null,null,null,null,null,null,null,null,null,null,null,null,null,null,null,null,null,null,null,null,"Treintayocho",null,null,null,null,null,null,null,null,null,"NO PDET",5113,"BURITICÁ","ANTIOQUIA","Medio",40,-0.41355308841991484,50]
[null,null,null,null,null,null,null,null,null,null,null,null,null,null,null,null,null,null,null,null,null,null,null,null,null,null,null,null,null,null,null,null,null,null,null,null,null,null,null,null,null,null,5125,"ANTIOQUIA","CAICEDO","ANTIOQUIACAICEDO","NO PDET",5125,null,null,null,{"$f":"+IF(Calificación!F195=\"\",\"\",VLOOKUP(Calificación!F195,Listas!$AX$3:$AY$19,2,FALSE))","v":""},null,null,"5490Justicia y del Derecho","Antioquia",5490,"Necoclí",null,"Justicia y del Derecho",8,null,null,null,null,null,null,null,null,null,null,null,null,null,null,null,null,null,null,null,null,null,null,"Treintaunueve",null,null,null,null,null,null,null,null,null,"NO PDET",5125,"CAICEDO","ANTIOQUIA","Medio Bajo",20,-1.2406592652597446,25]
[null,null,null,null,null,null,null,null,null,null,null,null,null,null,null,null,null,null,null,null,null,null,null,null,null,null,null,null,null,null,null,null,null,null,null,null,null,null,null,null,null,null,5129,"ANTIOQUIA","CALDAS","ANTIOQUIACALDAS","NO PDET",5129,null,null,null,{"$f":"+IF(Calificación!F196=\"\",\"\",VLOOKUP(Calificación!F196,Listas!$AX$3:$AY$19,2,FALSE))","v":""},null,null,"5490Salud y Protección social","Antioquia",5490,"Necoclí",null,"Salud y Protección social",9,null,null,null,null,null,null,null,null,null,null,null,null,null,null,null,null,null,null,null,null,null,null,"Cuarentaydos",null,null,null,null,null,null,null,null,null,"NO PDET",5129,"CALDAS","ANTIOQUIA","Medio Bajo",20,-1.2406592652597446,25]
[null,null,null,null,null,null,null,null,null,null,null,null,null,null,null,null,null,null,null,null,null,null,null,null,null,null,null,null,null,null,null,null,null,null,null,null,null,null,null,null,null,null,5134,"ANTIOQUIA","CAMPAMENTO","ANTIOQUIACAMPAMENTO","NO PDET",5134,null,null,null,{"$f":"+IF(Calificación!F197=\"\",\"\",VLOOKUP(Calificación!F197,Listas!$AX$3:$AY$19,2,FALSE))","v":""},null,null,"5490Ambiente y Desarrollo Sostenible","Antioquia",5490,"Necoclí",null,"Ambiente y Desarrollo Sostenible",10,null,null,null,null,null,null,null,null,null,null,null,null,null,null,null,null,null,null,null,null,null,null,"Cuarentaytres",null,null,null,null,null,null,null,null,null,"NO PDET",5134,"CAMPAMENTO","ANTIOQUIA","Medio",40,-0.41355308841991484,50]
[null,null,null,null,null,null,null,null,null,null,null,null,null,null,null,null,null,null,null,null,null,null,null,null,null,null,null,null,null,null,null,null,null,null,null,null,null,null,null,null,null,null,5138,"ANTIOQUIA","CAÑASGORDAS","ANTIOQUIACAÑASGORDAS","NO PDET",5138,null,null,null,{"$f":"+IF(Calificación!F198=\"\",\"\",VLOOKUP(Calificación!F198,Listas!$AX$3:$AY$19,2,FALSE))","v":""},null,null,"5490Deporte Y Recreación","Antioquia",5490,"Necoclí",null,"Deporte Y Recreación",11,null,null,null,null,null,null,null,null,null,null,null,null,null,null,null,null,null,null,null,null,null,null,"Cuarentayseis",null,null,null,null,null,null,null,null,null,"NO PDET",5138,"CAÑASGORDAS","ANTIOQUIA","Medio Bajo",20,-1.2406592652597446,25]
[null,null,null,null,null,null,null,null,null,null,null,null,null,null,null,null,null,null,null,null,null,null,null,null,null,null,null,null,null,null,null,null,null,null,null,null,null,null,null,null,null,null,5142,"ANTIOQUIA","CARACOLÍ",{"$f":"+AR196&AS196","v":"ANTIOQUIACARACOLÍ"},"NO PDET",5142,null,null,null,{"$f":"+IF(Calificación!F199=\"\",\"\",VLOOKUP(Calificación!F199,Listas!$AX$3:$AY$19,2,FALSE))","v":""},null,null,{"$f":"+BE196&BH196","v":"5490Cultura"},"Antioquia",5490,"Necoclí",null,"Cultura",12,null,null,null,null,null,null,null,null,null,null,null,null,null,null,null,null,null,null,null,null,null,null,"Cuarentayocho",null,null,null,null,null,null,null,null,null,"NO PDET",5142,"CARACOLÍ","ANTIOQUIA","Medio Bajo",{"$f":"+VLOOKUP(CT196,$CY$3:$CZ$7,2,FALSE)","v":20},{"$f":"+(CU196-AVERAGE(CU$3:CU$172))/STDEVP(CU$3:CU$172)","v":-1.2406592652597446},{"$f":"(+(CV196-MIN(CV$3:CV$172))/(MAX(CV$3:CV$172)-MIN(CV$3:CV$172)))*100","v":25}]
[null,null,null,null,null,null,null,null,null,null,null,null,null,null,null,null,null,null,null,null,null,null,null,null,null,null,null,null,null,null,null,null,null,null,null,null,null,null,null,null,null,null,5145,"ANTIOQUIA","CARAMANTA","ANTIOQUIACARAMANTA","NO PDET",5145,null,null,null,{"$f":"+IF(Calificación!F200=\"\",\"\",VLOOKUP(Calificación!F200,Listas!$AX$3:$AY$19,2,FALSE))","v":""},null,null,"5490Transporte","Antioquia",5490,"Necoclí",null,"Transporte",13,null,null,null,null,null,null,null,null,null,null,null,null,null,null,null,null,null,null,null,null,null,null,"Cuarentaynueve",null,null,null,null,null,null,null,null,null,"NO PDET",5145,"CARAMANTA","ANTIOQUIA","Medio Bajo",20,-1.2406592652597446,25]
[null,null,null,null,null,null,null,null,null,null,null,null,null,null,null,null,null,null,null,null,null,null,null,null,null,null,null,null,null,null,null,null,null,null,null,null,null,null,null,null,null,null,5150,"ANTIOQUIA","CAROLINA","ANTIOQUIACAROLINA","NO PDET",5150,null,null,null,{"$f":"+IF(Calificación!F201=\"\",\"\",VLOOKUP(Calificación!F201,Listas!$AX$3:$AY$19,2,FALSE))","v":""},null,null,"5490Minas y Energía","Antioquia",5490,"Necoclí",null,"Minas y Energía",14,null,null,null,null,null,null,null,null,null,null,null,null,null,null,null,null,null,null,null,null,null,null,"Cincuentaydos",null,null,null,null,null,null,null,null,null,"NO PDET",5150,"CAROLINA","ANTIOQUIA","Medio Bajo",20,-1.2406592652597446,25]
[null,null,null,null,null,null,null,null,null,null,null,null,null,null,null,null,null,null,null,null,null,null,null,null,null,null,null,null,null,null,null,null,null,null,null,null,null,null,null,null,null,null,5190,"ANTIOQUIA","CISNEROS","ANTIOQUIACISNEROS","NO PDET",5190,null,null,null,{"$f":"+IF(Calificación!F202=\"\",\"\",VLOOKUP(Calificación!F202,Listas!$AX$3:$AY$19,2,FALSE))","v":""},null,null,"5495Tecnologías de la Información y las Comunicaciones","Antioquia",5495,"Nechí",null,"Tecnologías de la Información y las Comunicaciones",1,null,null,null,null,null,null,null,null,null,null,null,null,null,null,null,null,null,null,null,null,null,null,"Cincuentaynueve",null,null,null,null,null,null,null,null,null,"NO PDET",5190,"CISNEROS","ANTIOQUIA","Medio",40,-0.41355308841991484,50]
[null,null,null,null,null,null,null,null,null,null,null,null,null,null,null,null,null,null,null,null,null,null,null,null,null,null,null,null,null,null,null,null,null,null,null,null,null,null,null,null,null,null,5101,"ANTIOQUIA","CIUDAD BOLÍVAR","ANTIOQUIACIUDAD BOLÍVAR","NO PDET",5101,null,null,null,{"$f":"+IF(Calificación!F203=\"\",\"\",VLOOKUP(Calificación!F203,Listas!$AX$3:$AY$19,2,FALSE))","v":""},null,null,"5495Vivienda, Ciudad Y Territorio","Antioquia",5495,"Nechí",null,"Vivienda, Ciudad Y Territorio",2,null,null,null,null,null,null,null,null,null,null,null,null,null,null,null,null,null,null,null,null,null,null,"Sesenta",null,null,null,null,null,null,null,null,null,"NO PDET",5101,"CIUDAD BOLÍVAR","ANTIOQUIA","Medio",40,-0.41355308841991484,50]
[null,null,null,null,null,null,null,null,null,null,null,null,null,null,null,null,null,null,null,null,null,null,null,null,null,null,null,null,null,null,null,null,null,null,null,null,null,null,null,null,null,null,5197,"ANTIOQUIA","COCORNÁ","ANTIOQUIACOCORNÁ","NO PDET",5197,null,null,null,{"$f":"+IF(Calificación!F204=\"\",\"\",VLOOKUP(Calificación!F204,Listas!$AX$3:$AY$19,2,FALSE))","v":""},null,null,"5495Desarrollo Económico","Antioquia",5495,"Nechí",null,"Desarrollo Económico",3,null,null,null,null,null,null,null,null,null,null,null,null,null,null,null,null,null,null,null,null,null,null,"Sesentaydos",null,null,null,null,null,null,null,null,null,"NO PDET",5197,"COCORNÁ","ANTIOQUIA","Medio Bajo",20,-1.2406592652597446,25]
[null,null,null,null,null,null,null,null,null,null,null,null,null,null,null,null,null,null,null,null,null,null,null,null,null,null,null,null,null,null,null,null,null,null,null,null,null,null,null,null,null,null,5206,"ANTIOQUIA","CONCEPCIÓN","ANTIOQUIACONCEPCIÓN","NO PDET",5206,null,null,null,{"$f":"+IF(Calificación!F205=\"\",\"\",VLOOKUP(Calificación!F205,Listas!$AX$3:$AY$19,2,FALSE))","v":""},null,null,"5495Educación","Antioquia",5495,"Nechí",null,"Educación",4,null,null,null,null,null,null,null,null,null,null,null,null,null,null,null,null,null,null,null,null,null,null,"Sesentayseis",null,null,null,null,null,null,null,null,null,"NO PDET",5206,"CONCEPCIÓN","ANTIOQUIA","Bajo",0,-2.0677654420995744,0]
[null,null,null,null,null,null,null,null,null,null,null,null,null,null,null,null,null,null,null,null,null,null,null,null,null,null,null,null,null,null,null,null,null,null,null,null,null,null,null,null,null,null,5209,"ANTIOQUIA","CONCORDIA","ANTIOQUIACONCORDIA","NO PDET",5209,null,null,null,{"$f":"+IF(Calificación!F206=\"\",\"\",VLOOKUP(Calificación!F206,Listas!$AX$3:$AY$19,2,FALSE))","v":""},null,null,"5495Inclusión Social Y Reconciliación","Antioquia",5495,"Nechí",null,"Inclusión Social Y Reconciliación",5,null,null,null,null,null,null,null,null,null,null,null,null,null,null,null,null,null,null,null,null,null,null,"Sesentayocho",null,null,null,null,null,null,null,null,null,"NO PDET",5209,"CONCORDIA","ANTIOQUIA","Medio",40,-0.41355308841991484,50]
[null,null,null,null,null,null,null,null,null,null,null,null,null,null,null,null,null,null,null,null,null,null,null,null,null,null,null,null,null,null,null,null,null,null,null,null,null,null,null,null,null,null,5212,"ANTIOQUIA","COPACABANA","ANTIOQUIACOPACABANA","NO PDET",5212,null,null,null,{"$f":"+IF(Calificación!F207=\"\",\"\",VLOOKUP(Calificación!F207,Listas!$AX$3:$AY$19,2,FALSE))","v":""},null,null,"5495Agricultura y desarrollo rural","Antioquia",5495,"Nechí",null,"Agricultura y desarrollo rural",6,null,null,null,null,null,null,null,null,null,null,null,null,null,null,null,null,null,null,null,null,null,null,"Sesentaynueve",null,null,null,null,null,null,null,null,null,"NO PDET",5212,"COPACABANA","ANTIOQUIA","Medio Bajo",20,-1.2406592652597446,25]
[null,null,null,null,null,null,null,null,null,null,null,null,null,null,null,null,null,null,null,null,null,null,null,null,null,null,null,null,null,null,null,null,null,null,null,null,null,null,null,null,null,null,5237,"ANTIOQUIA","DONMATÍAS","ANTIOQUIADONMATÍAS","NO PDET",5237,null,null,null,{"$f":"+IF(Calificación!F208=\"\",\"\",VLOOKUP(Calificación!F208,Listas!$AX$3:$AY$19,2,FALSE))","v":""},null,null,"5495Gobierno territorial","Antioquia",5495,"Nechí",null,"Gobierno territorial",7,null,null,null,null,null,null,null,null,null,null,null,null,null,null,null,null,null,null,null,null,null,null,"Setentaydos",null,null,null,null,null,null,null,null,null,"NO PDET",5237,"DONMATÍAS","ANTIOQUIA","Medio Bajo",20,-1.2406592652597446,25]
[null,null,null,null,null,null,null,null,null,null,null,null,null,null,null,null,null,null,null,null,null,null,null,null,null,null,null,null,null,null,null,null,null,null,null,null,null,null,null,null,null,null,5240,"ANTIOQUIA","EBÉJICO","ANTIOQUIAEBÉJICO","NO PDET",5240,null,null,null,{"$f":"+IF(Calificación!F209=\"\",\"\",VLOOKUP(Calificación!F209,Listas!$AX$3:$AY$19,2,FALSE))","v":""},null,null,"5495Ambiente y Desarrollo Sostenible","Antioquia",5495,"Nechí",null,"Ambiente y Desarrollo Sostenible",8,null,null,null,null,null,null,null,null,null,null,null,null,null,null,null,null,null,null,null,null,null,null,"Setentayocho",null,null,null,null,null,null,null,null,null,"NO PDET",5240,"EBÉJICO","ANTIOQUIA","Medio Bajo",20,-1.2406592652597446,25]
[null,null,null,null,null,null,null,null,null,null,null,null,null,null,null,null,null,null,null,null,null,null,null,null,null,null,null,null,null,null,null,null,null,null,null,null,null,null,null,null,null,null,5148,"ANTIOQUIA","EL CARMEN DE VIBORAL","ANTIOQUIAEL CARMEN DE VIBORAL","NO PDET",5148,null,null,null,{"$f":"+IF(Calificación!F210=\"\",\"\",VLOOKUP(Calificación!F210,Listas!$AX$3:$AY$19,2,FALSE))","v":""},null,null,"5495Justicia y del Derecho","Antioquia",5495,"Nechí",null,"Justicia y del Derecho",9,null,null,null,null,null,null,null,null,null,null,null,null,null,null,null,null,null,null,null,null,null,null,"Ochenta",null,null,null,null,null,null,null,null,null,"NO PDET",5148,"EL CARMEN DE VIBORAL","ANTIOQUIA","Medio Bajo",20,-1.2406592652597446,25]
[null,null,null,null,null,null,null,null,null,null,null,null,null,null,null,null,null,null,null,null,null,null,null,null,null,null,null,null,null,null,null,null,null,null,null,null,null,null,null,null,null,null,5697,"ANTIOQUIA","EL SANTUARIO","ANTIOQUIAEL SANTUARIO","NO PDET",5697,null,null,null,{"$f":"+IF(Calificación!F211=\"\",\"\",VLOOKUP(Calificación!F211,Listas!$AX$3:$AY$19,2,FALSE))","v":""},null,null,"5495Salud y Protección social","Antioquia",5495,"Nechí",null,"Salud y Protección social",10,null,null,null,null,null,null,null,null,null,null,null,null,null,null,null,null,null,null,null,null,null,null,"Ochentayuno",null,null,null,null,null,null,null,null,null,"NO PDET",5697,"EL SANTUARIO","ANTIOQUIA","Medio Bajo",20,-1.2406592652597446,25]
[null,null,null,null,null,null,null,null,null,null,null,null,null,null,null,null,null,null,null,null,null,null,null,null,null,null,null,null,null,null,null,null,null,null,null,null,null,null,null,null,null,null,5264,"ANTIOQUIA","ENTRERRÍOS","ANTIOQUIAENTRERRÍOS","NO PDET",5264,null,null,null,{"$f":"+IF(Calificación!F212=\"\",\"\",VLOOKUP(Calificación!F212,Listas!$AX$3:$AY$19,2,FALSE))","v":""},null,null,"5495Deporte Y Recreación","Antioquia",5495,"Nechí",null,"Deporte Y Recreación",11,null,null,null,null,null,null,null,null,null,null,null,null,null,null,null,null,null,null,null,null,null,null,"Ochentaytres",null,null,null,null,null,null,null,null,null,"NO PDET",5264,"ENTRERRÍOS","ANTIOQUIA","Medio Bajo",20,-1.2406592652597446,25]
[null,null,null,null,null,null,null,null,null,null,null,null,null,null,null,null,null,null,null,null,null,null,null,null,null,null,null,null,null,null,null,null,null,null,null,null,null,null,null,null,null,null,5266,"ANTIOQUIA","ENVIGADO","ANTIOQUIAENVIGADO","NO PDET",5266,null,null,null,{"$f":"+IF(Calificación!F213=\"\",\"\",VLOOKUP(Calificación!F213,Listas!$AX$3:$AY$19,2,FALSE))","v":""},null,null,"5495Cultura","Antioquia",5495,"Nechí",null,"Cultura",12,null,null,null,null,null,null,null,null,null,null,null,null,null,null,null,null,null,null,null,null,null,null,"Ochentaycuatro",null,null,null,null,null,null,null,null,null,"NO PDET",5266,"ENVIGADO","ANTIOQUIA","Medio Bajo",20,-1.2406592652597446,25]
[null,null,null,null,null,null,null,null,null,null,null,null,null,null,null,null,null,null,null,null,null,null,null,null,null,null,null,null,null,null,null,null,null,null,null,null,null,null,null,null,null,null,5282,"ANTIOQUIA","FREDONIA","ANTIOQUIAFREDONIA","NO PDET",5282,null,null,null,{"$f":"+IF(Calificación!F214=\"\",\"\",VLOOKUP(Calificación!F214,Listas!$AX$3:$AY$19,2,FALSE))","v":""},null,null,"5495Transporte","Antioquia",5495,"Nechí",null,"Transporte",13,null,null,null,null,null,null,null,null,null,null,null,null,null,null,null,null,null,null,null,null,null,null,"Ochentayocho",null,null,null,null,null,null,null,null,null,"NO PDET",5282,"FREDONIA","ANTIOQUIA","Medio Bajo",20,-1.2406592652597446,25]
[null,null,null,null,null,null,null,null,null,null,null,null,null,null,null,null,null,null,null,null,null,null,null,null,null,null,null,null,null,null,null,null,null,null,null,null,null,null,null,null,null,null,5284,"ANTIOQUIA","FRONTINO","ANTIOQUIAFRONTINO","NO PDET",5284,null,null,null,{"$f":"+IF(Calificación!F215=\"\",\"\",VLOOKUP(Calificación!F215,Listas!$AX$3:$AY$19,2,FALSE))","v":""},null,null,"5495Minas y Energía","Antioquia",5495,"Nechí",null,"Minas y Energía",14,null,null,null,null,null,null,null,null,null,null,null,null,null,null,null,null,null,null,null,null,null,null,"Noventayuno",null,null,null,null,null,null,null,null,null,"NO PDET",5284,"FRONTINO","ANTIOQUIA","Medio",40,-0.41355308841991484,50]
[null,null,null,null,null,null,null,null,null,null,null,null,null,null,null,null,null,null,null,null,null,null,null,null,null,null,null,null,null,null,null,null,null,null,null,null,null,null,null,null,null,null,5306,"ANTIOQUIA","GIRALDO","ANTIOQUIAGIRALDO","NO PDET",5306,null,null,null,{"$f":"+IF(Calificación!F216=\"\",\"\",VLOOKUP(Calificación!F216,Listas!$AX$3:$AY$19,2,FALSE))","v":""},null,null,"5604Desarrollo Económico","Antioquia",5604,"Remedios",null,"Desarrollo Económico",1,null,null,null,null,null,null,null,null,null,null,null,null,null,null,null,null,null,null,null,null,null,null,"Noventaycuatro",null,null,null,null,null,null,null,null,null,"NO PDET",5306,"GIRALDO","ANTIOQUIA","Medio Bajo",20,-1.2406592652597446,25]
[null,null,null,null,null,null,null,null,null,null,null,null,null,null,null,null,null,null,null,null,null,null,null,null,null,null,null,null,null,null,null,null,null,null,null,null,null,null,null,null,null,null,5308,"ANTIOQUIA","GIRARDOTA","ANTIOQUIAGIRARDOTA","NO PDET",5308,null,null,null,{"$f":"+IF(Calificación!F217=\"\",\"\",VLOOKUP(Calificación!F217,Listas!$AX$3:$AY$19,2,FALSE))","v":""},null,null,"5604Tecnologías de la Información y las Comunicaciones","Antioquia",5604,"Remedios",null,"Tecnologías de la Información y las Comunicaciones",2,null,null,null,null,null,null,null,null,null,null,null,null,null,null,null,null,null,null,null,null,null,null,null,null,null,null,null,null,null,null,null,null,"NO PDET",5308,"GIRARDOTA","ANTIOQUIA","Medio Bajo",20,-1.2406592652597446,25]
[null,null,null,null,null,null,null,null,null,null,null,null,null,null,null,null,null,null,null,null,null,null,null,null,null,null,null,null,null,null,null,null,null,null,null,null,null,null,null,null,null,null,5310,"ANTIOQUIA","GÓMEZ PLATA","ANTIOQUIAGÓMEZ PLATA","NO PDET",5310,null,null,null,{"$f":"+IF(Calificación!F218=\"\",\"\",VLOOKUP(Calificación!F218,Listas!$AX$3:$AY$19,2,FALSE))","v":""},null,null,"5604Vivienda, Ciudad Y Territorio","Antioquia",5604,"Remedios",null,"Vivienda, Ciudad Y Territorio",3,null,null,null,null,null,null,null,null,null,null,null,null,null,null,null,null,null,null,null,null,null,null,null,null,null,null,null,null,null,null,null,null,"NO PDET",5310,"GÓMEZ PLATA","ANTIOQUIA","Medio Bajo",20,-1.2406592652597446,25]
[null,null,null,null,null,null,null,null,null,null,null,null,null,null,null,null,null,null,null,null,null,null,null,null,null,null,null,null,null,null,null,null,null,null,null,null,null,null,null,null,null,null,5313,"ANTIOQUIA","GRANADA","ANTIOQUIAGRANADA","NO PDET",5313,null,null,null,{"$f":"+IF(Calificación!F219=\"\",\"\",VLOOKUP(Calificación!F219,Listas!$AX$3:$AY$19,2,FALSE))","v":""},null,null,"5604Agricultura y desarrollo rural","Antioquia",5604,"Remedios",null,"Agricultura y desarrollo rural",4,null,null,null,null,null,null,null,null,null,null,null,null,null,null,null,null,null,null,null,null,null,null,null,null,null,null,null,null,null,null,null,null,"NO PDET",5313,"GRANADA","ANTIOQUIA","Bajo",0,-2.0677654420995744,0]
[null,null,null,null,null,null,null,null,null,null,null,null,null,null,null,null,null,null,null,null,null,null,null,null,null,null,null,null,null,null,null,null,null,null,null,null,null,null,null,null,null,null,5315,"ANTIOQUIA","GUADALUPE","ANTIOQUIAGUADALUPE","NO PDET",5315,null,null,null,{"$f":"+IF(Calificación!F220=\"\",\"\",VLOOKUP(Calificación!F220,Listas!$AX$3:$AY$19,2,FALSE))","v":""},null,null,"5604Educación","Antioquia",5604,"Remedios",null,"Educación",5,null,null,null,null,null,null,null,null,null,null,null,null,null,null,null,null,null,null,null,null,null,null,null,null,null,null,null,null,null,null,null,null,"NO PDET",5315,"GUADALUPE","ANTIOQUIA","Medio Bajo",20,-1.2406592652597446,25]
[null,null,null,null,null,null,null,null,null,null,null,null,null,null,null,null,null,null,null,null,null,null,null,null,null,null,null,null,null,null,null,null,null,null,null,null,null,null,null,null,null,null,5318,"ANTIOQUIA","GUARNE","ANTIOQUIAGUARNE","NO PDET",5318,null,null,null,{"$f":"+IF(Calificación!F221=\"\",\"\",VLOOKUP(Calificación!F221,Listas!$AX$3:$AY$19,2,FALSE))","v":""},null,null,"5604Inclusión Social Y Reconciliación","Antioquia",5604,"Remedios",null,"Inclusión Social Y Reconciliación",6,null,null,null,null,null,null,null,null,null,null,null,null,null,null,null,null,null,null,null,null,null,null,null,null,null,null,null,null,null,null,null,null,"NO PDET",5318,"GUARNE","ANTIOQUIA","Medio",40,-0.41355308841991484,50]
[null,null,null,null,null,null,null,null,null,null,null,null,null,null,null,null,null,null,null,null,null,null,null,null,null,null,null,null,null,null,null,null,null,null,null,null,null,null,null,null,null,null,5321,"ANTIOQUIA","GUATAPÉ","ANTIOQUIAGUATAPÉ","NO PDET",5321,null,null,null,{"$f":"+IF(Calificación!F222=\"\",\"\",VLOOKUP(Calificación!F222,Listas!$AX$3:$AY$19,2,FALSE))","v":""},null,null,"5604Gobierno territorial","Antioquia",5604,"Remedios",null,"Gobierno territorial",7,null,null,null,null,null,null,null,null,null,null,null,null,null,null,null,null,null,null,null,null,null,null,null,null,null,null,null,null,null,null,null,null,"NO PDET",5321,"GUATAPÉ","ANTIOQUIA","Medio Bajo",20,-1.2406592652597446,25]
[null,null,null,null,null,null,null,null,null,null,null,null,null,null,null,null,null,null,null,null,null,null,null,null,null,null,null,null,null,null,null,null,null,null,null,null,null,null,null,null,null,null,5347,"ANTIOQUIA","HELICONIA","ANTIOQUIAHELICONIA","NO PDET",5347,null,null,null,{"$f":"+IF(Calificación!F223=\"\",\"\",VLOOKUP(Calificación!F223,Listas!$AX$3:$AY$19,2,FALSE))","v":""},null,null,"5604Ambiente y Desarrollo Sostenible","Antioquia",5604,"Remedios",null,"Ambiente y Desarrollo Sostenible",8,null,null,null,null,null,null,null,null,null,null,null,null,null,null,null,null,null,null,null,null,null,null,null,null,null,null,null,null,null,null,null,null,"NO PDET",5347,"HELICONIA","ANTIOQUIA","Medio",40,-0.41355308841991484,50]
[null,null,null,null,null,null,null,null,null,null,null,null,null,null,null,null,null,null,null,null,null,null,null,null,null,null,null,null,null,null,null,null,null,null,null,null,null,null,null,null,null,null,5353,"ANTIOQUIA","HISPANIA","ANTIOQUIAHISPANIA","NO PDET",5353,null,null,null,{"$f":"+IF(Calificación!F224=\"\",\"\",VLOOKUP(Calificación!F224,Listas!$AX$3:$AY$19,2,FALSE))","v":""},null,null,"5604Justicia y del Derecho","Antioquia",5604,"Remedios",null,"Justicia y del Derecho",9,null,null,null,null,null,null,null,null,null,null,null,null,null,null,null,null,null,null,null,null,null,null,null,null,null,null,null,null,null,null,null,null,"NO PDET",5353,"HISPANIA","ANTIOQUIA","Medio Bajo",20,-1.2406592652597446,25]
[null,null,null,null,null,null,null,null,null,null,null,null,null,null,null,null,null,null,null,null,null,null,null,null,null,null,null,null,null,null,null,null,null,null,null,null,null,null,null,null,null,null,5360,"ANTIOQUIA","ITAGÜÍ","ANTIOQUIAITAGÜÍ","NO PDET",5360,null,null,null,{"$f":"+IF(Calificación!F225=\"\",\"\",VLOOKUP(Calificación!F225,Listas!$AX$3:$AY$19,2,FALSE))","v":""},null,null,"5604Deporte Y Recreación","Antioquia",5604,"Remedios",null,"Deporte Y Recreación",10,null,null,null,null,null,null,null,null,null,null,null,null,null,null,null,null,null,null,null,null,null,null,null,null,null,null,null,null,null,null,null,null,"NO PDET",5360,"ITAGÜÍ","ANTIOQUIA","Medio Bajo",20,-1.2406592652597446,25]
[null,null,null,null,null,null,null,null,null,null,null,null,null,null,null,null,null,null,null,null,null,null,null,null,null,null,null,null,null,null,null,null,null,null,null,null,null,null,null,null,null,null,5364,"ANTIOQUIA","JARDÍN","ANTIOQUIAJARDÍN","NO PDET",5364,null,null,null,{"$f":"+IF(Calificación!F226=\"\",\"\",VLOOKUP(Calificación!F226,Listas!$AX$3:$AY$19,2,FALSE))","v":""},null,null,"5604Cultura","Antioquia",5604,"Remedios",null,"Cultura",11,null,null,null,null,null,null,null,null,null,null,null,null,null,null,null,null,null,null,null,null,null,null,null,null,null,null,null,null,null,null,null,null,"NO PDET",5364,"JARDÍN","ANTIOQUIA","Medio",40,-0.41355308841991484,50]
[null,null,null,null,null,null,null,null,null,null,null,null,null,null,null,null,null,null,null,null,null,null,null,null,null,null,null,null,null,null,null,null,null,null,null,null,null,null,null,null,null,null,5368,"ANTIOQUIA","JERICÓ","ANTIOQUIAJERICÓ","NO PDET",5368,null,null,null,{"$f":"+IF(Calificación!F227=\"\",\"\",VLOOKUP(Calificación!F227,Listas!$AX$3:$AY$19,2,FALSE))","v":""},null,null,"5604Transporte","Antioquia",5604,"Remedios",null,"Transporte",12,null,null,null,null,null,null,null,null,null,null,null,null,null,null,null,null,null,null,null,null,null,null,null,null,null,null,null,null,null,null,null,null,"NO PDET",5368,"JERICÓ","ANTIOQUIA","Medio Bajo",20,-1.2406592652597446,25]
[null,null,null,null,null,null,null,null,null,null,null,null,null,null,null,null,null,null,null,null,null,null,null,null,null,null,null,null,null,null,null,null,null,null,null,null,null,null,null,null,null,null,5376,"ANTIOQUIA","LA CEJA","ANTIOQUIALA CEJA","NO PDET",5376,null,null,null,{"$f":"+IF(Calificación!F228=\"\",\"\",VLOOKUP(Calificación!F228,Listas!$AX$3:$AY$19,2,FALSE))","v":""},null,null,"5604Salud y Protección social","Antioquia",5604,"Remedios",null,"Salud y Protección social",13,null,null,null,null,null,null,null,null,null,null,null,null,null,null,null,null,null,null,null,null,null,null,null,null,null,null,null,null,null,null,null,null,"NO PDET",5376,"LA CEJA","ANTIOQUIA","Medio Bajo",20,-1.2406592652597446,25]
[null,null,null,null,null,null,null,null,null,null,null,null,null,null,null,null,null,null,null,null,null,null,null,null,null,null,null,null,null,null,null,null,null,null,null,null,null,null,null,null,null,null,5380,"ANTIOQUIA","LA ESTRELLA","ANTIOQUIALA ESTRELLA","NO PDET",5380,null,null,null,{"$f":"+IF(Calificación!F229=\"\",\"\",VLOOKUP(Calificación!F229,Listas!$AX$3:$AY$19,2,FALSE))","v":""},null,null,"5604Minas y Energía","Antioquia",5604,"Remedios",null,"Minas y Energía",14,null,null,null,null,null,null,null,null,null,null,null,null,null,null,null,null,null,null,null,null,null,null,null,null,null,null,null,null,null,null,null,null,"NO PDET",5380,"LA ESTRELLA","ANTIOQUIA","Medio Bajo",20,-1.2406592652597446,25]
[null,null,null,null,null,null,null,null,null,null,null,null,null,null,null,null,null,null,null,null,null,null,null,null,null,null,null,null,null,null,null,null,null,null,null,null,null,null,null,null,null,null,5390,"ANTIOQUIA","LA PINTADA","ANTIOQUIALA PINTADA","NO PDET",5390,null,null,null,{"$f":"+IF(Calificación!F230=\"\",\"\",VLOOKUP(Calificación!F230,Listas!$AX$3:$AY$19,2,FALSE))","v":""},null,null,"5665Tecnologías de la Información y las Comunicaciones","Antioquia",5665,"San Pedro de Urabá",null,"Tecnologías de la Información y las Comunicaciones",1,null,null,null,null,null,null,null,null,null,null,null,null,null,null,null,null,null,null,null,null,null,null,null,null,null,null,null,null,null,null,null,null,"NO PDET",5390,"LA PINTADA","ANTIOQUIA","Medio",40,-0.41355308841991484,50]
[null,null,null,null,null,null,null,null,null,null,null,null,null,null,null,null,null,null,null,null,null,null,null,null,null,null,null,null,null,null,null,null,null,null,null,null,null,null,null,null,null,null,5400,"ANTIOQUIA","LA UNIÓN","ANTIOQUIALA UNIÓN","NO PDET",5400,null,null,null,{"$f":"+IF(Calificación!F231=\"\",\"\",VLOOKUP(Calificación!F231,Listas!$AX$3:$AY$19,2,FALSE))","v":""},null,null,"5665Desarrollo Económico","Antioquia",5665,"San Pedro de Urabá",null,"Desarrollo Económico",2,null,null,null,null,null,null,null,null,null,null,null,null,null,null,null,null,null,null,null,null,null,null,null,null,null,null,null,null,null,null,null,null,"NO PDET",5400,"LA UNIÓN","ANTIOQUIA","Medio Bajo",20,-1.2406592652597446,25]
[null,null,null,null,null,null,null,null,null,null,null,null,null,null,null,null,null,null,null,null,null,null,null,null,null,null,null,null,null,null,null,null,null,null,null,null,null,null,null,null,null,null,5411,"ANTIOQUIA","LIBORINA","ANTIOQUIALIBORINA","NO PDET",5411,null,null,null,{"$f":"+IF(Calificación!F232=\"\",\"\",VLOOKUP(Calificación!F232,Listas!$AX$3:$AY$19,2,FALSE))","v":""},null,null,"5665Vivienda, Ciudad Y Territorio","Antioquia",5665,"San Pedro de Urabá",null,"Vivienda, Ciudad Y Territorio",3,null,null,null,null,null,null,null,null,null,null,null,null,null,null,null,null,null,null,null,null,null,null,null,null,null,null,null,null,null,null,null,null,"NO PDET",5411,"LIBORINA","ANTIOQUIA","Medio",40,-0.41355308841991484,50]
[null,null,null,null,null,null,null,null,null,null,null,null,null,null,null,null,null,null,null,null,null,null,null,null,null,null,null,null,null,null,null,null,null,null,null,null,null,null,null,null,null,null,5425,"ANTIOQUIA","MACEO","ANTIOQUIAMACEO","NO PDET",5425,null,null,null,{"$f":"+IF(Calificación!F233=\"\",\"\",VLOOKUP(Calificación!F233,Listas!$AX$3:$AY$19,2,FALSE))","v":""},null,null,"5665Agricultura y desarrollo rural","Antioquia",5665,"San Pedro de Urabá",null,"Agricultura y desarrollo rural",4,null,null,null,null,null,null,null,null,null,null,null,null,null,null,null,null,null,null,null,null,null,null,null,null,null,null,null,null,null,null,null,null,"NO PDET",5425,"MACEO","ANTIOQUIA","Medio",40,-0.41355308841991484,50]
[null,null,null,null,null,null,null,null,null,null,null,null,null,null,null,null,null,null,null,null,null,null,null,null,null,null,null,null,null,null,null,null,null,null,null,null,null,null,null,null,null,null,5440,"ANTIOQUIA","MARINILLA","ANTIOQUIAMARINILLA","NO PDET",5440,null,null,null,{"$f":"+IF(Calificación!F234=\"\",\"\",VLOOKUP(Calificación!F234,Listas!$AX$3:$AY$19,2,FALSE))","v":""},null,null,"5665Inclusión Social Y Reconciliación","Antioquia",5665,"San Pedro de Urabá",null,"Inclusión Social Y Reconciliación",5,null,null,null,null,null,null,null,null,null,null,null,null,null,null,null,null,null,null,null,null,null,null,null,null,null,null,null,null,null,null,null,null,"NO PDET",5440,"MARINILLA","ANTIOQUIA","Medio Bajo",20,-1.2406592652597446,25]
[null,null,null,null,null,null,null,null,null,null,null,null,null,null,null,null,null,null,null,null,null,null,null,null,null,null,null,null,null,null,null,null,null,null,null,null,null,null,null,null,null,null,5001,"ANTIOQUIA","MEDELLÍN","ANTIOQUIAMEDELLÍN","NO PDET",5001,null,null,null,{"$f":"+IF(Calificación!F235=\"\",\"\",VLOOKUP(Calificación!F235,Listas!$AX$3:$AY$19,2,FALSE))","v":""},null,null,"5665Educación","Antioquia",5665,"San Pedro de Urabá",null,"Educación",6,null,null,null,null,null,null,null,null,null,null,null,null,null,null,null,null,null,null,null,null,null,null,null,null,null,null,null,null,null,null,null,null,"NO PDET",5001,"MEDELLÍN","ANTIOQUIA","Medio Bajo",20,-1.2406592652597446,25]
[null,null,null,null,null,null,null,null,null,null,null,null,null,null,null,null,null,null,null,null,null,null,null,null,null,null,null,null,null,null,null,null,null,null,null,null,null,null,null,null,null,null,5467,"ANTIOQUIA","MONTEBELLO","ANTIOQUIAMONTEBELLO","NO PDET",5467,null,null,null,{"$f":"+IF(Calificación!F236=\"\",\"\",VLOOKUP(Calificación!F236,Listas!$AX$3:$AY$19,2,FALSE))","v":""},null,null,"5665Gobierno territorial","Antioquia",5665,"San Pedro de Urabá",null,"Gobierno territorial",7,null,null,null,null,null,null,null,null,null,null,null,null,null,null,null,null,null,null,null,null,null,null,null,null,null,null,null,null,null,null,null,null,"NO PDET",5467,"MONTEBELLO","ANTIOQUIA","Medio Bajo",20,-1.2406592652597446,25]
[null,null,null,null,null,null,null,null,null,null,null,null,null,null,null,null,null,null,null,null,null,null,null,null,null,null,null,null,null,null,null,null,null,null,null,null,null,null,null,null,null,null,5483,"ANTIOQUIA","NARIÑO","ANTIOQUIANARIÑO","NO PDET",5483,null,null,null,{"$f":"+IF(Calificación!F237=\"\",\"\",VLOOKUP(Calificación!F237,Listas!$AX$3:$AY$19,2,FALSE))","v":""},null,null,"5665Justicia y del Derecho","Antioquia",5665,"San Pedro de Urabá",null,"Justicia y del Derecho",8,null,null,null,null,null,null,null,null,null,null,null,null,null,null,null,null,null,null,null,null,null,null,null,null,null,null,null,null,null,null,null,null,"NO PDET",5483,"NARIÑO","ANTIOQUIA","Medio Bajo",20,-1.2406592652597446,25]
[null,null,null,null,null,null,null,null,null,null,null,null,null,null,null,null,null,null,null,null,null,null,null,null,null,null,null,null,null,null,null,null,null,null,null,null,null,null,null,null,null,null,5501,"ANTIOQUIA","OLAYA","ANTIOQUIAOLAYA","NO PDET",5501,null,null,null,{"$f":"+IF(Calificación!F238=\"\",\"\",VLOOKUP(Calificación!F238,Listas!$AX$3:$AY$19,2,FALSE))","v":""},null,null,"5665Deporte Y Recreación","Antioquia",5665,"San Pedro de Urabá",null,"Deporte Y Recreación",9,null,null,null,null,null,null,null,null,null,null,null,null,null,null,null,null,null,null,null,null,null,null,null,null,null,null,null,null,null,null,null,null,"NO PDET",5501,"OLAYA","ANTIOQUIA","Alto",60,0.41355308841991484,74.999999999999986]
[null,null,null,null,null,null,null,null,null,null,null,null,null,null,null,null,null,null,null,null,null,null,null,null,null,null,null,null,null,null,null,null,null,null,null,null,null,null,null,null,null,null,5541,"ANTIOQUIA","PEÑOL","ANTIOQUIAPEÑOL","NO PDET",5541,null,null,null,{"$f":"+IF(Calificación!F239=\"\",\"\",VLOOKUP(Calificación!F239,Listas!$AX$3:$AY$19,2,FALSE))","v":""},null,null,"5665Cultura","Antioquia",5665,"San Pedro de Urabá",null,"Cultura",10,null,null,null,null,null,null,null,null,null,null,null,null,null,null,null,null,null,null,null,null,null,null,null,null,null,null,null,null,null,null,null,null,"NO PDET",5541,"PEÑOL","ANTIOQUIA","Medio Bajo",20,-1.2406592652597446,25]
[null,null,null,null,null,null,null,null,null,null,null,null,null,null,null,null,null,null,null,null,null,null,null,null,null,null,null,null,null,null,null,null,null,null,null,null,null,null,null,null,null,null,5543,"ANTIOQUIA","PEQUE","ANTIOQUIAPEQUE","NO PDET",5543,null,null,null,{"$f":"+IF(Calificación!F240=\"\",\"\",VLOOKUP(Calificación!F240,Listas!$AX$3:$AY$19,2,FALSE))","v":""},null,null,"5665Salud y Protección social","Antioquia",5665,"San Pedro de Urabá",null,"Salud y Protección social",11,null,null,null,null,null,null,null,null,null,null,null,null,null,null,null,null,null,null,null,null,null,null,null,null,null,null,null,null,null,null,null,null,"NO PDET",5543,"PEQUE","ANTIOQUIA","Alto",60,0.41355308841991484,74.999999999999986]
[null,null,null,null,null,null,null,null,null,null,null,null,null,null,null,null,null,null,null,null,null,null,null,null,null,null,null,null,null,null,null,null,null,null,null,null,null,null,null,null,null,null,5576,"ANTIOQUIA","PUEBLORRICO","ANTIOQUIAPUEBLORRICO","NO PDET",5576,null,null,null,{"$f":"+IF(Calificación!F241=\"\",\"\",VLOOKUP(Calificación!F241,Listas!$AX$3:$AY$19,2,FALSE))","v":""},null,null,"5665Transporte","Antioquia",5665,"San Pedro de Urabá",null,"Transporte",12,null,null,null,null,null,null,null,null,null,null,null,null,null,null,null,null,null,null,null,null,null,null,null,null,null,null,null,null,null,null,null,null,"NO PDET",5576,"PUEBLORRICO","ANTIOQUIA","Medio Bajo",20,-1.2406592652597446,25]
[null,null,null,null,null,null,null,null,null,null,null,null,null,null,null,null,null,null,null,null,null,null,null,null,null,null,null,null,null,null,null,null,null,null,null,null,null,null,null,null,null,null,5579,"ANTIOQUIA","PUERTO BERRÍO","ANTIOQUIAPUERTO BERRÍO","NO PDET",5579,null,null,null,{"$f":"+IF(Calificación!F242=\"\",\"\",VLOOKUP(Calificación!F242,Listas!$AX$3:$AY$19,2,FALSE))","v":""},null,null,"5665Ambiente y Desarrollo Sostenible","Antioquia",5665,"San Pedro de Urabá",null,"Ambiente y Desarrollo Sostenible",13,null,null,null,null,null,null,null,null,null,null,null,null,null,null,null,null,null,null,null,null,null,null,null,null,null,null,null,null,null,null,null,null,"NO PDET",5579,"PUERTO BERRÍO","ANTIOQUIA","Medio",40,-0.41355308841991484,50]
[null,null,null,null,null,null,null,null,null,null,null,null,null,null,null,null,null,null,null,null,null,null,null,null,null,null,null,null,null,null,null,null,null,null,null,null,null,null,null,null,null,null,5585,"ANTIOQUIA","PUERTO NARE","ANTIOQUIAPUERTO NARE","NO PDET",5585,null,null,null,{"$f":"+IF(Calificación!F243=\"\",\"\",VLOOKUP(Calificación!F243,Listas!$AX$3:$AY$19,2,FALSE))","v":""},null,null,"5665Minas y Energía","Antioquia",5665,"San Pedro de Urabá",null,"Minas y Energía",14,null,null,null,null,null,null,null,null,null,null,null,null,null,null,null,null,null,null,null,null,null,null,null,null,null,null,null,null,null,null,null,null,"NO PDET",5585,"PUERTO NARE","ANTIOQUIA","Medio Bajo",20,-1.2406592652597446,25]
[null,null,null,null,null,null,null,null,null,null,null,null,null,null,null,null,null,null,null,null,null,null,null,null,null,null,null,null,null,null,null,null,null,null,null,null,null,null,null,null,null,null,5591,"ANTIOQUIA","PUERTO TRIUNFO","ANTIOQUIAPUERTO TRIUNFO","NO PDET",5591,null,null,null,{"$f":"+IF(Calificación!F244=\"\",\"\",VLOOKUP(Calificación!F244,Listas!$AX$3:$AY$19,2,FALSE))","v":""},null,null,"5736Desarrollo Económico","Antioquia",5736,"Segovia",null,"Desarrollo Económico",1,null,null,null,null,null,null,null,null,null,null,null,null,null,null,null,null,null,null,null,null,null,null,null,null,null,null,null,null,null,null,null,null,"NO PDET",5591,"PUERTO TRIUNFO","ANTIOQUIA","Medio",40,-0.41355308841991484,50]
[null,null,null,null,null,null,null,null,null,null,null,null,null,null,null,null,null,null,null,null,null,null,null,null,null,null,null,null,null,null,null,null,null,null,null,null,null,null,null,null,null,null,5607,"ANTIOQUIA","RETIRO","ANTIOQUIARETIRO","NO PDET",5607,null,null,null,{"$f":"+IF(Calificación!F245=\"\",\"\",VLOOKUP(Calificación!F245,Listas!$AX$3:$AY$19,2,FALSE))","v":""},null,null,"5736Tecnologías de la Información y las Comunicaciones","Antioquia",5736,"Segovia",null,"Tecnologías de la Información y las Comunicaciones",2,null,null,null,null,null,null,null,null,null,null,null,null,null,null,null,null,null,null,null,null,null,null,null,null,null,null,null,null,null,null,null,null,"NO PDET",5607,"RETIRO","ANTIOQUIA","Medio Bajo",20,-1.2406592652597446,25]
[null,null,null,null,null,null,null,null,null,null,null,null,null,null,null,null,null,null,null,null,null,null,null,null,null,null,null,null,null,null,null,null,null,null,null,null,null,null,null,null,null,null,5615,"ANTIOQUIA","RIONEGRO","ANTIOQUIARIONEGRO","NO PDET",5615,null,null,null,{"$f":"+IF(Calificación!F246=\"\",\"\",VLOOKUP(Calificación!F246,Listas!$AX$3:$AY$19,2,FALSE))","v":""},null,null,"5736Vivienda, Ciudad Y Territorio","Antioquia",5736,"Segovia",null,"Vivienda, Ciudad Y Territorio",3,null,null,null,null,null,null,null,null,null,null,null,null,null,null,null,null,null,null,null,null,null,null,null,null,null,null,null,null,null,null,null,null,"NO PDET",5615,"RIONEGRO","ANTIOQUIA","Medio Bajo",20,-1.2406592652597446,25]
[null,null,null,null,null,null,null,null,null,null,null,null,null,null,null,null,null,null,null,null,null,null,null,null,null,null,null,null,null,null,null,null,null,null,null,null,null,null,null,null,null,null,5628,"ANTIOQUIA","SABANALARGA","ANTIOQUIASABANALARGA","NO PDET",5628,null,null,null,{"$f":"+IF(Calificación!F247=\"\",\"\",VLOOKUP(Calificación!F247,Listas!$AX$3:$AY$19,2,FALSE))","v":""},null,null,"5736Agricultura y desarrollo rural","Antioquia",5736,"Segovia",null,"Agricultura y desarrollo rural",4,null,null,null,null,null,null,null,null,null,null,null,null,null,null,null,null,null,null,null,null,null,null,null,null,null,null,null,null,null,null,null,null,"NO PDET",5628,"SABANALARGA","ANTIOQUIA","Medio",40,-0.41355308841991484,50]
[null,null,null,null,null,null,null,null,null,null,null,null,null,null,null,null,null,null,null,null,null,null,null,null,null,null,null,null,null,null,null,null,null,null,null,null,null,null,null,null,null,null,5631,"ANTIOQUIA","SABANETA","ANTIOQUIASABANETA","NO PDET",5631,null,null,null,{"$f":"+IF(Calificación!F248=\"\",\"\",VLOOKUP(Calificación!F248,Listas!$AX$3:$AY$19,2,FALSE))","v":""},null,null,"5736Educación","Antioquia",5736,"Segovia",null,"Educación",5,null,null,null,null,null,null,null,null,null,null,null,null,null,null,null,null,null,null,null,null,null,null,null,null,null,null,null,null,null,null,null,null,"NO PDET",5631,"SABANETA","ANTIOQUIA","Medio Bajo",20,-1.2406592652597446,25]
[null,null,null,null,null,null,null,null,null,null,null,null,null,null,null,null,null,null,null,null,null,null,null,null,null,null,null,null,null,null,null,null,null,null,null,null,null,null,null,null,null,null,5642,"ANTIOQUIA","SALGAR","ANTIOQUIASALGAR","NO PDET",5642,null,null,null,{"$f":"+IF(Calificación!F249=\"\",\"\",VLOOKUP(Calificación!F249,Listas!$AX$3:$AY$19,2,FALSE))","v":""},null,null,"5736Inclusión Social Y Reconciliación","Antioquia",5736,"Segovia",null,"Inclusión Social Y Reconciliación",6,null,null,null,null,null,null,null,null,null,null,null,null,null,null,null,null,null,null,null,null,null,null,null,null,null,null,null,null,null,null,null,null,"NO PDET",5642,"SALGAR","ANTIOQUIA","Medio",40,-0.41355308841991484,50]
[null,null,null,null,null,null,null,null,null,null,null,null,null,null,null,null,null,null,null,null,null,null,null,null,null,null,null,null,null,null,null,null,null,null,null,null,null,null,null,null,null,null,5647,"ANTIOQUIA","SAN ANDRÉS DE CUERQUÍA","ANTIOQUIASAN ANDRÉS DE CUERQUÍA","NO PDET",5647,null,null,null,{"$f":"+IF(Calificación!F250=\"\",\"\",VLOOKUP(Calificación!F250,Listas!$AX$3:$AY$19,2,FALSE))","v":""},null,null,"5736Gobierno territorial","Antioquia",5736,"Segovia",null,"Gobierno territorial",7,null,null,null,null,null,null,null,null,null,null,null,null,null,null,null,null,null,null,null,null,null,null,null,null,null,null,null,null,null,null,null,null,"NO PDET",5647,"SAN ANDRÉS DE CUERQUÍA","ANTIOQUIA","Muy Alto",80,1.2406592652597446,100]
[null,null,null,null,null,null,null,null,null,null,null,null,null,null,null,null,null,null,null,null,null,null,null,null,null,null,null,null,null,null,null,null,null,null,null,null,null,null,null,null,null,null,5649,"ANTIOQUIA","SAN CARLOS","ANTIOQUIASAN CARLOS","NO PDET",5649,null,null,null,{"$f":"+IF(Calificación!F251=\"\",\"\",VLOOKUP(Calificación!F251,Listas!$AX$3:$AY$19,2,FALSE))","v":""},null,null,"5736Ambiente y Desarrollo Sostenible","Antioquia",5736,"Segovia",null,"Ambiente y Desarrollo Sostenible",8,null,null,null,null,null,null,null,null,null,null,null,null,null,null,null,null,null,null,null,null,null,null,null,null,null,null,null,null,null,null,null,null,"NO PDET",5649,"SAN CARLOS","ANTIOQUIA","Medio",40,-0.41355308841991484,50]
[null,null,null,null,null,null,null,null,null,null,null,null,null,null,null,null,null,null,null,null,null,null,null,null,null,null,null,null,null,null,null,null,null,null,null,null,null,null,null,null,null,null,5652,"ANTIOQUIA","SAN FRANCISCO","ANTIOQUIASAN FRANCISCO","NO PDET",5652,null,null,null,{"$f":"+IF(Calificación!F252=\"\",\"\",VLOOKUP(Calificación!F252,Listas!$AX$3:$AY$19,2,FALSE))","v":""},null,null,"5736Justicia y del Derecho","Antioquia",5736,"Segovia",null,"Justicia y del Derecho",9,null,null,null,null,null,null,null,null,null,null,null,null,null,null,null,null,null,null,null,null,null,null,null,null,null,null,null,null,null,null,null,null,"NO PDET",5652,"SAN FRANCISCO","ANTIOQUIA","Medio Bajo",20,-1.2406592652597446,25]
[null,null,null,null,null,null,null,null,null,null,null,null,null,null,null,null,null,null,null,null,null,null,null,null,null,null,null,null,null,null,null,null,null,null,null,null,null,null,null,null,null,null,5656,"ANTIOQUIA","SAN JERÓNIMO","ANTIOQUIASAN JERÓNIMO","NO PDET",5656,null,null,null,{"$f":"+IF(Calificación!F253=\"\",\"\",VLOOKUP(Calificación!F253,Listas!$AX$3:$AY$19,2,FALSE))","v":""},null,null,"5736Deporte Y Recreación","Antioquia",5736,"Segovia",null,"Deporte Y Recreación",10,null,null,null,null,null,null,null,null,null,null,null,null,null,null,null,null,null,null,null,null,null,null,null,null,null,null,null,null,null,null,null,null,"NO PDET",5656,"SAN JERÓNIMO","ANTIOQUIA","Medio",40,-0.41355308841991484,50]
[null,null,null,null,null,null,null,null,null,null,null,null,null,null,null,null,null,null,null,null,null,null,null,null,null,null,null,null,null,null,null,null,null,null,null,null,null,null,null,null,null,null,5658,"ANTIOQUIA","SAN JOSÉ DE LA MONTAÑA","ANTIOQUIASAN JOSÉ DE LA MONTAÑA","NO PDET",5658,null,null,null,{"$f":"+IF(Calificación!F254=\"\",\"\",VLOOKUP(Calificación!F254,Listas!$AX$3:$AY$19,2,FALSE))","v":""},null,null,"5736Cultura","Antioquia",5736,"Segovia",null,"Cultura",11,null,null,null,null,null,null,null,null,null,null,null,null,null,null,null,null,null,null,null,null,null,null,null,null,null,null,null,null,null,null,null,null,"NO PDET",5658,"SAN JOSÉ DE LA MONTAÑA","ANTIOQUIA","Bajo",0,-2.0677654420995744,0]
[null,null,null,null,null,null,null,null,null,null,null,null,null,null,null,null,null,null,null,null,null,null,null,null,null,null,null,null,null,null,null,null,null,null,null,null,null,null,null,null,null,null,5659,"ANTIOQUIA","SAN JUAN DE URABÁ","ANTIOQUIASAN JUAN DE URABÁ","NO PDET",5659,null,null,null,{"$f":"+IF(Calificación!F255=\"\",\"\",VLOOKUP(Calificación!F255,Listas!$AX$3:$AY$19,2,FALSE))","v":""},null,null,"5736Salud y Protección social","Antioquia",5736,"Segovia",null,"Salud y Protección social",12,null,null,null,null,null,null,null,null,null,null,null,null,null,null,null,null,null,null,null,null,null,null,null,null,null,null,null,null,null,null,null,null,"NO PDET",5659,"SAN JUAN DE URABÁ","ANTIOQUIA","Medio Bajo",20,-1.2406592652597446,25]
[null,null,null,null,null,null,null,null,null,null,null,null,null,null,null,null,null,null,null,null,null,null,null,null,null,null,null,null,null,null,null,null,null,null,null,null,null,null,null,null,null,null,5660,"ANTIOQUIA","SAN LUIS","ANTIOQUIASAN LUIS","NO PDET",5660,null,null,null,{"$f":"+IF(Calificación!F256=\"\",\"\",VLOOKUP(Calificación!F256,Listas!$AX$3:$AY$19,2,FALSE))","v":""},null,null,"5736Transporte","Antioquia",5736,"Segovia",null,"Transporte",13,null,null,null,null,null,null,null,null,null,null,null,null,null,null,null,null,null,null,null,null,null,null,null,null,null,null,null,null,null,null,null,null,"NO PDET",5660,"SAN LUIS","ANTIOQUIA","Alto",60,0.41355308841991484,74.999999999999986]
[null,null,null,null,null,null,null,null,null,null,null,null,null,null,null,null,null,null,null,null,null,null,null,null,null,null,null,null,null,null,null,null,null,null,null,null,null,null,null,null,null,null,5664,"ANTIOQUIA","SAN PEDRO DE LOS MILAGROS","ANTIOQUIASAN PEDRO DE LOS MILAGROS","NO PDET",5664,null,null,null,{"$f":"+IF(Calificación!F257=\"\",\"\",VLOOKUP(Calificación!F257,Listas!$AX$3:$AY$19,2,FALSE))","v":""},null,null,"5736Minas y Energía","Antioquia",5736,"Segovia",null,"Minas y Energía",14,null,null,null,null,null,null,null,null,null,null,null,null,null,null,null,null,null,null,null,null,null,null,null,null,null,null,null,null,null,null,null,null,"NO PDET",5664,"SAN PEDRO DE LOS MILAGROS","ANTIOQUIA","Medio Bajo",20,-1.2406592652597446,25]
[null,null,null,null,null,null,null,null,null,null,null,null,null,null,null,null,null,null,null,null,null,null,null,null,null,null,null,null,null,null,null,null,null,null,null,null,null,null,null,null,null,null,5667,"ANTIOQUIA","SAN RAFAEL","ANTIOQUIASAN RAFAEL","NO PDET",5667,null,null,null,{"$f":"+IF(Calificación!F258=\"\",\"\",VLOOKUP(Calificación!F258,Listas!$AX$3:$AY$19,2,FALSE))","v":""},null,null,"5790Tecnologías de la Información y las Comunicaciones","Antioquia",5790,"Tarazá",null,"Tecnologías de la Información y las Comunicaciones",1,null,null,null,null,null,null,null,null,null,null,null,null,null,null,null,null,null,null,null,null,null,null,null,null,null,null,null,null,null,null,null,null,"NO PDET",5667,"SAN RAFAEL","ANTIOQUIA","Medio",40,-0.41355308841991484,50]
[null,null,null,null,null,null,null,null,null,null,null,null,null,null,null,null,null,null,null,null,null,null,null,null,null,null,null,null,null,null,null,null,null,null,null,null,null,null,null,null,null,null,5670,"ANTIOQUIA","SAN ROQUE","ANTIOQUIASAN ROQUE","NO PDET",5670,null,null,null,{"$f":"+IF(Calificación!F259=\"\",\"\",VLOOKUP(Calificación!F259,Listas!$AX$3:$AY$19,2,FALSE))","v":""},null,null,"5790Desarrollo Económico","Antioquia",5790,"Tarazá",null,"Desarrollo Económico",2,null,null,null,null,null,null,null,null,null,null,null,null,null,null,null,null,null,null,null,null,null,null,null,null,null,null,null,null,null,null,null,null,"NO PDET",5670,"SAN ROQUE","ANTIOQUIA","Medio",40,-0.41355308841991484,50]
[null,null,null,null,null,null,null,null,null,null,null,null,null,null,null,null,null,null,null,null,null,null,null,null,null,null,null,null,null,null,null,null,null,null,null,null,null,null,null,null,null,null,5674,"ANTIOQUIA","SAN VICENTE","ANTIOQUIASAN VICENTE","NO PDET",5674,null,null,null,{"$f":"+IF(Calificación!F260=\"\",\"\",VLOOKUP(Calificación!F260,Listas!$AX$3:$AY$19,2,FALSE))","v":""},null,null,"5790Educación","Antioquia",5790,"Tarazá",null,"Educación",3,null,null,null,null,null,null,null,null,null,null,null,null,null,null,null,null,null,null,null,null,null,null,null,null,null,null,null,null,null,null,null,null,"NO PDET",5674,"SAN VICENTE","ANTIOQUIA","Medio Bajo",20,-1.2406592652597446,25]
[null,null,null,null,null,null,null,null,null,null,null,null,null,null,null,null,null,null,null,null,null,null,null,null,null,null,null,null,null,null,null,null,null,null,null,null,null,null,null,null,null,null,5679,"ANTIOQUIA","SANTA BÁRBARA","ANTIOQUIASANTA BÁRBARA","NO PDET",5679,null,null,null,{"$f":"+IF(Calificación!F261=\"\",\"\",VLOOKUP(Calificación!F261,Listas!$AX$3:$AY$19,2,FALSE))","v":""},null,null,"5790Agricultura y desarrollo rural","Antioquia",5790,"Tarazá",null,"Agricultura y desarrollo rural",4,null,null,null,null,null,null,null,null,null,null,null,null,null,null,null,null,null,null,null,null,null,null,null,null,null,null,null,null,null,null,null,null,"NO PDET",5679,"SANTA BÁRBARA","ANTIOQUIA","Medio",40,-0.41355308841991484,50]
[null,null,null,null,null,null,null,null,null,null,null,null,null,null,null,null,null,null,null,null,null,null,null,null,null,null,null,null,null,null,null,null,null,null,null,null,null,null,null,null,null,null,5686,"ANTIOQUIA","SANTA ROSA DE OSOS","ANTIOQUIASANTA ROSA DE OSOS","NO PDET",5686,null,null,null,{"$f":"+IF(Calificación!F262=\"\",\"\",VLOOKUP(Calificación!F262,Listas!$AX$3:$AY$19,2,FALSE))","v":""},null,null,"5790Vivienda, Ciudad Y Territorio","Antioquia",5790,"Tarazá",null,"Vivienda, Ciudad Y Territorio",5,null,null,null,null,null,null,null,null,null,null,null,null,null,null,null,null,null,null,null,null,null,null,null,null,null,null,null,null,null,null,null,null,"NO PDET",5686,"SANTA ROSA DE OSOS","ANTIOQUIA","Medio Bajo",20,-1.2406592652597446,25]
[null,null,null,null,null,null,null,null,null,null,null,null,null,null,null,null,null,null,null,null,null,null,null,null,null,null,null,null,null,null,null,null,null,null,null,null,null,null,null,null,null,null,5042,"ANTIOQUIA","SANTAFÉ DE ANTIOQUIA",{"$f":"+AR260&AS260","v":"ANTIOQUIASANTAFÉ DE ANTIOQUIA"},"NO PDET",5042,null,null,null,{"$f":"+IF(Calificación!F263=\"\",\"\",VLOOKUP(Calificación!F263,Listas!$AX$3:$AY$19,2,FALSE))","v":""},null,null,{"$f":"+BE260&BH260","v":"5790Inclusión Social Y Reconciliación"},"Antioquia",5790,"Tarazá",null,"Inclusión Social Y Reconciliación",6,null,null,null,null,null,null,null,null,null,null,null,null,null,null,null,null,null,null,null,null,null,null,null,null,null,null,null,null,null,null,null,null,"NO PDET",5042,"SANTAFÉ DE ANTIOQUIA","ANTIOQUIA","Medio",{"$f":"+VLOOKUP(CT260,$CY$3:$CZ$7,2,FALSE)","v":40},{"$f":"+(CU260-AVERAGE(CU$3:CU$172))/STDEVP(CU$3:CU$172)","v":-0.41355308841991484},{"$f":"(+(CV260-MIN(CV$3:CV$172))/(MAX(CV$3:CV$172)-MIN(CV$3:CV$172)))*100","v":50}]
[null,null,null,null,null,null,null,null,null,null,null,null,null,null,null,null,null,null,null,null,null,null,null,null,null,null,null,null,null,null,null,null,null,null,null,null,null,null,null,null,null,null,5690,"ANTIOQUIA","SANTO DOMINGO","ANTIOQUIASANTO DOMINGO","NO PDET",5690,null,null,null,{"$f":"+IF(Calificación!F264=\"\",\"\",VLOOKUP(Calificación!F264,Listas!$AX$3:$AY$19,2,FALSE))","v":""},null,null,"5790Gobierno territorial","Antioquia",5790,"Tarazá",null,"Gobierno territorial",7,null,null,null,null,null,null,null,null,null,null,null,null,null,null,null,null,null,null,null,null,null,null,null,null,null,null,null,null,null,null,null,null,"NO PDET",5690,"SANTO DOMINGO","ANTIOQUIA","Medio Bajo",20,-1.2406592652597446,25]
[null,null,null,null,null,null,null,null,null,null,null,null,null,null,null,null,null,null,null,null,null,null,null,null,null,null,null,null,null,null,null,null,null,null,null,null,null,null,null,null,null,null,5756,"ANTIOQUIA","SONSÓN","ANTIOQUIASONSÓN","NO PDET",5756,null,null,null,{"$f":"+IF(Calificación!F265=\"\",\"\",VLOOKUP(Calificación!F265,Listas!$AX$3:$AY$19,2,FALSE))","v":""},null,null,"5790Justicia y del Derecho","Antioquia",5790,"Tarazá",null,"Justicia y del Derecho",8,null,null,null,null,null,null,null,null,null,null,null,null,null,null,null,null,null,null,null,null,null,null,null,null,null,null,null,null,null,null,null,null,"NO PDET",5756,"SONSÓN","ANTIOQUIA","Medio Bajo",20,-1.2406592652597446,25]
[null,null,null,null,null,null,null,null,null,null,null,null,null,null,null,null,null,null,null,null,null,null,null,null,null,null,null,null,null,null,null,null,null,null,null,null,null,null,null,null,null,null,5761,"ANTIOQUIA","SOPETRÁN","ANTIOQUIASOPETRÁN","NO PDET",5761,null,null,null,{"$f":"+IF(Calificación!F266=\"\",\"\",VLOOKUP(Calificación!F266,Listas!$AX$3:$AY$19,2,FALSE))","v":""},null,null,"5790Ambiente y Desarrollo Sostenible","Antioquia",5790,"Tarazá",null,"Ambiente y Desarrollo Sostenible",9,null,null,null,null,null,null,null,null,null,null,null,null,null,null,null,null,null,null,null,null,null,null,null,null,null,null,null,null,null,null,null,null,"NO PDET",5761,"SOPETRÁN","ANTIOQUIA","Medio",40,-0.41355308841991484,50]
[null,null,null,null,null,null,null,null,null,null,null,null,null,null,null,null,null,null,null,null,null,null,null,null,null,null,null,null,null,null,null,null,null,null,null,null,null,null,null,null,null,null,5789,"ANTIOQUIA","TÁMESIS","ANTIOQUIATÁMESIS","NO PDET",5789,null,null,null,{"$f":"+IF(Calificación!F267=\"\",\"\",VLOOKUP(Calificación!F267,Listas!$AX$3:$AY$19,2,FALSE))","v":""},null,null,"5790Deporte Y Recreación","Antioquia",5790,"Tarazá",null,"Deporte Y Recreación",10,null,null,null,null,null,null,null,null,null,null,null,null,null,null,null,null,null,null,null,null,null,null,null,null,null,null,null,null,null,null,null,null,"NO PDET",5789,"TÁMESIS","ANTIOQUIA","Medio Bajo",20,-1.2406592652597446,25]
[null,null,null,null,null,null,null,null,null,null,null,null,null,null,null,null,null,null,null,null,null,null,null,null,null,null,null,null,null,null,null,null,null,null,null,null,null,null,null,null,null,null,5792,"ANTIOQUIA","TARSO","ANTIOQUIATARSO","NO PDET",5792,null,null,null,{"$f":"+IF(Calificación!F268=\"\",\"\",VLOOKUP(Calificación!F268,Listas!$AX$3:$AY$19,2,FALSE))","v":""},null,null,"5790Cultura","Antioquia",5790,"Tarazá",null,"Cultura",11,null,null,null,null,null,null,null,null,null,null,null,null,null,null,null,null,null,null,null,null,null,null,null,null,null,null,null,null,null,null,null,null,"NO PDET",5792,"TARSO","ANTIOQUIA","Medio Bajo",20,-1.2406592652597446,25]
[null,null,null,null,null,null,null,null,null,null,null,null,null,null,null,null,null,null,null,null,null,null,null,null,null,null,null,null,null,null,null,null,null,null,null,null,null,null,null,null,null,null,5809,"ANTIOQUIA","TITIRIBÍ","ANTIOQUIATITIRIBÍ","NO PDET",5809,null,null,null,{"$f":"+IF(Calificación!F269=\"\",\"\",VLOOKUP(Calificación!F269,Listas!$AX$3:$AY$19,2,FALSE))","v":""},null,null,"5790Transporte","Antioquia",5790,"Tarazá",null,"Transporte",12,null,null,null,null,null,null,null,null,null,null,null,null,null,null,null,null,null,null,null,null,null,null,null,null,null,null,null,null,null,null,null,null,"NO PDET",5809,"TITIRIBÍ","ANTIOQUIA","Medio Bajo",20,-1.2406592652597446,25]
[null,null,null,null,null,null,null,null,null,null,null,null,null,null,null,null,null,null,null,null,null,null,null,null,null,null,null,null,null,null,null,null,null,null,null,null,null,null,null,null,null,null,5819,"ANTIOQUIA","TOLEDO","ANTIOQUIATOLEDO","NO PDET",5819,null,null,null,{"$f":"+IF(Calificación!F270=\"\",\"\",VLOOKUP(Calificación!F270,Listas!$AX$3:$AY$19,2,FALSE))","v":""},null,null,"5790Salud y Protección social","Antioquia",5790,"Tarazá",null,"Salud y Protección social",13,null,null,null,null,null,null,null,null,null,null,null,null,null,null,null,null,null,null,null,null,null,null,null,null,null,null,null,null,null,null,null,null,"NO PDET",5819,"TOLEDO","ANTIOQUIA","Medio",40,-0.41355308841991484,50]
[null,null,null,null,null,null,null,null,null,null,null,null,null,null,null,null,null,null,null,null,null,null,null,null,null,null,null,null,null,null,null,null,null,null,null,null,null,null,null,null,null,null,5842,"ANTIOQUIA","URAMITA","ANTIOQUIAURAMITA","NO PDET",5842,null,null,null,{"$f":"+IF(Calificación!F271=\"\",\"\",VLOOKUP(Calificación!F271,Listas!$AX$3:$AY$19,2,FALSE))","v":""},null,null,"5790Minas y Energía","Antioquia",5790,"Tarazá",null,"Minas y Energía",14,null,null,null,null,null,null,null,null,null,null,null,null,null,null,null,null,null,null,null,null,null,null,null,null,null,null,null,null,null,null,null,null,"NO PDET",5842,"URAMITA","ANTIOQUIA","Medio Bajo",20,-1.2406592652597446,25]
[null,null,null,null,null,null,null,null,null,null,null,null,null,null,null,null,null,null,null,null,null,null,null,null,null,null,null,null,null,null,null,null,null,null,null,null,null,null,null,null,null,null,5847,"ANTIOQUIA","URRAO","ANTIOQUIAURRAO","NO PDET",5847,null,null,null,{"$f":"+IF(Calificación!F272=\"\",\"\",VLOOKUP(Calificación!F272,Listas!$AX$3:$AY$19,2,FALSE))","v":""},null,null,"5837Tecnologías de la Información y las Comunicaciones","Antioquia",5837,"Turbo",null,"Tecnologías de la Información y las Comunicaciones",1,null,null,null,null,null,null,null,null,null,null,null,null,null,null,null,null,null,null,null,null,null,null,null,null,null,null,null,null,null,null,null,null,"NO PDET",5847,"URRAO","ANTIOQUIA","Alto",60,0.41355308841991484,74.999999999999986]
[null,null,null,null,null,null,null,null,null,null,null,null,null,null,null,null,null,null,null,null,null,null,null,null,null,null,null,null,null,null,null,null,null,null,null,null,null,null,null,null,null,null,5856,"ANTIOQUIA","VALPARAÍSO","ANTIOQUIAVALPARAÍSO","NO PDET",5856,null,null,null,{"$f":"+IF(Calificación!F273=\"\",\"\",VLOOKUP(Calificación!F273,Listas!$AX$3:$AY$19,2,FALSE))","v":""},null,null,"5837Desarrollo Económico","Antioquia",5837,"Turbo",null,"Desarrollo Económico",2,null,null,null,null,null,null,null,null,null,null,null,null,null,null,null,null,null,null,null,null,null,null,null,null,null,null,null,null,null,null,null,null,"NO PDET",5856,"VALPARAÍSO","ANTIOQUIA","Medio Bajo",20,-1.2406592652597446,25]
[null,null,null,null,null,null,null,null,null,null,null,null,null,null,null,null,null,null,null,null,null,null,null,null,null,null,null,null,null,null,null,null,null,null,null,null,null,null,null,null,null,null,5858,"ANTIOQUIA","VEGACHÍ","ANTIOQUIAVEGACHÍ","NO PDET",5858,null,null,null,{"$f":"+IF(Calificación!F274=\"\",\"\",VLOOKUP(Calificación!F274,Listas!$AX$3:$AY$19,2,FALSE))","v":""},null,null,"5837Vivienda, Ciudad Y Territorio","Antioquia",5837,"Turbo",null,"Vivienda, Ciudad Y Territorio",3,null,null,null,null,null,null,null,null,null,null,null,null,null,null,null,null,null,null,null,null,null,null,null,null,null,null,null,null,null,null,null,null,"NO PDET",5858,"VEGACHÍ","ANTIOQUIA","Alto",60,0.41355308841991484,74.999999999999986]
[null,null,null,null,null,null,null,null,null,null,null,null,null,null,null,null,null,null,null,null,null,null,null,null,null,null,null,null,null,null,null,null,null,null,null,null,null,null,null,null,null,null,5861,"ANTIOQUIA","VENECIA","ANTIOQUIAVENECIA","NO PDET",5861,null,null,null,{"$f":"+IF(Calificación!F275=\"\",\"\",VLOOKUP(Calificación!F275,Listas!$AX$3:$AY$19,2,FALSE))","v":""},null,null,"5837Agricultura y desarrollo rural","Antioquia",5837,"Turbo",null,"Agricultura y desarrollo rural",4,null,null,null,null,null,null,null,null,null,null,null,null,null,null,null,null,null,null,null,null,null,null,null,null,null,null,null,null,null,null,null,null,"NO PDET",5861,"VENECIA","ANTIOQUIA","Medio",40,-0.41355308841991484,50]
[null,null,null,null,null,null,null,null,null,null,null,null,null,null,null,null,null,null,null,null,null,null,null,null,null,null,null,null,null,null,null,null,null,null,null,null,null,null,null,null,null,null,5885,"ANTIOQUIA","YALÍ","ANTIOQUIAYALÍ","NO PDET",5885,null,null,null,{"$f":"+IF(Calificación!F276=\"\",\"\",VLOOKUP(Calificación!F276,Listas!$AX$3:$AY$19,2,FALSE))","v":""},null,null,"5837Inclusión Social Y Reconciliación","Antioquia",5837,"Turbo",null,"Inclusión Social Y Reconciliación",5,null,null,null,null,null,null,null,null,null,null,null,null,null,null,null,null,null,null,null,null,null,null,null,null,null,null,null,null,null,null,null,null,"NO PDET",5885,"YALÍ","ANTIOQUIA","Medio Bajo",20,-1.2406592652597446,25]
[null,null,null,null,null,null,null,null,null,null,null,null,null,null,null,null,null,null,null,null,null,null,null,null,null,null,null,null,null,null,null,null,null,null,null,null,null,null,null,null,null,null,5887,"ANTIOQUIA","YARUMAL","ANTIOQUIAYARUMAL","NO PDET",5887,null,null,null,{"$f":"+IF(Calificación!F277=\"\",\"\",VLOOKUP(Calificación!F277,Listas!$AX$3:$AY$19,2,FALSE))","v":""},null,null,"5837Educación","Antioquia",5837,"Turbo",null,"Educación",6,null,null,null,null,null,null,null,null,null,null,null,null,null,null,null,null,null,null,null,null,null,null,null,null,null,null,null,null,null,null,null,null,"NO PDET",5887,"YARUMAL","ANTIOQUIA","Alto",60,0.41355308841991484,74.999999999999986]
[null,null,null,null,null,null,null,null,null,null,null,null,null,null,null,null,null,null,null,null,null,null,null,null,null,null,null,null,null,null,null,null,null,null,null,null,null,null,null,null,null,null,5890,"ANTIOQUIA","YOLOMBÓ","ANTIOQUIAYOLOMBÓ","NO PDET",5890,null,null,null,{"$f":"+IF(Calificación!F278=\"\",\"\",VLOOKUP(Calificación!F278,Listas!$AX$3:$AY$19,2,FALSE))","v":""},null,null,"5837Gobierno territorial","Antioquia",5837,"Turbo",null,"Gobierno territorial",7,null,null,null,null,null,null,null,null,null,null,null,null,null,null,null,null,null,null,null,null,null,null,null,null,null,null,null,null,null,null,null,null,"NO PDET",5890,"YOLOMBÓ","ANTIOQUIA","Medio",40,-0.41355308841991484,50]
[null,null,null,null,null,null,null,null,null,null,null,null,null,null,null,null,null,null,null,null,null,null,null,null,null,null,null,null,null,null,null,null,null,null,null,null,null,null,null,null,null,null,81001,"ARAUCA","ARAUCA","ARAUCAARAUCA","NO PDET",81001,null,null,null,{"$f":"+IF(Calificación!F279=\"\",\"\",VLOOKUP(Calificación!F279,Listas!$AX$3:$AY$19,2,FALSE))","v":""},null,null,"5837Justicia y del Derecho","Antioquia",5837,"Turbo",null,"Justicia y del Derecho",8,null,null,null,null,null,null,null,null,null,null,null,null,null,null,null,null,null,null,null,null,null,null,null,null,null,null,null,null,null,null,null,null,"NO PDET",81001,"ARAUCA","ARAUCA","Alto",60,0.41355308841991484,74.999999999999986]
[null,null,null,null,null,null,null,null,null,null,null,null,null,null,null,null,null,null,null,null,null,null,null,null,null,null,null,null,null,null,null,null,null,null,null,null,null,null,null,null,null,null,81220,"ARAUCA","CRAVO NORTE","ARAUCACRAVO NORTE","NO PDET",81220,null,null,null,{"$f":"+IF(Calificación!F280=\"\",\"\",VLOOKUP(Calificación!F280,Listas!$AX$3:$AY$19,2,FALSE))","v":""},null,null,"5837Ambiente y Desarrollo Sostenible","Antioquia",5837,"Turbo",null,"Ambiente y Desarrollo Sostenible",9,null,null,null,null,null,null,null,null,null,null,null,null,null,null,null,null,null,null,null,null,null,null,null,null,null,null,null,null,null,null,null,null,"NO PDET",81220,"CRAVO NORTE","ARAUCA","Medio",40,-0.41355308841991484,50]
[null,null,null,null,null,null,null,null,null,null,null,null,null,null,null,null,null,null,null,null,null,null,null,null,null,null,null,null,null,null,null,null,null,null,null,null,null,null,null,null,null,null,81591,"ARAUCA","PUERTO RONDÓN","ARAUCAPUERTO RONDÓN","NO PDET",81591,null,null,null,{"$f":"+IF(Calificación!F281=\"\",\"\",VLOOKUP(Calificación!F281,Listas!$AX$3:$AY$19,2,FALSE))","v":""},null,null,"5837Deporte Y Recreación","Antioquia",5837,"Turbo",null,"Deporte Y Recreación",10,null,null,null,null,null,null,null,null,null,null,null,null,null,null,null,null,null,null,null,null,null,null,null,null,null,null,null,null,null,null,null,null,"NO PDET",81591,"PUERTO RONDÓN","ARAUCA","Muy Alto",80,1.2406592652597446,100]
[null,null,null,null,null,null,null,null,null,null,null,null,null,null,null,null,null,null,null,null,null,null,null,null,null,null,null,null,null,null,null,null,null,null,null,null,null,null,null,null,null,null,88564,"ARCHIPIÉLAGO_DE_SAN_ANDRÉS","PROVIDENCIA","ARCHIPIÉLAGO_DE_SAN_ANDRÉSPROVIDENCIA","NO PDET",88564,null,null,null,{"$f":"+IF(Calificación!F282=\"\",\"\",VLOOKUP(Calificación!F282,Listas!$AX$3:$AY$19,2,FALSE))","v":""},null,null,"5837Salud y Protección social","Antioquia",5837,"Turbo",null,"Salud y Protección social",11,null,null,null,null,null,null,null,null,null,null,null,null,null,null,null,null,null,null,null,null,null,null,null,null,null,null,null,null,null,null,null,null,"NO PDET",88564,"PROVIDENCIA","ARCHIPIÉLAGO DE SAN ANDRÉS","Medio Bajo",20,-1.2406592652597446,25]
[null,null,null,null,null,null,null,null,null,null,null,null,null,null,null,null,null,null,null,null,null,null,null,null,null,null,null,null,null,null,null,null,null,null,null,null,null,null,null,null,null,null,8078,"ATLÁNTICO","BARANOA","ATLÁNTICOBARANOA","NO PDET",8078,null,null,null,{"$f":"+IF(Calificación!F283=\"\",\"\",VLOOKUP(Calificación!F283,Listas!$AX$3:$AY$19,2,FALSE))","v":""},null,null,"5837Cultura","Antioquia",5837,"Turbo",null,"Cultura",12,null,null,null,null,null,null,null,null,null,null,null,null,null,null,null,null,null,null,null,null,null,null,null,null,null,null,null,null,null,null,null,null,"NO PDET",8078,"BARANOA","ATLÁNTICO","Medio Bajo",20,-1.2406592652597446,25]
[null,null,null,null,null,null,null,null,null,null,null,null,null,null,null,null,null,null,null,null,null,null,null,null,null,null,null,null,null,null,null,null,null,null,null,null,null,null,null,null,null,null,8001,"ATLÁNTICO","BARRANQUILLA","ATLÁNTICOBARRANQUILLA","NO PDET",8001,null,null,null,{"$f":"+IF(Calificación!F284=\"\",\"\",VLOOKUP(Calificación!F284,Listas!$AX$3:$AY$19,2,FALSE))","v":""},null,null,"5837Transporte","Antioquia",5837,"Turbo",null,"Transporte",13,null,null,null,null,null,null,null,null,null,null,null,null,null,null,null,null,null,null,null,null,null,null,null,null,null,null,null,null,null,null,null,null,"NO PDET",8001,"BARRANQUILLA","ATLÁNTICO","Medio Bajo",20,-1.2406592652597446,25]
[null,null,null,null,null,null,null,null,null,null,null,null,null,null,null,null,null,null,null,null,null,null,null,null,null,null,null,null,null,null,null,null,null,null,null,null,null,null,null,null,null,null,8137,"ATLÁNTICO","CAMPO DE LA CRUZ","ATLÁNTICOCAMPO DE LA CRUZ","NO PDET",8137,null,null,null,{"$f":"+IF(Calificación!F285=\"\",\"\",VLOOKUP(Calificación!F285,Listas!$AX$3:$AY$19,2,FALSE))","v":""},null,null,"5837Minas y Energía","Antioquia",5837,"Turbo",null,"Minas y Energía",14,null,null,null,null,null,null,null,null,null,null,null,null,null,null,null,null,null,null,null,null,null,null,null,null,null,null,null,null,null,null,null,null,"NO PDET",8137,"CAMPO DE LA CRUZ","ATLÁNTICO","Medio Bajo",20,-1.2406592652597446,25]
[null,null,null,null,null,null,null,null,null,null,null,null,null,null,null,null,null,null,null,null,null,null,null,null,null,null,null,null,null,null,null,null,null,null,null,null,null,null,null,null,null,null,8141,"ATLÁNTICO","CANDELARIA","ATLÁNTICOCANDELARIA","NO PDET",8141,null,null,null,{"$f":"+IF(Calificación!F286=\"\",\"\",VLOOKUP(Calificación!F286,Listas!$AX$3:$AY$19,2,FALSE))","v":""},null,null,"5854Tecnologías de la Información y las Comunicaciones","Antioquia",5854,"Valdivia",null,"Tecnologías de la Información y las Comunicaciones",1,null,null,null,null,null,null,null,null,null,null,null,null,null,null,null,null,null,null,null,null,null,null,null,null,null,null,null,null,null,null,null,null,"NO PDET",8141,"CANDELARIA","ATLÁNTICO","Medio Bajo",20,-1.2406592652597446,25]
[null,null,null,null,null,null,null,null,null,null,null,null,null,null,null,null,null,null,null,null,null,null,null,null,null,null,null,null,null,null,null,null,null,null,null,null,null,null,null,null,null,null,8296,"ATLÁNTICO","GALAPA","ATLÁNTICOGALAPA","NO PDET",8296,null,null,null,{"$f":"+IF(Calificación!F287=\"\",\"\",VLOOKUP(Calificación!F287,Listas!$AX$3:$AY$19,2,FALSE))","v":""},null,null,"5854Desarrollo Económico","Antioquia",5854,"Valdivia",null,"Desarrollo Económico",2,null,null,null,null,null,null,null,null,null,null,null,null,null,null,null,null,null,null,null,null,null,null,null,null,null,null,null,null,null,null,null,null,"NO PDET",8296,"GALAPA","ATLÁNTICO","Medio Bajo",20,-1.2406592652597446,25]
[null,null,null,null,null,null,null,null,null,null,null,null,null,null,null,null,null,null,null,null,null,null,null,null,null,null,null,null,null,null,null,null,null,null,null,null,null,null,null,null,null,null,8372,"ATLÁNTICO","JUAN DE ACOSTA","ATLÁNTICOJUAN DE ACOSTA","NO PDET",8372,null,null,null,{"$f":"+IF(Calificación!F288=\"\",\"\",VLOOKUP(Calificación!F288,Listas!$AX$3:$AY$19,2,FALSE))","v":""},null,null,"5854Vivienda, Ciudad Y Territorio","Antioquia",5854,"Valdivia",null,"Vivienda, Ciudad Y Territorio",3,null,null,null,null,null,null,null,null,null,null,null,null,null,null,null,null,null,null,null,null,null,null,null,null,null,null,null,null,null,null,null,null,"NO PDET",8372,"JUAN DE ACOSTA","ATLÁNTICO","Medio Bajo",20,-1.2406592652597446,25]
[null,null,null,null,null,null,null,null,null,null,null,null,null,null,null,null,null,null,null,null,null,null,null,null,null,null,null,null,null,null,null,null,null,null,null,null,null,null,null,null,null,null,8421,"ATLÁNTICO","LURUACO","ATLÁNTICOLURUACO","NO PDET",8421,null,null,null,{"$f":"+IF(Calificación!F289=\"\",\"\",VLOOKUP(Calificación!F289,Listas!$AX$3:$AY$19,2,FALSE))","v":""},null,null,"5854Agricultura y desarrollo rural","Antioquia",5854,"Valdivia",null,"Agricultura y desarrollo rural",4,null,null,null,null,null,null,null,null,null,null,null,null,null,null,null,null,null,null,null,null,null,null,null,null,null,null,null,null,null,null,null,null,"NO PDET",8421,"LURUACO","ATLÁNTICO","Medio Bajo",20,-1.2406592652597446,25]
[null,null,null,null,null,null,null,null,null,null,null,null,null,null,null,null,null,null,null,null,null,null,null,null,null,null,null,null,null,null,null,null,null,null,null,null,null,null,null,null,null,null,8433,"ATLÁNTICO","MALAMBO","ATLÁNTICOMALAMBO","NO PDET",8433,null,null,null,{"$f":"+IF(Calificación!F290=\"\",\"\",VLOOKUP(Calificación!F290,Listas!$AX$3:$AY$19,2,FALSE))","v":""},null,null,"5854Educación","Antioquia",5854,"Valdivia",null,"Educación",5,null,null,null,null,null,null,null,null,null,null,null,null,null,null,null,null,null,null,null,null,null,null,null,null,null,null,null,null,null,null,null,null,"NO PDET",8433,"MALAMBO","ATLÁNTICO","Medio Bajo",20,-1.2406592652597446,25]
[null,null,null,null,null,null,null,null,null,null,null,null,null,null,null,null,null,null,null,null,null,null,null,null,null,null,null,null,null,null,null,null,null,null,null,null,null,null,null,null,null,null,8436,"ATLÁNTICO","MANATÍ","ATLÁNTICOMANATÍ","NO PDET",8436,null,null,null,{"$f":"+IF(Calificación!F291=\"\",\"\",VLOOKUP(Calificación!F291,Listas!$AX$3:$AY$19,2,FALSE))","v":""},null,null,"5854Inclusión Social Y Reconciliación","Antioquia",5854,"Valdivia",null,"Inclusión Social Y Reconciliación",6,null,null,null,null,null,null,null,null,null,null,null,null,null,null,null,null,null,null,null,null,null,null,null,null,null,null,null,null,null,null,null,null,"NO PDET",8436,"MANATÍ","ATLÁNTICO","Bajo",0,-2.0677654420995744,0]
[null,null,null,null,null,null,null,null,null,null,null,null,null,null,null,null,null,null,null,null,null,null,null,null,null,null,null,null,null,null,null,null,null,null,null,null,null,null,null,null,null,null,8520,"ATLÁNTICO","PALMAR DE VARELA","ATLÁNTICOPALMAR DE VARELA","NO PDET",8520,null,null,null,{"$f":"+IF(Calificación!F292=\"\",\"\",VLOOKUP(Calificación!F292,Listas!$AX$3:$AY$19,2,FALSE))","v":""},null,null,"5854Gobierno territorial","Antioquia",5854,"Valdivia",null,"Gobierno territorial",7,null,null,null,null,null,null,null,null,null,null,null,null,null,null,null,null,null,null,null,null,null,null,null,null,null,null,null,null,null,null,null,null,"NO PDET",8520,"PALMAR DE VARELA","ATLÁNTICO","Medio Bajo",20,-1.2406592652597446,25]
[null,null,null,null,null,null,null,null,null,null,null,null,null,null,null,null,null,null,null,null,null,null,null,null,null,null,null,null,null,null,null,null,null,null,null,null,null,null,null,null,null,null,8549,"ATLÁNTICO","PIOJÓ","ATLÁNTICOPIOJÓ","NO PDET",8549,null,null,null,{"$f":"+IF(Calificación!F293=\"\",\"\",VLOOKUP(Calificación!F293,Listas!$AX$3:$AY$19,2,FALSE))","v":""},null,null,"5854Ambiente y Desarrollo Sostenible","Antioquia",5854,"Valdivia",null,"Ambiente y Desarrollo Sostenible",8,null,null,null,null,null,null,null,null,null,null,null,null,null,null,null,null,null,null,null,null,null,null,null,null,null,null,null,null,null,null,null,null,"NO PDET",8549,"PIOJÓ","ATLÁNTICO","Medio Bajo",20,-1.2406592652597446,25]
[null,null,null,null,null,null,null,null,null,null,null,null,null,null,null,null,null,null,null,null,null,null,null,null,null,null,null,null,null,null,null,null,null,null,null,null,null,null,null,null,null,null,8558,"ATLÁNTICO","POLONUEVO","ATLÁNTICOPOLONUEVO","NO PDET",8558,null,null,null,{"$f":"+IF(Calificación!F294=\"\",\"\",VLOOKUP(Calificación!F294,Listas!$AX$3:$AY$19,2,FALSE))","v":""},null,null,"5854Justicia y del Derecho","Antioquia",5854,"Valdivia",null,"Justicia y del Derecho",9,null,null,null,null,null,null,null,null,null,null,null,null,null,null,null,null,null,null,null,null,null,null,null,null,null,null,null,null,null,null,null,null,"NO PDET",8558,"POLONUEVO","ATLÁNTICO","Medio Bajo",20,-1.2406592652597446,25]
[null,null,null,null,null,null,null,null,null,null,null,null,null,null,null,null,null,null,null,null,null,null,null,null,null,null,null,null,null,null,null,null,null,null,null,null,null,null,null,null,null,null,8560,"ATLÁNTICO","PONEDERA","ATLÁNTICOPONEDERA","NO PDET",8560,null,null,null,{"$f":"+IF(Calificación!F295=\"\",\"\",VLOOKUP(Calificación!F295,Listas!$AX$3:$AY$19,2,FALSE))","v":""},null,null,"5854Salud y Protección social","Antioquia",5854,"Valdivia",null,"Salud y Protección social",10,null,null,null,null,null,null,null,null,null,null,null,null,null,null,null,null,null,null,null,null,null,null,null,null,null,null,null,null,null,null,null,null,"NO PDET",8560,"PONEDERA","ATLÁNTICO","Medio Bajo",20,-1.2406592652597446,25]
[null,null,null,null,null,null,null,null,null,null,null,null,null,null,null,null,null,null,null,null,null,null,null,null,null,null,null,null,null,null,null,null,null,null,null,null,null,null,null,null,null,null,8573,"ATLÁNTICO","PUERTO COLOMBIA","ATLÁNTICOPUERTO COLOMBIA","NO PDET",8573,null,null,null,{"$f":"+IF(Calificación!F296=\"\",\"\",VLOOKUP(Calificación!F296,Listas!$AX$3:$AY$19,2,FALSE))","v":""},null,null,"5854Deporte Y Recreación","Antioquia",5854,"Valdivia",null,"Deporte Y Recreación",11,null,null,null,null,null,null,null,null,null,null,null,null,null,null,null,null,null,null,null,null,null,null,null,null,null,null,null,null,null,null,null,null,"NO PDET",8573,"PUERTO COLOMBIA","ATLÁNTICO","Medio Bajo",20,-1.2406592652597446,25]
[null,null,null,null,null,null,null,null,null,null,null,null,null,null,null,null,null,null,null,null,null,null,null,null,null,null,null,null,null,null,null,null,null,null,null,null,null,null,null,null,null,null,8606,"ATLÁNTICO","REPELÓN","ATLÁNTICOREPELÓN","NO PDET",8606,null,null,null,{"$f":"+IF(Calificación!F297=\"\",\"\",VLOOKUP(Calificación!F297,Listas!$AX$3:$AY$19,2,FALSE))","v":""},null,null,"5854Cultura","Antioquia",5854,"Valdivia",null,"Cultura",12,null,null,null,null,null,null,null,null,null,null,null,null,null,null,null,null,null,null,null,null,null,null,null,null,null,null,null,null,null,null,null,null,"NO PDET",8606,"REPELÓN","ATLÁNTICO","Medio Bajo",20,-1.2406592652597446,25]
[null,null,null,null,null,null,null,null,null,null,null,null,null,null,null,null,null,null,null,null,null,null,null,null,null,null,null,null,null,null,null,null,null,null,null,null,null,null,null,null,null,null,8634,"ATLÁNTICO","SABANAGRANDE","ATLÁNTICOSABANAGRANDE","NO PDET",8634,null,null,null,{"$f":"+IF(Calificación!F298=\"\",\"\",VLOOKUP(Calificación!F298,Listas!$AX$3:$AY$19,2,FALSE))","v":""},null,null,"5854Transporte","Antioquia",5854,"Valdivia",null,"Transporte",13,null,null,null,null,null,null,null,null,null,null,null,null,null,null,null,null,null,null,null,null,null,null,null,null,null,null,null,null,null,null,null,null,"NO PDET",8634,"SABANAGRANDE","ATLÁNTICO","Medio Bajo",20,-1.2406592652597446,25]
[null,null,null,null,null,null,null,null,null,null,null,null,null,null,null,null,null,null,null,null,null,null,null,null,null,null,null,null,null,null,null,null,null,null,null,null,null,null,null,null,null,null,8638,"ATLÁNTICO","SABANALARGA","ATLÁNTICOSABANALARGA","NO PDET",8638,null,null,null,{"$f":"+IF(Calificación!F299=\"\",\"\",VLOOKUP(Calificación!F299,Listas!$AX$3:$AY$19,2,FALSE))","v":""},null,null,"5854Minas y Energía","Antioquia",5854,"Valdivia",null,"Minas y Energía",14,null,null,null,null,null,null,null,null,null,null,null,null,null,null,null,null,null,null,null,null,null,null,null,null,null,null,null,null,null,null,null,null,"NO PDET",8638,"SABANALARGA","ATLÁNTICO","Medio Bajo",20,-1.2406592652597446,25]
[null,null,null,null,null,null,null,null,null,null,null,null,null,null,null,null,null,null,null,null,null,null,null,null,null,null,null,null,null,null,null,null,null,null,null,null,null,null,null,null,null,null,8675,"ATLÁNTICO","SANTA LUCÍA","ATLÁNTICOSANTA LUCÍA","NO PDET",8675,null,null,null,{"$f":"+IF(Calificación!F300=\"\",\"\",VLOOKUP(Calificación!F300,Listas!$AX$3:$AY$19,2,FALSE))","v":""},null,null,"5873Vivienda, Ciudad Y Territorio","Antioquia",5873,"Vigía del Fuerte",null,"Vivienda, Ciudad Y Territorio",1,null,null,null,null,null,null,null,null,null,null,null,null,null,null,null,null,null,null,null,null,null,null,null,null,null,null,null,null,null,null,null,null,"NO PDET",8675,"SANTA LUCÍA","ATLÁNTICO","Medio Bajo",20,-1.2406592652597446,25]
[null,null,null,null,null,null,null,null,null,null,null,null,null,null,null,null,null,null,null,null,null,null,null,null,null,null,null,null,null,null,null,null,null,null,null,null,null,null,null,null,null,null,8685,"ATLÁNTICO","SANTO TOMÁS","ATLÁNTICOSANTO TOMÁS","NO PDET",8685,null,null,null,{"$f":"+IF(Calificación!F301=\"\",\"\",VLOOKUP(Calificación!F301,Listas!$AX$3:$AY$19,2,FALSE))","v":""},null,null,"5873Tecnologías de la Información y las Comunicaciones","Antioquia",5873,"Vigía del Fuerte",null,"Tecnologías de la Información y las Comunicaciones",2,null,null,null,null,null,null,null,null,null,null,null,null,null,null,null,null,null,null,null,null,null,null,null,null,null,null,null,null,null,null,null,null,"NO PDET",8685,"SANTO TOMÁS","ATLÁNTICO","Medio Bajo",20,-1.2406592652597446,25]
[null,null,null,null,null,null,null,null,null,null,null,null,null,null,null,null,null,null,null,null,null,null,null,null,null,null,null,null,null,null,null,null,null,null,null,null,null,null,null,null,null,null,8758,"ATLÁNTICO","SOLEDAD","ATLÁNTICOSOLEDAD","NO PDET",8758,null,null,null,{"$f":"+IF(Calificación!F302=\"\",\"\",VLOOKUP(Calificación!F302,Listas!$AX$3:$AY$19,2,FALSE))","v":""},null,null,"5873Desarrollo Económico","Antioquia",5873,"Vigía del Fuerte",null,"Desarrollo Económico",3,null,null,null,null,null,null,null,null,null,null,null,null,null,null,null,null,null,null,null,null,null,null,null,null,null,null,null,null,null,null,null,null,"NO PDET",8758,"SOLEDAD","ATLÁNTICO","Medio Bajo",20,-1.2406592652597446,25]
[null,null,null,null,null,null,null,null,null,null,null,null,null,null,null,null,null,null,null,null,null,null,null,null,null,null,null,null,null,null,null,null,null,null,null,null,null,null,null,null,null,null,8770,"ATLÁNTICO","SUAN","ATLÁNTICOSUAN","NO PDET",8770,null,null,null,{"$f":"+IF(Calificación!F303=\"\",\"\",VLOOKUP(Calificación!F303,Listas!$AX$3:$AY$19,2,FALSE))","v":""},null,null,"5873Inclusión Social Y Reconciliación","Antioquia",5873,"Vigía del Fuerte",null,"Inclusión Social Y Reconciliación",4,null,null,null,null,null,null,null,null,null,null,null,null,null,null,null,null,null,null,null,null,null,null,null,null,null,null,null,null,null,null,null,null,"NO PDET",8770,"SUAN","ATLÁNTICO","Medio Bajo",20,-1.2406592652597446,25]
[null,null,null,null,null,null,null,null,null,null,null,null,null,null,null,null,null,null,null,null,null,null,null,null,null,null,null,null,null,null,null,null,null,null,null,null,null,null,null,null,null,null,8832,"ATLÁNTICO","TUBARÁ","ATLÁNTICOTUBARÁ","NO PDET",8832,null,null,null,{"$f":"+IF(Calificación!F304=\"\",\"\",VLOOKUP(Calificación!F304,Listas!$AX$3:$AY$19,2,FALSE))","v":""},null,null,"5873Agricultura y desarrollo rural","Antioquia",5873,"Vigía del Fuerte",null,"Agricultura y desarrollo rural",5,null,null,null,null,null,null,null,null,null,null,null,null,null,null,null,null,null,null,null,null,null,null,null,null,null,null,null,null,null,null,null,null,"NO PDET",8832,"TUBARÁ","ATLÁNTICO","Medio Bajo",20,-1.2406592652597446,25]
[null,null,null,null,null,null,null,null,null,null,null,null,null,null,null,null,null,null,null,null,null,null,null,null,null,null,null,null,null,null,null,null,null,null,null,null,null,null,null,null,null,null,8849,"ATLÁNTICO","USIACURÍ","ATLÁNTICOUSIACURÍ","NO PDET",8849,null,null,null,{"$f":"+IF(Calificación!F305=\"\",\"\",VLOOKUP(Calificación!F305,Listas!$AX$3:$AY$19,2,FALSE))","v":""},null,null,"5873Educación","Antioquia",5873,"Vigía del Fuerte",null,"Educación",6,null,null,null,null,null,null,null,null,null,null,null,null,null,null,null,null,null,null,null,null,null,null,null,null,null,null,null,null,null,null,null,null,"NO PDET",8849,"USIACURÍ","ATLÁNTICO","Medio Bajo",20,-1.2406592652597446,25]
[null,null,null,null,null,null,null,null,null,null,null,null,null,null,null,null,null,null,null,null,null,null,null,null,null,null,null,null,null,null,null,null,null,null,null,null,null,null,null,null,null,null,11001,"BOGOTÁ","BOGOTÁ, D.C.","BOGOTÁBOGOTÁ, D.C.","NO PDET",11001,null,null,null,{"$f":"+IF(Calificación!F306=\"\",\"\",VLOOKUP(Calificación!F306,Listas!$AX$3:$AY$19,2,FALSE))","v":""},null,null,"5873Gobierno territorial","Antioquia",5873,"Vigía del Fuerte",null,"Gobierno territorial",7,null,null,null,null,null,null,null,null,null,null,null,null,null,null,null,null,null,null,null,null,null,null,null,null,null,null,null,null,null,null,null,null,"NO PDET",11001,"BOGOTÁ, D.C.","BOGOTÁ, D.C.","Medio Bajo",20,-1.2406592652597446,25]
[null,null,null,null,null,null,null,null,null,null,null,null,null,null,null,null,null,null,null,null,null,null,null,null,null,null,null,null,null,null,null,null,null,null,null,null,null,null,null,null,null,null,13006,"BOLÍVAR","ACHÍ","BOLÍVARACHÍ","NO PDET",13006,null,null,null,{"$f":"+IF(Calificación!F307=\"\",\"\",VLOOKUP(Calificación!F307,Listas!$AX$3:$AY$19,2,FALSE))","v":""},null,null,"5873Ambiente y Desarrollo Sostenible","Antioquia",5873,"Vigía del Fuerte",null,"Ambiente y Desarrollo Sostenible",8,null,null,null,null,null,null,null,null,null,null,null,null,null,null,null,null,null,null,null,null,null,null,null,null,null,null,null,null,null,null,null,null,"NO PDET",13006,"ACHÍ","BOLÍVAR","Medio Bajo",20,-1.2406592652597446,25]
[null,null,null,null,null,null,null,null,null,null,null,null,null,null,null,null,null,null,null,null,null,null,null,null,null,null,null,null,null,null,null,null,null,null,null,null,null,null,null,null,null,null,13030,"BOLÍVAR","ALTOS DEL ROSARIO","BOLÍVARALTOS DEL ROSARIO","NO PDET",13030,null,null,null,{"$f":"+IF(Calificación!F308=\"\",\"\",VLOOKUP(Calificación!F308,Listas!$AX$3:$AY$19,2,FALSE))","v":""},null,null,"5873Justicia y del Derecho","Antioquia",5873,"Vigía del Fuerte",null,"Justicia y del Derecho",9,null,null,null,null,null,null,null,null,null,null,null,null,null,null,null,null,null,null,null,null,null,null,null,null,null,null,null,null,null,null,null,null,"NO PDET",13030,"ALTOS DEL ROSARIO","BOLÍVAR","Medio Bajo",20,-1.2406592652597446,25]
[null,null,null,null,null,null,null,null,null,null,null,null,null,null,null,null,null,null,null,null,null,null,null,null,null,null,null,null,null,null,null,null,null,null,null,null,null,null,null,null,null,null,13052,"BOLÍVAR","ARJONA","BOLÍVARARJONA","NO PDET",13052,null,null,null,{"$f":"+IF(Calificación!F309=\"\",\"\",VLOOKUP(Calificación!F309,Listas!$AX$3:$AY$19,2,FALSE))","v":""},null,null,"5873Salud y Protección social","Antioquia",5873,"Vigía del Fuerte",null,"Salud y Protección social",10,null,null,null,null,null,null,null,null,null,null,null,null,null,null,null,null,null,null,null,null,null,null,null,null,null,null,null,null,null,null,null,null,"NO PDET",13052,"ARJONA","BOLÍVAR","Medio Bajo",20,-1.2406592652597446,25]
[null,null,null,null,null,null,null,null,null,null,null,null,null,null,null,null,null,null,null,null,null,null,null,null,null,null,null,null,null,null,null,null,null,null,null,null,null,null,null,null,null,null,13062,"BOLÍVAR","ARROYOHONDO","BOLÍVARARROYOHONDO","NO PDET",13062,null,null,null,{"$f":"+IF(Calificación!F310=\"\",\"\",VLOOKUP(Calificación!F310,Listas!$AX$3:$AY$19,2,FALSE))","v":""},null,null,"5873Deporte Y Recreación","Antioquia",5873,"Vigía del Fuerte",null,"Deporte Y Recreación",11,null,null,null,null,null,null,null,null,null,null,null,null,null,null,null,null,null,null,null,null,null,null,null,null,null,null,null,null,null,null,null,null,"NO PDET",13062,"ARROYOHONDO","BOLÍVAR","Medio Bajo",20,-1.2406592652597446,25]
[null,null,null,null,null,null,null,null,null,null,null,null,null,null,null,null,null,null,null,null,null,null,null,null,null,null,null,null,null,null,null,null,null,null,null,null,null,null,null,null,null,null,13074,"BOLÍVAR","BARRANCO DE LOBA","BOLÍVARBARRANCO DE LOBA","NO PDET",13074,null,null,null,{"$f":"+IF(Calificación!F311=\"\",\"\",VLOOKUP(Calificación!F311,Listas!$AX$3:$AY$19,2,FALSE))","v":""},null,null,"5873Cultura","Antioquia",5873,"Vigía del Fuerte",null,"Cultura",12,null,null,null,null,null,null,null,null,null,null,null,null,null,null,null,null,null,null,null,null,null,null,null,null,null,null,null,null,null,null,null,null,"NO PDET",13074,"BARRANCO DE LOBA","BOLÍVAR","Medio Bajo",20,-1.2406592652597446,25]
[null,null,null,null,null,null,null,null,null,null,null,null,null,null,null,null,null,null,null,null,null,null,null,null,null,null,null,null,null,null,null,null,null,null,null,null,null,null,null,null,null,null,13140,"BOLÍVAR","CALAMAR","BOLÍVARCALAMAR","NO PDET",13140,null,null,null,{"$f":"+IF(Calificación!F312=\"\",\"\",VLOOKUP(Calificación!F312,Listas!$AX$3:$AY$19,2,FALSE))","v":""},null,null,"5873Transporte","Antioquia",5873,"Vigía del Fuerte",null,"Transporte",13,null,null,null,null,null,null,null,null,null,null,null,null,null,null,null,null,null,null,null,null,null,null,null,null,null,null,null,null,null,null,null,null,"NO PDET",13140,"CALAMAR","BOLÍVAR","Medio Bajo",20,-1.2406592652597446,25]
[null,null,null,null,null,null,null,null,null,null,null,null,null,null,null,null,null,null,null,null,null,null,null,null,null,null,null,null,null,null,null,null,null,null,null,null,null,null,null,null,null,null,13001,"BOLÍVAR","CARTAGENA DE INDIAS","BOLÍVARCARTAGENA DE INDIAS","NO PDET",13001,null,null,null,{"$f":"+IF(Calificación!F313=\"\",\"\",VLOOKUP(Calificación!F313,Listas!$AX$3:$AY$19,2,FALSE))","v":""},null,null,"5873Minas y Energía","Antioquia",5873,"Vigía del Fuerte",null,"Minas y Energía",14,null,null,null,null,null,null,null,null,null,null,null,null,null,null,null,null,null,null,null,null,null,null,null,null,null,null,null,null,null,null,null,null,"NO PDET",13001,"CARTAGENA DE INDIAS","BOLÍVAR","Medio Bajo",20,-1.2406592652597446,25]
[null,null,null,null,null,null,null,null,null,null,null,null,null,null,null,null,null,null,null,null,null,null,null,null,null,null,null,null,null,null,null,null,null,null,null,null,null,null,null,null,null,null,13188,"BOLÍVAR","CICUCO","BOLÍVARCICUCO","NO PDET",13188,null,null,null,{"$f":"+IF(Calificación!F314=\"\",\"\",VLOOKUP(Calificación!F314,Listas!$AX$3:$AY$19,2,FALSE))","v":""},null,null,"5893Tecnologías de la Información y las Comunicaciones","Antioquia",5893,"Yondó",null,"Tecnologías de la Información y las Comunicaciones",1,null,null,null,null,null,null,null,null,null,null,null,null,null,null,null,null,null,null,null,null,null,null,null,null,null,null,null,null,null,null,null,null,"NO PDET",13188,"CICUCO","BOLÍVAR","Medio Bajo",20,-1.2406592652597446,25]
[null,null,null,null,null,null,null,null,null,null,null,null,null,null,null,null,null,null,null,null,null,null,null,null,null,null,null,null,null,null,null,null,null,null,null,null,null,null,null,null,null,null,13222,"BOLÍVAR","CLEMENCIA","BOLÍVARCLEMENCIA","NO PDET",13222,null,null,null,{"$f":"+IF(Calificación!F315=\"\",\"\",VLOOKUP(Calificación!F315,Listas!$AX$3:$AY$19,2,FALSE))","v":""},null,null,"5893Desarrollo Económico","Antioquia",5893,"Yondó",null,"Desarrollo Económico",2,null,null,null,null,null,null,null,null,null,null,null,null,null,null,null,null,null,null,null,null,null,null,null,null,null,null,null,null,null,null,null,null,"NO PDET",13222,"CLEMENCIA","BOLÍVAR","Medio Bajo",20,-1.2406592652597446,25]
[null,null,null,null,null,null,null,null,null,null,null,null,null,null,null,null,null,null,null,null,null,null,null,null,null,null,null,null,null,null,null,null,null,null,null,null,null,null,null,null,null,null,13268,"BOLÍVAR","EL PEÑÓN","BOLÍVAREL PEÑÓN","NO PDET",13268,null,null,null,{"$f":"+IF(Calificación!F316=\"\",\"\",VLOOKUP(Calificación!F316,Listas!$AX$3:$AY$19,2,FALSE))","v":""},null,null,"5893Educación","Antioquia",5893,"Yondó",null,"Educación",3,null,null,null,null,null,null,null,null,null,null,null,null,null,null,null,null,null,null,null,null,null,null,null,null,null,null,null,null,null,null,null,null,"NO PDET",13268,"EL PEÑÓN","BOLÍVAR","Bajo",0,-2.0677654420995744,0]
[null,null,null,null,null,null,null,null,null,null,null,null,null,null,null,null,null,null,null,null,null,null,null,null,null,null,null,null,null,null,null,null,null,null,null,null,null,null,null,null,null,null,13300,"BOLÍVAR","HATILLO DE LOBA","BOLÍVARHATILLO DE LOBA","NO PDET",13300,null,null,null,{"$f":"+IF(Calificación!F317=\"\",\"\",VLOOKUP(Calificación!F317,Listas!$AX$3:$AY$19,2,FALSE))","v":""},null,null,"5893Inclusión Social Y Reconciliación","Antioquia",5893,"Yondó",null,"Inclusión Social Y Reconciliación",4,null,null,null,null,null,null,null,null,null,null,null,null,null,null,null,null,null,null,null,null,null,null,null,null,null,null,null,null,null,null,null,null,"NO PDET",13300,"HATILLO DE LOBA","BOLÍVAR","Medio Bajo",20,-1.2406592652597446,25]
[null,null,null,null,null,null,null,null,null,null,null,null,null,null,null,null,null,null,null,null,null,null,null,null,null,null,null,null,null,null,null,null,null,null,null,null,null,null,null,null,null,null,13430,"BOLÍVAR","MAGANGUÉ","BOLÍVARMAGANGUÉ","NO PDET",13430,null,null,null,{"$f":"+IF(Calificación!F318=\"\",\"\",VLOOKUP(Calificación!F318,Listas!$AX$3:$AY$19,2,FALSE))","v":""},null,null,"5893Vivienda, Ciudad Y Territorio","Antioquia",5893,"Yondó",null,"Vivienda, Ciudad Y Territorio",5,null,null,null,null,null,null,null,null,null,null,null,null,null,null,null,null,null,null,null,null,null,null,null,null,null,null,null,null,null,null,null,null,"NO PDET",13430,"MAGANGUÉ","BOLÍVAR","Medio Bajo",20,-1.2406592652597446,25]
[null,null,null,null,null,null,null,null,null,null,null,null,null,null,null,null,null,null,null,null,null,null,null,null,null,null,null,null,null,null,null,null,null,null,null,null,null,null,null,null,null,null,13433,"BOLÍVAR","MAHATES","BOLÍVARMAHATES","NO PDET",13433,null,null,null,{"$f":"+IF(Calificación!F319=\"\",\"\",VLOOKUP(Calificación!F319,Listas!$AX$3:$AY$19,2,FALSE))","v":""},null,null,"5893Agricultura y desarrollo rural","Antioquia",5893,"Yondó",null,"Agricultura y desarrollo rural",6,null,null,null,null,null,null,null,null,null,null,null,null,null,null,null,null,null,null,null,null,null,null,null,null,null,null,null,null,null,null,null,null,"NO PDET",13433,"MAHATES","BOLÍVAR","Medio Bajo",20,-1.2406592652597446,25]
[null,null,null,null,null,null,null,null,null,null,null,null,null,null,null,null,null,null,null,null,null,null,null,null,null,null,null,null,null,null,null,null,null,null,null,null,null,null,null,null,null,null,13440,"BOLÍVAR","MARGARITA","BOLÍVARMARGARITA","NO PDET",13440,null,null,null,{"$f":"+IF(Calificación!F320=\"\",\"\",VLOOKUP(Calificación!F320,Listas!$AX$3:$AY$19,2,FALSE))","v":""},null,null,"5893Gobierno territorial","Antioquia",5893,"Yondó",null,"Gobierno territorial",7,null,null,null,null,null,null,null,null,null,null,null,null,null,null,null,null,null,null,null,null,null,null,null,null,null,null,null,null,null,null,null,null,"NO PDET",13440,"MARGARITA","BOLÍVAR","Medio Bajo",20,-1.2406592652597446,25]
[null,null,null,null,null,null,null,null,null,null,null,null,null,null,null,null,null,null,null,null,null,null,null,null,null,null,null,null,null,null,null,null,null,null,null,null,null,null,null,null,null,null,13468,"BOLÍVAR","MOMPÓS","BOLÍVARMOMPÓS","NO PDET",13468,null,null,null,{"$f":"+IF(Calificación!F321=\"\",\"\",VLOOKUP(Calificación!F321,Listas!$AX$3:$AY$19,2,FALSE))","v":""},null,null,"5893Justicia y del Derecho","Antioquia",5893,"Yondó",null,"Justicia y del Derecho",8,null,null,null,null,null,null,null,null,null,null,null,null,null,null,null,null,null,null,null,null,null,null,null,null,null,null,null,null,null,null,null,null,"NO PDET",13468,"MOMPÓS","BOLÍVAR","Medio Bajo",20,-1.2406592652597446,25]
[null,null,null,null,null,null,null,null,null,null,null,null,null,null,null,null,null,null,null,null,null,null,null,null,null,null,null,null,null,null,null,null,null,null,null,null,null,null,null,null,null,null,13458,"BOLÍVAR","MONTECRISTO","BOLÍVARMONTECRISTO","NO PDET",13458,null,null,null,{"$f":"+IF(Calificación!F322=\"\",\"\",VLOOKUP(Calificación!F322,Listas!$AX$3:$AY$19,2,FALSE))","v":""},null,null,"5893Ambiente y Desarrollo Sostenible","Antioquia",5893,"Yondó",null,"Ambiente y Desarrollo Sostenible",9,null,null,null,null,null,null,null,null,null,null,null,null,null,null,null,null,null,null,null,null,null,null,null,null,null,null,null,null,null,null,null,null,"NO PDET",13458,"MONTECRISTO","BOLÍVAR","Muy Alto",80,1.2406592652597446,100]
[null,null,null,null,null,null,null,null,null,null,null,null,null,null,null,null,null,null,null,null,null,null,null,null,null,null,null,null,null,null,null,null,null,null,null,null,null,null,null,null,null,null,13490,"BOLÍVAR","NOROSÍ","BOLÍVARNOROSÍ","NO PDET",13490,null,null,null,{"$f":"+IF(Calificación!F323=\"\",\"\",VLOOKUP(Calificación!F323,Listas!$AX$3:$AY$19,2,FALSE))","v":""},null,null,"5893Salud y Protección social","Antioquia",5893,"Yondó",null,"Salud y Protección social",10,null,null,null,null,null,null,null,null,null,null,null,null,null,null,null,null,null,null,null,null,null,null,null,null,null,null,null,null,null,null,null,null,"NO PDET",13490,"NOROSÍ","BOLÍVAR","Alto",60,0.41355308841991484,74.999999999999986]
[null,null,null,null,null,null,null,null,null,null,null,null,null,null,null,null,null,null,null,null,null,null,null,null,null,null,null,null,null,null,null,null,null,null,null,null,null,null,null,null,null,null,13549,"BOLÍVAR","PINILLOS","BOLÍVARPINILLOS","NO PDET",13549,null,null,null,{"$f":"+IF(Calificación!F324=\"\",\"\",VLOOKUP(Calificación!F324,Listas!$AX$3:$AY$19,2,FALSE))","v":""},null,null,"5893Deporte Y Recreación","Antioquia",5893,"Yondó",null,"Deporte Y Recreación",11,null,null,null,null,null,null,null,null,null,null,null,null,null,null,null,null,null,null,null,null,null,null,null,null,null,null,null,null,null,null,null,null,"NO PDET",13549,"PINILLOS","BOLÍVAR","Medio Bajo",20,-1.2406592652597446,25]
[null,null,null,null,null,null,null,null,null,null,null,null,null,null,null,null,null,null,null,null,null,null,null,null,null,null,null,null,null,null,null,null,null,null,null,null,null,null,null,null,null,null,13580,"BOLÍVAR","REGIDOR","BOLÍVARREGIDOR","NO PDET",13580,null,null,null,{"$f":"+IF(Calificación!F325=\"\",\"\",VLOOKUP(Calificación!F325,Listas!$AX$3:$AY$19,2,FALSE))","v":""},null,null,"5893Cultura","Antioquia",5893,"Yondó",null,"Cultura",12,null,null,null,null,null,null,null,null,null,null,null,null,null,null,null,null,null,null,null,null,null,null,null,null,null,null,null,null,null,null,null,null,"NO PDET",13580,"REGIDOR","BOLÍVAR","Medio Bajo",20,-1.2406592652597446,25]
[null,null,null,null,null,null,null,null,null,null,null,null,null,null,null,null,null,null,null,null,null,null,null,null,null,null,null,null,null,null,null,null,null,null,null,null,null,null,null,null,null,null,13600,"BOLÍVAR","RÍO VIEJO","BOLÍVARRÍO VIEJO","NO PDET",13600,null,null,null,{"$f":"+IF(Calificación!F326=\"\",\"\",VLOOKUP(Calificación!F326,Listas!$AX$3:$AY$19,2,FALSE))","v":""},null,null,"5893Transporte","Antioquia",5893,"Yondó",null,"Transporte",13,null,null,null,null,null,null,null,null,null,null,null,null,null,null,null,null,null,null,null,null,null,null,null,null,null,null,null,null,null,null,null,null,"NO PDET",13600,"RÍO VIEJO","BOLÍVAR","Medio",40,-0.41355308841991484,50]
[null,null,null,null,null,null,null,null,null,null,null,null,null,null,null,null,null,null,null,null,null,null,null,null,null,null,null,null,null,null,null,null,null,null,null,null,null,null,null,null,null,null,13620,"BOLÍVAR","SAN CRISTÓBAL",{"$f":"+AR324&AS324","v":"BOLÍVARSAN CRISTÓBAL"},"NO PDET",13620,null,null,null,{"$f":"+IF(Calificación!F327=\"\",\"\",VLOOKUP(Calificación!F327,Listas!$AX$3:$AY$19,2,FALSE))","v":""},null,null,{"$f":"+BE324&BH324","v":"5893Minas y Energía"},"Antioquia",5893,"Yondó",null,"Minas y Energía",14,null,null,null,null,null,null,null,null,null,null,null,null,null,null,null,null,null,null,null,null,null,null,null,null,null,null,null,null,null,null,null,null,"NO PDET",13620,"SAN CRISTÓBAL","BOLÍVAR","Medio Bajo",{"$f":"+VLOOKUP(CT324,$CY$3:$CZ$7,2,FALSE)","v":20},{"$f":"+(CU324-AVERAGE(CU$3:CU$172))/STDEVP(CU$3:CU$172)","v":-1.2406592652597446},{"$f":"(+(CV324-MIN(CV$3:CV$172))/(MAX(CV$3:CV$172)-MIN(CV$3:CV$172)))*100","v":25}]
[null,null,null,null,null,null,null,null,null,null,null,null,null,null,null,null,null,null,null,null,null,null,null,null,null,null,null,null,null,null,null,null,null,null,null,null,null,null,null,null,null,null,13647,"BOLÍVAR","SAN ESTANISLAO","BOLÍVARSAN ESTANISLAO","NO PDET",13647,null,null,null,{"$f":"+IF(Calificación!F328=\"\",\"\",VLOOKUP(Calificación!F328,Listas!$AX$3:$AY$19,2,FALSE))","v":""},null,null,"5895Desarrollo Económico","Antioquia",5895,"Zaragoza",null,"Desarrollo Económico",1,null,null,null,null,null,null,null,null,null,null,null,null,null,null,null,null,null,null,null,null,null,null,null,null,null,null,null,null,null,null,null,null,"NO PDET",13647,"SAN ESTANISLAO","BOLÍVAR","Medio Bajo",20,-1.2406592652597446,25]
[null,null,null,null,null,null,null,null,null,null,null,null,null,null,null,null,null,null,null,null,null,null,null,null,null,null,null,null,null,null,null,null,null,null,null,null,null,null,null,null,null,null,13650,"BOLÍVAR","SAN FERNANDO","BOLÍVARSAN FERNANDO","NO PDET",13650,null,null,null,{"$f":"+IF(Calificación!F329=\"\",\"\",VLOOKUP(Calificación!F329,Listas!$AX$3:$AY$19,2,FALSE))","v":""},null,null,"5895Tecnologías de la Información y las Comunicaciones","Antioquia",5895,"Zaragoza",null,"Tecnologías de la Información y las Comunicaciones",2,null,null,null,null,null,null,null,null,null,null,null,null,null,null,null,null,null,null,null,null,null,null,null,null,null,null,null,null,null,null,null,null,"NO PDET",13650,"SAN FERNANDO","BOLÍVAR","Medio Bajo",20,-1.2406592652597446,25]
[null,null,null,null,null,null,null,null,null,null,null,null,null,null,null,null,null,null,null,null,null,null,null,null,null,null,null,null,null,null,null,null,null,null,null,null,null,null,null,null,null,null,13655,"BOLÍVAR","SAN JACINTO DEL CAUCA","BOLÍVARSAN JACINTO DEL CAUCA","NO PDET",13655,null,null,null,{"$f":"+IF(Calificación!F330=\"\",\"\",VLOOKUP(Calificación!F330,Listas!$AX$3:$AY$19,2,FALSE))","v":""},null,null,"5895Vivienda, Ciudad Y Territorio","Antioquia",5895,"Zaragoza",null,"Vivienda, Ciudad Y Territorio",3,null,null,null,null,null,null,null,null,null,null,null,null,null,null,null,null,null,null,null,null,null,null,null,null,null,null,null,null,null,null,null,null,"NO PDET",13655,"SAN JACINTO DEL CAUCA","BOLÍVAR","Medio Bajo",20,-1.2406592652597446,25]
[null,null,null,null,null,null,null,null,null,null,null,null,null,null,null,null,null,null,null,null,null,null,null,null,null,null,null,null,null,null,null,null,null,null,null,null,null,null,null,null,null,null,13667,"BOLÍVAR","SAN MARTÍN DE LOBA","BOLÍVARSAN MARTÍN DE LOBA","NO PDET",13667,null,null,null,{"$f":"+IF(Calificación!F331=\"\",\"\",VLOOKUP(Calificación!F331,Listas!$AX$3:$AY$19,2,FALSE))","v":""},null,null,"5895Agricultura y desarrollo rural","Antioquia",5895,"Zaragoza",null,"Agricultura y desarrollo rural",4,null,null,null,null,null,null,null,null,null,null,null,null,null,null,null,null,null,null,null,null,null,null,null,null,null,null,null,null,null,null,null,null,"NO PDET",13667,"SAN MARTÍN DE LOBA","BOLÍVAR","Medio Bajo",20,-1.2406592652597446,25]
[null,null,null,null,null,null,null,null,null,null,null,null,null,null,null,null,null,null,null,null,null,null,null,null,null,null,null,null,null,null,null,null,null,null,null,null,null,null,null,null,null,null,13673,"BOLÍVAR","SANTA CATALINA","BOLÍVARSANTA CATALINA","NO PDET",13673,null,null,null,{"$f":"+IF(Calificación!F332=\"\",\"\",VLOOKUP(Calificación!F332,Listas!$AX$3:$AY$19,2,FALSE))","v":""},null,null,"5895Inclusión Social Y Reconciliación","Antioquia",5895,"Zaragoza",null,"Inclusión Social Y Reconciliación",5,null,null,null,null,null,null,null,null,null,null,null,null,null,null,null,null,null,null,null,null,null,null,null,null,null,null,null,null,null,null,null,null,"NO PDET",13673,"SANTA CATALINA","BOLÍVAR","Medio Bajo",20,-1.2406592652597446,25]
[null,null,null,null,null,null,null,null,null,null,null,null,null,null,null,null,null,null,null,null,null,null,null,null,null,null,null,null,null,null,null,null,null,null,null,null,null,null,null,null,null,null,13683,"BOLÍVAR","SANTA ROSA","BOLÍVARSANTA ROSA","NO PDET",13683,null,null,null,{"$f":"+IF(Calificación!F333=\"\",\"\",VLOOKUP(Calificación!F333,Listas!$AX$3:$AY$19,2,FALSE))","v":""},null,null,"5895Educación","Antioquia",5895,"Zaragoza",null,"Educación",6,null,null,null,null,null,null,null,null,null,null,null,null,null,null,null,null,null,null,null,null,null,null,null,null,null,null,null,null,null,null,null,null,"NO PDET",13683,"SANTA ROSA","BOLÍVAR","Medio Bajo",20,-1.2406592652597446,25]
[null,null,null,null,null,null,null,null,null,null,null,null,null,null,null,null,null,null,null,null,null,null,null,null,null,null,null,null,null,null,null,null,null,null,null,null,null,null,null,null,null,null,13760,"BOLÍVAR","SOPLAVIENTO","BOLÍVARSOPLAVIENTO","NO PDET",13760,null,null,null,{"$f":"+IF(Calificación!F334=\"\",\"\",VLOOKUP(Calificación!F334,Listas!$AX$3:$AY$19,2,FALSE))","v":""},null,null,"5895Gobierno territorial","Antioquia",5895,"Zaragoza",null,"Gobierno territorial",7,null,null,null,null,null,null,null,null,null,null,null,null,null,null,null,null,null,null,null,null,null,null,null,null,null,null,null,null,null,null,null,null,"NO PDET",13760,"SOPLAVIENTO","BOLÍVAR","Bajo",0,-2.0677654420995744,0]
[null,null,null,null,null,null,null,null,null,null,null,null,null,null,null,null,null,null,null,null,null,null,null,null,null,null,null,null,null,null,null,null,null,null,null,null,null,null,null,null,null,null,13780,"BOLÍVAR","TALAIGUA NUEVO","BOLÍVARTALAIGUA NUEVO","NO PDET",13780,null,null,null,{"$f":"+IF(Calificación!F335=\"\",\"\",VLOOKUP(Calificación!F335,Listas!$AX$3:$AY$19,2,FALSE))","v":""},null,null,"5895Ambiente y Desarrollo Sostenible","Antioquia",5895,"Zaragoza",null,"Ambiente y Desarrollo Sostenible",8,null,null,null,null,null,null,null,null,null,null,null,null,null,null,null,null,null,null,null,null,null,null,null,null,null,null,null,null,null,null,null,null,"NO PDET",13780,"TALAIGUA NUEVO","BOLÍVAR","Medio Bajo",20,-1.2406592652597446,25]
[null,null,null,null,null,null,null,null,null,null,null,null,null,null,null,null,null,null,null,null,null,null,null,null,null,null,null,null,null,null,null,null,null,null,null,null,null,null,null,null,null,null,13810,"BOLÍVAR","TIQUISIO","BOLÍVARTIQUISIO","NO PDET",13810,null,null,null,{"$f":"+IF(Calificación!F336=\"\",\"\",VLOOKUP(Calificación!F336,Listas!$AX$3:$AY$19,2,FALSE))","v":""},null,null,"5895Justicia y del Derecho","Antioquia",5895,"Zaragoza",null,"Justicia y del Derecho",9,null,null,null,null,null,null,null,null,null,null,null,null,null,null,null,null,null,null,null,null,null,null,null,null,null,null,null,null,null,null,null,null,"NO PDET",13810,"TIQUISIO","BOLÍVAR","Medio",40,-0.41355308841991484,50]
[null,null,null,null,null,null,null,null,null,null,null,null,null,null,null,null,null,null,null,null,null,null,null,null,null,null,null,null,null,null,null,null,null,null,null,null,null,null,null,null,null,null,13836,"BOLÍVAR","TURBACO","BOLÍVARTURBACO","NO PDET",13836,null,null,null,{"$f":"+IF(Calificación!F337=\"\",\"\",VLOOKUP(Calificación!F337,Listas!$AX$3:$AY$19,2,FALSE))","v":""},null,null,"5895Deporte Y Recreación","Antioquia",5895,"Zaragoza",null,"Deporte Y Recreación",10,null,null,null,null,null,null,null,null,null,null,null,null,null,null,null,null,null,null,null,null,null,null,null,null,null,null,null,null,null,null,null,null,"NO PDET",13836,"TURBACO","BOLÍVAR","Medio Bajo",20,-1.2406592652597446,25]
[null,null,null,null,null,null,null,null,null,null,null,null,null,null,null,null,null,null,null,null,null,null,null,null,null,null,null,null,null,null,null,null,null,null,null,null,null,null,null,null,null,null,13838,"BOLÍVAR","TURBANÁ","BOLÍVARTURBANÁ","NO PDET",13838,null,null,null,{"$f":"+IF(Calificación!F338=\"\",\"\",VLOOKUP(Calificación!F338,Listas!$AX$3:$AY$19,2,FALSE))","v":""},null,null,"5895Cultura","Antioquia",5895,"Zaragoza",null,"Cultura",11,null,null,null,null,null,null,null,null,null,null,null,null,null,null,null,null,null,null,null,null,null,null,null,null,null,null,null,null,null,null,null,null,"NO PDET",13838,"TURBANÁ","BOLÍVAR","Medio Bajo",20,-1.2406592652597446,25]
[null,null,null,null,null,null,null,null,null,null,null,null,null,null,null,null,null,null,null,null,null,null,null,null,null,null,null,null,null,null,null,null,null,null,null,null,null,null,null,null,null,null,13873,"BOLÍVAR","VILLANUEVA","BOLÍVARVILLANUEVA","NO PDET",13873,null,null,null,{"$f":"+IF(Calificación!F339=\"\",\"\",VLOOKUP(Calificación!F339,Listas!$AX$3:$AY$19,2,FALSE))","v":""},null,null,"5895Transporte","Antioquia",5895,"Zaragoza",null,"Transporte",12,null,null,null,null,null,null,null,null,null,null,null,null,null,null,null,null,null,null,null,null,null,null,null,null,null,null,null,null,null,null,null,null,"NO PDET",13873,"VILLANUEVA","BOLÍVAR","Medio Bajo",20,-1.2406592652597446,25]
[null,null,null,null,null,null,null,null,null,null,null,null,null,null,null,null,null,null,null,null,null,null,null,null,null,null,null,null,null,null,null,null,null,null,null,null,null,null,null,null,null,null,15022,"BOYACÁ","ALMEIDA","BOYACÁALMEIDA","NO PDET",15022,null,null,null,{"$f":"+IF(Calificación!F340=\"\",\"\",VLOOKUP(Calificación!F340,Listas!$AX$3:$AY$19,2,FALSE))","v":""},null,null,"5895Salud y Protección social","Antioquia",5895,"Zaragoza",null,"Salud y Protección social",13,null,null,null,null,null,null,null,null,null,null,null,null,null,null,null,null,null,null,null,null,null,null,null,null,null,null,null,null,null,null,null,null,"NO PDET",15022,"ALMEIDA","BOYACÁ","Bajo",0,-2.0677654420995744,0]
[null,null,null,null,null,null,null,null,null,null,null,null,null,null,null,null,null,null,null,null,null,null,null,null,null,null,null,null,null,null,null,null,null,null,null,null,null,null,null,null,null,null,15047,"BOYACÁ","AQUITANIA","BOYACÁAQUITANIA","NO PDET",15047,null,null,null,{"$f":"+IF(Calificación!F341=\"\",\"\",VLOOKUP(Calificación!F341,Listas!$AX$3:$AY$19,2,FALSE))","v":""},null,null,"5895Minas y Energía","Antioquia",5895,"Zaragoza",null,"Minas y Energía",14,null,null,null,null,null,null,null,null,null,null,null,null,null,null,null,null,null,null,null,null,null,null,null,null,null,null,null,null,null,null,null,null,"NO PDET",15047,"AQUITANIA","BOYACÁ","Medio Bajo",20,-1.2406592652597446,25]
[null,null,null,null,null,null,null,null,null,null,null,null,null,null,null,null,null,null,null,null,null,null,null,null,null,null,null,null,null,null,null,null,null,null,null,null,null,null,null,null,null,null,15051,"BOYACÁ","ARCABUCO","BOYACÁARCABUCO","NO PDET",15051,null,null,null,{"$f":"+IF(Calificación!F342=\"\",\"\",VLOOKUP(Calificación!F342,Listas!$AX$3:$AY$19,2,FALSE))","v":""},null,null,"13042Tecnologías de la Información y las Comunicaciones","Bolívar",13042,"Arenal",null,"Tecnologías de la Información y las Comunicaciones",1,null,null,null,null,null,null,null,null,null,null,null,null,null,null,null,null,null,null,null,null,null,null,null,null,null,null,null,null,null,null,null,null,"NO PDET",15051,"ARCABUCO","BOYACÁ","Medio Bajo",20,-1.2406592652597446,25]
[null,null,null,null,null,null,null,null,null,null,null,null,null,null,null,null,null,null,null,null,null,null,null,null,null,null,null,null,null,null,null,null,null,null,null,null,null,null,null,null,null,null,15087,"BOYACÁ","BELÉN","BOYACÁBELÉN","NO PDET",15087,null,null,null,{"$f":"+IF(Calificación!F343=\"\",\"\",VLOOKUP(Calificación!F343,Listas!$AX$3:$AY$19,2,FALSE))","v":""},null,null,"13042Minas y Energía","Bolívar",13042,"Arenal",null,"Minas y Energía",2,null,null,null,null,null,null,null,null,null,null,null,null,null,null,null,null,null,null,null,null,null,null,null,null,null,null,null,null,null,null,null,null,"NO PDET",15087,"BELÉN","BOYACÁ","Bajo",0,-2.0677654420995744,0]
[null,null,null,null,null,null,null,null,null,null,null,null,null,null,null,null,null,null,null,null,null,null,null,null,null,null,null,null,null,null,null,null,null,null,null,null,null,null,null,null,null,null,15090,"BOYACÁ","BERBEO","BOYACÁBERBEO","NO PDET",15090,null,null,null,{"$f":"+IF(Calificación!F344=\"\",\"\",VLOOKUP(Calificación!F344,Listas!$AX$3:$AY$19,2,FALSE))","v":""},null,null,"13042Desarrollo Económico","Bolívar",13042,"Arenal",null,"Desarrollo Económico",3,null,null,null,null,null,null,null,null,null,null,null,null,null,null,null,null,null,null,null,null,null,null,null,null,null,null,null,null,null,null,null,null,"NO PDET",15090,"BERBEO","BOYACÁ","Bajo",0,-2.0677654420995744,0]
[null,null,null,null,null,null,null,null,null,null,null,null,null,null,null,null,null,null,null,null,null,null,null,null,null,null,null,null,null,null,null,null,null,null,null,null,null,null,null,null,null,null,15092,"BOYACÁ","BETÉITIVA","BOYACÁBETÉITIVA","NO PDET",15092,null,null,null,{"$f":"+IF(Calificación!F345=\"\",\"\",VLOOKUP(Calificación!F345,Listas!$AX$3:$AY$19,2,FALSE))","v":""},null,null,"13042Vivienda, Ciudad Y Territorio","Bolívar",13042,"Arenal",null,"Vivienda, Ciudad Y Territorio",4,null,null,null,null,null,null,null,null,null,null,null,null,null,null,null,null,null,null,null,null,null,null,null,null,null,null,null,null,null,null,null,null,"NO PDET",15092,"BETÉITIVA","BOYACÁ","Bajo",0,-2.0677654420995744,0]
[null,null,null,null,null,null,null,null,null,null,null,null,null,null,null,null,null,null,null,null,null,null,null,null,null,null,null,null,null,null,null,null,null,null,null,null,null,null,null,null,null,null,15097,"BOYACÁ","BOAVITA","BOYACÁBOAVITA","NO PDET",15097,null,null,null,{"$f":"+IF(Calificación!F346=\"\",\"\",VLOOKUP(Calificación!F346,Listas!$AX$3:$AY$19,2,FALSE))","v":""},null,null,"13042Agricultura y desarrollo rural","Bolívar",13042,"Arenal",null,"Agricultura y desarrollo rural",5,null,null,null,null,null,null,null,null,null,null,null,null,null,null,null,null,null,null,null,null,null,null,null,null,null,null,null,null,null,null,null,null,"NO PDET",15097,"BOAVITA","BOYACÁ","Bajo",0,-2.0677654420995744,0]
[null,null,null,null,null,null,null,null,null,null,null,null,null,null,null,null,null,null,null,null,null,null,null,null,null,null,null,null,null,null,null,null,null,null,null,null,null,null,null,null,null,null,15104,"BOYACÁ","BOYACÁ","BOYACÁBOYACÁ","NO PDET",15104,null,null,null,{"$f":"+IF(Calificación!F347=\"\",\"\",VLOOKUP(Calificación!F347,Listas!$AX$3:$AY$19,2,FALSE))","v":""},null,null,"13042Educación","Bolívar",13042,"Arenal",null,"Educación",6,null,null,null,null,null,null,null,null,null,null,null,null,null,null,null,null,null,null,null,null,null,null,null,null,null,null,null,null,null,null,null,null,"NO PDET",15104,"BOYACÁ","BOYACÁ","Bajo",0,-2.0677654420995744,0]
[null,null,null,null,null,null,null,null,null,null,null,null,null,null,null,null,null,null,null,null,null,null,null,null,null,null,null,null,null,null,null,null,null,null,null,null,null,null,null,null,null,null,15106,"BOYACÁ","BRICEÑO","BOYACÁBRICEÑO","NO PDET",15106,null,null,null,{"$f":"+IF(Calificación!F348=\"\",\"\",VLOOKUP(Calificación!F348,Listas!$AX$3:$AY$19,2,FALSE))","v":""},null,null,"13042Gobierno territorial","Bolívar",13042,"Arenal",null,"Gobierno territorial",7,null,null,null,null,null,null,null,null,null,null,null,null,null,null,null,null,null,null,null,null,null,null,null,null,null,null,null,null,null,null,null,null,"NO PDET",15106,"BRICEÑO","BOYACÁ","Bajo",0,-2.0677654420995744,0]
[null,null,null,null,null,null,null,null,null,null,null,null,null,null,null,null,null,null,null,null,null,null,null,null,null,null,null,null,null,null,null,null,null,null,null,null,null,null,null,null,null,null,15109,"BOYACÁ","BUENAVISTA","BOYACÁBUENAVISTA","NO PDET",15109,null,null,null,{"$f":"+IF(Calificación!F349=\"\",\"\",VLOOKUP(Calificación!F349,Listas!$AX$3:$AY$19,2,FALSE))","v":""},null,null,"13042Inclusión Social Y Reconciliación","Bolívar",13042,"Arenal",null,"Inclusión Social Y Reconciliación",8,null,null,null,null,null,null,null,null,null,null,null,null,null,null,null,null,null,null,null,null,null,null,null,null,null,null,null,null,null,null,null,null,"NO PDET",15109,"BUENAVISTA","BOYACÁ","Bajo",0,-2.0677654420995744,0]
[null,null,null,null,null,null,null,null,null,null,null,null,null,null,null,null,null,null,null,null,null,null,null,null,null,null,null,null,null,null,null,null,null,null,null,null,null,null,null,null,null,null,15114,"BOYACÁ","BUSBANZÁ","BOYACÁBUSBANZÁ","NO PDET",15114,null,null,null,{"$f":"+IF(Calificación!F350=\"\",\"\",VLOOKUP(Calificación!F350,Listas!$AX$3:$AY$19,2,FALSE))","v":""},null,null,"13042Transporte","Bolívar",13042,"Arenal",null,"Transporte",9,null,null,null,null,null,null,null,null,null,null,null,null,null,null,null,null,null,null,null,null,null,null,null,null,null,null,null,null,null,null,null,null,"NO PDET",15114,"BUSBANZÁ","BOYACÁ","Bajo",0,-2.0677654420995744,0]
[null,null,null,null,null,null,null,null,null,null,null,null,null,null,null,null,null,null,null,null,null,null,null,null,null,null,null,null,null,null,null,null,null,null,null,null,null,null,null,null,null,null,15131,"BOYACÁ","CALDAS","BOYACÁCALDAS","NO PDET",15131,null,null,null,{"$f":"+IF(Calificación!F351=\"\",\"\",VLOOKUP(Calificación!F351,Listas!$AX$3:$AY$19,2,FALSE))","v":""},null,null,"13042Justicia y del Derecho","Bolívar",13042,"Arenal",null,"Justicia y del Derecho",10,null,null,null,null,null,null,null,null,null,null,null,null,null,null,null,null,null,null,null,null,null,null,null,null,null,null,null,null,null,null,null,null,"NO PDET",15131,"CALDAS","BOYACÁ","Medio Bajo",20,-1.2406592652597446,25]
[null,null,null,null,null,null,null,null,null,null,null,null,null,null,null,null,null,null,null,null,null,null,null,null,null,null,null,null,null,null,null,null,null,null,null,null,null,null,null,null,null,null,15135,"BOYACÁ","CAMPOHERMOSO","BOYACÁCAMPOHERMOSO","NO PDET",15135,null,null,null,{"$f":"+IF(Calificación!F352=\"\",\"\",VLOOKUP(Calificación!F352,Listas!$AX$3:$AY$19,2,FALSE))","v":""},null,null,"13042Ambiente y Desarrollo Sostenible","Bolívar",13042,"Arenal",null,"Ambiente y Desarrollo Sostenible",11,null,null,null,null,null,null,null,null,null,null,null,null,null,null,null,null,null,null,null,null,null,null,null,null,null,null,null,null,null,null,null,null,"NO PDET",15135,"CAMPOHERMOSO","BOYACÁ","Bajo",0,-2.0677654420995744,0]
[null,null,null,null,null,null,null,null,null,null,null,null,null,null,null,null,null,null,null,null,null,null,null,null,null,null,null,null,null,null,null,null,null,null,null,null,null,null,null,null,null,null,15162,"BOYACÁ","CERINZA","BOYACÁCERINZA","NO PDET",15162,null,null,null,{"$f":"+IF(Calificación!F353=\"\",\"\",VLOOKUP(Calificación!F353,Listas!$AX$3:$AY$19,2,FALSE))","v":""},null,null,"13042Deporte Y Recreación","Bolívar",13042,"Arenal",null,"Deporte Y Recreación",12,null,null,null,null,null,null,null,null,null,null,null,null,null,null,null,null,null,null,null,null,null,null,null,null,null,null,null,null,null,null,null,null,"NO PDET",15162,"CERINZA","BOYACÁ","Bajo",0,-2.0677654420995744,0]
[null,null,null,null,null,null,null,null,null,null,null,null,null,null,null,null,null,null,null,null,null,null,null,null,null,null,null,null,null,null,null,null,null,null,null,null,null,null,null,null,null,null,15172,"BOYACÁ","CHINAVITA","BOYACÁCHINAVITA","NO PDET",15172,null,null,null,{"$f":"+IF(Calificación!F354=\"\",\"\",VLOOKUP(Calificación!F354,Listas!$AX$3:$AY$19,2,FALSE))","v":""},null,null,"13042Cultura","Bolívar",13042,"Arenal",null,"Cultura",13,null,null,null,null,null,null,null,null,null,null,null,null,null,null,null,null,null,null,null,null,null,null,null,null,null,null,null,null,null,null,null,null,"NO PDET",15172,"CHINAVITA","BOYACÁ","Bajo",0,-2.0677654420995744,0]
[null,null,null,null,null,null,null,null,null,null,null,null,null,null,null,null,null,null,null,null,null,null,null,null,null,null,null,null,null,null,null,null,null,null,null,null,null,null,null,null,null,null,15176,"BOYACÁ","CHIQUINQUIRÁ","BOYACÁCHIQUINQUIRÁ","NO PDET",15176,null,null,null,{"$f":"+IF(Calificación!F355=\"\",\"\",VLOOKUP(Calificación!F355,Listas!$AX$3:$AY$19,2,FALSE))","v":""},null,null,"13042Salud y Protección social","Bolívar",13042,"Arenal",null,"Salud y Protección social",14,null,null,null,null,null,null,null,null,null,null,null,null,null,null,null,null,null,null,null,null,null,null,null,null,null,null,null,null,null,null,null,null,"NO PDET",15176,"CHIQUINQUIRÁ","BOYACÁ","Medio Bajo",20,-1.2406592652597446,25]
[null,null,null,null,null,null,null,null,null,null,null,null,null,null,null,null,null,null,null,null,null,null,null,null,null,null,null,null,null,null,null,null,null,null,null,null,null,null,null,null,null,null,15232,"BOYACÁ","CHÍQUIZA","BOYACÁCHÍQUIZA","NO PDET",15232,null,null,null,{"$f":"+IF(Calificación!F356=\"\",\"\",VLOOKUP(Calificación!F356,Listas!$AX$3:$AY$19,2,FALSE))","v":""},null,null,"13160Minas y Energía","Bolívar",13160,"Cantagallo",null,"Minas y Energía",1,null,null,null,null,null,null,null,null,null,null,null,null,null,null,null,null,null,null,null,null,null,null,null,null,null,null,null,null,null,null,null,null,"NO PDET",15232,"CHÍQUIZA","BOYACÁ","Bajo",0,-2.0677654420995744,0]
[null,null,null,null,null,null,null,null,null,null,null,null,null,null,null,null,null,null,null,null,null,null,null,null,null,null,null,null,null,null,null,null,null,null,null,null,null,null,null,null,null,null,15180,"BOYACÁ","CHISCAS","BOYACÁCHISCAS","NO PDET",15180,null,null,null,{"$f":"+IF(Calificación!F357=\"\",\"\",VLOOKUP(Calificación!F357,Listas!$AX$3:$AY$19,2,FALSE))","v":""},null,null,"13160Tecnologías de la Información y las Comunicaciones","Bolívar",13160,"Cantagallo",null,"Tecnologías de la Información y las Comunicaciones",2,null,null,null,null,null,null,null,null,null,null,null,null,null,null,null,null,null,null,null,null,null,null,null,null,null,null,null,null,null,null,null,null,"NO PDET",15180,"CHISCAS","BOYACÁ","Medio Bajo",20,-1.2406592652597446,25]
[null,null,null,null,null,null,null,null,null,null,null,null,null,null,null,null,null,null,null,null,null,null,null,null,null,null,null,null,null,null,null,null,null,null,null,null,null,null,null,null,null,null,15183,"BOYACÁ","CHITA","BOYACÁCHITA","NO PDET",15183,null,null,null,{"$f":"+IF(Calificación!F358=\"\",\"\",VLOOKUP(Calificación!F358,Listas!$AX$3:$AY$19,2,FALSE))","v":""},null,null,"13160Vivienda, Ciudad Y Territorio","Bolívar",13160,"Cantagallo",null,"Vivienda, Ciudad Y Territorio",3,null,null,null,null,null,null,null,null,null,null,null,null,null,null,null,null,null,null,null,null,null,null,null,null,null,null,null,null,null,null,null,null,"NO PDET",15183,"CHITA","BOYACÁ","Alto",60,0.41355308841991484,74.999999999999986]
[null,null,null,null,null,null,null,null,null,null,null,null,null,null,null,null,null,null,null,null,null,null,null,null,null,null,null,null,null,null,null,null,null,null,null,null,null,null,null,null,null,null,15185,"BOYACÁ","CHITARAQUE","BOYACÁCHITARAQUE","NO PDET",15185,null,null,null,{"$f":"+IF(Calificación!F359=\"\",\"\",VLOOKUP(Calificación!F359,Listas!$AX$3:$AY$19,2,FALSE))","v":""},null,null,"13160Desarrollo Económico","Bolívar",13160,"Cantagallo",null,"Desarrollo Económico",4,null,null,null,null,null,null,null,null,null,null,null,null,null,null,null,null,null,null,null,null,null,null,null,null,null,null,null,null,null,null,null,null,"NO PDET",15185,"CHITARAQUE","BOYACÁ","Medio Bajo",20,-1.2406592652597446,25]
[null,null,null,null,null,null,null,null,null,null,null,null,null,null,null,null,null,null,null,null,null,null,null,null,null,null,null,null,null,null,null,null,null,null,null,null,null,null,null,null,null,null,15187,"BOYACÁ","CHIVATÁ","BOYACÁCHIVATÁ","NO PDET",15187,null,null,null,{"$f":"+IF(Calificación!F360=\"\",\"\",VLOOKUP(Calificación!F360,Listas!$AX$3:$AY$19,2,FALSE))","v":""},null,null,"13160Educación","Bolívar",13160,"Cantagallo",null,"Educación",5,null,null,null,null,null,null,null,null,null,null,null,null,null,null,null,null,null,null,null,null,null,null,null,null,null,null,null,null,null,null,null,null,"NO PDET",15187,"CHIVATÁ","BOYACÁ","Medio Bajo",20,-1.2406592652597446,25]
[null,null,null,null,null,null,null,null,null,null,null,null,null,null,null,null,null,null,null,null,null,null,null,null,null,null,null,null,null,null,null,null,null,null,null,null,null,null,null,null,null,null,15236,"BOYACÁ","CHIVOR","BOYACÁCHIVOR","NO PDET",15236,null,null,null,{"$f":"+IF(Calificación!F361=\"\",\"\",VLOOKUP(Calificación!F361,Listas!$AX$3:$AY$19,2,FALSE))","v":""},null,null,"13160Inclusión Social Y Reconciliación","Bolívar",13160,"Cantagallo",null,"Inclusión Social Y Reconciliación",6,null,null,null,null,null,null,null,null,null,null,null,null,null,null,null,null,null,null,null,null,null,null,null,null,null,null,null,null,null,null,null,null,"NO PDET",15236,"CHIVOR","BOYACÁ","Bajo",0,-2.0677654420995744,0]
[null,null,null,null,null,null,null,null,null,null,null,null,null,null,null,null,null,null,null,null,null,null,null,null,null,null,null,null,null,null,null,null,null,null,null,null,null,null,null,null,null,null,15189,"BOYACÁ","CIÉNEGA","BOYACÁCIÉNEGA","NO PDET",15189,null,null,null,{"$f":"+IF(Calificación!F362=\"\",\"\",VLOOKUP(Calificación!F362,Listas!$AX$3:$AY$19,2,FALSE))","v":""},null,null,"13160Agricultura y desarrollo rural","Bolívar",13160,"Cantagallo",null,"Agricultura y desarrollo rural",7,null,null,null,null,null,null,null,null,null,null,null,null,null,null,null,null,null,null,null,null,null,null,null,null,null,null,null,null,null,null,null,null,"NO PDET",15189,"CIÉNEGA","BOYACÁ","Bajo",0,-2.0677654420995744,0]
[null,null,null,null,null,null,null,null,null,null,null,null,null,null,null,null,null,null,null,null,null,null,null,null,null,null,null,null,null,null,null,null,null,null,null,null,null,null,null,null,null,null,15204,"BOYACÁ","CÓMBITA","BOYACÁCÓMBITA","NO PDET",15204,null,null,null,{"$f":"+IF(Calificación!F363=\"\",\"\",VLOOKUP(Calificación!F363,Listas!$AX$3:$AY$19,2,FALSE))","v":""},null,null,"13160Gobierno territorial","Bolívar",13160,"Cantagallo",null,"Gobierno territorial",8,null,null,null,null,null,null,null,null,null,null,null,null,null,null,null,null,null,null,null,null,null,null,null,null,null,null,null,null,null,null,null,null,"NO PDET",15204,"CÓMBITA","BOYACÁ","Medio Bajo",20,-1.2406592652597446,25]
[null,null,null,null,null,null,null,null,null,null,null,null,null,null,null,null,null,null,null,null,null,null,null,null,null,null,null,null,null,null,null,null,null,null,null,null,null,null,null,null,null,null,15212,"BOYACÁ","COPER","BOYACÁCOPER","NO PDET",15212,null,null,null,{"$f":"+IF(Calificación!F364=\"\",\"\",VLOOKUP(Calificación!F364,Listas!$AX$3:$AY$19,2,FALSE))","v":""},null,null,"13160Transporte","Bolívar",13160,"Cantagallo",null,"Transporte",9,null,null,null,null,null,null,null,null,null,null,null,null,null,null,null,null,null,null,null,null,null,null,null,null,null,null,null,null,null,null,null,null,"NO PDET",15212,"COPER","BOYACÁ","Medio Bajo",20,-1.2406592652597446,25]
[null,null,null,null,null,null,null,null,null,null,null,null,null,null,null,null,null,null,null,null,null,null,null,null,null,null,null,null,null,null,null,null,null,null,null,null,null,null,null,null,null,null,15215,"BOYACÁ","CORRALES","BOYACÁCORRALES","NO PDET",15215,null,null,null,{"$f":"+IF(Calificación!F365=\"\",\"\",VLOOKUP(Calificación!F365,Listas!$AX$3:$AY$19,2,FALSE))","v":""},null,null,"13160Justicia y del Derecho","Bolívar",13160,"Cantagallo",null,"Justicia y del Derecho",10,null,null,null,null,null,null,null,null,null,null,null,null,null,null,null,null,null,null,null,null,null,null,null,null,null,null,null,null,null,null,null,null,"NO PDET",15215,"CORRALES","BOYACÁ","Bajo",0,-2.0677654420995744,0]
[null,null,null,null,null,null,null,null,null,null,null,null,null,null,null,null,null,null,null,null,null,null,null,null,null,null,null,null,null,null,null,null,null,null,null,null,null,null,null,null,null,null,15218,"BOYACÁ","COVARACHÍA","BOYACÁCOVARACHÍA","NO PDET",15218,null,null,null,{"$f":"+IF(Calificación!F366=\"\",\"\",VLOOKUP(Calificación!F366,Listas!$AX$3:$AY$19,2,FALSE))","v":""},null,null,"13160Ambiente y Desarrollo Sostenible","Bolívar",13160,"Cantagallo",null,"Ambiente y Desarrollo Sostenible",11,null,null,null,null,null,null,null,null,null,null,null,null,null,null,null,null,null,null,null,null,null,null,null,null,null,null,null,null,null,null,null,null,"NO PDET",15218,"COVARACHÍA","BOYACÁ","Bajo",0,-2.0677654420995744,0]
[null,null,null,null,null,null,null,null,null,null,null,null,null,null,null,null,null,null,null,null,null,null,null,null,null,null,null,null,null,null,null,null,null,null,null,null,null,null,null,null,null,null,15223,"BOYACÁ","CUBARÁ","BOYACÁCUBARÁ","NO PDET",15223,null,null,null,{"$f":"+IF(Calificación!F367=\"\",\"\",VLOOKUP(Calificación!F367,Listas!$AX$3:$AY$19,2,FALSE))","v":""},null,null,"13160Deporte Y Recreación","Bolívar",13160,"Cantagallo",null,"Deporte Y Recreación",12,null,null,null,null,null,null,null,null,null,null,null,null,null,null,null,null,null,null,null,null,null,null,null,null,null,null,null,null,null,null,null,null,"NO PDET",15223,"CUBARÁ","BOYACÁ","Medio Bajo",20,-1.2406592652597446,25]
[null,null,null,null,null,null,null,null,null,null,null,null,null,null,null,null,null,null,null,null,null,null,null,null,null,null,null,null,null,null,null,null,null,null,null,null,null,null,null,null,null,null,15224,"BOYACÁ","CUCAITA","BOYACÁCUCAITA","NO PDET",15224,null,null,null,{"$f":"+IF(Calificación!F368=\"\",\"\",VLOOKUP(Calificación!F368,Listas!$AX$3:$AY$19,2,FALSE))","v":""},null,null,"13160Cultura","Bolívar",13160,"Cantagallo",null,"Cultura",13,null,null,null,null,null,null,null,null,null,null,null,null,null,null,null,null,null,null,null,null,null,null,null,null,null,null,null,null,null,null,null,null,"NO PDET",15224,"CUCAITA","BOYACÁ","Bajo",0,-2.0677654420995744,0]
[null,null,null,null,null,null,null,null,null,null,null,null,null,null,null,null,null,null,null,null,null,null,null,null,null,null,null,null,null,null,null,null,null,null,null,null,null,null,null,null,null,null,15226,"BOYACÁ","CUÍTIVA","BOYACÁCUÍTIVA","NO PDET",15226,null,null,null,{"$f":"+IF(Calificación!F369=\"\",\"\",VLOOKUP(Calificación!F369,Listas!$AX$3:$AY$19,2,FALSE))","v":""},null,null,"13160Salud y Protección social","Bolívar",13160,"Cantagallo",null,"Salud y Protección social",14,null,null,null,null,null,null,null,null,null,null,null,null,null,null,null,null,null,null,null,null,null,null,null,null,null,null,null,null,null,null,null,null,"NO PDET",15226,"CUÍTIVA","BOYACÁ","Bajo",0,-2.0677654420995744,0]
[null,null,null,null,null,null,null,null,null,null,null,null,null,null,null,null,null,null,null,null,null,null,null,null,null,null,null,null,null,null,null,null,null,null,null,null,null,null,null,null,null,null,15238,"BOYACÁ","DUITAMA","BOYACÁDUITAMA","NO PDET",15238,null,null,null,{"$f":"+IF(Calificación!F370=\"\",\"\",VLOOKUP(Calificación!F370,Listas!$AX$3:$AY$19,2,FALSE))","v":""},null,null,"13212Tecnologías de la Información y las Comunicaciones","Bolívar",13212,"Córdoba",null,"Tecnologías de la Información y las Comunicaciones",1,null,null,null,null,null,null,null,null,null,null,null,null,null,null,null,null,null,null,null,null,null,null,null,null,null,null,null,null,null,null,null,null,"NO PDET",15238,"DUITAMA","BOYACÁ","Medio Bajo",20,-1.2406592652597446,25]
[null,null,null,null,null,null,null,null,null,null,null,null,null,null,null,null,null,null,null,null,null,null,null,null,null,null,null,null,null,null,null,null,null,null,null,null,null,null,null,null,null,null,15244,"BOYACÁ","EL COCUY","BOYACÁEL COCUY","NO PDET",15244,null,null,null,{"$f":"+IF(Calificación!F371=\"\",\"\",VLOOKUP(Calificación!F371,Listas!$AX$3:$AY$19,2,FALSE))","v":""},null,null,"13212Desarrollo Económico","Bolívar",13212,"Córdoba",null,"Desarrollo Económico",2,null,null,null,null,null,null,null,null,null,null,null,null,null,null,null,null,null,null,null,null,null,null,null,null,null,null,null,null,null,null,null,null,"NO PDET",15244,"EL COCUY","BOYACÁ","Medio Bajo",20,-1.2406592652597446,25]
[null,null,null,null,null,null,null,null,null,null,null,null,null,null,null,null,null,null,null,null,null,null,null,null,null,null,null,null,null,null,null,null,null,null,null,null,null,null,null,null,null,null,15248,"BOYACÁ","EL ESPINO","BOYACÁEL ESPINO","NO PDET",15248,null,null,null,{"$f":"+IF(Calificación!F372=\"\",\"\",VLOOKUP(Calificación!F372,Listas!$AX$3:$AY$19,2,FALSE))","v":""},null,null,"13212Vivienda, Ciudad Y Territorio","Bolívar",13212,"Córdoba",null,"Vivienda, Ciudad Y Territorio",3,null,null,null,null,null,null,null,null,null,null,null,null,null,null,null,null,null,null,null,null,null,null,null,null,null,null,null,null,null,null,null,null,"NO PDET",15248,"EL ESPINO","BOYACÁ","Bajo",0,-2.0677654420995744,0]
[null,null,null,null,null,null,null,null,null,null,null,null,null,null,null,null,null,null,null,null,null,null,null,null,null,null,null,null,null,null,null,null,null,null,null,null,null,null,null,null,null,null,15272,"BOYACÁ","FIRAVITOBA","BOYACÁFIRAVITOBA","NO PDET",15272,null,null,null,{"$f":"+IF(Calificación!F373=\"\",\"\",VLOOKUP(Calificación!F373,Listas!$AX$3:$AY$19,2,FALSE))","v":""},null,null,"13212Minas y Energía","Bolívar",13212,"Córdoba",null,"Minas y Energía",4,null,null,null,null,null,null,null,null,null,null,null,null,null,null,null,null,null,null,null,null,null,null,null,null,null,null,null,null,null,null,null,null,"NO PDET",15272,"FIRAVITOBA","BOYACÁ","Bajo",0,-2.0677654420995744,0]
[null,null,null,null,null,null,null,null,null,null,null,null,null,null,null,null,null,null,null,null,null,null,null,null,null,null,null,null,null,null,null,null,null,null,null,null,null,null,null,null,null,null,15276,"BOYACÁ","FLORESTA","BOYACÁFLORESTA","NO PDET",15276,null,null,null,{"$f":"+IF(Calificación!F374=\"\",\"\",VLOOKUP(Calificación!F374,Listas!$AX$3:$AY$19,2,FALSE))","v":""},null,null,"13212Agricultura y desarrollo rural","Bolívar",13212,"Córdoba",null,"Agricultura y desarrollo rural",5,null,null,null,null,null,null,null,null,null,null,null,null,null,null,null,null,null,null,null,null,null,null,null,null,null,null,null,null,null,null,null,null,"NO PDET",15276,"FLORESTA","BOYACÁ","Bajo",0,-2.0677654420995744,0]
[null,null,null,null,null,null,null,null,null,null,null,null,null,null,null,null,null,null,null,null,null,null,null,null,null,null,null,null,null,null,null,null,null,null,null,null,null,null,null,null,null,null,15293,"BOYACÁ","GACHANTIVÁ","BOYACÁGACHANTIVÁ","NO PDET",15293,null,null,null,{"$f":"+IF(Calificación!F375=\"\",\"\",VLOOKUP(Calificación!F375,Listas!$AX$3:$AY$19,2,FALSE))","v":""},null,null,"13212Inclusión Social Y Reconciliación","Bolívar",13212,"Córdoba",null,"Inclusión Social Y Reconciliación",6,null,null,null,null,null,null,null,null,null,null,null,null,null,null,null,null,null,null,null,null,null,null,null,null,null,null,null,null,null,null,null,null,"NO PDET",15293,"GACHANTIVÁ","BOYACÁ","Bajo",0,-2.0677654420995744,0]
[null,null,null,null,null,null,null,null,null,null,null,null,null,null,null,null,null,null,null,null,null,null,null,null,null,null,null,null,null,null,null,null,null,null,null,null,null,null,null,null,null,null,15296,"BOYACÁ","GÁMEZA","BOYACÁGÁMEZA","NO PDET",15296,null,null,null,{"$f":"+IF(Calificación!F376=\"\",\"\",VLOOKUP(Calificación!F376,Listas!$AX$3:$AY$19,2,FALSE))","v":""},null,null,"13212Gobierno territorial","Bolívar",13212,"Córdoba",null,"Gobierno territorial",7,null,null,null,null,null,null,null,null,null,null,null,null,null,null,null,null,null,null,null,null,null,null,null,null,null,null,null,null,null,null,null,null,"NO PDET",15296,"GÁMEZA","BOYACÁ","Bajo",0,-2.0677654420995744,0]
[null,null,null,null,null,null,null,null,null,null,null,null,null,null,null,null,null,null,null,null,null,null,null,null,null,null,null,null,null,null,null,null,null,null,null,null,null,null,null,null,null,null,15299,"BOYACÁ","GARAGOA","BOYACÁGARAGOA","NO PDET",15299,null,null,null,{"$f":"+IF(Calificación!F377=\"\",\"\",VLOOKUP(Calificación!F377,Listas!$AX$3:$AY$19,2,FALSE))","v":""},null,null,"13212Educación","Bolívar",13212,"Córdoba",null,"Educación",8,null,null,null,null,null,null,null,null,null,null,null,null,null,null,null,null,null,null,null,null,null,null,null,null,null,null,null,null,null,null,null,null,"NO PDET",15299,"GARAGOA","BOYACÁ","Bajo",0,-2.0677654420995744,0]
[null,null,null,null,null,null,null,null,null,null,null,null,null,null,null,null,null,null,null,null,null,null,null,null,null,null,null,null,null,null,null,null,null,null,null,null,null,null,null,null,null,null,15317,"BOYACÁ","GUACAMAYAS","BOYACÁGUACAMAYAS","NO PDET",15317,null,null,null,{"$f":"+IF(Calificación!F378=\"\",\"\",VLOOKUP(Calificación!F378,Listas!$AX$3:$AY$19,2,FALSE))","v":""},null,null,"13212Transporte","Bolívar",13212,"Córdoba",null,"Transporte",9,null,null,null,null,null,null,null,null,null,null,null,null,null,null,null,null,null,null,null,null,null,null,null,null,null,null,null,null,null,null,null,null,"NO PDET",15317,"GUACAMAYAS","BOYACÁ","Bajo",0,-2.0677654420995744,0]
[null,null,null,null,null,null,null,null,null,null,null,null,null,null,null,null,null,null,null,null,null,null,null,null,null,null,null,null,null,null,null,null,null,null,null,null,null,null,null,null,null,null,15322,"BOYACÁ","GUATEQUE","BOYACÁGUATEQUE","NO PDET",15322,null,null,null,{"$f":"+IF(Calificación!F379=\"\",\"\",VLOOKUP(Calificación!F379,Listas!$AX$3:$AY$19,2,FALSE))","v":""},null,null,"13212Justicia y del Derecho","Bolívar",13212,"Córdoba",null,"Justicia y del Derecho",10,null,null,null,null,null,null,null,null,null,null,null,null,null,null,null,null,null,null,null,null,null,null,null,null,null,null,null,null,null,null,null,null,"NO PDET",15322,"GUATEQUE","BOYACÁ","Medio Bajo",20,-1.2406592652597446,25]
[null,null,null,null,null,null,null,null,null,null,null,null,null,null,null,null,null,null,null,null,null,null,null,null,null,null,null,null,null,null,null,null,null,null,null,null,null,null,null,null,null,null,15325,"BOYACÁ","GUAYATÁ","BOYACÁGUAYATÁ","NO PDET",15325,null,null,null,{"$f":"+IF(Calificación!F380=\"\",\"\",VLOOKUP(Calificación!F380,Listas!$AX$3:$AY$19,2,FALSE))","v":""},null,null,"13212Deporte Y Recreación","Bolívar",13212,"Córdoba",null,"Deporte Y Recreación",11,null,null,null,null,null,null,null,null,null,null,null,null,null,null,null,null,null,null,null,null,null,null,null,null,null,null,null,null,null,null,null,null,"NO PDET",15325,"GUAYATÁ","BOYACÁ","Bajo",0,-2.0677654420995744,0]
[null,null,null,null,null,null,null,null,null,null,null,null,null,null,null,null,null,null,null,null,null,null,null,null,null,null,null,null,null,null,null,null,null,null,null,null,null,null,null,null,null,null,15332,"BOYACÁ","GÜICÁN DE LA SIERRA","BOYACÁGÜICÁN DE LA SIERRA","NO PDET",15332,null,null,null,{"$f":"+IF(Calificación!F381=\"\",\"\",VLOOKUP(Calificación!F381,Listas!$AX$3:$AY$19,2,FALSE))","v":""},null,null,"13212Ambiente y Desarrollo Sostenible","Bolívar",13212,"Córdoba",null,"Ambiente y Desarrollo Sostenible",12,null,null,null,null,null,null,null,null,null,null,null,null,null,null,null,null,null,null,null,null,null,null,null,null,null,null,null,null,null,null,null,null,"NO PDET",15332,"GÜICÁN DE LA SIERRA","BOYACÁ","Bajo",0,-2.0677654420995744,0]
[null,null,null,null,null,null,null,null,null,null,null,null,null,null,null,null,null,null,null,null,null,null,null,null,null,null,null,null,null,null,null,null,null,null,null,null,null,null,null,null,null,null,15362,"BOYACÁ","IZA","BOYACÁIZA","NO PDET",15362,null,null,null,{"$f":"+IF(Calificación!F382=\"\",\"\",VLOOKUP(Calificación!F382,Listas!$AX$3:$AY$19,2,FALSE))","v":""},null,null,"13212Cultura","Bolívar",13212,"Córdoba",null,"Cultura",13,null,null,null,null,null,null,null,null,null,null,null,null,null,null,null,null,null,null,null,null,null,null,null,null,null,null,null,null,null,null,null,null,"NO PDET",15362,"IZA","BOYACÁ","Bajo",0,-2.0677654420995744,0]
[null,null,null,null,null,null,null,null,null,null,null,null,null,null,null,null,null,null,null,null,null,null,null,null,null,null,null,null,null,null,null,null,null,null,null,null,null,null,null,null,null,null,15367,"BOYACÁ","JENESANO","BOYACÁJENESANO","NO PDET",15367,null,null,null,{"$f":"+IF(Calificación!F383=\"\",\"\",VLOOKUP(Calificación!F383,Listas!$AX$3:$AY$19,2,FALSE))","v":""},null,null,"13212Salud y Protección social","Bolívar",13212,"Córdoba",null,"Salud y Protección social",14,null,null,null,null,null,null,null,null,null,null,null,null,null,null,null,null,null,null,null,null,null,null,null,null,null,null,null,null,null,null,null,null,"NO PDET",15367,"JENESANO","BOYACÁ","Bajo",0,-2.0677654420995744,0]
[null,null,null,null,null,null,null,null,null,null,null,null,null,null,null,null,null,null,null,null,null,null,null,null,null,null,null,null,null,null,null,null,null,null,null,null,null,null,null,null,null,null,15368,"BOYACÁ","JERICÓ","BOYACÁJERICÓ","NO PDET",15368,null,null,null,{"$f":"+IF(Calificación!F384=\"\",\"\",VLOOKUP(Calificación!F384,Listas!$AX$3:$AY$19,2,FALSE))","v":""},null,null,"13244Tecnologías de la Información y las Comunicaciones","Bolívar",13244,"El Carmen de Bolívar",null,"Tecnologías de la Información y las Comunicaciones",1,null,null,null,null,null,null,null,null,null,null,null,null,null,null,null,null,null,null,null,null,null,null,null,null,null,null,null,null,null,null,null,null,"NO PDET",15368,"JERICÓ","BOYACÁ","Bajo",0,-2.0677654420995744,0]
[null,null,null,null,null,null,null,null,null,null,null,null,null,null,null,null,null,null,null,null,null,null,null,null,null,null,null,null,null,null,null,null,null,null,null,null,null,null,null,null,null,null,15380,"BOYACÁ","LA CAPILLA","BOYACÁLA CAPILLA","NO PDET",15380,null,null,null,{"$f":"+IF(Calificación!F385=\"\",\"\",VLOOKUP(Calificación!F385,Listas!$AX$3:$AY$19,2,FALSE))","v":""},null,null,"13244Desarrollo Económico","Bolívar",13244,"El Carmen de Bolívar",null,"Desarrollo Económico",2,null,null,null,null,null,null,null,null,null,null,null,null,null,null,null,null,null,null,null,null,null,null,null,null,null,null,null,null,null,null,null,null,"NO PDET",15380,"LA CAPILLA","BOYACÁ","Bajo",0,-2.0677654420995744,0]
[null,null,null,null,null,null,null,null,null,null,null,null,null,null,null,null,null,null,null,null,null,null,null,null,null,null,null,null,null,null,null,null,null,null,null,null,null,null,null,null,null,null,15403,"BOYACÁ","LA UVITA","BOYACÁLA UVITA","NO PDET",15403,null,null,null,{"$f":"+IF(Calificación!F386=\"\",\"\",VLOOKUP(Calificación!F386,Listas!$AX$3:$AY$19,2,FALSE))","v":""},null,null,"13244Minas y Energía","Bolívar",13244,"El Carmen de Bolívar",null,"Minas y Energía",3,null,null,null,null,null,null,null,null,null,null,null,null,null,null,null,null,null,null,null,null,null,null,null,null,null,null,null,null,null,null,null,null,"NO PDET",15403,"LA UVITA","BOYACÁ","Bajo",0,-2.0677654420995744,0]
[null,null,null,null,null,null,null,null,null,null,null,null,null,null,null,null,null,null,null,null,null,null,null,null,null,null,null,null,null,null,null,null,null,null,null,null,null,null,null,null,null,null,15401,"BOYACÁ","LA VICTORIA","BOYACÁLA VICTORIA","NO PDET",15401,null,null,null,{"$f":"+IF(Calificación!F387=\"\",\"\",VLOOKUP(Calificación!F387,Listas!$AX$3:$AY$19,2,FALSE))","v":""},null,null,"13244Vivienda, Ciudad Y Territorio","Bolívar",13244,"El Carmen de Bolívar",null,"Vivienda, Ciudad Y Territorio",4,null,null,null,null,null,null,null,null,null,null,null,null,null,null,null,null,null,null,null,null,null,null,null,null,null,null,null,null,null,null,null,null,"NO PDET",15401,"LA VICTORIA","BOYACÁ","Medio",40,-0.41355308841991484,50]
[null,null,null,null,null,null,null,null,null,null,null,null,null,null,null,null,null,null,null,null,null,null,null,null,null,null,null,null,null,null,null,null,null,null,null,null,null,null,null,null,null,null,15377,"BOYACÁ","LABRANZAGRANDE","BOYACÁLABRANZAGRANDE","NO PDET",15377,null,null,null,{"$f":"+IF(Calificación!F388=\"\",\"\",VLOOKUP(Calificación!F388,Listas!$AX$3:$AY$19,2,FALSE))","v":""},null,null,"13244Agricultura y desarrollo rural","Bolívar",13244,"El Carmen de Bolívar",null,"Agricultura y desarrollo rural",5,null,null,null,null,null,null,null,null,null,null,null,null,null,null,null,null,null,null,null,null,null,null,null,null,null,null,null,null,null,null,null,null,"NO PDET",15377,"LABRANZAGRANDE","BOYACÁ","Bajo",0,-2.0677654420995744,0]
[null,null,null,null,null,null,null,null,null,null,null,null,null,null,null,null,null,null,null,null,null,null,null,null,null,null,null,null,null,null,null,null,null,null,null,null,null,null,null,null,null,null,15425,"BOYACÁ","MACANAL","BOYACÁMACANAL","NO PDET",15425,null,null,null,{"$f":"+IF(Calificación!F389=\"\",\"\",VLOOKUP(Calificación!F389,Listas!$AX$3:$AY$19,2,FALSE))","v":""},null,null,"13244Educación","Bolívar",13244,"El Carmen de Bolívar",null,"Educación",6,null,null,null,null,null,null,null,null,null,null,null,null,null,null,null,null,null,null,null,null,null,null,null,null,null,null,null,null,null,null,null,null,"NO PDET",15425,"MACANAL","BOYACÁ","Bajo",0,-2.0677654420995744,0]
[null,null,null,null,null,null,null,null,null,null,null,null,null,null,null,null,null,null,null,null,null,null,null,null,null,null,null,null,null,null,null,null,null,null,null,null,null,null,null,null,null,null,15442,"BOYACÁ","MARIPÍ","BOYACÁMARIPÍ","NO PDET",15442,null,null,null,{"$f":"+IF(Calificación!F390=\"\",\"\",VLOOKUP(Calificación!F390,Listas!$AX$3:$AY$19,2,FALSE))","v":""},null,null,"13244Inclusión Social Y Reconciliación","Bolívar",13244,"El Carmen de Bolívar",null,"Inclusión Social Y Reconciliación",7,null,null,null,null,null,null,null,null,null,null,null,null,null,null,null,null,null,null,null,null,null,null,null,null,null,null,null,null,null,null,null,null,"NO PDET",15442,"MARIPÍ","BOYACÁ","Bajo",0,-2.0677654420995744,0]
[null,null,null,null,null,null,null,null,null,null,null,null,null,null,null,null,null,null,null,null,null,null,null,null,null,null,null,null,null,null,null,null,null,null,null,null,null,null,null,null,null,null,15455,"BOYACÁ","MIRAFLORES",{"$f":"+AR388&AS388","v":"BOYACÁMIRAFLORES"},"NO PDET",15455,null,null,null,{"$f":"+IF(Calificación!F391=\"\",\"\",VLOOKUP(Calificación!F391,Listas!$AX$3:$AY$19,2,FALSE))","v":""},null,null,{"$f":"+BE388&BH388","v":"13244Transporte"},"Bolívar",13244,"El Carmen de Bolívar",null,"Transporte",8,null,null,null,null,null,null,null,null,null,null,null,null,null,null,null,null,null,null,null,null,null,null,null,null,null,null,null,null,null,null,null,null,"NO PDET",15455,"MIRAFLORES","BOYACÁ","Bajo",{"$f":"+VLOOKUP(CT388,$CY$3:$CZ$7,2,FALSE)","v":0},{"$f":"+(CU388-AVERAGE(CU$3:CU$172))/STDEVP(CU$3:CU$172)","v":-2.0677654420995744},{"$f":"(+(CV388-MIN(CV$3:CV$172))/(MAX(CV$3:CV$172)-MIN(CV$3:CV$172)))*100","v":0}]
[null,null,null,null,null,null,null,null,null,null,null,null,null,null,null,null,null,null,null,null,null,null,null,null,null,null,null,null,null,null,null,null,null,null,null,null,null,null,null,null,null,null,15464,"BOYACÁ","MONGUA","BOYACÁMONGUA","NO PDET",15464,null,null,null,{"$f":"+IF(Calificación!F392=\"\",\"\",VLOOKUP(Calificación!F392,Listas!$AX$3:$AY$19,2,FALSE))","v":""},null,null,"13244Gobierno territorial","Bolívar",13244,"El Carmen de Bolívar",null,"Gobierno territorial",9,null,null,null,null,null,null,null,null,null,null,null,null,null,null,null,null,null,null,null,null,null,null,null,null,null,null,null,null,null,null,null,null,"NO PDET",15464,"MONGUA","BOYACÁ","Bajo",0,-2.0677654420995744,0]
[null,null,null,null,null,null,null,null,null,null,null,null,null,null,null,null,null,null,null,null,null,null,null,null,null,null,null,null,null,null,null,null,null,null,null,null,null,null,null,null,null,null,15466,"BOYACÁ","MONGUÍ","BOYACÁMONGUÍ","NO PDET",15466,null,null,null,{"$f":"+IF(Calificación!F393=\"\",\"\",VLOOKUP(Calificación!F393,Listas!$AX$3:$AY$19,2,FALSE))","v":""},null,null,"13244Justicia y del Derecho","Bolívar",13244,"El Carmen de Bolívar",null,"Justicia y del Derecho",10,null,null,null,null,null,null,null,null,null,null,null,null,null,null,null,null,null,null,null,null,null,null,null,null,null,null,null,null,null,null,null,null,"NO PDET",15466,"MONGUÍ","BOYACÁ","Bajo",0,-2.0677654420995744,0]
[null,null,null,null,null,null,null,null,null,null,null,null,null,null,null,null,null,null,null,null,null,null,null,null,null,null,null,null,null,null,null,null,null,null,null,null,null,null,null,null,null,null,15469,"BOYACÁ","MONIQUIRÁ","BOYACÁMONIQUIRÁ","NO PDET",15469,null,null,null,{"$f":"+IF(Calificación!F394=\"\",\"\",VLOOKUP(Calificación!F394,Listas!$AX$3:$AY$19,2,FALSE))","v":""},null,null,"13244Deporte Y Recreación","Bolívar",13244,"El Carmen de Bolívar",null,"Deporte Y Recreación",11,null,null,null,null,null,null,null,null,null,null,null,null,null,null,null,null,null,null,null,null,null,null,null,null,null,null,null,null,null,null,null,null,"NO PDET",15469,"MONIQUIRÁ","BOYACÁ","Medio Bajo",20,-1.2406592652597446,25]
[null,null,null,null,null,null,null,null,null,null,null,null,null,null,null,null,null,null,null,null,null,null,null,null,null,null,null,null,null,null,null,null,null,null,null,null,null,null,null,null,null,null,15476,"BOYACÁ","MOTAVITA","BOYACÁMOTAVITA","NO PDET",15476,null,null,null,{"$f":"+IF(Calificación!F395=\"\",\"\",VLOOKUP(Calificación!F395,Listas!$AX$3:$AY$19,2,FALSE))","v":""},null,null,"13244Cultura","Bolívar",13244,"El Carmen de Bolívar",null,"Cultura",12,null,null,null,null,null,null,null,null,null,null,null,null,null,null,null,null,null,null,null,null,null,null,null,null,null,null,null,null,null,null,null,null,"NO PDET",15476,"MOTAVITA","BOYACÁ","Bajo",0,-2.0677654420995744,0]
[null,null,null,null,null,null,null,null,null,null,null,null,null,null,null,null,null,null,null,null,null,null,null,null,null,null,null,null,null,null,null,null,null,null,null,null,null,null,null,null,null,null,15480,"BOYACÁ","MUZO","BOYACÁMUZO","NO PDET",15480,null,null,null,{"$f":"+IF(Calificación!F396=\"\",\"\",VLOOKUP(Calificación!F396,Listas!$AX$3:$AY$19,2,FALSE))","v":""},null,null,"13244Salud y Protección social","Bolívar",13244,"El Carmen de Bolívar",null,"Salud y Protección social",13,null,null,null,null,null,null,null,null,null,null,null,null,null,null,null,null,null,null,null,null,null,null,null,null,null,null,null,null,null,null,null,null,"NO PDET",15480,"MUZO","BOYACÁ","Bajo",0,-2.0677654420995744,0]
[null,null,null,null,null,null,null,null,null,null,null,null,null,null,null,null,null,null,null,null,null,null,null,null,null,null,null,null,null,null,null,null,null,null,null,null,null,null,null,null,null,null,15491,"BOYACÁ","NOBSA","BOYACÁNOBSA","NO PDET",15491,null,null,null,{"$f":"+IF(Calificación!F397=\"\",\"\",VLOOKUP(Calificación!F397,Listas!$AX$3:$AY$19,2,FALSE))","v":""},null,null,"13244Ambiente y Desarrollo Sostenible","Bolívar",13244,"El Carmen de Bolívar",null,"Ambiente y Desarrollo Sostenible",14,null,null,null,null,null,null,null,null,null,null,null,null,null,null,null,null,null,null,null,null,null,null,null,null,null,null,null,null,null,null,null,null,"NO PDET",15491,"NOBSA","BOYACÁ","Medio Bajo",20,-1.2406592652597446,25]
[null,null,null,null,null,null,null,null,null,null,null,null,null,null,null,null,null,null,null,null,null,null,null,null,null,null,null,null,null,null,null,null,null,null,null,null,null,null,null,null,null,null,15494,"BOYACÁ","NUEVO COLÓN","BOYACÁNUEVO COLÓN","NO PDET",15494,null,null,null,{"$f":"+IF(Calificación!F398=\"\",\"\",VLOOKUP(Calificación!F398,Listas!$AX$3:$AY$19,2,FALSE))","v":""},null,null,"13248Tecnologías de la Información y las Comunicaciones","Bolívar",13248,"El Guamo",null,"Tecnologías de la Información y las Comunicaciones",1,null,null,null,null,null,null,null,null,null,null,null,null,null,null,null,null,null,null,null,null,null,null,null,null,null,null,null,null,null,null,null,null,"NO PDET",15494,"NUEVO COLÓN","BOYACÁ","Bajo",0,-2.0677654420995744,0]
[null,null,null,null,null,null,null,null,null,null,null,null,null,null,null,null,null,null,null,null,null,null,null,null,null,null,null,null,null,null,null,null,null,null,null,null,null,null,null,null,null,null,15500,"BOYACÁ","OICATÁ","BOYACÁOICATÁ","NO PDET",15500,null,null,null,{"$f":"+IF(Calificación!F399=\"\",\"\",VLOOKUP(Calificación!F399,Listas!$AX$3:$AY$19,2,FALSE))","v":""},null,null,"13248Desarrollo Económico","Bolívar",13248,"El Guamo",null,"Desarrollo Económico",2,null,null,null,null,null,null,null,null,null,null,null,null,null,null,null,null,null,null,null,null,null,null,null,null,null,null,null,null,null,null,null,null,"NO PDET",15500,"OICATÁ","BOYACÁ","Medio Bajo",20,-1.2406592652597446,25]
[null,null,null,null,null,null,null,null,null,null,null,null,null,null,null,null,null,null,null,null,null,null,null,null,null,null,null,null,null,null,null,null,null,null,null,null,null,null,null,null,null,null,15507,"BOYACÁ","OTANCHE","BOYACÁOTANCHE","NO PDET",15507,null,null,null,{"$f":"+IF(Calificación!F400=\"\",\"\",VLOOKUP(Calificación!F400,Listas!$AX$3:$AY$19,2,FALSE))","v":""},null,null,"13248Vivienda, Ciudad Y Territorio","Bolívar",13248,"El Guamo",null,"Vivienda, Ciudad Y Territorio",3,null,null,null,null,null,null,null,null,null,null,null,null,null,null,null,null,null,null,null,null,null,null,null,null,null,null,null,null,null,null,null,null,"NO PDET",15507,"OTANCHE","BOYACÁ","Bajo",0,-2.0677654420995744,0]
[null,null,null,null,null,null,null,null,null,null,null,null,null,null,null,null,null,null,null,null,null,null,null,null,null,null,null,null,null,null,null,null,null,null,null,null,null,null,null,null,null,null,15511,"BOYACÁ","PACHAVITA","BOYACÁPACHAVITA","NO PDET",15511,null,null,null,{"$f":"+IF(Calificación!F401=\"\",\"\",VLOOKUP(Calificación!F401,Listas!$AX$3:$AY$19,2,FALSE))","v":""},null,null,"13248Minas y Energía","Bolívar",13248,"El Guamo",null,"Minas y Energía",4,null,null,null,null,null,null,null,null,null,null,null,null,null,null,null,null,null,null,null,null,null,null,null,null,null,null,null,null,null,null,null,null,"NO PDET",15511,"PACHAVITA","BOYACÁ","Bajo",0,-2.0677654420995744,0]
[null,null,null,null,null,null,null,null,null,null,null,null,null,null,null,null,null,null,null,null,null,null,null,null,null,null,null,null,null,null,null,null,null,null,null,null,null,null,null,null,null,null,15514,"BOYACÁ","PÁEZ","BOYACÁPÁEZ","NO PDET",15514,null,null,null,{"$f":"+IF(Calificación!F402=\"\",\"\",VLOOKUP(Calificación!F402,Listas!$AX$3:$AY$19,2,FALSE))","v":""},null,null,"13248Educación","Bolívar",13248,"El Guamo",null,"Educación",5,null,null,null,null,null,null,null,null,null,null,null,null,null,null,null,null,null,null,null,null,null,null,null,null,null,null,null,null,null,null,null,null,"NO PDET",15514,"PÁEZ","BOYACÁ","Bajo",0,-2.0677654420995744,0]
[null,null,null,null,null,null,null,null,null,null,null,null,null,null,null,null,null,null,null,null,null,null,null,null,null,null,null,null,null,null,null,null,null,null,null,null,null,null,null,null,null,null,15516,"BOYACÁ","PAIPA","BOYACÁPAIPA","NO PDET",15516,null,null,null,{"$f":"+IF(Calificación!F403=\"\",\"\",VLOOKUP(Calificación!F403,Listas!$AX$3:$AY$19,2,FALSE))","v":""},null,null,"13248Agricultura y desarrollo rural","Bolívar",13248,"El Guamo",null,"Agricultura y desarrollo rural",6,null,null,null,null,null,null,null,null,null,null,null,null,null,null,null,null,null,null,null,null,null,null,null,null,null,null,null,null,null,null,null,null,"NO PDET",15516,"PAIPA","BOYACÁ","Medio Bajo",20,-1.2406592652597446,25]
[null,null,null,null,null,null,null,null,null,null,null,null,null,null,null,null,null,null,null,null,null,null,null,null,null,null,null,null,null,null,null,null,null,null,null,null,null,null,null,null,null,null,15518,"BOYACÁ","PAJARITO","BOYACÁPAJARITO","NO PDET",15518,null,null,null,{"$f":"+IF(Calificación!F404=\"\",\"\",VLOOKUP(Calificación!F404,Listas!$AX$3:$AY$19,2,FALSE))","v":""},null,null,"13248Inclusión Social Y Reconciliación","Bolívar",13248,"El Guamo",null,"Inclusión Social Y Reconciliación",7,null,null,null,null,null,null,null,null,null,null,null,null,null,null,null,null,null,null,null,null,null,null,null,null,null,null,null,null,null,null,null,null,"NO PDET",15518,"PAJARITO","BOYACÁ","Bajo",0,-2.0677654420995744,0]
[null,null,null,null,null,null,null,null,null,null,null,null,null,null,null,null,null,null,null,null,null,null,null,null,null,null,null,null,null,null,null,null,null,null,null,null,null,null,null,null,null,null,15522,"BOYACÁ","PANQUEBA","BOYACÁPANQUEBA","NO PDET",15522,null,null,null,{"$f":"+IF(Calificación!F405=\"\",\"\",VLOOKUP(Calificación!F405,Listas!$AX$3:$AY$19,2,FALSE))","v":""},null,null,"13248Gobierno territorial","Bolívar",13248,"El Guamo",null,"Gobierno territorial",8,null,null,null,null,null,null,null,null,null,null,null,null,null,null,null,null,null,null,null,null,null,null,null,null,null,null,null,null,null,null,null,null,"NO PDET",15522,"PANQUEBA","BOYACÁ","Bajo",0,-2.0677654420995744,0]
[null,null,null,null,null,null,null,null,null,null,null,null,null,null,null,null,null,null,null,null,null,null,null,null,null,null,null,null,null,null,null,null,null,null,null,null,null,null,null,null,null,null,15531,"BOYACÁ","PAUNA","BOYACÁPAUNA","NO PDET",15531,null,null,null,{"$f":"+IF(Calificación!F406=\"\",\"\",VLOOKUP(Calificación!F406,Listas!$AX$3:$AY$19,2,FALSE))","v":""},null,null,"13248Transporte","Bolívar",13248,"El Guamo",null,"Transporte",9,null,null,null,null,null,null,null,null,null,null,null,null,null,null,null,null,null,null,null,null,null,null,null,null,null,null,null,null,null,null,null,null,"NO PDET",15531,"PAUNA","BOYACÁ","Bajo",0,-2.0677654420995744,0]
[null,null,null,null,null,null,null,null,null,null,null,null,null,null,null,null,null,null,null,null,null,null,null,null,null,null,null,null,null,null,null,null,null,null,null,null,null,null,null,null,null,null,15533,"BOYACÁ","PAYA","BOYACÁPAYA","NO PDET",15533,null,null,null,{"$f":"+IF(Calificación!F407=\"\",\"\",VLOOKUP(Calificación!F407,Listas!$AX$3:$AY$19,2,FALSE))","v":""},null,null,"13248Justicia y del Derecho","Bolívar",13248,"El Guamo",null,"Justicia y del Derecho",10,null,null,null,null,null,null,null,null,null,null,null,null,null,null,null,null,null,null,null,null,null,null,null,null,null,null,null,null,null,null,null,null,"NO PDET",15533,"PAYA","BOYACÁ","Medio Bajo",20,-1.2406592652597446,25]
[null,null,null,null,null,null,null,null,null,null,null,null,null,null,null,null,null,null,null,null,null,null,null,null,null,null,null,null,null,null,null,null,null,null,null,null,null,null,null,null,null,null,15537,"BOYACÁ","PAZ DE RÍO","BOYACÁPAZ DE RÍO","NO PDET",15537,null,null,null,{"$f":"+IF(Calificación!F408=\"\",\"\",VLOOKUP(Calificación!F408,Listas!$AX$3:$AY$19,2,FALSE))","v":""},null,null,"13248Deporte Y Recreación","Bolívar",13248,"El Guamo",null,"Deporte Y Recreación",11,null,null,null,null,null,null,null,null,null,null,null,null,null,null,null,null,null,null,null,null,null,null,null,null,null,null,null,null,null,null,null,null,"NO PDET",15537,"PAZ DE RÍO","BOYACÁ","Medio Bajo",20,-1.2406592652597446,25]
[null,null,null,null,null,null,null,null,null,null,null,null,null,null,null,null,null,null,null,null,null,null,null,null,null,null,null,null,null,null,null,null,null,null,null,null,null,null,null,null,null,null,15542,"BOYACÁ","PESCA","BOYACÁPESCA","NO PDET",15542,null,null,null,{"$f":"+IF(Calificación!F409=\"\",\"\",VLOOKUP(Calificación!F409,Listas!$AX$3:$AY$19,2,FALSE))","v":""},null,null,"13248Salud y Protección social","Bolívar",13248,"El Guamo",null,"Salud y Protección social",12,null,null,null,null,null,null,null,null,null,null,null,null,null,null,null,null,null,null,null,null,null,null,null,null,null,null,null,null,null,null,null,null,"NO PDET",15542,"PESCA","BOYACÁ","Bajo",0,-2.0677654420995744,0]
[null,null,null,null,null,null,null,null,null,null,null,null,null,null,null,null,null,null,null,null,null,null,null,null,null,null,null,null,null,null,null,null,null,null,null,null,null,null,null,null,null,null,15550,"BOYACÁ","PISBA","BOYACÁPISBA","NO PDET",15550,null,null,null,{"$f":"+IF(Calificación!F410=\"\",\"\",VLOOKUP(Calificación!F410,Listas!$AX$3:$AY$19,2,FALSE))","v":""},null,null,"13248Cultura","Bolívar",13248,"El Guamo",null,"Cultura",13,null,null,null,null,null,null,null,null,null,null,null,null,null,null,null,null,null,null,null,null,null,null,null,null,null,null,null,null,null,null,null,null,"NO PDET",15550,"PISBA","BOYACÁ","Bajo",0,-2.0677654420995744,0]
[null,null,null,null,null,null,null,null,null,null,null,null,null,null,null,null,null,null,null,null,null,null,null,null,null,null,null,null,null,null,null,null,null,null,null,null,null,null,null,null,null,null,15572,"BOYACÁ","PUERTO BOYACÁ","BOYACÁPUERTO BOYACÁ","NO PDET",15572,null,null,null,{"$f":"+IF(Calificación!F411=\"\",\"\",VLOOKUP(Calificación!F411,Listas!$AX$3:$AY$19,2,FALSE))","v":""},null,null,"13248Ambiente y Desarrollo Sostenible","Bolívar",13248,"El Guamo",null,"Ambiente y Desarrollo Sostenible",14,null,null,null,null,null,null,null,null,null,null,null,null,null,null,null,null,null,null,null,null,null,null,null,null,null,null,null,null,null,null,null,null,"NO PDET",15572,"PUERTO BOYACÁ","BOYACÁ","Medio Bajo",20,-1.2406592652597446,25]
[null,null,null,null,null,null,null,null,null,null,null,null,null,null,null,null,null,null,null,null,null,null,null,null,null,null,null,null,null,null,null,null,null,null,null,null,null,null,null,null,null,null,15580,"BOYACÁ","QUÍPAMA","BOYACÁQUÍPAMA","NO PDET",15580,null,null,null,{"$f":"+IF(Calificación!F412=\"\",\"\",VLOOKUP(Calificación!F412,Listas!$AX$3:$AY$19,2,FALSE))","v":""},null,null,"13442Tecnologías de la Información y las Comunicaciones","Bolívar",13442,"María La Baja",null,"Tecnologías de la Información y las Comunicaciones",1,null,null,null,null,null,null,null,null,null,null,null,null,null,null,null,null,null,null,null,null,null,null,null,null,null,null,null,null,null,null,null,null,"NO PDET",15580,"QUÍPAMA","BOYACÁ","Medio Bajo",20,-1.2406592652597446,25]
[null,null,null,null,null,null,null,null,null,null,null,null,null,null,null,null,null,null,null,null,null,null,null,null,null,null,null,null,null,null,null,null,null,null,null,null,null,null,null,null,null,null,15599,"BOYACÁ","RAMIRIQUÍ","BOYACÁRAMIRIQUÍ","NO PDET",15599,null,null,null,{"$f":"+IF(Calificación!F413=\"\",\"\",VLOOKUP(Calificación!F413,Listas!$AX$3:$AY$19,2,FALSE))","v":""},null,null,"13442Vivienda, Ciudad Y Territorio","Bolívar",13442,"María La Baja",null,"Vivienda, Ciudad Y Territorio",2,null,null,null,null,null,null,null,null,null,null,null,null,null,null,null,null,null,null,null,null,null,null,null,null,null,null,null,null,null,null,null,null,"NO PDET",15599,"RAMIRIQUÍ","BOYACÁ","Medio Bajo",20,-1.2406592652597446,25]
[null,null,null,null,null,null,null,null,null,null,null,null,null,null,null,null,null,null,null,null,null,null,null,null,null,null,null,null,null,null,null,null,null,null,null,null,null,null,null,null,null,null,15600,"BOYACÁ","RÁQUIRA","BOYACÁRÁQUIRA","NO PDET",15600,null,null,null,{"$f":"+IF(Calificación!F414=\"\",\"\",VLOOKUP(Calificación!F414,Listas!$AX$3:$AY$19,2,FALSE))","v":""},null,null,"13442Desarrollo Económico","Bolívar",13442,"María La Baja",null,"Desarrollo Económico",3,null,null,null,null,null,null,null,null,null,null,null,null,null,null,null,null,null,null,null,null,null,null,null,null,null,null,null,null,null,null,null,null,"NO PDET",15600,"RÁQUIRA","BOYACÁ","Medio Bajo",20,-1.2406592652597446,25]
[null,null,null,null,null,null,null,null,null,null,null,null,null,null,null,null,null,null,null,null,null,null,null,null,null,null,null,null,null,null,null,null,null,null,null,null,null,null,null,null,null,null,15621,"BOYACÁ","RONDÓN","BOYACÁRONDÓN","NO PDET",15621,null,null,null,{"$f":"+IF(Calificación!F415=\"\",\"\",VLOOKUP(Calificación!F415,Listas!$AX$3:$AY$19,2,FALSE))","v":""},null,null,"13442Inclusión Social Y Reconciliación","Bolívar",13442,"María La Baja",null,"Inclusión Social Y Reconciliación",4,null,null,null,null,null,null,null,null,null,null,null,null,null,null,null,null,null,null,null,null,null,null,null,null,null,null,null,null,null,null,null,null,"NO PDET",15621,"RONDÓN","BOYACÁ","Bajo",0,-2.0677654420995744,0]
[null,null,null,null,null,null,null,null,null,null,null,null,null,null,null,null,null,null,null,null,null,null,null,null,null,null,null,null,null,null,null,null,null,null,null,null,null,null,null,null,null,null,15632,"BOYACÁ","SABOYÁ","BOYACÁSABOYÁ","NO PDET",15632,null,null,null,{"$f":"+IF(Calificación!F416=\"\",\"\",VLOOKUP(Calificación!F416,Listas!$AX$3:$AY$19,2,FALSE))","v":""},null,null,"13442Minas y Energía","Bolívar",13442,"María La Baja",null,"Minas y Energía",5,null,null,null,null,null,null,null,null,null,null,null,null,null,null,null,null,null,null,null,null,null,null,null,null,null,null,null,null,null,null,null,null,"NO PDET",15632,"SABOYÁ","BOYACÁ","Bajo",0,-2.0677654420995744,0]
[null,null,null,null,null,null,null,null,null,null,null,null,null,null,null,null,null,null,null,null,null,null,null,null,null,null,null,null,null,null,null,null,null,null,null,null,null,null,null,null,null,null,15638,"BOYACÁ","SÁCHICA","BOYACÁSÁCHICA","NO PDET",15638,null,null,null,{"$f":"+IF(Calificación!F417=\"\",\"\",VLOOKUP(Calificación!F417,Listas!$AX$3:$AY$19,2,FALSE))","v":""},null,null,"13442Educación","Bolívar",13442,"María La Baja",null,"Educación",6,null,null,null,null,null,null,null,null,null,null,null,null,null,null,null,null,null,null,null,null,null,null,null,null,null,null,null,null,null,null,null,null,"NO PDET",15638,"SÁCHICA","BOYACÁ","Medio Bajo",20,-1.2406592652597446,25]
[null,null,null,null,null,null,null,null,null,null,null,null,null,null,null,null,null,null,null,null,null,null,null,null,null,null,null,null,null,null,null,null,null,null,null,null,null,null,null,null,null,null,15646,"BOYACÁ","SAMACÁ","BOYACÁSAMACÁ","NO PDET",15646,null,null,null,{"$f":"+IF(Calificación!F418=\"\",\"\",VLOOKUP(Calificación!F418,Listas!$AX$3:$AY$19,2,FALSE))","v":""},null,null,"13442Gobierno territorial","Bolívar",13442,"María La Baja",null,"Gobierno territorial",7,null,null,null,null,null,null,null,null,null,null,null,null,null,null,null,null,null,null,null,null,null,null,null,null,null,null,null,null,null,null,null,null,"NO PDET",15646,"SAMACÁ","BOYACÁ","Medio Bajo",20,-1.2406592652597446,25]
[null,null,null,null,null,null,null,null,null,null,null,null,null,null,null,null,null,null,null,null,null,null,null,null,null,null,null,null,null,null,null,null,null,null,null,null,null,null,null,null,null,null,15660,"BOYACÁ","SAN EDUARDO","BOYACÁSAN EDUARDO","NO PDET",15660,null,null,null,{"$f":"+IF(Calificación!F419=\"\",\"\",VLOOKUP(Calificación!F419,Listas!$AX$3:$AY$19,2,FALSE))","v":""},null,null,"13442Agricultura y desarrollo rural","Bolívar",13442,"María La Baja",null,"Agricultura y desarrollo rural",8,null,null,null,null,null,null,null,null,null,null,null,null,null,null,null,null,null,null,null,null,null,null,null,null,null,null,null,null,null,null,null,null,"NO PDET",15660,"SAN EDUARDO","BOYACÁ","Bajo",0,-2.0677654420995744,0]
[null,null,null,null,null,null,null,null,null,null,null,null,null,null,null,null,null,null,null,null,null,null,null,null,null,null,null,null,null,null,null,null,null,null,null,null,null,null,null,null,null,null,15664,"BOYACÁ","SAN JOSÉ DE PARE","BOYACÁSAN JOSÉ DE PARE","NO PDET",15664,null,null,null,{"$f":"+IF(Calificación!F420=\"\",\"\",VLOOKUP(Calificación!F420,Listas!$AX$3:$AY$19,2,FALSE))","v":""},null,null,"13442Transporte","Bolívar",13442,"María La Baja",null,"Transporte",9,null,null,null,null,null,null,null,null,null,null,null,null,null,null,null,null,null,null,null,null,null,null,null,null,null,null,null,null,null,null,null,null,"NO PDET",15664,"SAN JOSÉ DE PARE","BOYACÁ","Bajo",0,-2.0677654420995744,0]
[null,null,null,null,null,null,null,null,null,null,null,null,null,null,null,null,null,null,null,null,null,null,null,null,null,null,null,null,null,null,null,null,null,null,null,null,null,null,null,null,null,null,15667,"BOYACÁ","SAN LUIS DE GACENO","BOYACÁSAN LUIS DE GACENO","NO PDET",15667,null,null,null,{"$f":"+IF(Calificación!F421=\"\",\"\",VLOOKUP(Calificación!F421,Listas!$AX$3:$AY$19,2,FALSE))","v":""},null,null,"13442Justicia y del Derecho","Bolívar",13442,"María La Baja",null,"Justicia y del Derecho",10,null,null,null,null,null,null,null,null,null,null,null,null,null,null,null,null,null,null,null,null,null,null,null,null,null,null,null,null,null,null,null,null,"NO PDET",15667,"SAN LUIS DE GACENO","BOYACÁ","Bajo",0,-2.0677654420995744,0]
[null,null,null,null,null,null,null,null,null,null,null,null,null,null,null,null,null,null,null,null,null,null,null,null,null,null,null,null,null,null,null,null,null,null,null,null,null,null,null,null,null,null,15673,"BOYACÁ","SAN MATEO","BOYACÁSAN MATEO","NO PDET",15673,null,null,null,{"$f":"+IF(Calificación!F422=\"\",\"\",VLOOKUP(Calificación!F422,Listas!$AX$3:$AY$19,2,FALSE))","v":""},null,null,"13442Deporte Y Recreación","Bolívar",13442,"María La Baja",null,"Deporte Y Recreación",11,null,null,null,null,null,null,null,null,null,null,null,null,null,null,null,null,null,null,null,null,null,null,null,null,null,null,null,null,null,null,null,null,"NO PDET",15673,"SAN MATEO","BOYACÁ","Bajo",0,-2.0677654420995744,0]
[null,null,null,null,null,null,null,null,null,null,null,null,null,null,null,null,null,null,null,null,null,null,null,null,null,null,null,null,null,null,null,null,null,null,null,null,null,null,null,null,null,null,15676,"BOYACÁ","SAN MIGUEL DE SEMA","BOYACÁSAN MIGUEL DE SEMA","NO PDET",15676,null,null,null,{"$f":"+IF(Calificación!F423=\"\",\"\",VLOOKUP(Calificación!F423,Listas!$AX$3:$AY$19,2,FALSE))","v":""},null,null,"13442Cultura","Bolívar",13442,"María La Baja",null,"Cultura",12,null,null,null,null,null,null,null,null,null,null,null,null,null,null,null,null,null,null,null,null,null,null,null,null,null,null,null,null,null,null,null,null,"NO PDET",15676,"SAN MIGUEL DE SEMA","BOYACÁ","Bajo",0,-2.0677654420995744,0]
[null,null,null,null,null,null,null,null,null,null,null,null,null,null,null,null,null,null,null,null,null,null,null,null,null,null,null,null,null,null,null,null,null,null,null,null,null,null,null,null,null,null,15681,"BOYACÁ","SAN PABLO DE BORBUR","BOYACÁSAN PABLO DE BORBUR","NO PDET",15681,null,null,null,{"$f":"+IF(Calificación!F424=\"\",\"\",VLOOKUP(Calificación!F424,Listas!$AX$3:$AY$19,2,FALSE))","v":""},null,null,"13442Salud y Protección social","Bolívar",13442,"María La Baja",null,"Salud y Protección social",13,null,null,null,null,null,null,null,null,null,null,null,null,null,null,null,null,null,null,null,null,null,null,null,null,null,null,null,null,null,null,null,null,"NO PDET",15681,"SAN PABLO DE BORBUR","BOYACÁ","Medio Bajo",20,-1.2406592652597446,25]
[null,null,null,null,null,null,null,null,null,null,null,null,null,null,null,null,null,null,null,null,null,null,null,null,null,null,null,null,null,null,null,null,null,null,null,null,null,null,null,null,null,null,15690,"BOYACÁ","SANTA MARÍA","BOYACÁSANTA MARÍA","NO PDET",15690,null,null,null,{"$f":"+IF(Calificación!F425=\"\",\"\",VLOOKUP(Calificación!F425,Listas!$AX$3:$AY$19,2,FALSE))","v":""},null,null,"13442Ambiente y Desarrollo Sostenible","Bolívar",13442,"María La Baja",null,"Ambiente y Desarrollo Sostenible",14,null,null,null,null,null,null,null,null,null,null,null,null,null,null,null,null,null,null,null,null,null,null,null,null,null,null,null,null,null,null,null,null,"NO PDET",15690,"SANTA MARÍA","BOYACÁ","Medio Bajo",20,-1.2406592652597446,25]
[null,null,null,null,null,null,null,null,null,null,null,null,null,null,null,null,null,null,null,null,null,null,null,null,null,null,null,null,null,null,null,null,null,null,null,null,null,null,null,null,null,null,15693,"BOYACÁ","SANTA ROSA DE VITERBO","BOYACÁSANTA ROSA DE VITERBO","NO PDET",15693,null,null,null,{"$f":"+IF(Calificación!F426=\"\",\"\",VLOOKUP(Calificación!F426,Listas!$AX$3:$AY$19,2,FALSE))","v":""},null,null,"13473Minas y Energía","Bolívar",13473,"Morales",null,"Minas y Energía",1,null,null,null,null,null,null,null,null,null,null,null,null,null,null,null,null,null,null,null,null,null,null,null,null,null,null,null,null,null,null,null,null,"NO PDET",15693,"SANTA ROSA DE VITERBO","BOYACÁ","Bajo",0,-2.0677654420995744,0]
[null,null,null,null,null,null,null,null,null,null,null,null,null,null,null,null,null,null,null,null,null,null,null,null,null,null,null,null,null,null,null,null,null,null,null,null,null,null,null,null,null,null,15696,"BOYACÁ","SANTA SOFÍA","BOYACÁSANTA SOFÍA","NO PDET",15696,null,null,null,{"$f":"+IF(Calificación!F427=\"\",\"\",VLOOKUP(Calificación!F427,Listas!$AX$3:$AY$19,2,FALSE))","v":""},null,null,"13473Tecnologías de la Información y las Comunicaciones","Bolívar",13473,"Morales",null,"Tecnologías de la Información y las Comunicaciones",2,null,null,null,null,null,null,null,null,null,null,null,null,null,null,null,null,null,null,null,null,null,null,null,null,null,null,null,null,null,null,null,null,"NO PDET",15696,"SANTA SOFÍA","BOYACÁ","Medio Bajo",20,-1.2406592652597446,25]
[null,null,null,null,null,null,null,null,null,null,null,null,null,null,null,null,null,null,null,null,null,null,null,null,null,null,null,null,null,null,null,null,null,null,null,null,null,null,null,null,null,null,15686,"BOYACÁ","SANTANA","BOYACÁSANTANA","NO PDET",15686,null,null,null,{"$f":"+IF(Calificación!F428=\"\",\"\",VLOOKUP(Calificación!F428,Listas!$AX$3:$AY$19,2,FALSE))","v":""},null,null,"13473Desarrollo Económico","Bolívar",13473,"Morales",null,"Desarrollo Económico",3,null,null,null,null,null,null,null,null,null,null,null,null,null,null,null,null,null,null,null,null,null,null,null,null,null,null,null,null,null,null,null,null,"NO PDET",15686,"SANTANA","BOYACÁ","Medio Bajo",20,-1.2406592652597446,25]
[null,null,null,null,null,null,null,null,null,null,null,null,null,null,null,null,null,null,null,null,null,null,null,null,null,null,null,null,null,null,null,null,null,null,null,null,null,null,null,null,null,null,15720,"BOYACÁ","SATIVANORTE","BOYACÁSATIVANORTE","NO PDET",15720,null,null,null,{"$f":"+IF(Calificación!F429=\"\",\"\",VLOOKUP(Calificación!F429,Listas!$AX$3:$AY$19,2,FALSE))","v":""},null,null,"13473Vivienda, Ciudad Y Territorio","Bolívar",13473,"Morales",null,"Vivienda, Ciudad Y Territorio",4,null,null,null,null,null,null,null,null,null,null,null,null,null,null,null,null,null,null,null,null,null,null,null,null,null,null,null,null,null,null,null,null,"NO PDET",15720,"SATIVANORTE","BOYACÁ","Bajo",0,-2.0677654420995744,0]
[null,null,null,null,null,null,null,null,null,null,null,null,null,null,null,null,null,null,null,null,null,null,null,null,null,null,null,null,null,null,null,null,null,null,null,null,null,null,null,null,null,null,15723,"BOYACÁ","SATIVASUR","BOYACÁSATIVASUR","NO PDET",15723,null,null,null,{"$f":"+IF(Calificación!F430=\"\",\"\",VLOOKUP(Calificación!F430,Listas!$AX$3:$AY$19,2,FALSE))","v":""},null,null,"13473Inclusión Social Y Reconciliación","Bolívar",13473,"Morales",null,"Inclusión Social Y Reconciliación",5,null,null,null,null,null,null,null,null,null,null,null,null,null,null,null,null,null,null,null,null,null,null,null,null,null,null,null,null,null,null,null,null,"NO PDET",15723,"SATIVASUR","BOYACÁ","Bajo",0,-2.0677654420995744,0]
[null,null,null,null,null,null,null,null,null,null,null,null,null,null,null,null,null,null,null,null,null,null,null,null,null,null,null,null,null,null,null,null,null,null,null,null,null,null,null,null,null,null,15740,"BOYACÁ","SIACHOQUE","BOYACÁSIACHOQUE","NO PDET",15740,null,null,null,{"$f":"+IF(Calificación!F431=\"\",\"\",VLOOKUP(Calificación!F431,Listas!$AX$3:$AY$19,2,FALSE))","v":""},null,null,"13473Agricultura y desarrollo rural","Bolívar",13473,"Morales",null,"Agricultura y desarrollo rural",6,null,null,null,null,null,null,null,null,null,null,null,null,null,null,null,null,null,null,null,null,null,null,null,null,null,null,null,null,null,null,null,null,"NO PDET",15740,"SIACHOQUE","BOYACÁ","Bajo",0,-2.0677654420995744,0]
[null,null,null,null,null,null,null,null,null,null,null,null,null,null,null,null,null,null,null,null,null,null,null,null,null,null,null,null,null,null,null,null,null,null,null,null,null,null,null,null,null,null,15753,"BOYACÁ","SOATÁ","BOYACÁSOATÁ","NO PDET",15753,null,null,null,{"$f":"+IF(Calificación!F432=\"\",\"\",VLOOKUP(Calificación!F432,Listas!$AX$3:$AY$19,2,FALSE))","v":""},null,null,"13473Educación","Bolívar",13473,"Morales",null,"Educación",7,null,null,null,null,null,null,null,null,null,null,null,null,null,null,null,null,null,null,null,null,null,null,null,null,null,null,null,null,null,null,null,null,"NO PDET",15753,"SOATÁ","BOYACÁ","Medio Bajo",20,-1.2406592652597446,25]
[null,null,null,null,null,null,null,null,null,null,null,null,null,null,null,null,null,null,null,null,null,null,null,null,null,null,null,null,null,null,null,null,null,null,null,null,null,null,null,null,null,null,15757,"BOYACÁ","SOCHA","BOYACÁSOCHA","NO PDET",15757,null,null,null,{"$f":"+IF(Calificación!F433=\"\",\"\",VLOOKUP(Calificación!F433,Listas!$AX$3:$AY$19,2,FALSE))","v":""},null,null,"13473Gobierno territorial","Bolívar",13473,"Morales",null,"Gobierno territorial",8,null,null,null,null,null,null,null,null,null,null,null,null,null,null,null,null,null,null,null,null,null,null,null,null,null,null,null,null,null,null,null,null,"NO PDET",15757,"SOCHA","BOYACÁ","Bajo",0,-2.0677654420995744,0]
[null,null,null,null,null,null,null,null,null,null,null,null,null,null,null,null,null,null,null,null,null,null,null,null,null,null,null,null,null,null,null,null,null,null,null,null,null,null,null,null,null,null,15755,"BOYACÁ","SOCOTÁ","BOYACÁSOCOTÁ","NO PDET",15755,null,null,null,{"$f":"+IF(Calificación!F434=\"\",\"\",VLOOKUP(Calificación!F434,Listas!$AX$3:$AY$19,2,FALSE))","v":""},null,null,"13473Transporte","Bolívar",13473,"Morales",null,"Transporte",9,null,null,null,null,null,null,null,null,null,null,null,null,null,null,null,null,null,null,null,null,null,null,null,null,null,null,null,null,null,null,null,null,"NO PDET",15755,"SOCOTÁ","BOYACÁ","Medio Bajo",20,-1.2406592652597446,25]
[null,null,null,null,null,null,null,null,null,null,null,null,null,null,null,null,null,null,null,null,null,null,null,null,null,null,null,null,null,null,null,null,null,null,null,null,null,null,null,null,null,null,15759,"BOYACÁ","SOGAMOSO","BOYACÁSOGAMOSO","NO PDET",15759,null,null,null,{"$f":"+IF(Calificación!F435=\"\",\"\",VLOOKUP(Calificación!F435,Listas!$AX$3:$AY$19,2,FALSE))","v":""},null,null,"13473Justicia y del Derecho","Bolívar",13473,"Morales",null,"Justicia y del Derecho",10,null,null,null,null,null,null,null,null,null,null,null,null,null,null,null,null,null,null,null,null,null,null,null,null,null,null,null,null,null,null,null,null,"NO PDET",15759,"SOGAMOSO","BOYACÁ","Medio Bajo",20,-1.2406592652597446,25]
[null,null,null,null,null,null,null,null,null,null,null,null,null,null,null,null,null,null,null,null,null,null,null,null,null,null,null,null,null,null,null,null,null,null,null,null,null,null,null,null,null,null,15761,"BOYACÁ","SOMONDOCO","BOYACÁSOMONDOCO","NO PDET",15761,null,null,null,{"$f":"+IF(Calificación!F436=\"\",\"\",VLOOKUP(Calificación!F436,Listas!$AX$3:$AY$19,2,FALSE))","v":""},null,null,"13473Deporte Y Recreación","Bolívar",13473,"Morales",null,"Deporte Y Recreación",11,null,null,null,null,null,null,null,null,null,null,null,null,null,null,null,null,null,null,null,null,null,null,null,null,null,null,null,null,null,null,null,null,"NO PDET",15761,"SOMONDOCO","BOYACÁ","Bajo",0,-2.0677654420995744,0]
[null,null,null,null,null,null,null,null,null,null,null,null,null,null,null,null,null,null,null,null,null,null,null,null,null,null,null,null,null,null,null,null,null,null,null,null,null,null,null,null,null,null,15762,"BOYACÁ","SORA","BOYACÁSORA","NO PDET",15762,null,null,null,{"$f":"+IF(Calificación!F437=\"\",\"\",VLOOKUP(Calificación!F437,Listas!$AX$3:$AY$19,2,FALSE))","v":""},null,null,"13473Ambiente y Desarrollo Sostenible","Bolívar",13473,"Morales",null,"Ambiente y Desarrollo Sostenible",12,null,null,null,null,null,null,null,null,null,null,null,null,null,null,null,null,null,null,null,null,null,null,null,null,null,null,null,null,null,null,null,null,"NO PDET",15762,"SORA","BOYACÁ","Bajo",0,-2.0677654420995744,0]
[null,null,null,null,null,null,null,null,null,null,null,null,null,null,null,null,null,null,null,null,null,null,null,null,null,null,null,null,null,null,null,null,null,null,null,null,null,null,null,null,null,null,15764,"BOYACÁ","SORACÁ","BOYACÁSORACÁ","NO PDET",15764,null,null,null,{"$f":"+IF(Calificación!F438=\"\",\"\",VLOOKUP(Calificación!F438,Listas!$AX$3:$AY$19,2,FALSE))","v":""},null,null,"13473Salud y Protección social","Bolívar",13473,"Morales",null,"Salud y Protección social",13,null,null,null,null,null,null,null,null,null,null,null,null,null,null,null,null,null,null,null,null,null,null,null,null,null,null,null,null,null,null,null,null,"NO PDET",15764,"SORACÁ","BOYACÁ","Bajo",0,-2.0677654420995744,0]
[null,null,null,null,null,null,null,null,null,null,null,null,null,null,null,null,null,null,null,null,null,null,null,null,null,null,null,null,null,null,null,null,null,null,null,null,null,null,null,null,null,null,15763,"BOYACÁ","SOTAQUIRÁ","BOYACÁSOTAQUIRÁ","NO PDET",15763,null,null,null,{"$f":"+IF(Calificación!F439=\"\",\"\",VLOOKUP(Calificación!F439,Listas!$AX$3:$AY$19,2,FALSE))","v":""},null,null,"13473Cultura","Bolívar",13473,"Morales",null,"Cultura",14,null,null,null,null,null,null,null,null,null,null,null,null,null,null,null,null,null,null,null,null,null,null,null,null,null,null,null,null,null,null,null,null,"NO PDET",15763,"SOTAQUIRÁ","BOYACÁ","Bajo",0,-2.0677654420995744,0]
[null,null,null,null,null,null,null,null,null,null,null,null,null,null,null,null,null,null,null,null,null,null,null,null,null,null,null,null,null,null,null,null,null,null,null,null,null,null,null,null,null,null,15774,"BOYACÁ","SUSACÓN","BOYACÁSUSACÓN","NO PDET",15774,null,null,null,{"$f":"+IF(Calificación!F440=\"\",\"\",VLOOKUP(Calificación!F440,Listas!$AX$3:$AY$19,2,FALSE))","v":""},null,null,"13654Minas y Energía","Bolívar",13654,"San Jacinto",null,"Minas y Energía",1,null,null,null,null,null,null,null,null,null,null,null,null,null,null,null,null,null,null,null,null,null,null,null,null,null,null,null,null,null,null,null,null,"NO PDET",15774,"SUSACÓN","BOYACÁ","Bajo",0,-2.0677654420995744,0]
[null,null,null,null,null,null,null,null,null,null,null,null,null,null,null,null,null,null,null,null,null,null,null,null,null,null,null,null,null,null,null,null,null,null,null,null,null,null,null,null,null,null,15776,"BOYACÁ","SUTAMARCHÁN","BOYACÁSUTAMARCHÁN","NO PDET",15776,null,null,null,{"$f":"+IF(Calificación!F441=\"\",\"\",VLOOKUP(Calificación!F441,Listas!$AX$3:$AY$19,2,FALSE))","v":""},null,null,"13654Vivienda, Ciudad Y Territorio","Bolívar",13654,"San Jacinto",null,"Vivienda, Ciudad Y Territorio",2,null,null,null,null,null,null,null,null,null,null,null,null,null,null,null,null,null,null,null,null,null,null,null,null,null,null,null,null,null,null,null,null,"NO PDET",15776,"SUTAMARCHÁN","BOYACÁ","Bajo",0,-2.0677654420995744,0]
[null,null,null,null,null,null,null,null,null,null,null,null,null,null,null,null,null,null,null,null,null,null,null,null,null,null,null,null,null,null,null,null,null,null,null,null,null,null,null,null,null,null,15778,"BOYACÁ","SUTATENZA","BOYACÁSUTATENZA","NO PDET",15778,null,null,null,{"$f":"+IF(Calificación!F442=\"\",\"\",VLOOKUP(Calificación!F442,Listas!$AX$3:$AY$19,2,FALSE))","v":""},null,null,"13654Tecnologías de la Información y las Comunicaciones","Bolívar",13654,"San Jacinto",null,"Tecnologías de la Información y las Comunicaciones",3,null,null,null,null,null,null,null,null,null,null,null,null,null,null,null,null,null,null,null,null,null,null,null,null,null,null,null,null,null,null,null,null,"NO PDET",15778,"SUTATENZA","BOYACÁ","Medio Bajo",20,-1.2406592652597446,25]
[null,null,null,null,null,null,null,null,null,null,null,null,null,null,null,null,null,null,null,null,null,null,null,null,null,null,null,null,null,null,null,null,null,null,null,null,null,null,null,null,null,null,15790,"BOYACÁ","TASCO","BOYACÁTASCO","NO PDET",15790,null,null,null,{"$f":"+IF(Calificación!F443=\"\",\"\",VLOOKUP(Calificación!F443,Listas!$AX$3:$AY$19,2,FALSE))","v":""},null,null,"13654Desarrollo Económico","Bolívar",13654,"San Jacinto",null,"Desarrollo Económico",4,null,null,null,null,null,null,null,null,null,null,null,null,null,null,null,null,null,null,null,null,null,null,null,null,null,null,null,null,null,null,null,null,"NO PDET",15790,"TASCO","BOYACÁ","Medio Bajo",20,-1.2406592652597446,25]
[null,null,null,null,null,null,null,null,null,null,null,null,null,null,null,null,null,null,null,null,null,null,null,null,null,null,null,null,null,null,null,null,null,null,null,null,null,null,null,null,null,null,15798,"BOYACÁ","TENZA","BOYACÁTENZA","NO PDET",15798,null,null,null,{"$f":"+IF(Calificación!F444=\"\",\"\",VLOOKUP(Calificación!F444,Listas!$AX$3:$AY$19,2,FALSE))","v":""},null,null,"13654Agricultura y desarrollo rural","Bolívar",13654,"San Jacinto",null,"Agricultura y desarrollo rural",5,null,null,null,null,null,null,null,null,null,null,null,null,null,null,null,null,null,null,null,null,null,null,null,null,null,null,null,null,null,null,null,null,"NO PDET",15798,"TENZA","BOYACÁ","Bajo",0,-2.0677654420995744,0]
[null,null,null,null,null,null,null,null,null,null,null,null,null,null,null,null,null,null,null,null,null,null,null,null,null,null,null,null,null,null,null,null,null,null,null,null,null,null,null,null,null,null,15804,"BOYACÁ","TIBANÁ","BOYACÁTIBANÁ","NO PDET",15804,null,null,null,{"$f":"+IF(Calificación!F445=\"\",\"\",VLOOKUP(Calificación!F445,Listas!$AX$3:$AY$19,2,FALSE))","v":""},null,null,"13654Educación","Bolívar",13654,"San Jacinto",null,"Educación",6,null,null,null,null,null,null,null,null,null,null,null,null,null,null,null,null,null,null,null,null,null,null,null,null,null,null,null,null,null,null,null,null,"NO PDET",15804,"TIBANÁ","BOYACÁ","Bajo",0,-2.0677654420995744,0]
[null,null,null,null,null,null,null,null,null,null,null,null,null,null,null,null,null,null,null,null,null,null,null,null,null,null,null,null,null,null,null,null,null,null,null,null,null,null,null,null,null,null,15806,"BOYACÁ","TIBASOSA","BOYACÁTIBASOSA","NO PDET",15806,null,null,null,{"$f":"+IF(Calificación!F446=\"\",\"\",VLOOKUP(Calificación!F446,Listas!$AX$3:$AY$19,2,FALSE))","v":""},null,null,"13654Inclusión Social Y Reconciliación","Bolívar",13654,"San Jacinto",null,"Inclusión Social Y Reconciliación",7,null,null,null,null,null,null,null,null,null,null,null,null,null,null,null,null,null,null,null,null,null,null,null,null,null,null,null,null,null,null,null,null,"NO PDET",15806,"TIBASOSA","BOYACÁ","Bajo",0,-2.0677654420995744,0]
[null,null,null,null,null,null,null,null,null,null,null,null,null,null,null,null,null,null,null,null,null,null,null,null,null,null,null,null,null,null,null,null,null,null,null,null,null,null,null,null,null,null,15808,"BOYACÁ","TINJACÁ","BOYACÁTINJACÁ","NO PDET",15808,null,null,null,{"$f":"+IF(Calificación!F447=\"\",\"\",VLOOKUP(Calificación!F447,Listas!$AX$3:$AY$19,2,FALSE))","v":""},null,null,"13654Transporte","Bolívar",13654,"San Jacinto",null,"Transporte",8,null,null,null,null,null,null,null,null,null,null,null,null,null,null,null,null,null,null,null,null,null,null,null,null,null,null,null,null,null,null,null,null,"NO PDET",15808,"TINJACÁ","BOYACÁ","Bajo",0,-2.0677654420995744,0]
[null,null,null,null,null,null,null,null,null,null,null,null,null,null,null,null,null,null,null,null,null,null,null,null,null,null,null,null,null,null,null,null,null,null,null,null,null,null,null,null,null,null,15810,"BOYACÁ","TIPACOQUE","BOYACÁTIPACOQUE","NO PDET",15810,null,null,null,{"$f":"+IF(Calificación!F448=\"\",\"\",VLOOKUP(Calificación!F448,Listas!$AX$3:$AY$19,2,FALSE))","v":""},null,null,"13654Gobierno territorial","Bolívar",13654,"San Jacinto",null,"Gobierno territorial",9,null,null,null,null,null,null,null,null,null,null,null,null,null,null,null,null,null,null,null,null,null,null,null,null,null,null,null,null,null,null,null,null,"NO PDET",15810,"TIPACOQUE","BOYACÁ","Bajo",0,-2.0677654420995744,0]
[null,null,null,null,null,null,null,null,null,null,null,null,null,null,null,null,null,null,null,null,null,null,null,null,null,null,null,null,null,null,null,null,null,null,null,null,null,null,null,null,null,null,15814,"BOYACÁ","TOCA","BOYACÁTOCA","NO PDET",15814,null,null,null,{"$f":"+IF(Calificación!F449=\"\",\"\",VLOOKUP(Calificación!F449,Listas!$AX$3:$AY$19,2,FALSE))","v":""},null,null,"13654Justicia y del Derecho","Bolívar",13654,"San Jacinto",null,"Justicia y del Derecho",10,null,null,null,null,null,null,null,null,null,null,null,null,null,null,null,null,null,null,null,null,null,null,null,null,null,null,null,null,null,null,null,null,"NO PDET",15814,"TOCA","BOYACÁ","Bajo",0,-2.0677654420995744,0]
[null,null,null,null,null,null,null,null,null,null,null,null,null,null,null,null,null,null,null,null,null,null,null,null,null,null,null,null,null,null,null,null,null,null,null,null,null,null,null,null,null,null,15816,"BOYACÁ","TOGÜÍ","BOYACÁTOGÜÍ","NO PDET",15816,null,null,null,{"$f":"+IF(Calificación!F450=\"\",\"\",VLOOKUP(Calificación!F450,Listas!$AX$3:$AY$19,2,FALSE))","v":""},null,null,"13654Deporte Y Recreación","Bolívar",13654,"San Jacinto",null,"Deporte Y Recreación",11,null,null,null,null,null,null,null,null,null,null,null,null,null,null,null,null,null,null,null,null,null,null,null,null,null,null,null,null,null,null,null,null,"NO PDET",15816,"TOGÜÍ","BOYACÁ","Medio Bajo",20,-1.2406592652597446,25]
[null,null,null,null,null,null,null,null,null,null,null,null,null,null,null,null,null,null,null,null,null,null,null,null,null,null,null,null,null,null,null,null,null,null,null,null,null,null,null,null,null,null,15820,"BOYACÁ","TÓPAGA","BOYACÁTÓPAGA","NO PDET",15820,null,null,null,{"$f":"+IF(Calificación!F451=\"\",\"\",VLOOKUP(Calificación!F451,Listas!$AX$3:$AY$19,2,FALSE))","v":""},null,null,"13654Cultura","Bolívar",13654,"San Jacinto",null,"Cultura",12,null,null,null,null,null,null,null,null,null,null,null,null,null,null,null,null,null,null,null,null,null,null,null,null,null,null,null,null,null,null,null,null,"NO PDET",15820,"TÓPAGA","BOYACÁ","Medio Bajo",20,-1.2406592652597446,25]
[null,null,null,null,null,null,null,null,null,null,null,null,null,null,null,null,null,null,null,null,null,null,null,null,null,null,null,null,null,null,null,null,null,null,null,null,null,null,null,null,null,null,15822,"BOYACÁ","TOTA","BOYACÁTOTA","NO PDET",15822,null,null,null,{"$f":"+IF(Calificación!F452=\"\",\"\",VLOOKUP(Calificación!F452,Listas!$AX$3:$AY$19,2,FALSE))","v":""},null,null,"13654Salud y Protección social","Bolívar",13654,"San Jacinto",null,"Salud y Protección social",13,null,null,null,null,null,null,null,null,null,null,null,null,null,null,null,null,null,null,null,null,null,null,null,null,null,null,null,null,null,null,null,null,"NO PDET",15822,"TOTA","BOYACÁ","Bajo",0,-2.0677654420995744,0]
[null,null,null,null,null,null,null,null,null,null,null,null,null,null,null,null,null,null,null,null,null,null,null,null,null,null,null,null,null,null,null,null,null,null,null,null,null,null,null,null,null,null,15001,"BOYACÁ","TUNJA","BOYACÁTUNJA","NO PDET",15001,null,null,null,{"$f":"+IF(Calificación!F453=\"\",\"\",VLOOKUP(Calificación!F453,Listas!$AX$3:$AY$19,2,FALSE))","v":""},null,null,"13654Ambiente y Desarrollo Sostenible","Bolívar",13654,"San Jacinto",null,"Ambiente y Desarrollo Sostenible",14,null,null,null,null,null,null,null,null,null,null,null,null,null,null,null,null,null,null,null,null,null,null,null,null,null,null,null,null,null,null,null,null,"NO PDET",15001,"TUNJA","BOYACÁ","Medio Bajo",20,-1.2406592652597446,25]
[null,null,null,null,null,null,null,null,null,null,null,null,null,null,null,null,null,null,null,null,null,null,null,null,null,null,null,null,null,null,null,null,null,null,null,null,null,null,null,null,null,null,15832,"BOYACÁ","TUNUNGUÁ","BOYACÁTUNUNGUÁ","NO PDET",15832,null,null,null,{"$f":"+IF(Calificación!F454=\"\",\"\",VLOOKUP(Calificación!F454,Listas!$AX$3:$AY$19,2,FALSE))","v":""},null,null,"13657Vivienda, Ciudad Y Territorio","Bolívar",13657,"San Juan Nepomuceno",null,"Vivienda, Ciudad Y Territorio",1,null,null,null,null,null,null,null,null,null,null,null,null,null,null,null,null,null,null,null,null,null,null,null,null,null,null,null,null,null,null,null,null,"NO PDET",15832,"TUNUNGUÁ","BOYACÁ","Bajo",0,-2.0677654420995744,0]
[null,null,null,null,null,null,null,null,null,null,null,null,null,null,null,null,null,null,null,null,null,null,null,null,null,null,null,null,null,null,null,null,null,null,null,null,null,null,null,null,null,null,15835,"BOYACÁ","TURMEQUÉ",{"$f":"+AR452&AS452","v":"BOYACÁTURMEQUÉ"},"NO PDET",15835,null,null,null,{"$f":"+IF(Calificación!F455=\"\",\"\",VLOOKUP(Calificación!F455,Listas!$AX$3:$AY$19,2,FALSE))","v":""},null,null,{"$f":"+BE452&BH452","v":"13657Minas y Energía"},"Bolívar",13657,"San Juan Nepomuceno",null,"Minas y Energía",2,null,null,null,null,null,null,null,null,null,null,null,null,null,null,null,null,null,null,null,null,null,null,null,null,null,null,null,null,null,null,null,null,"NO PDET",15835,"TURMEQUÉ","BOYACÁ","Bajo",{"$f":"+VLOOKUP(CT452,$CY$3:$CZ$7,2,FALSE)","v":0},{"$f":"+(CU452-AVERAGE(CU$3:CU$172))/STDEVP(CU$3:CU$172)","v":-2.0677654420995744},{"$f":"(+(CV452-MIN(CV$3:CV$172))/(MAX(CV$3:CV$172)-MIN(CV$3:CV$172)))*100","v":0}]
[null,null,null,null,null,null,null,null,null,null,null,null,null,null,null,null,null,null,null,null,null,null,null,null,null,null,null,null,null,null,null,null,null,null,null,null,null,null,null,null,null,null,15837,"BOYACÁ","TUTA","BOYACÁTUTA","NO PDET",15837,null,null,null,{"$f":"+IF(Calificación!F456=\"\",\"\",VLOOKUP(Calificación!F456,Listas!$AX$3:$AY$19,2,FALSE))","v":""},null,null,"13657Tecnologías de la Información y las Comunicaciones","Bolívar",13657,"San Juan Nepomuceno",null,"Tecnologías de la Información y las Comunicaciones",3,null,null,null,null,null,null,null,null,null,null,null,null,null,null,null,null,null,null,null,null,null,null,null,null,null,null,null,null,null,null,null,null,"NO PDET",15837,"TUTA","BOYACÁ","Bajo",0,-2.0677654420995744,0]
[null,null,null,null,null,null,null,null,null,null,null,null,null,null,null,null,null,null,null,null,null,null,null,null,null,null,null,null,null,null,null,null,null,null,null,null,null,null,null,null,null,null,15839,"BOYACÁ","TUTAZÁ","BOYACÁTUTAZÁ","NO PDET",15839,null,null,null,{"$f":"+IF(Calificación!F457=\"\",\"\",VLOOKUP(Calificación!F457,Listas!$AX$3:$AY$19,2,FALSE))","v":""},null,null,"13657Desarrollo Económico","Bolívar",13657,"San Juan Nepomuceno",null,"Desarrollo Económico",4,null,null,null,null,null,null,null,null,null,null,null,null,null,null,null,null,null,null,null,null,null,null,null,null,null,null,null,null,null,null,null,null,"NO PDET",15839,"TUTAZÁ","BOYACÁ","Bajo",0,-2.0677654420995744,0]
[null,null,null,null,null,null,null,null,null,null,null,null,null,null,null,null,null,null,null,null,null,null,null,null,null,null,null,null,null,null,null,null,null,null,null,null,null,null,null,null,null,null,15842,"BOYACÁ","ÚMBITA","BOYACÁÚMBITA","NO PDET",15842,null,null,null,{"$f":"+IF(Calificación!F458=\"\",\"\",VLOOKUP(Calificación!F458,Listas!$AX$3:$AY$19,2,FALSE))","v":""},null,null,"13657Agricultura y desarrollo rural","Bolívar",13657,"San Juan Nepomuceno",null,"Agricultura y desarrollo rural",5,null,null,null,null,null,null,null,null,null,null,null,null,null,null,null,null,null,null,null,null,null,null,null,null,null,null,null,null,null,null,null,null,"NO PDET",15842,"ÚMBITA","BOYACÁ","Bajo",0,-2.0677654420995744,0]
[null,null,null,null,null,null,null,null,null,null,null,null,null,null,null,null,null,null,null,null,null,null,null,null,null,null,null,null,null,null,null,null,null,null,null,null,null,null,null,null,null,null,15861,"BOYACÁ","VENTAQUEMADA","BOYACÁVENTAQUEMADA","NO PDET",15861,null,null,null,{"$f":"+IF(Calificación!F459=\"\",\"\",VLOOKUP(Calificación!F459,Listas!$AX$3:$AY$19,2,FALSE))","v":""},null,null,"13657Educación","Bolívar",13657,"San Juan Nepomuceno",null,"Educación",6,null,null,null,null,null,null,null,null,null,null,null,null,null,null,null,null,null,null,null,null,null,null,null,null,null,null,null,null,null,null,null,null,"NO PDET",15861,"VENTAQUEMADA","BOYACÁ","Medio Bajo",20,-1.2406592652597446,25]
[null,null,null,null,null,null,null,null,null,null,null,null,null,null,null,null,null,null,null,null,null,null,null,null,null,null,null,null,null,null,null,null,null,null,null,null,null,null,null,null,null,null,15407,"BOYACÁ","VILLA DE LEYVA","BOYACÁVILLA DE LEYVA","NO PDET",15407,null,null,null,{"$f":"+IF(Calificación!F460=\"\",\"\",VLOOKUP(Calificación!F460,Listas!$AX$3:$AY$19,2,FALSE))","v":""},null,null,"13657Inclusión Social Y Reconciliación","Bolívar",13657,"San Juan Nepomuceno",null,"Inclusión Social Y Reconciliación",7,null,null,null,null,null,null,null,null,null,null,null,null,null,null,null,null,null,null,null,null,null,null,null,null,null,null,null,null,null,null,null,null,"NO PDET",15407,"VILLA DE LEYVA","BOYACÁ","Medio Bajo",20,-1.2406592652597446,25]
[null,null,null,null,null,null,null,null,null,null,null,null,null,null,null,null,null,null,null,null,null,null,null,null,null,null,null,null,null,null,null,null,null,null,null,null,null,null,null,null,null,null,15879,"BOYACÁ","VIRACACHÁ","BOYACÁVIRACACHÁ","NO PDET",15879,null,null,null,{"$f":"+IF(Calificación!F461=\"\",\"\",VLOOKUP(Calificación!F461,Listas!$AX$3:$AY$19,2,FALSE))","v":""},null,null,"13657Transporte","Bolívar",13657,"San Juan Nepomuceno",null,"Transporte",8,null,null,null,null,null,null,null,null,null,null,null,null,null,null,null,null,null,null,null,null,null,null,null,null,null,null,null,null,null,null,null,null,"NO PDET",15879,"VIRACACHÁ","BOYACÁ","Bajo",0,-2.0677654420995744,0]
[null,null,null,null,null,null,null,null,null,null,null,null,null,null,null,null,null,null,null,null,null,null,null,null,null,null,null,null,null,null,null,null,null,null,null,null,null,null,null,null,null,null,15897,"BOYACÁ","ZETAQUIRA","BOYACÁZETAQUIRA","NO PDET",15897,null,null,null,{"$f":"+IF(Calificación!F462=\"\",\"\",VLOOKUP(Calificación!F462,Listas!$AX$3:$AY$19,2,FALSE))","v":""},null,null,"13657Gobierno territorial","Bolívar",13657,"San Juan Nepomuceno",null,"Gobierno territorial",9,null,null,null,null,null,null,null,null,null,null,null,null,null,null,null,null,null,null,null,null,null,null,null,null,null,null,null,null,null,null,null,null,"NO PDET",15897,"ZETAQUIRA","BOYACÁ","Bajo",0,-2.0677654420995744,0]
[null,null,null,null,null,null,null,null,null,null,null,null,null,null,null,null,null,null,null,null,null,null,null,null,null,null,null,null,null,null,null,null,null,null,null,null,null,null,null,null,null,null,17013,"CALDAS","AGUADAS","CALDASAGUADAS","NO PDET",17013,null,null,null,{"$f":"+IF(Calificación!F463=\"\",\"\",VLOOKUP(Calificación!F463,Listas!$AX$3:$AY$19,2,FALSE))","v":""},null,null,"13657Justicia y del Derecho","Bolívar",13657,"San Juan Nepomuceno",null,"Justicia y del Derecho",10,null,null,null,null,null,null,null,null,null,null,null,null,null,null,null,null,null,null,null,null,null,null,null,null,null,null,null,null,null,null,null,null,"NO PDET",17013,"AGUADAS","CALDAS","Medio",40,-0.41355308841991484,50]
[null,null,null,null,null,null,null,null,null,null,null,null,null,null,null,null,null,null,null,null,null,null,null,null,null,null,null,null,null,null,null,null,null,null,null,null,null,null,null,null,null,null,17042,"CALDAS","ANSERMA","CALDASANSERMA","NO PDET",17042,null,null,null,{"$f":"+IF(Calificación!F464=\"\",\"\",VLOOKUP(Calificación!F464,Listas!$AX$3:$AY$19,2,FALSE))","v":""},null,null,"13657Deporte Y Recreación","Bolívar",13657,"San Juan Nepomuceno",null,"Deporte Y Recreación",11,null,null,null,null,null,null,null,null,null,null,null,null,null,null,null,null,null,null,null,null,null,null,null,null,null,null,null,null,null,null,null,null,"NO PDET",17042,"ANSERMA","CALDAS","Medio Bajo",20,-1.2406592652597446,25]
[null,null,null,null,null,null,null,null,null,null,null,null,null,null,null,null,null,null,null,null,null,null,null,null,null,null,null,null,null,null,null,null,null,null,null,null,null,null,null,null,null,null,17050,"CALDAS","ARANZAZU","CALDASARANZAZU","NO PDET",17050,null,null,null,{"$f":"+IF(Calificación!F465=\"\",\"\",VLOOKUP(Calificación!F465,Listas!$AX$3:$AY$19,2,FALSE))","v":""},null,null,"13657Cultura","Bolívar",13657,"San Juan Nepomuceno",null,"Cultura",12,null,null,null,null,null,null,null,null,null,null,null,null,null,null,null,null,null,null,null,null,null,null,null,null,null,null,null,null,null,null,null,null,"NO PDET",17050,"ARANZAZU","CALDAS","Medio Bajo",20,-1.2406592652597446,25]
[null,null,null,null,null,null,null,null,null,null,null,null,null,null,null,null,null,null,null,null,null,null,null,null,null,null,null,null,null,null,null,null,null,null,null,null,null,null,null,null,null,null,17088,"CALDAS","BELALCÁZAR","CALDASBELALCÁZAR","NO PDET",17088,null,null,null,{"$f":"+IF(Calificación!F466=\"\",\"\",VLOOKUP(Calificación!F466,Listas!$AX$3:$AY$19,2,FALSE))","v":""},null,null,"13657Salud y Protección social","Bolívar",13657,"San Juan Nepomuceno",null,"Salud y Protección social",13,null,null,null,null,null,null,null,null,null,null,null,null,null,null,null,null,null,null,null,null,null,null,null,null,null,null,null,null,null,null,null,null,"NO PDET",17088,"BELALCÁZAR","CALDAS","Medio Bajo",20,-1.2406592652597446,25]
[null,null,null,null,null,null,null,null,null,null,null,null,null,null,null,null,null,null,null,null,null,null,null,null,null,null,null,null,null,null,null,null,null,null,null,null,null,null,null,null,null,null,17174,"CALDAS","CHINCHINÁ","CALDASCHINCHINÁ","NO PDET",17174,null,null,null,{"$f":"+IF(Calificación!F467=\"\",\"\",VLOOKUP(Calificación!F467,Listas!$AX$3:$AY$19,2,FALSE))","v":""},null,null,"13657Ambiente y Desarrollo Sostenible","Bolívar",13657,"San Juan Nepomuceno",null,"Ambiente y Desarrollo Sostenible",14,null,null,null,null,null,null,null,null,null,null,null,null,null,null,null,null,null,null,null,null,null,null,null,null,null,null,null,null,null,null,null,null,"NO PDET",17174,"CHINCHINÁ","CALDAS","Medio Bajo",20,-1.2406592652597446,25]
[null,null,null,null,null,null,null,null,null,null,null,null,null,null,null,null,null,null,null,null,null,null,null,null,null,null,null,null,null,null,null,null,null,null,null,null,null,null,null,null,null,null,17272,"CALDAS","FILADELFIA","CALDASFILADELFIA","NO PDET",17272,null,null,null,{"$f":"+IF(Calificación!F468=\"\",\"\",VLOOKUP(Calificación!F468,Listas!$AX$3:$AY$19,2,FALSE))","v":""},null,null,"13670Desarrollo Económico","Bolívar",13670,"San Pablo",null,"Desarrollo Económico",1,null,null,null,null,null,null,null,null,null,null,null,null,null,null,null,null,null,null,null,null,null,null,null,null,null,null,null,null,null,null,null,null,"NO PDET",17272,"FILADELFIA","CALDAS","Medio Bajo",20,-1.2406592652597446,25]
[null,null,null,null,null,null,null,null,null,null,null,null,null,null,null,null,null,null,null,null,null,null,null,null,null,null,null,null,null,null,null,null,null,null,null,null,null,null,null,null,null,null,17380,"CALDAS","LA DORADA","CALDASLA DORADA","NO PDET",17380,null,null,null,{"$f":"+IF(Calificación!F469=\"\",\"\",VLOOKUP(Calificación!F469,Listas!$AX$3:$AY$19,2,FALSE))","v":""},null,null,"13670Tecnologías de la Información y las Comunicaciones","Bolívar",13670,"San Pablo",null,"Tecnologías de la Información y las Comunicaciones",2,null,null,null,null,null,null,null,null,null,null,null,null,null,null,null,null,null,null,null,null,null,null,null,null,null,null,null,null,null,null,null,null,"NO PDET",17380,"LA DORADA","CALDAS","Medio Bajo",20,-1.2406592652597446,25]
[null,null,null,null,null,null,null,null,null,null,null,null,null,null,null,null,null,null,null,null,null,null,null,null,null,null,null,null,null,null,null,null,null,null,null,null,null,null,null,null,null,null,17388,"CALDAS","LA MERCED","CALDASLA MERCED","NO PDET",17388,null,null,null,{"$f":"+IF(Calificación!F470=\"\",\"\",VLOOKUP(Calificación!F470,Listas!$AX$3:$AY$19,2,FALSE))","v":""},null,null,"13670Vivienda, Ciudad Y Territorio","Bolívar",13670,"San Pablo",null,"Vivienda, Ciudad Y Territorio",3,null,null,null,null,null,null,null,null,null,null,null,null,null,null,null,null,null,null,null,null,null,null,null,null,null,null,null,null,null,null,null,null,"NO PDET",17388,"LA MERCED","CALDAS","Bajo",0,-2.0677654420995744,0]
[null,null,null,null,null,null,null,null,null,null,null,null,null,null,null,null,null,null,null,null,null,null,null,null,null,null,null,null,null,null,null,null,null,null,null,null,null,null,null,null,null,null,17001,"CALDAS","MANIZALES","CALDASMANIZALES","NO PDET",17001,null,null,null,{"$f":"+IF(Calificación!F471=\"\",\"\",VLOOKUP(Calificación!F471,Listas!$AX$3:$AY$19,2,FALSE))","v":""},null,null,"13670Agricultura y desarrollo rural","Bolívar",13670,"San Pablo",null,"Agricultura y desarrollo rural",4,null,null,null,null,null,null,null,null,null,null,null,null,null,null,null,null,null,null,null,null,null,null,null,null,null,null,null,null,null,null,null,null,"NO PDET",17001,"MANIZALES","CALDAS","Medio Bajo",20,-1.2406592652597446,25]
[null,null,null,null,null,null,null,null,null,null,null,null,null,null,null,null,null,null,null,null,null,null,null,null,null,null,null,null,null,null,null,null,null,null,null,null,null,null,null,null,null,null,17433,"CALDAS","MANZANARES","CALDASMANZANARES","NO PDET",17433,null,null,null,{"$f":"+IF(Calificación!F472=\"\",\"\",VLOOKUP(Calificación!F472,Listas!$AX$3:$AY$19,2,FALSE))","v":""},null,null,"13670Educación","Bolívar",13670,"San Pablo",null,"Educación",5,null,null,null,null,null,null,null,null,null,null,null,null,null,null,null,null,null,null,null,null,null,null,null,null,null,null,null,null,null,null,null,null,"NO PDET",17433,"MANZANARES","CALDAS","Medio Bajo",20,-1.2406592652597446,25]
[null,null,null,null,null,null,null,null,null,null,null,null,null,null,null,null,null,null,null,null,null,null,null,null,null,null,null,null,null,null,null,null,null,null,null,null,null,null,null,null,null,null,17442,"CALDAS","MARMATO","CALDASMARMATO","NO PDET",17442,null,null,null,{"$f":"+IF(Calificación!F473=\"\",\"\",VLOOKUP(Calificación!F473,Listas!$AX$3:$AY$19,2,FALSE))","v":""},null,null,"13670Inclusión Social Y Reconciliación","Bolívar",13670,"San Pablo",null,"Inclusión Social Y Reconciliación",6,null,null,null,null,null,null,null,null,null,null,null,null,null,null,null,null,null,null,null,null,null,null,null,null,null,null,null,null,null,null,null,null,"NO PDET",17442,"MARMATO","CALDAS","Medio Bajo",20,-1.2406592652597446,25]
[null,null,null,null,null,null,null,null,null,null,null,null,null,null,null,null,null,null,null,null,null,null,null,null,null,null,null,null,null,null,null,null,null,null,null,null,null,null,null,null,null,null,17444,"CALDAS","MARQUETALIA","CALDASMARQUETALIA","NO PDET",17444,null,null,null,{"$f":"+IF(Calificación!F474=\"\",\"\",VLOOKUP(Calificación!F474,Listas!$AX$3:$AY$19,2,FALSE))","v":""},null,null,"13670Minas y Energía","Bolívar",13670,"San Pablo",null,"Minas y Energía",7,null,null,null,null,null,null,null,null,null,null,null,null,null,null,null,null,null,null,null,null,null,null,null,null,null,null,null,null,null,null,null,null,"NO PDET",17444,"MARQUETALIA","CALDAS","Medio Bajo",20,-1.2406592652597446,25]
[null,null,null,null,null,null,null,null,null,null,null,null,null,null,null,null,null,null,null,null,null,null,null,null,null,null,null,null,null,null,null,null,null,null,null,null,null,null,null,null,null,null,17446,"CALDAS","MARULANDA","CALDASMARULANDA","NO PDET",17446,null,null,null,{"$f":"+IF(Calificación!F475=\"\",\"\",VLOOKUP(Calificación!F475,Listas!$AX$3:$AY$19,2,FALSE))","v":""},null,null,"13670Gobierno territorial","Bolívar",13670,"San Pablo",null,"Gobierno territorial",8,null,null,null,null,null,null,null,null,null,null,null,null,null,null,null,null,null,null,null,null,null,null,null,null,null,null,null,null,null,null,null,null,"NO PDET",17446,"MARULANDA","CALDAS","Medio Bajo",20,-1.2406592652597446,25]
[null,null,null,null,null,null,null,null,null,null,null,null,null,null,null,null,null,null,null,null,null,null,null,null,null,null,null,null,null,null,null,null,null,null,null,null,null,null,null,null,null,null,17486,"CALDAS","NEIRA","CALDASNEIRA","NO PDET",17486,null,null,null,{"$f":"+IF(Calificación!F476=\"\",\"\",VLOOKUP(Calificación!F476,Listas!$AX$3:$AY$19,2,FALSE))","v":""},null,null,"13670Transporte","Bolívar",13670,"San Pablo",null,"Transporte",9,null,null,null,null,null,null,null,null,null,null,null,null,null,null,null,null,null,null,null,null,null,null,null,null,null,null,null,null,null,null,null,null,"NO PDET",17486,"NEIRA","CALDAS","Medio Bajo",20,-1.2406592652597446,25]
[null,null,null,null,null,null,null,null,null,null,null,null,null,null,null,null,null,null,null,null,null,null,null,null,null,null,null,null,null,null,null,null,null,null,null,null,null,null,null,null,null,null,17495,"CALDAS","NORCASIA","CALDASNORCASIA","NO PDET",17495,null,null,null,{"$f":"+IF(Calificación!F477=\"\",\"\",VLOOKUP(Calificación!F477,Listas!$AX$3:$AY$19,2,FALSE))","v":""},null,null,"13670Justicia y del Derecho","Bolívar",13670,"San Pablo",null,"Justicia y del Derecho",10,null,null,null,null,null,null,null,null,null,null,null,null,null,null,null,null,null,null,null,null,null,null,null,null,null,null,null,null,null,null,null,null,"NO PDET",17495,"NORCASIA","CALDAS","Bajo",0,-2.0677654420995744,0]
[null,null,null,null,null,null,null,null,null,null,null,null,null,null,null,null,null,null,null,null,null,null,null,null,null,null,null,null,null,null,null,null,null,null,null,null,null,null,null,null,null,null,17513,"CALDAS","PÁCORA","CALDASPÁCORA","NO PDET",17513,null,null,null,{"$f":"+IF(Calificación!F478=\"\",\"\",VLOOKUP(Calificación!F478,Listas!$AX$3:$AY$19,2,FALSE))","v":""},null,null,"13670Deporte Y Recreación","Bolívar",13670,"San Pablo",null,"Deporte Y Recreación",11,null,null,null,null,null,null,null,null,null,null,null,null,null,null,null,null,null,null,null,null,null,null,null,null,null,null,null,null,null,null,null,null,"NO PDET",17513,"PÁCORA","CALDAS","Medio Bajo",20,-1.2406592652597446,25]
[null,null,null,null,null,null,null,null,null,null,null,null,null,null,null,null,null,null,null,null,null,null,null,null,null,null,null,null,null,null,null,null,null,null,null,null,null,null,null,null,null,null,17524,"CALDAS","PALESTINA","CALDASPALESTINA","NO PDET",17524,null,null,null,{"$f":"+IF(Calificación!F479=\"\",\"\",VLOOKUP(Calificación!F479,Listas!$AX$3:$AY$19,2,FALSE))","v":""},null,null,"13670Cultura","Bolívar",13670,"San Pablo",null,"Cultura",12,null,null,null,null,null,null,null,null,null,null,null,null,null,null,null,null,null,null,null,null,null,null,null,null,null,null,null,null,null,null,null,null,"NO PDET",17524,"PALESTINA","CALDAS","Medio Bajo",20,-1.2406592652597446,25]
[null,null,null,null,null,null,null,null,null,null,null,null,null,null,null,null,null,null,null,null,null,null,null,null,null,null,null,null,null,null,null,null,null,null,null,null,null,null,null,null,null,null,17541,"CALDAS","PENSILVANIA","CALDASPENSILVANIA","NO PDET",17541,null,null,null,{"$f":"+IF(Calificación!F480=\"\",\"\",VLOOKUP(Calificación!F480,Listas!$AX$3:$AY$19,2,FALSE))","v":""},null,null,"13670Ambiente y Desarrollo Sostenible","Bolívar",13670,"San Pablo",null,"Ambiente y Desarrollo Sostenible",13,null,null,null,null,null,null,null,null,null,null,null,null,null,null,null,null,null,null,null,null,null,null,null,null,null,null,null,null,null,null,null,null,"NO PDET",17541,"PENSILVANIA","CALDAS","Medio Bajo",20,-1.2406592652597446,25]
[null,null,null,null,null,null,null,null,null,null,null,null,null,null,null,null,null,null,null,null,null,null,null,null,null,null,null,null,null,null,null,null,null,null,null,null,null,null,null,null,null,null,17614,"CALDAS","RIOSUCIO","CALDASRIOSUCIO","NO PDET",17614,null,null,null,{"$f":"+IF(Calificación!F481=\"\",\"\",VLOOKUP(Calificación!F481,Listas!$AX$3:$AY$19,2,FALSE))","v":""},null,null,"13670Salud y Protección social","Bolívar",13670,"San Pablo",null,"Salud y Protección social",14,null,null,null,null,null,null,null,null,null,null,null,null,null,null,null,null,null,null,null,null,null,null,null,null,null,null,null,null,null,null,null,null,"NO PDET",17614,"RIOSUCIO","CALDAS","Bajo",0,-2.0677654420995744,0]
[null,null,null,null,null,null,null,null,null,null,null,null,null,null,null,null,null,null,null,null,null,null,null,null,null,null,null,null,null,null,null,null,null,null,null,null,null,null,null,null,null,null,17616,"CALDAS","RISARALDA","CALDASRISARALDA","NO PDET",17616,null,null,null,{"$f":"+IF(Calificación!F482=\"\",\"\",VLOOKUP(Calificación!F482,Listas!$AX$3:$AY$19,2,FALSE))","v":""},null,null,"13688Tecnologías de la Información y las Comunicaciones","Bolívar",13688,"Santa Rosa del Sur",null,"Tecnologías de la Información y las Comunicaciones",1,null,null,null,null,null,null,null,null,null,null,null,null,null,null,null,null,null,null,null,null,null,null,null,null,null,null,null,null,null,null,null,null,"NO PDET",17616,"RISARALDA","CALDAS","Medio",40,-0.41355308841991484,50]
[null,null,null,null,null,null,null,null,null,null,null,null,null,null,null,null,null,null,null,null,null,null,null,null,null,null,null,null,null,null,null,null,null,null,null,null,null,null,null,null,null,null,17653,"CALDAS","SALAMINA","CALDASSALAMINA","NO PDET",17653,null,null,null,{"$f":"+IF(Calificación!F483=\"\",\"\",VLOOKUP(Calificación!F483,Listas!$AX$3:$AY$19,2,FALSE))","v":""},null,null,"13688Minas y Energía","Bolívar",13688,"Santa Rosa del Sur",null,"Minas y Energía",2,null,null,null,null,null,null,null,null,null,null,null,null,null,null,null,null,null,null,null,null,null,null,null,null,null,null,null,null,null,null,null,null,"NO PDET",17653,"SALAMINA","CALDAS","Medio Bajo",20,-1.2406592652597446,25]
[null,null,null,null,null,null,null,null,null,null,null,null,null,null,null,null,null,null,null,null,null,null,null,null,null,null,null,null,null,null,null,null,null,null,null,null,null,null,null,null,null,null,17662,"CALDAS","SAMANÁ","CALDASSAMANÁ","NO PDET",17662,null,null,null,{"$f":"+IF(Calificación!F484=\"\",\"\",VLOOKUP(Calificación!F484,Listas!$AX$3:$AY$19,2,FALSE))","v":""},null,null,"13688Vivienda, Ciudad Y Territorio","Bolívar",13688,"Santa Rosa del Sur",null,"Vivienda, Ciudad Y Territorio",3,null,null,null,null,null,null,null,null,null,null,null,null,null,null,null,null,null,null,null,null,null,null,null,null,null,null,null,null,null,null,null,null,"NO PDET",17662,"SAMANÁ","CALDAS","Medio Bajo",20,-1.2406592652597446,25]
[null,null,null,null,null,null,null,null,null,null,null,null,null,null,null,null,null,null,null,null,null,null,null,null,null,null,null,null,null,null,null,null,null,null,null,null,null,null,null,null,null,null,17665,"CALDAS","SAN JOSÉ","CALDASSAN JOSÉ","NO PDET",17665,null,null,null,{"$f":"+IF(Calificación!F485=\"\",\"\",VLOOKUP(Calificación!F485,Listas!$AX$3:$AY$19,2,FALSE))","v":""},null,null,"13688Agricultura y desarrollo rural","Bolívar",13688,"Santa Rosa del Sur",null,"Agricultura y desarrollo rural",4,null,null,null,null,null,null,null,null,null,null,null,null,null,null,null,null,null,null,null,null,null,null,null,null,null,null,null,null,null,null,null,null,"NO PDET",17665,"SAN JOSÉ","CALDAS","Medio Bajo",20,-1.2406592652597446,25]
[null,null,null,null,null,null,null,null,null,null,null,null,null,null,null,null,null,null,null,null,null,null,null,null,null,null,null,null,null,null,null,null,null,null,null,null,null,null,null,null,null,null,17777,"CALDAS","SUPÍA","CALDASSUPÍA","NO PDET",17777,null,null,null,{"$f":"+IF(Calificación!F486=\"\",\"\",VLOOKUP(Calificación!F486,Listas!$AX$3:$AY$19,2,FALSE))","v":""},null,null,"13688Desarrollo Económico","Bolívar",13688,"Santa Rosa del Sur",null,"Desarrollo Económico",5,null,null,null,null,null,null,null,null,null,null,null,null,null,null,null,null,null,null,null,null,null,null,null,null,null,null,null,null,null,null,null,null,"NO PDET",17777,"SUPÍA","CALDAS","Medio Bajo",20,-1.2406592652597446,25]
[null,null,null,null,null,null,null,null,null,null,null,null,null,null,null,null,null,null,null,null,null,null,null,null,null,null,null,null,null,null,null,null,null,null,null,null,null,null,null,null,null,null,17867,"CALDAS","VICTORIA","CALDASVICTORIA","NO PDET",17867,null,null,null,{"$f":"+IF(Calificación!F487=\"\",\"\",VLOOKUP(Calificación!F487,Listas!$AX$3:$AY$19,2,FALSE))","v":""},null,null,"13688Educación","Bolívar",13688,"Santa Rosa del Sur",null,"Educación",6,null,null,null,null,null,null,null,null,null,null,null,null,null,null,null,null,null,null,null,null,null,null,null,null,null,null,null,null,null,null,null,null,"NO PDET",17867,"VICTORIA","CALDAS","Medio Bajo",20,-1.2406592652597446,25]
[null,null,null,null,null,null,null,null,null,null,null,null,null,null,null,null,null,null,null,null,null,null,null,null,null,null,null,null,null,null,null,null,null,null,null,null,null,null,null,null,null,null,17873,"CALDAS","VILLAMARÍA","CALDASVILLAMARÍA","NO PDET",17873,null,null,null,{"$f":"+IF(Calificación!F488=\"\",\"\",VLOOKUP(Calificación!F488,Listas!$AX$3:$AY$19,2,FALSE))","v":""},null,null,"13688Inclusión Social Y Reconciliación","Bolívar",13688,"Santa Rosa del Sur",null,"Inclusión Social Y Reconciliación",7,null,null,null,null,null,null,null,null,null,null,null,null,null,null,null,null,null,null,null,null,null,null,null,null,null,null,null,null,null,null,null,null,"NO PDET",17873,"VILLAMARÍA","CALDAS","Medio Bajo",20,-1.2406592652597446,25]
[null,null,null,null,null,null,null,null,null,null,null,null,null,null,null,null,null,null,null,null,null,null,null,null,null,null,null,null,null,null,null,null,null,null,null,null,null,null,null,null,null,null,17877,"CALDAS","VITERBO","CALDASVITERBO","NO PDET",17877,null,null,null,{"$f":"+IF(Calificación!F489=\"\",\"\",VLOOKUP(Calificación!F489,Listas!$AX$3:$AY$19,2,FALSE))","v":""},null,null,"13688Transporte","Bolívar",13688,"Santa Rosa del Sur",null,"Transporte",8,null,null,null,null,null,null,null,null,null,null,null,null,null,null,null,null,null,null,null,null,null,null,null,null,null,null,null,null,null,null,null,null,"NO PDET",17877,"VITERBO","CALDAS","Medio Bajo",20,-1.2406592652597446,25]
[null,null,null,null,null,null,null,null,null,null,null,null,null,null,null,null,null,null,null,null,null,null,null,null,null,null,null,null,null,null,null,null,null,null,null,null,null,null,null,null,null,null,85010,"CASANARE","AGUAZUL","CASANAREAGUAZUL","NO PDET",85010,null,null,null,{"$f":"+IF(Calificación!F490=\"\",\"\",VLOOKUP(Calificación!F490,Listas!$AX$3:$AY$19,2,FALSE))","v":""},null,null,"13688Justicia y del Derecho","Bolívar",13688,"Santa Rosa del Sur",null,"Justicia y del Derecho",9,null,null,null,null,null,null,null,null,null,null,null,null,null,null,null,null,null,null,null,null,null,null,null,null,null,null,null,null,null,null,null,null,"NO PDET",85010,"AGUAZUL","CASANARE","Medio Bajo",20,-1.2406592652597446,25]
[null,null,null,null,null,null,null,null,null,null,null,null,null,null,null,null,null,null,null,null,null,null,null,null,null,null,null,null,null,null,null,null,null,null,null,null,null,null,null,null,null,null,85015,"CASANARE","CHÁMEZA","CASANARECHÁMEZA","NO PDET",85015,null,null,null,{"$f":"+IF(Calificación!F491=\"\",\"\",VLOOKUP(Calificación!F491,Listas!$AX$3:$AY$19,2,FALSE))","v":""},null,null,"13688Gobierno territorial","Bolívar",13688,"Santa Rosa del Sur",null,"Gobierno territorial",10,null,null,null,null,null,null,null,null,null,null,null,null,null,null,null,null,null,null,null,null,null,null,null,null,null,null,null,null,null,null,null,null,"NO PDET",85015,"CHÁMEZA","CASANARE","Bajo",0,-2.0677654420995744,0]
[null,null,null,null,null,null,null,null,null,null,null,null,null,null,null,null,null,null,null,null,null,null,null,null,null,null,null,null,null,null,null,null,null,null,null,null,null,null,null,null,null,null,85125,"CASANARE","HATO COROZAL","CASANAREHATO COROZAL","NO PDET",85125,null,null,null,{"$f":"+IF(Calificación!F492=\"\",\"\",VLOOKUP(Calificación!F492,Listas!$AX$3:$AY$19,2,FALSE))","v":""},null,null,"13688Deporte Y Recreación","Bolívar",13688,"Santa Rosa del Sur",null,"Deporte Y Recreación",11,null,null,null,null,null,null,null,null,null,null,null,null,null,null,null,null,null,null,null,null,null,null,null,null,null,null,null,null,null,null,null,null,"NO PDET",85125,"HATO COROZAL","CASANARE","Medio Bajo",20,-1.2406592652597446,25]
[null,null,null,null,null,null,null,null,null,null,null,null,null,null,null,null,null,null,null,null,null,null,null,null,null,null,null,null,null,null,null,null,null,null,null,null,null,null,null,null,null,null,85136,"CASANARE","LA SALINA","CASANARELA SALINA","NO PDET",85136,null,null,null,{"$f":"+IF(Calificación!F493=\"\",\"\",VLOOKUP(Calificación!F493,Listas!$AX$3:$AY$19,2,FALSE))","v":""},null,null,"13688Cultura","Bolívar",13688,"Santa Rosa del Sur",null,"Cultura",12,null,null,null,null,null,null,null,null,null,null,null,null,null,null,null,null,null,null,null,null,null,null,null,null,null,null,null,null,null,null,null,null,"NO PDET",85136,"LA SALINA","CASANARE","Medio Bajo",20,-1.2406592652597446,25]
[null,null,null,null,null,null,null,null,null,null,null,null,null,null,null,null,null,null,null,null,null,null,null,null,null,null,null,null,null,null,null,null,null,null,null,null,null,null,null,null,null,null,85139,"CASANARE","MANÍ","CASANAREMANÍ","NO PDET",85139,null,null,null,{"$f":"+IF(Calificación!F494=\"\",\"\",VLOOKUP(Calificación!F494,Listas!$AX$3:$AY$19,2,FALSE))","v":""},null,null,"13688Salud y Protección social","Bolívar",13688,"Santa Rosa del Sur",null,"Salud y Protección social",13,null,null,null,null,null,null,null,null,null,null,null,null,null,null,null,null,null,null,null,null,null,null,null,null,null,null,null,null,null,null,null,null,"NO PDET",85139,"MANÍ","CASANARE","Medio Bajo",20,-1.2406592652597446,25]
[null,null,null,null,null,null,null,null,null,null,null,null,null,null,null,null,null,null,null,null,null,null,null,null,null,null,null,null,null,null,null,null,null,null,null,null,null,null,null,null,null,null,85162,"CASANARE","MONTERREY","CASANAREMONTERREY","NO PDET",85162,null,null,null,{"$f":"+IF(Calificación!F495=\"\",\"\",VLOOKUP(Calificación!F495,Listas!$AX$3:$AY$19,2,FALSE))","v":""},null,null,"13688Ambiente y Desarrollo Sostenible","Bolívar",13688,"Santa Rosa del Sur",null,"Ambiente y Desarrollo Sostenible",14,null,null,null,null,null,null,null,null,null,null,null,null,null,null,null,null,null,null,null,null,null,null,null,null,null,null,null,null,null,null,null,null,"NO PDET",85162,"MONTERREY","CASANARE","Bajo",0,-2.0677654420995744,0]
[null,null,null,null,null,null,null,null,null,null,null,null,null,null,null,null,null,null,null,null,null,null,null,null,null,null,null,null,null,null,null,null,null,null,null,null,null,null,null,null,null,null,85225,"CASANARE","NUNCHÍA","CASANARENUNCHÍA","NO PDET",85225,null,null,null,{"$f":"+IF(Calificación!F496=\"\",\"\",VLOOKUP(Calificación!F496,Listas!$AX$3:$AY$19,2,FALSE))","v":""},null,null,"13744Minas y Energía","Bolívar",13744,"Simití",null,"Minas y Energía",1,null,null,null,null,null,null,null,null,null,null,null,null,null,null,null,null,null,null,null,null,null,null,null,null,null,null,null,null,null,null,null,null,"NO PDET",85225,"NUNCHÍA","CASANARE","Medio Bajo",20,-1.2406592652597446,25]
[null,null,null,null,null,null,null,null,null,null,null,null,null,null,null,null,null,null,null,null,null,null,null,null,null,null,null,null,null,null,null,null,null,null,null,null,null,null,null,null,null,null,85230,"CASANARE","OROCUÉ","CASANAREOROCUÉ","NO PDET",85230,null,null,null,{"$f":"+IF(Calificación!F497=\"\",\"\",VLOOKUP(Calificación!F497,Listas!$AX$3:$AY$19,2,FALSE))","v":""},null,null,"13744Vivienda, Ciudad Y Territorio","Bolívar",13744,"Simití",null,"Vivienda, Ciudad Y Territorio",2,null,null,null,null,null,null,null,null,null,null,null,null,null,null,null,null,null,null,null,null,null,null,null,null,null,null,null,null,null,null,null,null,"NO PDET",85230,"OROCUÉ","CASANARE","Medio Bajo",20,-1.2406592652597446,25]
[null,null,null,null,null,null,null,null,null,null,null,null,null,null,null,null,null,null,null,null,null,null,null,null,null,null,null,null,null,null,null,null,null,null,null,null,null,null,null,null,null,null,85250,"CASANARE","PAZ DE ARIPORO","CASANAREPAZ DE ARIPORO","NO PDET",85250,null,null,null,{"$f":"+IF(Calificación!F498=\"\",\"\",VLOOKUP(Calificación!F498,Listas!$AX$3:$AY$19,2,FALSE))","v":""},null,null,"13744Desarrollo Económico","Bolívar",13744,"Simití",null,"Desarrollo Económico",3,null,null,null,null,null,null,null,null,null,null,null,null,null,null,null,null,null,null,null,null,null,null,null,null,null,null,null,null,null,null,null,null,"NO PDET",85250,"PAZ DE ARIPORO","CASANARE","Medio Bajo",20,-1.2406592652597446,25]
[null,null,null,null,null,null,null,null,null,null,null,null,null,null,null,null,null,null,null,null,null,null,null,null,null,null,null,null,null,null,null,null,null,null,null,null,null,null,null,null,null,null,85263,"CASANARE","PORE","CASANAREPORE","NO PDET",85263,null,null,null,{"$f":"+IF(Calificación!F499=\"\",\"\",VLOOKUP(Calificación!F499,Listas!$AX$3:$AY$19,2,FALSE))","v":""},null,null,"13744Tecnologías de la Información y las Comunicaciones","Bolívar",13744,"Simití",null,"Tecnologías de la Información y las Comunicaciones",4,null,null,null,null,null,null,null,null,null,null,null,null,null,null,null,null,null,null,null,null,null,null,null,null,null,null,null,null,null,null,null,null,"NO PDET",85263,"PORE","CASANARE","Medio Bajo",20,-1.2406592652597446,25]
[null,null,null,null,null,null,null,null,null,null,null,null,null,null,null,null,null,null,null,null,null,null,null,null,null,null,null,null,null,null,null,null,null,null,null,null,null,null,null,null,null,null,85279,"CASANARE","RECETOR","CASANARERECETOR","NO PDET",85279,null,null,null,{"$f":"+IF(Calificación!F500=\"\",\"\",VLOOKUP(Calificación!F500,Listas!$AX$3:$AY$19,2,FALSE))","v":""},null,null,"13744Educación","Bolívar",13744,"Simití",null,"Educación",5,null,null,null,null,null,null,null,null,null,null,null,null,null,null,null,null,null,null,null,null,null,null,null,null,null,null,null,null,null,null,null,null,"NO PDET",85279,"RECETOR","CASANARE","Bajo",0,-2.0677654420995744,0]
[null,null,null,null,null,null,null,null,null,null,null,null,null,null,null,null,null,null,null,null,null,null,null,null,null,null,null,null,null,null,null,null,null,null,null,null,null,null,null,null,null,null,85300,"CASANARE","SABANALARGA","CASANARESABANALARGA","NO PDET",85300,null,null,null,{"$f":"+IF(Calificación!F501=\"\",\"\",VLOOKUP(Calificación!F501,Listas!$AX$3:$AY$19,2,FALSE))","v":""},null,null,"13744Inclusión Social Y Reconciliación","Bolívar",13744,"Simití",null,"Inclusión Social Y Reconciliación",6,null,null,null,null,null,null,null,null,null,null,null,null,null,null,null,null,null,null,null,null,null,null,null,null,null,null,null,null,null,null,null,null,"NO PDET",85300,"SABANALARGA","CASANARE","Medio Bajo",20,-1.2406592652597446,25]
[null,null,null,null,null,null,null,null,null,null,null,null,null,null,null,null,null,null,null,null,null,null,null,null,null,null,null,null,null,null,null,null,null,null,null,null,null,null,null,null,null,null,85315,"CASANARE","SÁCAMA","CASANARESÁCAMA","NO PDET",85315,null,null,null,{"$f":"+IF(Calificación!F502=\"\",\"\",VLOOKUP(Calificación!F502,Listas!$AX$3:$AY$19,2,FALSE))","v":""},null,null,"13744Agricultura y desarrollo rural","Bolívar",13744,"Simití",null,"Agricultura y desarrollo rural",7,null,null,null,null,null,null,null,null,null,null,null,null,null,null,null,null,null,null,null,null,null,null,null,null,null,null,null,null,null,null,null,null,"NO PDET",85315,"SÁCAMA","CASANARE","Medio Bajo",20,-1.2406592652597446,25]
[null,null,null,null,null,null,null,null,null,null,null,null,null,null,null,null,null,null,null,null,null,null,null,null,null,null,null,null,null,null,null,null,null,null,null,null,null,null,null,null,null,null,85325,"CASANARE","SAN LUIS DE PALENQUE","CASANARESAN LUIS DE PALENQUE","NO PDET",85325,null,null,null,{"$f":"+IF(Calificación!F503=\"\",\"\",VLOOKUP(Calificación!F503,Listas!$AX$3:$AY$19,2,FALSE))","v":""},null,null,"13744Transporte","Bolívar",13744,"Simití",null,"Transporte",8,null,null,null,null,null,null,null,null,null,null,null,null,null,null,null,null,null,null,null,null,null,null,null,null,null,null,null,null,null,null,null,null,"NO PDET",85325,"SAN LUIS DE PALENQUE","CASANARE","Medio Bajo",20,-1.2406592652597446,25]
[null,null,null,null,null,null,null,null,null,null,null,null,null,null,null,null,null,null,null,null,null,null,null,null,null,null,null,null,null,null,null,null,null,null,null,null,null,null,null,null,null,null,19701,"CAUCA","SANTA ROSA","CAUCASANTA ROSA","NO PDET",19701,null,null,null,{"$f":"+IF(Calificación!F524=\"\",\"\",VLOOKUP(Calificación!F524,Listas!$AX$3:$AY$19,2,FALSE))","v":""},null,null,"18001Desarrollo Económico","Caquetá",18001,"Florencia",null,"Desarrollo Económico",1,null,null,null,null,null,null,null,null,null,null,null,null,null,null,null,null,null,null,null,null,null,null,null,null,null,null,null,null,null,null,null,null,"NO PDET",19701,"SANTA ROSA","CAUCA","Medio Bajo",20,-1.2406592652597446,25]
[null,null,null,null,null,null,null,null,null,null,null,null,null,null,null,null,null,null,null,null,null,null,null,null,null,null,null,null,null,null,null,null,null,null,null,null,null,null,null,null,null,null,27050,"CHOCÓ","ATRATO","CHOCÓATRATO","NO PDET",27050,null,null,null,{"$f":"+IF(Calificación!F549=\"\",\"\",VLOOKUP(Calificación!F549,Listas!$AX$3:$AY$19,2,FALSE))","v":""},null,null,"18029Cultura","Caquetá",18029,"Albania",null,"Cultura",12,null,null,null,null,null,null,null,null,null,null,null,null,null,null,null,null,null,null,null,null,null,null,null,null,null,null,null,null,null,null,null,null,"NO PDET",27050,"ATRATO","CHOCÓ","Alto",60,0.41355308841991484,74.999999999999986]
[null,null,null,null,null,null,null,null,null,null,null,null,null,null,null,null,null,null,null,null,null,null,null,null,null,null,null,null,null,null,null,null,null,null,null,null,null,null,null,null,null,null,23350,"CÓRDOBA","LA APARTADA","CÓRDOBALA APARTADA","NO PDET",23350,null,null,null,{"$f":"+IF(Calificación!F574=\"\",\"\",VLOOKUP(Calificación!F574,Listas!$AX$3:$AY$19,2,FALSE))","v":""},null,null,"18150Ambiente y Desarrollo Sostenible","Caquetá",18150,"Cartagena del Chairá",null,"Ambiente y Desarrollo Sostenible",9,null,null,null,null,null,null,null,null,null,null,null,null,null,null,null,null,null,null,null,null,null,null,null,null,null,null,null,null,null,null,null,null,"NO PDET",23350,"LA APARTADA","CÓRDOBA","Alto",60,0.41355308841991484,74.999999999999986]
[null,null,null,null,null,null,null,null,null,null,null,null,null,null,null,null,null,null,null,null,null,null,null,null,null,null,null,null,null,null,null,null,null,null,null,null,null,null,null,null,null,null,25040,"CUNDINAMARCA","ANOLAIMA","CUNDINAMARCAANOLAIMA","NO PDET",25040,null,null,null,{"$f":"+IF(Calificación!F594=\"\",\"\",VLOOKUP(Calificación!F594,Listas!$AX$3:$AY$19,2,FALSE))","v":""},null,null,"18247Tecnologías de la Información y las Comunicaciones","Caquetá",18247,"El Doncello",null,"Tecnologías de la Información y las Comunicaciones",1,null,null,null,null,null,null,null,null,null,null,null,null,null,null,null,null,null,null,null,null,null,null,null,null,null,null,null,null,null,null,null,null,"NO PDET",25040,"ANOLAIMA","CUNDINAMARCA","Bajo",0,-2.0677654420995744,0]
[null,null,null,null,null,null,null,null,null,null,null,null,null,null,null,null,null,null,null,null,null,null,null,null,null,null,null,null,null,null,null,null,null,null,null,null,null,null,null,null,null,null,25377,"CUNDINAMARCA","LA CALERA","CUNDINAMARCALA CALERA","NO PDET",25377,null,null,null,{"$f":"+IF(Calificación!F639=\"\",\"\",VLOOKUP(Calificación!F639,Listas!$AX$3:$AY$19,2,FALSE))","v":""},null,null,"18460Inclusión Social Y Reconciliación","Caquetá",18460,"Milán",null,"Inclusión Social Y Reconciliación",4,null,null,null,null,null,null,null,null,null,null,null,null,null,null,null,null,null,null,null,null,null,null,null,null,null,null,null,null,null,null,null,null,"NO PDET",25377,"LA CALERA","CUNDINAMARCA","Medio Bajo",20,-1.2406592652597446,25]
[null,null,null,null,null,null,null,null,null,null,null,null,null,null,null,null,null,null,null,null,null,null,null,null,null,null,null,null,null,null,null,null,null,null,null,null,null,null,null,null,null,null,25518,"CUNDINAMARCA","PAIME","CUNDINAMARCAPAIME","NO PDET",25518,null,null,null,{"$f":"+IF(Calificación!F656=\"\",\"\",VLOOKUP(Calificación!F656,Listas!$AX$3:$AY$19,2,FALSE))","v":""},null,null,"18479Minas y Energía","Caquetá",18479,"Morelia",null,"Minas y Energía",7,null,null,null,null,null,null,null,null,null,null,null,null,null,null,null,null,null,null,null,null,null,null,null,null,null,null,null,null,null,null,null,null,"NO PDET",25518,"PAIME","CUNDINAMARCA","Bajo",0,-2.0677654420995744,0]
[null,null,null,null,null,null,null,null,null,null,null,null,null,null,null,null,null,null,null,null,null,null,null,null,null,null,null,null,null,null,null,null,null,null,null,null,null,null,null,null,null,null,25793,"CUNDINAMARCA","TAUSA","CUNDINAMARCATAUSA","NO PDET",25793,null,null,null,{"$f":"+IF(Calificación!F684=\"\",\"\",VLOOKUP(Calificación!F684,Listas!$AX$3:$AY$19,2,FALSE))","v":""},null,null,"18610Minas y Energía","Caquetá",18610,"San José del Fragua",null,"Minas y Energía",7,null,null,null,null,null,null,null,null,null,null,null,null,null,null,null,null,null,null,null,null,null,null,null,null,null,null,null,null,null,null,null,null,"NO PDET",25793,"TAUSA","CUNDINAMARCA","Bajo",0,-2.0677654420995744,0]
[null,null,null,null,null,null,null,null,null,null,null,null,null,null,null,null,null,null,null,null,null,null,null,null,null,null,null,null,null,null,null,null,null,null,null,null,null,null,null,null,null,null,41668,"HUILA","SAN AGUSTÍN","HUILASAN AGUSTÍN","NO PDET",41668,null,null,null,{"$f":"+IF(Calificación!F735=\"\",\"\",VLOOKUP(Calificación!F735,Listas!$AX$3:$AY$19,2,FALSE))","v":""},null,null,"18860Transporte","Caquetá",18860,"Valparaíso",null,"Transporte",2,null,null,null,null,null,null,null,null,null,null,null,null,null,null,null,null,null,null,null,null,null,null,null,null,null,null,null,null,null,null,null,null,"NO PDET",41668,"SAN AGUSTÍN","HUILA","Medio Bajo",20,-1.2406592652597446,25]
[null,null,null,null,null,null,null,null,null,null,null,null,null,null,null,null,null,null,null,null,null,null,null,null,null,null,null,null,null,null,null,null,null,null,null,null,null,null,null,null,null,null,47161,"MAGDALENA","CERRO DE SAN ANTONIO","MAGDALENACERRO DE SAN ANTONIO","NO PDET",47161,null,null,null,{"$f":"+IF(Calificación!F759=\"\",\"\",VLOOKUP(Calificación!F759,Listas!$AX$3:$AY$19,2,FALSE))","v":""},null,null,"19050Deporte Y Recreación","Cauca",19050,"Argelia",null,"Deporte Y Recreación",12,null,null,null,null,null,null,null,null,null,null,null,null,null,null,null,null,null,null,null,null,null,null,null,null,null,null,null,null,null,null,null,null,"NO PDET",47161,"CERRO DE SAN ANTONIO","MAGDALENA","Bajo",0,-2.0677654420995744,0]
[null,null,null,null,null,null,null,null,null,null,null,null,null,null,null,null,null,null,null,null,null,null,null,null,null,null,null,null,null,null,null,null,null,null,null,null,null,null,null,null,null,null,47675,"MAGDALENA","SALAMINA","MAGDALENASALAMINA","NO PDET",47675,null,null,null,{"$f":"+IF(Calificación!F774=\"\",\"\",VLOOKUP(Calificación!F774,Listas!$AX$3:$AY$19,2,FALSE))","v":""},null,null,"19075Ambiente y Desarrollo Sostenible","Cauca",19075,"Balboa",null,"Ambiente y Desarrollo Sostenible",13,null,null,null,null,null,null,null,null,null,null,null,null,null,null,null,null,null,null,null,null,null,null,null,null,null,null,null,null,null,null,null,null,"NO PDET",47675,"SALAMINA","MAGDALENA","Bajo",0,-2.0677654420995744,0]
[null,null,null,null,null,null,null,null,null,null,null,null,null,null,null,null,null,null,null,null,null,null,null,null,null,null,null,null,null,null,null,null,null,null,null,null,null,null,null,null,null,null,52254,"NARIÑO","EL PEÑOL","NARIÑOEL PEÑOL","NO PDET",52254,null,null,null,{"$f":"+IF(Calificación!F817=\"\",\"\",VLOOKUP(Calificación!F817,Listas!$AX$3:$AY$19,2,FALSE))","v":""},null,null,"19137Salud y Protección social","Cauca",19137,"Caldono",null,"Salud y Protección social",14,null,null,null,null,null,null,null,null,null,null,null,null,null,null,null,null,null,null,null,null,null,null,null,null,null,null,null,null,null,null,null,null,"NO PDET",52254,"EL PEÑOL","NARIÑO","Medio",40,-0.41355308841991484,50]
[null,null,null,null,null,null,null,null,null,null,null,null,null,null,null,null,null,null,null,null,null,null,null,null,null,null,null,null,null,null,null,null,null,null,null,null,null,null,null,null,null,null,52788,"NARIÑO","TANGUA","NARIÑOTANGUA","NO PDET",52788,null,null,null,{"$f":"+IF(Calificación!F849=\"\",\"\",VLOOKUP(Calificación!F849,Listas!$AX$3:$AY$19,2,FALSE))","v":""},null,null,"19256Vivienda, Ciudad Y Territorio","Cauca",19256,"El Tambo",null,"Vivienda, Ciudad Y Territorio",4,null,null,null,null,null,null,null,null,null,null,null,null,null,null,null,null,null,null,null,null,null,null,null,null,null,null,null,null,null,null,null,null,"NO PDET",52788,"TANGUA","NARIÑO","Medio Bajo",20,-1.2406592652597446,25]
[null,null,null,null,null,null,null,null,null,null,null,null,null,null,null,null,null,null,null,null,null,null,null,null,null,null,null,null,null,null,null,null,null,null,null,null,null,null,null,null,null,null,54377,"Norte_de_Santander","LABATECA","Norte_de_SantanderLABATECA","NO PDET",54377,null,null,null,{"$f":"+IF(Calificación!F867=\"\",\"\",VLOOKUP(Calificación!F867,Listas!$AX$3:$AY$19,2,FALSE))","v":""},null,null,"19318Gobierno territorial","Cauca",19318,"Guapi",null,"Gobierno territorial",8,null,null,null,null,null,null,null,null,null,null,null,null,null,null,null,null,null,null,null,null,null,null,null,null,null,null,null,null,null,null,null,null,"NO PDET",54377,"LABATECA","NORTE DE SANTANDER","Medio Bajo",20,-1.2406592652597446,25]
[null,null,null,null,null,null,null,null,null,null,null,null,null,null,null,null,null,null,null,null,null,null,null,null,null,null,null,null,null,null,null,null,null,null,null,null,null,null,null,null,null,null,66456,"RISARALDA","MISTRATÓ","RISARALDAMISTRATÓ","NO PDET",66456,null,null,null,{"$f":"+IF(Calificación!F908=\"\",\"\",VLOOKUP(Calificación!F908,Listas!$AX$3:$AY$19,2,FALSE))","v":""},null,null,"19450Inclusión Social Y Reconciliación","Cauca",19450,"Mercaderes",null,"Inclusión Social Y Reconciliación",7,null,null,null,null,null,null,null,null,null,null,null,null,null,null,null,null,null,null,null,null,null,null,null,null,null,null,null,null,null,null,null,null,"NO PDET",66456,"MISTRATÓ","RISARALDA","Medio Bajo",20,-1.2406592652597446,25]
[null,null,null,null,null,null,null,null,null,null,null,null,null,null,null,null,null,null,null,null,null,null,null,null,null,null,null,null,null,null,null,null,null,null,null,null,null,null,null,null,null,null,68235,"SANTANDER","EL CARMEN DE CHUCURÍ","SANTANDEREL CARMEN DE CHUCURÍ","NO PDET",68235,null,null,null,{"$f":"+IF(Calificación!F939=\"\",\"\",VLOOKUP(Calificación!F939,Listas!$AX$3:$AY$19,2,FALSE))","v":""},null,null,"19473Justicia y del Derecho","Cauca",19473,"Morales",null,"Justicia y del Derecho",10,null,null,null,null,null,null,null,null,null,null,null,null,null,null,null,null,null,null,null,null,null,null,null,null,null,null,null,null,null,null,null,null,"NO PDET",68235,"EL CARMEN DE CHUCURÍ","SANTANDER","Medio Bajo",20,-1.2406592652597446,25]
[null,null,null,null,null,null,null,null,null,null,null,null,null,null,null,null,null,null,null,null,null,null,null,null,null,null,null,null,null,null,null,null,null,null,null,null,null,null,null,null,null,null,68307,"SANTANDER","GIRÓN","SANTANDERGIRÓN","NO PDET",68307,null,null,null,{"$f":"+IF(Calificación!F949=\"\",\"\",VLOOKUP(Calificación!F949,Listas!$AX$3:$AY$19,2,FALSE))","v":""},null,null,"19532Transporte","Cauca",19532,"Patía",null,"Transporte",6,null,null,null,null,null,null,null,null,null,null,null,null,null,null,null,null,null,null,null,null,null,null,null,null,null,null,null,null,null,null,null,null,"NO PDET",68307,"GIRÓN","SANTANDER","Medio Bajo",20,-1.2406592652597446,25]
[null,null,null,null,null,null,null,null,null,null,null,null,null,null,null,null,null,null,null,null,null,null,null,null,null,null,null,null,null,null,null,null,null,null,null,null,null,null,null,null,null,null,68682,"SANTANDER","SAN JOAQUÍN","SANTANDERSAN JOAQUÍN","NO PDET",68682,null,null,null,{"$f":"+IF(Calificación!F984=\"\",\"\",VLOOKUP(Calificación!F984,Listas!$AX$3:$AY$19,2,FALSE))","v":""},null,null,"19698Ambiente y Desarrollo Sostenible","Cauca",19698,"Santander de Quilichao",null,"Ambiente y Desarrollo Sostenible",13,null,null,null,null,null,null,null,null,null,null,null,null,null,null,null,null,null,null,null,null,null,null,null,null,null,null,null,null,null,null,null,null,"NO PDET",68682,"SAN JOAQUÍN","SANTANDER","Bajo",0,-2.0677654420995744,0]
[null,null,null,null,null,null,null,null,null,null,null,null,null,null,null,null,null,null,null,null,null,null,null,null,null,null,null,null,null,null,null,null,null,null,null,null,null,null,null,null,null,null,73217,"TOLIMA","COYAIMA","TOLIMACOYAIMA","NO PDET",73217,null,null,null,null,null,null,"20001Minas y Energía","Cesar",20001,"Valledupar",null,"Minas y Energía",1,null,null,null,null,null,null,null,null,null,null,null,null,null,null,null,null,null,null,null,null,null,null,null,null,null,null,null,null,null,null,null,null,"NO PDET",73217,"COYAIMA","TOLIMA","Medio Bajo",20,-1.2406592652597446,25]
[null,null,null,null,null,null,null,null,null,null,null,null,null,null,null,null,null,null,null,null,null,null,null,null,null,null,null,null,null,null,null,null,null,null,null,null,null,null,null,null,null,null,73449,"TOLIMA","MELGAR","TOLIMAMELGAR","NO PDET",73449,null,null,null,null,null,null,"20013Tecnologías de la Información y las Comunicaciones","Cesar",20013,"Agustín Codazzi",null,"Tecnologías de la Información y las Comunicaciones",2,null,null,null,null,null,null,null,null,null,null,null,null,null,null,null,null,null,null,null,null,null,null,null,null,null,null,null,null,null,null,null,null,"NO PDET",73449,"MELGAR","TOLIMA","Medio Bajo",20,-1.2406592652597446,25]
[null,null,null,null,null,null,null,null,null,null,null,null,null,null,null,null,null,null,null,null,null,null,null,null,null,null,null,null,null,null,null,null,null,null,null,null,null,null,null,null,null,null,76243,"VALLE_DEL_CAUCA","EL ÁGUILA","VALLE_DEL_CAUCAEL ÁGUILA","NO PDET",76243,null,null,null,null,null,null,"20400Agricultura y desarrollo rural","Cesar",20400,"La Jagua de Ibirico",null,"Agricultura y desarrollo rural",5,null,null,null,null,null,null,null,null,null,null,null,null,null,null,null,null,null,null,null,null,null,null,null,null,null,null,null,null,null,null,null,null,"NO PDET",76243,"EL ÁGUILA","VALLE DEL CAUCA","Medio Bajo",20,-1.2406592652597446,25]
[null,null,null,null,null,null,null,null,null,null,null,null,null,null,null,null,null,null,null,null,null,null,null,null,null,null,null,null,null,null,null,null,null,null,null,null,null,null,null,null,null,null,null,null,null,null,null,null,null,null,null,null,null,null,"20570Ambiente y Desarrollo Sostenible","Cesar",20570,"Pueblo Bello",null,"Ambiente y Desarrollo Sostenible",13]
[null,null,null,null,null,null,null,null,null,null,null,null,null,null,null,null,null,null,null,null,null,null,null,null,null,null,null,null,null,null,null,null,null,null,null,null,null,null,null,null,null,null,null,null,null,null,null,null,null,null,null,null,null,null,"23466Deporte Y Recreación","Córdoba",23466,"Montelíbano",null,"Deporte Y Recreación",10]
[null,null,null,null,null,null,null,null,null,null,null,null,null,null,null,null,null,null,null,null,null,null,null,null,null,null,null,null,null,null,null,null,null,null,null,null,null,null,null,null,null,null,null,null,null,null,null,null,null,null,null,null,null,null,"23580Deporte Y Recreación","Córdoba",23580,"Puerto Libertador",null,"Deporte Y Recreación",11]
[null,null,null,null,null,null,null,null,null,null,null,null,null,null,null,null,null,null,null,null,null,null,null,null,null,null,null,null,null,null,null,null,null,null,null,null,null,null,null,null,null,null,null,null,null,null,null,null,null,null,null,null,null,null,"23807Ambiente y Desarrollo Sostenible","Córdoba",23807,"Tierralta",null,"Ambiente y Desarrollo Sostenible",11]
[null,null,null,null,null,null,null,null,null,null,null,null,null,null,null,null,null,null,null,null,null,null,null,null,null,null,null,null,null,null,null,null,null,null,null,null,null,null,null,null,null,null,null,null,null,null,null,null,null,null,null,null,null,null,"27150Vivienda, Ciudad Y Territorio","Chocó",27150,"Carmen del Darién",null,"Vivienda, Ciudad Y Territorio",2]
[null,null,null,null,null,null,null,null,null,null,null,null,null,null,null,null,null,null,null,null,null,null,null,null,null,null,null,null,null,null,null,null,null,null,null,null,null,null,null,null,null,null,null,null,null,null,null,null,null,null,null,null,null,null,"27250Educación","Chocó",27250,"El Litoral del San Juan",null,"Educación",6]
[null,null,null,null,null,null,null,null,null,null,null,null,null,null,null,null,null,null,null,null,null,null,null,null,null,null,null,null,null,null,null,null,null,null,null,null,null,null,null,null,null,null,null,null,null,null,null,null,null,null,null,null,null,null,"27425Educación","Chocó",27425,"Medio Atrato",null,"Educación",5]
[null,null,null,null,null,null,null,null,null,null,null,null,null,null,null,null,null,null,null,null,null,null,null,null,null,null,null,null,null,null,null,null,null,null,null,null,null,null,null,null,null,null,null,null,null,null,null,null,null,null,null,null,null,null,"27491Transporte","Chocó",27491,"Nóvita",null,"Transporte",8]
[null,null,null,null,null,null,null,null,null,null,null,null,null,null,null,null,null,null,null,null,null,null,null,null,null,null,null,null,null,null,null,null,null,null,null,null,null,null,null,null,null,null,null,null,null,null,null,null,null,null,null,null,null,null,"27745Agricultura y desarrollo rural","Chocó",27745,"Sipí",null,"Agricultura y desarrollo rural",4]
[null,null,null,null,null,null,null,null,null,null,null,null,null,null,null,null,null,null,null,null,null,null,null,null,null,null,null,null,null,null,null,null,null,null,null,null,null,null,null,null,null,null,null,null,null,null,null,null,null,null,null,null,null,null,"27800Ambiente y Desarrollo Sostenible","Chocó",27800,"Unguía",null,"Ambiente y Desarrollo Sostenible",11]
[null,null,null,null,null,null,null,null,null,null,null,null,null,null,null,null,null,null,null,null,null,null,null,null,null,null,null,null,null,null,null,null,null,null,null,null,null,null,null,null,null,null,null,null,null,null,null,null,null,null,null,null,null,null,"44090Deporte Y Recreación","La Guajira",44090,"Dibulla",null,"Deporte Y Recreación",12]
[null,null,null,null,null,null,null,null,null,null,null,null,null,null,null,null,null,null,null,null,null,null,null,null,null,null,null,null,null,null,null,null,null,null,null,null,null,null,null,null,null,null,null,null,null,null,null,null,null,null,null,null,null,null,"44650Ambiente y Desarrollo Sostenible","La Guajira",44650,"San Juan del Cesar",null,"Ambiente y Desarrollo Sostenible",14]
[null,null,null,null,null,null,null,null,null,null,null,null,null,null,null,null,null,null,null,null,null,null,null,null,null,null,null,null,null,null,null,null,null,null,null,null,null,null,null,null,null,null,null,null,null,null,null,null,null,null,null,null,null,null,"47189Tecnologías de la Información y las Comunicaciones","Magdalena",47189,"Ciénaga",null,"Tecnologías de la Información y las Comunicaciones",3]
[null,null,null,null,null,null,null,null,null,null,null,null,null,null,null,null,null,null,null,null,null,null,null,null,null,null,null,null,null,null,null,null,null,null,null,null,null,null,null,null,null,null,null,null,null,null,null,null,null,null,null,null,null,null,"47288Gobierno territorial","Magdalena",47288,"Fundación",null,"Gobierno territorial",10]
[null,null,null,null,null,null,null,null,null,null,null,null,null,null,null,null,null,null,null,null,null,null,null,null,null,null,null,null,null,null,null,null,null,null,null,null,null,null,null,null,null,null,null,null,null,null,null,null,null,null,null,null,null,null,"50350Agricultura y desarrollo rural","Meta",50350,"La Macarena",null,"Agricultura y desarrollo rural",6]
[null,null,null,null,null,null,null,null,null,null,null,null,null,null,null,null,null,null,null,null,null,null,null,null,null,null,null,null,null,null,null,null,null,null,null,null,null,null,null,null,null,null,null,null,null,null,null,null,null,null,null,null,null,null,"50577Agricultura y desarrollo rural","Meta",50577,"Puerto Lleras",null,"Agricultura y desarrollo rural",5]
[null,null,null,null,null,null,null,null,null,null,null,null,null,null,null,null,null,null,null,null,null,null,null,null,null,null,null,null,null,null,null,null,null,null,null,null,null,null,null,null,null,null,null,null,null,null,null,null,null,null,null,null,null,null,"50711Justicia y del Derecho","Meta",50711,"Vistahermosa",null,"Justicia y del Derecho",11]
[null,null,null,null,null,null,null,null,null,null,null,null,null,null,null,null,null,null,null,null,null,null,null,null,null,null,null,null,null,null,null,null,null,null,null,null,null,null,null,null,null,null,null,null,null,null,null,null,null,null,null,null,null,null,"50711Deporte Y Recreación","Meta",50711,"Vistahermosa",null,"Deporte Y Recreación",12]
[null,null,null,null,null,null,null,null,null,null,null,null,null,null,null,null,null,null,null,null,null,null,null,null,null,null,null,null,null,null,null,null,null,null,null,null,null,null,null,null,null,null,null,null,null,null,null,null,null,null,null,null,null,null,"52256Educación","Nariño",52256,"El Rosario",null,"Educación",3]
[null,null,null,null,null,null,null,null,null,null,null,null,null,null,null,null,null,null,null,null,null,null,null,null,null,null,null,null,null,null,null,null,null,null,null,null,null,null,null,null,null,null,null,null,null,null,null,null,null,null,null,null,null,null,"52390Vivienda, Ciudad Y Territorio","Nariño",52390,"La Tola",null,"Vivienda, Ciudad Y Territorio",1]
[null,null,null,null,null,null,null,null,null,null,null,null,null,null,null,null,null,null,null,null,null,null,null,null,null,null,null,null,null,null,null,null,null,null,null,null,null,null,null,null,null,null,null,null,null,null,null,null,null,null,null,null,null,null,"52418Agricultura y desarrollo rural","Nariño",52418,"Los Andes",null,"Agricultura y desarrollo rural",4]
[null,null,null,null,null,null,null,null,null,null,null,null,null,null,null,null,null,null,null,null,null,null,null,null,null,null,null,null,null,null,null,null,null,null,null,null,null,null,null,null,null,null,null,null,null,null,null,null,null,null,null,null,null,null,"52490Vivienda, Ciudad Y Territorio","Nariño",52490,"Olaya Herrera",null,"Vivienda, Ciudad Y Territorio",1]
[null,null,null,null,null,null,null,null,null,null,null,null,null,null,null,null,null,null,null,null,null,null,null,null,null,null,null,null,null,null,null,null,null,null,null,null,null,null,null,null,null,null,null,null,null,null,null,null,null,null,null,null,null,null,"52540Inclusión Social Y Reconciliación","Nariño",52540,"Policarpa",null,"Inclusión Social Y Reconciliación",9]
[null,null,null,null,null,null,null,null,null,null,null,null,null,null,null,null,null,null,null,null,null,null,null,null,null,null,null,null,null,null,null,null,null,null,null,null,null,null,null,null,null,null,null,null,null,null,null,null,null,null,null,null,null,null,"52612Justicia y del Derecho","Nariño",52612,"Ricaurte",null,"Justicia y del Derecho",9]
[null,null,null,null,null,null,null,null,null,null,null,null,null,null,null,null,null,null,null,null,null,null,null,null,null,null,null,null,null,null,null,null,null,null,null,null,null,null,null,null,null,null,null,null,null,null,null,null,null,null,null,null,null,null,"52835Salud y Protección social","Nariño",52835,"San Andrés de Tumaco",null,"Salud y Protección social",12]
[null,null,null,null,null,null,null,null,null,null,null,null,null,null,null,null,null,null,null,null,null,null,null,null,null,null,null,null,null,null,null,null,null,null,null,null,null,null,null,null,null,null,null,null,null,null,null,null,null,null,null,null,null,null,"54250Tecnologías de la Información y las Comunicaciones","Norte de Santander",54250,"El Tarra",null,"Tecnologías de la Información y las Comunicaciones",1]
[null,null,null,null,null,null,null,null,null,null,null,null,null,null,null,null,null,null,null,null,null,null,null,null,null,null,null,null,null,null,null,null,null,null,null,null,null,null,null,null,null,null,null,null,null,null,null,null,null,null,null,null,null,null,"54670Transporte","Norte de Santander",54670,"San Calixto",null,"Transporte",8]
[null,null,null,null,null,null,null,null,null,null,null,null,null,null,null,null,null,null,null,null,null,null,null,null,null,null,null,null,null,null,null,null,null,null,null,null,null,null,null,null,null,null,null,null,null,null,null,null,null,null,null,null,null,null,"54800Inclusión Social Y Reconciliación","Norte de Santander",54800,"Teorama",null,"Inclusión Social Y Reconciliación",4]
[null,null,null,null,null,null,null,null,null,null,null,null,null,null,null,null,null,null,null,null,null,null,null,null,null,null,null,null,null,null,null,null,null,null,null,null,null,null,null,null,null,null,null,null,null,null,null,null,null,null,null,null,null,null,"70204Desarrollo Económico","Sucre",70204,"Coloso",null,"Desarrollo Económico",2]
[null,null,null,null,null,null,null,null,null,null,null,null,null,null,null,null,null,null,null,null,null,null,null,null,null,null,null,null,null,null,null,null,null,null,null,null,null,null,null,null,null,null,null,null,null,null,null,null,null,null,null,null,null,null,"70230Gobierno territorial","Sucre",70230,"Chalán",null,"Gobierno territorial",7]
[null,null,null,null,null,null,null,null,null,null,null,null,null,null,null,null,null,null,null,null,null,null,null,null,null,null,null,null,null,null,null,null,null,null,null,null,null,null,null,null,null,null,null,null,null,null,null,null,null,null,null,null,null,null,"70473Transporte","Sucre",70473,"Morroa",null,"Transporte",10]
[null,null,null,null,null,null,null,null,null,null,null,null,null,null,null,null,null,null,null,null,null,null,null,null,null,null,null,null,null,null,null,null,null,null,null,null,null,null,null,null,null,null,null,null,null,null,null,null,null,null,null,null,null,null,"70523Minas y Energía","Sucre",70523,"Palmito",null,"Minas y Energía",14]
[null,null,null,null,null,null,null,null,null,null,null,null,null,null,null,null,null,null,null,null,null,null,null,null,null,null,null,null,null,null,null,null,null,null,null,null,null,null,null,null,null,null,null,null,null,null,null,null,null,null,null,null,null,null,"70823Cultura","Sucre",70823,"Tolú Viejo",null,"Cultura",13]
[null,null,null,null,null,null,null,null,null,null,null,null,null,null,null,null,null,null,null,null,null,null,null,null,null,null,null,null,null,null,null,null,null,null,null,null,null,null,null,null,null,null,null,null,null,null,null,null,null,null,null,null,null,null,"73616Agricultura y desarrollo rural","Tolima",73616,"Rioblanco",null,"Agricultura y desarrollo rural",9]
[null,null,null,null,null,null,null,null,null,null,null,null,null,null,null,null,null,null,null,null,null,null,null,null,null,null,null,null,null,null,null,null,null,null,null,null,null,null,null,null,null,null,null,null,null,null,null,null,null,null,null,null,null,null,"76275Transporte","Valle del Cauca",76275,"Florida",null,"Transporte",4]
[null,null,null,null,null,null,null,null,null,null,null,null,null,null,null,null,null,null,null,null,null,null,null,null,null,null,null,null,null,null,null,null,null,null,null,null,null,null,null,null,null,null,null,null,null,null,null,null,null,null,null,null,null,null,"81065Inclusión Social Y Reconciliación","Arauca",81065,"Arauquita",null,"Inclusión Social Y Reconciliación",7]
[null,null,null,null,null,null,null,null,null,null,null,null,null,null,null,null,null,null,null,null,null,null,null,null,null,null,null,null,null,null,null,null,null,null,null,null,null,null,null,null,null,null,null,null,null,null,null,null,null,null,null,null,null,null,"81736Inclusión Social Y Reconciliación","Arauca",81736,"Saravena",null,"Inclusión Social Y Reconciliación",7]
[null,null,null,null,null,null,null,null,null,null,null,null,null,null,null,null,null,null,null,null,null,null,null,null,null,null,null,null,null,null,null,null,null,null,null,null,null,null,null,null,null,null,null,null,null,null,null,null,null,null,null,null,null,null,"86001Gobierno territorial","Putumayo",86001,"Mocoa",null,"Gobierno territorial",10]
[null,null,null,null,null,null,null,null,null,null,null,null,null,null,null,null,null,null,null,null,null,null,null,null,null,null,null,null,null,null,null,null,null,null,null,null,null,null,null,null,null,null,null,null,null,null,null,null,null,null,null,null,null,null,"86568Minas y Energía","Putumayo",86568,"Puerto Asís",null,"Minas y Energía",1]
[null,null,null,null,null,null,null,null,null,null,null,null,null,null,null,null,null,null,null,null,null,null,null,null,null,null,null,null,null,null,null,null,null,null,null,null,null,null,null,null,null,null,null,null,null,null,null,null,null,null,null,null,null,null,"86569Cultura","Putumayo",86569,"Puerto Caicedo",null,"Cultura",13]
[null,null,null,null,null,null,null,null,null,null,null,null,null,null,null,null,null,null,null,null,null,null,null,null,null,null,null,null,null,null,null,null,null,null,null,null,null,null,null,null,null,null,null,null,null,null,null,null,null,null,null,null,null,null,"86865Tecnologías de la Información y las Comunicaciones","Putumayo",86865,"Valle del Guamuez",null,"Tecnologías de la Información y las Comunicaciones",2]
[null,null,null,null,null,null,null,null,null,null,null,null,null,null,null,null,null,null,null,null,null,null,null,null,null,null,null,null,null,null,null,null,null,null,null,null,null,null,null,null,null,null,null,null,null,null,null,null,null,null,null,null,null,null,"86865Salud y Protección social","Putumayo",86865,"Valle del Guamuez",null,"Salud y Protección social",13]
[null,null,null,null,null,null,null,null,null,null,null,null,null,null,null,null,null,null,null,null,null,null,null,null,null,null,null,null,null,null,null,null,null,null,null,null,null,null,null,null,null,null,null,null,null,null,null,null,null,null,null,null,null,null,"95015Desarrollo Económico","Guaviare",95015,"Calamar",null,"Desarrollo Económico",5]
[null,null,null,null,null,null,null,null,null,null,null,null,null,null,null,null,null,null,null,null,null,null,null,null,null,null,null,null,null,null,null,null,null,null,null,null,null,null,null,null,null,null,null,null,null,null,null,null,null,null,null,null,null,null,"95200Agricultura y desarrollo rural","Guaviare",95200,"Miraflores",null,"Agricultura y desarrollo rural",8]
[null,null,null,null,null,null,null,null,null,null,null,null,null,null,null,null,null,null,null,null,null,null,null,null,null,null,null,null,null,null,null,null,null,null,null,null,null,null,null,null,null,null,null,null,null,null,null,null,null,null,null,null,null,null,"5004Transporte","Antioquia",5004,"Abriaquí",null,"Transporte",12]
[null,null,null,null,null,null,null,null,null,null,null,null,null,null,null,null,null,null,null,null,null,null,null,null,null,null,null,null,null,null,null,null,null,null,null,null,null,null,null,null,null,null,null,null,null,null,null,null,null,null,null,null,null,null,"5021Cultura","Antioquia",5021,"Alejandría",null,"Cultura",11]
[null,null,null,null,null,null,null,null,null,null,null,null,null,null,null,null,null,null,null,null,null,null,null,null,null,null,null,null,null,null,null,null,null,null,null,null,null,null,null,null,null,null,null,null,null,null,null,null,null,null,null,null,null,null,"5036Inclusión Social y Reconciliación","Antioquia",5036,"Angelópolis",null,"Inclusión Social y Reconciliación",6]
[null,null,null,null,null,null,null,null,null,null,null,null,null,null,null,null,null,null,null,null,null,null,null,null,null,null,null,null,null,null,null,null,null,null,null,null,null,null,null,null,null,null,null,null,null,null,null,null,null,null,null,null,null,null,"5044Tecnologías de la Información y las Comunicaciones","Antioquia",5044,"Anzá",null,"Tecnologías de la Información y las Comunicaciones",2]
[null,null,null,null,null,null,null,null,null,null,null,null,null,null,null,null,null,null,null,null,null,null,null,null,null,null,null,null,null,null,null,null,null,null,null,null,null,null,null,null,null,null,null,null,null,null,null,null,null,null,null,null,null,null,"5051Vivienda, Ciudad Y Territorio","Antioquia",5051,"Arboletes",null,"Vivienda, Ciudad Y Territorio",3]
[null,null,null,null,null,null,null,null,null,null,null,null,null,null,null,null,null,null,null,null,null,null,null,null,null,null,null,null,null,null,null,null,null,null,null,null,null,null,null,null,null,null,null,null,null,null,null,null,null,null,null,null,null,null,"5059Agricultura y desarrollo rural","Antioquia",5059,"Armenia",null,"Agricultura y desarrollo rural",4]
[null,null,null,null,null,null,null,null,null,null,null,null,null,null,null,null,null,null,null,null,null,null,null,null,null,null,null,null,null,null,null,null,null,null,null,null,null,null,null,null,null,null,null,null,null,null,null,null,null,null,null,null,null,null,"5088Justicia y del Derecho","Antioquia",5088,"Bello",null,"Justicia y del Derecho",8]
[null,null,null,null,null,null,null,null,null,null,null,null,null,null,null,null,null,null,null,null,null,null,null,null,null,null,null,null,null,null,null,null,null,null,null,null,null,null,null,null,null,null,null,null,null,null,null,null,null,null,null,null,null,null,"5088Salud y Protección social","Antioquia",5088,"Bello",null,"Salud y Protección social",12]
[null,null,null,null,null,null,null,null,null,null,null,null,null,null,null,null,null,null,null,null,null,null,null,null,null,null,null,null,null,null,null,null,null,null,null,null,null,null,null,null,null,null,null,null,null,null,null,null,null,null,null,null,null,null,"5101Cultura","Antioquia",5101,"Ciudad Bolívar",null,"Cultura",11]
[null,null,null,null,null,null,null,null,null,null,null,null,null,null,null,null,null,null,null,null,null,null,null,null,null,null,null,null,null,null,null,null,null,null,null,null,null,null,null,null,null,null,null,null,null,null,null,null,null,null,null,null,null,null,"5129Minas y Energía","Antioquia",5129,"Caldas",null,"Minas y Energía",14]
[null,null,null,null,null,null,null,null,null,null,null,null,null,null,null,null,null,null,null,null,null,null,null,null,null,null,null,null,null,null,null,null,null,null,null,null,null,null,null,null,null,null,null,null,null,null,null,null,null,null,null,null,null,null,"5138Cultura","Antioquia",5138,"Cañasgordas",null,"Cultura",11]
[null,null,null,null,null,null,null,null,null,null,null,null,null,null,null,null,null,null,null,null,null,null,null,null,null,null,null,null,null,null,null,null,null,null,null,null,null,null,null,null,null,null,null,null,null,null,null,null,null,null,null,null,null,null,"5145Agricultura y desarrollo rural","Antioquia",5145,"Caramanta",null,"Agricultura y desarrollo rural",3]
[null,null,null,null,null,null,null,null,null,null,null,null,null,null,null,null,null,null,null,null,null,null,null,null,null,null,null,null,null,null,null,null,null,null,null,null,null,null,null,null,null,null,null,null,null,null,null,null,null,null,null,null,null,null,"5150Inclusión Social y Reconciliación","Antioquia",5150,"Carolina",null,"Inclusión Social y Reconciliación",5]
[null,null,null,null,null,null,null,null,null,null,null,null,null,null,null,null,null,null,null,null,null,null,null,null,null,null,null,null,null,null,null,null,null,null,null,null,null,null,null,null,null,null,null,null,null,null,null,null,null,null,null,null,null,null,"5190Inclusión Social y Reconciliación","Antioquia",5190,"Cisneros",null,"Inclusión Social y Reconciliación",6]
[null,null,null,null,null,null,null,null,null,null,null,null,null,null,null,null,null,null,null,null,null,null,null,null,null,null,null,null,null,null,null,null,null,null,null,null,null,null,null,null,null,null,null,null,null,null,null,null,null,null,null,null,null,null,"5209Minas y Energía","Antioquia",5209,"Concordia",null,"Minas y Energía",9]
[null,null,null,null,null,null,null,null,null,null,null,null,null,null,null,null,null,null,null,null,null,null,null,null,null,null,null,null,null,null,null,null,null,null,null,null,null,null,null,null,null,null,null,null,null,null,null,null,null,null,null,null,null,null,"5237Agricultura y desarrollo rural","Antioquia",5237,"Donmatías",null,"Agricultura y desarrollo rural",3]
[null,null,null,null,null,null,null,null,null,null,null,null,null,null,null,null,null,null,null,null,null,null,null,null,null,null,null,null,null,null,null,null,null,null,null,null,null,null,null,null,null,null,null,null,null,null,null,null,null,null,null,null,null,null,"5240Transporte","Antioquia",5240,"Ebéjico",null,"Transporte",12]
[null,null,null,null,null,null,null,null,null,null,null,null,null,null,null,null,null,null,null,null,null,null,null,null,null,null,null,null,null,null,null,null,null,null,null,null,null,null,null,null,null,null,null,null,null,null,null,null,null,null,null,null,null,null,"5284Tecnologías de la Información y las Comunicaciones","Antioquia",5284,"Frontino",null,"Tecnologías de la Información y las Comunicaciones",1]
[null,null,null,null,null,null,null,null,null,null,null,null,null,null,null,null,null,null,null,null,null,null,null,null,null,null,null,null,null,null,null,null,null,null,null,null,null,null,null,null,null,null,null,null,null,null,null,null,null,null,null,null,null,null,"5306Tecnologías de la Información y las Comunicaciones","Antioquia",5306,"Giraldo",null,"Tecnologías de la Información y las Comunicaciones",1]
[null,null,null,null,null,null,null,null,null,null,null,null,null,null,null,null,null,null,null,null,null,null,null,null,null,null,null,null,null,null,null,null,null,null,null,null,null,null,null,null,null,null,null,null,null,null,null,null,null,null,null,null,null,null,"5310Educación","Antioquia",5310,"Gómez Plata",null,"Educación",4]
[null,null,null,null,null,null,null,null,null,null,null,null,null,null,null,null,null,null,null,null,null,null,null,null,null,null,null,null,null,null,null,null,null,null,null,null,null,null,null,null,null,null,null,null,null,null,null,null,null,null,null,null,null,null,"5318Deporte Y Recreación","Antioquia",5318,"Guarne",null,"Deporte Y Recreación",10]
[null,null,null,null,null,null,null,null,null,null,null,null,null,null,null,null,null,null,null,null,null,null,null,null,null,null,null,null,null,null,null,null,null,null,null,null,null,null,null,null,null,null,null,null,null,null,null,null,null,null,null,null,null,null,"5347Ambiente y Desarrollo Sostenible","Antioquia",5347,"Heliconia",null,"Ambiente y Desarrollo Sostenible",9]
[null,null,null,null,null,null,null,null,null,null,null,null,null,null,null,null,null,null,null,null,null,null,null,null,null,null,null,null,null,null,null,null,null,null,null,null,null,null,null,null,null,null,null,null,null,null,null,null,null,null,null,null,null,null,"5353Deporte Y Recreación","Antioquia",5353,"Hispania",null,"Deporte Y Recreación",10]
[null,null,null,null,null,null,null,null,null,null,null,null,null,null,null,null,null,null,null,null,null,null,null,null,null,null,null,null,null,null,null,null,null,null,null,null,null,null,null,null,null,null,null,null,null,null,null,null,null,null,null,null,null,null,"5368Gobierno territorial","Antioquia",5368,"Jericó",null,"Gobierno territorial",8]
[null,null,null,null,null,null,null,null,null,null,null,null,null,null,null,null,null,null,null,null,null,null,null,null,null,null,null,null,null,null,null,null,null,null,null,null,null,null,null,null,null,null,null,null,null,null,null,null,null,null,null,null,null,null,"5390Tecnologías de la Información y las Comunicaciones","Antioquia",5390,"La Pintada",null,"Tecnologías de la Información y las Comunicaciones",1]
[null,null,null,null,null,null,null,null,null,null,null,null,null,null,null,null,null,null,null,null,null,null,null,null,null,null,null,null,null,null,null,null,null,null,null,null,null,null,null,null,null,null,null,null,null,null,null,null,null,null,null,null,null,null,"5411Tecnologías de la Información y las Comunicaciones","Antioquia",5411,"Liborina",null,"Tecnologías de la Información y las Comunicaciones",1]
[null,null,null,null,null,null,null,null,null,null,null,null,null,null,null,null,null,null,null,null,null,null,null,null,null,null,null,null,null,null,null,null,null,null,null,null,null,null,null,null,null,null,null,null,null,null,null,null,null,null,null,null,null,null,"5425Educación","Antioquia",5425,"Maceo",null,"Educación",4]
[null,null,null,null,null,null,null,null,null,null,null,null,null,null,null,null,null,null,null,null,null,null,null,null,null,null,null,null,null,null,null,null,null,null,null,null,null,null,null,null,null,null,null,null,null,null,null,null,null,null,null,null,null,null,"5483Gobierno territorial","Antioquia",5483,"Nariño",null,"Gobierno territorial",7]
[null,null,null,null,null,null,null,null,null,null,null,null,null,null,null,null,null,null,null,null,null,null,null,null,null,null,null,null,null,null,null,null,null,null,null,null,null,null,null,null,null,null,null,null,null,null,null,null,null,null,null,null,null,null,"5543Tecnologías de la Información y las Comunicaciones","Antioquia",5543,"Peque",null,"Tecnologías de la Información y las Comunicaciones",1]
[null,null,null,null,null,null,null,null,null,null,null,null,null,null,null,null,null,null,null,null,null,null,null,null,null,null,null,null,null,null,null,null,null,null,null,null,null,null,null,null,null,null,null,null,null,null,null,null,null,null,null,null,null,null,"5543Deporte Y Recreación","Antioquia",5543,"Peque",null,"Deporte Y Recreación",10]
[null,null,null,null,null,null,null,null,null,null,null,null,null,null,null,null,null,null,null,null,null,null,null,null,null,null,null,null,null,null,null,null,null,null,null,null,null,null,null,null,null,null,null,null,null,null,null,null,null,null,null,null,null,null,"5579Gobierno territorial","Antioquia",5579,"Puerto Berrío",null,"Gobierno territorial",7]
[null,null,null,null,null,null,null,null,null,null,null,null,null,null,null,null,null,null,null,null,null,null,null,null,null,null,null,null,null,null,null,null,null,null,null,null,null,null,null,null,null,null,null,null,null,null,null,null,null,null,null,null,null,null,"5615Agricultura y desarrollo rural","Antioquia",5615,"Rionegro",null,"Agricultura y desarrollo rural",1]
[null,null,null,null,null,null,null,null,null,null,null,null,null,null,null,null,null,null,null,null,null,null,null,null,null,null,null,null,null,null,null,null,null,null,null,null,null,null,null,null,null,null,null,null,null,null,null,null,null,null,null,null,null,null,"5628Desarrollo Económico","Antioquia",5628,"Sabanalarga",null,"Desarrollo Económico",2]
[null,null,null,null,null,null,null,null,null,null,null,null,null,null,null,null,null,null,null,null,null,null,null,null,null,null,null,null,null,null,null,null,null,null,null,null,null,null,null,null,null,null,null,null,null,null,null,null,null,null,null,null,null,null,"5642Gobierno territorial","Antioquia",5642,"Salgar",null,"Gobierno territorial",7]
[null,null,null,null,null,null,null,null,null,null,null,null,null,null,null,null,null,null,null,null,null,null,null,null,null,null,null,null,null,null,null,null,null,null,null,null,null,null,null,null,null,null,null,null,null,null,null,null,null,null,null,null,null,null,"5652Gobierno territorial","Antioquia",5652,"San Francisco",null,"Gobierno territorial",7]
[null,null,null,null,null,null,null,null,null,null,null,null,null,null,null,null,null,null,null,null,null,null,null,null,null,null,null,null,null,null,null,null,null,null,null,null,null,null,null,null,null,null,null,null,null,null,null,null,null,null,null,null,null,null,"5656Ambiente y Desarrollo Sostenible","Antioquia",5656,"San Jerónimo",null,"Ambiente y Desarrollo Sostenible",8]
[null,null,null,null,null,null,null,null,null,null,null,null,null,null,null,null,null,null,null,null,null,null,null,null,null,null,null,null,null,null,null,null,null,null,null,null,null,null,null,null,null,null,null,null,null,null,null,null,null,null,null,null,null,null,"5659Inclusión Social y Reconciliación","Antioquia",5659,"San Juan de Urabá",null,"Inclusión Social y Reconciliación",5]
[null,null,null,null,null,null,null,null,null,null,null,null,null,null,null,null,null,null,null,null,null,null,null,null,null,null,null,null,null,null,null,null,null,null,null,null,null,null,null,null,null,null,null,null,null,null,null,null,null,null,null,null,null,null,"5667Salud y Protección social","Antioquia",5667,"San Rafael",null,"Salud y Protección social",13]
[null,null,null,null,null,null,null,null,null,null,null,null,null,null,null,null,null,null,null,null,null,null,null,null,null,null,null,null,null,null,null,null,null,null,null,null,null,null,null,null,null,null,null,null,null,null,null,null,null,null,null,null,null,null,"5670Transporte","Antioquia",5670,"San Roque",null,"Transporte",12]
[null,null,null,null,null,null,null,null,null,null,null,null,null,null,null,null,null,null,null,null,null,null,null,null,null,null,null,null,null,null,null,null,null,null,null,null,null,null,null,null,null,null,null,null,null,null,null,null,null,null,null,null,null,null,"5686Tecnologías de la Información y las Comunicaciones","Antioquia",5686,"Santa Rosa de Osos",null,"Tecnologías de la Información y las Comunicaciones",2]
[null,null,null,null,null,null,null,null,null,null,null,null,null,null,null,null,null,null,null,null,null,null,null,null,null,null,null,null,null,null,null,null,null,null,null,null,null,null,null,null,null,null,null,null,null,null,null,null,null,null,null,null,null,null,"5756Inclusión Social y Reconciliación","Antioquia",5756,"Sonsón",null,"Inclusión Social y Reconciliación",5]
[null,null,null,null,null,null,null,null,null,null,null,null,null,null,null,null,null,null,null,null,null,null,null,null,null,null,null,null,null,null,null,null,null,null,null,null,null,null,null,null,null,null,null,null,null,null,null,null,null,null,null,null,null,null,"5761Transporte","Antioquia",5761,"Sopetrán",null,"Transporte",12]
[null,null,null,null,null,null,null,null,null,null,null,null,null,null,null,null,null,null,null,null,null,null,null,null,null,null,null,null,null,null,null,null,null,null,null,null,null,null,null,null,null,null,null,null,null,null,null,null,null,null,null,null,null,null,"5792Justicia y del Derecho","Antioquia",5792,"Tarso",null,"Justicia y del Derecho",8]
[null,null,null,null,null,null,null,null,null,null,null,null,null,null,null,null,null,null,null,null,null,null,null,null,null,null,null,null,null,null,null,null,null,null,null,null,null,null,null,null,null,null,null,null,null,null,null,null,null,null,null,null,null,null,"5842Educación","Antioquia",5842,"Uramita",null,"Educación",5]
[null,null,null,null,null,null,null,null,null,null,null,null,null,null,null,null,null,null,null,null,null,null,null,null,null,null,null,null,null,null,null,null,null,null,null,null,null,null,null,null,null,null,null,null,null,null,null,null,null,null,null,null,null,null,"5856Salud y Protección social","Antioquia",5856,"Valparaíso",null,"Salud y Protección social",13]
[null,null,null,null,null,null,null,null,null,null,null,null,null,null,null,null,null,null,null,null,null,null,null,null,null,null,null,null,null,null,null,null,null,null,null,null,null,null,null,null,null,null,null,null,null,null,null,null,null,null,null,null,null,null,"5858Minas y Energía","Antioquia",5858,"Vegachí",null,"Minas y Energía",14]
[null,null,null,null,null,null,null,null,null,null,null,null,null,null,null,null,null,null,null,null,null,null,null,null,null,null,null,null,null,null,null,null,null,null,null,null,null,null,null,null,null,null,null,null,null,null,null,null,null,null,null,null,null,null,"5885Educación","Antioquia",5885,"Yalí",null,"Educación",4]
[null,null,null,null,null,null,null,null,null,null,null,null,null,null,null,null,null,null,null,null,null,null,null,null,null,null,null,null,null,null,null,null,null,null,null,null,null,null,null,null,null,null,null,null,null,null,null,null,null,null,null,null,null,null,"8078Minas y Energía","Atlántico",8078,"Baranoa",null,"Minas y Energía",5]
[null,null,null,null,null,null,null,null,null,null,null,null,null,null,null,null,null,null,null,null,null,null,null,null,null,null,null,null,null,null,null,null,null,null,null,null,null,null,null,null,null,null,null,null,null,null,null,null,null,null,null,null,null,null,"8078Cultura","Atlántico",8078,"Baranoa",null,"Cultura",11]
[null,null,null,null,null,null,null,null,null,null,null,null,null,null,null,null,null,null,null,null,null,null,null,null,null,null,null,null,null,null,null,null,null,null,null,null,null,null,null,null,null,null,null,null,null,null,null,null,null,null,null,null,null,null,"8296Gobierno territorial","Atlántico",8296,"Galapa",null,"Gobierno territorial",8]
[null,null,null,null,null,null,null,null,null,null,null,null,null,null,null,null,null,null,null,null,null,null,null,null,null,null,null,null,null,null,null,null,null,null,null,null,null,null,null,null,null,null,null,null,null,null,null,null,null,null,null,null,null,null,"8433Cultura","Atlántico",8433,"Malambo",null,"Cultura",11]
[null,null,null,null,null,null,null,null,null,null,null,null,null,null,null,null,null,null,null,null,null,null,null,null,null,null,null,null,null,null,null,null,null,null,null,null,null,null,null,null,null,null,null,null,null,null,null,null,null,null,null,null,null,null,"8520Deporte Y Recreación","Atlántico",8520,"Palmar de Varela",null,"Deporte Y Recreación",10]
[null,null,null,null,null,null,null,null,null,null,null,null,null,null,null,null,null,null,null,null,null,null,null,null,null,null,null,null,null,null,null,null,null,null,null,null,null,null,null,null,null,null,null,null,null,null,null,null,null,null,null,null,null,null,"8549Transporte","Atlántico",8549,"Piojó",null,"Transporte",14]
[null,null,null,null,null,null,null,null,null,null,null,null,null,null,null,null,null,null,null,null,null,null,null,null,null,null,null,null,null,null,null,null,null,null,null,null,null,null,null,null,null,null,null,null,null,null,null,null,null,null,null,null,null,null,"8573Minas y Energía","Atlántico",8573,"Puerto Colombia",null,"Minas y Energía",4]
[null,null,null,null,null,null,null,null,null,null,null,null,null,null,null,null,null,null,null,null,null,null,null,null,null,null,null,null,null,null,null,null,null,null,null,null,null,null,null,null,null,null,null,null,null,null,null,null,null,null,null,null,null,null,"8606Minas y Energía","Atlántico",8606,"Repelón",null,"Minas y Energía",3]
[null,null,null,null,null,null,null,null,null,null,null,null,null,null,null,null,null,null,null,null,null,null,null,null,null,null,null,null,null,null,null,null,null,null,null,null,null,null,null,null,null,null,null,null,null,null,null,null,null,null,null,null,null,null,"8675Educación","Atlántico",8675,"Santa Lucía",null,"Educación",6]
[null,null,null,null,null,null,null,null,null,null,null,null,null,null,null,null,null,null,null,null,null,null,null,null,null,null,null,null,null,null,null,null,null,null,null,null,null,null,null,null,null,null,null,null,null,null,null,null,null,null,null,null,null,null,"8758Tecnologías de la Información y las Comunicaciones","Atlántico",8758,"Soledad",null,"Tecnologías de la Información y las Comunicaciones",2]
[null,null,null,null,null,null,null,null,null,null,null,null,null,null,null,null,null,null,null,null,null,null,null,null,null,null,null,null,null,null,null,null,null,null,null,null,null,null,null,null,null,null,null,null,null,null,null,null,null,null,null,null,null,null,"8770Justicia y del Derecho","Atlántico",8770,"Suan",null,"Justicia y del Derecho",9]
[null,null,null,null,null,null,null,null,null,null,null,null,null,null,null,null,null,null,null,null,null,null,null,null,null,null,null,null,null,null,null,null,null,null,null,null,null,null,null,null,null,null,null,null,null,null,null,null,null,null,null,null,null,null,"11001Gobierno territorial","Bogotá, D.C.",11001,"Bogotá, D.C.",null,"Gobierno territorial",12]
[null,null,null,null,null,null,null,null,null,null,null,null,null,null,null,null,null,null,null,null,null,null,null,null,null,null,null,null,null,null,null,null,null,null,null,null,null,null,null,null,null,null,null,null,null,null,null,null,null,null,null,null,null,null,"13001Cultura","Bolívar",13001,"Cartagena de Indias",null,"Cultura",14]
[null,null,null,null,null,null,null,null,null,null,null,null,null,null,null,null,null,null,null,null,null,null,null,null,null,null,null,null,null,null,null,null,null,null,null,null,null,null,null,null,null,null,null,null,null,null,null,null,null,null,null,null,null,null,"13052Tecnologías de la Información y las Comunicaciones","Bolívar",13052,"Arjona",null,"Tecnologías de la Información y las Comunicaciones",1]
[null,null,null,null,null,null,null,null,null,null,null,null,null,null,null,null,null,null,null,null,null,null,null,null,null,null,null,null,null,null,null,null,null,null,null,null,null,null,null,null,null,null,null,null,null,null,null,null,null,null,null,null,null,null,"13140Transporte","Bolívar",13140,"Calamar",null,"Transporte",9]
[null,null,null,null,null,null,null,null,null,null,null,null,null,null,null,null,null,null,null,null,null,null,null,null,null,null,null,null,null,null,null,null,null,null,null,null,null,null,null,null,null,null,null,null,null,null,null,null,null,null,null,null,null,null,"13222Inclusión Social Y Reconciliación","Bolívar",13222,"Clemencia",null,"Inclusión Social Y Reconciliación",6]
[null,null,null,null,null,null,null,null,null,null,null,null,null,null,null,null,null,null,null,null,null,null,null,null,null,null,null,null,null,null,null,null,null,null,null,null,null,null,null,null,null,null,null,null,null,null,null,null,null,null,null,null,null,null,"13268Agricultura y desarrollo rural","Bolívar",13268,"El Peñón",null,"Agricultura y desarrollo rural",7]
[null,null,null,null,null,null,null,null,null,null,null,null,null,null,null,null,null,null,null,null,null,null,null,null,null,null,null,null,null,null,null,null,null,null,null,null,null,null,null,null,null,null,null,null,null,null,null,null,null,null,null,null,null,null,"13433Educación","Bolívar",13433,"Mahates",null,"Educación",7]
[null,null,null,null,null,null,null,null,null,null,null,null,null,null,null,null,null,null,null,null,null,null,null,null,null,null,null,null,null,null,null,null,null,null,null,null,null,null,null,null,null,null,null,null,null,null,null,null,null,null,null,null,null,null,"13458Salud y Protección social","Bolívar",13458,"Montecristo",null,"Salud y Protección social",12]
[null,null,null,null,null,null,null,null,null,null,null,null,null,null,null,null,null,null,null,null,null,null,null,null,null,null,null,null,null,null,null,null,null,null,null,null,null,null,null,null,null,null,null,null,null,null,null,null,null,null,null,null,null,null,"13490Minas y Energía","Bolívar",13490,"Norosí",null,"Minas y Energía",1]
[null,null,null,null,null,null,null,null,null,null,null,null,null,null,null,null,null,null,null,null,null,null,null,null,null,null,null,null,null,null,null,null,null,null,null,null,null,null,null,null,null,null,null,null,null,null,null,null,null,null,null,null,null,null,"13580Minas y Energía","Bolívar",13580,"Regidor",null,"Minas y Energía",1]
[null,null,null,null,null,null,null,null,null,null,null,null,null,null,null,null,null,null,null,null,null,null,null,null,null,null,null,null,null,null,null,null,null,null,null,null,null,null,null,null,null,null,null,null,null,null,null,null,null,null,null,null,null,null,"13647Vivienda, Ciudad Y Territorio","Bolívar",13647,"San Estanislao",null,"Vivienda, Ciudad Y Territorio",4]
[null,null,null,null,null,null,null,null,null,null,null,null,null,null,null,null,null,null,null,null,null,null,null,null,null,null,null,null,null,null,null,null,null,null,null,null,null,null,null,null,null,null,null,null,null,null,null,null,null,null,null,null,null,null,"13647Ambiente y Desarrollo Sostenible","Bolívar",13647,"San Estanislao",null,"Ambiente y Desarrollo Sostenible",13]
[null,null,null,null,null,null,null,null,null,null,null,null,null,null,null,null,null,null,null,null,null,null,null,null,null,null,null,null,null,null,null,null,null,null,null,null,null,null,null,null,null,null,null,null,null,null,null,null,null,null,null,null,null,null,"13667Gobierno territorial","Bolívar",13667,"San Martín de Loba",null,"Gobierno territorial",7]
[null,null,null,null,null,null,null,null,null,null,null,null,null,null,null,null,null,null,null,null,null,null,null,null,null,null,null,null,null,null,null,null,null,null,null,null,null,null,null,null,null,null,null,null,null,null,null,null,null,null,null,null,null,null,"13760Transporte","Bolívar",13760,"Soplaviento",null,"Transporte",8]
[null,null,null,null,null,null,null,null,null,null,null,null,null,null,null,null,null,null,null,null,null,null,null,null,null,null,null,null,null,null,null,null,null,null,null,null,null,null,null,null,null,null,null,null,null,null,null,null,null,null,null,null,null,null,"13780Justicia y del Derecho","Bolívar",13780,"Talaigua Nuevo",null,"Justicia y del Derecho",10]
[null,null,null,null,null,null,null,null,null,null,null,null,null,null,null,null,null,null,null,null,null,null,null,null,null,null,null,null,null,null,null,null,null,null,null,null,null,null,null,null,null,null,null,null,null,null,null,null,null,null,null,null,null,null,"13836Salud y Protección social","Bolívar",13836,"Turbaco",null,"Salud y Protección social",13]
[null,null,null,null,null,null,null,null,null,null,null,null,null,null,null,null,null,null,null,null,null,null,null,null,null,null,null,null,null,null,null,null,null,null,null,null,null,null,null,null,null,null,null,null,null,null,null,null,null,null,null,null,null,null,"15001Educación","Boyacá",15001,"Tunja",null,"Educación",6]
[null,null,null,null,null,null,null,null,null,null,null,null,null,null,null,null,null,null,null,null,null,null,null,null,null,null,null,null,null,null,null,null,null,null,null,null,null,null,null,null,null,null,null,null,null,null,null,null,null,null,null,null,null,null,"15051Transporte","Boyacá",15051,"Arcabuco",null,"Transporte",4]
[null,null,null,null,null,null,null,null,null,null,null,null,null,null,null,null,null,null,null,null,null,null,null,null,null,null,null,null,null,null,null,null,null,null,null,null,null,null,null,null,null,null,null,null,null,null,null,null,null,null,null,null,null,null,"15087Educación","Boyacá",15087,"Belén",null,"Educación",5]
[null,null,null,null,null,null,null,null,null,null,null,null,null,null,null,null,null,null,null,null,null,null,null,null,null,null,null,null,null,null,null,null,null,null,null,null,null,null,null,null,null,null,null,null,null,null,null,null,null,null,null,null,null,null,"15092Minas y Energía","Boyacá",15092,"Betéitiva",null,"Minas y Energía",4]
[null,null,null,null,null,null,null,null,null,null,null,null,null,null,null,null,null,null,null,null,null,null,null,null,null,null,null,null,null,null,null,null,null,null,null,null,null,null,null,null,null,null,null,null,null,null,null,null,null,null,null,null,null,null,"15106Justicia y del Derecho","Boyacá",15106,"Briceño",null,"Justicia y del Derecho",10]
[null,null,null,null,null,null,null,null,null,null,null,null,null,null,null,null,null,null,null,null,null,null,null,null,null,null,null,null,null,null,null,null,null,null,null,null,null,null,null,null,null,null,null,null,null,null,null,null,null,null,null,null,null,null,"15114Cultura","Boyacá",15114,"Busbanzá",null,"Cultura",13]
[null,null,null,null,null,null,null,null,null,null,null,null,null,null,null,null,null,null,null,null,null,null,null,null,null,null,null,null,null,null,null,null,null,null,null,null,null,null,null,null,null,null,null,null,null,null,null,null,null,null,null,null,null,null,"15131Cultura","Boyacá",15131,"Caldas",null,"Cultura",13]
[null,null,null,null,null,null,null,null,null,null,null,null,null,null,null,null,null,null,null,null,null,null,null,null,null,null,null,null,null,null,null,null,null,null,null,null,null,null,null,null,null,null,null,null,null,null,null,null,null,null,null,null,null,null,"15176Tecnologías de la Información y las Comunicaciones","Boyacá",15176,"Chiquinquirá",null,"Tecnologías de la Información y las Comunicaciones",2]
[null,null,null,null,null,null,null,null,null,null,null,null,null,null,null,null,null,null,null,null,null,null,null,null,null,null,null,null,null,null,null,null,null,null,null,null,null,null,null,null,null,null,null,null,null,null,null,null,null,null,null,null,null,null,"15180Ambiente y Desarrollo Sostenible","Boyacá",15180,"Chiscas",null,"Ambiente y Desarrollo Sostenible",11]
[null,null,null,null,null,null,null,null,null,null,null,null,null,null,null,null,null,null,null,null,null,null,null,null,null,null,null,null,null,null,null,null,null,null,null,null,null,null,null,null,null,null,null,null,null,null,null,null,null,null,null,null,null,null,"15185Transporte","Boyacá",15185,"Chitaraque",null,"Transporte",5]
[null,null,null,null,null,null,null,null,null,null,null,null,null,null,null,null,null,null,null,null,null,null,null,null,null,null,null,null,null,null,null,null,null,null,null,null,null,null,null,null,null,null,null,null,null,null,null,null,null,null,null,null,null,null,"15189Educación","Boyacá",15189,"Ciénega",null,"Educación",5]
[null,null,null,null,null,null,null,null,null,null,null,null,null,null,null,null,null,null,null,null,null,null,null,null,null,null,null,null,null,null,null,null,null,null,null,null,null,null,null,null,null,null,null,null,null,null,null,null,null,null,null,null,null,null,"15212Gobierno territorial","Boyacá",15212,"Coper",null,"Gobierno territorial",8]
[null,null,null,null,null,null,null,null,null,null,null,null,null,null,null,null,null,null,null,null,null,null,null,null,null,null,null,null,null,null,null,null,null,null,null,null,null,null,null,null,null,null,null,null,null,null,null,null,null,null,null,null,null,null,"15218Justicia y del Derecho","Boyacá",15218,"Covarachía",null,"Justicia y del Derecho",11]
[null,null,null,null,null,null,null,null,null,null,null,null,null,null,null,null,null,null,null,null,null,null,null,null,null,null,null,null,null,null,null,null,null,null,null,null,null,null,null,null,null,null,null,null,null,null,null,null,null,null,null,null,null,null,"15224Transporte","Boyacá",15224,"Cucaita",null,"Transporte",3]
[null,null,null,null,null,null,null,null,null,null,null,null,null,null,null,null,null,null,null,null,null,null,null,null,null,null,null,null,null,null,null,null,null,null,null,null,null,null,null,null,null,null,null,null,null,null,null,null,null,null,null,null,null,null,"15238Tecnologías de la Información y las Comunicaciones","Boyacá",15238,"Duitama",null,"Tecnologías de la Información y las Comunicaciones",2]
[null,null,null,null,null,null,null,null,null,null,null,null,null,null,null,null,null,null,null,null,null,null,null,null,null,null,null,null,null,null,null,null,null,null,null,null,null,null,null,null,null,null,null,null,null,null,null,null,null,null,null,null,null,null,"15244Ambiente y Desarrollo Sostenible","Boyacá",15244,"El Cocuy",null,"Ambiente y Desarrollo Sostenible",12]
[null,null,null,null,null,null,null,null,null,null,null,null,null,null,null,null,null,null,null,null,null,null,null,null,null,null,null,null,null,null,null,null,null,null,null,null,null,null,null,null,null,null,null,null,null,null,null,null,null,null,null,null,null,null,"15276Desarrollo Económico","Boyacá",15276,"Floresta",null,"Desarrollo Económico",5]
[null,null,null,null,null,null,null,null,null,null,null,null,null,null,null,null,null,null,null,null,null,null,null,null,null,null,null,null,null,null,null,null,null,null,null,null,null,null,null,null,null,null,null,null,null,null,null,null,null,null,null,null,null,null,"15276Vivienda, Ciudad Y Territorio","Boyacá",15276,"Floresta",null,"Vivienda, Ciudad Y Territorio",6]
[null,null,null,null,null,null,null,null,null,null,null,null,null,null,null,null,null,null,null,null,null,null,null,null,null,null,null,null,null,null,null,null,null,null,null,null,null,null,null,null,null,null,null,null,null,null,null,null,null,null,null,null,null,null,"15299Justicia y del Derecho","Boyacá",15299,"Garagoa",null,"Justicia y del Derecho",10]
[null,null,null,null,null,null,null,null,null,null,null,null,null,null,null,null,null,null,null,null,null,null,null,null,null,null,null,null,null,null,null,null,null,null,null,null,null,null,null,null,null,null,null,null,null,null,null,null,null,null,null,null,null,null,"15317Gobierno territorial","Boyacá",15317,"Guacamayas",null,"Gobierno territorial",9]
[null,null,null,null,null,null,null,null,null,null,null,null,null,null,null,null,null,null,null,null,null,null,null,null,null,null,null,null,null,null,null,null,null,null,null,null,null,null,null,null,null,null,null,null,null,null,null,null,null,null,null,null,null,null,"15332Agricultura y desarrollo rural","Boyacá",15332,"Güicán de La Sierra",null,"Agricultura y desarrollo rural",4]
[null,null,null,null,null,null,null,null,null,null,null,null,null,null,null,null,null,null,null,null,null,null,null,null,null,null,null,null,null,null,null,null,null,null,null,null,null,null,null,null,null,null,null,null,null,null,null,null,null,null,null,null,null,null,"15367Salud y Protección social","Boyacá",15367,"Jenesano",null,"Salud y Protección social",14]
[null,null,null,null,null,null,null,null,null,null,null,null,null,null,null,null,null,null,null,null,null,null,null,null,null,null,null,null,null,null,null,null,null,null,null,null,null,null,null,null,null,null,null,null,null,null,null,null,null,null,null,null,null,null,"15380Agricultura y desarrollo rural","Boyacá",15380,"La Capilla",null,"Agricultura y desarrollo rural",3]
[null,null,null,null,null,null,null,null,null,null,null,null,null,null,null,null,null,null,null,null,null,null,null,null,null,null,null,null,null,null,null,null,null,null,null,null,null,null,null,null,null,null,null,null,null,null,null,null,null,null,null,null,null,null,"15401Desarrollo Económico","Boyacá",15401,"La Victoria",null,"Desarrollo Económico",2]
[null,null,null,null,null,null,null,null,null,null,null,null,null,null,null,null,null,null,null,null,null,null,null,null,null,null,null,null,null,null,null,null,null,null,null,null,null,null,null,null,null,null,null,null,null,null,null,null,null,null,null,null,null,null,"15425Minas y Energía","Boyacá",15425,"Macanal",null,"Minas y Energía",6]
[null,null,null,null,null,null,null,null,null,null,null,null,null,null,null,null,null,null,null,null,null,null,null,null,null,null,null,null,null,null,null,null,null,null,null,null,null,null,null,null,null,null,null,null,null,null,null,null,null,null,null,null,null,null,"15455Deporte Y Recreación","Boyacá",15455,"Miraflores",null,"Deporte Y Recreación",9]
[null,null,null,null,null,null,null,null,null,null,null,null,null,null,null,null,null,null,null,null,null,null,null,null,null,null,null,null,null,null,null,null,null,null,null,null,null,null,null,null,null,null,null,null,null,null,null,null,null,null,null,null,null,null,"15469Tecnologías de la Información y las Comunicaciones","Boyacá",15469,"Moniquirá",null,"Tecnologías de la Información y las Comunicaciones",1]
[null,null,null,null,null,null,null,null,null,null,null,null,null,null,null,null,null,null,null,null,null,null,null,null,null,null,null,null,null,null,null,null,null,null,null,null,null,null,null,null,null,null,null,null,null,null,null,null,null,null,null,null,null,null,"15469Cultura","Boyacá",15469,"Moniquirá",null,"Cultura",12]
[null,null,null,null,null,null,null,null,null,null,null,null,null,null,null,null,null,null,null,null,null,null,null,null,null,null,null,null,null,null,null,null,null,null,null,null,null,null,null,null,null,null,null,null,null,null,null,null,null,null,null,null,null,null,"15491Justicia y del Derecho","Boyacá",15491,"Nobsa",null,"Justicia y del Derecho",9]
[null,null,null,null,null,null,null,null,null,null,null,null,null,null,null,null,null,null,null,null,null,null,null,null,null,null,null,null,null,null,null,null,null,null,null,null,null,null,null,null,null,null,null,null,null,null,null,null,null,null,null,null,null,null,"15500Desarrollo Económico","Boyacá",15500,"Oicatá",null,"Desarrollo Económico",1]
[null,null,null,null,null,null,null,null,null,null,null,null,null,null,null,null,null,null,null,null,null,null,null,null,null,null,null,null,null,null,null,null,null,null,null,null,null,null,null,null,null,null,null,null,null,null,null,null,null,null,null,null,null,null,"15511Educación","Boyacá",15511,"Pachavita",null,"Educación",4]
[null,null,null,null,null,null,null,null,null,null,null,null,null,null,null,null,null,null,null,null,null,null,null,null,null,null,null,null,null,null,null,null,null,null,null,null,null,null,null,null,null,null,null,null,null,null,null,null,null,null,null,null,null,null,"15516Vivienda, Ciudad Y Territorio","Boyacá",15516,"Paipa",null,"Vivienda, Ciudad Y Territorio",7]
[null,null,null,null,null,null,null,null,null,null,null,null,null,null,null,null,null,null,null,null,null,null,null,null,null,null,null,null,null,null,null,null,null,null,null,null,null,null,null,null,null,null,null,null,null,null,null,null,null,null,null,null,null,null,"15522Inclusión Social Y Reconciliación","Boyacá",15522,"Panqueba",null,"Inclusión Social Y Reconciliación",7]
[null,null,null,null,null,null,null,null,null,null,null,null,null,null,null,null,null,null,null,null,null,null,null,null,null,null,null,null,null,null,null,null,null,null,null,null,null,null,null,null,null,null,null,null,null,null,null,null,null,null,null,null,null,null,"15542Transporte","Boyacá",15542,"Pesca",null,"Transporte",2]
[null,null,null,null,null,null,null,null,null,null,null,null,null,null,null,null,null,null,null,null,null,null,null,null,null,null,null,null,null,null,null,null,null,null,null,null,null,null,null,null,null,null,null,null,null,null,null,null,null,null,null,null,null,null,"15550Justicia y del Derecho","Boyacá",15550,"Pisba",null,"Justicia y del Derecho",12]
[null,null,null,null,null,null,null,null,null,null,null,null,null,null,null,null,null,null,null,null,null,null,null,null,null,null,null,null,null,null,null,null,null,null,null,null,null,null,null,null,null,null,null,null,null,null,null,null,null,null,null,null,null,null,"15599Desarrollo Económico","Boyacá",15599,"Ramiriquí",null,"Desarrollo Económico",1]
[null,null,null,null,null,null,null,null,null,null,null,null,null,null,null,null,null,null,null,null,null,null,null,null,null,null,null,null,null,null,null,null,null,null,null,null,null,null,null,null,null,null,null,null,null,null,null,null,null,null,null,null,null,null,"15600Salud y Protección social","Boyacá",15600,"Ráquira",null,"Salud y Protección social",14]
[null,null,null,null,null,null,null,null,null,null,null,null,null,null,null,null,null,null,null,null,null,null,null,null,null,null,null,null,null,null,null,null,null,null,null,null,null,null,null,null,null,null,null,null,null,null,null,null,null,null,null,null,null,null,"15638Transporte","Boyacá",15638,"Sáchica",null,"Transporte",4]
[null,null,null,null,null,null,null,null,null,null,null,null,null,null,null,null,null,null,null,null,null,null,null,null,null,null,null,null,null,null,null,null,null,null,null,null,null,null,null,null,null,null,null,null,null,null,null,null,null,null,null,null,null,null,"15646Gobierno territorial","Boyacá",15646,"Samacá",null,"Gobierno territorial",8]
[null,null,null,null,null,null,null,null,null,null,null,null,null,null,null,null,null,null,null,null,null,null,null,null,null,null,null,null,null,null,null,null,null,null,null,null,null,null,null,null,null,null,null,null,null,null,null,null,null,null,null,null,null,null,"15664Transporte","Boyacá",15664,"San José de Pare",null,"Transporte",7]
[null,null,null,null,null,null,null,null,null,null,null,null,null,null,null,null,null,null,null,null,null,null,null,null,null,null,null,null,null,null,null,null,null,null,null,null,null,null,null,null,null,null,null,null,null,null,null,null,null,null,null,null,null,null,"15676Justicia y del Derecho","Boyacá",15676,"San Miguel de Sema",null,"Justicia y del Derecho",10]
[null,null,null,null,null,null,null,null,null,null,null,null,null,null,null,null,null,null,null,null,null,null,null,null,null,null,null,null,null,null,null,null,null,null,null,null,null,null,null,null,null,null,null,null,null,null,null,null,null,null,null,null,null,null,"15681Agricultura y desarrollo rural","Boyacá",15681,"San Pablo de Borbur",null,"Agricultura y desarrollo rural",6]
[null,null,null,null,null,null,null,null,null,null,null,null,null,null,null,null,null,null,null,null,null,null,null,null,null,null,null,null,null,null,null,null,null,null,null,null,null,null,null,null,null,null,null,null,null,null,null,null,null,null,null,null,null,null,"15690Cultura","Boyacá",15690,"Santa María",null,"Cultura",13]
[null,null,null,null,null,null,null,null,null,null,null,null,null,null,null,null,null,null,null,null,null,null,null,null,null,null,null,null,null,null,null,null,null,null,null,null,null,null,null,null,null,null,null,null,null,null,null,null,null,null,null,null,null,null,"15720Desarrollo Económico","Boyacá",15720,"Sativanorte",null,"Desarrollo Económico",2]
[null,null,null,null,null,null,null,null,null,null,null,null,null,null,null,null,null,null,null,null,null,null,null,null,null,null,null,null,null,null,null,null,null,null,null,null,null,null,null,null,null,null,null,null,null,null,null,null,null,null,null,null,null,null,"15753Minas y Energía","Boyacá",15753,"Soatá",null,"Minas y Energía",5]
[null,null,null,null,null,null,null,null,null,null,null,null,null,null,null,null,null,null,null,null,null,null,null,null,null,null,null,null,null,null,null,null,null,null,null,null,null,null,null,null,null,null,null,null,null,null,null,null,null,null,null,null,null,null,"15755Minas y Energía","Boyacá",15755,"Socotá",null,"Minas y Energía",5]
[null,null,null,null,null,null,null,null,null,null,null,null,null,null,null,null,null,null,null,null,null,null,null,null,null,null,null,null,null,null,null,null,null,null,null,null,null,null,null,null,null,null,null,null,null,null,null,null,null,null,null,null,null,null,"15759Salud y Protección social","Boyacá",15759,"Sogamoso",null,"Salud y Protección social",13]
[null,null,null,null,null,null,null,null,null,null,null,null,null,null,null,null,null,null,null,null,null,null,null,null,null,null,null,null,null,null,null,null,null,null,null,null,null,null,null,null,null,null,null,null,null,null,null,null,null,null,null,null,null,null,"15763Deporte Y Recreación","Boyacá",15763,"Sotaquirá",null,"Deporte Y Recreación",10]
[null,null,null,null,null,null,null,null,null,null,null,null,null,null,null,null,null,null,null,null,null,null,null,null,null,null,null,null,null,null,null,null,null,null,null,null,null,null,null,null,null,null,null,null,null,null,null,null,null,null,null,null,null,null,"15774Cultura","Boyacá",15774,"Susacón",null,"Cultura",13]
[null,null,null,null,null,null,null,null,null,null,null,null,null,null,null,null,null,null,null,null,null,null,null,null,null,null,null,null,null,null,null,null,null,null,null,null,null,null,null,null,null,null,null,null,null,null,null,null,null,null,null,null,null,null,"15776Justicia y del Derecho","Boyacá",15776,"Sutamarchán",null,"Justicia y del Derecho",11]
[null,null,null,null,null,null,null,null,null,null,null,null,null,null,null,null,null,null,null,null,null,null,null,null,null,null,null,null,null,null,null,null,null,null,null,null,null,null,null,null,null,null,null,null,null,null,null,null,null,null,null,null,null,null,"15804Desarrollo Económico","Boyacá",15804,"Tibaná",null,"Desarrollo Económico",2]
[null,null,null,null,null,null,null,null,null,null,null,null,null,null,null,null,null,null,null,null,null,null,null,null,null,null,null,null,null,null,null,null,null,null,null,null,null,null,null,null,null,null,null,null,null,null,null,null,null,null,null,null,null,null,"15804Transporte","Boyacá",15804,"Tibaná",null,"Transporte",5]
[null,null,null,null,null,null,null,null,null,null,null,null,null,null,null,null,null,null,null,null,null,null,null,null,null,null,null,null,null,null,null,null,null,null,null,null,null,null,null,null,null,null,null,null,null,null,null,null,null,null,null,null,null,null,"15810Agricultura y desarrollo rural","Boyacá",15810,"Tipacoque",null,"Agricultura y desarrollo rural",5]
[null,null,null,null,null,null,null,null,null,null,null,null,null,null,null,null,null,null,null,null,null,null,null,null,null,null,null,null,null,null,null,null,null,null,null,null,null,null,null,null,null,null,null,null,null,null,null,null,null,null,null,null,null,null,"15820Gobierno territorial","Boyacá",15820,"Tópaga",null,"Gobierno territorial",8]
[null,null,null,null,null,null,null,null,null,null,null,null,null,null,null,null,null,null,null,null,null,null,null,null,null,null,null,null,null,null,null,null,null,null,null,null,null,null,null,null,null,null,null,null,null,null,null,null,null,null,null,null,null,null,"15832Vivienda, Ciudad Y Territorio","Boyacá",15832,"Tununguá",null,"Vivienda, Ciudad Y Territorio",4]
[null,null,null,null,null,null,null,null,null,null,null,null,null,null,null,null,null,null,null,null,null,null,null,null,null,null,null,null,null,null,null,null,null,null,null,null,null,null,null,null,null,null,null,null,null,null,null,null,null,null,null,null,null,null,"15835Justicia y del Derecho","Boyacá",15835,"Turmequé",null,"Justicia y del Derecho",11]
[null,null,null,null,null,null,null,null,null,null,null,null,null,null,null,null,null,null,null,null,null,null,null,null,null,null,null,null,null,null,null,null,null,null,null,null,null,null,null,null,null,null,null,null,null,null,null,null,null,null,null,null,null,null,"15839Cultura","Boyacá",15839,"Tutazá",null,"Cultura",12]
[null,null,null,null,null,null,null,null,null,null,null,null,null,null,null,null,null,null,null,null,null,null,null,null,null,null,null,null,null,null,null,null,null,null,null,null,null,null,null,null,null,null,null,null,null,null,null,null,null,null,null,null,null,null,"15842Salud y Protección social","Boyacá",15842,"Úmbita",null,"Salud y Protección social",14]
[null,null,null,null,null,null,null,null,null,null,null,null,null,null,null,null,null,null,null,null,null,null,null,null,null,null,null,null,null,null,null,null,null,null,null,null,null,null,null,null,null,null,null,null,null,null,null,null,null,null,null,null,null,null,"17001Educación","Caldas",17001,"Manizales",null,"Educación",3]
[null,null,null,null,null,null,null,null,null,null,null,null,null,null,null,null,null,null,null,null,null,null,null,null,null,null,null,null,null,null,null,null,null,null,null,null,null,null,null,null,null,null,null,null,null,null,null,null,null,null,null,null,null,null,{"$f":"+BE6340&BH6340","v":"17013Deporte Y Recreación"},"Caldas",17013,"Aguadas",null,"Deporte Y Recreación",10]
[null,null,null,null,null,null,null,null,null,null,null,null,null,null,null,null,null,null,null,null,null,null,null,null,null,null,null,null,null,null,null,null,null,null,null,null,null,null,null,null,null,null,null,null,null,null,null,null,null,null,null,null,null,null,"17050Vivienda, Ciudad Y Territorio","Caldas",17050,"Aranzazu",null,"Vivienda, Ciudad Y Territorio",6]
[null,null,null,null,null,null,null,null,null,null,null,null,null,null,null,null,null,null,null,null,null,null,null,null,null,null,null,null,null,null,null,null,null,null,null,null,null,null,null,null,null,null,null,null,null,null,null,null,null,null,null,null,null,null,"17174Transporte","Caldas",17174,"Chinchiná",null,"Transporte",9]
[null,null,null,null,null,null,null,null,null,null,null,null,null,null,null,null,null,null,null,null,null,null,null,null,null,null,null,null,null,null,null,null,null,null,null,null,null,null,null,null,null,null,null,null,null,null,null,null,null,null,null,null,null,null,"17433Justicia y del Derecho","Caldas",17433,"Manzanares",null,"Justicia y del Derecho",9]
[null,null,null,null,null,null,null,null,null,null,null,null,null,null,null,null,null,null,null,null,null,null,null,null,null,null,null,null,null,null,null,null,null,null,null,null,null,null,null,null,null,null,null,null,null,null,null,null,null,null,null,null,null,null,"17433Salud y Protección social","Caldas",17433,"Manzanares",null,"Salud y Protección social",12]
[null,null,null,null,null,null,null,null,null,null,null,null,null,null,null,null,null,null,null,null,null,null,null,null,null,null,null,null,null,null,null,null,null,null,null,null,null,null,null,null,null,null,null,null,null,null,null,null,null,null,null,null,null,null,"17486Educación","Caldas",17486,"Neira",null,"Educación",3]
[null,null,null,null,null,null,null,null,null,null,null,null,null,null,null,null,null,null,null,null,null,null,null,null,null,null,null,null,null,null,null,null,null,null,null,null,null,null,null,null,null,null,null,null,null,null,null,null,null,null,null,null,null,null,"17513Educación","Caldas",17513,"Pácora",null,"Educación",3]
[null,null,null,null,null,null,null,null,null,null,null,null,null,null,null,null,null,null,null,null,null,null,null,null,null,null,null,null,null,null,null,null,null,null,null,null,null,null,null,null,null,null,null,null,null,null,null,null,null,null,null,null,null,null,"17524Agricultura y desarrollo rural","Caldas",17524,"Palestina",null,"Agricultura y desarrollo rural",4]
[null,null,null,null,null,null,null,null,null,null,null,null,null,null,null,null,null,null,null,null,null,null,null,null,null,null,null,null,null,null,null,null,null,null,null,null,null,null,null,null,null,null,null,null,null,null,null,null,null,null,null,null,null,null,"17616Tecnologías de la Información y las Comunicaciones","Caldas",17616,"Risaralda",null,"Tecnologías de la Información y las Comunicaciones",1]
[null,null,null,null,null,null,null,null,null,null,null,null,null,null,null,null,null,null,null,null,null,null,null,null,null,null,null,null,null,null,null,null,null,null,null,null,null,null,null,null,null,null,null,null,null,null,null,null,null,null,null,null,null,null,"17662Ambiente y Desarrollo Sostenible","Caldas",17662,"Samaná",null,"Ambiente y Desarrollo Sostenible",9]
[null,null,null,null,null,null,null,null,null,null,null,null,null,null,null,null,null,null,null,null,null,null,null,null,null,null,null,null,null,null,null,null,null,null,null,null,null,null,null,null,null,null,null,null,null,null,null,null,null,null,null,null,null,null,"17665Justicia y del Derecho","Caldas",17665,"San José",null,"Justicia y del Derecho",9]
[null,null,null,null,null,null,null,null,null,null,null,null,null,null,null,null,null,null,null,null,null,null,null,null,null,null,null,null,null,null,null,null,null,null,null,null,null,null,null,null,null,null,null,null,null,null,null,null,null,null,null,null,null,null,"17867Ambiente y Desarrollo Sostenible","Caldas",17867,"Victoria",null,"Ambiente y Desarrollo Sostenible",12]
[null,null,null,null,null,null,null,null,null,null,null,null,null,null,null,null,null,null,null,null,null,null,null,null,null,null,null,null,null,null,null,null,null,null,null,null,null,null,null,null,null,null,null,null,null,null,null,null,null,null,null,null,null,null,"19022Desarrollo Económico","Cauca",19022,"Almaguer",null,"Desarrollo Económico",1]
[null,null,null,null,null,null,null,null,null,null,null,null,null,null,null,null,null,null,null,null,null,null,null,null,null,null,null,null,null,null,null,null,null,null,null,null,null,null,null,null,null,null,null,null,null,null,null,null,null,null,null,null,null,null,"19290Inclusión Social Y Reconciliación","Cauca",19290,"Florencia",null,"Inclusión Social Y Reconciliación",8]
[null,null,null,null,null,null,null,null,null,null,null,null,null,null,null,null,null,null,null,null,null,null,null,null,null,null,null,null,null,null,null,null,null,null,null,null,null,null,null,null,null,null,null,null,null,null,null,null,null,null,null,null,null,null,"19300Educación","Cauca",19300,"Guachené",null,"Educación",4]
[null,null,null,null,null,null,null,null,null,null,null,null,null,null,null,null,null,null,null,null,null,null,null,null,null,null,null,null,null,null,null,null,null,null,null,null,null,null,null,null,null,null,null,null,null,null,null,null,null,null,null,null,null,null,"19355Salud y Protección social","Cauca",19355,"Inzá",null,"Salud y Protección social",14]
[null,null,null,null,null,null,null,null,null,null,null,null,null,null,null,null,null,null,null,null,null,null,null,null,null,null,null,null,null,null,null,null,null,null,null,null,null,null,null,null,null,null,null,null,null,null,null,null,null,null,null,null,null,null,"19517Justicia y del Derecho","Cauca",19517,"Páez",null,"Justicia y del Derecho",9]
[null,null,null,null,null,null,null,null,null,null,null,null,null,null,null,null,null,null,null,null,null,null,null,null,null,null,null,null,null,null,null,null,null,null,null,null,null,null,null,null,null,null,null,null,null,null,null,null,null,null,null,null,null,null,"19533Gobierno territorial","Cauca",19533,"Piamonte",null,"Gobierno territorial",10]
[null,null,null,null,null,null,null,null,null,null,null,null,null,null,null,null,null,null,null,null,null,null,null,null,null,null,null,null,null,null,null,null,null,null,null,null,null,null,null,null,null,null,null,null,null,null,null,null,null,null,null,null,null,null,"19585Minas y Energía","Cauca",19585,"Puracé",null,"Minas y Energía",14]
[null,null,null,null,null,null,null,null,null,null,null,null,null,null,null,null,null,null,null,null,null,null,null,null,null,null,null,null,null,null,null,null,null,null,null,null,null,null,null,null,null,null,null,null,null,null,null,null,null,null,null,null,null,null,"19743Desarrollo Económico","Cauca",19743,"Silvia",null,"Desarrollo Económico",1]
[null,null,null,null,null,null,null,null,null,null,null,null,null,null,null,null,null,null,null,null,null,null,null,null,null,null,null,null,null,null,null,null,null,null,null,null,null,null,null,null,null,null,null,null,null,null,null,null,null,null,null,null,null,null,"19760Agricultura y desarrollo rural","Cauca",19760,"Sotará Paispamba",null,"Agricultura y desarrollo rural",7]
[null,null,null,null,null,null,null,null,null,null,null,null,null,null,null,null,null,null,null,null,null,null,null,null,null,null,null,null,null,null,null,null,null,null,null,null,null,null,null,null,null,null,null,null,null,null,null,null,null,null,null,null,null,null,"19807Transporte","Cauca",19807,"Timbío",null,"Transporte",4]
[null,null,null,null,null,null,null,null,null,null,null,null,null,null,null,null,null,null,null,null,null,null,null,null,null,null,null,null,null,null,null,null,null,null,null,null,null,null,null,null,null,null,null,null,null,null,null,null,null,null,null,null,null,null,"20011Minas y Energía","Cesar",20011,"Aguachica",null,"Minas y Energía",7]
[null,null,null,null,null,null,null,null,null,null,null,null,null,null,null,null,null,null,null,null,null,null,null,null,null,null,null,null,null,null,null,null,null,null,null,null,null,null,null,null,null,null,null,null,null,null,null,null,null,null,null,null,null,null,"20060Vivienda, Ciudad Y Territorio","Cesar",20060,"Bosconia",null,"Vivienda, Ciudad Y Territorio",7]
[null,null,null,null,null,null,null,null,null,null,null,null,null,null,null,null,null,null,null,null,null,null,null,null,null,null,null,null,null,null,null,null,null,null,null,null,null,null,null,null,null,null,null,null,null,null,null,null,null,null,null,null,null,null,"20175Transporte","Cesar",20175,"Chimichagua",null,"Transporte",10]
[null,null,null,null,null,null,null,null,null,null,null,null,null,null,null,null,null,null,null,null,null,null,null,null,null,null,null,null,null,null,null,null,null,null,null,null,null,null,null,null,null,null,null,null,null,null,null,null,null,null,null,null,null,null,"20238Cultura","Cesar",20238,"El Copey",null,"Cultura",13]
[null,null,null,null,null,null,null,null,null,null,null,null,null,null,null,null,null,null,null,null,null,null,null,null,null,null,null,null,null,null,null,null,null,null,null,null,null,null,null,null,null,null,null,null,null,null,null,null,null,null,null,null,null,null,"20295Vivienda, Ciudad Y Territorio","Cesar",20295,"Gamarra",null,"Vivienda, Ciudad Y Territorio",5]
[null,null,null,null,null,null,null,null,null,null,null,null,null,null,null,null,null,null,null,null,null,null,null,null,null,null,null,null,null,null,null,null,null,null,null,null,null,null,null,null,null,null,null,null,null,null,null,null,null,null,null,null,null,null,"20383Desarrollo Económico","Cesar",20383,"La Gloria",null,"Desarrollo Económico",2]
[null,null,null,null,null,null,null,null,null,null,null,null,null,null,null,null,null,null,null,null,null,null,null,null,null,null,null,null,null,null,null,null,null,null,null,null,null,null,null,null,null,null,null,null,null,null,null,null,null,null,null,null,null,null,"20550Salud y Protección social","Cesar",20550,"Pelaya",null,"Salud y Protección social",12]
[null,null,null,null,null,null,null,null,null,null,null,null,null,null,null,null,null,null,null,null,null,null,null,null,null,null,null,null,null,null,null,null,null,null,null,null,null,null,null,null,null,null,null,null,null,null,null,null,null,null,null,null,null,null,"20770Gobierno territorial","Cesar",20770,"San Martín",null,"Gobierno territorial",7]
[null,null,null,null,null,null,null,null,null,null,null,null,null,null,null,null,null,null,null,null,null,null,null,null,null,null,null,null,null,null,null,null,null,null,null,null,null,null,null,null,null,null,null,null,null,null,null,null,null,null,null,null,null,null,"20787Gobierno territorial","Cesar",20787,"Tamalameque",null,"Gobierno territorial",8]
[null,null,null,null,null,null,null,null,null,null,null,null,null,null,null,null,null,null,null,null,null,null,null,null,null,null,null,null,null,null,null,null,null,null,null,null,null,null,null,null,null,null,null,null,null,null,null,null,null,null,null,null,null,null,"23079Salud y Protección social","Córdoba",23079,"Buenavista",null,"Salud y Protección social",12]
[null,null,null,null,null,null,null,null,null,null,null,null,null,null,null,null,null,null,null,null,null,null,null,null,null,null,null,null,null,null,null,null,null,null,null,null,null,null,null,null,null,null,null,null,null,null,null,null,null,null,null,null,null,null,"23162Ambiente y Desarrollo Sostenible","Córdoba",23162,"Cereté",null,"Ambiente y Desarrollo Sostenible",13]
[null,null,null,null,null,null,null,null,null,null,null,null,null,null,null,null,null,null,null,null,null,null,null,null,null,null,null,null,null,null,null,null,null,null,null,null,null,null,null,null,null,null,null,null,null,null,null,null,null,null,null,null,null,null,"23168Minas y Energía","Córdoba",23168,"Chimá",null,"Minas y Energía",4]
[null,null,null,null,null,null,null,null,null,null,null,null,null,null,null,null,null,null,null,null,null,null,null,null,null,null,null,null,null,null,null,null,null,null,null,null,null,null,null,null,null,null,null,null,null,null,null,null,null,null,null,null,null,null,"23300Tecnologías de la Información y las Comunicaciones","Córdoba",23300,"Cotorra",null,"Tecnologías de la Información y las Comunicaciones",2]
[null,null,null,null,null,null,null,null,null,null,null,null,null,null,null,null,null,null,null,null,null,null,null,null,null,null,null,null,null,null,null,null,null,null,null,null,null,null,null,null,null,null,null,null,null,null,null,null,null,null,null,null,null,null,"23419Inclusión Social Y Reconciliación","Córdoba",23419,"Los Córdobas",null,"Inclusión Social Y Reconciliación",5]
[null,null,null,null,null,null,null,null,null,null,null,null,null,null,null,null,null,null,null,null,null,null,null,null,null,null,null,null,null,null,null,null,null,null,null,null,null,null,null,null,null,null,null,null,null,null,null,null,null,null,null,null,null,null,"23500Vivienda, Ciudad Y Territorio","Córdoba",23500,"Moñitos",null,"Vivienda, Ciudad Y Territorio",3]
[null,null,null,null,null,null,null,null,null,null,null,null,null,null,null,null,null,null,null,null,null,null,null,null,null,null,null,null,null,null,null,null,null,null,null,null,null,null,null,null,null,null,null,null,null,null,null,null,null,null,null,null,null,null,"23555Justicia y del Derecho","Córdoba",23555,"Planeta Rica",null,"Justicia y del Derecho",8]
[null,null,null,null,null,null,null,null,null,null,null,null,null,null,null,null,null,null,null,null,null,null,null,null,null,null,null,null,null,null,null,null,null,null,null,null,null,null,null,null,null,null,null,null,null,null,null,null,null,null,null,null,null,null,"23574Deporte Y Recreación","Córdoba",23574,"Puerto Escondido",null,"Deporte Y Recreación",11]
[null,null,null,null,null,null,null,null,null,null,null,null,null,null,null,null,null,null,null,null,null,null,null,null,null,null,null,null,null,null,null,null,null,null,null,null,null,null,null,null,null,null,null,null,null,null,null,null,null,null,null,null,null,null,"23586Deporte Y Recreación","Córdoba",23586,"Purísima de La Concepción",null,"Deporte Y Recreación",11]
[null,null,null,null,null,null,null,null,null,null,null,null,null,null,null,null,null,null,null,null,null,null,null,null,null,null,null,null,null,null,null,null,null,null,null,null,null,null,null,null,null,null,null,null,null,null,null,null,null,null,null,null,null,null,"23672Ambiente y Desarrollo Sostenible","Córdoba",23672,"San Antero",null,"Ambiente y Desarrollo Sostenible",14]
[null,null,null,null,null,null,null,null,null,null,null,null,null,null,null,null,null,null,null,null,null,null,null,null,null,null,null,null,null,null,null,null,null,null,null,null,null,null,null,null,null,null,null,null,null,null,null,null,null,null,null,null,null,null,"23678Justicia y del Derecho","Córdoba",23678,"San Carlos",null,"Justicia y del Derecho",9]
[null,null,null,null,null,null,null,null,null,null,null,null,null,null,null,null,null,null,null,null,null,null,null,null,null,null,null,null,null,null,null,null,null,null,null,null,null,null,null,null,null,null,null,null,null,null,null,null,null,null,null,null,null,null,"23815Minas y Energía","Córdoba",23815,"Tuchín",null,"Minas y Energía",3]
[null,null,null,null,null,null,null,null,null,null,null,null,null,null,null,null,null,null,null,null,null,null,null,null,null,null,null,null,null,null,null,null,null,null,null,null,null,null,null,null,null,null,null,null,null,null,null,null,null,null,null,null,null,null,"25035Vivienda, Ciudad Y Territorio","Cundinamarca",25035,"Anapoima",null,"Vivienda, Ciudad Y Territorio",6]
[null,null,null,null,null,null,null,null,null,null,null,null,null,null,null,null,null,null,null,null,null,null,null,null,null,null,null,null,null,null,null,null,null,null,null,null,null,null,null,null,null,null,null,null,null,null,null,null,null,null,null,null,null,null,"25053Transporte","Cundinamarca",25053,"Arbeláez",null,"Transporte",9]
[null,null,null,null,null,null,null,null,null,null,null,null,null,null,null,null,null,null,null,null,null,null,null,null,null,null,null,null,null,null,null,null,null,null,null,null,null,null,null,null,null,null,null,null,null,null,null,null,null,null,null,null,null,null,"25086Deporte Y Recreación","Cundinamarca",25086,"Beltrán",null,"Deporte Y Recreación",9]
[null,null,null,null,null,null,null,null,null,null,null,null,null,null,null,null,null,null,null,null,null,null,null,null,null,null,null,null,null,null,null,null,null,null,null,null,null,null,null,null,null,null,null,null,null,null,null,null,null,null,null,null,null,null,"25123Desarrollo Económico","Cundinamarca",25123,"Cachipay",null,"Desarrollo Económico",2]
[null,null,null,null,null,null,null,null,null,null,null,null,null,null,null,null,null,null,null,null,null,null,null,null,null,null,null,null,null,null,null,null,null,null,null,null,null,null,null,null,null,null,null,null,null,null,null,null,null,null,null,null,null,null,"25126Minas y Energía","Cundinamarca",25126,"Cajicá",null,"Minas y Energía",14]
[null,null,null,null,null,null,null,null,null,null,null,null,null,null,null,null,null,null,null,null,null,null,null,null,null,null,null,null,null,null,null,null,null,null,null,null,null,null,null,null,null,null,null,null,null,null,null,null,null,null,null,null,null,null,"25151Desarrollo Económico","Cundinamarca",25151,"Cáqueza",null,"Desarrollo Económico",1]
[null,null,null,null,null,null,null,null,null,null,null,null,null,null,null,null,null,null,null,null,null,null,null,null,null,null,null,null,null,null,null,null,null,null,null,null,null,null,null,null,null,null,null,null,null,null,null,null,null,null,null,null,null,null,"25168Cultura","Cundinamarca",25168,"Chaguaní",null,"Cultura",14]
[null,null,null,null,null,null,null,null,null,null,null,null,null,null,null,null,null,null,null,null,null,null,null,null,null,null,null,null,null,null,null,null,null,null,null,null,null,null,null,null,null,null,null,null,null,null,null,null,null,null,null,null,null,null,"25181Vivienda, Ciudad Y Territorio","Cundinamarca",25181,"Choachí",null,"Vivienda, Ciudad Y Territorio",6]
[null,null,null,null,null,null,null,null,null,null,null,null,null,null,null,null,null,null,null,null,null,null,null,null,null,null,null,null,null,null,null,null,null,null,null,null,null,null,null,null,null,null,null,null,null,null,null,null,null,null,null,null,null,null,"25183Minas y Energía","Cundinamarca",25183,"Chocontá",null,"Minas y Energía",8]
[null,null,null,null,null,null,null,null,null,null,null,null,null,null,null,null,null,null,null,null,null,null,null,null,null,null,null,null,null,null,null,null,null,null,null,null,null,null,null,null,null,null,null,null,null,null,null,null,null,null,null,null,null,null,"25214Ambiente y Desarrollo Sostenible","Cundinamarca",25214,"Cota",null,"Ambiente y Desarrollo Sostenible",9]
[null,null,null,null,null,null,null,null,null,null,null,null,null,null,null,null,null,null,null,null,null,null,null,null,null,null,null,null,null,null,null,null,null,null,null,null,null,null,null,null,null,null,null,null,null,null,null,null,null,null,null,null,null,null,"25258Justicia y del Derecho","Cundinamarca",25258,"El Peñón",null,"Justicia y del Derecho",12]
[null,null,null,null,null,null,null,null,null,null,null,null,null,null,null,null,null,null,null,null,null,null,null,null,null,null,null,null,null,null,null,null,null,null,null,null,null,null,null,null,null,null,null,null,null,null,null,null,null,null,null,null,null,null,"25279Vivienda, Ciudad Y Territorio","Cundinamarca",25279,"Fómeque",null,"Vivienda, Ciudad Y Territorio",7]
[null,null,null,null,null,null,null,null,null,null,null,null,null,null,null,null,null,null,null,null,null,null,null,null,null,null,null,null,null,null,null,null,null,null,null,null,null,null,null,null,null,null,null,null,null,null,null,null,null,null,null,null,null,null,"25281Desarrollo Económico","Cundinamarca",25281,"Fosca",null,"Desarrollo Económico",1]
[null,null,null,null,null,null,null,null,null,null,null,null,null,null,null,null,null,null,null,null,null,null,null,null,null,null,null,null,null,null,null,null,null,null,null,null,null,null,null,null,null,null,null,null,null,null,null,null,null,null,null,null,null,null,"25290Desarrollo Económico","Cundinamarca",25290,"Fusagasugá",null,"Desarrollo Económico",1]
[null,null,null,null,null,null,null,null,null,null,null,null,null,null,null,null,null,null,null,null,null,null,null,null,null,null,null,null,null,null,null,null,null,null,null,null,null,null,null,null,null,null,null,null,null,null,null,null,null,null,null,null,null,null,"25295Vivienda, Ciudad Y Territorio","Cundinamarca",25295,"Gachancipá",null,"Vivienda, Ciudad Y Territorio",6]
[null,null,null,null,null,null,null,null,null,null,null,null,null,null,null,null,null,null,null,null,null,null,null,null,null,null,null,null,null,null,null,null,null,null,null,null,null,null,null,null,null,null,null,null,null,null,null,null,null,null,null,null,null,null,"25297Minas y Energía","Cundinamarca",25297,"Gachetá",null,"Minas y Energía",7]
[null,null,null,null,null,null,null,null,null,null,null,null,null,null,null,null,null,null,null,null,null,null,null,null,null,null,null,null,null,null,null,null,null,null,null,null,null,null,null,null,null,null,null,null,null,null,null,null,null,null,null,null,null,null,"25307Cultura","Cundinamarca",25307,"Girardot",null,"Cultura",13]
[null,null,null,null,null,null,null,null,null,null,null,null,null,null,null,null,null,null,null,null,null,null,null,null,null,null,null,null,null,null,null,null,null,null,null,null,null,null,null,null,null,null,null,null,null,null,null,null,null,null,null,null,null,null,"25320Justicia y del Derecho","Cundinamarca",25320,"Guaduas",null,"Justicia y del Derecho",12]
[null,null,null,null,null,null,null,null,null,null,null,null,null,null,null,null,null,null,null,null,null,null,null,null,null,null,null,null,null,null,null,null,null,null,null,null,null,null,null,null,null,null,null,null,null,null,null,null,null,null,null,null,null,null,"25322Gobierno territorial","Cundinamarca",25322,"Guasca",null,"Gobierno territorial",7]
[null,null,null,null,null,null,null,null,null,null,null,null,null,null,null,null,null,null,null,null,null,null,null,null,null,null,null,null,null,null,null,null,null,null,null,null,null,null,null,null,null,null,null,null,null,null,null,null,null,null,null,null,null,null,"25335Desarrollo Económico","Cundinamarca",25335,"Guayabetal",null,"Desarrollo Económico",1]
[null,null,null,null,null,null,null,null,null,null,null,null,null,null,null,null,null,null,null,null,null,null,null,null,null,null,null,null,null,null,null,null,null,null,null,null,null,null,null,null,null,null,null,null,null,null,null,null,null,null,null,null,null,null,"25368Educación","Cundinamarca",25368,"Jerusalén",null,"Educación",4]
[null,null,null,null,null,null,null,null,null,null,null,null,null,null,null,null,null,null,null,null,null,null,null,null,null,null,null,null,null,null,null,null,null,null,null,null,null,null,null,null,null,null,null,null,null,null,null,null,null,null,null,null,null,null,"25377Vivienda, Ciudad Y Territorio","Cundinamarca",25377,"La Calera",null,"Vivienda, Ciudad Y Territorio",6]
[null,null,null,null,null,null,null,null,null,null,null,null,null,null,null,null,null,null,null,null,null,null,null,null,null,null,null,null,null,null,null,null,null,null,null,null,null,null,null,null,null,null,null,null,null,null,null,null,null,null,null,null,null,null,"25386Gobierno territorial","Cundinamarca",25386,"La Mesa",null,"Gobierno territorial",7]
[null,null,null,null,null,null,null,null,null,null,null,null,null,null,null,null,null,null,null,null,null,null,null,null,null,null,null,null,null,null,null,null,null,null,null,null,null,null,null,null,null,null,null,null,null,null,null,null,null,null,null,null,null,null,"25402Transporte","Cundinamarca",25402,"La Vega",null,"Transporte",10]
[null,null,null,null,null,null,null,null,null,null,null,null,null,null,null,null,null,null,null,null,null,null,null,null,null,null,null,null,null,null,null,null,null,null,null,null,null,null,null,null,null,null,null,null,null,null,null,null,null,null,null,null,null,null,"25426Educación","Cundinamarca",25426,"Machetá",null,"Educación",4]
[null,null,null,null,null,null,null,null,null,null,null,null,null,null,null,null,null,null,null,null,null,null,null,null,null,null,null,null,null,null,null,null,null,null,null,null,null,null,null,null,null,null,null,null,null,null,null,null,null,null,null,null,null,null,"25430Salud y Protección social","Cundinamarca",25430,"Madrid",null,"Salud y Protección social",13]
[null,null,null,null,null,null,null,null,null,null,null,null,null,null,null,null,null,null,null,null,null,null,null,null,null,null,null,null,null,null,null,null,null,null,null,null,null,null,null,null,null,null,null,null,null,null,null,null,null,null,null,null,null,null,"25438Cultura","Cundinamarca",25438,"Medina",null,"Cultura",12]
[null,null,null,null,null,null,null,null,null,null,null,null,null,null,null,null,null,null,null,null,null,null,null,null,null,null,null,null,null,null,null,null,null,null,null,null,null,null,null,null,null,null,null,null,null,null,null,null,null,null,null,null,null,null,"25486Tecnologías de la Información y las Comunicaciones","Cundinamarca",25486,"Nemocón",null,"Tecnologías de la Información y las Comunicaciones",2]
[null,null,null,null,null,null,null,null,null,null,null,null,null,null,null,null,null,null,null,null,null,null,null,null,null,null,null,null,null,null,null,null,null,null,null,null,null,null,null,null,null,null,null,null,null,null,null,null,null,null,null,null,null,null,"25489Desarrollo Económico","Cundinamarca",25489,"Nimaima",null,"Desarrollo Económico",5]
[null,null,null,null,null,null,null,null,null,null,null,null,null,null,null,null,null,null,null,null,null,null,null,null,null,null,null,null,null,null,null,null,null,null,null,null,null,null,null,null,null,null,null,null,null,null,null,null,null,null,null,null,null,null,"25491Deporte Y Recreación","Cundinamarca",25491,"Nocaima",null,"Deporte Y Recreación",10]
[null,null,null,null,null,null,null,null,null,null,null,null,null,null,null,null,null,null,null,null,null,null,null,null,null,null,null,null,null,null,null,null,null,null,null,null,null,null,null,null,null,null,null,null,null,null,null,null,null,null,null,null,null,null,"25524Transporte","Cundinamarca",25524,"Pandi",null,"Transporte",10]
[null,null,null,null,null,null,null,null,null,null,null,null,null,null,null,null,null,null,null,null,null,null,null,null,null,null,null,null,null,null,null,null,null,null,null,null,null,null,null,null,null,null,null,null,null,null,null,null,null,null,null,null,null,null,"25535Vivienda, Ciudad Y Territorio","Cundinamarca",25535,"Pasca",null,"Vivienda, Ciudad Y Territorio",5]
[null,null,null,null,null,null,null,null,null,null,null,null,null,null,null,null,null,null,null,null,null,null,null,null,null,null,null,null,null,null,null,null,null,null,null,null,null,null,null,null,null,null,null,null,null,null,null,null,null,null,null,null,null,null,"25580Cultura","Cundinamarca",25580,"Pulí",null,"Cultura",13]
[null,null,null,null,null,null,null,null,null,null,null,null,null,null,null,null,null,null,null,null,null,null,null,null,null,null,null,null,null,null,null,null,null,null,null,null,null,null,null,null,null,null,null,null,null,null,null,null,null,null,null,null,null,null,"25580Salud y Protección social","Cundinamarca",25580,"Pulí",null,"Salud y Protección social",14]
[null,null,null,null,null,null,null,null,null,null,null,null,null,null,null,null,null,null,null,null,null,null,null,null,null,null,null,null,null,null,null,null,null,null,null,null,null,null,null,null,null,null,null,null,null,null,null,null,null,null,null,null,null,null,"25599Agricultura y desarrollo rural","Cundinamarca",25599,"Apulo",null,"Agricultura y desarrollo rural",3]
[null,null,null,null,null,null,null,null,null,null,null,null,null,null,null,null,null,null,null,null,null,null,null,null,null,null,null,null,null,null,null,null,null,null,null,null,null,null,null,null,null,null,null,null,null,null,null,null,null,null,null,null,null,null,"25645Vivienda, Ciudad Y Territorio","Cundinamarca",25645,"San Antonio del Tequendama",null,"Vivienda, Ciudad Y Territorio",5]
[null,null,null,null,null,null,null,null,null,null,null,null,null,null,null,null,null,null,null,null,null,null,null,null,null,null,null,null,null,null,null,null,null,null,null,null,null,null,null,null,null,null,null,null,null,null,null,null,null,null,null,null,null,null,"25649Deporte Y Recreación","Cundinamarca",25649,"San Bernardo",null,"Deporte Y Recreación",11]
[null,null,null,null,null,null,null,null,null,null,null,null,null,null,null,null,null,null,null,null,null,null,null,null,null,null,null,null,null,null,null,null,null,null,null,null,null,null,null,null,null,null,null,null,null,null,null,null,null,null,null,null,null,null,"25662Minas y Energía","Cundinamarca",25662,"San Juan de Rioseco",null,"Minas y Energía",8]
[null,null,null,null,null,null,null,null,null,null,null,null,null,null,null,null,null,null,null,null,null,null,null,null,null,null,null,null,null,null,null,null,null,null,null,null,null,null,null,null,null,null,null,null,null,null,null,null,null,null,null,null,null,null,"25736Deporte Y Recreación","Cundinamarca",25736,"Sesquilé",null,"Deporte Y Recreación",11]
[null,null,null,null,null,null,null,null,null,null,null,null,null,null,null,null,null,null,null,null,null,null,null,null,null,null,null,null,null,null,null,null,null,null,null,null,null,null,null,null,null,null,null,null,null,null,null,null,null,null,null,null,null,null,"25745Justicia y del Derecho","Cundinamarca",25745,"Simijaca",null,"Justicia y del Derecho",10]
[null,null,null,null,null,null,null,null,null,null,null,null,null,null,null,null,null,null,null,null,null,null,null,null,null,null,null,null,null,null,null,null,null,null,null,null,null,null,null,null,null,null,null,null,null,null,null,null,null,null,null,null,null,null,"25754Minas y Energía","Cundinamarca",25754,"Soacha",null,"Minas y Energía",14]
[null,null,null,null,null,null,null,null,null,null,null,null,null,null,null,null,null,null,null,null,null,null,null,null,null,null,null,null,null,null,null,null,null,null,null,null,null,null,null,null,null,null,null,null,null,null,null,null,null,null,null,null,null,null,"25772Educación","Cundinamarca",25772,"Suesca",null,"Educación",3]
[null,null,null,null,null,null,null,null,null,null,null,null,null,null,null,null,null,null,null,null,null,null,null,null,null,null,null,null,null,null,null,null,null,null,null,null,null,null,null,null,null,null,null,null,null,null,null,null,null,null,null,null,null,null,"25779Transporte","Cundinamarca",25779,"Susa",null,"Transporte",8]
[null,null,null,null,null,null,null,null,null,null,null,null,null,null,null,null,null,null,null,null,null,null,null,null,null,null,null,null,null,null,null,null,null,null,null,null,null,null,null,null,null,null,null,null,null,null,null,null,null,null,null,null,null,null,"25781Vivienda, Ciudad Y Territorio","Cundinamarca",25781,"Sutatausa",null,"Vivienda, Ciudad Y Territorio",6]
[null,null,null,null,null,null,null,null,null,null,null,null,null,null,null,null,null,null,null,null,null,null,null,null,null,null,null,null,null,null,null,null,null,null,null,null,null,null,null,null,null,null,null,null,null,null,null,null,null,null,null,null,null,null,"25797Desarrollo Económico","Cundinamarca",25797,"Tena",null,"Desarrollo Económico",2]
[null,null,null,null,null,null,null,null,null,null,null,null,null,null,null,null,null,null,null,null,null,null,null,null,null,null,null,null,null,null,null,null,null,null,null,null,null,null,null,null,null,null,null,null,null,null,null,null,null,null,null,null,null,null,"25799Justicia y del Derecho","Cundinamarca",25799,"Tenjo",null,"Justicia y del Derecho",9]
[null,null,null,null,null,null,null,null,null,null,null,null,null,null,null,null,null,null,null,null,null,null,null,null,null,null,null,null,null,null,null,null,null,null,null,null,null,null,null,null,null,null,null,null,null,null,null,null,null,null,null,null,null,null,"25807Justicia y del Derecho","Cundinamarca",25807,"Tibirita",null,"Justicia y del Derecho",12]
[null,null,null,null,null,null,null,null,null,null,null,null,null,null,null,null,null,null,null,null,null,null,null,null,null,null,null,null,null,null,null,null,null,null,null,null,null,null,null,null,null,null,null,null,null,null,null,null,null,null,null,null,null,null,"25817Minas y Energía","Cundinamarca",25817,"Tocancipá",null,"Minas y Energía",14]
[null,null,null,null,null,null,null,null,null,null,null,null,null,null,null,null,null,null,null,null,null,null,null,null,null,null,null,null,null,null,null,null,null,null,null,null,null,null,null,null,null,null,null,null,null,null,null,null,null,null,null,null,null,null,"25843Agricultura y desarrollo rural","Cundinamarca",25843,"Villa de San Diego de Ubaté",null,"Agricultura y desarrollo rural",3]
[null,null,null,null,null,null,null,null,null,null,null,null,null,null,null,null,null,null,null,null,null,null,null,null,null,null,null,null,null,null,null,null,null,null,null,null,null,null,null,null,null,null,null,null,null,null,null,null,null,null,null,null,null,null,"25851Transporte","Cundinamarca",25851,"Útica",null,"Transporte",9]
[null,null,null,null,null,null,null,null,null,null,null,null,null,null,null,null,null,null,null,null,null,null,null,null,null,null,null,null,null,null,null,null,null,null,null,null,null,null,null,null,null,null,null,null,null,null,null,null,null,null,null,null,null,null,"25867Inclusión Social Y Reconciliación","Cundinamarca",25867,"Vianí",null,"Inclusión Social Y Reconciliación",6]
[null,null,null,null,null,null,null,null,null,null,null,null,null,null,null,null,null,null,null,null,null,null,null,null,null,null,null,null,null,null,null,null,null,null,null,null,null,null,null,null,null,null,null,null,null,null,null,null,null,null,null,null,null,null,"25873Deporte Y Recreación","Cundinamarca",25873,"Villapinzón",null,"Deporte Y Recreación",9]
[null,null,null,null,null,null,null,null,null,null,null,null,null,null,null,null,null,null,null,null,null,null,null,null,null,null,null,null,null,null,null,null,null,null,null,null,null,null,null,null,null,null,null,null,null,null,null,null,null,null,null,null,null,null,"25878Gobierno territorial","Cundinamarca",25878,"Viotá",null,"Gobierno territorial",7]
[null,null,null,null,null,null,null,null,null,null,null,null,null,null,null,null,null,null,null,null,null,null,null,null,null,null,null,null,null,null,null,null,null,null,null,null,null,null,null,null,null,null,null,null,null,null,null,null,null,null,null,null,null,null,"25898Cultura","Cundinamarca",25898,"Zipacón",null,"Cultura",12]
[null,null,null,null,null,null,null,null,null,null,null,null,null,null,null,null,null,null,null,null,null,null,null,null,null,null,null,null,null,null,null,null,null,null,null,null,null,null,null,null,null,null,null,null,null,null,null,null,null,null,null,null,null,null,"27001Vivienda, Ciudad Y Territorio","Chocó",27001,"Quibdó",null,"Vivienda, Ciudad Y Territorio",1]
[null,null,null,null,null,null,null,null,null,null,null,null,null,null,null,null,null,null,null,null,null,null,null,null,null,null,null,null,null,null,null,null,null,null,null,null,null,null,null,null,null,null,null,null,null,null,null,null,null,null,null,null,null,null,"27050Tecnologías de la Información y las Comunicaciones","Chocó",27050,"Atrato",null,"Tecnologías de la Información y las Comunicaciones",1]
[null,null,null,null,null,null,null,null,null,null,null,null,null,null,null,null,null,null,null,null,null,null,null,null,null,null,null,null,null,null,null,null,null,null,null,null,null,null,null,null,null,null,null,null,null,null,null,null,null,null,null,null,null,null,"27075Desarrollo Económico","Chocó",27075,"Bahía Solano",null,"Desarrollo Económico",4]
[null,null,null,null,null,null,null,null,null,null,null,null,null,null,null,null,null,null,null,null,null,null,null,null,null,null,null,null,null,null,null,null,null,null,null,null,null,null,null,null,null,null,null,null,null,null,null,null,null,null,null,null,null,null,"27077Cultura","Chocó",27077,"Bajo Baudó",null,"Cultura",13]
[null,null,null,null,null,null,null,null,null,null,null,null,null,null,null,null,null,null,null,null,null,null,null,null,null,null,null,null,null,null,null,null,null,null,null,null,null,null,null,null,null,null,null,null,null,null,null,null,null,null,null,null,null,null,"27245Educación","Chocó",27245,"El Carmen de Atrato",null,"Educación",7]
[null,null,null,null,null,null,null,null,null,null,null,null,null,null,null,null,null,null,null,null,null,null,null,null,null,null,null,null,null,null,null,null,null,null,null,null,null,null,null,null,null,null,null,null,null,null,null,null,null,null,null,null,null,null,"27413Salud y Protección social","Chocó",27413,"Lloró",null,"Salud y Protección social",10]
[null,null,null,null,null,null,null,null,null,null,null,null,null,null,null,null,null,null,null,null,null,null,null,null,null,null,null,null,null,null,null,null,null,null,null,null,null,null,null,null,null,null,null,null,null,null,null,null,null,null,null,null,null,null,"27580Deporte Y Recreación","Chocó",27580,"Río Iró",null,"Deporte Y Recreación",12]
[null,null,null,null,null,null,null,null,null,null,null,null,null,null,null,null,null,null,null,null,null,null,null,null,null,null,null,null,null,null,null,null,null,null,null,null,null,null,null,null,null,null,null,null,null,null,null,null,null,null,null,null,null,null,"27600Cultura","Chocó",27600,"Río Quito",null,"Cultura",13]
[null,null,null,null,null,null,null,null,null,null,null,null,null,null,null,null,null,null,null,null,null,null,null,null,null,null,null,null,null,null,null,null,null,null,null,null,null,null,null,null,null,null,null,null,null,null,null,null,null,null,null,null,null,null,"27810Educación","Chocó",27810,"Unión Panamericana",null,"Educación",6]
[null,null,null,null,null,null,null,null,null,null,null,null,null,null,null,null,null,null,null,null,null,null,null,null,null,null,null,null,null,null,null,null,null,null,null,null,null,null,null,null,null,null,null,null,null,null,null,null,null,null,null,null,null,null,"41013Educación","Huila",41013,"Agrado",null,"Educación",4]
[null,null,null,null,null,null,null,null,null,null,null,null,null,null,null,null,null,null,null,null,null,null,null,null,null,null,null,null,null,null,null,null,null,null,null,null,null,null,null,null,null,null,null,null,null,null,null,null,null,null,null,null,null,null,"41026Gobierno territorial","Huila",41026,"Altamira",null,"Gobierno territorial",7]
[null,null,null,null,null,null,null,null,null,null,null,null,null,null,null,null,null,null,null,null,null,null,null,null,null,null,null,null,null,null,null,null,null,null,null,null,null,null,null,null,null,null,null,null,null,null,null,null,null,null,null,null,null,null,{"$f":"+BE9540&BH9540","v":"41078Agricultura y desarrollo rural"},"Huila",41078,"Baraya",null,"Agricultura y desarrollo rural",4]
[null,null,null,null,null,null,null,null,null,null,null,null,null,null,null,null,null,null,null,null,null,null,null,null,null,null,null,null,null,null,null,null,null,null,null,null,null,null,null,null,null,null,null,null,null,null,null,null,null,null,null,null,null,null,"41244Cultura","Huila",41244,"Elías",null,"Cultura",10]
[null,null,null,null,null,null,null,null,null,null,null,null,null,null,null,null,null,null,null,null,null,null,null,null,null,null,null,null,null,null,null,null,null,null,null,null,null,null,null,null,null,null,null,null,null,null,null,null,null,null,null,null,null,null,"41306Minas y Energía","Huila",41306,"Gigante",null,"Minas y Energía",13]
[null,null,null,null,null,null,null,null,null,null,null,null,null,null,null,null,null,null,null,null,null,null,null,null,null,null,null,null,null,null,null,null,null,null,null,null,null,null,null,null,null,null,null,null,null,null,null,null,null,null,null,null,null,null,"41319Salud y Protección social","Huila",41319,"Guadalupe",null,"Salud y Protección social",13]
[null,null,null,null,null,null,null,null,null,null,null,null,null,null,null,null,null,null,null,null,null,null,null,null,null,null,null,null,null,null,null,null,null,null,null,null,null,null,null,null,null,null,null,null,null,null,null,null,null,null,null,null,null,null,"41359Agricultura y desarrollo rural","Huila",41359,"Isnos",null,"Agricultura y desarrollo rural",2]
[null,null,null,null,null,null,null,null,null,null,null,null,null,null,null,null,null,null,null,null,null,null,null,null,null,null,null,null,null,null,null,null,null,null,null,null,null,null,null,null,null,null,null,null,null,null,null,null,null,null,null,null,null,null,"41396Cultura","Huila",41396,"La Plata",null,"Cultura",11]
[null,null,null,null,null,null,null,null,null,null,null,null,null,null,null,null,null,null,null,null,null,null,null,null,null,null,null,null,null,null,null,null,null,null,null,null,null,null,null,null,null,null,null,null,null,null,null,null,null,null,null,null,null,null,"41503Gobierno territorial","Huila",41503,"Oporapa",null,"Gobierno territorial",5]
[null,null,null,null,null,null,null,null,null,null,null,null,null,null,null,null,null,null,null,null,null,null,null,null,null,null,null,null,null,null,null,null,null,null,null,null,null,null,null,null,null,null,null,null,null,null,null,null,null,null,null,null,null,null,"41524Inclusión Social Y Reconciliación","Huila",41524,"Palermo",null,"Inclusión Social Y Reconciliación",5]
[null,null,null,null,null,null,null,null,null,null,null,null,null,null,null,null,null,null,null,null,null,null,null,null,null,null,null,null,null,null,null,null,null,null,null,null,null,null,null,null,null,null,null,null,null,null,null,null,null,null,null,null,null,null,"41530Salud y Protección social","Huila",41530,"Palestina",null,"Salud y Protección social",8]
[null,null,null,null,null,null,null,null,null,null,null,null,null,null,null,null,null,null,null,null,null,null,null,null,null,null,null,null,null,null,null,null,null,null,null,null,null,null,null,null,null,null,null,null,null,null,null,null,null,null,null,null,null,null,"41615Cultura","Huila",41615,"Rivera",null,"Cultura",11]
[null,null,null,null,null,null,null,null,null,null,null,null,null,null,null,null,null,null,null,null,null,null,null,null,null,null,null,null,null,null,null,null,null,null,null,null,null,null,null,null,null,null,null,null,null,null,null,null,null,null,null,null,null,null,"41668Agricultura y desarrollo rural","Huila",41668,"San Agustín",null,"Agricultura y desarrollo rural",3]
[null,null,null,null,null,null,null,null,null,null,null,null,null,null,null,null,null,null,null,null,null,null,null,null,null,null,null,null,null,null,null,null,null,null,null,null,null,null,null,null,null,null,null,null,null,null,null,null,null,null,null,null,null,null,"41676Minas y Energía","Huila",41676,"Santa María",null,"Minas y Energía",14]
[null,null,null,null,null,null,null,null,null,null,null,null,null,null,null,null,null,null,null,null,null,null,null,null,null,null,null,null,null,null,null,null,null,null,null,null,null,null,null,null,null,null,null,null,null,null,null,null,null,null,null,null,null,null,"41799Salud y Protección social","Huila",41799,"Tello",null,"Salud y Protección social",12]
[null,null,null,null,null,null,null,null,null,null,null,null,null,null,null,null,null,null,null,null,null,null,null,null,null,null,null,null,null,null,null,null,null,null,null,null,null,null,null,null,null,null,null,null,null,null,null,null,null,null,null,null,null,null,"41807Agricultura y desarrollo rural","Huila",41807,"Timaná",null,"Agricultura y desarrollo rural",5]
[null,null,null,null,null,null,null,null,null,null,null,null,null,null,null,null,null,null,null,null,null,null,null,null,null,null,null,null,null,null,null,null,null,null,null,null,null,null,null,null,null,null,null,null,null,null,null,null,null,null,null,null,null,null,"41872Inclusión Social Y Reconciliación","Huila",41872,"Villavieja",null,"Inclusión Social Y Reconciliación",6]
[null,null,null,null,null,null,null,null,null,null,null,null,null,null,null,null,null,null,null,null,null,null,null,null,null,null,null,null,null,null,null,null,null,null,null,null,null,null,null,null,null,null,null,null,null,null,null,null,null,null,null,null,null,null,"44035Justicia y del Derecho","La Guajira",44035,"Albania",null,"Justicia y del Derecho",10]
[null,null,null,null,null,null,null,null,null,null,null,null,null,null,null,null,null,null,null,null,null,null,null,null,null,null,null,null,null,null,null,null,null,null,null,null,null,null,null,null,null,null,null,null,null,null,null,null,null,null,null,null,null,null,"44098Gobierno territorial","La Guajira",44098,"Distracción",null,"Gobierno territorial",11]
[null,null,null,null,null,null,null,null,null,null,null,null,null,null,null,null,null,null,null,null,null,null,null,null,null,null,null,null,null,null,null,null,null,null,null,null,null,null,null,null,null,null,null,null,null,null,null,null,null,null,null,null,null,null,"44110Cultura","La Guajira",44110,"El Molino",null,"Cultura",12]
[null,null,null,null,null,null,null,null,null,null,null,null,null,null,null,null,null,null,null,null,null,null,null,null,null,null,null,null,null,null,null,null,null,null,null,null,null,null,null,null,null,null,null,null,null,null,null,null,null,null,null,null,null,null,"44430Transporte","La Guajira",44430,"Maicao",null,"Transporte",8]
[null,null,null,null,null,null,null,null,null,null,null,null,null,null,null,null,null,null,null,null,null,null,null,null,null,null,null,null,null,null,null,null,null,null,null,null,null,null,null,null,null,null,null,null,null,null,null,null,null,null,null,null,null,null,"44855Agricultura y desarrollo rural","La Guajira",44855,"Urumita",null,"Agricultura y desarrollo rural",3]
[null,null,null,null,null,null,null,null,null,null,null,null,null,null,null,null,null,null,null,null,null,null,null,null,null,null,null,null,null,null,null,null,null,null,null,null,null,null,null,null,null,null,null,null,null,null,null,null,null,null,null,null,null,null,"44874Desarrollo Económico","La Guajira",44874,"Villanueva",null,"Desarrollo Económico",2]
[null,null,null,null,null,null,null,null,null,null,null,null,null,null,null,null,null,null,null,null,null,null,null,null,null,null,null,null,null,null,null,null,null,null,null,null,null,null,null,null,null,null,null,null,null,null,null,null,null,null,null,null,null,null,"47058Educación","Magdalena",47058,"Ariguaní",null,"Educación",6]
[null,null,null,null,null,null,null,null,null,null,null,null,null,null,null,null,null,null,null,null,null,null,null,null,null,null,null,null,null,null,null,null,null,null,null,null,null,null,null,null,null,null,null,null,null,null,null,null,null,null,null,null,null,null,"47205Educación","Magdalena",47205,"Concordia",null,"Educación",9]
[null,null,null,null,null,null,null,null,null,null,null,null,null,null,null,null,null,null,null,null,null,null,null,null,null,null,null,null,null,null,null,null,null,null,null,null,null,null,null,null,null,null,null,null,null,null,null,null,null,null,null,null,null,null,"47268Minas y Energía","Magdalena",47268,"El Retén",null,"Minas y Energía",1]
[null,null,null,null,null,null,null,null,null,null,null,null,null,null,null,null,null,null,null,null,null,null,null,null,null,null,null,null,null,null,null,null,null,null,null,null,null,null,null,null,null,null,null,null,null,null,null,null,null,null,null,null,null,null,"47268Salud y Protección social","Magdalena",47268,"El Retén",null,"Salud y Protección social",12]
[null,null,null,null,null,null,null,null,null,null,null,null,null,null,null,null,null,null,null,null,null,null,null,null,null,null,null,null,null,null,null,null,null,null,null,null,null,null,null,null,null,null,null,null,null,null,null,null,null,null,null,null,null,null,"47541Gobierno territorial","Magdalena",47541,"Pedraza",null,"Gobierno territorial",9]
[null,null,null,null,null,null,null,null,null,null,null,null,null,null,null,null,null,null,null,null,null,null,null,null,null,null,null,null,null,null,null,null,null,null,null,null,null,null,null,null,null,null,null,null,null,null,null,null,null,null,null,null,null,null,"47555Tecnologías de la Información y las Comunicaciones","Magdalena",47555,"Plato",null,"Tecnologías de la Información y las Comunicaciones",3]
[null,null,null,null,null,null,null,null,null,null,null,null,null,null,null,null,null,null,null,null,null,null,null,null,null,null,null,null,null,null,null,null,null,null,null,null,null,null,null,null,null,null,null,null,null,null,null,null,null,null,null,null,null,null,"47570Desarrollo Económico","Magdalena",47570,"Puebloviejo",null,"Desarrollo Económico",4]
[null,null,null,null,null,null,null,null,null,null,null,null,null,null,null,null,null,null,null,null,null,null,null,null,null,null,null,null,null,null,null,null,null,null,null,null,null,null,null,null,null,null,null,null,null,null,null,null,null,null,null,null,null,null,"47660Transporte","Magdalena",47660,"Sabanas de San Ángel",null,"Transporte",7]
[null,null,null,null,null,null,null,null,null,null,null,null,null,null,null,null,null,null,null,null,null,null,null,null,null,null,null,null,null,null,null,null,null,null,null,null,null,null,null,null,null,null,null,null,null,null,null,null,null,null,null,null,null,null,"47703Gobierno territorial","Magdalena",47703,"San Zenón",null,"Gobierno territorial",9]
[null,null,null,null,null,null,null,null,null,null,null,null,null,null,null,null,null,null,null,null,null,null,null,null,null,null,null,null,null,null,null,null,null,null,null,null,null,null,null,null,null,null,null,null,null,null,null,null,null,null,null,null,null,null,"47707Ambiente y Desarrollo Sostenible","Magdalena",47707,"Santa Ana",null,"Ambiente y Desarrollo Sostenible",14]
[null,null,null,null,null,null,null,null,null,null,null,null,null,null,null,null,null,null,null,null,null,null,null,null,null,null,null,null,null,null,null,null,null,null,null,null,null,null,null,null,null,null,null,null,null,null,null,null,null,null,null,null,null,null,"47745Salud y Protección social","Magdalena",47745,"Sitionuevo",null,"Salud y Protección social",12]
[null,null,null,null,null,null,null,null,null,null,null,null,null,null,null,null,null,null,null,null,null,null,null,null,null,null,null,null,null,null,null,null,null,null,null,null,null,null,null,null,null,null,null,null,null,null,null,null,null,null,null,null,null,null,"50001Tecnologías de la Información y las Comunicaciones","Meta",50001,"Villavicencio",null,"Tecnologías de la Información y las Comunicaciones",1]
[null,null,null,null,null,null,null,null,null,null,null,null,null,null,null,null,null,null,null,null,null,null,null,null,null,null,null,null,null,null,null,null,null,null,null,null,null,null,null,null,null,null,null,null,null,null,null,null,null,null,null,null,null,null,"50006Minas y Energía","Meta",50006,"Acacías",null,"Minas y Energía",14]
[null,null,null,null,null,null,null,null,null,null,null,null,null,null,null,null,null,null,null,null,null,null,null,null,null,null,null,null,null,null,null,null,null,null,null,null,null,null,null,null,null,null,null,null,null,null,null,null,null,null,null,null,null,null,"50124Educación","Meta",50124,"Cabuyaro",null,"Educación",4]
[null,null,null,null,null,null,null,null,null,null,null,null,null,null,null,null,null,null,null,null,null,null,null,null,null,null,null,null,null,null,null,null,null,null,null,null,null,null,null,null,null,null,null,null,null,null,null,null,null,null,null,null,null,null,"50226Gobierno territorial","Meta",50226,"Cumaral",null,"Gobierno territorial",7]
[null,null,null,null,null,null,null,null,null,null,null,null,null,null,null,null,null,null,null,null,null,null,null,null,null,null,null,null,null,null,null,null,null,null,null,null,null,null,null,null,null,null,null,null,null,null,null,null,null,null,null,null,null,null,"50245Ambiente y Desarrollo Sostenible","Meta",50245,"El Calvario",null,"Ambiente y Desarrollo Sostenible",12]
[null,null,null,null,null,null,null,null,null,null,null,null,null,null,null,null,null,null,null,null,null,null,null,null,null,null,null,null,null,null,null,null,null,null,null,null,null,null,null,null,null,null,null,null,null,null,null,null,null,null,null,null,null,null,"50270Justicia y del Derecho","Meta",50270,"El Dorado",null,"Justicia y del Derecho",10]
[null,null,null,null,null,null,null,null,null,null,null,null,null,null,null,null,null,null,null,null,null,null,null,null,null,null,null,null,null,null,null,null,null,null,null,null,null,null,null,null,null,null,null,null,null,null,null,null,null,null,null,null,null,null,"50313Educación","Meta",50313,"Granada",null,"Educación",6]
[null,null,null,null,null,null,null,null,null,null,null,null,null,null,null,null,null,null,null,null,null,null,null,null,null,null,null,null,null,null,null,null,null,null,null,null,null,null,null,null,null,null,null,null,null,null,null,null,null,null,null,null,null,null,"50573Tecnologías de la Información y las Comunicaciones","Meta",50573,"Puerto López",null,"Tecnologías de la Información y las Comunicaciones",1]
[null,null,null,null,null,null,null,null,null,null,null,null,null,null,null,null,null,null,null,null,null,null,null,null,null,null,null,null,null,null,null,null,null,null,null,null,null,null,null,null,null,null,null,null,null,null,null,null,null,null,null,null,null,null,"50606Tecnologías de la Información y las Comunicaciones","Meta",50606,"Restrepo",null,"Tecnologías de la Información y las Comunicaciones",2]
[null,null,null,null,null,null,null,null,null,null,null,null,null,null,null,null,null,null,null,null,null,null,null,null,null,null,null,null,null,null,null,null,null,null,null,null,null,null,null,null,null,null,null,null,null,null,null,null,null,null,null,null,null,null,"50686Educación","Meta",50686,"San Juanito",null,"Educación",5]
[null,null,null,null,null,null,null,null,null,null,null,null,null,null,null,null,null,null,null,null,null,null,null,null,null,null,null,null,null,null,null,null,null,null,null,null,null,null,null,null,null,null,null,null,null,null,null,null,null,null,null,null,null,null,"52001Gobierno territorial","Nariño",52001,"Pasto",null,"Gobierno territorial",7]
[null,null,null,null,null,null,null,null,null,null,null,null,null,null,null,null,null,null,null,null,null,null,null,null,null,null,null,null,null,null,null,null,null,null,null,null,null,null,null,null,null,null,null,null,null,null,null,null,null,null,null,null,null,null,"52001Inclusión Social Y Reconciliación","Nariño",52001,"Pasto",null,"Inclusión Social Y Reconciliación",11]
[null,null,null,null,null,null,null,null,null,null,null,null,null,null,null,null,null,null,null,null,null,null,null,null,null,null,null,null,null,null,null,null,null,null,null,null,null,null,null,null,null,null,null,null,null,null,null,null,null,null,null,null,null,null,"52036Deporte Y Recreación","Nariño",52036,"Ancuya",null,"Deporte Y Recreación",10]
[null,null,null,null,null,null,null,null,null,null,null,null,null,null,null,null,null,null,null,null,null,null,null,null,null,null,null,null,null,null,null,null,null,null,null,null,null,null,null,null,null,null,null,null,null,null,null,null,null,null,null,null,null,null,"52110Salud y Protección social","Nariño",52110,"Buesaco",null,"Salud y Protección social",13]
[null,null,null,null,null,null,null,null,null,null,null,null,null,null,null,null,null,null,null,null,null,null,null,null,null,null,null,null,null,null,null,null,null,null,null,null,null,null,null,null,null,null,null,null,null,null,null,null,null,null,null,null,null,null,"52203Ambiente y Desarrollo Sostenible","Nariño",52203,"Colón",null,"Ambiente y Desarrollo Sostenible",11]
[null,null,null,null,null,null,null,null,null,null,null,null,null,null,null,null,null,null,null,null,null,null,null,null,null,null,null,null,null,null,null,null,null,null,null,null,null,null,null,null,null,null,null,null,null,null,null,null,null,null,null,null,null,null,"52215Desarrollo Económico","Nariño",52215,"Córdoba",null,"Desarrollo Económico",2]
[null,null,null,null,null,null,null,null,null,null,null,null,null,null,null,null,null,null,null,null,null,null,null,null,null,null,null,null,null,null,null,null,null,null,null,null,null,null,null,null,null,null,null,null,null,null,null,null,null,null,null,null,null,null,"52227Educación","Nariño",52227,"Cumbal",null,"Educación",4]
[null,null,null,null,null,null,null,null,null,null,null,null,null,null,null,null,null,null,null,null,null,null,null,null,null,null,null,null,null,null,null,null,null,null,null,null,null,null,null,null,null,null,null,null,null,null,null,null,null,null,null,null,null,null,"52240Vivienda, Ciudad Y Territorio","Nariño",52240,"Chachagüí",null,"Vivienda, Ciudad Y Territorio",5]
[null,null,null,null,null,null,null,null,null,null,null,null,null,null,null,null,null,null,null,null,null,null,null,null,null,null,null,null,null,null,null,null,null,null,null,null,null,null,null,null,null,null,null,null,null,null,null,null,null,null,null,null,null,null,"52260Inclusión Social Y Reconciliación","Nariño",52260,"El Tambo",null,"Inclusión Social Y Reconciliación",8]
[null,null,null,null,null,null,null,null,null,null,null,null,null,null,null,null,null,null,null,null,null,null,null,null,null,null,null,null,null,null,null,null,null,null,null,null,null,null,null,null,null,null,null,null,null,null,null,null,null,null,null,null,null,null,"52317Desarrollo Económico","Nariño",52317,"Guachucal",null,"Desarrollo Económico",2]
[null,null,null,null,null,null,null,null,null,null,null,null,null,null,null,null,null,null,null,null,null,null,null,null,null,null,null,null,null,null,null,null,null,null,null,null,null,null,null,null,null,null,null,null,null,null,null,null,null,null,null,null,null,null,"52320Deporte Y Recreación","Nariño",52320,"Guaitarilla",null,"Deporte Y Recreación",11]
[null,null,null,null,null,null,null,null,null,null,null,null,null,null,null,null,null,null,null,null,null,null,null,null,null,null,null,null,null,null,null,null,null,null,null,null,null,null,null,null,null,null,null,null,null,null,null,null,null,null,null,null,null,null,"52356Ambiente y Desarrollo Sostenible","Nariño",52356,"Ipiales",null,"Ambiente y Desarrollo Sostenible",11]
[null,null,null,null,null,null,null,null,null,null,null,null,null,null,null,null,null,null,null,null,null,null,null,null,null,null,null,null,null,null,null,null,null,null,null,null,null,null,null,null,null,null,null,null,null,null,null,null,null,null,null,null,null,null,"52381Desarrollo Económico","Nariño",52381,"La Florida",null,"Desarrollo Económico",2]
[null,null,null,null,null,null,null,null,null,null,null,null,null,null,null,null,null,null,null,null,null,null,null,null,null,null,null,null,null,null,null,null,null,null,null,null,null,null,null,null,null,null,null,null,null,null,null,null,null,null,null,null,null,null,"52385Desarrollo Económico","Nariño",52385,"La Llanada",null,"Desarrollo Económico",3]
[null,null,null,null,null,null,null,null,null,null,null,null,null,null,null,null,null,null,null,null,null,null,null,null,null,null,null,null,null,null,null,null,null,null,null,null,null,null,null,null,null,null,null,null,null,null,null,null,null,null,null,null,null,null,"52435Transporte","Nariño",52435,"Mallama",null,"Transporte",9]
[null,null,null,null,null,null,null,null,null,null,null,null,null,null,null,null,null,null,null,null,null,null,null,null,null,null,null,null,null,null,null,null,null,null,null,null,null,null,null,null,null,null,null,null,null,null,null,null,null,null,null,null,null,null,"52506Inclusión Social Y Reconciliación","Nariño",52506,"Ospina",null,"Inclusión Social Y Reconciliación",8]
[null,null,null,null,null,null,null,null,null,null,null,null,null,null,null,null,null,null,null,null,null,null,null,null,null,null,null,null,null,null,null,null,null,null,null,null,null,null,null,null,null,null,null,null,null,null,null,null,null,null,null,null,null,null,"52560Deporte Y Recreación","Nariño",52560,"Potosí",null,"Deporte Y Recreación",9]
[null,null,null,null,null,null,null,null,null,null,null,null,null,null,null,null,null,null,null,null,null,null,null,null,null,null,null,null,null,null,null,null,null,null,null,null,null,null,null,null,null,null,null,null,null,null,null,null,null,null,null,null,null,null,"52573Transporte","Nariño",52573,"Puerres",null,"Transporte",8]
[null,null,null,null,null,null,null,null,null,null,null,null,null,null,null,null,null,null,null,null,null,null,null,null,null,null,null,null,null,null,null,null,null,null,null,null,null,null,null,null,null,null,null,null,null,null,null,null,null,null,null,null,null,null,"52683Cultura","Nariño",52683,"Sandoná",null,"Cultura",14]
[null,null,null,null,null,null,null,null,null,null,null,null,null,null,null,null,null,null,null,null,null,null,null,null,null,null,null,null,null,null,null,null,null,null,null,null,null,null,null,null,null,null,null,null,null,null,null,null,null,null,null,null,null,null,"52687Tecnologías de la Información y las Comunicaciones","Nariño",52687,"San Lorenzo",null,"Tecnologías de la Información y las Comunicaciones",1]
[null,null,null,null,null,null,null,null,null,null,null,null,null,null,null,null,null,null,null,null,null,null,null,null,null,null,null,null,null,null,null,null,null,null,null,null,null,null,null,null,null,null,null,null,null,null,null,null,null,null,null,null,null,null,"52694Desarrollo Económico","Nariño",52694,"San Pedro de Cartago",null,"Desarrollo Económico",3]
[null,null,null,null,null,null,null,null,null,null,null,null,null,null,null,null,null,null,null,null,null,null,null,null,null,null,null,null,null,null,null,null,null,null,null,null,null,null,null,null,null,null,null,null,null,null,null,null,null,null,null,null,null,null,"52786Vivienda, Ciudad Y Territorio","Nariño",52786,"Taminango",null,"Vivienda, Ciudad Y Territorio",6]
[null,null,null,null,null,null,null,null,null,null,null,null,null,null,null,null,null,null,null,null,null,null,null,null,null,null,null,null,null,null,null,null,null,null,null,null,null,null,null,null,null,null,null,null,null,null,null,null,null,null,null,null,null,null,"52838Minas y Energía","Nariño",52838,"Túquerres",null,"Minas y Energía",14]
[null,null,null,null,null,null,null,null,null,null,null,null,null,null,null,null,null,null,null,null,null,null,null,null,null,null,null,null,null,null,null,null,null,null,null,null,null,null,null,null,null,null,null,null,null,null,null,null,null,null,null,null,null,null,"52885Transporte","Nariño",52885,"Yacuanquer",null,"Transporte",9]
[null,null,null,null,null,null,null,null,null,null,null,null,null,null,null,null,null,null,null,null,null,null,null,null,null,null,null,null,null,null,null,null,null,null,null,null,null,null,null,null,null,null,null,null,null,null,null,null,null,null,null,null,null,null,"54051Transporte","Norte de Santander",54051,"Arboledas",null,"Transporte",8]
[null,null,null,null,null,null,null,null,null,null,null,null,null,null,null,null,null,null,null,null,null,null,null,null,null,null,null,null,null,null,null,null,null,null,null,null,null,null,null,null,null,null,null,null,null,null,null,null,null,null,null,null,null,null,"54109Justicia y del Derecho","Norte de Santander",54109,"Bucarasica",null,"Justicia y del Derecho",14]
[null,null,null,null,null,null,null,null,null,null,null,null,null,null,null,null,null,null,null,null,null,null,null,null,null,null,null,null,null,null,null,null,null,null,null,null,null,null,null,null,null,null,null,null,null,null,null,null,null,null,null,null,null,null,"54128Tecnologías de la Información y las Comunicaciones","Norte de Santander",54128,"Cáchira",null,"Tecnologías de la Información y las Comunicaciones",1]
[null,null,null,null,null,null,null,null,null,null,null,null,null,null,null,null,null,null,null,null,null,null,null,null,null,null,null,null,null,null,null,null,null,null,null,null,null,null,null,null,null,null,null,null,null,null,null,null,null,null,null,null,null,null,"54174Agricultura y desarrollo rural","Norte de Santander",54174,"Chitagá",null,"Agricultura y desarrollo rural",6]
[null,null,null,null,null,null,null,null,null,null,null,null,null,null,null,null,null,null,null,null,null,null,null,null,null,null,null,null,null,null,null,null,null,null,null,null,null,null,null,null,null,null,null,null,null,null,null,null,null,null,null,null,null,null,"54261Inclusión Social Y Reconciliación","Norte de Santander",54261,"El Zulia",null,"Inclusión Social Y Reconciliación",6]
[null,null,null,null,null,null,null,null,null,null,null,null,null,null,null,null,null,null,null,null,null,null,null,null,null,null,null,null,null,null,null,null,null,null,null,null,null,null,null,null,null,null,null,null,null,null,null,null,null,null,null,null,null,null,"54261Minas y Energía","Norte de Santander",54261,"El Zulia",null,"Minas y Energía",14]
[null,null,null,null,null,null,null,null,null,null,null,null,null,null,null,null,null,null,null,null,null,null,null,null,null,null,null,null,null,null,null,null,null,null,null,null,null,null,null,null,null,null,null,null,null,null,null,null,null,null,null,null,null,null,"54377Minas y Energía","Norte de Santander",54377,"Labateca",null,"Minas y Energía",9]
[null,null,null,null,null,null,null,null,null,null,null,null,null,null,null,null,null,null,null,null,null,null,null,null,null,null,null,null,null,null,null,null,null,null,null,null,null,null,null,null,null,null,null,null,null,null,null,null,null,null,null,null,null,null,"54405Deporte Y Recreación","Norte de Santander",54405,"Los Patios",null,"Deporte Y Recreación",12]
[null,null,null,null,null,null,null,null,null,null,null,null,null,null,null,null,null,null,null,null,null,null,null,null,null,null,null,null,null,null,null,null,null,null,null,null,null,null,null,null,null,null,null,null,null,null,null,null,null,null,null,null,null,null,"54480Salud y Protección social","Norte de Santander",54480,"Mutiscua",null,"Salud y Protección social",13]
[null,null,null,null,null,null,null,null,null,null,null,null,null,null,null,null,null,null,null,null,null,null,null,null,null,null,null,null,null,null,null,null,null,null,null,null,null,null,null,null,null,null,null,null,null,null,null,null,null,null,null,null,null,null,"54518Desarrollo Económico","Norte de Santander",54518,"Pamplona",null,"Desarrollo Económico",1]
[null,null,null,null,null,null,null,null,null,null,null,null,null,null,null,null,null,null,null,null,null,null,null,null,null,null,null,null,null,null,null,null,null,null,null,null,null,null,null,null,null,null,null,null,null,null,null,null,null,null,null,null,null,null,"54599Inclusión Social Y Reconciliación","Norte de Santander",54599,"Ragonvalia",null,"Inclusión Social Y Reconciliación",4]
[null,null,null,null,null,null,null,null,null,null,null,null,null,null,null,null,null,null,null,null,null,null,null,null,null,null,null,null,null,null,null,null,null,null,null,null,null,null,null,null,null,null,null,null,null,null,null,null,null,null,null,null,null,null,"54660Cultura","Norte de Santander",54660,"Salazar",null,"Cultura",11]
[null,null,null,null,null,null,null,null,null,null,null,null,null,null,null,null,null,null,null,null,null,null,null,null,null,null,null,null,null,null,null,null,null,null,null,null,null,null,null,null,null,null,null,null,null,null,null,null,null,null,null,null,null,null,"54680Transporte","Norte de Santander",54680,"Santiago",null,"Transporte",7]
[null,null,null,null,null,null,null,null,null,null,null,null,null,null,null,null,null,null,null,null,null,null,null,null,null,null,null,null,null,null,null,null,null,null,null,null,null,null,null,null,null,null,null,null,null,null,null,null,null,null,null,null,null,null,"54820Educación","Norte de Santander",54820,"Toledo",null,"Educación",5]
[null,null,null,null,null,null,null,null,null,null,null,null,null,null,null,null,null,null,null,null,null,null,null,null,null,null,null,null,null,null,null,null,null,null,null,null,null,null,null,null,null,null,null,null,null,null,null,null,null,null,null,null,null,null,"63001Deporte Y Recreación","Quindio",63001,"Armenia",null,"Deporte Y Recreación",12]
[null,null,null,null,null,null,null,null,null,null,null,null,null,null,null,null,null,null,null,null,null,null,null,null,null,null,null,null,null,null,null,null,null,null,null,null,null,null,null,null,null,null,null,null,null,null,null,null,null,null,null,null,null,null,"63111Ambiente y Desarrollo Sostenible","Quindio",63111,"Buenavista",null,"Ambiente y Desarrollo Sostenible",13]
[null,null,null,null,null,null,null,null,null,null,null,null,null,null,null,null,null,null,null,null,null,null,null,null,null,null,null,null,null,null,null,null,null,null,null,null,null,null,null,null,null,null,null,null,null,null,null,null,null,null,null,null,null,null,"63190Transporte","Quindio",63190,"Circasia",null,"Transporte",3]
[null,null,null,null,null,null,null,null,null,null,null,null,null,null,null,null,null,null,null,null,null,null,null,null,null,null,null,null,null,null,null,null,null,null,null,null,null,null,null,null,null,null,null,null,null,null,null,null,null,null,null,null,null,null,"63401Educación","Quindio",63401,"La Tebaida",null,"Educación",4]
[null,null,null,null,null,null,null,null,null,null,null,null,null,null,null,null,null,null,null,null,null,null,null,null,null,null,null,null,null,null,null,null,null,null,null,null,null,null,null,null,null,null,null,null,null,null,null,null,null,null,null,null,null,null,"63470Salud y Protección social","Quindio",63470,"Montenegro",null,"Salud y Protección social",12]
[null,null,null,null,null,null,null,null,null,null,null,null,null,null,null,null,null,null,null,null,null,null,null,null,null,null,null,null,null,null,null,null,null,null,null,null,null,null,null,null,null,null,null,null,null,null,null,null,null,null,null,null,null,null,"63690Educación","Quindio",63690,"Salento",null,"Educación",7]
[null,null,null,null,null,null,null,null,null,null,null,null,null,null,null,null,null,null,null,null,null,null,null,null,null,null,null,null,null,null,null,null,null,null,null,null,null,null,null,null,null,null,null,null,null,null,null,null,null,null,null,null,null,null,"63690Minas y Energía","Quindio",63690,"Salento",null,"Minas y Energía",8]
[null,null,null,null,null,null,null,null,null,null,null,null,null,null,null,null,null,null,null,null,null,null,null,null,null,null,null,null,null,null,null,null,null,null,null,null,null,null,null,null,null,null,null,null,null,null,null,null,null,null,null,null,null,null,"66075Justicia y del Derecho","Risaralda",66075,"Balboa",null,"Justicia y del Derecho",10]
[null,null,null,null,null,null,null,null,null,null,null,null,null,null,null,null,null,null,null,null,null,null,null,null,null,null,null,null,null,null,null,null,null,null,null,null,null,null,null,null,null,null,null,null,null,null,null,null,null,null,null,null,null,null,"66170Deporte Y Recreación","Risaralda",66170,"Dosquebradas",null,"Deporte Y Recreación",13]
[null,null,null,null,null,null,null,null,null,null,null,null,null,null,null,null,null,null,null,null,null,null,null,null,null,null,null,null,null,null,null,null,null,null,null,null,null,null,null,null,null,null,null,null,null,null,null,null,null,null,null,null,null,null,"66383Vivienda, Ciudad Y Territorio","Risaralda",66383,"La Celia",null,"Vivienda, Ciudad Y Territorio",4]
[null,null,null,null,null,null,null,null,null,null,null,null,null,null,null,null,null,null,null,null,null,null,null,null,null,null,null,null,null,null,null,null,null,null,null,null,null,null,null,null,null,null,null,null,null,null,null,null,null,null,null,null,null,null,"66456Desarrollo Económico","Risaralda",66456,"Mistrató",null,"Desarrollo Económico",2]
[null,null,null,null,null,null,null,null,null,null,null,null,null,null,null,null,null,null,null,null,null,null,null,null,null,null,null,null,null,null,null,null,null,null,null,null,null,null,null,null,null,null,null,null,null,null,null,null,null,null,null,null,null,null,"66594Agricultura y desarrollo rural","Risaralda",66594,"Quinchía",null,"Agricultura y desarrollo rural",5]
[null,null,null,null,null,null,null,null,null,null,null,null,null,null,null,null,null,null,null,null,null,null,null,null,null,null,null,null,null,null,null,null,null,null,null,null,null,null,null,null,null,null,null,null,null,null,null,null,null,null,null,null,null,null,"68001Desarrollo Económico","Santander",68001,"Bucaramanga",null,"Desarrollo Económico",3]
[null,null,null,null,null,null,null,null,null,null,null,null,null,null,null,null,null,null,null,null,null,null,null,null,null,null,null,null,null,null,null,null,null,null,null,null,null,null,null,null,null,null,null,null,null,null,null,null,null,null,null,null,null,null,"68001Vivienda, Ciudad Y Territorio","Santander",68001,"Bucaramanga",null,"Vivienda, Ciudad Y Territorio",8]
[null,null,null,null,null,null,null,null,null,null,null,null,null,null,null,null,null,null,null,null,null,null,null,null,null,null,null,null,null,null,null,null,null,null,null,null,null,null,null,null,null,null,null,null,null,null,null,null,null,null,null,null,null,null,"68051Justicia y del Derecho","Santander",68051,"Aratoca",null,"Justicia y del Derecho",11]
[null,null,null,null,null,null,null,null,null,null,null,null,null,null,null,null,null,null,null,null,null,null,null,null,null,null,null,null,null,null,null,null,null,null,null,null,null,null,null,null,null,null,null,null,null,null,null,null,null,null,null,null,null,null,"68081Tecnologías de la Información y las Comunicaciones","Santander",68081,"Barrancabermeja",null,"Tecnologías de la Información y las Comunicaciones",1]
[null,null,null,null,null,null,null,null,null,null,null,null,null,null,null,null,null,null,null,null,null,null,null,null,null,null,null,null,null,null,null,null,null,null,null,null,null,null,null,null,null,null,null,null,null,null,null,null,null,null,null,null,null,null,"68081Minas y Energía","Santander",68081,"Barrancabermeja",null,"Minas y Energía",14]
[null,null,null,null,null,null,null,null,null,null,null,null,null,null,null,null,null,null,null,null,null,null,null,null,null,null,null,null,null,null,null,null,null,null,null,null,null,null,null,null,null,null,null,null,null,null,null,null,null,null,null,null,null,null,"68121Deporte Y Recreación","Santander",68121,"Cabrera",null,"Deporte Y Recreación",9]
[null,null,null,null,null,null,null,null,null,null,null,null,null,null,null,null,null,null,null,null,null,null,null,null,null,null,null,null,null,null,null,null,null,null,null,null,null,null,null,null,null,null,null,null,null,null,null,null,null,null,null,null,null,null,"68147Inclusión Social Y Reconciliación","Santander",68147,"Capitanejo",null,"Inclusión Social Y Reconciliación",3]
[null,null,null,null,null,null,null,null,null,null,null,null,null,null,null,null,null,null,null,null,null,null,null,null,null,null,null,null,null,null,null,null,null,null,null,null,null,null,null,null,null,null,null,null,null,null,null,null,null,null,null,null,null,null,"68160Transporte","Santander",68160,"Cepitá",null,"Transporte",6]
[null,null,null,null,null,null,null,null,null,null,null,null,null,null,null,null,null,null,null,null,null,null,null,null,null,null,null,null,null,null,null,null,null,null,null,null,null,null,null,null,null,null,null,null,null,null,null,null,null,null,null,null,null,null,"68167Vivienda, Ciudad Y Territorio","Santander",68167,"Charalá",null,"Vivienda, Ciudad Y Territorio",7]
[null,null,null,null,null,null,null,null,null,null,null,null,null,null,null,null,null,null,null,null,null,null,null,null,null,null,null,null,null,null,null,null,null,null,null,null,null,null,null,null,null,null,null,null,null,null,null,null,null,null,null,null,null,null,"68179Ambiente y Desarrollo Sostenible","Santander",68179,"Chipatá",null,"Ambiente y Desarrollo Sostenible",11]
[null,null,null,null,null,null,null,null,null,null,null,null,null,null,null,null,null,null,null,null,null,null,null,null,null,null,null,null,null,null,null,null,null,null,null,null,null,null,null,null,null,null,null,null,null,null,null,null,null,null,null,null,null,null,"68209Tecnologías de la Información y las Comunicaciones","Santander",68209,"Confines",null,"Tecnologías de la Información y las Comunicaciones",2]
[null,null,null,null,null,null,null,null,null,null,null,null,null,null,null,null,null,null,null,null,null,null,null,null,null,null,null,null,null,null,null,null,null,null,null,null,null,null,null,null,null,null,null,null,null,null,null,null,null,null,null,null,null,null,"68211Cultura","Santander",68211,"Contratación",null,"Cultura",14]
[null,null,null,null,null,null,null,null,null,null,null,null,null,null,null,null,null,null,null,null,null,null,null,null,null,null,null,null,null,null,null,null,null,null,null,null,null,null,null,null,null,null,null,null,null,null,null,null,null,null,null,null,null,null,"68235Vivienda, Ciudad Y Territorio","Santander",68235,"El Carmen de Chucurí",null,"Vivienda, Ciudad Y Territorio",3]
[null,null,null,null,null,null,null,null,null,null,null,null,null,null,null,null,null,null,null,null,null,null,null,null,null,null,null,null,null,null,null,null,null,null,null,null,null,null,null,null,null,null,null,null,null,null,null,null,null,null,null,null,null,null,"68245Salud y Protección social","Santander",68245,"El Guacamayo",null,"Salud y Protección social",14]
[null,null,null,null,null,null,null,null,null,null,null,null,null,null,null,null,null,null,null,null,null,null,null,null,null,null,null,null,null,null,null,null,null,null,null,null,null,null,null,null,null,null,null,null,null,null,null,null,null,null,null,null,null,null,"68264Vivienda, Ciudad Y Territorio","Santander",68264,"Encino",null,"Vivienda, Ciudad Y Territorio",6]
[null,null,null,null,null,null,null,null,null,null,null,null,null,null,null,null,null,null,null,null,null,null,null,null,null,null,null,null,null,null,null,null,null,null,null,null,null,null,null,null,null,null,null,null,null,null,null,null,null,null,null,null,null,null,"68266Gobierno territorial","Santander",68266,"Enciso",null,"Gobierno territorial",8]
[null,null,null,null,null,null,null,null,null,null,null,null,null,null,null,null,null,null,null,null,null,null,null,null,null,null,null,null,null,null,null,null,null,null,null,null,null,null,null,null,null,null,null,null,null,null,null,null,null,null,null,null,null,null,"68276Gobierno territorial","Santander",68276,"Floridablanca",null,"Gobierno territorial",9]
[null,null,null,null,null,null,null,null,null,null,null,null,null,null,null,null,null,null,null,null,null,null,null,null,null,null,null,null,null,null,null,null,null,null,null,null,null,null,null,null,null,null,null,null,null,null,null,null,null,null,null,null,null,null,"68298Salud y Protección social","Santander",68298,"Gámbita",null,"Salud y Protección social",12]
[null,null,null,null,null,null,null,null,null,null,null,null,null,null,null,null,null,null,null,null,null,null,null,null,null,null,null,null,null,null,null,null,null,null,null,null,null,null,null,null,null,null,null,null,null,null,null,null,null,null,null,null,null,null,"68318Gobierno territorial","Santander",68318,"Guaca",null,"Gobierno territorial",6]
[null,null,null,null,null,null,null,null,null,null,null,null,null,null,null,null,null,null,null,null,null,null,null,null,null,null,null,null,null,null,null,null,null,null,null,null,null,null,null,null,null,null,null,null,null,null,null,null,null,null,null,null,null,null,"68324Tecnologías de la Información y las Comunicaciones","Santander",68324,"Guavatá",null,"Tecnologías de la Información y las Comunicaciones",1]
[null,null,null,null,null,null,null,null,null,null,null,null,null,null,null,null,null,null,null,null,null,null,null,null,null,null,null,null,null,null,null,null,null,null,null,null,null,null,null,null,null,null,null,null,null,null,null,null,null,null,null,null,null,null,"68368Tecnologías de la Información y las Comunicaciones","Santander",68368,"Jesús María",null,"Tecnologías de la Información y las Comunicaciones",1]
[null,null,null,null,null,null,null,null,null,null,null,null,null,null,null,null,null,null,null,null,null,null,null,null,null,null,null,null,null,null,null,null,null,null,null,null,null,null,null,null,null,null,null,null,null,null,null,null,null,null,null,null,null,null,"68377Educación","Santander",68377,"La Belleza",null,"Educación",6]
[null,null,null,null,null,null,null,null,null,null,null,null,null,null,null,null,null,null,null,null,null,null,null,null,null,null,null,null,null,null,null,null,null,null,null,null,null,null,null,null,null,null,null,null,null,null,null,null,null,null,null,null,null,null,"68397Minas y Energía","Santander",68397,"La Paz",null,"Minas y Energía",9]
[null,null,null,null,null,null,null,null,null,null,null,null,null,null,null,null,null,null,null,null,null,null,null,null,null,null,null,null,null,null,null,null,null,null,null,null,null,null,null,null,null,null,null,null,null,null,null,null,null,null,null,null,null,null,"68406Cultura","Santander",68406,"Lebrija",null,"Cultura",13]
[null,null,null,null,null,null,null,null,null,null,null,null,null,null,null,null,null,null,null,null,null,null,null,null,null,null,null,null,null,null,null,null,null,null,null,null,null,null,null,null,null,null,null,null,null,null,null,null,null,null,null,null,null,null,"68432Salud y Protección social","Santander",68432,"Málaga",null,"Salud y Protección social",12]
[null,null,null,null,null,null,null,null,null,null,null,null,null,null,null,null,null,null,null,null,null,null,null,null,null,null,null,null,null,null,null,null,null,null,null,null,null,null,null,null,null,null,null,null,null,null,null,null,null,null,null,null,null,null,"68468Vivienda, Ciudad Y Territorio","Santander",68468,"Molagavita",null,"Vivienda, Ciudad Y Territorio",1]
[null,null,null,null,null,null,null,null,null,null,null,null,null,null,null,null,null,null,null,null,null,null,null,null,null,null,null,null,null,null,null,null,null,null,null,null,null,null,null,null,null,null,null,null,null,null,null,null,null,null,null,null,null,null,"68468Deporte Y Recreación","Santander",68468,"Molagavita",null,"Deporte Y Recreación",11]
[null,null,null,null,null,null,null,null,null,null,null,null,null,null,null,null,null,null,null,null,null,null,null,null,null,null,null,null,null,null,null,null,null,null,null,null,null,null,null,null,null,null,null,null,null,null,null,null,null,null,null,null,null,null,"68522Inclusión Social Y Reconciliación","Santander",68522,"Palmar",null,"Inclusión Social Y Reconciliación",4]
[null,null,null,null,null,null,null,null,null,null,null,null,null,null,null,null,null,null,null,null,null,null,null,null,null,null,null,null,null,null,null,null,null,null,null,null,null,null,null,null,null,null,null,null,null,null,null,null,null,null,null,null,null,null,"68533Agricultura y desarrollo rural","Santander",68533,"Páramo",null,"Agricultura y desarrollo rural",6]
[null,null,null,null,null,null,null,null,null,null,null,null,null,null,null,null,null,null,null,null,null,null,null,null,null,null,null,null,null,null,null,null,null,null,null,null,null,null,null,null,null,null,null,null,null,null,null,null,null,null,null,null,null,null,"68547Transporte","Santander",68547,"Piedecuesta",null,"Transporte",7]
[null,null,null,null,null,null,null,null,null,null,null,null,null,null,null,null,null,null,null,null,null,null,null,null,null,null,null,null,null,null,null,null,null,null,null,null,null,null,null,null,null,null,null,null,null,null,null,null,null,null,null,null,null,null,"68572Deporte Y Recreación","Santander",68572,"Puente Nacional",null,"Deporte Y Recreación",10]
[null,null,null,null,null,null,null,null,null,null,null,null,null,null,null,null,null,null,null,null,null,null,null,null,null,null,null,null,null,null,null,null,null,null,null,null,null,null,null,null,null,null,null,null,null,null,null,null,null,null,null,null,null,null,"68615Educación","Santander",68615,"Rionegro",null,"Educación",4]
[null,null,null,null,null,null,null,null,null,null,null,null,null,null,null,null,null,null,null,null,null,null,null,null,null,null,null,null,null,null,null,null,null,null,null,null,null,null,null,null,null,null,null,null,null,null,null,null,null,null,null,null,null,null,"68655Cultura","Santander",68655,"Sabana de Torres",null,"Cultura",13]
[null,null,null,null,null,null,null,null,null,null,null,null,null,null,null,null,null,null,null,null,null,null,null,null,null,null,null,null,null,null,null,null,null,null,null,null,null,null,null,null,null,null,null,null,null,null,null,null,null,null,null,null,null,null,"68673Justicia y del Derecho","Santander",68673,"San Benito",null,"Justicia y del Derecho",12]
[null,null,null,null,null,null,null,null,null,null,null,null,null,null,null,null,null,null,null,null,null,null,null,null,null,null,null,null,null,null,null,null,null,null,null,null,null,null,null,null,null,null,null,null,null,null,null,null,null,null,null,null,null,null,"68682Desarrollo Económico","Santander",68682,"San Joaquín",null,"Desarrollo Económico",2]
[null,null,null,null,null,null,null,null,null,null,null,null,null,null,null,null,null,null,null,null,null,null,null,null,null,null,null,null,null,null,null,null,null,null,null,null,null,null,null,null,null,null,null,null,null,null,null,null,null,null,null,null,null,null,"68686Transporte","Santander",68686,"San Miguel",null,"Transporte",5]
[null,null,null,null,null,null,null,null,null,null,null,null,null,null,null,null,null,null,null,null,null,null,null,null,null,null,null,null,null,null,null,null,null,null,null,null,null,null,null,null,null,null,null,null,null,null,null,null,null,null,null,null,null,null,"68705Ambiente y Desarrollo Sostenible","Santander",68705,"Santa Bárbara",null,"Ambiente y Desarrollo Sostenible",10]
[null,null,null,null,null,null,null,null,null,null,null,null,null,null,null,null,null,null,null,null,null,null,null,null,null,null,null,null,null,null,null,null,null,null,null,null,null,null,null,null,null,null,null,null,null,null,null,null,null,null,null,null,null,null,"68745Gobierno territorial","Santander",68745,"Simacota",null,"Gobierno territorial",8]
[null,null,null,null,null,null,null,null,null,null,null,null,null,null,null,null,null,null,null,null,null,null,null,null,null,null,null,null,null,null,null,null,null,null,null,null,null,null,null,null,null,null,null,null,null,null,null,null,null,null,null,null,null,null,"68780Agricultura y desarrollo rural","Santander",68780,"Suratá",null,"Agricultura y desarrollo rural",5]
[null,null,null,null,null,null,null,null,null,null,null,null,null,null,null,null,null,null,null,null,null,null,null,null,null,null,null,null,null,null,null,null,null,null,null,null,null,null,null,null,null,null,null,null,null,null,null,null,null,null,null,null,null,null,"68820Cultura","Santander",68820,"Tona",null,"Cultura",13]
[null,null,null,null,null,null,null,null,null,null,null,null,null,null,null,null,null,null,null,null,null,null,null,null,null,null,null,null,null,null,null,null,null,null,null,null,null,null,null,null,null,null,null,null,null,null,null,null,null,null,null,null,null,null,"68855Minas y Energía","Santander",68855,"Valle de San José",null,"Minas y Energía",14]
[null,null,null,null,null,null,null,null,null,null,null,null,null,null,null,null,null,null,null,null,null,null,null,null,null,null,null,null,null,null,null,null,null,null,null,null,null,null,null,null,null,null,null,null,null,null,null,null,null,null,null,null,null,null,"68895Educación","Santander",68895,"Zapatoca",null,"Educación",3]
[null,null,null,null,null,null,null,null,null,null,null,null,null,null,null,null,null,null,null,null,null,null,null,null,null,null,null,null,null,null,null,null,null,null,null,null,null,null,null,null,null,null,null,null,null,null,null,null,null,null,null,null,null,null,"70110Educación","Sucre",70110,"Buenavista",null,"Educación",5]
[null,null,null,null,null,null,null,null,null,null,null,null,null,null,null,null,null,null,null,null,null,null,null,null,null,null,null,null,null,null,null,null,null,null,null,null,null,null,null,null,null,null,null,null,null,null,null,null,null,null,null,null,null,null,"70215Justicia y del Derecho","Sucre",70215,"Corozal",null,"Justicia y del Derecho",8]
[null,null,null,null,null,null,null,null,null,null,null,null,null,null,null,null,null,null,null,null,null,null,null,null,null,null,null,null,null,null,null,null,null,null,null,null,null,null,null,null,null,null,null,null,null,null,null,null,null,null,null,null,null,null,"70233Desarrollo Económico","Sucre",70233,"El Roble",null,"Desarrollo Económico",1]
[null,null,null,null,null,null,null,null,null,null,null,null,null,null,null,null,null,null,null,null,null,null,null,null,null,null,null,null,null,null,null,null,null,null,null,null,null,null,null,null,null,null,null,null,null,null,null,null,null,null,null,null,null,null,"70265Cultura","Sucre",70265,"Guaranda",null,"Cultura",11]
[null,null,null,null,null,null,null,null,null,null,null,null,null,null,null,null,null,null,null,null,null,null,null,null,null,null,null,null,null,null,null,null,null,null,null,null,null,null,null,null,null,null,null,null,null,null,null,null,null,null,null,null,null,null,"70400Minas y Energía","Sucre",70400,"La Unión",null,"Minas y Energía",9]
[null,null,null,null,null,null,null,null,null,null,null,null,null,null,null,null,null,null,null,null,null,null,null,null,null,null,null,null,null,null,null,null,null,null,null,null,null,null,null,null,null,null,null,null,null,null,null,null,null,null,null,null,null,null,"70670Ambiente y Desarrollo Sostenible","Sucre",70670,"Sampués",null,"Ambiente y Desarrollo Sostenible",14]
[null,null,null,null,null,null,null,null,null,null,null,null,null,null,null,null,null,null,null,null,null,null,null,null,null,null,null,null,null,null,null,null,null,null,null,null,null,null,null,null,null,null,null,null,null,null,null,null,null,null,null,null,null,null,"70717Agricultura y desarrollo rural","Sucre",70717,"San Pedro",null,"Agricultura y desarrollo rural",3]
[null,null,null,null,null,null,null,null,null,null,null,null,null,null,null,null,null,null,null,null,null,null,null,null,null,null,null,null,null,null,null,null,null,null,null,null,null,null,null,null,null,null,null,null,null,null,null,null,null,null,null,null,null,null,"70771Educación","Sucre",70771,"Sucre",null,"Educación",8]
[null,null,null,null,null,null,null,null,null,null,null,null,null,null,null,null,null,null,null,null,null,null,null,null,null,null,null,null,null,null,null,null,null,null,null,null,null,null,null,null,null,null,null,null,null,null,null,null,null,null,null,null,null,null,"70820Educación","Sucre",70820,"Santiago de Tolú",null,"Educación",6]
[null,null,null,null,null,null,null,null,null,null,null,null,null,null,null,null,null,null,null,null,null,null,null,null,null,null,null,null,null,null,null,null,null,null,null,null,null,null,null,null,null,null,null,null,null,null,null,null,null,null,null,null,null,null,"73026Tecnologías de la Información y las Comunicaciones","Tolima",73026,"Alvarado",null,"Tecnologías de la Información y las Comunicaciones",2]
[null,null,null,null,null,null,null,null,null,null,null,null,null,null,null,null,null,null,null,null,null,null,null,null,null,null,null,null,null,null,null,null,null,null,null,null,null,null,null,null,null,null,null,null,null,null,null,null,null,null,null,null,null,null,"73043Ambiente y Desarrollo Sostenible","Tolima",73043,"Anzoátegui",null,"Ambiente y Desarrollo Sostenible",11]
[null,null,null,null,null,null,null,null,null,null,null,null,null,null,null,null,null,null,null,null,null,null,null,null,null,null,null,null,null,null,null,null,null,null,null,null,null,null,null,null,null,null,null,null,null,null,null,null,null,null,null,null,null,null,"73055Ambiente y Desarrollo Sostenible","Tolima",73055,"Armero",null,"Ambiente y Desarrollo Sostenible",12]
[null,null,null,null,null,null,null,null,null,null,null,null,null,null,null,null,null,null,null,null,null,null,null,null,null,null,null,null,null,null,null,null,null,null,null,null,null,null,null,null,null,null,null,null,null,null,null,null,null,null,null,null,null,null,"73148Minas y Energía","Tolima",73148,"Carmen de Apicalá",null,"Minas y Energía",14]
[null,null,null,null,null,null,null,null,null,null,null,null,null,null,null,null,null,null,null,null,null,null,null,null,null,null,null,null,null,null,null,null,null,null,null,null,null,null,null,null,null,null,null,null,null,null,null,null,null,null,null,null,null,null,"73226Vivienda, Ciudad Y Territorio","Tolima",73226,"Cunday",null,"Vivienda, Ciudad Y Territorio",3]
[null,null,null,null,null,null,null,null,null,null,null,null,null,null,null,null,null,null,null,null,null,null,null,null,null,null,null,null,null,null,null,null,null,null,null,null,null,null,null,null,null,null,null,null,null,null,null,null,null,null,null,null,null,null,"73268Ambiente y Desarrollo Sostenible","Tolima",73268,"Espinal",null,"Ambiente y Desarrollo Sostenible",9]
[null,null,null,null,null,null,null,null,null,null,null,null,null,null,null,null,null,null,null,null,null,null,null,null,null,null,null,null,null,null,null,null,null,null,null,null,null,null,null,null,null,null,null,null,null,null,null,null,null,null,null,null,null,null,"73270Transporte","Tolima",73270,"Falan",null,"Transporte",6]
[null,null,null,null,null,null,null,null,null,null,null,null,null,null,null,null,null,null,null,null,null,null,null,null,null,null,null,null,null,null,null,null,null,null,null,null,null,null,null,null,null,null,null,null,null,null,null,null,null,null,null,null,null,null,"73319Gobierno territorial","Tolima",73319,"Guamo",null,"Gobierno territorial",9]
[null,null,null,null,null,null,null,null,null,null,null,null,null,null,null,null,null,null,null,null,null,null,null,null,null,null,null,null,null,null,null,null,null,null,null,null,null,null,null,null,null,null,null,null,null,null,null,null,null,null,null,null,null,null,"73349Gobierno territorial","Tolima",73349,"Honda",null,"Gobierno territorial",7]
[null,null,null,null,null,null,null,null,null,null,null,null,null,null,null,null,null,null,null,null,null,null,null,null,null,null,null,null,null,null,null,null,null,null,null,null,null,null,null,null,null,null,null,null,null,null,null,null,null,null,null,null,null,null,"73352Cultura","Tolima",73352,"Icononzo",null,"Cultura",12]
[null,null,null,null,null,null,null,null,null,null,null,null,null,null,null,null,null,null,null,null,null,null,null,null,null,null,null,null,null,null,null,null,null,null,null,null,null,null,null,null,null,null,null,null,null,null,null,null,null,null,null,null,null,null,"73443Minas y Energía","Tolima",73443,"Mariquita",null,"Minas y Energía",14]
[null,null,null,null,null,null,null,null,null,null,null,null,null,null,null,null,null,null,null,null,null,null,null,null,null,null,null,null,null,null,null,null,null,null,null,null,null,null,null,null,null,null,null,null,null,null,null,null,null,null,null,null,null,null,"73483Agricultura y desarrollo rural","Tolima",73483,"Natagaima",null,"Agricultura y desarrollo rural",3]
[null,null,null,null,null,null,null,null,null,null,null,null,null,null,null,null,null,null,null,null,null,null,null,null,null,null,null,null,null,null,null,null,null,null,null,null,null,null,null,null,null,null,null,null,null,null,null,null,null,null,null,null,null,null,"73504Minas y Energía","Tolima",73504,"Ortega",null,"Minas y Energía",4]
[null,null,null,null,null,null,null,null,null,null,null,null,null,null,null,null,null,null,null,null,null,null,null,null,null,null,null,null,null,null,null,null,null,null,null,null,null,null,null,null,null,null,null,null,null,null,null,null,null,null,null,null,null,null,"73520Salud y Protección social","Tolima",73520,"Palocabildo",null,"Salud y Protección social",13]
[null,null,null,null,null,null,null,null,null,null,null,null,null,null,null,null,null,null,null,null,null,null,null,null,null,null,null,null,null,null,null,null,null,null,null,null,null,null,null,null,null,null,null,null,null,null,null,null,null,null,null,null,null,null,"73622Gobierno territorial","Tolima",73622,"Roncesvalles",null,"Gobierno territorial",9]
[null,null,null,null,null,null,null,null,null,null,null,null,null,null,null,null,null,null,null,null,null,null,null,null,null,null,null,null,null,null,null,null,null,null,null,null,null,null,null,null,null,null,null,null,null,null,null,null,null,null,null,null,null,null,"73624Ambiente y Desarrollo Sostenible","Tolima",73624,"Rovira",null,"Ambiente y Desarrollo Sostenible",10]
[null,null,null,null,null,null,null,null,null,null,null,null,null,null,null,null,null,null,null,null,null,null,null,null,null,null,null,null,null,null,null,null,null,null,null,null,null,null,null,null,null,null,null,null,null,null,null,null,null,null,null,null,null,null,"73678Deporte Y Recreación","Tolima",73678,"San Luis",null,"Deporte Y Recreación",12]
[null,null,null,null,null,null,null,null,null,null,null,null,null,null,null,null,null,null,null,null,null,null,null,null,null,null,null,null,null,null,null,null,null,null,null,null,null,null,null,null,null,null,null,null,null,null,null,null,null,null,null,null,null,null,"73854Tecnologías de la Información y las Comunicaciones","Tolima",73854,"Valle de San Juan",null,"Tecnologías de la Información y las Comunicaciones",1]
[null,null,null,null,null,null,null,null,null,null,null,null,null,null,null,null,null,null,null,null,null,null,null,null,null,null,null,null,null,null,null,null,null,null,null,null,null,null,null,null,null,null,null,null,null,null,null,null,null,null,null,null,null,null,"73854Educación","Tolima",73854,"Valle de San Juan",null,"Educación",4]
[null,null,null,null,null,null,null,null,null,null,null,null,null,null,null,null,null,null,null,null,null,null,null,null,null,null,null,null,null,null,null,null,null,null,null,null,null,null,null,null,null,null,null,null,null,null,null,null,null,null,null,null,null,null,"73873Agricultura y desarrollo rural","Tolima",73873,"Villarrica",null,"Agricultura y desarrollo rural",4]
[null,null,null,null,null,null,null,null,null,null,null,null,null,null,null,null,null,null,null,null,null,null,null,null,null,null,null,null,null,null,null,null,null,null,null,null,null,null,null,null,null,null,null,null,null,null,null,null,null,null,null,null,null,null,"76036Minas y Energía","Valle del Cauca",76036,"Andalucía",null,"Minas y Energía",7]
[null,null,null,null,null,null,null,null,null,null,null,null,null,null,null,null,null,null,null,null,null,null,null,null,null,null,null,null,null,null,null,null,null,null,null,null,null,null,null,null,null,null,null,null,null,null,null,null,null,null,null,null,null,null,"76041Agricultura y desarrollo rural","Valle del Cauca",76041,"Ansermanuevo",null,"Agricultura y desarrollo rural",4]
[null,null,null,null,null,null,null,null,null,null,null,null,null,null,null,null,null,null,null,null,null,null,null,null,null,null,null,null,null,null,null,null,null,null,null,null,null,null,null,null,null,null,null,null,null,null,null,null,null,null,null,null,null,null,"76100Salud y Protección social","Valle del Cauca",76100,"Bolívar",null,"Salud y Protección social",10]
[null,null,null,null,null,null,null,null,null,null,null,null,null,null,null,null,null,null,null,null,null,null,null,null,null,null,null,null,null,null,null,null,null,null,null,null,null,null,null,null,null,null,null,null,null,null,null,null,null,null,null,null,null,null,"76113Cultura","Valle del Cauca",76113,"Bugalagrande",null,"Cultura",11]
[null,null,null,null,null,null,null,null,null,null,null,null,null,null,null,null,null,null,null,null,null,null,null,null,null,null,null,null,null,null,null,null,null,null,null,null,null,null,null,null,null,null,null,null,null,null,null,null,null,null,null,null,null,null,"76122Deporte Y Recreación","Valle del Cauca",76122,"Caicedonia",null,"Deporte Y Recreación",13]
[null,null,null,null,null,null,null,null,null,null,null,null,null,null,null,null,null,null,null,null,null,null,null,null,null,null,null,null,null,null,null,null,null,null,null,null,null,null,null,null,null,null,null,null,null,null,null,null,null,null,null,null,null,null,"76233Desarrollo Económico","Valle del Cauca",76233,"Dagua",null,"Desarrollo Económico",2]
[null,null,null,null,null,null,null,null,null,null,null,null,null,null,null,null,null,null,null,null,null,null,null,null,null,null,null,null,null,null,null,null,null,null,null,null,null,null,null,null,null,null,null,null,null,null,null,null,null,null,null,null,null,null,"76246Ambiente y Desarrollo Sostenible","Valle del Cauca",76246,"El Cairo",null,"Ambiente y Desarrollo Sostenible",11]
[null,null,null,null,null,null,null,null,null,null,null,null,null,null,null,null,null,null,null,null,null,null,null,null,null,null,null,null,null,null,null,null,null,null,null,null,null,null,null,null,null,null,null,null,null,null,null,null,null,null,null,null,null,null,"76248Inclusión Social Y Reconciliación","Valle del Cauca",76248,"El Cerrito",null,"Inclusión Social Y Reconciliación",5]
[null,null,null,null,null,null,null,null,null,null,null,null,null,null,null,null,null,null,null,null,null,null,null,null,null,null,null,null,null,null,null,null,null,null,null,null,null,null,null,null,null,null,null,null,null,null,null,null,null,null,null,null,null,null,"76364Agricultura y desarrollo rural","Valle del Cauca",76364,"Jamundí",null,"Agricultura y desarrollo rural",4]
[null,null,null,null,null,null,null,null,null,null,null,null,null,null,null,null,null,null,null,null,null,null,null,null,null,null,null,null,null,null,null,null,null,null,null,null,null,null,null,null,null,null,null,null,null,null,null,null,null,null,null,null,null,null,"76377Salud y Protección social","Valle del Cauca",76377,"La Cumbre",null,"Salud y Protección social",10]
[null,null,null,null,null,null,null,null,null,null,null,null,null,null,null,null,null,null,null,null,null,null,null,null,null,null,null,null,null,null,null,null,null,null,null,null,null,null,null,null,null,null,null,null,null,null,null,null,null,null,null,null,null,null,"76400Cultura","Valle del Cauca",76400,"La Unión",null,"Cultura",11]
[null,null,null,null,null,null,null,null,null,null,null,null,null,null,null,null,null,null,null,null,null,null,null,null,null,null,null,null,null,null,null,null,null,null,null,null,null,null,null,null,null,null,null,null,null,null,null,null,null,null,null,null,null,null,"76606Desarrollo Económico","Valle del Cauca",76606,"Restrepo",null,"Desarrollo Económico",2]
[null,null,null,null,null,null,null,null,null,null,null,null,null,null,null,null,null,null,null,null,null,null,null,null,null,null,null,null,null,null,null,null,null,null,null,null,null,null,null,null,null,null,null,null,null,null,null,null,null,null,null,null,null,null,"76622Tecnologías de la Información y las Comunicaciones","Valle del Cauca",76622,"Roldanillo",null,"Tecnologías de la Información y las Comunicaciones",2]
[null,null,null,null,null,null,null,null,null,null,null,null,null,null,null,null,null,null,null,null,null,null,null,null,null,null,null,null,null,null,null,null,null,null,null,null,null,null,null,null,null,null,null,null,null,null,null,null,null,null,null,null,null,null,"76670Educación","Valle del Cauca",76670,"San Pedro",null,"Educación",3]
[null,null,null,null,null,null,null,null,null,null,null,null,null,null,null,null,null,null,null,null,null,null,null,null,null,null,null,null,null,null,null,null,null,null,null,null,null,null,null,null,null,null,null,null,null,null,null,null,null,null,null,null,null,null,"76823Tecnologías de la Información y las Comunicaciones","Valle del Cauca",76823,"Toro",null,"Tecnologías de la Información y las Comunicaciones",1]
[null,null,null,null,null,null,null,null,null,null,null,null,null,null,null,null,null,null,null,null,null,null,null,null,null,null,null,null,null,null,null,null,null,null,null,null,null,null,null,null,null,null,null,null,null,null,null,null,null,null,null,null,null,null,"76845Vivienda, Ciudad Y Territorio","Valle del Cauca",76845,"Ulloa",null,"Vivienda, Ciudad Y Territorio",8]
[null,null,null,null,null,null,null,null,null,null,null,null,null,null,null,null,null,null,null,null,null,null,null,null,null,null,null,null,null,null,null,null,null,null,null,null,null,null,null,null,null,null,null,null,null,null,null,null,null,null,null,null,null,null,"76863Vivienda, Ciudad Y Territorio","Valle del Cauca",76863,"Versalles",null,"Vivienda, Ciudad Y Territorio",8]
[null,null,null,null,null,null,null,null,null,null,null,null,null,null,null,null,null,null,null,null,null,null,null,null,null,null,null,null,null,null,null,null,null,null,null,null,null,null,null,null,null,null,null,null,null,null,null,null,null,null,null,null,null,null,"76890Cultura","Valle del Cauca",76890,"Yotoco",null,"Cultura",11]
[null,null,null,null,null,null,null,null,null,null,null,null,null,null,null,null,null,null,null,null,null,null,null,null,null,null,null,null,null,null,null,null,null,null,null,null,null,null,null,null,null,null,null,null,null,null,null,null,null,null,null,null,null,null,"81001Cultura","Arauca",81001,"Arauca",null,"Cultura",14]
[null,null,null,null,null,null,null,null,null,null,null,null,null,null,null,null,null,null,null,null,null,null,null,null,null,null,null,null,null,null,null,null,null,null,null,null,null,null,null,null,null,null,null,null,null,null,null,null,null,null,null,null,null,null,"81591Minas y Energía","Arauca",81591,"Puerto Rondón",null,"Minas y Energía",8]
[null,null,null,null,null,null,null,null,null,null,null,null,null,null,null,null,null,null,null,null,null,null,null,null,null,null,null,null,null,null,null,null,null,null,null,null,null,null,null,null,null,null,null,null,null,null,null,null,null,null,null,null,null,null,"85010Inclusión Social Y Reconciliación","Casanare",85010,"Aguazul",null,"Inclusión Social Y Reconciliación",3]
[null,null,null,null,null,null,null,null,null,null,null,null,null,null,null,null,null,null,null,null,null,null,null,null,null,null,null,null,null,null,null,null,null,null,null,null,null,null,null,null,null,null,null,null,null,null,null,null,null,null,null,null,null,null,"85136Tecnologías de la Información y las Comunicaciones","Casanare",85136,"La Salina",null,"Tecnologías de la Información y las Comunicaciones",1]
[null,null,null,null,null,null,null,null,null,null,null,null,null,null,null,null,null,null,null,null,null,null,null,null,null,null,null,null,null,null,null,null,null,null,null,null,null,null,null,null,null,null,null,null,null,null,null,null,null,null,null,null,null,null,"85162Justicia y del Derecho","Casanare",85162,"Monterrey",null,"Justicia y del Derecho",8]
[null,null,null,null,null,null,null,null,null,null,null,null,null,null,null,null,null,null,null,null,null,null,null,null,null,null,null,null,null,null,null,null,null,null,null,null,null,null,null,null,null,null,null,null,null,null,null,null,null,null,null,null,null,null,"85225Transporte","Casanare",85225,"Nunchía",null,"Transporte",9]
[null,null,null,null,null,null,null,null,null,null,null,null,null,null,null,null,null,null,null,null,null,null,null,null,null,null,null,null,null,null,null,null,null,null,null,null,null,null,null,null,null,null,null,null,null,null,null,null,null,null,null,null,null,null,"85250Ambiente y Desarrollo Sostenible","Casanare",85250,"Paz de Ariporo",null,"Ambiente y Desarrollo Sostenible",13]
[null,null,null,null,null,null,null,null,null,null,null,null,null,null,null,null,null,null,null,null,null,null,null,null,null,null,null,null,null,null,null,null,null,null,null,null,null,null,null,null,null,null,null,null,null,null,null,null,null,null,null,null,null,null,"85300Cultura","Casanare",85300,"Sabanalarga",null,"Cultura",14]
[null,null,null,null,null,null,null,null,null,null,null,null,null,null,null,null,null,null,null,null,null,null,null,null,null,null,null,null,null,null,null,null,null,null,null,null,null,null,null,null,null,null,null,null,null,null,null,null,null,null,null,null,null,null,"85315Justicia y del Derecho","Casanare",85315,"Sácama",null,"Justicia y del Derecho",7]
[null,null,null,null,null,null,null,null,null,null,null,null,null,null,null,null,null,null,null,null,null,null,null,null,null,null,null,null,null,null,null,null,null,null,null,null,null,null,null,null,null,null,null,null,null,null,null,null,null,null,null,null,null,null,"85410Agricultura y desarrollo rural","Casanare",85410,"Tauramena",null,"Agricultura y desarrollo rural",3]
[null,null,null,null,null,null,null,null,null,null,null,null,null,null,null,null,null,null,null,null,null,null,null,null,null,null,null,null,null,null,null,null,null,null,null,null,null,null,null,null,null,null,null,null,null,null,null,null,null,null,null,null,null,null,"86219Transporte","Putumayo",86219,"Colón",null,"Transporte",6]
[null,null,null,null,null,null,null,null,null,null,null,null,null,null,null,null,null,null,null,null,null,null,null,null,null,null,null,null,null,null,null,null,null,null,null,null,null,null,null,null,null,null,null,null,null,null,null,null,null,null,null,null,null,null,"86755Agricultura y desarrollo rural","Putumayo",86755,"San Francisco",null,"Agricultura y desarrollo rural",6]
[null,null,null,null,null,null,null,null,null,null,null,null,null,null,null,null,null,null,null,null,null,null,null,null,null,null,null,null,null,null,null,null,null,null,null,null,null,null,null,null,null,null,null,null,null,null,null,null,null,null,null,null,null,null,"86760Inclusión Social Y Reconciliación","Putumayo",86760,"Santiago",null,"Inclusión Social Y Reconciliación",9]
[null,null,null,null,null,null,null,null,null,null,null,null,null,null,null,null,null,null,null,null,null,null,null,null,null,null,null,null,null,null,null,null,null,null,null,null,null,null,null,null,null,null,null,null,null,null,null,null,null,null,null,null,null,null,"91540Ambiente y Desarrollo Sostenible","Amazonas",91540,"Puerto Nariño",null,"Ambiente y Desarrollo Sostenible",12]
[null,null,null,null,null,null,null,null,null,null,null,null,null,null,null,null,null,null,null,null,null,null,null,null,null,null,null,null,null,null,null,null,null,null,null,null,null,null,null,null,null,null,null,null,null,null,null,null,null,null,null,null,null,null,"94001Desarrollo Económico","Guainía",94001,"Inírida",null,"Desarrollo Económico",2]
[null,null,null,null,null,null,null,null,null,null,null,null,null,null,null,null,null,null,null,null,null,null,null,null,null,null,null,null,null,null,null,null,null,null,null,null,null,null,null,null,null,null,null,null,null,null,null,null,null,null,null,null,null,null,"94001Vivienda, Ciudad Y Territorio","Guainía",94001,"Inírida",null,"Vivienda, Ciudad Y Territorio",3]
[null,null,null,null,null,null,null,null,null,null,null,null,null,null,null,null,null,null,null,null,null,null,null,null,null,null,null,null,null,null,null,null,null,null,null,null,null,null,null,null,null,null,null,null,null,null,null,null,null,null,null,null,null,null,"94001Tecnologías de la Información y las Comunicaciones","Guainía",94001,"Inírida",null,"Tecnologías de la Información y las Comunicaciones",4]
[null,null,null,null,null,null,null,null,null,null,null,null,null,null,null,null,null,null,null,null,null,null,null,null,null,null,null,null,null,null,null,null,null,null,null,null,null,null,null,null,null,null,null,null,null,null,null,null,null,null,null,null,null,null,"94001Agricultura y desarrollo rural","Guainía",94001,"Inírida",null,"Agricultura y desarrollo rural",5]
[null,null,null,null,null,null,null,null,null,null,null,null,null,null,null,null,null,null,null,null,null,null,null,null,null,null,null,null,null,null,null,null,null,null,null,null,null,null,null,null,null,null,null,null,null,null,null,null,null,null,null,null,null,null,"94001Inclusión Social Y Reconciliación","Guainía",94001,"Inírida",null,"Inclusión Social Y Reconciliación",6]
[null,null,null,null,null,null,null,null,null,null,null,null,null,null,null,null,null,null,null,null,null,null,null,null,null,null,null,null,null,null,null,null,null,null,null,null,null,null,null,null,null,null,null,null,null,null,null,null,null,null,null,null,null,null,"94001Educación","Guainía",94001,"Inírida",null,"Educación",7]
[null,null,null,null,null,null,null,null,null,null,null,null,null,null,null,null,null,null,null,null,null,null,null,null,null,null,null,null,null,null,null,null,null,null,null,null,null,null,null,null,null,null,null,null,null,null,null,null,null,null,null,null,null,null,"94001Justicia y del Derecho","Guainía",94001,"Inírida",null,"Justicia y del Derecho",8]
[null,null,null,null,null,null,null,null,null,null,null,null,null,null,null,null,null,null,null,null,null,null,null,null,null,null,null,null,null,null,null,null,null,null,null,null,null,null,null,null,null,null,null,null,null,null,null,null,null,null,null,null,null,null,"94001Gobierno territorial","Guainía",94001,"Inírida",null,"Gobierno territorial",9]
[null,null,null,null,null,null,null,null,null,null,null,null,null,null,null,null,null,null,null,null,null,null,null,null,null,null,null,null,null,null,null,null,null,null,null,null,null,null,null,null,null,null,null,null,null,null,null,null,null,null,null,null,null,null,"94001Salud y Protección social","Guainía",94001,"Inírida",null,"Salud y Protección social",10]
[null,null,null,null,null,null,null,null,null,null,null,null,null,null,null,null,null,null,null,null,null,null,null,null,null,null,null,null,null,null,null,null,null,null,null,null,null,null,null,null,null,null,null,null,null,null,null,null,null,null,null,null,null,null,"94001Ambiente y Desarrollo Sostenible","Guainía",94001,"Inírida",null,"Ambiente y Desarrollo Sostenible",11]
[null,null,null,null,null,null,null,null,null,null,null,null,null,null,null,null,null,null,null,null,null,null,null,null,null,null,null,null,null,null,null,null,null,null,null,null,null,null,null,null,null,null,null,null,null,null,null,null,null,null,null,null,null,null,"94001Deporte Y Recreación","Guainía",94001,"Inírida",null,"Deporte Y Recreación",12]
[null,null,null,null,null,null,null,null,null,null,null,null,null,null,null,null,null,null,null,null,null,null,null,null,null,null,null,null,null,null,null,null,null,null,null,null,null,null,null,null,null,null,null,null,null,null,null,null,null,null,null,null,null,null,"94001Cultura","Guainía",94001,"Inírida",null,"Cultura",13]
[null,null,null,null,null,null,null,null,null,null,null,null,null,null,null,null,null,null,null,null,null,null,null,null,null,null,null,null,null,null,null,null,null,null,null,null,null,null,null,null,null,null,null,null,null,null,null,null,null,null,null,null,null,null,"94001Minas y Energía","Guainía",94001,"Inírida",null,"Minas y Energía",14]
[null,null,null,null,null,null,null,null,null,null,null,null,null,null,null,null,null,null,null,null,null,null,null,null,null,null,null,null,null,null,null,null,null,null,null,null,null,null,null,null,null,null,null,null,null,null,null,null,null,null,null,null,null,null,"94343Transporte","Guainía",94343,"Barrancominas (CD)",null,"Transporte",1]
[null,null,null,null,null,null,null,null,null,null,null,null,null,null,null,null,null,null,null,null,null,null,null,null,null,null,null,null,null,null,null,null,null,null,null,null,null,null,null,null,null,null,null,null,null,null,null,null,null,null,null,null,null,null,"94343Desarrollo Económico","Guainía",94343,"Barrancominas (CD)",null,"Desarrollo Económico",2]
[null,null,null,null,null,null,null,null,null,null,null,null,null,null,null,null,null,null,null,null,null,null,null,null,null,null,null,null,null,null,null,null,null,null,null,null,null,null,null,null,null,null,null,null,null,null,null,null,null,null,null,null,null,null,"94343Tecnologías de la Información y las Comunicaciones","Guainía",94343,"Barrancominas (CD)",null,"Tecnologías de la Información y las Comunicaciones",3]
[null,null,null,null,null,null,null,null,null,null,null,null,null,null,null,null,null,null,null,null,null,null,null,null,null,null,null,null,null,null,null,null,null,null,null,null,null,null,null,null,null,null,null,null,null,null,null,null,null,null,null,null,null,null,"94343Vivienda, Ciudad Y Territorio","Guainía",94343,"Barrancominas (CD)",null,"Vivienda, Ciudad Y Territorio",4]
[null,null,null,null,null,null,null,null,null,null,null,null,null,null,null,null,null,null,null,null,null,null,null,null,null,null,null,null,null,null,null,null,null,null,null,null,null,null,null,null,null,null,null,null,null,null,null,null,null,null,null,null,null,null,"94343Agricultura y desarrollo rural","Guainía",94343,"Barrancominas (CD)",null,"Agricultura y desarrollo rural",5]
[null,null,null,null,null,null,null,null,null,null,null,null,null,null,null,null,null,null,null,null,null,null,null,null,null,null,null,null,null,null,null,null,null,null,null,null,null,null,null,null,null,null,null,null,null,null,null,null,null,null,null,null,null,null,"94343Inclusión Social Y Reconciliación","Guainía",94343,"Barrancominas (CD)",null,"Inclusión Social Y Reconciliación",6]
[null,null,null,null,null,null,null,null,null,null,null,null,null,null,null,null,null,null,null,null,null,null,null,null,null,null,null,null,null,null,null,null,null,null,null,null,null,null,null,null,null,null,null,null,null,null,null,null,null,null,null,null,null,null,"94343Minas y Energía","Guainía",94343,"Barrancominas (CD)",null,"Minas y Energía",7]
[null,null,null,null,null,null,null,null,null,null,null,null,null,null,null,null,null,null,null,null,null,null,null,null,null,null,null,null,null,null,null,null,null,null,null,null,null,null,null,null,null,null,null,null,null,null,null,null,null,null,null,null,null,null,"94343Gobierno territorial","Guainía",94343,"Barrancominas (CD)",null,"Gobierno territorial",8]
[null,null,null,null,null,null,null,null,null,null,null,null,null,null,null,null,null,null,null,null,null,null,null,null,null,null,null,null,null,null,null,null,null,null,null,null,null,null,null,null,null,null,null,null,null,null,null,null,null,null,null,null,null,null,"94343Educación","Guainía",94343,"Barrancominas (CD)",null,"Educación",9]
[null,null,null,null,null,null,null,null,null,null,null,null,null,null,null,null,null,null,null,null,null,null,null,null,null,null,null,null,null,null,null,null,null,null,null,null,null,null,null,null,null,null,null,null,null,null,null,null,null,null,null,null,null,null,"94343Justicia y del Derecho","Guainía",94343,"Barrancominas (CD)",null,"Justicia y del Derecho",10]
[null,null,null,null,null,null,null,null,null,null,null,null,null,null,null,null,null,null,null,null,null,null,null,null,null,null,null,null,null,null,null,null,null,null,null,null,null,null,null,null,null,null,null,null,null,null,null,null,null,null,null,null,null,null,"94343Ambiente y Desarrollo Sostenible","Guainía",94343,"Barrancominas (CD)",null,"Ambiente y Desarrollo Sostenible",11]
[null,null,null,null,null,null,null,null,null,null,null,null,null,null,null,null,null,null,null,null,null,null,null,null,null,null,null,null,null,null,null,null,null,null,null,null,null,null,null,null,null,null,null,null,null,null,null,null,null,null,null,null,null,null,"94343Deporte Y Recreación","Guainía",94343,"Barrancominas (CD)",null,"Deporte Y Recreación",12]
[null,null,null,null,null,null,null,null,null,null,null,null,null,null,null,null,null,null,null,null,null,null,null,null,null,null,null,null,null,null,null,null,null,null,null,null,null,null,null,null,null,null,null,null,null,null,null,null,null,null,null,null,null,null,"94343Salud y Protección social","Guainía",94343,"Barrancominas (CD)",null,"Salud y Protección social",13]
[null,null,null,null,null,null,null,null,null,null,null,null,null,null,null,null,null,null,null,null,null,null,null,null,null,null,null,null,null,null,null,null,null,null,null,null,null,null,null,null,null,null,null,null,null,null,null,null,null,null,null,null,null,null,"94343Cultura","Guainía",94343,"Barrancominas (CD)",null,"Cultura",14]
[null,null,null,null,null,null,null,null,null,null,null,null,null,null,null,null,null,null,null,null,null,null,null,null,null,null,null,null,null,null,null,null,null,null,null,null,null,null,null,null,null,null,null,null,null,null,null,null,null,null,null,null,null,null,"97001Desarrollo Económico","Vaupés",97001,"Mitú",null,"Desarrollo Económico",1]
[null,null,null,null,null,null,null,null,null,null,null,null,null,null,null,null,null,null,null,null,null,null,null,null,null,null,null,null,null,null,null,null,null,null,null,null,null,null,null,null,null,null,null,null,null,null,null,null,null,null,null,null,null,null,"97001Transporte","Vaupés",97001,"Mitú",null,"Transporte",2]
[null,null,null,null,null,null,null,null,null,null,null,null,null,null,null,null,null,null,null,null,null,null,null,null,null,null,null,null,null,null,null,null,null,null,null,null,null,null,null,null,null,null,null,null,null,null,null,null,null,null,null,null,null,null,"97001Minas y Energía","Vaupés",97001,"Mitú",null,"Minas y Energía",3]
[null,null,null,null,null,null,null,null,null,null,null,null,null,null,null,null,null,null,null,null,null,null,null,null,null,null,null,null,null,null,null,null,null,null,null,null,null,null,null,null,null,null,null,null,null,null,null,null,null,null,null,null,null,null,"97001Tecnologías de la Información y las Comunicaciones","Vaupés",97001,"Mitú",null,"Tecnologías de la Información y las Comunicaciones",4]
[null,null,null,null,null,null,null,null,null,null,null,null,null,null,null,null,null,null,null,null,null,null,null,null,null,null,null,null,null,null,null,null,null,null,null,null,null,null,null,null,null,null,null,null,null,null,null,null,null,null,null,null,null,null,"97001Vivienda, Ciudad Y Territorio","Vaupés",97001,"Mitú",null,"Vivienda, Ciudad Y Territorio",5]
[null,null,null,null,null,null,null,null,null,null,null,null,null,null,null,null,null,null,null,null,null,null,null,null,null,null,null,null,null,null,null,null,null,null,null,null,null,null,null,null,null,null,null,null,null,null,null,null,null,null,null,null,null,null,"97001Agricultura y desarrollo rural","Vaupés",97001,"Mitú",null,"Agricultura y desarrollo rural",6]
[null,null,null,null,null,null,null,null,null,null,null,null,null,null,null,null,null,null,null,null,null,null,null,null,null,null,null,null,null,null,null,null,null,null,null,null,null,null,null,null,null,null,null,null,null,null,null,null,null,null,null,null,null,null,"97001Inclusión Social Y Reconciliación","Vaupés",97001,"Mitú",null,"Inclusión Social Y Reconciliación",7]
[null,null,null,null,null,null,null,null,null,null,null,null,null,null,null,null,null,null,null,null,null,null,null,null,null,null,null,null,null,null,null,null,null,null,null,null,null,null,null,null,null,null,null,null,null,null,null,null,null,null,null,null,null,null,"97001Educación","Vaupés",97001,"Mitú",null,"Educación",8]
[null,null,null,null,null,null,null,null,null,null,null,null,null,null,null,null,null,null,null,null,null,null,null,null,null,null,null,null,null,null,null,null,null,null,null,null,null,null,null,null,null,null,null,null,null,null,null,null,null,null,null,null,null,null,"97001Gobierno territorial","Vaupés",97001,"Mitú",null,"Gobierno territorial",9]
[null,null,null,null,null,null,null,null,null,null,null,null,null,null,null,null,null,null,null,null,null,null,null,null,null,null,null,null,null,null,null,null,null,null,null,null,null,null,null,null,null,null,null,null,null,null,null,null,null,null,null,null,null,null,"97001Justicia y del Derecho","Vaupés",97001,"Mitú",null,"Justicia y del Derecho",10]
[null,null,null,null,null,null,null,null,null,null,null,null,null,null,null,null,null,null,null,null,null,null,null,null,null,null,null,null,null,null,null,null,null,null,null,null,null,null,null,null,null,null,null,null,null,null,null,null,null,null,null,null,null,null,"97001Salud y Protección social","Vaupés",97001,"Mitú",null,"Salud y Protección social",11]
[null,null,null,null,null,null,null,null,null,null,null,null,null,null,null,null,null,null,null,null,null,null,null,null,null,null,null,null,null,null,null,null,null,null,null,null,null,null,null,null,null,null,null,null,null,null,null,null,null,null,null,null,null,null,"97001Ambiente y Desarrollo Sostenible","Vaupés",97001,"Mitú",null,"Ambiente y Desarrollo Sostenible",12]
[null,null,null,null,null,null,null,null,null,null,null,null,null,null,null,null,null,null,null,null,null,null,null,null,null,null,null,null,null,null,null,null,null,null,null,null,null,null,null,null,null,null,null,null,null,null,null,null,null,null,null,null,null,null,"97001Deporte Y Recreación","Vaupés",97001,"Mitú",null,"Deporte Y Recreación",13]
[null,null,null,null,null,null,null,null,null,null,null,null,null,null,null,null,null,null,null,null,null,null,null,null,null,null,null,null,null,null,null,null,null,null,null,null,null,null,null,null,null,null,null,null,null,null,null,null,null,null,null,null,null,null,"97001Cultura","Vaupés",97001,"Mitú",null,"Cultura",14]
[null,null,null,null,null,null,null,null,null,null,null,null,null,null,null,null,null,null,null,null,null,null,null,null,null,null,null,null,null,null,null,null,null,null,null,null,null,null,null,null,null,null,null,null,null,null,null,null,null,null,null,null,null,null,"97161Minas y Energía","Vaupés",97161,"Carurú",null,"Minas y Energía",1]
[null,null,null,null,null,null,null,null,null,null,null,null,null,null,null,null,null,null,null,null,null,null,null,null,null,null,null,null,null,null,null,null,null,null,null,null,null,null,null,null,null,null,null,null,null,null,null,null,null,null,null,null,null,null,"97161Transporte","Vaupés",97161,"Carurú",null,"Transporte",2]
[null,null,null,null,null,null,null,null,null,null,null,null,null,null,null,null,null,null,null,null,null,null,null,null,null,null,null,null,null,null,null,null,null,null,null,null,null,null,null,null,null,null,null,null,null,null,null,null,null,null,null,null,null,null,"97161Tecnologías de la Información y las Comunicaciones","Vaupés",97161,"Carurú",null,"Tecnologías de la Información y las Comunicaciones",3]
[null,null,null,null,null,null,null,null,null,null,null,null,null,null,null,null,null,null,null,null,null,null,null,null,null,null,null,null,null,null,null,null,null,null,null,null,null,null,null,null,null,null,null,null,null,null,null,null,null,null,null,null,null,null,"97161Desarrollo Económico","Vaupés",97161,"Carurú",null,"Desarrollo Económico",4]
[null,null,null,null,null,null,null,null,null,null,null,null,null,null,null,null,null,null,null,null,null,null,null,null,null,null,null,null,null,null,null,null,null,null,null,null,null,null,null,null,null,null,null,null,null,null,null,null,null,null,null,null,null,null,"97161Vivienda, Ciudad Y Territorio","Vaupés",97161,"Carurú",null,"Vivienda, Ciudad Y Territorio",5]
[null,null,null,null,null,null,null,null,null,null,null,null,null,null,null,null,null,null,null,null,null,null,null,null,null,null,null,null,null,null,null,null,null,null,null,null,null,null,null,null,null,null,null,null,null,null,null,null,null,null,null,null,null,null,"97161Educación","Vaupés",97161,"Carurú",null,"Educación",6]
[null,null,null,null,null,null,null,null,null,null,null,null,null,null,null,null,null,null,null,null,null,null,null,null,null,null,null,null,null,null,null,null,null,null,null,null,null,null,null,null,null,null,null,null,null,null,null,null,null,null,null,null,null,null,"97161Agricultura y desarrollo rural","Vaupés",97161,"Carurú",null,"Agricultura y desarrollo rural",7]
[null,null,null,null,null,null,null,null,null,null,null,null,null,null,null,null,null,null,null,null,null,null,null,null,null,null,null,null,null,null,null,null,null,null,null,null,null,null,null,null,null,null,null,null,null,null,null,null,null,null,null,null,null,null,"97161Inclusión Social Y Reconciliación","Vaupés",97161,"Carurú",null,"Inclusión Social Y Reconciliación",8]
[null,null,null,null,null,null,null,null,null,null,null,null,null,null,null,null,null,null,null,null,null,null,null,null,null,null,null,null,null,null,null,null,null,null,null,null,null,null,null,null,null,null,null,null,null,null,null,null,null,null,null,null,null,null,"97161Gobierno territorial","Vaupés",97161,"Carurú",null,"Gobierno territorial",9]
[null,null,null,null,null,null,null,null,null,null,null,null,null,null,null,null,null,null,null,null,null,null,null,null,null,null,null,null,null,null,null,null,null,null,null,null,null,null,null,null,null,null,null,null,null,null,null,null,null,null,null,null,null,null,"97161Justicia y del Derecho","Vaupés",97161,"Carurú",null,"Justicia y del Derecho",10]
[null,null,null,null,null,null,null,null,null,null,null,null,null,null,null,null,null,null,null,null,null,null,null,null,null,null,null,null,null,null,null,null,null,null,null,null,null,null,null,null,null,null,null,null,null,null,null,null,null,null,null,null,null,null,"97161Salud y Protección social","Vaupés",97161,"Carurú",null,"Salud y Protección social",11]
[null,null,null,null,null,null,null,null,null,null,null,null,null,null,null,null,null,null,null,null,null,null,null,null,null,null,null,null,null,null,null,null,null,null,null,null,null,null,null,null,null,null,null,null,null,null,null,null,null,null,null,null,null,null,"97161Deporte Y Recreación","Vaupés",97161,"Carurú",null,"Deporte Y Recreación",12]
[null,null,null,null,null,null,null,null,null,null,null,null,null,null,null,null,null,null,null,null,null,null,null,null,null,null,null,null,null,null,null,null,null,null,null,null,null,null,null,null,null,null,null,null,null,null,null,null,null,null,null,null,null,null,"97161Ambiente y Desarrollo Sostenible","Vaupés",97161,"Carurú",null,"Ambiente y Desarrollo Sostenible",13]
[null,null,null,null,null,null,null,null,null,null,null,null,null,null,null,null,null,null,null,null,null,null,null,null,null,null,null,null,null,null,null,null,null,null,null,null,null,null,null,null,null,null,null,null,null,null,null,null,null,null,null,null,null,null,"97161Cultura","Vaupés",97161,"Carurú",null,"Cultura",14]
[null,null,null,null,null,null,null,null,null,null,null,null,null,null,null,null,null,null,null,null,null,null,null,null,null,null,null,null,null,null,null,null,null,null,null,null,null,null,null,null,null,null,null,null,null,null,null,null,null,null,null,null,null,null,"97666Transporte","Vaupés",97666,"Taraira",null,"Transporte",1]
[null,null,null,null,null,null,null,null,null,null,null,null,null,null,null,null,null,null,null,null,null,null,null,null,null,null,null,null,null,null,null,null,null,null,null,null,null,null,null,null,null,null,null,null,null,null,null,null,null,null,null,null,null,null,"97666Gobierno territorial","Vaupés",97666,"Taraira",null,"Gobierno territorial",2]
[null,null,null,null,null,null,null,null,null,null,null,null,null,null,null,null,null,null,null,null,null,null,null,null,null,null,null,null,null,null,null,null,null,null,null,null,null,null,null,null,null,null,null,null,null,null,null,null,null,null,null,null,null,null,"97666Desarrollo Económico","Vaupés",97666,"Taraira",null,"Desarrollo Económico",3]
[null,null,null,null,null,null,null,null,null,null,null,null,null,null,null,null,null,null,null,null,null,null,null,null,null,null,null,null,null,null,null,null,null,null,null,null,null,null,null,null,null,null,null,null,null,null,null,null,null,null,null,null,null,null,{"$f":"+BE15364&BH15364","v":"97666Tecnologías de la Información y las Comunicaciones"},"Vaupés",97666,"Taraira",null,"Tecnologías de la Información y las Comunicaciones",4]
[null,null,null,null,null,null,null,null,null,null,null,null,null,null,null,null,null,null,null,null,null,null,null,null,null,null,null,null,null,null,null,null,null,null,null,null,null,null,null,null,null,null,null,null,null,null,null,null,null,null,null,null,null,null,"97666Vivienda, Ciudad Y Territorio","Vaupés",97666,"Taraira",null,"Vivienda, Ciudad Y Territorio",5]
[null,null,null,null,null,null,null,null,null,null,null,null,null,null,null,null,null,null,null,null,null,null,null,null,null,null,null,null,null,null,null,null,null,null,null,null,null,null,null,null,null,null,null,null,null,null,null,null,null,null,null,null,null,null,"97666Inclusión Social Y Reconciliación","Vaupés",97666,"Taraira",null,"Inclusión Social Y Reconciliación",6]
[null,null,null,null,null,null,null,null,null,null,null,null,null,null,null,null,null,null,null,null,null,null,null,null,null,null,null,null,null,null,null,null,null,null,null,null,null,null,null,null,null,null,null,null,null,null,null,null,null,null,null,null,null,null,"97666Educación","Vaupés",97666,"Taraira",null,"Educación",7]
[null,null,null,null,null,null,null,null,null,null,null,null,null,null,null,null,null,null,null,null,null,null,null,null,null,null,null,null,null,null,null,null,null,null,null,null,null,null,null,null,null,null,null,null,null,null,null,null,null,null,null,null,null,null,"97666Agricultura y desarrollo rural","Vaupés",97666,"Taraira",null,"Agricultura y desarrollo rural",8]
[null,null,null,null,null,null,null,null,null,null,null,null,null,null,null,null,null,null,null,null,null,null,null,null,null,null,null,null,null,null,null,null,null,null,null,null,null,null,null,null,null,null,null,null,null,null,null,null,null,null,null,null,null,null,"97666Minas y Energía","Vaupés",97666,"Taraira",null,"Minas y Energía",9]
[null,null,null,null,null,null,null,null,null,null,null,null,null,null,null,null,null,null,null,null,null,null,null,null,null,null,null,null,null,null,null,null,null,null,null,null,null,null,null,null,null,null,null,null,null,null,null,null,null,null,null,null,null,null,"97666Justicia y del Derecho","Vaupés",97666,"Taraira",null,"Justicia y del Derecho",10]
[null,null,null,null,null,null,null,null,null,null,null,null,null,null,null,null,null,null,null,null,null,null,null,null,null,null,null,null,null,null,null,null,null,null,null,null,null,null,null,null,null,null,null,null,null,null,null,null,null,null,null,null,null,null,"97666Deporte Y Recreación","Vaupés",97666,"Taraira",null,"Deporte Y Recreación",11]
[null,null,null,null,null,null,null,null,null,null,null,null,null,null,null,null,null,null,null,null,null,null,null,null,null,null,null,null,null,null,null,null,null,null,null,null,null,null,null,null,null,null,null,null,null,null,null,null,null,null,null,null,null,null,"97666Salud y Protección social","Vaupés",97666,"Taraira",null,"Salud y Protección social",12]
[null,null,null,null,null,null,null,null,null,null,null,null,null,null,null,null,null,null,null,null,null,null,null,null,null,null,null,null,null,null,null,null,null,null,null,null,null,null,null,null,null,null,null,null,null,null,null,null,null,null,null,null,null,null,"97666Ambiente y Desarrollo Sostenible","Vaupés",97666,"Taraira",null,"Ambiente y Desarrollo Sostenible",13]
[null,null,null,null,null,null,null,null,null,null,null,null,null,null,null,null,null,null,null,null,null,null,null,null,null,null,null,null,null,null,null,null,null,null,null,null,null,null,null,null,null,null,null,null,null,null,null,null,null,null,null,null,null,null,"97666Cultura","Vaupés",97666,"Taraira",null,"Cultura",14]
[null,null,null,null,null,null,null,null,null,null,null,null,null,null,null,null,null,null,null,null,null,null,null,null,null,null,null,null,null,null,null,null,null,null,null,null,null,null,null,null,null,null,null,null,null,null,null,null,null,null,null,null,null,null,"99001Tecnologías de la Información y las Comunicaciones","Vichada",99001,"Puerto Carreño",null,"Tecnologías de la Información y las Comunicaciones",1]
[null,null,null,null,null,null,null,null,null,null,null,null,null,null,null,null,null,null,null,null,null,null,null,null,null,null,null,null,null,null,null,null,null,null,null,null,null,null,null,null,null,null,null,null,null,null,null,null,null,null,null,null,null,null,"99001Desarrollo Económico","Vichada",99001,"Puerto Carreño",null,"Desarrollo Económico",2]
[null,null,null,null,null,null,null,null,null,null,null,null,null,null,null,null,null,null,null,null,null,null,null,null,null,null,null,null,null,null,null,null,null,null,null,null,null,null,null,null,null,null,null,null,null,null,null,null,null,null,null,null,null,null,"99001Minas y Energía","Vichada",99001,"Puerto Carreño",null,"Minas y Energía",3]
[null,null,null,null,null,null,null,null,null,null,null,null,null,null,null,null,null,null,null,null,null,null,null,null,null,null,null,null,null,null,null,null,null,null,null,null,null,null,null,null,null,null,null,null,null,null,null,null,null,null,null,null,null,null,"99001Vivienda, Ciudad Y Territorio","Vichada",99001,"Puerto Carreño",null,"Vivienda, Ciudad Y Territorio",4]
[null,null,null,null,null,null,null,null,null,null,null,null,null,null,null,null,null,null,null,null,null,null,null,null,null,null,null,null,null,null,null,null,null,null,null,null,null,null,null,null,null,null,null,null,null,null,null,null,null,null,null,null,null,null,"99001Transporte","Vichada",99001,"Puerto Carreño",null,"Transporte",5]
[null,null,null,null,null,null,null,null,null,null,null,null,null,null,null,null,null,null,null,null,null,null,null,null,null,null,null,null,null,null,null,null,null,null,null,null,null,null,null,null,null,null,null,null,null,null,null,null,null,null,null,null,null,null,"99001Agricultura y desarrollo rural","Vichada",99001,"Puerto Carreño",null,"Agricultura y desarrollo rural",6]
[null,null,null,null,null,null,null,null,null,null,null,null,null,null,null,null,null,null,null,null,null,null,null,null,null,null,null,null,null,null,null,null,null,null,null,null,null,null,null,null,null,null,null,null,null,null,null,null,null,null,null,null,null,null,"99001Inclusión Social Y Reconciliación","Vichada",99001,"Puerto Carreño",null,"Inclusión Social Y Reconciliación",7]
[null,null,null,null,null,null,null,null,null,null,null,null,null,null,null,null,null,null,null,null,null,null,null,null,null,null,null,null,null,null,null,null,null,null,null,null,null,null,null,null,null,null,null,null,null,null,null,null,null,null,null,null,null,null,"99001Gobierno territorial","Vichada",99001,"Puerto Carreño",null,"Gobierno territorial",8]
[null,null,null,null,null,null,null,null,null,null,null,null,null,null,null,null,null,null,null,null,null,null,null,null,null,null,null,null,null,null,null,null,null,null,null,null,null,null,null,null,null,null,null,null,null,null,null,null,null,null,null,null,null,null,"99001Salud y Protección social","Vichada",99001,"Puerto Carreño",null,"Salud y Protección social",9]
[null,null,null,null,null,null,null,null,null,null,null,null,null,null,null,null,null,null,null,null,null,null,null,null,null,null,null,null,null,null,null,null,null,null,null,null,null,null,null,null,null,null,null,null,null,null,null,null,null,null,null,null,null,null,"99001Educación","Vichada",99001,"Puerto Carreño",null,"Educación",10]
[null,null,null,null,null,null,null,null,null,null,null,null,null,null,null,null,null,null,null,null,null,null,null,null,null,null,null,null,null,null,null,null,null,null,null,null,null,null,null,null,null,null,null,null,null,null,null,null,null,null,null,null,null,null,"99001Justicia y del Derecho","Vichada",99001,"Puerto Carreño",null,"Justicia y del Derecho",11]
[null,null,null,null,null,null,null,null,null,null,null,null,null,null,null,null,null,null,null,null,null,null,null,null,null,null,null,null,null,null,null,null,null,null,null,null,null,null,null,null,null,null,null,null,null,null,null,null,null,null,null,null,null,null,"99001Deporte Y Recreación","Vichada",99001,"Puerto Carreño",null,"Deporte Y Recreación",12]
[null,null,null,null,null,null,null,null,null,null,null,null,null,null,null,null,null,null,null,null,null,null,null,null,null,null,null,null,null,null,null,null,null,null,null,null,null,null,null,null,null,null,null,null,null,null,null,null,null,null,null,null,null,null,"99001Cultura","Vichada",99001,"Puerto Carreño",null,"Cultura",13]
[null,null,null,null,null,null,null,null,null,null,null,null,null,null,null,null,null,null,null,null,null,null,null,null,null,null,null,null,null,null,null,null,null,null,null,null,null,null,null,null,null,null,null,null,null,null,null,null,null,null,null,null,null,null,"99001Ambiente y Desarrollo Sostenible","Vichada",99001,"Puerto Carreño",null,"Ambiente y Desarrollo Sostenible",14]
[null,null,null,null,null,null,null,null,null,null,null,null,null,null,null,null,null,null,null,null,null,null,null,null,null,null,null,null,null,null,null,null,null,null,null,null,null,null,null,null,null,null,null,null,null,null,null,null,null,null,null,null,null,null,"99524Tecnologías de la Información y las Comunicaciones","Vichada",99524,"La Primavera",null,"Tecnologías de la Información y las Comunicaciones",1]
[null,null,null,null,null,null,null,null,null,null,null,null,null,null,null,null,null,null,null,null,null,null,null,null,null,null,null,null,null,null,null,null,null,null,null,null,null,null,null,null,null,null,null,null,null,null,null,null,null,null,null,null,null,null,"99524Vivienda, Ciudad Y Territorio","Vichada",99524,"La Primavera",null,"Vivienda, Ciudad Y Territorio",2]
[null,null,null,null,null,null,null,null,null,null,null,null,null,null,null,null,null,null,null,null,null,null,null,null,null,null,null,null,null,null,null,null,null,null,null,null,null,null,null,null,null,null,null,null,null,null,null,null,null,null,null,null,null,null,"99524Desarrollo Económico","Vichada",99524,"La Primavera",null,"Desarrollo Económico",3]
[null,null,null,null,null,null,null,null,null,null,null,null,null,null,null,null,null,null,null,null,null,null,null,null,null,null,null,null,null,null,null,null,null,null,null,null,null,null,null,null,null,null,null,null,null,null,null,null,null,null,null,null,null,null,"99524Transporte","Vichada",99524,"La Primavera",null,"Transporte",4]
[null,null,null,null,null,null,null,null,null,null,null,null,null,null,null,null,null,null,null,null,null,null,null,null,null,null,null,null,null,null,null,null,null,null,null,null,null,null,null,null,null,null,null,null,null,null,null,null,null,null,null,null,null,null,"99524Agricultura y desarrollo rural","Vichada",99524,"La Primavera",null,"Agricultura y desarrollo rural",5]
[null,null,null,null,null,null,null,null,null,null,null,null,null,null,null,null,null,null,null,null,null,null,null,null,null,null,null,null,null,null,null,null,null,null,null,null,null,null,null,null,null,null,null,null,null,null,null,null,null,null,null,null,null,null,"99524Inclusión Social Y Reconciliación","Vichada",99524,"La Primavera",null,"Inclusión Social Y Reconciliación",6]
[null,null,null,null,null,null,null,null,null,null,null,null,null,null,null,null,null,null,null,null,null,null,null,null,null,null,null,null,null,null,null,null,null,null,null,null,null,null,null,null,null,null,null,null,null,null,null,null,null,null,null,null,null,null,"99524Educación","Vichada",99524,"La Primavera",null,"Educación",7]
[null,null,null,null,null,null,null,null,null,null,null,null,null,null,null,null,null,null,null,null,null,null,null,null,null,null,null,null,null,null,null,null,null,null,null,null,null,null,null,null,null,null,null,null,null,null,null,null,null,null,null,null,null,null,"99524Justicia y del Derecho","Vichada",99524,"La Primavera",null,"Justicia y del Derecho",8]
[null,null,null,null,null,null,null,null,null,null,null,null,null,null,null,null,null,null,null,null,null,null,null,null,null,null,null,null,null,null,null,null,null,null,null,null,null,null,null,null,null,null,null,null,null,null,null,null,null,null,null,null,null,null,"99524Gobierno territorial","Vichada",99524,"La Primavera",null,"Gobierno territorial",9]
[null,null,null,null,null,null,null,null,null,null,null,null,null,null,null,null,null,null,null,null,null,null,null,null,null,null,null,null,null,null,null,null,null,null,null,null,null,null,null,null,null,null,null,null,null,null,null,null,null,null,null,null,null,null,"99524Salud y Protección social","Vichada",99524,"La Primavera",null,"Salud y Protección social",10]
[null,null,null,null,null,null,null,null,null,null,null,null,null,null,null,null,null,null,null,null,null,null,null,null,null,null,null,null,null,null,null,null,null,null,null,null,null,null,null,null,null,null,null,null,null,null,null,null,null,null,null,null,null,null,"99524Deporte Y Recreación","Vichada",99524,"La Primavera",null,"Deporte Y Recreación",11]
[null,null,null,null,null,null,null,null,null,null,null,null,null,null,null,null,null,null,null,null,null,null,null,null,null,null,null,null,null,null,null,null,null,null,null,null,null,null,null,null,null,null,null,null,null,null,null,null,null,null,null,null,null,null,"99524Ambiente y Desarrollo Sostenible","Vichada",99524,"La Primavera",null,"Ambiente y Desarrollo Sostenible",12]
[null,null,null,null,null,null,null,null,null,null,null,null,null,null,null,null,null,null,null,null,null,null,null,null,null,null,null,null,null,null,null,null,null,null,null,null,null,null,null,null,null,null,null,null,null,null,null,null,null,null,null,null,null,null,"99524Cultura","Vichada",99524,"La Primavera",null,"Cultura",13]
[null,null,null,null,null,null,null,null,null,null,null,null,null,null,null,null,null,null,null,null,null,null,null,null,null,null,null,null,null,null,null,null,null,null,null,null,null,null,null,null,null,null,null,null,null,null,null,null,null,null,null,null,null,null,"99524Minas y Energía","Vichada",99524,"La Primavera",null,"Minas y Energía",14]
[null,null,null,null,null,null,null,null,null,null,null,null,null,null,null,null,null,null,null,null,null,null,null,null,null,null,null,null,null,null,null,null,null,null,null,null,null,null,null,null,null,null,null,null,null,null,null,null,null,null,null,null,null,null,"99624Minas y Energía","Vichada",99624,"Santa Rosalía",null,"Minas y Energía",1]
[null,null,null,null,null,null,null,null,null,null,null,null,null,null,null,null,null,null,null,null,null,null,null,null,null,null,null,null,null,null,null,null,null,null,null,null,null,null,null,null,null,null,null,null,null,null,null,null,null,null,null,null,null,null,"99624Tecnologías de la Información y las Comunicaciones","Vichada",99624,"Santa Rosalía",null,"Tecnologías de la Información y las Comunicaciones",2]
[null,null,null,null,null,null,null,null,null,null,null,null,null,null,null,null,null,null,null,null,null,null,null,null,null,null,null,null,null,null,null,null,null,null,null,null,null,null,null,null,null,null,null,null,null,null,null,null,null,null,null,null,null,null,"99624Vivienda, Ciudad Y Territorio","Vichada",99624,"Santa Rosalía",null,"Vivienda, Ciudad Y Territorio",3]
[null,null,null,null,null,null,null,null,null,null,null,null,null,null,null,null,null,null,null,null,null,null,null,null,null,null,null,null,null,null,null,null,null,null,null,null,null,null,null,null,null,null,null,null,null,null,null,null,null,null,null,null,null,null,"99624Transporte","Vichada",99624,"Santa Rosalía",null,"Transporte",4]
[null,null,null,null,null,null,null,null,null,null,null,null,null,null,null,null,null,null,null,null,null,null,null,null,null,null,null,null,null,null,null,null,null,null,null,null,null,null,null,null,null,null,null,null,null,null,null,null,null,null,null,null,null,null,"99624Agricultura y desarrollo rural","Vichada",99624,"Santa Rosalía",null,"Agricultura y desarrollo rural",5]
[null,null,null,null,null,null,null,null,null,null,null,null,null,null,null,null,null,null,null,null,null,null,null,null,null,null,null,null,null,null,null,null,null,null,null,null,null,null,null,null,null,null,null,null,null,null,null,null,null,null,null,null,null,null,"99624Desarrollo Económico","Vichada",99624,"Santa Rosalía",null,"Desarrollo Económico",6]
[null,null,null,null,null,null,null,null,null,null,null,null,null,null,null,null,null,null,null,null,null,null,null,null,null,null,null,null,null,null,null,null,null,null,null,null,null,null,null,null,null,null,null,null,null,null,null,null,null,null,null,null,null,null,"99624Inclusión Social Y Reconciliación","Vichada",99624,"Santa Rosalía",null,"Inclusión Social Y Reconciliación",7]
[null,null,null,null,null,null,null,null,null,null,null,null,null,null,null,null,null,null,null,null,null,null,null,null,null,null,null,null,null,null,null,null,null,null,null,null,null,null,null,null,null,null,null,null,null,null,null,null,null,null,null,null,null,null,"99624Justicia y del Derecho","Vichada",99624,"Santa Rosalía",null,"Justicia y del Derecho",8]
[null,null,null,null,null,null,null,null,null,null,null,null,null,null,null,null,null,null,null,null,null,null,null,null,null,null,null,null,null,null,null,null,null,null,null,null,null,null,null,null,null,null,null,null,null,null,null,null,null,null,null,null,null,null,"99624Educación","Vichada",99624,"Santa Rosalía",null,"Educación",9]
[null,null,null,null,null,null,null,null,null,null,null,null,null,null,null,null,null,null,null,null,null,null,null,null,null,null,null,null,null,null,null,null,null,null,null,null,null,null,null,null,null,null,null,null,null,null,null,null,null,null,null,null,null,null,"99624Gobierno territorial","Vichada",99624,"Santa Rosalía",null,"Gobierno territorial",10]
[null,null,null,null,null,null,null,null,null,null,null,null,null,null,null,null,null,null,null,null,null,null,null,null,null,null,null,null,null,null,null,null,null,null,null,null,null,null,null,null,null,null,null,null,null,null,null,null,null,null,null,null,null,null,"99624Salud y Protección social","Vichada",99624,"Santa Rosalía",null,"Salud y Protección social",11]
[null,null,null,null,null,null,null,null,null,null,null,null,null,null,null,null,null,null,null,null,null,null,null,null,null,null,null,null,null,null,null,null,null,null,null,null,null,null,null,null,null,null,null,null,null,null,null,null,null,null,null,null,null,null,"99624Deporte Y Recreación","Vichada",99624,"Santa Rosalía",null,"Deporte Y Recreación",12]
[null,null,null,null,null,null,null,null,null,null,null,null,null,null,null,null,null,null,null,null,null,null,null,null,null,null,null,null,null,null,null,null,null,null,null,null,null,null,null,null,null,null,null,null,null,null,null,null,null,null,null,null,null,null,"99624Ambiente y Desarrollo Sostenible","Vichada",99624,"Santa Rosalía",null,"Ambiente y Desarrollo Sostenible",13]
[null,null,null,null,null,null,null,null,null,null,null,null,null,null,null,null,null,null,null,null,null,null,null,null,null,null,null,null,null,null,null,null,null,null,null,null,null,null,null,null,null,null,null,null,null,null,null,null,null,null,null,null,null,null,"99624Cultura","Vichada",99624,"Santa Rosalía",null,"Cultura",14]
[null,null,null,null,null,null,null,null,null,null,null,null,null,null,null,null,null,null,null,null,null,null,null,null,null,null,null,null,null,null,null,null,null,null,null,null,null,null,null,null,null,null,null,null,null,null,null,null,null,null,null,null,null,null,"99773Minas y Energía","Vichada",99773,"Cumaribo",null,"Minas y Energía",1]
[null,null,null,null,null,null,null,null,null,null,null,null,null,null,null,null,null,null,null,null,null,null,null,null,null,null,null,null,null,null,null,null,null,null,null,null,null,null,null,null,null,null,null,null,null,null,null,null,null,null,null,null,null,null,"99773Desarrollo Económico","Vichada",99773,"Cumaribo",null,"Desarrollo Económico",2]
[null,null,null,null,null,null,null,null,null,null,null,null,null,null,null,null,null,null,null,null,null,null,null,null,null,null,null,null,null,null,null,null,null,null,null,null,null,null,null,null,null,null,null,null,null,null,null,null,null,null,null,null,null,null,"99773Tecnologías de la Información y las Comunicaciones","Vichada",99773,"Cumaribo",null,"Tecnologías de la Información y las Comunicaciones",3]
[null,null,null,null,null,null,null,null,null,null,null,null,null,null,null,null,null,null,null,null,null,null,null,null,null,null,null,null,null,null,null,null,null,null,null,null,null,null,null,null,null,null,null,null,null,null,null,null,null,null,null,null,null,null,"99773Vivienda, Ciudad Y Territorio","Vichada",99773,"Cumaribo",null,"Vivienda, Ciudad Y Territorio",4]
[null,null,null,null,null,null,null,null,null,null,null,null,null,null,null,null,null,null,null,null,null,null,null,null,null,null,null,null,null,null,null,null,null,null,null,null,null,null,null,null,null,null,null,null,null,null,null,null,null,null,null,null,null,null,"99773Agricultura y desarrollo rural","Vichada",99773,"Cumaribo",null,"Agricultura y desarrollo rural",5]
[null,null,null,null,null,null,null,null,null,null,null,null,null,null,null,null,null,null,null,null,null,null,null,null,null,null,null,null,null,null,null,null,null,null,null,null,null,null,null,null,null,null,null,null,null,null,null,null,null,null,null,null,null,null,"99773Transporte","Vichada",99773,"Cumaribo",null,"Transporte",6]
[null,null,null,null,null,null,null,null,null,null,null,null,null,null,null,null,null,null,null,null,null,null,null,null,null,null,null,null,null,null,null,null,null,null,null,null,null,null,null,null,null,null,null,null,null,null,null,null,null,null,null,null,null,null,"99773Inclusión Social Y Reconciliación","Vichada",99773,"Cumaribo",null,"Inclusión Social Y Reconciliación",7]
[null,null,null,null,null,null,null,null,null,null,null,null,null,null,null,null,null,null,null,null,null,null,null,null,null,null,null,null,null,null,null,null,null,null,null,null,null,null,null,null,null,null,null,null,null,null,null,null,null,null,null,null,null,null,"99773Educación","Vichada",99773,"Cumaribo",null,"Educación",8]
[null,null,null,null,null,null,null,null,null,null,null,null,null,null,null,null,null,null,null,null,null,null,null,null,null,null,null,null,null,null,null,null,null,null,null,null,null,null,null,null,null,null,null,null,null,null,null,null,null,null,null,null,null,null,"99773Gobierno territorial","Vichada",99773,"Cumaribo",null,"Gobierno territorial",9]
[null,null,null,null,null,null,null,null,null,null,null,null,null,null,null,null,null,null,null,null,null,null,null,null,null,null,null,null,null,null,null,null,null,null,null,null,null,null,null,null,null,null,null,null,null,null,null,null,null,null,null,null,null,null,"99773Justicia y del Derecho","Vichada",99773,"Cumaribo",null,"Justicia y del Derecho",10]
[null,null,null,null,null,null,null,null,null,null,null,null,null,null,null,null,null,null,null,null,null,null,null,null,null,null,null,null,null,null,null,null,null,null,null,null,null,null,null,null,null,null,null,null,null,null,null,null,null,null,null,null,null,null,"99773Salud y Protección social","Vichada",99773,"Cumaribo",null,"Salud y Protección social",11]
[null,null,null,null,null,null,null,null,null,null,null,null,null,null,null,null,null,null,null,null,null,null,null,null,null,null,null,null,null,null,null,null,null,null,null,null,null,null,null,null,null,null,null,null,null,null,null,null,null,null,null,null,null,null,{"$f":"+BE15428&BH15428","v":"99773Ambiente y Desarrollo Sostenible"},"Vichada",99773,"Cumaribo",null,"Ambiente y Desarrollo Sostenible",12]
[null,null,null,null,null,null,null,null,null,null,null,null,null,null,null,null,null,null,null,null,null,null,null,null,null,null,null,null,null,null,null,null,null,null,null,null,null,null,null,null,null,null,null,null,null,null,null,null,null,null,null,null,null,null,"99773Deporte Y Recreación","Vichada",99773,"Cumaribo",null,"Deporte Y Recreación",13]
[null,null,null,null,null,null,null,null,null,null,null,null,null,null,null,null,null,null,null,null,null,null,null,null,null,null,null,null,null,null,null,null,null,null,null,null,null,null,null,null,null,null,null,null,null,null,null,null,null,null,null,null,null,null,"99773Cultura","Vichada",99773,"Cumaribo",null,"Cultura",14]

{"sheet":"TC - Bolsas","index":1,"n_rows":55,"n_cols":10,"rows_kept":55,"cut":false,"hidden":true,"merged":[[0,0,0,3],[1,0,1,3],[2,0,7,0],[2,1,7,1],[8,0,10,0],[8,1,10,1]]}
["COMPONENTE TERRITORIAL"]
[0.5]
["Focalización",0.7,"IPM 2018 - DANE",0.2,{"$f":"+SUM(D3:D8)","v":0.99999999999999989},"% Puntaje Territorial",0.9]
[null,null,"% AREA CILI ",0.1,null,"% Número de Municipios",{"$f":"1-G3","v":9.9999999999999978E-2}]
[null,null,"IICA 2021 - DNP",0.2]
[null,null,"MDM 2021 - DNP",0.2]
[null,null,"% Población Diferencial",0.2,"DANE"]
[null,null,"VARIABLE AMBIENTAL",0.1]
["Movilización Recursos",0.3,"ASIG_PAZ - Per capita",0.9,{"$f":"+SUM(D9:D11)","v":1}]
[null,null,"DISPONIBILIDAD SGR per capita",0]
[null,null,"Municipios productores",0.1]
[]
[null,null,null,"INICIAL","CON CAMBIOS","Municipios","Prom puntaje","% PT","% # mun","% total"]
[null,null,"ALTO PATÍA Y NORTE DEL CAUCA",146,{"$f":"+$D$30*J14/$J$30","v":144.82991554587409},{"$f":"+COUNTIF('por Entidad'!B:B,C14)","v":24},{"$f":"+AVERAGEIF('por Entidad'!B:B,C14,'por Entidad'!AQ:AQ)","v":59.507833253875248},{"$f":"+G14/$G$30","v":6.220439750583235E-2},{"$f":"+F14/170","v":0.14117647058823529},{"$f":"+H14*$G$3+I14*$G$4","v":7.0101604814072641E-2}]
[null,null,"ARAUCA",118,125.82104676762417,{"$f":"+COUNTIF('por Entidad'!B:B,C15)","v":4},{"$f":"+AVERAGEIF('por Entidad'!B:B,C15,'por Entidad'!AQ:AQ)","v":62.23311438109944},6.5053173226328892E-2,2.3529411764705882E-2,6.0900797080166588E-2]
[null,null,"BAJO CAUCA Y NORDESTE ANTIOQUEÑO",137,135.8008183113418,{"$f":"+COUNTIF('por Entidad'!B:B,C16)","v":13},{"$f":"+AVERAGEIF('por Entidad'!B:B,C16,'por Entidad'!AQ:AQ)","v":61.740293279786627},6.4538020211858685E-2,7.6470588235294124E-2,6.5731277014202227E-2]
[null,null,"CATATUMBO",147,146.28062204246842,{"$f":"+COUNTIF('por Entidad'!B:B,C17)","v":8},{"$f":"+AVERAGEIF('por Entidad'!B:B,C17,'por Entidad'!AQ:AQ)","v":70.258395282637068},7.3442115252926737E-2,4.7058823529411764E-2,7.0803786080575234E-2]
[null,null,"CHOCÓ",151,148.13929593600827,{"$f":"+COUNTIF('por Entidad'!B:B,C18)","v":14},{"$f":"+AVERAGEIF('por Entidad'!B:B,C18,'por Entidad'!AQ:AQ)","v":67.46310324787288},7.0520156119688843E-2,8.2352941176470587E-2,7.1703434625367019E-2]
[null,null,"CUENCA DEL CAGUÁN Y PIEDEMONTE CAQUETEÑO",122,124.30217982699416,{"$f":"+COUNTIF('por Entidad'!B:B,C19)","v":17},{"$f":"+AVERAGEIF('por Entidad'!B:B,C19,'por Entidad'!AQ:AQ)","v":53.323268419855907},5.573958256802955E-2,0.1,6.0165624311226601E-2]
[null,null,"MACARENA GUAVIARE",119,127.73285746304744,{"$f":"+COUNTIF('por Entidad'!B:B,C20)","v":12},{"$f":"+AVERAGEIF('por Entidad'!B:B,C20,'por Entidad'!AQ:AQ)","v":58.214638106573538},6.0852601942176364E-2,7.0588235294117646E-2,6.182616527737049E-2]
[null,null,"MONTES DE MARÍA",117,112.57453061383491,{"$f":"+COUNTIF('por Entidad'!B:B,C21)","v":15},{"$f":"+AVERAGEIF('por Entidad'!B:B,C21,'por Entidad'!AQ:AQ)","v":48.539987338099387},5.0739549773652276E-2,8.8235294117647065E-2,5.4489124208051749E-2]
[null,null,"PACÍFICO MEDIO",146,130.66884276864724,{"$f":"+COUNTIF('por Entidad'!B:B,C22)","v":4},{"$f":"+AVERAGEIF('por Entidad'!B:B,C22,'por Entidad'!AQ:AQ)","v":64.727275810729353},6.7660356189124984E-2,2.3529411764705882E-2,6.3247261746683076E-2]
[null,null,"PACÍFICO Y FRONTERA NARIÑENSE",163,159.41235011117476,{"$f":"+COUNTIF('por Entidad'!B:B,C23)","v":11},{"$f":"+AVERAGEIF('por Entidad'!B:B,C23,'por Entidad'!AQ:AQ)","v":75.138804958846336},7.8543677969805908E-2,6.4705882352941183E-2,7.7159898408119432E-2]
[null,null,"PUTUMAYO",126,121.39177243740899,{"$f":"+COUNTIF('por Entidad'!B:B,C24)","v":9},{"$f":"+AVERAGEIF('por Entidad'!B:B,C24,'por Entidad'!AQ:AQ)","v":56.827972795191137},5.9403100666121034E-2,5.2941176470588235E-2,5.8756908246567756E-2]
[null,null,"SIERRA NEVADA-PERIJÁ-ZONA BANANERA",111,115.37964767661701,{"$f":"+COUNTIF('por Entidad'!B:B,C25)","v":15},{"$f":"+AVERAGEIF('por Entidad'!B:B,C25,'por Entidad'!AQ:AQ)","v":49.983202931765319},5.2248163876471514E-2,8.8235294117647065E-2,5.5846876900589065E-2]
[null,null,"SUR DE BOLÍVAR",117,125.07380744411584,{"$f":"+COUNTIF('por Entidad'!B:B,C26)","v":7},{"$f":"+AVERAGEIF('por Entidad'!B:B,C26,'por Entidad'!AQ:AQ)","v":59.972880114071884},6.2690517704951293E-2,4.1176470588235294E-2,6.0539112993279694E-2]
[null,null,"SUR DE CÓRDOBA",118,116.38799086461084,{"$f":"+COUNTIF('por Entidad'!B:B,C27)","v":5},{"$f":"+AVERAGEIF('por Entidad'!B:B,C27,'por Entidad'!AQ:AQ)","v":56.754603341211372},5.9326406516282432E-2,2.9411764705882353E-2,5.6334942335242423E-2]
[null,null,"SUR DEL TOLIMA",104,110.12069102831745,{"$f":"+COUNTIF('por Entidad'!B:B,C28)","v":4},{"$f":"+AVERAGEIF('por Entidad'!B:B,C28,'por Entidad'!AQ:AQ)","v":54.155377259285004},5.6609397955108755E-2,2.3529411764705882E-2,5.3301399336068464E-2]
[null,null,"URABÁ ANTIOQUEÑO",124,122.08363116191455,{"$f":"+COUNTIF('por Entidad'!B:B,C29)","v":8},{"$f":"+AVERAGEIF('por Entidad'!B:B,C29,'por Entidad'!AQ:AQ)","v":57.809191282582582},6.0428782521640356E-2,4.7058823529411764E-2,5.90917866224175E-2]
[null,null,null,{"$f":"+SUM(D14:D29)","v":2066},{"$f":"+SUM(E14:E29)","v":2065.9999999999995},null,{"$f":"+SUM(G14:G29)","v":956.6499418034831},null,null,{"$f":"+SUM(J14:J29)","v":1}]
[]
[null,"Pos","SUBREGIÓN","Inicial","Con Cambios"]
[null,1,{"$f":"+INDIRECT(\"C\"&MATCH(E33,$E$1:$E$29,0))","v":"PACÍFICO Y FRONTERA NARIÑENSE"},{"$f":"+VLOOKUP(C33,$C$13:$F$29,2,FALSE)","v":163},{"$f":"+LARGE($E$14:$E$29,B33)","v":159.41235011117476},{"$f":"+E33-D33","v":-3.5876498888252399}]
[null,2,{"$f":"+INDIRECT(\"C\"&MATCH(E34,$E$1:$E$29,0))","v":"CHOCÓ"},151,148.13929593600827,-2.8607040639917329]
[null,3,{"$f":"+INDIRECT(\"C\"&MATCH(E35,$E$1:$E$29,0))","v":"CATATUMBO"},147,146.28062204246842,-0.71937795753157729]
[null,4,{"$f":"+INDIRECT(\"C\"&MATCH(E36,$E$1:$E$29,0))","v":"ALTO PATÍA Y NORTE DEL CAUCA"},146,144.82991554587409,-1.170084454125913]
[null,5,{"$f":"+INDIRECT(\"C\"&MATCH(E37,$E$1:$E$29,0))","v":"BAJO CAUCA Y NORDESTE ANTIOQUEÑO"},137,135.8008183113418,-1.1991816886582001]
[null,6,{"$f":"+INDIRECT(\"C\"&MATCH(E38,$E$1:$E$29,0))","v":"PACÍFICO MEDIO"},146,130.66884276864724,-15.331157231352762]
[null,7,{"$f":"+INDIRECT(\"C\"&MATCH(E39,$E$1:$E$29,0))","v":"MACARENA GUAVIARE"},119,127.73285746304744,8.7328574630474378]
[null,8,{"$f":"+INDIRECT(\"C\"&MATCH(E40,$E$1:$E$29,0))","v":"ARAUCA"},118,125.82104676762417,7.8210467676241677]
[null,9,{"$f":"+INDIRECT(\"C\"&MATCH(E41,$E$1:$E$29,0))","v":"SUR DE BOLÍVAR"},117,125.07380744411584,8.0738074441158432]
[null,10,{"$f":"+INDIRECT(\"C\"&MATCH(E42,$E$1:$E$29,0))","v":"CUENCA DEL CAGUÁN Y PIEDEMONTE CAQUETEÑO"},122,124.30217982699416,2.3021798269941627]
[null,11,{"$f":"+INDIRECT(\"C\"&MATCH(E43,$E$1:$E$29,0))","v":"URABÁ ANTIOQUEÑO"},124,122.08363116191455,-1.9163688380854467]
[null,12,{"$f":"+INDIRECT(\"C\"&MATCH(E44,$E$1:$E$29,0))","v":"PUTUMAYO"},126,121.39177243740899,-4.6082275625910114]
[null,13,{"$f":"+INDIRECT(\"C\"&MATCH(E45,$E$1:$E$29,0))","v":"SUR DE CÓRDOBA"},118,116.38799086461084,-1.6120091353891581]
[null,14,{"$f":"+INDIRECT(\"C\"&MATCH(E46,$E$1:$E$29,0))","v":"SIERRA NEVADA-PERIJÁ-ZONA BANANERA"},111,115.37964767661701,4.3796476766170116]
[null,15,{"$f":"+INDIRECT(\"C\"&MATCH(E47,$E$1:$E$29,0))","v":"MONTES DE MARÍA"},117,112.57453061383491,-4.4254693861650907]
[null,16,{"$f":"+INDIRECT(\"C\"&MATCH(E48,$E$1:$E$29,0))","v":"SUR DEL TOLIMA"},104,110.12069102831745,6.1206910283174523]
[]
[]
[]
[]
[]
[null,"DANE"]
[null,"MININTERIOR"]

{"sheet":"por Entidad","index":2,"n_rows":349,"n_cols":44,"rows_kept":349,"cut":false,"hidden":true,"merged":[[1,37,1,39],[1,40,1,42],[1,4,1,11],[1,18,1,20],[1,28,1,30],[1,31,1,36],[1,12,1,17],[1,21,1,27]]}
[null,null,null,null,null,null,null,null,null,null,null,null,null,null,null,null,null,null,null,null,null,null,null,null,null,null,null,null,null,null,null,{"$f":"+VLOOKUP(AF3,'TC - Bolsas'!$C$3:$D$11,2,FALSE)","v":0.2},0.1,0.25,{"$f":"+VLOOKUP(AI3,'TC - Bolsas'!$C$3:$D$11,2,FALSE)","v":0.2},0.1,0.15,{"$f":"+VLOOKUP(AL3,'TC - Bolsas'!$C$3:$D$11,2,FALSE)","v":0.9},{"$f":"+VLOOKUP(AM3,'TC - Bolsas'!$C$3:$D$11,2,FALSE)","v":0},{"$f":"+VLOOKUP(AN3,'TC - Bolsas'!$C$3:$D$11,2,FALSE)","v":0.1},{"$f":"+'TC - Bolsas'!B3","v":0.7},{"$f":"+'TC - Bolsas'!B9","v":0.3}]
[null,null,null,null,"AUXILIARES",null,null,null,null,null,null,null,"CRITERIOS DE FOCALIZACIÓN TERRITORIAL",null,null,null,null,null,"CRITERIO RECURSOS MOVILIZADOS",null,null," FOCALIZACIÓN TERRITORIAL - estandarizado y redireccionado  (entre más grande más priorizado)",null,null,null,null,null,null,"RECURSOS MOVILIZADOS - estandarizado y redireccionado",null,null," FOCALIZACIÓN TERRITORIAL - Reescalado (0,1)",null,null,null,null,null,"RECURSOS MOVILIZADOS - reescalado (0,1)",null,null,"Puntaje"]
["Fronterizo Decreto Ley 1814/95","SUBREGIÓN ","CÓDIGO MUNICIPIO","MUNICIPIO","DEPARTAMENTO","POBLACIÓN 2021","POBLACIÓN INDÍGENA - TERRIDATA CNPV 2018","POBLACIÓN AFRO - TERRIDATA CNPV 2018","ASIG_PAZ HISTÓRICA 2017 - Dic2022","DISPONIBILIDAD SGR_SEP_2022- SICODIS","CULTIVOS ILICITOS_Ha_2021 - SIMIC","ÁREA Ha","IPM 2018 - DANE","% AREA CILI ","IICA 2021 - DNP - direccionado","MDM 2021 - DNP","% Población étnica","VARIABLE AMBIENTAL","ASIG_PAZ - Per capita","DISPONIBILIDAD SGR per capita","Municipios productores - Participación Asignaciones Directas (2023-2024) %","IPM 2018 - DANE","% AREA CILI ","IICA 2021 - DNP","MDM 2021 - DNP","% Población Diferencial","Municipios con certificación de resguardos y/o consejos","VARIABLE AMBIENTAL","ASIG_PAZ - Per capita","DISPONIBILIDAD SGR per capita","Puntaje territorial","IPM 2018 - DANE","% AREA CILI ","IICA 2021 - DNP","MDM 2021 - DNP","% Población Diferencial","VARIABLE AMBIENTAL","ASIG_PAZ - Per capita","DISPONIBILIDAD SGR per capita","Municipios productores"," FOCALIZACIÓN TERRITORIAL ","RECURSOS MOVILIZADOS Y PRODUCTORES","EQUIDAD TERRITORIAL","CÓDIGO MUNICIPIO"]
[null,"PACÍFICO Y FRONTERA NARIÑENSE",52621,"ROBERTO PAYÁN","NARIÑO",12693,103,8443,{"$f":"IFERROR(VLOOKUP(C4,Hoja3!$B$2:$D$168,3,FALSE),0)","v":2873285644},2230135979,3059.39,128240.07,81,{"$f":"+K4*100/L4","v":2.3856739940956051},80,54.684825897216797,{"$f":"(+(G4+H4)/F4)*100","v":67.328448751280234},96.543590666227459,{"$f":"+I4/F4","v":226367.73371149451},{"$f":"+J4/F4","v":175698.0996612306},2.1842335950264302E-2,{"$f":"+(M4-AVERAGE(M$4:M$173))/STDEVP(M$4:M$173)","v":1.9877670246211188},{"$f":"+(N4-AVERAGE(N$4:N$173))/STDEVP(N$4:N$173)","v":0.90309477213258371},{"$f":"+(O4-AVERAGE(O$4:O$173))/STDEVP(O$4:O$173)","v":1.2406592652597446},{"$f":"+(P4-AVERAGE(P$4:P$173))/STDEVP(P$4:P$173)","v":0.74564920096421816},{"$f":"+(Q4-AVERAGE(Q$4:Q$173))/STDEVP(Q$4:Q$173)","v":1.5780876884839279},1,{"$f":"+(R4-AVERAGE(R$4:R$173))/STDEVP(R$4:R$173)","v":0.99182904523892856},{"$f":"+(S4-AVERAGE(S$4:S$173))/STDEVP(S$4:S$173)*-1","v":0.74518470913131296},{"$f":"+(T4-AVERAGE(T$4:T$173))/STDEVP(T$4:T$173)*-1","v":-1.683286446642427E-2},{"$f":"+(U4-AVERAGE(U$4:U$173))/STDEVP(U$4:U$173)","v":-0.19038885266656166},{"$f":"(+(V4-MIN(V$4:V$173))/(MAX(V$4:V$173)-MIN(V$4:V$173)))*100","v":93.52409638554218},{"$f":"(+(W4-MIN(W$4:W$173))/(MAX(W$4:W$173)-MIN(W$4:W$173)))*100","v":23.027460917541788},{"$f":"(+(X4-MIN(X$4:X$173))/(MAX(X$4:X$173)-MIN(X$4:X$173)))*100","v":100},{"$f":"(+(Y4-MIN(Y$4:Y$173))/(MAX(Y$4:Y$173)-MIN(Y$4:Y$173)))*100","v":73.452890435946443},{"$f":"(+(Z4-MIN(Z$4:Z$173))/(MAX(Z$4:Z$173)-MIN(Z$4:Z$173)))*100*IF('TC - Bolsas'!$E$7=\"DANE\",1,0)+AA4*IF('TC - Bolsas'!$E$7=\"DANE\",0,1)*100","v":72.533764868820427},{"$f":"(+(AB4-MIN(AB$4:AB$173))/(MAX(AB$4:AB$173)-MIN(AB$4:AB$173)))*100","v":96.187981687287817},{"$f":"(+(AC4-MIN(AC$4:AC$173))/(MAX(AC$4:AC$173)-MIN(AC$4:AC$173)))*100","v":97.689407707712732},{"$f":"(+(AD4-MIN(AD$4:AD$173))/(MAX(AD$4:AD$173)-MIN(AD$4:AD$173)))*100","v":92.411092723360298},{"$f":"(+(AE4-MIN(AE$4:AE$173))/(MAX(AE$4:AE$173)-MIN(AE$4:AE$173)))*100","v":0.28312803314713419},{"$f":"+SUMPRODUCT($AF$1:$AK$1,AF4:AK4)","v":82.379717196027116},{"$f":"SUMPRODUCT(AL4:AN4,$AL$1:$AN$1)","v":87.948779740256185},{"$f":"+SUMPRODUCT(AO4:AP4,$AO$1:$AP$1)","v":84.050435959295825},52621]
[null,"PACÍFICO Y FRONTERA NARIÑENSE",52490,"OLAYA HERRERA","NARIÑO",25204,968,19748,{"$f":"IFERROR(VLOOKUP(C5,Hoja3!$B$2:$D$168,3,FALSE),0)","v":31535794963},900388279,6040.57,101969.77,75.900000000000006,5.9238831273229309,80,51.843509674072266,82.193302650372956,99.633171027091677,1251221.828400254,35724.023131249007,0,1.6040999771920779,2.9999959709923787,1.2406592652597446,0.48364692520343205,2.1127186661045023,1,1.1011081637034734,0.13770680503658864,0.39471852596000101,-0.22397136032655213,85.843373493975918,57.179642957137148,100,68.739959853333815,{"$f":"(+(Z5-MIN(Z$4:Z$173))/(MAX(Z$4:Z$173)-MIN(Z$4:Z$173)))*100*IF('TC - Bolsas'!$E$7=\"DANE\",1,0)+AA5*IF('TC - Bolsas'!$E$7=\"DANE\",0,1)*100","v":88.554496237273653},99.516627094404001,87.228464652440877,95.888635587974846,0,85.417574653063625,78.505618187196788,{"$f":"+SUMPRODUCT(AO5:AP5,$AO$1:$AP$1)","v":83.343987713303562},52490]
[null,"PACÍFICO Y FRONTERA NARIÑENSE",52427,"MAGÜI","NARIÑO",25542,50,17212,{"$f":"IFERROR(VLOOKUP(C6,Hoja3!$B$2:$D$168,3,FALSE),0)","v":5097088735},10001823945,3363.19,196781.21,85.3,1.7091011890820267,80,40.182353973388672,67.582804792107126,100.04497925782604,199557.15037976665,391583.4290580221,1.1993324494096111E-2,2.3112510057867808,0.50212742607442262,1.2406592652597446,-0.5916467385897064,1.5872358859498497,1,1.1156739089422563,0.76107656832797377,-0.65157830939804828,-0.20553166996518943,100,16.496914889928327,100,49.397439340240091,{"$f":"(+(Z6-MIN(Z$4:Z$173))/(MAX(Z$4:Z$173)-MIN(Z$4:Z$173)))*100*IF('TC - Bolsas'!$E$7=\"DANE\",1,0)+AA6*IF('TC - Bolsas'!$E$7=\"DANE\",0,1)*100","v":72.807899403185374},99.960300155383436,97.96307006313026,87.047596100055443,0.15546168608709168,78.804014320666909,88.182309225425939,81.617502792094612,52427]
[null,"CHOCÓ",27250,"EL LITORAL DEL SAN JUAN","CHOCÓ",23080,6301,4258,{"$f":"IFERROR(VLOOKUP(C7,Hoja3!$B$2:$D$168,3,FALSE),0)","v":0},4446305524,63.54,405367.13,83.1,1.5674679888327402E-2,60,70.689460754394531,45.74956672443674,99.992562232913002,0,192647.55303292893,0,2.1457475735624882,-0.50147296711948686,0.41355308841991484,2.2214619672955314,0.80197923344727706,1,1.1138199075550166,0.87936322014315926,-6.6667600119037662E-2,-0.22397136032655213,96.686746987951793,0.15129815700584506,74.999999999999986,100,{"$f":"(+(Z7-MIN(Z$4:Z$173))/(MAX(Z$4:Z$173)-MIN(Z$4:Z$173)))*100*IF('TC - Bolsas'!$E$7=\"DANE\",1,0)+AA7*IF('TC - Bolsas'!$E$7=\"DANE\",0,1)*100","v":49.276928674506841},99.903827214448938,100,91.989997245589876,0,78.015746162908954,90,81.611022314036262,27250]
[null,"CHOCÓ",5475,"MURINDÓ","ANTIOQUIA",5316,1925,2411,{"$f":"IFERROR(VLOOKUP(C8,Hoja3!$B$2:$D$168,3,FALSE),0)","v":468800000},2535814102,46.05,126496.36,81.5,3.6404209575674744E-2,80,41.489738464355469,81.565086531226484,98.212087269461009,88186.606471030856,477015.44431903685,0,2.0253814410357305,-0.48918771940900185,1.2406592652597446,-0.47109074093712355,2.0901241757572557,1,1.0508441271160829,0.82709098437235207,-0.90276528300934566,-0.22397136032655213,94.277108433734924,0.35138770649828133,100,51.566016107767808,{"$f":"(+(Z8-MIN(Z$4:Z$173))/(MAX(Z$4:Z$173)-MIN(Z$4:Z$173)))*100*IF('TC - Bolsas'!$E$7=\"DANE\",1,0)+AA8*IF('TC - Bolsas'!$E$7=\"DANE\",0,1)*100","v":87.877430606188483},97.985582949094379,99.099857166681574,84.925106690261416,0,77.689344181933393,89.189871450013413,81.139502362357405,5475]
[null,"CATATUMBO",54250,"EL TARRA","NORTE DE SANTANDER",22230,158,31,{"$f":"IFERROR(VLOOKUP(C9,Hoja3!$B$2:$D$168,3,FALSE),0)","v":9646558664.0200005},889486051,6248.08,66231.19,71.2,9.433742621867431,80,49.990692138671875,0.8502024291497976,94.043886476907346,433943.25973999104,40012.867791273056,0,1.2505244628947256,5.0800959042675595,1.2406592652597446,0.31279568137139352,-0.81287626332936513,0,0.90341397318214556,0.62214519926679335,0.38210847682152516,-0.22397136032655213,78.765060240963862,91.058183167039559,100,65.666665738634634,{"$f":"(+(Z9-MIN(Z$4:Z$173))/(MAX(Z$4:Z$173)-MIN(Z$4:Z$173)))*100*IF('TC - Bolsas'!$E$7=\"DANE\",1,0)+AA9*IF('TC - Bolsas'!$E$7=\"DANE\",0,1)*100","v":0.88623079936553872},93.494855794099507,95.570632197417609,95.782082706793929,0,77.105014961675138,86.013568977675845,79.777581166475343,54250]
[null,"PACÍFICO Y FRONTERA NARIÑENSE",52079,"BARBACOAS","NARIÑO",56524,9729,20016,{"$f":"IFERROR(VLOOKUP(C10,Hoja3!$B$2:$D$168,3,FALSE),0)","v":19698848451},8376757152,3463.17,245344.66,76.099999999999994,1.4115530372660241,80,45.243221282958984,52.623664284197858,100.0713449551813,348504.14781331824,148198.23706744038,2.8521130919293893E-2,1.6191457437579218,0.32578706495721976,1.2406592652597446,-0.12497613655325714,1.0492137857396884,1,1.1166064692993787,0.67278886933642612,6.4022155031317127E-2,-0.18012023104487893,86.144578313252993,13.624863447028954,100,57.791970059324029,{"$f":"(+(Z10-MIN(Z$4:Z$173))/(MAX(Z$4:Z$173)-MIN(Z$4:Z$173)))*100*IF('TC - Bolsas'!$E$7=\"DANE\",1,0)+AA10*IF('TC - Bolsas'!$E$7=\"DANE\",0,1)*100","v":56.68554978528644},99.988705973376923,96.442730664106548,93.094304595956089,0.36970092020830242,75.816656893753489,86.835427689716738,79.122288132542465,52079]
[null,"PACÍFICO MEDIO",76109,"BUENAVENTURA","VALLE DEL CAUCA",313508,3919,220318,{"$f":"IFERROR(VLOOKUP(C11,Hoja3!$B$2:$D$168,3,FALSE),0)","v":0},37894173777,1273.69,774617.47,67.400000000000006,0.16442825643991738,60,60.840816497802734,71.525128545364069,84.836479525827585,0,120871.47306288834,2.2573698345026552E-2,0.96465489814367555,-0.41331493539760372,0.41355308841991484,1.3133028587223536,1.7290259376118586,1,0.57774601914424839,0.87936322014315926,0.14436823053851489,-0.18926438579267701,73.042168674698786,1.5871260106287592,74.999999999999986,83.663917329555744,{"$f":"(+(Z11-MIN(Z$4:Z$173))/(MAX(Z$4:Z$173)-MIN(Z$4:Z$173)))*100*IF('TC - Bolsas'!$E$7=\"DANE\",1,0)+AA11*IF('TC - Bolsas'!$E$7=\"DANE\",0,1)*100","v":77.05677465262572},83.574999606708289,100,93.773215973926,0.29260820948076055,70.491857208182594,90.029260820948082,76.353078292012242,76109]
[null,"CATATUMBO",54800,"TEORAMA","NORTE DE SANTANDER",17915,457,6,{"$f":"IFERROR(VLOOKUP(C12,Hoja3!$B$2:$D$168,3,FALSE),0)","v":16055692698.139999},3611423485,3714.85,93562.01,67.099999999999994,3.9704683556926579,80,56.468929290771484,2.5844264582751886,94.969710922244687,896215.05431984365,201586.57465810774,0,0.9420862482949075,1.8423148893301036,1.2406592652597446,0.91016420478401361,-0.75050297029881674,0,0.93616058191935625,0.34813555989587519,-9.2950086634362022E-2,-0.22397136032655213,72.590361445783131,38.324517562471726,100,76.412207451607983,{"$f":"(+(Z12-MIN(Z$4:Z$173))/(MAX(Z$4:Z$173)-MIN(Z$4:Z$173)))*100*IF('TC - Bolsas'!$E$7=\"DANE\",1,0)+AA12*IF('TC - Bolsas'!$E$7=\"DANE\",0,1)*100","v":2.7553065058566917},94.492318532665735,90.852107927261144,91.767914473980255,0,73.082343966210928,81.766897134535029,75.687709916708158,54800]
[null,"PACÍFICO Y FRONTERA NARIÑENSE",52835,"SAN ANDRES DE TUMACO","NARIÑO",257042,12025,112508,{"$f":"IFERROR(VLOOKUP(C13,Hoja3!$B$2:$D$168,3,FALSE),0)","v":15071697723},4258318964,18109.11,391721.45,63.3,4.6229559295259426,80,44.970790863037109,48.448502579345011,67.881612968529481,58635.155822783825,16566.627103741801,0.10880088073793784,0.65621668354385732,2.2290082486805578,1.2406592652597446,-0.15009737769656195,0.89904945858638186,1,-2.1951238947869486E-2,0.84460748100908301,0.45104504846705612,-5.6690423932416432E-2,66.867469879518055,44.622583493866337,100,57.340085947578515,{"$f":"(+(Z13-MIN(Z$4:Z$173))/(MAX(Z$4:Z$173)-MIN(Z$4:Z$173)))*100*IF('TC - Bolsas'!$E$7=\"DANE\",1,0)+AA13*IF('TC - Bolsas'!$E$7=\"DANE\",0,1)*100","v":52.185731317687278},65.308202144792901,99.401496242950159,96.364585617520376,1.4103152445851612,69.318572968293608,89.602378143113654,75.403714520739612,52835]
[null,"PACÍFICO Y FRONTERA NARIÑENSE",52390,"LA TOLA","NARIÑO",7460,122,5396,{"$f":"IFERROR(VLOOKUP(C14,Hoja3!$B$2:$D$168,3,FALSE),0)","v":12349377023},575292430,661.19,42917.440000000002,73.900000000000006,1.540609132324761,80,39.098430633544922,73.967828418230567,100.08182783893189,1655412.4695710456,77116.947721179618,0,1.4536423115336301,0.4022714869512326,1.2406592652597446,-0.69159702904875198,1.8168803511116092,1,1.1169772511407383,-0.10187547777382742,0.27301516422963623,-0.22397136032655213,82.831325301204828,14.870563485043672,100,47.599520679886403,{"$f":"(+(Z14-MIN(Z$4:Z$173))/(MAX(Z$4:Z$173)-MIN(Z$4:Z$173)))*100*IF('TC - Bolsas'!$E$7=\"DANE\",1,0)+AA14*IF('TC - Bolsas'!$E$7=\"DANE\",0,1)*100","v":79.68941663771362},100,83.102789297603593,94.860261812475017,0,75.542167208493979,74.792510367843235,75.317270156298747,52390]
[null,"PACÍFICO Y FRONTERA NARIÑENSE",52473,"MOSQUERA","NARIÑO",12582,1,9924,{"$f":"IFERROR(VLOOKUP(C15,Hoja3!$B$2:$D$168,3,FALSE),0)","v":21774046238},1817940502,474.07,76030.17,70.2,0.62352879126799265,60,61.632575988769531,78.88253059926879,100.02176819336925,1730571.1522810364,144487.40279764743,0,1.175295630065502,-0.14123139662722525,0.41355308841991484,1.3863122572534758,1.9936430727366639,1,1.1148529286257733,-0.14642546716627,7.4932739628374281E-2,-0.22397136032655213,77.259036144578317,6.0185444060762849,74.999999999999986,84.977219766171373,{"$f":"(+(Z15-MIN(Z$4:Z$173))/(MAX(Z$4:Z$173)-MIN(Z$4:Z$173)))*100*IF('TC - Bolsas'!$E$7=\"DANE\",1,0)+AA15*IF('TC - Bolsas'!$E$7=\"DANE\",0,1)*100","v":84.986281573814352},99.935293068959311,82.335625753043402,93.186497275890815,0,75.288027740482889,74.102063177739069,74.932238371659736,52473]
[null,"CHOCÓ",27099,"BOJAYA","CHOCÓ",12428,4055,55,{"$f":"IFERROR(VLOOKUP(C16,Hoja3!$B$2:$D$168,3,FALSE),0)","v":1267783422.4117646},1404465492,0,362703.7,77.099999999999994,0,60,56.045925140380859,33.070485999356293,93.044027883907049,102010.25284935345,113008.1663984551,0,1.6943745765871454,-0.51076248444646211,0.41355308841991484,0.87115832111790537,0.34596201528991066,1,0.86804876080045201,0.81889707679822032,0.16748790291873392,-0.22397136032655213,87.650602409638552,0,74.999999999999986,75.710564607102043,{"$f":"(+(Z16-MIN(Z$4:Z$173))/(MAX(Z$4:Z$173)-MIN(Z$4:Z$173)))*100*IF('TC - Bolsas'!$E$7=\"DANE\",1,0)+AA16*IF('TC - Bolsas'!$E$7=\"DANE\",0,1)*100","v":35.611934206727717},92.417630305643485,98.958755737386156,93.968573476265504,0,68.846071369867417,89.062880163647549,74.911114008001448,27099]
[null,"PACÍFICO Y FRONTERA NARIÑENSE",52250,"EL CHARCO","NARIÑO",22549,946,18627,{"$f":"IFERROR(VLOOKUP(C17,Hoja3!$B$2:$D$168,3,FALSE),0)","v":69261492535},1975261572,8952.35,255289.27,75.900000000000006,3.5067474633775246,80,42.671756744384766,86.802075480065639,98.505198157942985,3071599.2964211274,87598.632844028558,9.7939813221521038E-3,1.6040999771920779,1.5674931197799815,1.2406592652597446,-0.3620949604478314,2.2784782988796439,1,1.0612115219608345,-0.94131419382122083,0.24219694278992215,-0.20891315164768615,85.843373493975918,33.848501664715997,100,53.526646204403782,{"$f":"(+(Z17-MIN(Z$4:Z$173))/(MAX(Z$4:Z$173)-MIN(Z$4:Z$173)))*100*IF('TC - Bolsas'!$E$7=\"DANE\",1,0)+AA17*IF('TC - Bolsas'!$E$7=\"DANE\",0,1)*100","v":93.521643034945086},98.301374124193742,68.647414792997679,94.599852812382096,0.12695302712744597,80.356224528271099,61.795368616410656,74.787967754712966,52250]
[null,"CHOCÓ",27450,"MEDIO SAN JUAN","CHOCÓ",10916,1307,7024,{"$f":"IFERROR(VLOOKUP(C18,Hoja3!$B$2:$D$168,3,FALSE),0)","v":6291621431.0599995},2021350110,249.03,66642.91,69.7,0.37367816021239164,80,31.051733016967773,76.319164529131541,98.04549622079675,576366.9321234884,185173.15042139977,5.1067876643437404E-3,1.13768121365089,-0.28930407070301889,1.2406592652597446,-1.4335957797435508,1.9014487654545362,0,1.0449517660780867,0.53772417344333123,-4.469138235329409E-2,-0.2161196939001096,76.506024096385545,3.6068881378286641,100,34.252351865205206,{"$f":"(+(Z18-MIN(Z$4:Z$173))/(MAX(Z$4:Z$173)-MIN(Z$4:Z$173)))*100*IF('TC - Bolsas'!$E$7=\"DANE\",1,0)+AA18*IF('TC - Bolsas'!$E$7=\"DANE\",0,1)*100","v":82.223590498109729},97.806101445383689,94.116878014995279,92.175692740879768,6.6195976034706047E-2,70.405638272719543,84.711809811099229,74.697489734233443,27450]
[null,"CATATUMBO",54206,"CONVENCIÓN","NORTE DE SANTANDER",19916,658,16,{"$f":"IFERROR(VLOOKUP(C19,Hoja3!$B$2:$D$168,3,FALSE),0)","v":8790806218},401352871,2004.46,94225.61,64,2.127298512580603,80,53.072635650634766,3.3842136975296242,96.256928371309442,441394.1663988753,20152.283139184576,1.8271749765893542E-6,0.70887686652431414,0.74996988987029611,1.2406592652597446,0.59698658111109926,-0.72173773409039643,0,0.98168973852838826,0.61772870604673258,0.44050251256640816,-0.22396855105204103,67.921686746987959,20.533519449695401,100,70.778728138834282,{"$f":"(+(Z19-MIN(Z$4:Z$173))/(MAX(Z$4:Z$173)-MIN(Z$4:Z$173)))*100*IF('TC - Bolsas'!$E$7=\"DANE\",1,0)+AA19*IF('TC - Bolsas'!$E$7=\"DANE\",0,1)*100","v":3.6172844707255023},95.879138083975519,95.494578922446422,96.275502889702935,2.3684484046018757E-5,69.537034081802872,85.945123398650182,74.459460876857065,54206]
[null,"ALTO PATÍA Y NORTE DEL CAUCA",19142,"CALOTO","CAUCA",30457,1279,6399,{"$f":"IFERROR(VLOOKUP(C20,Hoja3!$B$2:$D$168,3,FALSE),0)","v":3357251160},1586150974,8.06,26989.88,37.4,2.9863044963519658E-2,80,64.519607543945313,25.209311488327806,97.095417651218668,110229.21364546737,52078.371934202318,8.8472605195892996E-5,-1.2922100867330391,-0.49306430651866662,1.2406592652597446,1.6525300162933783,6.3226144314843538E-2,1,1.0113472837766435,0.81402532275622064,0.34663351510491941,-0.22383533403575356,27.861445783132528,0.28824982058662751,100,89.765979003359391,{"$f":"(+(Z20-MIN(Z$4:Z$173))/(MAX(Z$4:Z$173)-MIN(Z$4:Z$173)))*100*IF('TC - Bolsas'!$E$7=\"DANE\",1,0)+AA20*IF('TC - Bolsas'!$E$7=\"DANE\",0,1)*100","v":27.139481942033356},96.782507850899208,98.874862741000399,95.482325002507636,1.1468129944322406E-3,65.785634311195253,88.987491148199794,72.746191362296614,19142]
[null,"CHOCÓ",27425,"MEDIO ATRATO","CHOCÓ",11021,1181,7087,{"$f":"IFERROR(VLOOKUP(C21,Hoja3!$B$2:$D$168,3,FALSE),0)","v":15486044439},1956904863,0,181453.67,76.599999999999994,0,40,64.414688110351563,75.020415570274935,99.870149607353397,1405139.6823337264,177561.46111968061,1.9595258101281283E-2,1.6567601601725337,-0.51076248444646211,-0.41355308841991484,1.6428552289011207,1.8547378169130513,0,1.1094901467954219,4.6472652004629959E-2,-2.2311514642965009E-2,-0.19384372623172874,86.897590361445765,0,50,89.591947685315148,{"$f":"(+(Z21-MIN(Z$4:Z$173))/(MAX(Z$4:Z$173)-MIN(Z$4:Z$173)))*100*IF('TC - Bolsas'!$E$7=\"DANE\",1,0)+AA21*IF('TC - Bolsas'!$E$7=\"DANE\",0,1)*100","v":80.823852005814828},99.77194256467466,85.657386473086277,92.364799013091442,0.25400062053157313,70.846084194634869,77.117047887830807,72.727373302593648,27425]
[null,"CHOCÓ",27150,"CARMEN DEL DARIEN","CHOCÓ",19671,2279,9144,{"$f":"IFERROR(VLOOKUP(C22,Hoja3!$B$2:$D$168,3,FALSE),0)","v":21889920990},3313222553,778.94,343958.97,77.8,0.22646305749781728,60,48.768817901611328,58.070255706369778,88.942107786112743,1112801.6364190942,168431.83127446496,0,1.7470347595676023,-0.37655033392513848,0.41355308841991484,0.20012471986572902,1.2451064945750803,1,0.72296296922273262,0.21975478488550657,4.5313976306680034E-3,-0.22397136032655213,88.704819277108442,2.1859102369831267,74.999999999999986,63.639926013910866,{"$f":"(+(Z22-MIN(Z$4:Z$173))/(MAX(Z$4:Z$173)-MIN(Z$4:Z$173)))*100*IF('TC - Bolsas'!$E$7=\"DANE\",1,0)+AA22*IF('TC - Bolsas'!$E$7=\"DANE\",0,1)*100","v":62.555663184360199},87.998312502218127,88.641354305240142,92.591617291960389,0,68.892853275670916,79.777218874716127,72.158162955384483,27150]
[null,"CHOCÓ",27361,"ISTMINA","CHOCÓ",31055,1075,25103,{"$f":"IFERROR(VLOOKUP(C23,Hoja3!$B$2:$D$168,3,FALSE),0)","v":19903985889},4759413771,462.79,188338.25,55.1,0.24572278865286259,60,50.935672760009766,84.295604572532596,96.334358468060728,640926.93250684266,153257.56789566897,0.20409757944149345,3.9340254344222468E-2,-0.36513615465306859,0.41355308841991484,0.39993384336955373,2.188330289301581,1,0.98442845761878217,0.49945650790490642,4.9146724604464023E-2,8.9827884433096764E-2,54.518072289156628,2.3718127146698551,74.999999999999986,67.234118186905491,{"$f":"(+(Z23-MIN(Z$4:Z$173))/(MAX(Z$4:Z$173)-MIN(Z$4:Z$173)))*100*IF('TC - Bolsas'!$E$7=\"DANE\",1,0)+AA23*IF('TC - Bolsas'!$E$7=\"DANE\",0,1)*100","v":90.820271237750319},95.962559554149422,93.457897881961102,92.968609608301279,2.6455845367886024,66.814030423576853,84.376666547443847,72.082821260736949,27361]
[null,"PACÍFICO Y FRONTERA NARIÑENSE",52696,"SANTA BÁRBARA","NARIÑO",13239,155,8058,{"$f":"IFERROR(VLOOKUP(C24,Hoja3!$B$2:$D$168,3,FALSE),0)","v":28837198516},5119865392,1595.08,121240.09,75.099999999999994,1.3156374265311086,60,56.979679107666016,62.036407583654352,88.733876527918937,2178200.6583578819,386725.99078480247,2.0356703658092386E-2,1.5439169109286979,0.2689431782432764,0.41355308841991484,0.95726125553842556,1.3877535511784249,1,0.71559778506360727,-0.41175595232679468,-0.63729648289979757,-0.19267300661169814,84.638554216867462,12.699048359533011,74.999999999999986,77.259395248762786,{"$f":"(+(Z24-MIN(Z$4:Z$173))/(MAX(Z$4:Z$173)-MIN(Z$4:Z$173)))*100*IF('TC - Bolsas'!$E$7=\"DANE\",1,0)+AA24*IF('TC - Bolsas'!$E$7=\"DANE\",0,1)*100","v":66.830219411000314},87.773968759622946,77.766558997885994,87.168275230263674,0.26387074538174693,72.248611984122817,70.016290172635578,71.578915440676639,52696]
[null,"MACARENA GUAVIARE",50350,"LA MACARENA","META",28290,924,117,{"$f":"IFERROR(VLOOKUP(C25,Hoja3!$B$2:$D$168,3,FALSE),0)","v":40886808313.199997},6500374895,73.8,1028427.89,67.900000000000006,7.1760014209649638E-3,80,53.232982635498047,3.6797454931071045,98.953307996885002,1445274.242248144,229776.41905266879,3.3550451987781759E-5,1.0022693145582875,-0.50650966461132818,1.2406592652597446,0.61177243092371369,-0.71110860487997107,0,1.0770612628496505,2.2683062379212294E-2,-0.17583378870330324,-0.22391977663543772,73.795180722891573,6.9265579737410932E-2,100,71.044697904056505,{"$f":"(+(Z25-MIN(Z$4:Z$173))/(MAX(Z$4:Z$173)-MIN(Z$4:Z$173)))*100*IF('TC - Bolsas'!$E$7=\"DANE\",1,0)+AA25*IF('TC - Bolsas'!$E$7=\"DANE\",0,1)*100","v":3.9357965489419193},98.784157733311687,85.247722943429778,91.067560560890485,4.3489274700864465E-4,69.186105598254301,76.7229941383615,71.447172160286456,50350]
[null,"BAJO CAUCA Y NORDESTE ANTIOQUEÑO",5854,"VALDIVIA","ANTIOQUIA",14321,2,87,{"$f":"IFERROR(VLOOKUP(C26,Hoja3!$B$2:$D$168,3,FALSE),0)","v":8464647638.9117641},2584829301,4105.3900000000003,56402.58,59.3,7.2787273206296597,80,61.653339385986328,0.62146498149570562,27.678812048828,591065.40317797393,180492.23524893512,3.2960655866706664E-3,0.35530135222696207,3.8029373196349785,1.2406592652597446,1.3882268830452174,-0.82110305964286312,0,-1.4439329099737899,0.5290117172645934,-3.0928568584822139E-2,-0.21890367214227349,60.843373493975896,70.257130404266874,100,85.011660300788691,{"$f":"(+(Z26-MIN(Z$4:Z$173))/(MAX(Z$4:Z$173)-MIN(Z$4:Z$173)))*100*IF('TC - Bolsas'!$E$7=\"DANE\",1,0)+AA26*IF('TC - Bolsas'!$E$7=\"DANE\",0,1)*100","v":0.63970693659178468},21.994595439596772,93.966847030587459,92.291986297239717,4.2724760245560205E-2,64.559879808978309,84.574434803553274,70.5642463073508,5854]
[null,"URABÁ ANTIOQUEÑO",5234,"DABEIBA","ANTIOQUIA",23874,4747,116,{"$f":"IFERROR(VLOOKUP(C27,Hoja3!$B$2:$D$168,3,FALSE),0)","v":5600685739},1193727144,0,191235.52,60.5,0,80,51.972610473632813,20.369439557677811,65.470063686559484,234593.52178101701,50001.136969087711,2.8056880416380318E-2,0.4455759516220309,-0.51076248444646211,1.2406592652597446,0.49555151470736486,-0.11084522425741779,1,-0.10724825306850945,0.74030890825204887,0.35274099557079125,-0.18083401441062102,62.650602409638545,0,100,68.954101138113202,{"$f":"(+(Z27-MIN(Z$4:Z$173))/(MAX(Z$4:Z$173)-MIN(Z$4:Z$173)))*100*IF('TC - Bolsas'!$E$7=\"DANE\",1,0)+AA27*IF('TC - Bolsas'!$E$7=\"DANE\",0,1)*100","v":21.923265988279972},62.710052395026104,97.605445023633166,95.533932227289114,0.36368314206970109,62.91977516763226,87.881268835476817,70.408223267985619,5234]
[null,"CHOCÓ",27615,"RIOSUCIO","CHOCÓ",55690,3329,36424,{"$f":"IFERROR(VLOOKUP(C28,Hoja3!$B$2:$D$168,3,FALSE),0)","v":19721664719},7402275971,1036.1400000000001,707143.47,70.900000000000006,0.14652472149675655,40,46.894695281982422,71.382653977374758,95.908481792420901,354132.96317112586,132919.30276530795,4.3990062697751538E-4,1.2279558130459589,-0.42392537205426872,-0.41355308841991484,2.7308900423388054E-2,1.7239016815588044,1,0.96936510847336188,0.66945241298247504,0.10894523516272803,-0.22329501480157046,78.313253012048207,1.414314070602658,50,60.531292860843543,{"$f":"(+(Z28-MIN(Z$4:Z$173))/(MAX(Z$4:Z$173)-MIN(Z$4:Z$173)))*100*IF('TC - Bolsas'!$E$7=\"DANE\",1,0)+AA28*IF('TC - Bolsas'!$E$7=\"DANE\",0,1)*100","v":76.903221392291798},95.50372946242463,96.385275932519079,93.473897376837314,5.7021464911050923E-3,62.426222140231495,86.747318553916287,69.722551064336926,27615]
[null,"ALTO PATÍA Y NORTE DEL CAUCA",19050,"ARGELIA","CAUCA",26800,39,126,{"$f":"IFERROR(VLOOKUP(C29,Hoja3!$B$2:$D$168,3,FALSE),0)","v":10491393917},1695476750,2849.97,70903.77,50.1,4.0194900778900751,80,48.224067687988281,0.61567164179104483,78.174063660218749,391469.92227611941,63264.057835820895,0,-0.33680390980189651,1.8713673574503737,1.2406592652597446,0.14989243859840296,-0.82131142353873554,0,0.34209494437036664,0.64732108933365839,0.31374539253389222,-0.22397136032655213,46.98795180722891,38.797694448670526,100,62.736341287664708,{"$f":"(+(Z29-MIN(Z$4:Z$173))/(MAX(Z$4:Z$173)-MIN(Z$4:Z$173)))*100*IF('TC - Bolsas'!$E$7=\"DANE\",1,0)+AA29*IF('TC - Bolsas'!$E$7=\"DANE\",0,1)*100","v":0.63346311208031869},76.397060410734923,96.004168216719805,95.204425671736487,0,62.347533436664044,86.40375139504782,69.564398824179179,19050]
[null,"CUENCA DEL CAGUÁN Y PIEDEMONTE CAQUETEÑO",18756,"SOLANO","CAQUETÁ",11625,2083,199,{"$f":"IFERROR(VLOOKUP(C30,Hoja3!$B$2:$D$168,3,FALSE),0)","v":13728540677.673025},1513772363,713.34,4245001.12,71.900000000000006,1.6804235849059091E-2,60,56.159259796142578,19.630107526881719,89.784123165460642,1180949.7357138086,130216.9774623656,3.411726857049522E-3,1.3031846458751826,-0.50080354166749919,0.41355308841991484,0.88160908949428585,-0.13743612175926573,0,0.75274523336263977,0.17936028898395615,0.11689060450097274,-0.21872584338314691,79.819277108433738,0.16220107408684672,74.999999999999986,75.898554370739859,{"$f":"(+(Z30-MIN(Z$4:Z$173))/(MAX(Z$4:Z$173)-MIN(Z$4:Z$173)))*100*IF('TC - Bolsas'!$E$7=\"DANE\",1,0)+AA30*IF('TC - Bolsas'!$E$7=\"DANE\",0,1)*100","v":21.12644417369086},88.905481210528919,87.945749545751397,93.541034466133283,4.422400227114872E-2,65.358253002191816,79.155596991403371,69.497456198955277,18756]
[null,"ALTO PATÍA Y NORTE DEL CAUCA",19110,"BUENOS AIRES","CAUCA",32311,6428,16558,{"$f":"IFERROR(VLOOKUP(C31,Hoja3!$B$2:$D$168,3,FALSE),0)","v":59437390712},8041014570,930.43,43866.99,42.5,2.1210253997367952,80,56.961055755615234,71.139859490575958,72.637172929919188,1839540.4262325524,248863.06737643527,3.0597296105094311E-2,-0.90854303930399749,0.74625216224384427,1.2406592652597446,0.95554396670592845,1.7151693082223902,1,0.14625393446946339,-0.21101654066038936,-0.23195229900862946,-0.17692813504313676,35.542168674698793,20.472968904566592,100,77.228504436710281,{"$f":"(+(Z31-MIN(Z$4:Z$173))/(MAX(Z$4:Z$173)-MIN(Z$4:Z$173)))*100*IF('TC - Bolsas'!$E$7=\"DANE\",1,0)+AA31*IF('TC - Bolsas'!$E$7=\"DANE\",0,1)*100","v":76.641547427841843},70.431737050781763,81.223349014833829,90.593368200896563,0.39661290283153056,67.830346813139926,73.140675403633594,69.423445390288023,19110]
[null,"CATATUMBO",54245,"EL CARMEN","NORTE DE SANTANDER",14235,690,30,{"$f":"IFERROR(VLOOKUP(C32,Hoja3!$B$2:$D$168,3,FALSE),0)","v":16596298124.85},1024759311,887.6,169134.16,68.900000000000006,0.52479049767356278,80,41.012832641601563,5.0579557428872501,91.692177261675596,1165879.7418229715,71988.71169652266,0,1.0774981473875112,-0.19974813162380187,1.2406592652597446,-0.51506698330933254,-0.66153974277015715,1,0.82023351502646713,0.18829296374319221,0.28809318952334401,-0.22397136032655213,75.301204819277118,5.0654836767235958,100,50.774965812565029,{"$f":"(+(Z32-MIN(Z$4:Z$173))/(MAX(Z$4:Z$173)-MIN(Z$4:Z$173)))*100*IF('TC - Bolsas'!$E$7=\"DANE\",1,0)+AA32*IF('TC - Bolsas'!$E$7=\"DANE\",0,1)*100","v":5.4211751696039236},90.961176406014474,88.099572757028341,94.98766869407558,0,64.908076471903357,79.289615481325512,69.222538174730005,54245]
[null,"BAJO CAUCA Y NORDESTE ANTIOQUEÑO",5361,"ITUANGO","ANTIOQUIA",28220,477,126,{"$f":"IFERROR(VLOOKUP(C33,Hoja3!$B$2:$D$168,3,FALSE),0)","v":0},1481641890,1414.19,281100.38,57.6,0.50309074644438401,80,52.263935089111328,2.1367824238128987,62.459762878159722,0,52503.25620127569,1.3497973254344891E-3,0.22741233641728195,-0.21260837607349048,1.2406592652597446,0.52241501959244729,-0.76660298509850466,0,-0.21372323679834351,0.87936322014315926,0.34538427156483509,-0.22189605212123675,58.283132530120476,4.8560291684433388,100,69.43732531378663,{"$f":"(+(Z33-MIN(Z$4:Z$173))/(MAX(Z$4:Z$173)-MIN(Z$4:Z$173)))*100*IF('TC - Bolsas'!$E$7=\"DANE\",1,0)+AA33*IF('TC - Bolsas'!$E$7=\"DANE\",0,1)*100","v":2.2728540799200561},59.466821020680129,100,95.471769096100715,1.7496547199334953E-2,60.17700304671979,90.00174965471993,69.124427029119829,5361]
[null,"MACARENA GUAVIARE",50590,"PUERTO RICO","META",12980,17,271,{"$f":"IFERROR(VLOOKUP(C34,Hoja3!$B$2:$D$168,3,FALSE),0)","v":2399680575},1793265929,745.97,342049.78,47.1,0.21808813910068878,80,46.346145629882813,2.2187981510015407,99.708329907620097,184875.23690292757,138156.08081664098,1.727983981014208E-6,-0.56249040828956787,-0.38151368565649113,1.2406592652597446,-2.3273733092435977E-2,-0.76365319839324808,0,1.1037665493900752,0.76977921007301064,9.354807490413497E-2,-0.2239687035578159,42.46987951807229,2.1050722404442967,100,59.621405953359307,{"$f":"(+(Z34-MIN(Z$4:Z$173))/(MAX(Z$4:Z$173)-MIN(Z$4:Z$173)))*100*IF('TC - Bolsas'!$E$7=\"DANE\",1,0)+AA34*IF('TC - Bolsas'!$E$7=\"DANE\",0,1)*100","v":2.3612472751843399},99.597601606555855,98.112932040185925,93.343793856260888,2.2398735509322133E-5,60.804529286832569,88.30164107604088,69.053662823595062,50590]
[null,"CATATUMBO",54670,"SAN CALIXTO","NORTE DE SANTANDER",12341,0,18,{"$f":"IFERROR(VLOOKUP(C35,Hoja3!$B$2:$D$168,3,FALSE),0)","v":16078267136.075098},443954743,965.93,39549.33,73.5,2.4423422596539561,80,46.240528106689453,0.14585527915079816,64.766341631017525,1302833.4118851875,35973.968316992141,0,1.4235507784019403,0.93667892431587318,1.2406592652597446,-3.3012892433965609E-2,-0.83820889074329585,0,-0.1321390527537365,0.10711425852199534,0.3939836378201893,-0.22397136032655213,82.228915662650621,23.574445238802539,100,59.446216704424913,{"$f":"(+(Z35-MIN(Z$4:Z$173))/(MAX(Z$4:Z$173)-MIN(Z$4:Z$173)))*100*IF('TC - Bolsas'!$E$7=\"DANE\",1,0)+AA35*IF('TC - Bolsas'!$E$7=\"DANE\",0,1)*100","v":0.12711425796728498},61.951877848819812,86.701652261656321,95.882425901733129,0,64.997964100415061,78.031487035490684,68.908020980937749,54670]
[null,"SUR DE BOLÍVAR",13670,"SAN PABLO","BOLÍVAR",29165,22,116,{"$f":"IFERROR(VLOOKUP(C36,Hoja3!$B$2:$D$168,3,FALSE),0)","v":24878260343.52816},2757505399,3972.77,209095.72,54,{"$f":"+K36*100/L36","v":1.8999767187965397},80,42.62548828125,{"$f":"(+(G36+H36)/F36)*100","v":0.47316989542259558},99.029442811835523,{"$f":"+I36/F36","v":853017.66993067577},{"$f":"+J36/F36","v":94548.445019715407},1.211060719380962E-2,{"$f":"+(M36-AVERAGE(M$4:M$173))/STDEVP(M$4:M$173)","v":-4.3411461767923813E-2},{"$f":"+(N36-AVERAGE(N$4:N$173))/STDEVP(N$4:N$173)","v":0.61524881376534224},{"$f":"+(O36-AVERAGE(O$4:O$173))/STDEVP(O$4:O$173)","v":1.2406592652597446},{"$f":"+(P36-AVERAGE(P$4:P$173))/STDEVP(P$4:P$173)","v":-0.36636144882336552},{"$f":"+(Q36-AVERAGE(Q$4:Q$173))/STDEVP(Q$4:Q$173)","v":-0.82643665709237668},0,{"$f":"+(R36-AVERAGE(R$4:R$173))/STDEVP(R$4:R$173)","v":1.0797541675455902},{"$f":"+(S36-AVERAGE(S$4:S$173))/STDEVP(S$4:S$173)*-1","v":0.3737406256970468},{"$f":"+(T36-AVERAGE(T$4:T$173))/STDEVP(T$4:T$173)*-1","v":0.22176312436430973},{"$f":"+(U36-AVERAGE(U$4:U$173))/STDEVP(U$4:U$173)","v":-0.20535134826468626},{"$f":"(+(V36-MIN(V$4:V$173))/(MAX(V$4:V$173)-MIN(V$4:V$173)))*100","v":52.861445783132531},{"$f":"(+(W36-MIN(W$4:W$173))/(MAX(W$4:W$173)-MIN(W$4:W$173)))*100","v":18.339320353329576},{"$f":"(+(X36-MIN(X$4:X$173))/(MAX(X$4:X$173)-MIN(X$4:X$173)))*100","v":100},{"$f":"(+(Y36-MIN(Y$4:Y$173))/(MAX(Y$4:Y$173)-MIN(Y$4:Y$173)))*100","v":53.449900063603948},{"$f":"(+(Z36-MIN(Z$4:Z$173))/(MAX(Z$4:Z$173)-MIN(Z$4:Z$173)))*100*IF('TC - Bolsas'!$E$7=\"DANE\",1,0)+AA36*IF('TC - Bolsas'!$E$7=\"DANE\",0,1)*100","v":0.47988056000130191},{"$f":"(+(AB36-MIN(AB$4:AB$173))/(MAX(AB$4:AB$173)-MIN(AB$4:AB$173)))*100","v":98.866183695580489},{"$f":"(+(AC36-MIN(AC$4:AC$173))/(MAX(AC$4:AC$173)-MIN(AC$4:AC$173)))*100","v":91.293034475316745},{"$f":"(+(AD36-MIN(AD$4:AD$173))/(MAX(AD$4:AD$173)-MIN(AD$4:AD$173)))*100","v":94.427190342722625},{"$f":"(+(AE36-MIN(AE$4:AE$173))/(MAX(AE$4:AE$173)-MIN(AE$4:AE$173)))*100","v":0.15698194564942428},{"$f":"+SUMPRODUCT($AF$1:$AK$1,AF36:AK36)","v":62.974116815017453},{"$f":"SUMPRODUCT(AL36:AN36,$AL$1:$AN$1)","v":82.179429222350024},{"$f":"+SUMPRODUCT(AO36:AP36,$AO$1:$AP$1)","v":68.735710537217216},13670]
[null,"PACÍFICO Y FRONTERA NARIÑENSE",52612,"RICAURTE","NARIÑO",20056,13613,275,{"$f":"IFERROR(VLOOKUP(C37,Hoja3!$B$2:$D$168,3,FALSE),0)","v":26445110813},5183400965,839.1,105601.3,71.900000000000006,0.79459249081213956,40,49.183750152587891,69.246110889509367,100.05069623546854,1318563.5626745115,258446.39833466295,0,1.3031846458751826,-3.9851386811828295E-2,-0.41355308841991484,0.23838628088342184,1.6470585368129502,0,1.115876119664776,9.779027857000569E-2,-0.26012918203261154,-0.22397136032655213,79.819277108433738,7.6697183155928981,50,64.32817988703151,{"$f":"(+(Z37-MIN(Z$4:Z$173))/(MAX(Z$4:Z$173)-MIN(Z$4:Z$173)))*100*IF('TC - Bolsas'!$E$7=\"DANE\",1,0)+AA37*IF('TC - Bolsas'!$E$7=\"DANE\",0,1)*100","v":74.600542664322177},99.966459500391352,86.541090663170522,90.355278084360691,0,64.551486422143256,77.886981596853474,68.552134974556324,52612]
[null,"ALTO PATÍA Y NORTE DEL CAUCA",52233,"CUMBITARA","NARIÑO",5767,8,60,{"$f":"IFERROR(VLOOKUP(C38,Hoja3!$B$2:$D$168,3,FALSE),0)","v":4835222702.3900003},2829901933,1387.76,35288.550000000003,39.4,3.9326070354265048,80,46.478416442871094,1.179122594069707,99.924449381449037,838429.46113924053,490706.07473556441,1.2712563059865748E-4,-1.1417524210745913,1.8198765752375459,1.2406592652597446,-1.1076831622135888E-2,-0.80104628433838532,0,1.1114107414241163,0.3823877243885036,-0.94301843647472583,-0.22377590515760493,30.87349397590361,37.959065252192474,100,59.840805383328288,{"$f":"(+(Z38-MIN(Z$4:Z$173))/(MAX(Z$4:Z$173)-MIN(Z$4:Z$173)))*100*IF('TC - Bolsas'!$E$7=\"DANE\",1,0)+AA38*IF('TC - Bolsas'!$E$7=\"DANE\",0,1)*100","v":1.2407274960448658},99.83044393785157,91.441939985121991,84.584974036434829,1.6478470908946248E-3,62.037405737347854,82.297910771318882,68.115557247539158,52233]
[null,"ALTO PATÍA Y NORTE DEL CAUCA",19212,"CORINTO","CAUCA",25643,8971,2507,{"$f":"IFERROR(VLOOKUP(C39,Hoja3!$B$2:$D$168,3,FALSE),0)","v":5099946236},1451805954,11.34,32575.98,33.700000000000003,3.4810925104939286E-2,80,38.998893737792969,44.760753421986507,99.277083552792007,198882.58924462815,56616.072768396836,1.8409097860998913E-5,-1.5705567682011667,-0.49013197114512302,1.2406592652597446,-0.70077548408897061,0.76641546496614432,0,1.0885132735427754,0.76147641157071577,0.3332917797354284,-0.22394305640927248,22.289156626506028,0.33600869999060734,100,47.43441745192942,{"$f":"(+(Z39-MIN(Z$4:Z$173))/(MAX(Z$4:Z$173)-MIN(Z$4:Z$173)))*100*IF('TC - Bolsas'!$E$7=\"DANE\",1,0)+AA39*IF('TC - Bolsas'!$E$7=\"DANE\",0,1)*100","v":48.211226152326311},99.132986341480617,97.969955477999136,95.369589490697876,2.386251947258045E-4,58.669386252140868,88.172983792718696,67.520465514314211,19212]
[null,"SUR DE CÓRDOBA",23807,"TIERRALTA","CÓRDOBA",95973,10568,6965,{"$f":"IFERROR(VLOOKUP(C40,Hoja3!$B$2:$D$168,3,FALSE),0)","v":26602512807.009998},9057149239,2379.48,505861.63,63.8,0.47038159427114484,60,46.016124725341797,18.268679732841527,82.749428367255462,277187.46738155524,94371.846654788329,8.0427737428659649E-2,0.69383109995846914,-0.23199328460296206,0.41355308841991484,-5.3705484171056021E-2,-0.18640138421179181,1,0.50392657308349842,0.7150615282253362,0.22228235838559798,-0.10031402283188817,67.620481927710841,4.5403076049860775,74.999999999999986,59.073995706923775,{"$f":"(+(Z40-MIN(Z$4:Z$173))/(MAX(Z$4:Z$173)-MIN(Z$4:Z$173)))*100*IF('TC - Bolsas'!$E$7=\"DANE\",1,0)+AA40*IF('TC - Bolsas'!$E$7=\"DANE\",0,1)*100","v":19.659152997206775},81.326456943311001,97.170677926798859,94.431577786448486,1.0425325917750574,58.707810128642855,87.557863393296486,67.362826108038945,23807]
[null,"CHOCÓ",27800,"UNGUÍA","CHOCÓ",12926,1061,9291,{"$f":"IFERROR(VLOOKUP(C41,Hoja3!$B$2:$D$168,3,FALSE),0)","v":31783415520.511765},1346503838,417.48,118418.31,63.4,0.3525468316512877,60,58.60955810546875,80.086647067925114,68.443502654468475,2458874.7888373639,104170.18706483058,1.1655634716255038E-2,0.66373956682677981,-0.30182744242154202,0.41355308841991484,1.1075549831990597,2.0369504586805012,1,-2.07708052443961E-3,-0.57812434896091802,0.19347330516951494,-0.20605086670206191,67.018072289156621,3.4029202680439132,74.999999999999986,79.962898122582743,{"$f":"(+(Z41-MIN(Z$4:Z$173))/(MAX(Z$4:Z$173)-MIN(Z$4:Z$173)))*100*IF('TC - Bolsas'!$E$7=\"DANE\",1,0)+AA41*IF('TC - Bolsas'!$E$7=\"DANE\",0,1)*100","v":86.284029039859121},65.913569639388072,74.901647679045553,94.188145933760339,0.15108443253546824,67.001924459046393,67.426591354394546,67.129324527650837,27800]
[null,"ALTO PATÍA Y NORTE DEL CAUCA",19137,"CALDONO","CAUCA",42112,27088,113,{"$f":"IFERROR(VLOOKUP(C42,Hoja3!$B$2:$D$168,3,FALSE),0)","v":7871975776},5488692214,66.11,35469.64,56,0.18638475045137193,40,46.393836975097656,64.592040273556222,99.929043383377746,186929.5159574468,130335.58638867781,8.873053671079526E-7,0.10704620389052379,-0.400302533676346,-0.41355308841991484,-1.8876038503357943E-2,1.4796697188526144,1,1.1115732322553478,0.76856154490395645,0.11654187086578194,-0.22396999609795701,55.873493975903621,1.7990587009235546,50,59.700512248377827,{"$f":"(+(Z42-MIN(Z$4:Z$173))/(MAX(Z$4:Z$173)-MIN(Z$4:Z$173)))*100*IF('TC - Bolsas'!$E$7=\"DANE\",1,0)+AA42*IF('TC - Bolsas'!$E$7=\"DANE\",0,1)*100","v":69.584575765882107},99.835393413713703,98.091963498107276,93.538087723167692,1.1501563933512428E-5,57.728473703593906,88.28276829845295,66.894762082051614,19137]
[null,"ARAUCA",81300,"FORTUL","ARAUCA",20629,885,292,{"$f":"IFERROR(VLOOKUP(C43,Hoja3!$B$2:$D$168,3,FALSE),0)","v":18502993242.745098},1171723594,0,114506.04,48.3,0,80,53.956340789794922,5.7055601337922344,77.649492993412267,896940.87172161031,56799.825197537444,0,-0.47221580889449966,-0.51076248444646211,1.2406592652597446,0.6784744337040155,-0.63824793169880589,1,0.32354076763908524,0.34770533471917375,0.33275151135444109,-0.22397136032655213,44.277108433734938,0,100,72.244542095913133,{"$f":"(+(Z43-MIN(Z$4:Z$173))/(MAX(Z$4:Z$173)-MIN(Z$4:Z$173)))*100*IF('TC - Bolsas'!$E$7=\"DANE\",1,0)+AA43*IF('TC - Bolsas'!$E$7=\"DANE\",0,1)*100","v":6.1191366867603563},75.831899600260044,90.844699326809859,95.365024310025447,0,60.291028714644661,81.760229394128871,66.731788918489926,81300]
[null,"MACARENA GUAVIARE",95001,"SAN JOSÉ DEL GUAVIARE","GUAVIARE",57004,3823,1966,{"$f":"IFERROR(VLOOKUP(C44,Hoja3!$B$2:$D$168,3,FALSE),0)","v":53989709074.119995},4406830019,1286.5899999999999,1689637.04,65.099999999999994,7.614593960369144E-2,60,44.810779571533203,10.155427689284963,99.712808636131513,947121.41383271338,77307.382271419556,3.5670513991505122E-5,0.79162858263645997,-0.46563499027326016,0.41355308841991484,-0.16485227269204006,-0.47820350357157354,0,1.1039249629758712,0.31796103189014752,0.2724552490947813,-0.22391651704824694,69.578313253012041,0.73499046918949318,74.999999999999986,57.074673001582134,{"$f":"(+(Z44-MIN(Z$4:Z$173))/(MAX(Z$4:Z$173)-MIN(Z$4:Z$173)))*100*IF('TC - Bolsas'!$E$7=\"DANE\",1,0)+AA44*IF('TC - Bolsas'!$E$7=\"DANE\",0,1)*100","v":10.915021881171572},99.602426889392987,90.332493934620501,94.855530619901486,4.6237373560958965E-4,60.185962519363883,81.299290778532026,66.519960997114325,95001]
[null,"CATATUMBO",54344,"HACARÍ","NORTE DE SANTANDER",10748,2,1,{"$f":"IFERROR(VLOOKUP(C45,Hoja3!$B$2:$D$168,3,FALSE),0)","v":3855972899.7450981},2278087645,531.94000000000005,41466.89,73.400000000000006,1.2828065958165662,80,41.655284881591797,2.7912169705991811E-2,36.784382026045598,358761.89986463508,211954.56317454411,0,1.4160278951190184,0.24948615756058637,1.2406592652597446,-0.45582544321818103,-0.84245084564807526,0,-1.1218669514922217,0.66670863045251971,-0.12343401762818887,-0.22397136032655213,82.078313253012055,12.382152307079643,100,51.840610243499576,{"$f":"(+(Z45-MIN(Z$4:Z$173))/(MAX(Z$4:Z$173)-MIN(Z$4:Z$173)))*100*IF('TC - Bolsas'!$E$7=\"DANE\",1,0)+AA45*IF('TC - Bolsas'!$E$7=\"DANE\",0,1)*100","v":0},31.804734728338975,96.338027213498265,91.510330174233047,0,57.792710139261139,86.704224492148441,66.466164445127319,54344]
[null,"SUR DE BOLÍVAR",13688,"SANTA ROSA DEL SUR","BOLÍVAR",35079,29,106,{"$f":"IFERROR(VLOOKUP(C46,Hoja3!$B$2:$D$168,3,FALSE),0)","v":21405055961.233086},2901056656,2515.23,238134.47,43.6,1.0562225619835717,60,60.573352813720703,0.38484563414008383,98.369552462858692,610195.72853368358,82700.66581145415,7.0725888970040443E-3,-0.82579132319185122,0.11520231104484439,0.41355308841991484,1.2886396081689528,-0.8296133372318274,0,1.0564137047005722,0.51767229830538453,0.25659793183368285,-0.21309728205257852,37.198795180722897,10.195074359069304,74.999999999999986,83.220271611356395,{"$f":"(+(Z46-MIN(Z$4:Z$173))/(MAX(Z$4:Z$173)-MIN(Z$4:Z$173)))*100*IF('TC - Bolsas'!$E$7=\"DANE\",1,0)+AA46*IF('TC - Bolsas'!$E$7=\"DANE\",0,1)*100","v":0.38468828479094397},98.155232458595151,93.771578996618501,94.72153884687863,9.1677382319668169E-2,58.615074491591152,84.403588835188614,66.35162879467039,13688]
[null,"SUR DE BOLÍVAR",13042,"ARENAL","BOLÍVAR",7890,5,2393,{"$f":"IFERROR(VLOOKUP(C47,Hoja3!$B$2:$D$168,3,FALSE),0)","v":2812206474},2408637890,104.58,46165.04,62,0.22653505769733981,60,44.027118682861328,30.392902408111532,76.477898232932858,356426.67604562739,305277.29911280103,2.1030849875031139E-2,0.55841920086586661,-0.37650766338221348,0.41355308841991484,-0.2371148862597475,0.24965974802474977,0,0.2821012102659744,0.66809282443536544,-0.39782126622390435,-0.1916365093915359,64.909638554216869,2.1866052111433283,74.999999999999986,55.77480382879024,{"$f":"(+(Z47-MIN(Z$4:Z$173))/(MAX(Z$4:Z$173)-MIN(Z$4:Z$173)))*100*IF('TC - Bolsas'!$E$7=\"DANE\",1,0)+AA47*IF('TC - Bolsas'!$E$7=\"DANE\",0,1)*100","v":32.726144159741196},74.569649371112305,96.361863429325041,89.19180218309549,0.27260926551485282,57.563610819356711,86.752938012944028,66.320408977432905,13042]
[null,"ALTO PATÍA Y NORTE DEL CAUCA",19821,"TORIBIO","CAUCA",36994,29956,30,{"$f":"IFERROR(VLOOKUP(C48,Hoja3!$B$2:$D$168,3,FALSE),0)","v":25669970737.190002},5547418569,2.41,48868.71,45.1,4.9315809645885883E-3,40,54.397697448730469,81.056387522300909,99.679811428514171,693895.51649429649,149954.54854841327,2.4735172414770501E-6,-0.71294807394801551,-0.50783980869510326,-0.41355308841991484,0.7191726312933403,2.071828251000599,0,1.1027578446817849,0.46805960511618716,5.8858252900757517E-2,-0.2239675573032904,39.4578313253012,4.760155335758981E-2,50,72.976626500596183,{"$f":"(+(Z48-MIN(Z$4:Z$173))/(MAX(Z$4:Z$173)-MIN(Z$4:Z$173)))*100*IF('TC - Bolsas'!$E$7=\"DANE\",1,0)+AA48*IF('TC - Bolsas'!$E$7=\"DANE\",0,1)*100","v":87.329175626710196},99.566876429215796,92.917234246344378,93.050670455905944,3.2062599583267996E-5,58.659600747568625,83.625514027969899,66.149374731689008,19821]
[null,"CHOCÓ",27745,"SIPÍ","CHOCÓ",3246,429,2243,{"$f":"IFERROR(VLOOKUP(C49,Hoja3!$B$2:$D$168,3,FALSE),0)","v":5381100839},1584498121,382.06,174165.36,69.7,0.21936623907302807,19.999999999999996,60.042110443115234,82.316697473813932,99.951984108605373,1657763.6595810228,488138.66943930992,7.2365922728484513E-3,1.13768121365089,-0.38075622637035328,-1.2406592652597448,1.2396529065320798,2.1171566979571796,0,1.1123846506154489,-0.10326913564843752,-0.93546975856481751,-0.2128451274919079,76.506024096385545,2.1174089625759014,24.999999999999993,82.339092531459656,{"$f":"(+(Z49-MIN(Z$4:Z$173))/(MAX(Z$4:Z$173)-MIN(Z$4:Z$173)))*100*IF('TC - Bolsas'!$E$7=\"DANE\",1,0)+AA49*IF('TC - Bolsas'!$E$7=\"DANE\",0,1)*100","v":88.687486129540687},99.860109242643773,83.078790110856957,84.648759147148894,9.3803251701864682E-2,62.07852922117727,74.780291424941453,65.889057882306517,27745]
[null,"CUENCA DEL CAGUÁN Y PIEDEMONTE CAQUETEÑO",18753,"SAN VICENTE DEL CAGUÁN","CAQUETÁ",53149,742,382,{"$f":"IFERROR(VLOOKUP(C50,Hoja3!$B$2:$D$168,3,FALSE),0)","v":30401415720.732841},3365525192,84.61,1807900.98,56.3,4.6800129507092803E-3,60,53.496952056884766,2.1148093096765694,88.10996763910552,572003.53197111597,63322.455587122997,1.1072544145144605E-6,0.12961485373929071,-0.50798889916715717,0.41355308841991484,0.63611346997146778,-0.76739327254914635,0,0.69352999416379313,0.54031056031832814,0.31357369162796755,-0.2239696579271411,56.325301204819276,4.5173320236867112E-2,74.999999999999986,71.482547640314024,{"$f":"(+(Z50-MIN(Z$4:Z$173))/(MAX(Z$4:Z$173)-MIN(Z$4:Z$173)))*100*IF('TC - Bolsas'!$E$7=\"DANE\",1,0)+AA50*IF('TC - Bolsas'!$E$7=\"DANE\",0,1)*100","v":2.2491723564873078},87.101783150368618,94.161416335872246,95.202974826777293,1.4352620767757757E-5,57.606271809254366,84.745276137547108,65.747973107742183,18753]
[null,"ALTO PATÍA Y NORTE DEL CAUCA",19256,"EL TAMBO","CAUCA",54198,3841,4028,{"$f":"IFERROR(VLOOKUP(C51,Hoja3!$B$2:$D$168,3,FALSE),0)","v":18849178832.299999},583922978,8737.35,272609.06,46,3.2050842330772134,80,40.464530944824219,14.518985940440606,61.920123653506401,347783.66050961288,10773.884239270821,3.36764495827538E-3,-0.64524212440171425,1.3887139788501002,1.2406592652597446,-0.56562675247159,-0.32126328541967802,1,-0.23281039164500039,0.6732159351201803,0.46807685492262613,-0.2187936191332599,40.813253012048193,30.936729870584834,100,49.865490192008991,{"$f":"(+(Z51-MIN(Z$4:Z$173))/(MAX(Z$4:Z$173)-MIN(Z$4:Z$173)))*100*IF('TC - Bolsas'!$E$7=\"DANE\",1,0)+AA51*IF('TC - Bolsas'!$E$7=\"DANE\",0,1)*100","v":15.617886438530521},58.885425679942152,96.450084858908681,96.508501634787848,4.3652597210548538E-2,56.624024123714293,86.809441632738867,65.679649376421665,19256]
[null,"MACARENA GUAVIARE",95200,"MIRAFLORES","GUAVIARE",7194,175,282,{"$f":"IFERROR(VLOOKUP(C52,Hoja3!$B$2:$D$168,3,FALSE),0)","v":5092225567},2239112380,1297.25,1274263.21,66.7,0.10180392793416676,60,36.986202239990234,6.3525159855435085,98.831097541771612,707843.42048929667,311247.20322490967,0,0.91199471516321862,-0.45042891723895384,0.41355308841991484,-0.88636895958220419,-0.61497944605830812,0,1.0727386529019987,0.45979204436845916,-0.41537396168694235,-0.22397136032655213,71.98795180722891,0.98265143416838496,74.999999999999986,44.095938180917152,{"$f":"(+(Z52-MIN(Z$4:Z$173))/(MAX(Z$4:Z$173)-MIN(Z$4:Z$173)))*100*IF('TC - Bolsas'!$E$7=\"DANE\",1,0)+AA52*IF('TC - Bolsas'!$E$7=\"DANE\",0,1)*100","v":6.8163992349505307},98.652490897495525,92.774864488358077,89.043484737735881,0,57.544556699165426,83.497378039522275,65.330403101272481,95200]
[null,"BAJO CAUCA Y NORDESTE ANTIOQUEÑO",5790,"TARAZÁ","ANTIOQUIA",28429,83,451,{"$f":"IFERROR(VLOOKUP(C53,Hoja3!$B$2:$D$168,3,FALSE),0)","v":4467735447.9117641},2521401150,3531.32,122721.63,53.5,2.8775041530983576,80,48.778339385986328,1.8783636427591546,32.509206484745853,157154.1541352761,88691.165711069683,4.5074838942475312E-2,-8.1025878182535718E-2,1.1945753520573696,1.2406592652597446,0.2010027110426878,-0.77589730352828179,0,-1.2730808251795005,0.78621076393633738,0.2389846806935115,-0.15466896851711762,52.108433734939752,27.774798480232416,100,63.655719431953273,{"$f":"(+(Z53-MIN(Z$4:Z$173))/(MAX(Z$4:Z$173)-MIN(Z$4:Z$173)))*100*IF('TC - Bolsas'!$E$7=\"DANE\",1,0)+AA53*IF('TC - Bolsas'!$E$7=\"DANE\",0,1)*100","v":1.9943408903569957},27.19875534990252,98.395888091945622,94.572709715815051,0.58427589994340612,55.209557872922922,88.614726872745393,65.231108572869658,5790]
["Si","PUTUMAYO",86568,"PUERTO ASÍS","PUTUMAYO",68143,4883,2002,{"$f":"IFERROR(VLOOKUP(C54,Hoja3!$B$2:$D$168,3,FALSE),0)","v":32322238636.609287},7996311437,7469.92,278942.71000000002,44.1,2.6779405706641337,80,44.869071960449219,10.103752403034795,59.555881091860527,474329.55162832997,117346.04342338906,0.32569220681979577,-0.78817690677723928,1.076305035211123,1.2406592652597446,-0.15947703904816696,-0.48006206262599094,1,-0.31643415694520088,0.59820639658489883,0.15473368895735068,0.27677915716526585,37.951807228915662,25.84853252501718,100,57.171363394653483,{"$f":"(+(Z54-MIN(Z$4:Z$173))/(MAX(Z$4:Z$173)-MIN(Z$4:Z$173)))*100*IF('TC - Bolsas'!$E$7=\"DANE\",1,0)+AA54*IF('TC - Bolsas'!$E$7=\"DANE\",0,1)*100","v":10.859328371835945},56.338243142204306,95.15839917630079,93.860802425585248,4.221736820558454,56.146156685729778,86.064732940726557,65.121729562228808,86568]
[null,"BAJO CAUCA Y NORDESTE ANTIOQUEÑO",5736,"SEGOVIA","ANTIOQUIA",39990,574,880,{"$f":"IFERROR(VLOOKUP(C55,Hoja3!$B$2:$D$168,3,FALSE),0)","v":1284541254.6117647},10584529922,226.86,123444.68,42.8,0.18377462682069409,80,40.279819488525391,3.6359089772443114,76.655282001328629,32121.561755733052,264679.41790447611,0.25094978844985588,-0.88597438945523055,-0.40184940984003625,1.2406592652597446,-0.58265928884159057,-0.71268523385259996,0,0.28837531211027362,0.86032330108273147,-0.27845548883244442,0.16186297589462911,35.993975903614448,1.7738647640972574,100,49.559106740473901,{"$f":"(+(Z55-MIN(Z$4:Z$173))/(MAX(Z$4:Z$173)-MIN(Z$4:Z$173)))*100*IF('TC - Bolsas'!$E$7=\"DANE\",1,0)+AA55*IF('TC - Bolsas'!$E$7=\"DANE\",0,1)*100","v":3.8885513456231284},74.760758711865108,99.672127154377847,90.200423747991039,3.2528993320257653,53.890971946569479,90.030204372142649,64.732741674241424,5736]
[null,"BAJO CAUCA Y NORDESTE ANTIOQUEÑO",5250,"EL BAGRE","ANTIOQUIA",54681,880,2211,{"$f":"IFERROR(VLOOKUP(C56,Hoja3!$B$2:$D$168,3,FALSE),0)","v":13463665570.211765},7064013563,1152.82,156007.49,53.7,0.73895170033182389,60,44.485382080078125,5.6527861597264133,85.902860419824165,246222.00709957327,129185.88838901995,0.45088219720462386,-6.5980111616690748E-2,-7.2826611246133807E-2,0.41355308841991484,-0.19485769151646376,-0.64014600628058527,1,0.61546413954645818,0.73341617305615925,0.11992220972608744,0.46925828671558983,52.409638554216876,7.1326515867030107,74.999999999999986,56.53493167448449,{"$f":"(+(Z56-MIN(Z$4:Z$173))/(MAX(Z$4:Z$173)-MIN(Z$4:Z$173)))*100*IF('TC - Bolsas'!$E$7=\"DANE\",1,0)+AA56*IF('TC - Bolsas'!$E$7=\"DANE\",0,1)*100","v":6.0622590566475028},84.723894747938829,97.486750154415276,93.566651041278377,5.8444934628916707,54.566989322266146,88.322524485262917,64.693649871165178,5250]
[null,"MACARENA GUAVIARE",95015,"CALAMAR","GUAVIARE",10282,409,395,{"$f":"IFERROR(VLOOKUP(C57,Hoja3!$B$2:$D$168,3,FALSE),0)","v":3048888520},671163562,202.59,1331090.3999999999,58,1.5219852836441464E-2,40,54.580039978027344,7.8194903715230497,99.373613648181106,296526.79634312389,65275.58471114569,0,0.25750386954897136,-0.50174251800086833,-0.41355308841991484,0.73598672514695807,-0.56221808321918509,1,1.0919275636719594,0.70359822326801946,0.30783110681083026,-0.22397136032655213,58.885542168674696,0.1469079879435739,50,73.279080580094274,{"$f":"(+(Z57-MIN(Z$4:Z$173))/(MAX(Z$4:Z$173)-MIN(Z$4:Z$173)))*100*IF('TC - Bolsas'!$E$7=\"DANE\",1,0)+AA57*IF('TC - Bolsas'!$E$7=\"DANE\",0,1)*100","v":8.3974442100117557},99.236985726877919,96.973276540550231,95.154450911368855,0,54.672907628581022,87.275948886495215,64.453820005955279,95015]
[null,"CATATUMBO",54810,"TIBÚ","NORTE DE SANTANDER",59536,719,66,{"$f":"IFERROR(VLOOKUP(C58,Hoja3!$B$2:$D$168,3,FALSE),0)","v":90216440023},16650040406,22229.599999999999,274914.38,57.6,8.0860084510675652,80,47.655773162841797,1.3185299650631552,22.159758156709497,1515325.8536515723,279663.40375571081,0.18486768680287496,0.22741233641728195,4.2813682734005862,1.2406592652597446,9.7489099020103498E-2,-0.79603234343135143,0,-1.6391430270915464,-1.8839732225746829E-2,-0.32251136234902844,6.0261998334298558E-2,58.283132530120476,78.049324445295127,100,61.793703285714329,{"$f":"(+(Z58-MIN(Z$4:Z$173))/(MAX(Z$4:Z$173)-MIN(Z$4:Z$173)))*100*IF('TC - Bolsas'!$E$7=\"DANE\",1,0)+AA58*IF('TC - Bolsas'!$E$7=\"DANE\",0,1)*100","v":1.3909750569445192},16.048489093786038,84.53268855793138,89.828158723122058,2.3963199117594867,59.366670477458833,76.319051693314194,64.452384842215437,54810]
[null,"PUTUMAYO",86757,"SAN MIGUEL","PUTUMAYO",19703,2721,649,{"$f":"IFERROR(VLOOKUP(C59,Hoja3!$B$2:$D$168,3,FALSE),0)","v":15322114811},15285142471,4106.1499999999996,39634.17,48.5,10.360126123493943,80,39.598728179931641,17.103994315586458,9.1421513360896753,777653.90097954625,775777.41821042483,0.11838385018541647,-0.45717004232865471,5.6291122574622383,1.2406592652597446,-0.64546379873699511,-0.22829058860454465,0,-2.0995785658122363,0.41841217908632694,-1.7811844075335046,-4.1956645200681847E-2,44.578313253012041,100,100,48.429371151145297,{"$f":"(+(Z59-MIN(Z$4:Z$173))/(MAX(Z$4:Z$173)-MIN(Z$4:Z$173)))*100*IF('TC - Bolsas'!$E$7=\"DANE\",1,0)+AA59*IF('TC - Bolsas'!$E$7=\"DANE\",0,1)*100","v":18.403902705124374},2.023608011560373,92.062291386631387,77.502606779703953,1.5345330616516035,55.74546835307796,83.009515554133415,63.924682513394593,86757]
[null,"BAJO CAUCA Y NORDESTE ANTIOQUEÑO",5120,"CÁCERES","ANTIOQUIA",30833,1674,594,{"$f":"IFERROR(VLOOKUP(C60,Hoja3!$B$2:$D$168,3,FALSE),0)","v":43597271062},1588391636,1869.62,188737.51,66.400000000000006,0.99059270200184368,80,45.974880218505859,7.3557551973534849,40.081432268414162,1413980.8342360458,51515.961340122594,5.0722823913337933E-2,0.88942606531445167,7.6307116641465972E-2,1.2406592652597446,-5.7508705567401543E-2,-0.57889683372735212,1,-1.0052495789249751,4.1232096831715179E-2,0.34828711316909017,-0.14598521330982672,71.536144578313269,9.5615892142031864,100,59.005582872038133,{"$f":"(+(Z60-MIN(Z$4:Z$173))/(MAX(Z$4:Z$173)-MIN(Z$4:Z$173)))*100*IF('TC - Bolsas'!$E$7=\"DANE\",1,0)+AA60*IF('TC - Bolsas'!$E$7=\"DANE\",0,1)*100","v":7.897649412033493},35.356903587679341,85.567142615865549,95.49629763941951,0.6574870656212034,58.157804890845853,77.076177060841118,63.833316541844425,5120]
[null,"CUENCA DEL CAGUÁN Y PIEDEMONTE CAQUETEÑO",41020,"ALGECIRAS","HUILA",22760,13,23,{"$f":"IFERROR(VLOOKUP(C61,Hoja3!$B$2:$D$168,3,FALSE),0)","v":64827074259.172974},392828139,0,58945.29,45.2,0,80,58.330116271972656,0.15817223198594024,99.83921040185119,2848289.7301921342,17259.584314586995,0,-0.70542519066509302,-0.51076248444646211,1.2406592652597446,1.0817872084887474,-0.83776589785683631,0,1.1083958204765141,-0.80894839857278755,0.44900761760343277,-0.22397136032655213,39.608433734939766,0,100,79.499384082006301,{"$f":"(+(Z61-MIN(Z$4:Z$173))/(MAX(Z$4:Z$173)-MIN(Z$4:Z$173)))*100*IF('TC - Bolsas'!$E$7=\"DANE\",1,0)+AA61*IF('TC - Bolsas'!$E$7=\"DANE\",0,1)*100","v":0.14038896581098362},99.738609350365294,70.926791601974955,96.347369655366549,0,63.796393862525107,63.834112441777464,63.807709436300811,41020]
[null,"URABÁ ANTIOQUEÑO",5480,"MUTATÁ","ANTIOQUIA",14612,2115,1187,{"$f":"IFERROR(VLOOKUP(C62,Hoja3!$B$2:$D$168,3,FALSE),0)","v":2604992912},4463138406,5.99,119840.93,57.8,4.9982923196607376E-3,60,47.675437927246094,22.597864768683273,55.472252037162804,178277.64248562825,305443.36203120725,1.3830530014586308E-2,0.24245810298312639,-0.50780027255827209,0.41355308841991484,9.9302418137580478E-2,-3.0697436919467445E-2,0,-0.46087299041472191,0.77368990609253063,-0.39830952395463998,-0.20270697353137729,58.584337349397586,4.824547751717085E-2,74.999999999999986,61.82632150286522,{"$f":"(+(Z62-MIN(Z$4:Z$173))/(MAX(Z$4:Z$173)-MIN(Z$4:Z$173)))*100*IF('TC - Bolsas'!$E$7=\"DANE\",1,0)+AA62*IF('TC - Bolsas'!$E$7=\"DANE\",0,1)*100","v":24.324971509407646},51.938631703230897,98.180275342865613,89.187676484028216,0.17927618956729971,53.060248224629667,88.380175427535789,63.656226385501498,5480]
[null,"PACÍFICO MEDIO",19809,"TIMBIQUÍ","CAUCA",26824,3372,17248,{"$f":"IFERROR(VLOOKUP(C63,Hoja3!$B$2:$D$168,3,FALSE),0)","v":32725182351},3494872231,3376.08,211187.54,72.400000000000006,1.5986170396226973,60,36.634208679199219,76.871458395466746,28.33552983134463,1219996.3596406204,130289.00354160453,2.5731947298843379E-2,1.3407990622897945,0.43664957082821393,0.41355308841991484,-0.91882684414611371,1.9213126276691967,1,-1.420704661483327,0.15621556878625995,0.11667883362316027,-0.18440859015226488,80.57228915662651,15.430478553706692,74.999999999999986,43.512081585152977,{"$f":"(+(Z63-MIN(Z$4:Z$173))/(MAX(Z$4:Z$173)-MIN(Z$4:Z$173)))*100*IF('TC - Bolsas'!$E$7=\"DANE\",1,0)+AA63*IF('TC - Bolsas'!$E$7=\"DANE\",0,1)*100","v":82.818830231312944},22.702128623790774,87.547190851869189,93.539245036375036,0.33354654210778595,56.797124320426477,78.825826420893051,63.40573495056644,19809]
[null,"BAJO CAUCA Y NORDESTE ANTIOQUEÑO",5895,"ZARAGOZA","ANTIOQUIA",26106,1965,7885,{"$f":"IFERROR(VLOOKUP(C64,Hoja3!$B$2:$D$168,3,FALSE),0)","v":12482620938.641766},8776545383,807.18,105732.6,58,0.76341639191696786,60,45.979221343994141,37.730789856737914,46.469830201795908,478151.41877889243,336188.82184172224,0.12162646882299015,0.25750386954897136,-5.8327739307540684E-2,0.41355308841991484,-5.710840350034261E-2,0.51357501870011857,1,-0.77929057704764615,0.59594100109261927,-0.48870723936022764,-3.6971131495430548E-2,58.885542168674696,7.3687943835524115,74.999999999999986,59.012783557027028,{"$f":"(+(Z64-MIN(Z$4:Z$173))/(MAX(Z$4:Z$173)-MIN(Z$4:Z$173)))*100*IF('TC - Bolsas'!$E$7=\"DANE\",1,0)+AA64*IF('TC - Bolsas'!$E$7=\"DANE\",0,1)*100","v":40.634619037759542},42.239621936469426,95.119388418736321,88.423830370276946,1.5765650237637585,53.465949777741947,85.765106079239061,63.155696668191084,5895]
[null,"CATATUMBO",54720,"SARDINATA","NORTE DE SANTANDER",27171,2,16,{"$f":"IFERROR(VLOOKUP(C65,Hoja3!$B$2:$D$168,3,FALSE),0)","v":24284600385.745098},3444177130,5135.03,144035.57999999999,53.8,3.5651121757554631,80,53.533981323242188,6.6247101689301091E-2,18.279337328424202,893769.10624360887,126759.30698170843,6.1871673525941265E-2,-5.845722833376879E-2,1.6020826623276756,1.2406592652597446,0.63952799735718047,-0.84107208724907723,0,-1.7763943421108652,0.34958538521108445,0.12705683762947681,-0.12884389983640207,52.560240963855406,34.411860755929993,100,71.543968597420474,{"$f":"(+(Z65-MIN(Z$4:Z$173))/(MAX(Z$4:Z$173)-MIN(Z$4:Z$173)))*100*IF('TC - Bolsas'!$E$7=\"DANE\",1,0)+AA65*IF('TC - Bolsas'!$E$7=\"DANE\",0,1)*100","v":4.1315821299121314E-2},11.867809694290887,90.877074333381032,93.626937496224855,0.80200237157827403,55.046331024121727,81.869567137200761,63.093301858045436,54720]
[null,"MONTES DE MARÍA",70713,"SAN ONOFRE","SUCRE",51813,3497,42571,{"$f":"IFERROR(VLOOKUP(C66,Hoja3!$B$2:$D$168,3,FALSE),0)","v":12573642711.921764},-685228119,0,103988.43,69,0,40,38.180973052978516,88.912049099646808,44.369802672620857,242673.51266905534,-13225.023044409703,0.21058154714175026,1.0850210306704331,-0.51076248444646211,-0.41355308841991484,-0.77619724780101573,2.3543658431937629,0,-0.85356900011327341,0.73551952803177412,0.53863837535671899,9.9796959877079663E-2,75.451807228915655,0,50,46.077721080644388,{"$f":"(+(Z66-MIN(Z$4:Z$173))/(MAX(Z$4:Z$173)-MIN(Z$4:Z$173)))*100*IF('TC - Bolsas'!$E$7=\"DANE\",1,0)+AA66*IF('TC - Bolsas'!$E$7=\"DANE\",0,1)*100","v":95.79568627703145},39.977098818976941,97.522970527990381,97.104735100668464,2.7296320043371014,52.382039112461698,88.043636675625052,63.080518381410698,70713]
["Si","ARAUCA",81065,"ARAUQUITA","ARAUCA",57562,1131,2989,{"$f":"IFERROR(VLOOKUP(C67,Hoja3!$B$2:$D$168,3,FALSE),0)","v":55540070573.099998},19748514920,0,315228.90999999997,49.2,0,60,55.249259948730469,7.157499739411417,77.376666866972073,964873.88508217223,343082.50095549144,0.63728614230109371,-0.40450985934819783,-0.51076248444646211,0.41355308841991484,0.79769656014544932,-0.58602731143118292,1,0.31389084916823462,0.30743833008994814,-0.50897601551334359,0.75585363660438654,45.632530120481931,0,74.999999999999986,74.389125016799483,{"$f":"(+(Z67-MIN(Z$4:Z$173))/(MAX(Z$4:Z$173)-MIN(Z$4:Z$173)))*100*IF('TC - Bolsas'!$E$7=\"DANE\",1,0)+AA67*IF('TC - Bolsas'!$E$7=\"DANE\",0,1)*100","v":7.6839777906653595},75.537962778217832,90.151290003452786,88.252562481198254,8.2607268944350256,54.853423223255497,81.96223369255101,62.986066364044149,81065]
[null,"ALTO PATÍA Y NORTE DEL CAUCA",19455,"MIRANDA","CAUCA",32344,5135,785,{"$f":"IFERROR(VLOOKUP(C68,Hoja3!$B$2:$D$168,3,FALSE),0)","v":52463606705.959999},3800753599,38.46,18834.04,21.6,{"$f":"+K68*100/L68","v":0.20420472718545782},80,55.324966430664063,{"$f":"(+(G68+H68)/F68)*100","v":18.303240168191937},98.194146496365818,{"$f":"+I68/F68","v":1622050.6649134306},{"$f":"+J68/F68","v":117510.31409225822},1.19112406854597E-4,{"$f":"+(M68-AVERAGE(M$4:M$173))/STDEVP(M$4:M$173)","v":-2.4808256454347748},{"$f":"+(N68-AVERAGE(N$4:N$173))/STDEVP(N$4:N$173)","v":-0.38974161735671775},{"$f":"+(O68-AVERAGE(O$4:O$173))/STDEVP(O$4:O$173)","v":1.2406592652597446},{"$f":"+(P68-AVERAGE(P$4:P$173))/STDEVP(P$4:P$173)","v":0.80467757492827152},{"$f":"+(Q68-AVERAGE(Q$4:Q$173))/STDEVP(Q$4:Q$173)","v":-0.1851583797757031},0,{"$f":"+(R68-AVERAGE(R$4:R$173))/STDEVP(R$4:R$173)","v":1.0502095581327835},{"$f":"+(S68-AVERAGE(S$4:S$173))/STDEVP(S$4:S$173)*-1","v":-8.2100410010273822E-2},{"$f":"+(T68-AVERAGE(T$4:T$173))/STDEVP(T$4:T$173)*-1","v":0.15425070079371808},{"$f":"+(U68-AVERAGE(U$4:U$173))/STDEVP(U$4:U$173)","v":-0.22378822545834468},{"$f":"(+(V68-MIN(V$4:V$173))/(MAX(V$4:V$173)-MIN(V$4:V$173)))*100","v":4.0662650602409638},{"$f":"(+(W68-MIN(W$4:W$173))/(MAX(W$4:W$173)-MIN(W$4:W$173)))*100","v":1.9710641043488557},{"$f":"(+(X68-MIN(X$4:X$173))/(MAX(X$4:X$173)-MIN(X$4:X$173)))*100","v":100},{"$f":"(+(Y68-MIN(Y$4:Y$173))/(MAX(Y$4:Y$173)-MIN(Y$4:Y$173)))*100","v":74.514700407212032},{"$f":"(+(Z68-MIN(Z$4:Z$173))/(MAX(Z$4:Z$173)-MIN(Z$4:Z$173)))*100*IF('TC - Bolsas'!$E$7=\"DANE\",1,0)+AA68*IF('TC - Bolsas'!$E$7=\"DANE\",0,1)*100","v":19.696400820460489},{"$f":"(+(AB68-MIN(AB$4:AB$173))/(MAX(AB$4:AB$173)-MIN(AB$4:AB$173)))*100","v":97.966253957778974},{"$f":"(+(AC68-MIN(AC$4:AC$173))/(MAX(AC$4:AC$173)-MIN(AC$4:AC$173)))*100","v":83.443321613913852},{"$f":"(+(AD68-MIN(AD$4:AD$173))/(MAX(AD$4:AD$173)-MIN(AD$4:AD$173)))*100","v":93.856721253510017},{"$f":"(+(AE68-MIN(AE$4:AE$173))/(MAX(AE$4:AE$173)-MIN(AE$4:AE$173)))*100","v":1.5439768691844677E-3},{"$f":"+SUMPRODUCT($AF$1:$AK$1,AF68:AK68)","v":57.577877679638377},{"$f":"SUMPRODUCT(AL68:AN68,$AL$1:$AN$1)","v":75.099143850209387},{"$f":"+SUMPRODUCT(AO68:AP68,$AO$1:$AP$1)","v":62.83425753080968},19455]
[null,"CUENCA DEL CAGUÁN Y PIEDEMONTE CAQUETEÑO",18150,"CARTAGENA DEL CHAIRÁ","CAQUETÁ",31480,179,376,{"$f":"IFERROR(VLOOKUP(C69,Hoja3!$B$2:$D$168,3,FALSE),0)","v":9458579027.8700008},2474916452,304.36,1276528.6599999999,63.3,2.3842786263803904E-2,60,36.974308013916016,1.7630241423125792,72.172501144777229,300463.12032623892,78618.692884371034,0,0.65621668354385732,-0.49663218145469828,0.41355308841991484,-0.88746574503483144,-0.78004561674418116,0,0.12981839399967099,0.70126498397523329,0.2685997372784521,-0.22397136032655213,66.867469879518055,0.23013992281170118,74.999999999999986,44.076209063346546,{"$f":"(+(Z69-MIN(Z$4:Z$173))/(MAX(Z$4:Z$173)-MIN(Z$4:Z$173)))*100*IF('TC - Bolsas'!$E$7=\"DANE\",1,0)+AA69*IF('TC - Bolsas'!$E$7=\"DANE\",0,1)*100","v":1.8700326956468609},69.931109967886712,96.933097493359156,94.822952166959269,0,51.638419545601785,87.239787744023246,62.31883000512822,18150]
[null,"CUENCA DEL CAGUÁN Y PIEDEMONTE CAQUETEÑO",18610,"SAN JOSÉ DEL FRAGUA","CAQUETÁ",13237,451,98,{"$f":"IFERROR(VLOOKUP(C70,Hoja3!$B$2:$D$168,3,FALSE),0)","v":39334070191.5},90076327,781.94,132179.04999999999,48.7,0.5915763504125654,80,53.164588928222656,4.1474654377880187,85.404718582900799,2971524.5290851402,6804.88985419657,1.2173459416808047E-4,-0.44212427576280972,-0.16016784413877413,1.2406592652597446,0.60546573869146447,-0.69428653767535087,0,0.59784475618331834,-0.88199530127925851,0.47974648117247032,-0.22378419385541806,44.879518072289159,5.7101269169979627,100,70.931252314279917,{"$f":"(+(Z70-MIN(Z$4:Z$173))/(MAX(Z$4:Z$173)-MIN(Z$4:Z$173)))*100*IF('TC - Bolsas'!$E$7=\"DANE\",1,0)+AA70*IF('TC - Bolsas'!$E$7=\"DANE\",0,1)*100","v":4.4398859695488779},84.187207773043767,69.668903069032979,96.607108094252879,1.5779665824780366E-3,61.805236531925061,62.702170558787934,62.074316739983921,18610]
[null,"ALTO PATÍA Y NORTE DEL CAUCA",52405,"LEIVA","NARIÑO",9569,1,93,{"$f":"IFERROR(VLOOKUP(C71,Hoja3!$B$2:$D$168,3,FALSE),0)","v":15031510063},1433876138,642.48,32022.17,55.3,2.0063599687341616,80,50.259098052978516,0.98233880238269411,35.793738050596318,1570854.8503500889,149845.97533702583,0,5.4386020910066911E-2,0.67829629228714627,1.2406592652597446,0.33754581646834753,-0.80812383193109527,0,-1.1569062408794146,-5.1754308754947423E-2,5.917747955484437E-2,-0.22397136032655213,54.819277108433731,19.366173199226637,100,66.111874347161105,{"$f":"(+(Z71-MIN(Z$4:Z$173))/(MAX(Z$4:Z$173)-MIN(Z$4:Z$173)))*100*IF('TC - Bolsas'!$E$7=\"DANE\",1,0)+AA71*IF('TC - Bolsas'!$E$7=\"DANE\",0,1)*100","v":1.028641976356331},30.737436864610913,83.965890146928317,93.053367869640752,0,55.836327338368903,75.569301132235481,61.756219476528869,52405]
[null,"SUR DEL TOLIMA",73555,"PLANADAS","TOLIMA",25871,1656,51,{"$f":"IFERROR(VLOOKUP(C72,Hoja3!$B$2:$D$168,3,FALSE),0)","v":15441097123.93},5740118001,0,159762.71,55.4,0,40,48.985683441162109,6.5981214487263724,99.708849422353452,596849.64338177885,221874.60867380464,0,6.1908904192989396E-2,-0.51076248444646211,-0.41355308841991484,0.22012223525439373,-0.60614597283470495,0,1.1037849247373586,0.52558313349447638,-0.15260090780902608,-0.22397136032655213,54.969879518072283,0,50,63.999643888795113,{"$f":"(+(Z72-MIN(Z$4:Z$173))/(MAX(Z$4:Z$173)-MIN(Z$4:Z$173)))*100*IF('TC - Bolsas'!$E$7=\"DANE\",1,0)+AA72*IF('TC - Bolsas'!$E$7=\"DANE\",0,1)*100","v":7.0811027547420942},99.598161320215667,93.907805838574262,91.263874656912904,0,51.94173915488004,84.517025254716842,61.714324984831073,73555]
["Si","PUTUMAYO",86573,"LEGUÍZAMO","PUTUMAYO",29903,6307,753,{"$f":"IFERROR(VLOOKUP(C73,Hoja3!$B$2:$D$168,3,FALSE),0)","v":50144566695.327858},368890150,1924.43,1074501.19,53.6,0.1790998481816479,60,44.079574584960938,23.609671270441094,88.208679194152865,1676907.5576138801,12336.225462328195,2.932295969749455E-5,-7.3502994899613233E-2,-0.4046198930318195,0.41355308841991484,-0.23227784432290444,5.6933075082765874E-3,0,0.6970214429878725,-0.11461659975427699,0.46348326360479331,-0.2239262763886026,52.25903614457831,1.7287419674891624,74.999999999999986,55.861813160321169,{"$f":"(+(Z73-MIN(Z$4:Z$173))/(MAX(Z$4:Z$173)-MIN(Z$4:Z$173)))*100*IF('TC - Bolsas'!$E$7=\"DANE\",1,0)+AA73*IF('TC - Bolsas'!$E$7=\"DANE\",0,1)*100","v":25.415455161083887},87.208132792054499,82.883383537164661,96.46968652911238,3.8009450656312482E-4,56.169809492645371,74.595083192898855,61.69739160272141,86573]
[null,"SUR DE CÓRDOBA",23580,"PUERTO LIBERTADOR","CÓRDOBA",43937,5815,548,{"$f":"IFERROR(VLOOKUP(C74,Hoja3!$B$2:$D$168,3,FALSE),0)","v":22861443342.111763},9909711313,1374.26,157361.84,58.9,0.87331210667084225,60,40.398818969726563,14.482099369551859,57.8060539402424,520323.2660880753,225543.64915674715,0.50306379049190564,0.32520981909527269,6.8013831778677399E-3,0.41355308841991484,-0.57168615792603394,-0.32258995190353257,0,-0.3783259177216276,0.57094381803217076,-0.16338861043024966,0.54948728604381614,60.240963855421683,8.4295509172461554,74.999999999999986,49.756492828548019,{"$f":"(+(Z74-MIN(Z$4:Z$173))/(MAX(Z$4:Z$173)-MIN(Z$4:Z$173)))*100*IF('TC - Bolsas'!$E$7=\"DANE\",1,0)+AA74*IF('TC - Bolsas'!$E$7=\"DANE\",0,1)*100","v":15.57813160156249},54.453018150078961,94.688929785138384,91.172720309852735,6.5208896096935902,51.318212311186649,85.872125767593914,61.684386348108823,23580]
["Si","SIERRA NEVADA-PERIJÁ-ZONA BANANERA",20001,"VALLEDUPAR","CESAR",544134,31279,33042,{"$f":"IFERROR(VLOOKUP(C75,Hoja3!$B$2:$D$168,3,FALSE),0)","v":80315772226.431763},613529599,0,418363.77,61.6,0,19.999999999999996,53.17755126953125,11.820801493749702,99.577077077275973,147602.92910649171,1127.5340247071492,3.3934275736328614E-4,0.52832766773417716,-0.51076248444646211,-1.2406592652597448,0.60666101674407102,-0.41830648532782055,0,1.0991241086956469,0.79187221193375701,0.49643902698877707,-0.22344962214001093,64.307228915662648,0,24.999999999999993,70.952753129387318,{"$f":"(+(Z75-MIN(Z$4:Z$173))/(MAX(Z$4:Z$173)-MIN(Z$4:Z$173)))*100*IF('TC - Bolsas'!$E$7=\"DANE\",1,0)+AA75*IF('TC - Bolsas'!$E$7=\"DANE\",0,1)*100","v":12.709893632384478},99.45619271607022,98.493379843846697,96.748157413842364,4.3986800529833489E-3,49.491414679658973,88.644481727467337,61.237334794001477,20001]
[null,"MONTES DE MARÍA",70508,"OVEJAS","SUCRE",23759,1033,550,{"$f":"IFERROR(VLOOKUP(C76,Hoja3!$B$2:$D$168,3,FALSE),0)","v":5610743991.6117649},7094794168,0,41670.949999999997,51.5,0,60,33.096023559570313,6.6627383307378256,86.56941425955273,236152.36296189929,298615.01612020709,0.16871674469038661,-0.23148354384098332,-0.51076248444646211,0.41355308841991484,-1.2450885062077137,-0.60382195491733526,0,0.63904029148520236,0.7393849117746123,-0.37823284030255833,3.542998684781011E-2,49.096385542168676,0,74.999999999999986,37.643244909596604,{"$f":"(+(Z76-MIN(Z$4:Z$173))/(MAX(Z$4:Z$173)-MIN(Z$4:Z$173)))*100*IF('TC - Bolsas'!$E$7=\"DANE\",1,0)+AA76*IF('TC - Bolsas'!$E$7=\"DANE\",0,1)*100","v":7.1507441865112726},85.442025082178617,97.58953354032063,89.357321222458282,2.1869657252752925,49.629304271330973,88.049276758816106,61.155296017576511,70508]
[null,"CHOCÓ",5873,"VIGÍA DEL FUERTE","ANTIOQUIA",9569,1035,6675,{"$f":"IFERROR(VLOOKUP(C77,Hoja3!$B$2:$D$168,3,FALSE),0)","v":3862557887},1077446023,0,166259.35,76.099999999999994,0,19.999999999999996,19.206764221191406,80.572682620963533,99.899642814532413,403653.24349461804,112597.55700700177,1.0844439781728661E-4,1.6191457437579218,-0.51076248444646211,-1.2406592652597448,-2.5258391405949214,2.0544312670788365,0,1.1105333278442273,0.64009947751878449,0.16869517550923083,-0.22380462748127977,86.144578313252993,0,24.999999999999993,14.604938024754663,{"$f":"(+(Z77-MIN(Z$4:Z$173))/(MAX(Z$4:Z$173)-MIN(Z$4:Z$173)))*100*IF('TC - Bolsas'!$E$7=\"DANE\",1,0)+AA77*IF('TC - Bolsas'!$E$7=\"DANE\",0,1)*100","v":86.807858273809529},99.803717892437973,95.879809998168213,93.978774734918474,1.4056943877132938E-3,50.051246778848181,86.291969567790161,60.923463615530764,5873]
[null,"PACÍFICO MEDIO",19318,"GUAPI","CAUCA",27917,239,22811,{"$f":"IFERROR(VLOOKUP(C78,Hoja3!$B$2:$D$168,3,FALSE),0)","v":49930483828},3292676207,1825.15,251264.5,68.900000000000006,0.72638593991590539,60,35.067138671875,82.566178314288791,27.815421231783365,1788533.2889637139,117945.20209907941,2.3135888575883012E-2,1.0774981473875112,-8.0273643653935675E-2,0.41355308841991484,-1.0633288551686764,2.1261295534286226,1,-1.4391010139413631,-0.18078227706859873,0.15297204428585606,-0.18840002047126181,75.301204819277118,7.0113619395873945,74.999999999999986,40.912760853988594,{"$f":"(+(Z78-MIN(Z$4:Z$173))/(MAX(Z$4:Z$173)-MIN(Z$4:Z$173)))*100*IF('TC - Bolsas'!$E$7=\"DANE\",1,0)+AA78*IF('TC - Bolsas'!$E$7=\"DANE\",0,1)*100","v":88.956366372424711},22.141775145674092,81.743991671331969,93.845916812269763,0.29989551678522491,54.910832237705463,73.599582055877306,60.517457183157013,19318]
[null,"ARAUCA",81794,"TAME","ARAUCA",50138,1553,1134,{"$f":"IFERROR(VLOOKUP(C79,Hoja3!$B$2:$D$168,3,FALSE),0)","v":54463316205.695099},10935840535,0,538636.14,41.9,0,60,48.153064727783203,5.3592085843073116,85.046096279916085,1086268.2238161694,218114.81381387371,0.63821249725384932,-0.95368033900153193,-0.51076248444646211,0.41355308841991484,0.14334514301477558,-0.65070484979289001,0,0.58516020858963413,0.23548235231197065,-0.14154636942104629,0.75727790378751303,34.638554216867462,0,74.999999999999986,62.618567693905334,{"$f":"(+(Z79-MIN(Z$4:Z$173))/(MAX(Z$4:Z$173)-MIN(Z$4:Z$173)))*100*IF('TC - Bolsas'!$E$7=\"DANE\",1,0)+AA79*IF('TC - Bolsas'!$E$7=\"DANE\",0,1)*100","v":5.7458531569650084},83.800836051873986,88.912187509439349,91.35728372316072,8.272734632818274,51.346135105632158,80.848242221777241,60.19676724047568,81794]
[null,"SIERRA NEVADA-PERIJÁ-ZONA BANANERA",47001,"SANTA MARTA","MAGDALENA",546979,7809,16914,{"$f":"IFERROR(VLOOKUP(C80,Hoja3!$B$2:$D$168,3,FALSE),0)","v":0},22722776827,2.4900000000000002,234631.71,41.4,1.0612376306680799E-3,19.999999999999996,66.258033752441406,4.5199175836732302,99.776068014793879,0,41542.32032125548,0.47336711457338693,-0.99129475541614376,-0.5101335474966574,-1.2406592652597448,1.8128330544269138,-0.68089088264751063,0,1.1061624607352447,0.87936322014315926,0.37761158474757989,0.50382876083933403,33.885542168674689,1.0243481768639246E-2,24.999999999999993,92.649530639357565,{"$f":"(+(Z80-MIN(Z$4:Z$173))/(MAX(Z$4:Z$173)-MIN(Z$4:Z$173)))*100*IF('TC - Bolsas'!$E$7=\"DANE\",1,0)+AA80*IF('TC - Bolsas'!$E$7=\"DANE\",0,1)*100","v":4.8412996542938806},99.670581141960341,100,95.744084694131431,6.135950862163873,46.992756046506756,90.613595086216392,60.07900775841965,47001]
[null,"ALTO PATÍA Y NORTE DEL CAUCA",19364,"JAMBALÓ","CAUCA",18720,1612,30,{"$f":"IFERROR(VLOOKUP(C81,Hoja3!$B$2:$D$168,3,FALSE),0)","v":0},1375955878,60.52,23767.68,46.5,0.25463149958262649,40,41.668285369873047,8.7713675213675213,98.328480883332332,0,73501.916559829056,0,-0.60762770798710231,-0.35985645355979884,-0.41355308841991484,-0.45462664757271803,-0.52798276448341885,1,1.0549609941443296,0.87936322014315926,0.28364406879376103,-0.22397136032655213,41.566265060240966,2.4578030860569506,50,51.862174333519029,{"$f":"(+(Z81-MIN(Z$4:Z$173))/(MAX(Z$4:Z$173)-MIN(Z$4:Z$173)))*100*IF('TC - Bolsas'!$E$7=\"DANE\",1,0)+AA81*IF('TC - Bolsas'!$E$7=\"DANE\",0,1)*100","v":9.4233384580781951},98.110982849073693,100,94.950074341567287,0,47.090449460526564,90,59.963314622368593,19364]
[null,"CUENCA DEL CAGUÁN Y PIEDEMONTE CAQUETEÑO",18592,"PUERTO RICO","CAQUETÁ",26554,559,243,{"$f":"IFERROR(VLOOKUP(C82,Hoja3!$B$2:$D$168,3,FALSE),0)","v":34852686329.252167},1578629034,44.84,389361.24,54.3,1.1516297821529436E-2,60,47.475040435791016,3.0202606010393915,66.716233079832634,1312521.1391599069,59449.764028018377,4.0041553814121148E-5,-2.0842811919156892E-2,-0.50393741057459496,0.41355308841991484,8.0823447585025993E-2,-0.73482771136871228,0,-6.3170974976188204E-2,0.10137189939908518,0.32496016857679605,-0.22390979659130225,53.313253012048193,0.11115982261464573,74.999999999999986,61.493919407503853,{"$f":"(+(Z82-MIN(Z$4:Z$173))/(MAX(Z$4:Z$173)-MIN(Z$4:Z$173)))*100*IF('TC - Bolsas'!$E$7=\"DANE\",1,0)+AA82*IF('TC - Bolsas'!$E$7=\"DANE\",0,1)*100","v":3.2250307136978171},64.052647680764892,86.602767197059293,95.299188720321595,5.1903268960627356E-4,51.652950689656379,77.942542380622314,59.539828196946161,18592]
[null,"SIERRA NEVADA-PERIJÁ-ZONA BANANERA",44090,"DIBULLA","LA GUAJIRA",43026,11528,2732,{"$f":"IFERROR(VLOOKUP(C83,Hoja3!$B$2:$D$168,3,FALSE),0)","v":76568290197.401764},6704049290,0,175113.89,65.5,0,19.999999999999996,54.329795837402344,33.14275089480779,99.546771024425894,1779581.8853112482,155813.90996141869,6.3865480294231072E-2,0.82172011576814985,-0.51076248444646211,-1.2406592652597448,0.71291131600893864,0.34856110250362626,0,1.0980521771215253,-0.17547637063988203,4.1630574774109468E-2,-0.12577842958536772,70.180722891566262,0,24.999999999999993,72.863997157184755,{"$f":"(+(Z83-MIN(Z$4:Z$173))/(MAX(Z$4:Z$173)-MIN(Z$4:Z$173)))*100*IF('TC - Bolsas'!$E$7=\"DANE\",1,0)+AA83*IF('TC - Bolsas'!$E$7=\"DANE\",0,1)*100","v":35.68981835448033},99.423541646395819,81.83536089584743,92.90509935461256,0.82784679545613804,53.341457092157611,73.734609485808306,59.459402810252818,44090]
[null,"BAJO CAUCA Y NORDESTE ANTIOQUEÑO",5495,"NECHÍ","ANTIOQUIA",27784,93,2977,{"$f":"IFERROR(VLOOKUP(C84,Hoja3!$B$2:$D$168,3,FALSE),0)","v":43931060820.711769},4545243813,365.53,98444.52,61.5,0.37130558409955167,60,41.618251800537109,11.049524906420961,62.125439723249457,1581164.0088076508,163592.13263029081,5.5376955273905522E-2,0.52080478445125467,-0.29071016556854834,0.41355308841991484,-0.45924032236317935,-0.44604630427919234,0,-0.22554831832516284,-5.7865018567432473E-2,1.8761066120948251E-2,-0.13882950421246842,64.156626506024097,3.5839871027972503,74.999999999999986,51.779182958901934,{"$f":"(+(Z84-MIN(Z$4:Z$173))/(MAX(Z$4:Z$173)-MIN(Z$4:Z$173)))*100*IF('TC - Bolsas'!$E$7=\"DANE\",1,0)+AA84*IF('TC - Bolsas'!$E$7=\"DANE\",0,1)*100","v":11.878643281708291},59.106628663109163,83.860661978224869,92.711855695414542,0.7178155516002841,52.349419230902136,75.546377335562411,59.308506662300218,5495]
[null,"SUR DE BOLÍVAR",13473,"MORALES","BOLÍVAR",23688,1,156,{"$f":"IFERROR(VLOOKUP(C85,Hoja3!$B$2:$D$168,3,FALSE),0)","v":20012925411.700001},1581239018,318.26,134042.06,57.6,0.23743293709452093,60,30.723703384399414,0.66278284363390749,81.367985028704808,844855.00724839582,66752.744765281997,9.5857782873316477E-3,0.22741233641728195,-0.3700490919658499,0.41355308841991484,-1.4638439124750664,-0.81961701684835664,0,0.45506462660112706,0.37857900927160781,0.3034879649288979,-0.20923326301432807,58.283132530120476,2.2917958166174035,74.999999999999986,33.708244569177573,{"$f":"(+(Z85-MIN(Z$4:Z$173))/(MAX(Z$4:Z$173)-MIN(Z$4:Z$173)))*100*IF('TC - Bolsas'!$E$7=\"DANE\",1,0)+AA85*IF('TC - Bolsas'!$E$7=\"DANE\",0,1)*100","v":0.68423763797158754},79.838120506976438,91.376352822719795,95.11775206302849,0.12425422623553561,49.421596841364973,82.251142963071374,59.270460677876883,13473]
[null,"CUENCA DEL CAGUÁN Y PIEDEMONTE CAQUETEÑO",18001,"FLORENCIA","CAQUETÁ",174839,1439,2014,{"$f":"IFERROR(VLOOKUP(C86,Hoja3!$B$2:$D$168,3,FALSE),0)","v":20342168937.697479},3218593156,41.84,264282.21999999997,53.3,1.5831560670256217E-2,19.999999999999996,61.106792449951172,1.9749598201774206,87.077639435485807,116348.0055233528,18408.897076739173,3.6758116481074645E-4,-9.6071644748380688E-2,-0.50137999254186361,-1.2406592652597448,1.3378289231543545,-0.77242311473920189,1,0.65701632470672366,0.81039843490473706,0.44562841141736986,-0.22340620569698166,51.807228915662641,0.15281243183279938,24.999999999999993,84.105095326185975,{"$f":"(+(Z86-MIN(Z$4:Z$173))/(MAX(Z$4:Z$173)-MIN(Z$4:Z$173)))*100*IF('TC - Bolsas'!$E$7=\"DANE\",1,0)+AA86*IF('TC - Bolsas'!$E$7=\"DANE\",0,1)*100","v":2.0984482983505557},85.989575623047955,98.81240669605377,96.318815908170535,4.7647162122117712E-3,46.556027264845248,88.931642498069621,59.268711834812549,18001]
[null,"ALTO PATÍA Y NORTE DEL CAUCA",19698,"SANTANDER DE QUILICHAO","CAUCA",113925,2476,21996,{"$f":"IFERROR(VLOOKUP(C87,Hoja3!$B$2:$D$168,3,FALSE),0)","v":0},2931406943,356.05,51910.91,23.8,0.68588664694955259,60,53.293140411376953,21.48079877112135,60.335602129778344,0,25731.024296686417,9.4983207599414122E-5,-2.3153222132104823,-0.10427533851606441,0.41355308841991484,0.617319674858265,-7.0873956002489497E-2,0,-0.28885525699126519,0.87936322014315926,0.42409991333434793,-0.2238253240095556,7.3795180722891596,6.6204468823419873,74.999999999999986,71.144482440326072,{"$f":"(+(Z87-MIN(Z$4:Z$173))/(MAX(Z$4:Z$173)-MIN(Z$4:Z$173)))*100*IF('TC - Bolsas'!$E$7=\"DANE\",1,0)+AA87*IF('TC - Bolsas'!$E$7=\"DANE\",0,1)*100","v":23.121043479622902},57.178297307673887,100,96.136903571981094,1.231205710362674E-3,46.005693734870611,90.000123120571033,59.204022550580731,19698]
[null,"ARAUCA",81736,"SARAVENA","ARAUCA",64520,1564,1101,{"$f":"IFERROR(VLOOKUP(C88,Hoja3!$B$2:$D$168,3,FALSE),0)","v":50236433563.105103},1799146690,0,94289.57,39.4,0,60,53.095653533935547,4.1305021698698079,64.655065153607111,778618.00314794027,27885.100588964662,3.7475091582834922E-4,-1.1417524210745913,-0.51076248444646211,0.41355308841991484,0.59910909664065426,-0.69489664044341826,0,-0.13607492557040871,0.41784071162805714,0.41776650421211076,-0.22339518223232036,30.87349397590361,0,74.999999999999986,70.816908220752524,{"$f":"(+(Z88-MIN(Z$4:Z$173))/(MAX(Z$4:Z$173)-MIN(Z$4:Z$173)))*100*IF('TC - Bolsas'!$E$7=\"DANE\",1,0)+AA88*IF('TC - Bolsas'!$E$7=\"DANE\",0,1)*100","v":4.4216036534027783},61.831991038253541,92.052450553740812,96.083387286496304,4.8576530440774127E-3,48.805039460409532,82.847691263671138,59.017835001388008,81736]
[null,"MACARENA GUAVIARE",50711,"VISTA HERMOSA","META",16929,24,227,{"$f":"IFERROR(VLOOKUP(C89,Hoja3!$B$2:$D$168,3,FALSE),0)","v":24881259189},1944933264,505.57,483646.26,48.5,0.10453301137901903,40,55.564987182617188,1.4826628861716582,99.184804647949434,1469741.8151692362,114887.66400850611,1.3090641414478761E-4,-0.45717004232865471,-0.44881154016150576,-0.41355308841991484,0.82681026918077427,-0.790129120657173,0,1.0852493489328814,8.1800126344543991E-3,0.16196180927414425,-0.22377009221741906,44.578313253012041,1.008993617770412,50,74.912826153697793,{"$f":"(+(Z89-MIN(Z$4:Z$173))/(MAX(Z$4:Z$173)-MIN(Z$4:Z$173)))*100*IF('TC - Bolsas'!$E$7=\"DANE\",1,0)+AA89*IF('TC - Bolsas'!$E$7=\"DANE\",0,1)*100","v":1.5678708041647011},99.033567094559984,84.997976283534754,93.921878876344408,1.6968549356419481E-3,51.510949387719478,76.498348340674838,59.007169073606086,50711]
["Si","CHOCÓ",27006,"ACANDÍ","CHOCÓ",14274,118,10521,{"$f":"IFERROR(VLOOKUP(C90,Hoja3!$B$2:$D$168,3,FALSE),0)","v":57820348695.781761},2117407317,1.29,80412.66,51.4,1.6042250063609386E-3,60,45.700912475585938,74.53411797674093,89.430988957250108,4050746.0204414851,148340.15111391339,1.8639870543690779E-2,-0.2390064271239058,-0.50981174885893321,0.41355308841991484,-8.2771705702819498E-2,1.8372475839373013,1,0.74025480085544715,-1.5216992484272052,6.3604899746660906E-2,-0.19531263093331835,48.94578313253011,1.5484608847791249E-2,74.999999999999986,58.551148781337858,{"$f":"(+(Z90-MIN(Z$4:Z$173))/(MAX(Z$4:Z$173)-MIN(Z$4:Z$173)))*100*IF('TC - Bolsas'!$E$7=\"DANE\",1,0)+AA90*IF('TC - Bolsas'!$E$7=\"DANE\",0,1)*100","v":80.299740355339139},88.525022241037405,58.653018345917459,93.090778856105288,0.24161655132350965,61.559662215347892,52.811878166458065,58.935327000680942,27006]
[null,"BAJO CAUCA Y NORDESTE ANTIOQUEÑO",5107,"BRICEÑO","ANTIOQUIA",8246,3,30,{"$f":"IFERROR(VLOOKUP(C91,Hoja3!$B$2:$D$168,3,FALSE),0)","v":5048101703},1023041171,363.09,38655.97,55.4,0.93928570412280432,80,43.725357055664063,0.4001940334707737,7.2638799055436865,612187.93390734901,124065.14322095561,1.8590684354286652E-2,6.1908904192989396E-2,4.5900291801148546E-2,1.2406592652597446,-0.26494080455034241,-0.82906131500579139,0,-2.1660134282185308,0.51649142704654638,0.13497821042408009,-0.19538825451067707,54.969879518072283,9.0663539509693809,100,55.274267637185702,{"$f":"(+(Z91-MIN(Z$4:Z$173))/(MAX(Z$4:Z$173)-MIN(Z$4:Z$173)))*100*IF('TC - Bolsas'!$E$7=\"DANE\",1,0)+AA91*IF('TC - Bolsas'!$E$7=\"DANE\",0,1)*100","v":0.40123016164233527},0,93.751244056185215,93.693871818597785,0.24097898265431134,47.995587842312766,84.400217548832117,58.916976754268568,5107]
[null,"URABÁ ANTIOQUEÑO",5837,"TURBO","ANTIOQUIA",132236,2322,7255,{"$f":"IFERROR(VLOOKUP(C92,Hoja3!$B$2:$D$168,3,FALSE),0)","v":23911228321},6445092639,43.04,293482.40999999997,49.9,1.466527414709454E-2,40,59.270725250244141,7.2423545781784089,53.172540198561968,180822.38059983664,48739.319391088662,9.6038141092189815E-3,-0.3518496763677415,-0.50207118617020663,-0.41355308841991484,1.1685222543455638,-0.58297541292523114,1,-0.54221429023269463,0.77218152340264268,0.35645098810343551,-0.20920553300742473,46.686746987951807,0.14155497695957259,50,81.059585225358674,{"$f":"(+(Z92-MIN(Z$4:Z$173))/(MAX(Z$4:Z$173)-MIN(Z$4:Z$173)))*100*IF('TC - Bolsas'!$E$7=\"DANE\",1,0)+AA92*IF('TC - Bolsas'!$E$7=\"DANE\",0,1)*100","v":7.7754308642325576},49.460973136321783,98.154300562024829,95.565281065756906,0.12448801289593601,46.260110997229582,88.351319307111936,58.887473490194282,5837]
[null,"SUR DE CÓRDOBA",23466,"MONTELÍBANO","CÓRDOBA",86603,5878,746,{"$f":"IFERROR(VLOOKUP(C93,Hoja3!$B$2:$D$168,3,FALSE),0)","v":39947927650.080002},3634284936,1143.27,140804.49,41.1,0.81195564147137644,60,49.724437713623047,7.648695772663765,48.059627495395553,461276.48753599764,41964.885003983698,1.1108058123055164,-1.0138634052649107,-2.9561206084120068E-2,0.41355308841991484,0.28824393851154073,-0.56836090063133782,0,-0.72305910659212702,0.60594354478767032,0.3763691612429344,1.4838883111597545,33.433734939759034,7.8373142546023855,74.999999999999986,65.225025835146582,{"$f":"(+(Z93-MIN(Z$4:Z$173))/(MAX(Z$4:Z$173)-MIN(Z$4:Z$173)))*100*IF('TC - Bolsas'!$E$7=\"DANE\",1,0)+AA93*IF('TC - Bolsas'!$E$7=\"DANE\",0,1)*100","v":8.2133687790602075},43.952434306271641,95.291635078732511,95.733586415923867,14.398655233698115,46.679685604288125,87.20233709422908,58.836481051270411,23466]
[null,"PACÍFICO MEDIO",19418,"LÓPEZ","CAUCA",19086,901,12925,{"$f":"IFERROR(VLOOKUP(C94,Hoja3!$B$2:$D$168,3,FALSE),0)","v":62404837667},1980846626,1774.56,195128.03,81.2,0.90943366773087397,40,49.721820831298828,72.440532327360373,38.636631074588692,3269665.6013308186,103785.32044430473,2.3478410276590988E-3,2.0028127911869635,2.8208638045920054E-2,-0.41355308841991484,0.28800263164159129,1.7619494511699789,1,-1.0563525063055743,-1.0587171533272435,0.19460488893654346,-0.22036156376105029,93.825301204819283,8.7782103894326742,50,65.220685176181405,{"$f":"(+(Z94-MIN(Z$4:Z$173))/(MAX(Z$4:Z$173)-MIN(Z$4:Z$173)))*100*IF('TC - Bolsas'!$E$7=\"DANE\",1,0)+AA94*IF('TC - Bolsas'!$E$7=\"DANE\",0,1)*100","v":78.043359397055937},33.800306802257673,66.625702290148553,94.197707634063832,3.0433540341880057E-2,58.061400275187658,59.966175415167889,58.632832817181722,19418]
[null,"URABÁ ANTIOQUEÑO",5045,"APARTADÓ","ANTIOQUIA",129751,810,42854,{"$f":"IFERROR(VLOOKUP(C95,Hoja3!$B$2:$D$168,3,FALSE),0)","v":61417258980.621765},3021327821,1.86,54280.03,39.4,3.4266745983743932E-3,19.999999999999996,68.633903503417969,33.652149116384464,78.984092132318864,473347.09544143605,23285.584087983909,1.5054806199449448E-3,-1.1417524210745913,-0.50873168360827659,-1.2406592652597448,2.0319157727095551,0.36688217521974237,1,0.37074582475644013,0.59878874330954213,0.43128998983312478,-0.22165668965367219,30.87349397590361,3.3075606971653078E-2,24.999999999999993,96.59041871034087,{"$f":"(+(Z95-MIN(Z$4:Z$173))/(MAX(Z$4:Z$173)-MIN(Z$4:Z$173)))*100*IF('TC - Bolsas'!$E$7=\"DANE\",1,0)+AA95*IF('TC - Bolsas'!$E$7=\"DANE\",0,1)*100","v":36.238826916747179},77.269767134095616,95.168427353266324,96.197658558614592,1.9514568763922869E-2,46.960437859735123,85.653536074816088,58.568367324259412,5045]
[null,"ALTO PATÍA Y NORTE DEL CAUCA",52256,"EL ROSARIO","NARIÑO",12059,3,11,{"$f":"IFERROR(VLOOKUP(C96,Hoja3!$B$2:$D$168,3,FALSE),0)","v":15068898136.911764},479253632,1576.82,52010.03,52.1,3.0317613737196463,40,46.665695190429688,0.11609586201177544,82.395948237549206,1249597.6562660057,39742.402520938718,0,-0.18634624414344891,1.2859950897478094,-0.41355308841991484,6.192438747100789E-3,-0.83927922122797183,0,0.49142390525898277,0.13866952615866393,0.38290369805696806,-0.22397136032655213,50,29.263749664634268,50,60.151447236442912,{"$f":"(+(Z96-MIN(Z$4:Z$173))/(MAX(Z$4:Z$173)-MIN(Z$4:Z$173)))*100*IF('TC - Bolsas'!$E$7=\"DANE\",1,0)+AA96*IF('TC - Bolsas'!$E$7=\"DANE\",0,1)*100","v":9.5040775718320328E-2},80.94562528566658,87.245042985197102,95.788802197961814,0,49.608012284173824,78.520538686677398,58.281770204924896,52256]
[null,"ALTO PATÍA Y NORTE DEL CAUCA",19780,"SUÁREZ","CAUCA",32792,4487,11054,{"$f":"IFERROR(VLOOKUP(C97,Hoja3!$B$2:$D$168,3,FALSE),0)","v":4252981503.9117646},2916964712,804.74,39347.589999999997,44.1,2.0452078513576057,60,33.757411956787109,47.392656745547697,31.235894211711685,129695.70333958784,88953.54696267382,3.0121203949450465E-2,-0.78817690677723928,0.70131928741800842,0.41355308841991484,-1.1841008330226426,0.86107479067699044,1,-1.3181181527369354,0.80248664381572499,0.23821322806745057,-0.17766012490448571,37.951807228915662,19.741148196252471,74.999999999999986,38.740299006862294,{"$f":"(+(Z97-MIN(Z$4:Z$173))/(MAX(Z$4:Z$173)-MIN(Z$4:Z$173)))*100*IF('TC - Bolsas'!$E$7=\"DANE\",1,0)+AA97*IF('TC - Bolsas'!$E$7=\"DANE\",0,1)*100","v":51.047783875714799},25.826916927070787,98.676163393228293,94.566191065562492,0.39044162902953627,45.041351993412931,88.847591216808425,58.183223760431574,19780]
[null,"ALTO PATÍA Y NORTE DEL CAUCA",19075,"BALBOA","CAUCA",21608,14,2342,{"$f":"IFERROR(VLOOKUP(C98,Hoja3!$B$2:$D$168,3,FALSE),0)","v":15882755098.745098},720141974,561.5,40175.42,47.1,1.3976207342698597,60,52.059242248535156,10.903369122547204,28.425080333752216,735040.49883122451,33327.562661977048,1.7949844715699552E-6,-0.56249040828956787,0.317530158212737,0.41355308841991484,0.50353996808426149,-0.45130295934945158,1,-1.4175372410513751,0.44367109189895487,0.40176459236515843,-0.22396860054481893,42.46987951807229,13.490383395048026,74.999999999999986,69.097798463330804,{"$f":"(+(Z98-MIN(Z$4:Z$173))/(MAX(Z$4:Z$173)-MIN(Z$4:Z$173)))*100*IF('TC - Bolsas'!$E$7=\"DANE\",1,0)+AA98*IF('TC - Bolsas'!$E$7=\"DANE\",0,1)*100","v":11.721122557503252},22.798608350396943,92.497257081333885,95.94817371254652,2.3267219409179857E-5,47.004477444095286,83.247533699922442,57.877394320843429,19075]
[null,"MACARENA GUAVIARE",50450,"PUERTO CONCORDIA","META",8640,581,138,{"$f":"IFERROR(VLOOKUP(C99,Hoja3!$B$2:$D$168,3,FALSE),0)","v":15552386863.411764},2766675890,14.21,124257.07,53,1.1435968995567012E-2,40,48.340057373046875,8.3217592592592595,99.203624660652807,1800044.775857843,320217.11689814815,0,-0.11864029459714762,-0.50398501703456422,-0.41355308841991484,0.16058803143758923,-0.54415342491163199,0,1.0859150168092595,-0.18760566194621209,-0.44174727691603471,-0.22397136032655213,51.355421686746979,0.11038445728602889,50,62.928734985179759,{"$f":"(+(Z99-MIN(Z$4:Z$173))/(MAX(Z$4:Z$173)-MIN(Z$4:Z$173)))*100*IF('TC - Bolsas'!$E$7=\"DANE\",1,0)+AA99*IF('TC - Bolsas'!$E$7=\"DANE\",0,1)*100","v":8.9387690679469394},99.053843359142846,81.626491034407096,88.820634478145863,0,51.119823190780082,73.463841930966382,57.823028812835972,50450]
[null,"PACÍFICO Y FRONTERA NARIÑENSE",52520,"FRANCISCO PIZARRO","NARIÑO",14155,38,638,{"$f":"IFERROR(VLOOKUP(C100,Hoja3!$B$2:$D$168,3,FALSE),0)","v":49112726968},553496855,501.53,52288.58,69.5,{"$f":"+K100*100/L100","v":0.95915781227946906},40,52.2252197265625,{"$f":"(+(G100+H100)/F100)*100","v":4.775697633345108},97.831262312819419,{"$f":"+I100/F100","v":3469638.0761568351},{"$f":"+J100/F100","v":39102.568350406218},0,{"$f":"+(M100-AVERAGE(M$4:M$173))/STDEVP(M$4:M$173)","v":1.122635447085045},{"$f":"+(N100-AVERAGE(N$4:N$173))/STDEVP(N$4:N$173)","v":5.7677393111034453E-2},{"$f":"+(O100-AVERAGE(O$4:O$173))/STDEVP(O$4:O$173)","v":-0.41355308841991484},{"$f":"+(P100-AVERAGE(P$4:P$173))/STDEVP(P$4:P$173)","v":0.51884501460248145},{"$f":"+(Q100-AVERAGE(Q$4:Q$173))/STDEVP(Q$4:Q$173)","v":-0.67169146912214395},1,{"$f":"+(R100-AVERAGE(R$4:R$173))/STDEVP(R$4:R$173)","v":1.0373742669116859},{"$f":"+(S100-AVERAGE(S$4:S$173))/STDEVP(S$4:S$173)*-1","v":-1.1772499869408279},{"$f":"+(T100-AVERAGE(T$4:T$173))/STDEVP(T$4:T$173)*-1","v":0.38478493670524438},{"$f":"+(U100-AVERAGE(U$4:U$173))/STDEVP(U$4:U$173)","v":-0.22397136032655213},{"$f":"(+(V100-MIN(V$4:V$173))/(MAX(V$4:V$173)-MIN(V$4:V$173)))*100","v":76.204819277108442},{"$f":"(+(W100-MIN(W$4:W$173))/(MAX(W$4:W$173)-MIN(W$4:W$173)))*100","v":9.2581673316153985},{"$f":"(+(X100-MIN(X$4:X$173))/(MAX(X$4:X$173)-MIN(X$4:X$173)))*100","v":50},{"$f":"(+(Y100-MIN(Y$4:Y$173))/(MAX(Y$4:Y$173)-MIN(Y$4:Y$173)))*100","v":69.373107605568492},{"$f":"(+(Z100-MIN(Z$4:Z$173))/(MAX(Z$4:Z$173)-MIN(Z$4:Z$173)))*100*IF('TC - Bolsas'!$E$7=\"DANE\",1,0)+AA100*IF('TC - Bolsas'!$E$7=\"DANE\",0,1)*100","v":5.1169689271316603},{"$f":"(+(AB100-MIN(AB$4:AB$173))/(MAX(AB$4:AB$173)-MIN(AB$4:AB$173)))*100","v":97.575290580947112},{"$f":"(+(AC100-MIN(AC$4:AC$173))/(MAX(AC$4:AC$173)-MIN(AC$4:AC$173)))*100","v":64.584533032380165},{"$f":"(+(AD100-MIN(AD$4:AD$173))/(MAX(AD$4:AD$173)-MIN(AD$4:AD$173)))*100","v":95.80469836109026},{"$f":"(+(AE100-MIN(AE$4:AE$173))/(MAX(AE$4:AE$173)-MIN(AE$4:AE$173)))*100","v":0},{"$f":"+SUMPRODUCT($AF$1:$AK$1,AF100:AK100)","v":57.68939258955217},{"$f":"SUMPRODUCT(AL100:AN100,$AL$1:$AN$1)","v":58.126079729142148},{"$f":"+SUMPRODUCT(AO100:AP100,$AO$1:$AP$1)","v":57.820398731429158},52520]
[null,"ALTO PATÍA Y NORTE DEL CAUCA",19473,"MORALES","CAUCA",40412,15094,629,{"$f":"IFERROR(VLOOKUP(C101,Hoja3!$B$2:$D$168,3,FALSE),0)","v":0},4469184858,648.76,50591.89,48.7,1.2823399165360299,40,53.013912200927734,38.906760368207465,24.813590715256829,0,110590.53889933683,7.140337161931363E-5,-0.44212427576280972,0.24920958251767839,-0.41355308841991484,0.59157159866794873,0.55587010403817949,0,-1.545276401635189,0.87936322014315926,0.17459620456616193,-0.22386157791684033,44.879518072289159,12.377647735658664,50,70.681322739256998,{"$f":"(+(Z101-MIN(Z$4:Z$173))/(MAX(Z$4:Z$173)-MIN(Z$4:Z$173)))*100*IF('TC - Bolsas'!$E$7=\"DANE\",1,0)+AA101*IF('TC - Bolsas'!$E$7=\"DANE\",0,1)*100","v":41.902031942680608},18.907669476067142,100,94.028637478595641,9.2555559133793966E-4,43.876286551553235,90.000092555559135,57.713428352755002,19473]
[null,"PUTUMAYO",86885,"VILLAGARZÓN","PUTUMAYO",24425,3948,562,{"$f":"IFERROR(VLOOKUP(C102,Hoja3!$B$2:$D$168,3,FALSE),0)","v":4273025429},10215328895,1358.24,143046.74,37.1,0.94950783219526713,60,38.979095458984375,18.464687819856703,53.025743647902203,174944.74632548619,418232.50337768678,0.37693026156586812,-1.314778736581806,5.1958382717468748E-2,0.41355308841991484,-0.70260111478144505,-0.1793517356990097,0,-0.54740651564069398,0.77566546611070408,-0.72993184357897201,0.35555746960909418,27.409638554216865,9.1650219396657935,74.999999999999986,47.401577772586428,{"$f":"(+(Z102-MIN(Z$4:Z$173))/(MAX(Z$4:Z$173)-MIN(Z$4:Z$173)))*100*IF('TC - Bolsas'!$E$7=\"DANE\",1,0)+AA102*IF('TC - Bolsas'!$E$7=\"DANE\",0,1)*100","v":19.870402494136318},49.302817786060096,98.214295050764591,86.385521374889578,4.8859024892659297,44.011208376649883,88.881455794614737,57.472282602039336,86885]
[null,"PUTUMAYO",86571,"PUERTO GUZMÁN","PUTUMAYO",37173,178,1018,{"$f":"IFERROR(VLOOKUP(C103,Hoja3!$B$2:$D$168,3,FALSE),0)","v":64098093921.751762},687261210,1457.47,454557.65,62.2,0.32063479736838657,40,56.08001708984375,3.2173889651090843,61.060524900342863,1724318.5624445635,18488.182551852151,7.2513891652872548E-4,0.57346496743171149,-0.32073994318851429,-0.41355308841991484,0.87430199385367491,-0.72773777084761804,1,-0.26321458347921356,-0.14271927114411523,0.445395296484003,-0.22285646202655648,65.210843373493972,3.0948927990487896,50,75.76711339598225,{"$f":"(+(Z103-MIN(Z$4:Z$173))/(MAX(Z$4:Z$173)-MIN(Z$4:Z$173)))*100*IF('TC - Bolsas'!$E$7=\"DANE\",1,0)+AA103*IF('TC - Bolsas'!$E$7=\"DANE\",0,1)*100","v":3.4374875994029579},57.959313034378781,82.399447507346068,96.316846124585723,9.3995054220718521E-3,50.04272634889724,74.160442707153663,57.278041256374166,86571]
[null,"MONTES DE MARÍA",13894,"ZAMBRANO","BOLÍVAR",12502,51,503,{"$f":"IFERROR(VLOOKUP(C104,Hoja3!$B$2:$D$168,3,FALSE),0)","v":1219197491.3117647},1291774351,0,31590.62,62.4,0,19.999999999999996,59.559207916259766,4.4312909934410492,53.135383393958556,97520.196073569401,103325.41601343785,2.1774169849089192E-5,0.58851073399755593,-0.51076248444646211,-1.2406592652597448,1.195123698562844,-0.68407843638336685,0,-0.54352853436223869,0.82155853884784802,0.19595709866479266,-0.22393788262401099,65.512048192771076,0,24.999999999999993,81.538095420085952,{"$f":"(+(Z104-MIN(Z$4:Z$173))/(MAX(Z$4:Z$173)-MIN(Z$4:Z$173)))*100*IF('TC - Bolsas'!$E$7=\"DANE\",1,0)+AA104*IF('TC - Bolsas'!$E$7=\"DANE\",0,1)*100","v":4.7457815413107154},49.420941218540023,99.004586874218063,94.209133588152,2.822444401926052E-4,43.547748059483482,89.104156411240282,57.214670565010522,13894]
[null,"BAJO CAUCA Y NORDESTE ANTIOQUEÑO",5040,"ANORÍ","ANTIOQUIA",19404,167,244,{"$f":"IFERROR(VLOOKUP(C105,Hoja3!$B$2:$D$168,3,FALSE),0)","v":20390305471.860001},2670966996,1737.4,141606.44,53.3,1.2269216004582841,80,17.665410995483398,2.1181199752628324,52.801207382596836,1050830.0078262214,137650.3296227582,2.6345898406504076E-2,-9.6071644748380688E-2,0.21636620637834325,1.2406592652597446,-2.6679697663933384,-0.76727420078490471,1,-0.55534841139026048,0.25648820405808448,9.5035083157464645E-2,-0.18346464268149881,51.807228915662641,11.84272841694427,100,12.048274075534552,{"$f":"(+(Z105-MIN(Z$4:Z$173))/(MAX(Z$4:Z$173)-MIN(Z$4:Z$173)))*100*IF('TC - Bolsas'!$E$7=\"DANE\",1,0)+AA105*IF('TC - Bolsas'!$E$7=\"DANE\",0,1)*100","v":2.2527404564073183},49.060907390167145,89.273914277544648,93.356358836142576,0.34150479208417511,46.539783594099674,80.380673328998611,56.692050514569345,5040]
[null,"SUR DE BOLÍVAR",13744,"SIMITÍ","BOLÍVAR",19426,12,124,{"$f":"IFERROR(VLOOKUP(C106,Hoja3!$B$2:$D$168,3,FALSE),0)","v":45561338541.543648},8342092054,2011.06,127029.52,54.8,1.5831438235773858,40,51.6890869140625,0.70009265932255738,85.626641319997475,2345379.3133709282,429429.22135282611,5.1010309862699374E-2,1.6771604495455009E-2,0.427479449997613,-0.41355308841991484,0.46940735756141733,-0.81827512789526813,0,0.60569421088090714,-0.51085038877683642,-0.76285240262187537,-0.14554320476648439,54.066265060240958,15.281125004716371,50,68.483816681949676,{"$f":"(+(Z106-MIN(Z$4:Z$173))/(MAX(Z$4:Z$173)-MIN(Z$4:Z$173)))*100*IF('TC - Bolsas'!$E$7=\"DANE\",1,0)+AA106*IF('TC - Bolsas'!$E$7=\"DANE\",0,1)*100","v":0.7244486308687913},84.426302411567704,76.060124492514248,86.107347961163157,0.66121355950837191,51.274519073731796,68.520233399213666,56.448233371376354,13744]
[null,"MONTES DE MARÍA",70230,"CHALÁN","SUCRE",4667,160,668,{"$f":"IFERROR(VLOOKUP(C107,Hoja3!$B$2:$D$168,3,FALSE),0)","v":7723862499.071764},3489342376,0,7676.5,73.900000000000006,0,40,22.460369110107422,17.741589886436685,87.605015294978301,1654995.1787168982,747662.81894150423,3.8973807918240955E-2,1.4536423115336301,-0.51076248444646211,-0.41355308841991484,-2.2258190730013911,-0.20535875586106841,0,0.67566972170355755,-0.10162813039551369,-1.6985219409736507,-0.1640492802919995,82.831325301204828,0,50,20.001737529084316,{"$f":"(+(Z107-MIN(Z$4:Z$173))/(MAX(Z$4:Z$173)-MIN(Z$4:Z$173)))*100*IF('TC - Bolsas'!$E$7=\"DANE\",1,0)+AA107*IF('TC - Bolsas'!$E$7=\"DANE\",0,1)*100","v":19.091077125515451},86.557758685951882,83.10704869012136,78.201091288427918,0.50519219213878275,47.959384081502151,74.846863040323115,56.025627769148436,70230]
[null,"BAJO CAUCA Y NORDESTE ANTIOQUEÑO",5154,"CAUCASIA","ANTIOQUIA",96927,1077,3442,{"$f":"IFERROR(VLOOKUP(C108,Hoja3!$B$2:$D$168,3,FALSE),0)","v":5555606631.9117641},8228503147,3.32,161353.82999999999,36,2.0575898322339175E-3,60,55.541698455810547,4.6622716064667227,17.805427826429447,57317.430972915332,84893.81851290146,0.8400526549834838,-1.3975304526939523,-0.509543064558176,0.41355308841991484,0.82466277874193883,-0.67577096213628707,0,-1.7931566226024049,0.84538855680720904,0.25014963036191157,1.0676063713325383,25.753012048192769,1.9860663931183554E-2,74.999999999999986,74.874196819904171,{"$f":"(+(Z108-MIN(Z$4:Z$173))/(MAX(Z$4:Z$173)-MIN(Z$4:Z$173)))*100*IF('TC - Bolsas'!$E$7=\"DANE\",1,0)+AA108*IF('TC - Bolsas'!$E$7=\"DANE\",0,1)*100","v":4.9947229959476056},11.357230099992096,99.414946591334797,94.66705173957277,10.88905767620628,41.080484654606082,90.562357699821945,55.925046568170842,5154]
[null,"URABÁ ANTIOQUEÑO",5172,"CHIGORODÓ","ANTIOQUIA",60775,222,27532,{"$f":"IFERROR(VLOOKUP(C109,Hoja3!$B$2:$D$168,3,FALSE),0)","v":23109618243},2124161363,12.18,74512.66,37.700000000000003,1.6346215529012116E-2,19.999999999999996,62.925121307373047,45.666803784450842,60.08614262936176,380248.75759769644,34951.23591937474,1.0513226844097779E-5,-1.2696414368842714,-0.5010749850226105,-1.2406592652597448,1.505499911284917,0.79900257240400141,1,-0.29767869289972776,0.65397238695317006,0.39699067277057482,-0.22395519628064484,28.313253012048197,0.15778008234806529,24.999999999999993,87.121182592919837,{"$f":"(+(Z109-MIN(Z$4:Z$173))/(MAX(Z$4:Z$173)-MIN(Z$4:Z$173)))*100*IF('TC - Bolsas'!$E$7=\"DANE\",1,0)+AA109*IF('TC - Bolsas'!$E$7=\"DANE\",0,1)*100","v":49.187730163860302},56.909535170640204,96.118705461897591,95.907834862019996,1.3627614029799239E-4,42.807868421210472,86.506848543321851,55.917562457843886,5172]
[null,"SUR DEL TOLIMA",73616,"RIOBLANCO","TOLIMA",22680,995,42,{"$f":"IFERROR(VLOOKUP(C110,Hoja3!$B$2:$D$168,3,FALSE),0)","v":37138745933.125099},334809314,0,205185.55,60.5,0,19.999999999999996,51.135562896728516,4.5723104056437389,99.683114802495993,1637510.8436122178,14762.315432098765,0,0.4455759516220309,-0.51076248444646211,-1.2406592652597448,0.41836602993711802,-0.67900651662410128,0,1.1028746857263698,-9.1264365154270555E-2,0.45635008062469479,-0.22397136032655213,62.650602409638545,0,24.999999999999993,67.565678725936877,{"$f":"(+(Z110-MIN(Z$4:Z$173))/(MAX(Z$4:Z$173)-MIN(Z$4:Z$173)))*100*IF('TC - Bolsas'!$E$7=\"DANE\",1,0)+AA110*IF('TC - Bolsas'!$E$7=\"DANE\",0,1)*100","v":4.8977664942724397},99.570435411131868,83.285515688338222,96.409412283534621,0,47.718598188212113,74.956964119504406,55.890107967599796,73616]
[null,"BAJO CAUCA Y NORDESTE ANTIOQUEÑO",5604,"REMEDIOS","ANTIOQUIA",30094,96,120,{"$f":"IFERROR(VLOOKUP(C111,Hoja3!$B$2:$D$168,3,FALSE),0)","v":6378972594.9300003},6562647906,129.44,200665.08,42.1,6.4505493432140765E-2,60,35.858955383300781,0.71775104672027645,51.434796846558285,211968.25263939658,218071.6390642653,0.6189285957584576,-0.93863457243568693,-0.47253364001760789,0.41355308841991484,-0.99031418024826945,-0.81764002438320316,0,-0.60367864443109687,0.75371994027012823,-0.14141942714235337,0.72762897927879278,34.939759036144579,0.62263231801647523,74.999999999999986,42.226158202972258,{"$f":"(+(Z111-MIN(Z$4:Z$173))/(MAX(Z$4:Z$173)-MIN(Z$4:Z$173)))*100*IF('TC - Bolsas'!$E$7=\"DANE\",1,0)+AA111*IF('TC - Bolsas'!$E$7=\"DANE\",0,1)*100","v":0.74348011835056438},47.588766962090489,97.8363868263027,91.35835636493951,8.0227699260110228,41.45810973577364,88.855025136273539,55.677184355923607,5604]
[null,"ALTO PATÍA Y NORTE DEL CAUCA",19532,"PATÍA","CAUCA",37793,40,20071,{"$f":"IFERROR(VLOOKUP(C112,Hoja3!$B$2:$D$168,3,FALSE),0)","v":18352471659.185097},3090455749,865.86,76486.06,44.1,1.1320494218162107,60,37.526016235351563,53.213558066308572,9.2167798579732239,485605.05011999834,81773.231788955629,7.4743989301511229E-4,-0.78817690677723928,0.16014070425502855,0.41355308841991484,-0.83659185483049703,1.070429970679212,1,-2.0969389390243882,0.59152289282876447,0.25932477076664973,-0.22282217436083315,37.951807228915662,10.926984945183545,74.999999999999986,44.991335133546769,{"$f":"(+(Z112-MIN(Z$4:Z$173))/(MAX(Z$4:Z$173)-MIN(Z$4:Z$173)))*100*IF('TC - Bolsas'!$E$7=\"DANE\",1,0)+AA112*IF('TC - Bolsas'!$E$7=\"DANE\",0,1)*100","v":57.321313169391644},2.104011127062464,95.043307332249597,94.744580196014795,9.6885785149969216E-3,42.479059953009376,85.53994545687614,55.397325604169403,19532]
[null,"ALTO PATÍA Y NORTE DEL CAUCA",52540,"POLICARPA","NARIÑO",9777,7,762,{"$f":"IFERROR(VLOOKUP(C113,Hoja3!$B$2:$D$168,3,FALSE),0)","v":45824871969.199997},430649387,1471.86,43635.1,38.700000000000003,3.3731101796489527,80,55.238018035888672,7.8653983839623605,62.106181761217606,4687007.4633527668,44047.191060652549,0,-1.1944126040550478,1.4882936802015734,1.2406592652597446,0.79665992553066667,-0.56056695057182393,0,-0.22622947656300058,-1.8988405115583364,0.37024677076778184,-0.22397136032655213,29.819277108433734,32.558582197176712,100,74.370477900224586,{"$f":"(+(Z113-MIN(Z$4:Z$173))/(MAX(Z$4:Z$173)-MIN(Z$4:Z$173)))*100*IF('TC - Bolsas'!$E$7=\"DANE\",1,0)+AA113*IF('TC - Bolsas'!$E$7=\"DANE\",0,1)*100","v":8.4469219875898247},59.085880561625949,52.158538051547964,95.681853203968998,0,58.801383504452211,46.942684246393171,55.243773727034494,52540]
[null,"SUR DE CÓRDOBA",23682,"SAN JOSE DE URE","CÓRDOBA",13930,5267,2632,{"$f":"IFERROR(VLOOKUP(C114,Hoja3!$B$2:$D$168,3,FALSE),0)","v":81856832756.411774},3913911464,575.76,55588.82,61.3,1.0357478356259406,80,39.774570465087891,56.704953338119168,61.029404555930434,5876298.1160381744,280969.95434314432,0.23645941693948583,0.50575901788540967,0.103068071199479,1.2406592652597446,-0.62924910270610879,1.196001878758435,0,-0.26431531672013564,-2.6037874857636609,-0.32635287875157137,0.13958408533314495,63.855421686746979,9.9974442712347553,100,48.721043185633668,{"$f":"(+(Z114-MIN(Z$4:Z$173))/(MAX(Z$4:Z$173)-MIN(Z$4:Z$173)))*100*IF('TC - Bolsas'!$E$7=\"DANE\",1,0)+AA114*IF('TC - Bolsas'!$E$7=\"DANE\",0,1)*100","v":61.08419615031211},57.925784665022064,40.019149763610805,89.795698529168817,3.0650700451471025,63.312324716384126,36.323741791764434,55.215749838998214,23682]
[null,"MACARENA GUAVIARE",95025,"EL RETORNO","GUAVIARE",14010,874,337,{"$f":"IFERROR(VLOOKUP(C115,Hoja3!$B$2:$D$168,3,FALSE),0)","v":52574028986.619995},-1817964403,1648.79,1261883.8700000001,51.5,0.13066099339236342,60,42.338329315185547,8.6438258386866522,98.259216058491418,3752607.3509364738,-129761.91313347609,4.480796056276206E-6,-0.23148354384098332,-0.43332692782102628,0.41355308841991484,-0.39284083256852848,-0.53256994273366787,0,1.0525110824685904,-1.3449788205935276,0.88127981540832623,-0.2239644711198196,49.096385542168676,1.2611911460813201,74.999999999999986,52.973585508324071,{"$f":"(+(Z115-MIN(Z$4:Z$173))/(MAX(Z$4:Z$173)-MIN(Z$4:Z$173)))*100*IF('TC - Bolsas'!$E$7=\"DANE\",1,0)+AA115*IF('TC - Bolsas'!$E$7=\"DANE\",0,1)*100","v":9.2858792505823544},98.036358461890927,61.696194599424651,100,5.8081652861468942E-5,54.924155019048555,55.526580947647467,55.104882797628228,95025]
[null,"CHOCÓ",27491,"NÓVITA","CHOCÓ",9179,267,7411,{"$f":"IFERROR(VLOOKUP(C116,Hoja3!$B$2:$D$168,3,FALSE),0)","v":47109796589},3325416002,143.69,79133.45,60.1,0.18157934476507723,40,48.880744934082031,83.647456149907399,88.572868423548343,5132345.1998039,362285.2164723826,4.9702271276979224E-2,0.41548441849034146,-0.40315043230674946,-0.41355308841991484,0.2104456890657081,2.1650189115252751,0,0.70990289395990269,-2.1628125600242032,-0.56543578625701341,-0.14755430906982142,62.048192771084331,1.7526750408308707,50,63.825580933294837,{"$f":"(+(Z116-MIN(Z$4:Z$173))/(MAX(Z$4:Z$173)-MIN(Z$4:Z$173)))*100*IF('TC - Bolsas'!$E$7=\"DANE\",1,0)+AA116*IF('TC - Bolsas'!$E$7=\"DANE\",0,1)*100","v":90.121723385463739},87.600502196360694,47.612863964356286,87.775486525546668,0.6442583037656352,60.002269912959406,42.916003398297221,54.87638995856075,27491]
[null,"PUTUMAYO",86569,"PUERTO CAICEDO","PUTUMAYO",16226,1582,428,{"$f":"IFERROR(VLOOKUP(C117,Hoja3!$B$2:$D$168,3,FALSE),0)","v":34255059969.116005},1942551975,2727.81,82904.98,38.9,3.2902848538169844,80,37.874752044677734,12.387526192530506,28.19249965074771,2111121.6546971533,119718.47497842969,5.9064620653458959E-2,-1.1793668374892032,1.4392076825984326,1.2406592652597446,-0.80443437269652451,-0.39792360219908696,0,-1.4257636695762852,-0.37199515831351909,0.14775827229897134,-0.13315973285017799,30.120481927710841,31.759119672834046,100,45.569788051823679,{"$f":"(+(Z117-MIN(Z$4:Z$173))/(MAX(Z$4:Z$173)-MIN(Z$4:Z$173)))*100*IF('TC - Bolsas'!$E$7=\"DANE\",1,0)+AA117*IF('TC - Bolsas'!$E$7=\"DANE\",0,1)*100","v":13.320686326390637},22.548031077161564,78.451251229820102,93.801861279977828,0.76561636595435123,48.028239257403612,70.682687743433519,54.82457380321258,86569]
[null,"BAJO CAUCA Y NORDESTE ANTIOQUEÑO",5031,"AMALFI","ANTIOQUIA",27496,2,102,{"$f":"IFERROR(VLOOKUP(C118,Hoja3!$B$2:$D$168,3,FALSE),0)","v":1277756873.6117647},2674885110,475.39,121298.06,43.3,0.39191888147263032,40,60.500812530517578,0.37823683444864709,25.48542747598086,46470.645679799411,97282.699665405875,4.0677252169192289E-2,-0.84835997304061872,-0.27849380233321974,-0.41355308841991484,1.2819505535932123,-0.82985103005167737,{"$f":"+(R118-AVERAGE(R$4:R$173))/STDEVP(R$4:R$173)","v":-1.5215133916504087},-1.5215133916504087,0.85181794263898314,0.21372387646133967,-0.16143024129652758,36.746987951807228,3.7829547324126205,50,83.099948038642253,{"$f":"(+(Z118-MIN(Z$4:Z$173))/(MAX(Z$4:Z$173)-MIN(Z$4:Z$173)))*100*IF('TC - Bolsas'!$E$7=\"DANE\",1,0)+AA118*IF('TC - Bolsas'!$E$7=\"DANE\",0,1)*100","v":0.37756559086854063},19.631491512303263,99.525662452131073,94.359259994697624,0.52727283504464439,39.830162957263497,89.625823490422434,54.768861117211173,5031]
[null,"MONTES DE MARÍA",13442,"MARÍA LA BAJA","BOLÍVAR",49163,425,42223,{"$f":"IFERROR(VLOOKUP(C119,Hoja3!$B$2:$D$168,3,FALSE),0)","v":42197258124.776627},1098170105,0,56202.78,63.2,0,19.999999999999996,26.728597640991211,86.748164269877762,60.942436952050215,858313.32759954897,22337.328987246507,1.2632153739597129E-5,0.64869380026093537,-0.51076248444646211,-1.2406592652597448,-1.8322389500114045,2.2765393223378556,0,-0.26739137947849212,0.37060164714569782,0.43407804684240853,-0.22395193843867861,66.716867469879531,0,24.999999999999993,27.081507324830373,{"$f":"(+(Z119-MIN(Z$4:Z$173))/(MAX(Z$4:Z$173)-MIN(Z$4:Z$173)))*100*IF('TC - Bolsas'!$E$7=\"DANE\",1,0)+AA119*IF('TC - Bolsas'!$E$7=\"DANE\",0,1)*100","v":93.463539738267514},57.832087696045079,91.238980367906336,96.221217190620962,1.6374241522720272E-4,43.030842087175493,82.115098705357227,54.756119072630014,13442]
[null,"ALTO PATÍA Y NORTE DEL CAUCA",19548,"PIENDAMÓ","CAUCA",42179,5882,617,{"$f":"IFERROR(VLOOKUP(C120,Hoja3!$B$2:$D$168,3,FALSE),0)","v":11107354298},1764951034,8.58,18140.580000000002,30.7,4.7297274949312532E-2,19.999999999999996,52.524913787841797,15.408141492211763,99.548416147887892,263338.49304156099,41844.307214490625,0,-1.7962432666888384,-0.48273200099859664,-1.2406592652597448,0.54648027936025911,-0.28928381860976943,0,1.0981103654903956,0.72327044884098379,0.37672368372417242,-0.22397136032655213,17.771084337349393,0.45653184512932976,24.999999999999993,69.870214296941072,{"$f":"(+(Z120-MIN(Z$4:Z$173))/(MAX(Z$4:Z$173)-MIN(Z$4:Z$173)))*100*IF('TC - Bolsas'!$E$7=\"DANE\",1,0)+AA120*IF('TC - Bolsas'!$E$7=\"DANE\",0,1)*100","v":16.576181914314773},99.425314065953287,97.312037884958187,95.736582073704781,0,40.395328212695496,87.580834096462368,54.550979977825548,19548]
[null,"SUR DE BOLÍVAR",13160,"CANTAGALLO","BOLÍVAR",8824,2,381,{"$f":"IFERROR(VLOOKUP(C121,Hoja3!$B$2:$D$168,3,FALSE),0)","v":43008139109.459999},34372336074,1258.48,88554.8,50.6,1.4211313220740152,60,49.154869079589844,4.3404351767905709,98.295211501362985,4873995.8192951046,3895323.6711242069,0.99786605892266034,-0.29918949338728462,0.33146358551907162,0.41355308841991484,0.23572311133183732,-0.68734616672287097,0,1.0537842489851736,-2.009677063948232,-10.953265622237701,1.310243873965238,47.74096385542169,13.717316808057737,74.999999999999986,64.280274451134432,{"$f":"(+(Z121-MIN(Z$4:Z$173))/(MAX(Z$4:Z$173)-MIN(Z$4:Z$173)))*100*IF('TC - Bolsas'!$E$7=\"DANE\",1,0)+AA121*IF('TC - Bolsas'!$E$7=\"DANE\",0,1)*100","v":4.6478608592979844},98.0751391542818,50.249900955156455,0,12.934690467648288,57.702036301189061,46.518379906405634,54.34693938275403,13160]
["Si","PUTUMAYO",86865,"VALLE DEL GUAMUEZ","PUTUMAYO",35140,3549,814,{"$f":"IFERROR(VLOOKUP(C122,Hoja3!$B$2:$D$168,3,FALSE),0)","v":139343463700.42932},4846886916,4694.37,81721.34,41,5.7443624884271358,80,54.038326263427734,12.416050085372794,16.554510898408211,3965380.2988169985,137930.76027319295,2.7696966994938781E-2,-1.0213862885478331,2.8936040001544914,1.2406592652597446,0.68603444427100191,-0.39689770871776942,0,-1.8374018220146318,-1.4710990801469337,9.4210561739172693E-2,-0.18138737991420159,33.283132530120483,55.446839352664703,100,72.380532536845621,{"$f":"(+(Z122-MIN(Z$4:Z$173))/(MAX(Z$4:Z$173)-MIN(Z$4:Z$173)))*100*IF('TC - Bolsas'!$E$7=\"DANE\",1,0)+AA122*IF('TC - Bolsas'!$E$7=\"DANE\",0,1)*100","v":13.351428211101441},10.009519925534274,59.524367699365797,93.349391763155822,0.35901781784119219,54.513987758599981,53.607832711213341,54.242141244383987,86865]
[null,"SUR DEL TOLIMA",73168,"CHAPARRAL","TOLIMA",50889,1501,206,{"$f":"IFERROR(VLOOKUP(C123,Hoja3!$B$2:$D$168,3,FALSE),0)","v":23993765570.185097},10505104686,0,210438.26,39.700000000000003,0,19.999999999999996,48.451034545898438,3.3543594882980607,99.57450655495191,471492.18043555773,206431.73742852089,9.9518115632679885E-2,-1.1191837712258239,-0.51076248444646211,-1.2406592652597448,0.17082141257544381,-0.72281147387794553,0,1.099033188771011,0.59988823628701515,-0.10719582073340982,-7.0962639640619801E-2,31.325301204819279,0,24.999999999999993,63.112814359254202,{"$f":"(+(Z123-MIN(Z$4:Z$173))/(MAX(Z$4:Z$173)-MIN(Z$4:Z$173)))*100*IF('TC - Bolsas'!$E$7=\"DANE\",1,0)+AA123*IF('TC - Bolsas'!$E$7=\"DANE\",0,1)*100","v":3.585108825437413},99.453423292288207,95.187360936446041,91.647540318723458,1.289988781682885,40.414147489201667,85.797623720969725,54.02919035873208,73168]
[null,"SIERRA NEVADA-PERIJÁ-ZONA BANANERA",44650,"SAN JUAN DEL CESAR","LA GUAJIRA",50713,8486,12108,{"$f":"IFERROR(VLOOKUP(C124,Hoja3!$B$2:$D$168,3,FALSE),0)","v":24381956710.661766},2718534109,0,134097.10999999999,36.6,0,19.999999999999996,44.108081817626953,40.608916845779184,86.601984652114652,480783.16626233445,53606.256955810146,1.4487838560026178E-2,-1.3523931529964177,-0.51076248444646211,-1.2406592652597448,-0.22964914718131266,0.6170900519666892,1,0.64019231323944981,0.59438104396932412,0.3421412318147366,-0.20169636416649642,26.6566265060241,0,24.999999999999993,55.909098502080354,{"$f":"(+(Z124-MIN(Z$4:Z$173))/(MAX(Z$4:Z$173)-MIN(Z$4:Z$173)))*100*IF('TC - Bolsas'!$E$7=\"DANE\",1,0)+AA124*IF('TC - Bolsas'!$E$7=\"DANE\",0,1)*100","v":43.736546554083105},85.477115701274514,95.092525511418287,95.444365933324519,0.18779645388632457,39.958367012220378,85.602052605665094,53.65147269025379,44650]
[null,"CUENCA DEL CAGUÁN Y PIEDEMONTE CAQUETEÑO",18205,"CURILLO","CAQUETÁ",7854,20,235,{"$f":"IFERROR(VLOOKUP(C125,Hoja3!$B$2:$D$168,3,FALSE),0)","v":1281530812.697479},556030355,257.19,42997.11,55.4,0.5981564807495201,40,37.180950164794922,3.2467532467532463,40.29410308874396,163169.18929175948,70795.818054494521,0,6.1908904192989396E-2,-0.15626816419542705,-0.41355308841991484,-0.86841094453168333,-0.72668165184980515,0,-0.99772736650313321,0.78264537744000273,0.29160053209118275,-0.22397136032655213,54.969879518072283,5.7736409153655393,50,44.418969261807042,{"$f":"(+(Z125-MIN(Z$4:Z$173))/(MAX(Z$4:Z$173)-MIN(Z$4:Z$173)))*100*IF('TC - Bolsas'!$E$7=\"DANE\",1,0)+AA125*IF('TC - Bolsas'!$E$7=\"DANE\",0,1)*100","v":3.4691352207816952},35.58603041612681,98.334491117904591,95.017305173028817,0,38.639951932009609,88.501042006114133,53.598278954240968,18205]
[null,"MACARENA GUAVIARE",50325,"MAPIRIPÁN","META",7215,1668,77,{"$f":"IFERROR(VLOOKUP(C126,Hoja3!$B$2:$D$168,3,FALSE),0)","v":11768755256.411764},-44710945,284.57,1193563.75,64.2,2.3842044465576303E-2,40,45.032539367675781,24.185724185724187,28.847430054161194,1631151.1096897803,-6196.9431739431739,2.1818177121773937E-5,0.72392263309015914,-0.49663262107755102,-0.41355308841991484,-0.14440345013989853,2.6411690302323373E-2,0,-1.4025986410671594,-8.7494659931035085E-2,0.51797443447264446,-0.22393781496299819,68.222891566265048,0.23013276268431729,50,57.442509047679671,{"$f":"(+(Z126-MIN(Z$4:Z$173))/(MAX(Z$4:Z$173)-MIN(Z$4:Z$173)))*100*IF('TC - Bolsas'!$E$7=\"DANE\",1,0)+AA126*IF('TC - Bolsas'!$E$7=\"DANE\",0,1)*100","v":26.036301425192011},23.253638578723127,83.350431089227072,96.93012813335443,2.8281487792366003E-4,43.747769328385047,75.015416261792154,53.128063408407172,50325]
[null,"SIERRA NEVADA-PERIJÁ-ZONA BANANERA",47189,"CIÉNAGA","MAGDALENA",126245,2342,5217,{"$f":"IFERROR(VLOOKUP(C127,Hoja3!$B$2:$D$168,3,FALSE),0)","v":66755358836.219894},8860618626,0,132390.47,44.6,0,19.999999999999996,34.830318450927734,5.9875638639154021,99.684270378274974,528776.2591486387,70185.897469206699,2.271262406622232,-0.75056249036262745,-0.51076248444646211,-1.2406592652597448,-1.0851664233805267,-0.62810535438510628,0,1.1029155586889396,0.5659333423611751,0.29339381889933785,3.2680858693543473,38.704819277108435,0,24.999999999999993,40.519943872622036,{"$f":"(+(Z127-MIN(Z$4:Z$173))/(MAX(Z$4:Z$173)-MIN(Z$4:Z$173)))*100*IF('TC - Bolsas'!$E$7=\"DANE\",1,0)+AA127*IF('TC - Bolsas'!$E$7=\"DANE\",0,1)*100","v":6.4230687695022386},99.571680402865368,94.602647962670758,95.03245815729511,29.440901349207472,37.673011567326121,88.086473301324432,52.797050087525612,47189]
[null,"URABÁ ANTIOQUEÑO",5490,"NECOCLÍ","ANTIOQUIA",44811,1495,18358,{"$f":"IFERROR(VLOOKUP(C128,Hoja3!$B$2:$D$168,3,FALSE),0)","v":66804448948},446568445,0,137560.5,62.7,0,19.999999999999996,52.780723571777344,44.303853964428377,33.766049355465448,1490804.6896520944,9965.5987369172744,2.281259013668604E-5,0.61107938384632343,-0.51076248444646211,-1.2406592652597448,0.57006890529602816,0.74998256859684176,0,-1.2286260239060141,-4.3049165972942269E-3,0.47045337370811613,-0.22393628605680582,65.963855421686745,0,24.999999999999993,70.294529529515586,{"$f":"(+(Z128-MIN(Z$4:Z$173))/(MAX(Z$4:Z$173)-MIN(Z$4:Z$173)))*100*IF('TC - Bolsas'!$E$7=\"DANE\",1,0)+AA128*IF('TC - Bolsas'!$E$7=\"DANE\",0,1)*100","v":47.718798610042988},28.552850003688214,84.782982235418629,96.528582835185546,2.9570480882147728E-4,42.556484351798005,76.30471358235765,52.680953120965896,5490]
[null,"CUENCA DEL CAGUÁN Y PIEDEMONTE CAQUETEÑO",18410,"LA MONTAÑITA","CAQUETÁ",14844,146,40,{"$f":"IFERROR(VLOOKUP(C129,Hoja3!$B$2:$D$168,3,FALSE),0)","v":61147987285.329323},2515002909,694.79,149377.31,56.2,0.46512418787029974,80,46.514785766601563,1.2530315278900566,30.288720362214093,4119373.9750289223,169428.92138237672,2.9018023059982575E-8,0.12209197045636876,-0.23510905910065821,1.2406592652597446,-7.7231585928389784E-3,-0.79838806745906032,0,-1.3516198944675868,-1.5623781765118367,1.5997560691419707E-3,-0.22397131571145307,56.174698795180724,4.4895610567474158,100,59.90113168445663,{"$f":"(+(Z129-MIN(Z$4:Z$173))/(MAX(Z$4:Z$173)-MIN(Z$4:Z$173)))*100*IF('TC - Bolsas'!$E$7=\"DANE\",1,0)+AA129*IF('TC - Bolsas'!$E$7=\"DANE\",0,1)*100","v":1.3203835210890735},24.806452813624393,57.952515582978315,92.56684539364818,3.7614181088876444E-7,52.517128475754774,52.157264062294665,52.409169151716739,18410]
[null,"SIERRA NEVADA-PERIJÁ-ZONA BANANERA",47288,"FUNDACIÓN","MAGDALENA",71572,561,1998,{"$f":"IFERROR(VLOOKUP(C130,Hoja3!$B$2:$D$168,3,FALSE),0)","v":62224008895.411758},1932708916,0,84143.86,43.9,0,19.999999999999996,46.554473876953125,3.5754205555245071,89.686793003171644,869390.38863538473,27003.701391605657,0,-0.80322267334308428,-0.51076248444646211,-1.2406592652597448,-4.0634549850347987E-3,-0.71486076711100344,1,0.74930264469601005,0.36403576634719992,0.4203579916802645,-0.22397136032655213,37.650602409638552,0,24.999999999999993,59.966962902931478,{"$f":"(+(Z130-MIN(Z$4:Z$173))/(MAX(Z$4:Z$173)-MIN(Z$4:Z$173)))*100*IF('TC - Bolsas'!$E$7=\"DANE\",1,0)+AA130*IF('TC - Bolsas'!$E$7=\"DANE\",0,1)*100","v":3.8233593994490835},88.800619850785381,91.125914024788656,96.105284937587399,0,39.475941980076719,82.013322622309786,52.237156172746637,47288]
[null,"URABÁ ANTIOQUEÑO",5147,"CAREPA","ANTIOQUIA",51947,68,11371,{"$f":"IFERROR(VLOOKUP(C131,Hoja3!$B$2:$D$168,3,FALSE),0)","v":6346179376.9117641},1941246611,0,38254.839999999997,34.4,0,19.999999999999996,45.695995330810547,22.020520915548538,78.005081010294248,122166.42687569569,37369.753999268483,1.6053806506853509E-5,-1.5178965852207105,-0.51076248444646211,-1.2406592652597448,-8.3225123422010147E-2,-5.1462249726910672E-2,0,0.33611799188404679,0.80694959040425773,0.38987975264002817,-0.22394667766068635,23.343373493975896,0,24.999999999999993,58.542992645177328,{"$f":"(+(Z131-MIN(Z$4:Z$173))/(MAX(Z$4:Z$173)-MIN(Z$4:Z$173)))*100*IF('TC - Bolsas'!$E$7=\"DANE\",1,0)+AA131*IF('TC - Bolsas'!$E$7=\"DANE\",0,1)*100","v":23.702733925299007},76.215002248830956,98.753016608475562,95.84774873392989,2.0809508063423192E-4,36.429796957685184,88.877735757136065,52.164178597520447,5147]
[null,"SIERRA NEVADA-PERIJÁ-ZONA BANANERA",20570,"PUEBLO BELLO","CESAR",30054,14433,55,{"$f":"IFERROR(VLOOKUP(C132,Hoja3!$B$2:$D$168,3,FALSE),0)","v":115578874863.95},3801429500,0,73516.399999999994,74.900000000000006,{"$f":"+K132*100/L132","v":0},19.999999999999996,32.790901184082031,{"$f":"(+(G132+H132)/F132)*100","v":48.206561522592665},99.634110712646034,{"$f":"+I132/F132","v":3845706.8897301522},{"$f":"+J132/F132","v":126486.64071338259},0,{"$f":"+(M132-AVERAGE(M$4:M$173))/STDEVP(M$4:M$173)","v":1.528871144362854},{"$f":"+(N132-AVERAGE(N$4:N$173))/STDEVP(N$4:N$173)","v":-0.51076248444646211},{"$f":"+(O132-AVERAGE(O$4:O$173))/STDEVP(O$4:O$173)","v":-1.2406592652597448},{"$f":"+(P132-AVERAGE(P$4:P$173))/STDEVP(P$4:P$173)","v":-1.2732243244289578},{"$f":"+(Q132-AVERAGE(Q$4:Q$173))/STDEVP(Q$4:Q$173)","v":0.89034777980930646},0,{"$f":"+(R132-AVERAGE(R$4:R$173))/STDEVP(R$4:R$173)","v":1.1011414005826026},{"$f":"+(S132-AVERAGE(S$4:S$173))/STDEVP(S$4:S$173)*-1","v":-1.4001631760951219},{"$f":"+(T132-AVERAGE(T$4:T$173))/STDEVP(T$4:T$173)*-1","v":0.12785853023309154},{"$f":"+(U132-AVERAGE(U$4:U$173))/STDEVP(U$4:U$173)","v":-0.22397136032655213},{"$f":"(+(V132-MIN(V$4:V$173))/(MAX(V$4:V$173)-MIN(V$4:V$173)))*100","v":84.337349397590373},{"$f":"(+(W132-MIN(W$4:W$173))/(MAX(W$4:W$173)-MIN(W$4:W$173)))*100","v":0},{"$f":"(+(X132-MIN(X$4:X$173))/(MAX(X$4:X$173)-MIN(X$4:X$173)))*100","v":24.999999999999993},{"$f":"(+(Y132-MIN(Y$4:Y$173))/(MAX(Y$4:Y$173)-MIN(Y$4:Y$173)))*100","v":37.137134198242329},{"$f":"(+(Z132-MIN(Z$4:Z$173))/(MAX(Z$4:Z$173)-MIN(Z$4:Z$173)))*100*IF('TC - Bolsas'!$E$7=\"DANE\",1,0)+AA132*IF('TC - Bolsas'!$E$7=\"DANE\",0,1)*100","v":51.924977145225114},{"$f":"(+(AB132-MIN(AB$4:AB$173))/(MAX(AB$4:AB$173)-MIN(AB$4:AB$173)))*100","v":99.51763949079421},{"$f":"(+(AC132-MIN(AC$4:AC$173))/(MAX(AC$4:AC$173)-MIN(AC$4:AC$173)))*100","v":60.745904232395851},{"$f":"(+(AD132-MIN(AD$4:AD$173))/(MAX(AD$4:AD$173)-MIN(AD$4:AD$173)))*100","v":93.633711669409962},{"$f":"(+(AE132-MIN(AE$4:AE$173))/(MAX(AE$4:AE$173)-MIN(AE$4:AE$173)))*100","v":0},{"$f":"+SUMPRODUCT($AF$1:$AK$1,AF132:AK132)","v":50.665040357308186},{"$f":"SUMPRODUCT(AL132:AN132,$AL$1:$AN$1)","v":54.671313809156267},{"$f":"+SUMPRODUCT(AO132:AP132,$AO$1:$AP$1)","v":51.866922392862605},20570]
[null,"SIERRA NEVADA-PERIJÁ-ZONA BANANERA",47053,"ARACATACA","MAGDALENA",42128,3198,2739,{"$f":"IFERROR(VLOOKUP(C133,Hoja3!$B$2:$D$168,3,FALSE),0)","v":49192978871.271767},894020855,0,187527.36,50,0,19.999999999999996,34.244941711425781,14.092764906950247,99.678197687522356,1167702.6887407845,21221.535676984429,3.5962178594397882E-5,-0.34432679308481901,-0.51076248444646211,-1.2406592652597448,-1.1391449410399246,-0.33659279819957222,0,1.1027007663176001,0.18721241971390254,0.43735869922927029,-0.22391606861503985,46.837349397590359,0,24.999999999999993,39.548971365065114,{"$f":"(+(Z133-MIN(Z$4:Z$173))/(MAX(Z$4:Z$173)-MIN(Z$4:Z$173)))*100*IF('TC - Bolsas'!$E$7=\"DANE\",1,0)+AA133*IF('TC - Bolsas'!$E$7=\"DANE\",0,1)*100","v":15.158522846564754},99.565137820436206,88.080965480149757,96.248938174110748,4.6615439467198654E-4,39.977887110253,79.272915547574257,51.766395641449378,47053]
[null,"PUTUMAYO",86320,"ORITO","PUTUMAYO",39273,5852,1862,{"$f":"IFERROR(VLOOKUP(C134,Hoja3!$B$2:$D$168,3,FALSE),0)","v":38811510111.147537},7373683141,4421.8500000000004,196788.21,39.799999999999997,2.2470096150577317,60,27.781650543212891,19.641993226898887,31.244066364536948,988249.18165527307,187754.51686909582,0.3913993209245416,-1.111660887942902,0.82091605072431906,0.41355308841991484,-1.735135271571405,-0.13700863935930277,1,-1.3178291019428487,0.293582722503063,-5.2281108801833162E-2,0.37780359281917281,31.475903614457824,21.68901795473441,74.999999999999986,28.828220762624674,{"$f":"(+(Z134-MIN(Z$4:Z$173))/(MAX(Z$4:Z$173)-MIN(Z$4:Z$173)))*100*IF('TC - Bolsas'!$E$7=\"DANE\",1,0)+AA134*IF('TC - Bolsas'!$E$7=\"DANE\",0,1)*100","v":21.13925409489114},25.835721423407133,89.912692482480239,92.111560776635528,5.0734555205460303,38.969010293890122,81.428768786286824,51.706937841609133,86320]
[null,"ALTO PATÍA Y NORTE DEL CAUCA",19450,"MERCADERES","CAUCA",23282,30,2706,{"$f":"IFERROR(VLOOKUP(C135,Hoja3!$B$2:$D$168,3,FALSE),0)","v":5731846033.7450981},1988287049,45.46,69836.69,46.6,6.5094723131923923E-2,40,52.330101013183594,11.751567734730694,7.9271385522212894,246192.16707091738,85400.18250150331,6.4502350197410757E-5,-0.60010482470417981,-0.47218443610756311,-0.41355308841991484,0.52851628440188247,-0.42079655435372193,1,-2.1425538279630967,0.73343386060618221,0.24866082037125356,-0.22387218821078006,41.716867469879517,0.62831979414137451,50,69.547075648700741,{"$f":"(+(Z135-MIN(Z$4:Z$173))/(MAX(Z$4:Z$173)-MIN(Z$4:Z$173)))*100*IF('TC - Bolsas'!$E$7=\"DANE\",1,0)+AA135*IF('TC - Bolsas'!$E$7=\"DANE\",0,1)*100","v":12.635276319466287},0.71458016627731269,97.487054739079738,94.654471535301269,8.3610212691285417E-4,36.186335260018417,87.738432875384461,51.651964544628228,19450]
[null,"ALTO PATÍA Y NORTE DEL CAUCA",76563,"PRADERA","VALLE DEL CAUCA",48424,271,13945,{"$f":"IFERROR(VLOOKUP(C136,Hoja3!$B$2:$D$168,3,FALSE),0)","v":10599096684.171764},4066632635,0,35511.07,24.8,0,19.999999999999996,57.156879425048828,29.35734346604989,65.254472575561323,218881.06484742617,83979.692611101927,1.4183031732326486E-7,-2.2400933803812588,-0.51076248444646211,-1.2406592652597448,0.97360117787499989,0.21241472070484219,0,-0.11487375679616806,0.7496224002463362,0.25283734079542047,-0.22397114226298379,8.8855421686746947,0,24.999999999999993,77.553319870119395,{"$f":"(+(Z136-MIN(Z$4:Z$173))/(MAX(Z$4:Z$173)-MIN(Z$4:Z$173)))*100*IF('TC - Bolsas'!$E$7=\"DANE\",1,0)+AA136*IF('TC - Bolsas'!$E$7=\"DANE\",0,1)*100","v":31.610061099686249},62.477779310134295,97.765826016491104,94.689762459200054,1.8384544069970159E-6,36.070445414247587,87.989243598687437,51.646084869579539,76563]
[null,"MONTES DE MARÍA",70523,"PALMITO","SUCRE",15267,10074,94,{"$f":"IFERROR(VLOOKUP(C137,Hoja3!$B$2:$D$168,3,FALSE),0)","v":21965931017.738194},1969334289,0,16279.4,65.099999999999994,0,0,44.829586029052734,66.601165913407996,58.495864591549548,1438785.0276896702,128992.8793476125,4.9060195621957542E-2,0.79162858263645997,-0.51076248444646211,-2.0677654420995744,-0.16311809941383218,1.5519301535859875,0,-0.35392716738091379,2.652951669854621E-2,0.12048969437271123,-0.14854149792417096,69.578313253012041,0,0,57.105867533212376,{"$f":"(+(Z137-MIN(Z$4:Z$173))/(MAX(Z$4:Z$173)-MIN(Z$4:Z$173)))*100*IF('TC - Bolsas'!$E$7=\"DANE\",1,0)+AA137*IF('TC - Bolsas'!$E$7=\"DANE\",0,1)*100","v":71.749929181397448},55.196204857678012,85.313959985679432,93.57144619500535,0.63593549352446466,40.791259804036329,76.846157536463934,51.607729123764607,70523]
[null,"ALTO PATÍA Y NORTE DEL CAUCA",19130,"CAJIBÍO","CAUCA",43183,2255,103,{"$f":"IFERROR(VLOOKUP(C138,Hoja3!$B$2:$D$168,3,FALSE),0)","v":24982361468.811764},2164559436,325.62,55297.27,56.9,0.58885366311935472,40,41.222869873046875,5.4604821341731702,18.952817866813742,578523.06390968116,50125.267721093951,1.9866064566661734E-4,0.1747521534368251,-0.16178143057029359,-0.41355308841991484,-0.49569911704196445,-0.64706243410959863,1,-1.7525731913583245,0.53644613550093889,0.35237602667905571,-0.22366592034659627,57.228915662650607,5.6838464715597912,50,51.123357478196105,{"$f":"(+(Z138-MIN(Z$4:Z$173))/(MAX(Z$4:Z$173)-MIN(Z$4:Z$173)))*100*IF('TC - Bolsas'!$E$7=\"DANE\",1,0)+AA138*IF('TC - Bolsas'!$E$7=\"DANE\",0,1)*100","v":5.8550016456178033},12.593402700153147,94.094869836512203,95.530848299024541,2.5751090908684836E-3,37.21334984491007,84.685640363770062,51.455037000568069,19130]
[null,"MACARENA GUAVIARE",50370,"URIBE","META",9560,413,23,{"$f":"IFERROR(VLOOKUP(C139,Hoja3!$B$2:$D$168,3,FALSE),0)","v":82370338286.099991},681429946,0,644944,60.4,0,80,56.34716796875,4.5606694560669458,99.652466848616911,8616144.1721861921,71279.283054393309,6.4410115377875055E-8,0.4380530683391084,-0.51076248444646211,1.2406592652597446,0.89893640014565324,-0.6794251963026855,0,1.101790661039693,-4.2278195780942855,0.29017904964340796,-0.22397126129624703,62.5,0,100,76.210240259902974,{"$f":"(+(Z139-MIN(Z$4:Z$173))/(MAX(Z$4:Z$173)-MIN(Z$4:Z$173)))*100*IF('TC - Bolsas'!$E$7=\"DANE\",1,0)+AA139*IF('TC - Bolsas'!$E$7=\"DANE\",0,1)*100","v":4.885220355083348},99.5374159848663,12.052853173577798,95.00529387563455,8.3490654680801868E-7,68.161182485218873,10.847567939710673,50.967098121566409,50370]
[null,"CUENCA DEL CAGUÁN Y PIEDEMONTE CAQUETEÑO",18460,"MILÁN","CAQUETÁ",10057,2078,19,{"$f":"IFERROR(VLOOKUP(C140,Hoja3!$B$2:$D$168,3,FALSE),0)","v":33964945294.507481},941570386,283.48,146961.38,64.599999999999994,0.19289421479302929,40,47.049289703369141,20.851148453813266,45.323422336634117,3377244.2372981487,93623.385303768518,0,0.75401416622184803,-0.39644473356674481,-0.41355308841991484,4.1564297233256581E-2,-9.3520028879268469E-2,0,-0.81983926854394318,-1.1224839320730997,0.22448298236775846,-0.22397136032655213,68.825301204819269,1.8618906033933094,50,60.78772076933182,{"$f":"(+(Z140-MIN(Z$4:Z$173))/(MAX(Z$4:Z$173)-MIN(Z$4:Z$173)))*100*IF('TC - Bolsas'!$E$7=\"DANE\",1,0)+AA140*IF('TC - Bolsas'!$E$7=\"DANE\",0,1)*100","v":22.442432128436341},41.004507510125379,65.527620142991964,94.450172704130424,0,47.003712794531992,58.974858128692766,50.595056394780215,18460]
[null,"URABÁ ANTIOQUEÑO",5665,"SAN PEDRO DE URABA","ANTIOQUIA",32646,572,326,{"$f":"IFERROR(VLOOKUP(C141,Hoja3!$B$2:$D$168,3,FALSE),0)","v":26702787196},553023868,0,56935.66,62.3,0,19.999999999999996,45.719409942626953,2.7507198431660846,38.311967048480447,817949.73950866878,16940.019236659929,0,0.58098785071463355,-0.51076248444646211,-1.2406592652597448,-8.1066024926748512E-2,-0.74452204404555022,0,-1.0678359423798296,0.39452699224824844,0.44994720195657156,-0.22397136032655213,65.361445783132524,0,24.999999999999993,58.581830786180667,{"$f":"(+(Z141-MIN(Z$4:Z$173))/(MAX(Z$4:Z$173)-MIN(Z$4:Z$173)))*100*IF('TC - Bolsas'!$E$7=\"DANE\",1,0)+AA141*IF('TC - Bolsas'!$E$7=\"DANE\",0,1)*100","v":2.934530712550742},33.450520975984894,91.65098164566227,96.355308991592764,0,36.349686531515445,82.485883481096039,50.19054561638962,5665]
[null,"ALTO PATÍA Y NORTE DEL CAUCA",76275,"FLORIDA","VALLE DEL CAUCA",58273,5125,5413,{"$f":"IFERROR(VLOOKUP(C142,Hoja3!$B$2:$D$168,3,FALSE),0)","v":34735962339.571762},815664295,0,40542.79,18.899999999999999,0,40,33.964920043945313,18.083846721466202,74.448477189765285,596090.16765177285,13997.293686613011,1.303907548523566E-5,-2.683943494073679,-0.51076248444646211,-0.41355308841991484,-1.164966183161654,-0.19304910871947609,1,0.21032015371863319,0.52603330950203286,0.45859939543259542,-0.22395131279805702,0,0,50,39.084495545825845,{"$f":"(+(Z142-MIN(Z$4:Z$173))/(MAX(Z$4:Z$173)-MIN(Z$4:Z$173)))*100*IF('TC - Bolsas'!$E$7=\"DANE\",1,0)+AA142*IF('TC - Bolsas'!$E$7=\"DANE\",0,1)*100","v":19.459947539597326},72.383196116808506,93.915557998032511,96.428418630840071,1.6901707787123451E-4,33.120373280646177,84.52401909993705,48.541467026433438,76275]
[null,"SUR DE BOLÍVAR",5893,"YONDÓ","ANTIOQUIA",20426,22,648,{"$f":"IFERROR(VLOOKUP(C143,Hoja3!$B$2:$D$168,3,FALSE),0)","v":54040204932.911766},12825836224,10.68,190189.64,46.3,5.6154478235512723E-3,19.999999999999996,62.523807525634766,3.2801331636150004,57.477083111341877,2645657.7368506691,627917.17536473123,1.1384638547804495,-0.6226734745529473,-0.50743451856599453,-1.2406592652597448,1.468494130916961,-0.72548110607210448,1,-0.38996168633220485,-0.68883914667484569,-1.3464461328437627,1.5264124452720467,41.265060240963848,5.4202504454236029E-2,24.999999999999993,86.455517863393524,{"$f":"(+(Z143-MIN(Z$4:Z$173))/(MAX(Z$4:Z$173)-MIN(Z$4:Z$173)))*100*IF('TC - Bolsas'!$E$7=\"DANE\",1,0)+AA143*IF('TC - Bolsas'!$E$7=\"DANE\",0,1)*100","v":3.5051107295067494},54.098592269928481,72.995107232957579,81.176075076228699,14.75716849823441,40.264835784756841,67.171313359485268,48.336779057175363,5893]
[null,"CUENCA DEL CAGUÁN Y PIEDEMONTE CAQUETEÑO",18094,"BELÉN DE LOS ANDAQUÍES","CAQUETÁ",11297,279,35,{"$f":"IFERROR(VLOOKUP(C144,Hoja3!$B$2:$D$168,3,FALSE),0)","v":38937320518.419998},712055354,13.27,108714.79,50,1.2206250869821854E-2,19.999999999999996,59.158611297607422,2.7794989820306277,79.559277428017595,3446695.6287881737,63030.481897848986,0,-0.34432679308481901,-0.50352851349710603,-1.2406592652597448,1.1581840489405881,-0.74348697035759648,1,0.39109025174203366,-1.1636509488781948,0.31443215185694373,-0.22397136032655213,46.837349397590359,0.11781951999736155,24.999999999999993,80.87362025890576,{"$f":"(+(Z144-MIN(Z$4:Z$173))/(MAX(Z$4:Z$173)-MIN(Z$4:Z$173)))*100*IF('TC - Bolsas'!$E$7=\"DANE\",1,0)+AA144*IF('TC - Bolsas'!$E$7=\"DANE\",0,1)*100","v":2.9655476909814791},77.88945902397829,64.818712352847257,95.210228677239897,0,43.783949505993853,58.336841117562535,48.149816989464455,18094]
[null,"SIERRA NEVADA-PERIJÁ-ZONA BANANERA",20400,"LA JAGUA DE IBIRICO","CESAR",52015,106,8986,{"$f":"IFERROR(VLOOKUP(C145,Hoja3!$B$2:$D$168,3,FALSE),0)","v":38166077058.209999},861745658,0,74843.64,32.6,0,19.999999999999996,46.141025543212891,17.479573200038452,49.982574041524614,733751.36130366242,16567.252869364605,1.7082519810529291,-1.653308484313313,-0.51076248444646211,-1.2406592652597448,-4.2188181640613456E-2,-0.21478247695196598,0,-0.65504407578818802,0.44443522268341651,0.45104320859271274,2.4024595017172898,20.632530120481928,0,24.999999999999993,59.28117042388876,{"$f":"(+(Z145-MIN(Z$4:Z$173))/(MAX(Z$4:Z$173)-MIN(Z$4:Z$173)))*100*IF('TC - Bolsas'!$E$7=\"DANE\",1,0)+AA145*IF('TC - Bolsas'!$E$7=\"DANE\",0,1)*100","v":18.808686260772774},46.024174297236634,92.510415631742291,96.364570070878955,22.142962392690375,31.017234879536907,85.473670307837097,47.354165508026966,20400]
[null,"CUENCA DEL CAGUÁN Y PIEDEMONTE CAQUETEÑO",18785,"SOLITA","CAQUETÁ",6412,63,153,{"$f":"IFERROR(VLOOKUP(C146,Hoja3!$B$2:$D$168,3,FALSE),0)","v":30840596669.77},2092288276,8.52,57654.59,58.1,1.4777661240848301E-2,40,51.451618194580078,3.3686837180286964,61.945769592406677,4809824.8081363067,326308.21522145974,0,0.26502675283189386,-0.5020045805449439,-0.41355308841991484,0.44750999027100807,-0.72229628704889648,0,-0.23190328929844295,-1.9716399701175982,-0.45965630726170742,-0.22397136032655213,59.036144578313255,0.14263978126035254,50,68.089924027078624,{"$f":"(+(Z146-MIN(Z$4:Z$173))/(MAX(Z$4:Z$173)-MIN(Z$4:Z$173)))*100*IF('TC - Bolsas'!$E$7=\"DANE\",1,0)+AA146*IF('TC - Bolsas'!$E$7=\"DANE\",0,1)*100","v":3.6005468941955945},58.913056046128098,50.904910577511778,88.669306060505903,0,47.136490795543182,45.814419519760598,46.73986941280841,18785]
[null,"CUENCA DEL CAGUÁN Y PIEDEMONTE CAQUETEÑO",18247,"EL DONCELLO","CAQUETÁ",19484,118,1087,{"$f":"IFERROR(VLOOKUP(C147,Hoja3!$B$2:$D$168,3,FALSE),0)","v":50144316110.245056},929697141,50.03,136153.07,44.3,3.6745407209694207E-2,19.999999999999996,53.212924957275391,6.1845616916444257,66.14995426466227,2573615.0744326143,47715.927992198725,4.8498808611143595E-6,-0.77313114021139484,-0.48898551040979238,-1.2406592652597448,0.6099228805998157,-0.62102010874846214,0,-8.3200377839706685E-2,-0.64613616505245719,0.35945996064752928,-0.22396390365334926,38.253012048192772,0.3546810798602697,24.999999999999993,71.011427955311717,{"$f":"(+(Z147-MIN(Z$4:Z$173))/(MAX(Z$4:Z$173)-MIN(Z$4:Z$173)))*100*IF('TC - Bolsas'!$E$7=\"DANE\",1,0)+AA147*IF('TC - Bolsas'!$E$7=\"DANE\",0,1)*100","v":6.6353849684800288},63.442551435611136,73.730464776056735,95.590706398398083,6.2865859784054853E-5,38.318277320876597,66.357424585037037,46.730021500124721,18247]
[null,"MONTES DE MARÍA",70473,"MORROA","SUCRE",16080,537,133,{"$f":"IFERROR(VLOOKUP(C148,Hoja3!$B$2:$D$168,3,FALSE),0)","v":9962963774.781765},2936856230,0,17784.509999999998,42.8,0,19.999999999999996,36.047004699707031,4.1666666666666661,54.224925210025489,619587.29942672665,182640.31281094527,5.3597359289896444E-2,-0.88597438945523055,-0.51076248444646211,-1.2406592652597448,-0.9729738545033334,-0.69359594415612813,0,-0.50499120719048352,0.51210548461763172,-3.7244340257012634E-2,-0.14156562620513236,35.993975903614448,0,24.999999999999993,42.538078209309866,{"$f":"(+(Z148-MIN(Z$4:Z$173))/(MAX(Z$4:Z$173)-MIN(Z$4:Z$173)))*100*IF('TC - Bolsas'!$E$7=\"DANE\",1,0)+AA148*IF('TC - Bolsas'!$E$7=\"DANE\",0,1)*100","v":4.4605802684567015},50.59478942389881,93.675716874565396,92.238619045362839,0.69474780317372797,29.991687263015351,84.377619967426241,46.307467074338618,70473]
[null,"SIERRA NEVADA-PERIJÁ-ZONA BANANERA",20045,"BECERRIL","CESAR",23793,2026,2981,{"$f":"IFERROR(VLOOKUP(C149,Hoja3!$B$2:$D$168,3,FALSE),0)","v":68623612010.940002},40782861681,0,108437.72,48.6,0,19.999999999999996,46.457538604736328,21.044004539150173,39.349176377275555,2884193.3346337159,1714069.7550119783,7.7146496966315636,-0.44964715904573221,-0.51076248444646211,-1.2406592652597448,-1.3002010192446564E-2,-8.6583745607083706E-2,1,-1.0311496264808553,-0.83023010734348024,-4.5399489260079449,11.637272927885105,44.728915662650607,0,24.999999999999993,59.806175023974873,{"$f":"(+(Z149-MIN(Z$4:Z$173))/(MAX(Z$4:Z$173)-MIN(Z$4:Z$173)))*100*IF('TC - Bolsas'!$E$7=\"DANE\",1,0)+AA149*IF('TC - Bolsas'!$E$7=\"DANE\",0,1)*100","v":22.650284526914515},34.567987319390234,70.560314497098432,54.191491595687424,100,34.607244687925082,73.504283047388583,46.27635619576413,20045]
[null,"MONTES DE MARÍA",13657,"SAN JUAN NEPOMUCENO","BOLÍVAR",39090,286,2363,{"$f":"IFERROR(VLOOKUP(C150,Hoja3!$B$2:$D$168,3,FALSE),0)","v":14474263074.793324},1377381475,0,63898.02,56.2,0,19.999999999999996,30.677179336547852,6.7766692248656941,29.518710421285753,370280.45727278903,35236.159503709387,1.2205387973775751E-4,0.12209197045636876,-0.51076248444646211,-1.2406592652597448,-1.4681339687227384,-0.59972430379191877,0,-1.3788553108430481,0.65988105455780166,0.39615294124052908,-0.22378370295508057,56.174698795180724,0,24.999999999999993,33.631074486467142,{"$f":"(+(Z150-MIN(Z$4:Z$173))/(MAX(Z$4:Z$173)-MIN(Z$4:Z$173)))*100*IF('TC - Bolsas'!$E$7=\"DANE\",1,0)+AA150*IF('TC - Bolsas'!$E$7=\"DANE\",0,1)*100","v":7.2735342429612508},23.976861168826403,96.220454406061549,95.90075616571977,1.5821052742169698E-3,28.535037255949661,86.598567175982808,45.954096231959603,13657]
[null,"CUENCA DEL CAGUÁN Y PIEDEMONTE CAQUETEÑO",18256,"EL PAUJIL","CAQUETÁ",18659,539,70,{"$f":"IFERROR(VLOOKUP(C151,Hoja3!$B$2:$D$168,3,FALSE),0)","v":37236815422.110001},496335047,157,125100.78,45.5,0.12549881783311023,19.999999999999996,53.343673706054688,3.263840505922075,39.224319615945952,1995649.0391827,26600.302642156599,4.1443773376979729E-4,-0.68285654081632607,-0.43638626425687155,-1.2406592652597448,0.62197943011514523,-0.72606708959871935,0,-1.0355658368456249,-0.30354925677827749,0.42154406356119939,-0.22333416390211272,40.060240963855421,1.211363803269857,24.999999999999993,71.228302716290742,{"$f":"(+(Z151-MIN(Z$4:Z$173))/(MAX(Z$4:Z$173)-MIN(Z$4:Z$173)))*100*IF('TC - Bolsas'!$E$7=\"DANE\",1,0)+AA151*IF('TC - Bolsas'!$E$7=\"DANE\",0,1)*100","v":3.4875511696248709},34.433469411906216,79.629909208160754,96.11530705366431,5.372087522661404E-3,34.142620645104635,71.667455496096949,45.400071100402329,18256]
[null,"MONTES DE MARÍA",70823,"TOLÚ VIEJO","SUCRE",22596,7242,2149,{"$f":"IFERROR(VLOOKUP(C152,Hoja3!$B$2:$D$168,3,FALSE),0)","v":55412655963.995338},2903355057,0,28577.63,45.8,0,19.999999999999996,50.571041107177734,41.560453177553548,29.843860173740826,2452321.4712336403,128489.77947424323,7.7612824484727491E-2,-0.66028789096755913,-0.51076248444646211,-1.2406592652597448,0.36631058029231706,0.65131311280209192,0,-1.3673546945239712,-0.57423989783425688,0.12196890722084265,-0.10464194067533954,40.512048192771076,0,24.999999999999993,66.629298612786144,{"$f":"(+(Z152-MIN(Z$4:Z$173))/(MAX(Z$4:Z$173)-MIN(Z$4:Z$173)))*100*IF('TC - Bolsas'!$E$7=\"DANE\",1,0)+AA152*IF('TC - Bolsas'!$E$7=\"DANE\",0,1)*100","v":44.762073482377431},24.327170305900207,74.968539037172448,93.583945304970527,1.0060447011432738,35.803552255234216,67.572289603569544,45.334173459734814,70823]
[null,"MONTES DE MARÍA",70204,"COLOSO","SUCRE",8852,902,169,{"$f":"IFERROR(VLOOKUP(C153,Hoja3!$B$2:$D$168,3,FALSE),0)","v":24599325194.861767},5082529771,0,13324.99,59.6,0,19.999999999999996,35.007919311523438,12.098960686850429,63.412384356608499,2778956.7549550119,574167.39392227749,5.0845560342382391E-2,0.37787000207572957,-0.51076248444646211,-1.2406592652597448,-1.0687895663189602,-0.40830218105741878,1,-0.18002881126601838,-0.76785157249776514,-1.1884111749705442,-0.14579650652141679,61.295180722891565,0,24.999999999999993,40.814532880554943,{"$f":"(+(Z153-MIN(Z$4:Z$173))/(MAX(Z$4:Z$173)-MIN(Z$4:Z$173)))*100*IF('TC - Bolsas'!$E$7=\"DANE\",1,0)+AA153*IF('TC - Bolsas'!$E$7=\"DANE\",0,1)*100","v":13.009682230414658},60.493154288823959,71.634490687695433,82.511444978738908,0.65907801833935509,37.046884087054359,64.536949420759825,45.293903687165994,70204]
[null,"MONTES DE MARÍA",13654,"SAN JACINTO","BOLÍVAR",24910,74,111,{"$f":"IFERROR(VLOOKUP(C154,Hoja3!$B$2:$D$168,3,FALSE),0)","v":5823294885.5072403},2087959231,0,42360.09,60.3,0,19.999999999999996,30.978786468505859,0.74267362505018064,15.745447521868982,233773.3795868021,83820.121678040945,0,0.4305301850561859,-0.51076248444646211,-1.2406592652597448,-1.4403222966832119,-0.81674365617751532,0,-1.866018566764208,0.74079504404814256,0.25330651080890382,-0.22397136032655213,62.349397590361441,0,24.999999999999993,34.131354414677958,{"$f":"(+(Z154-MIN(Z$4:Z$173))/(MAX(Z$4:Z$173)-MIN(Z$4:Z$173)))*100*IF('TC - Bolsas'!$E$7=\"DANE\",1,0)+AA154*IF('TC - Bolsas'!$E$7=\"DANE\",0,1)*100","v":0.77034065362006909},9.1378529747416746,97.613816420923143,94.693726870135436,0,26.993862412581141,87.852434778830826,45.251434122456047,13654]
[null,"SIERRA NEVADA-PERIJÁ-ZONA BANANERA",20621,"LA PAZ","CESAR",30218,865,1156,{"$f":"IFERROR(VLOOKUP(C155,Hoja3!$B$2:$D$168,3,FALSE),0)","v":73985426808.190002},486503462,0,107272.08,41.7,0,19.999999999999996,49.016128540039063,6.6880667152028588,62.897937066157994,2448389.2649477134,16099.79025746244,5.6342988545843594E-6,-0.96872610556737637,-0.51076248444646211,-1.2406592652597448,0.22292962611309086,-0.60291099144335736,0,-0.19822492200941377,-0.57190909928895906,0.45241764086381614,-0.22396269761369605,34.337349397590359,0,24.999999999999993,64.050143596085363,{"$f":"(+(Z155-MIN(Z$4:Z$173))/(MAX(Z$4:Z$173)-MIN(Z$4:Z$173)))*100*IF('TC - Bolsas'!$E$7=\"DANE\",1,0)+AA155*IF('TC - Bolsas'!$E$7=\"DANE\",0,1)*100","v":7.1780420830305243},59.938900179672885,75.008676053994506,96.376183801869658,7.3033761429918551E-5,35.636137833989125,67.507815751971194,45.197641209383747,20621]
[null,"PUTUMAYO",86001,"MOCOA","PUTUMAYO",59755,7311,1765,{"$f":"IFERROR(VLOOKUP(C156,Hoja3!$B$2:$D$168,3,FALSE),0)","v":6154493062.0517645},17095853748,44.97,135818.14000000001,37.299999999999997,3.3110451961718808E-2,19.999999999999996,19.474416732788086,15.188687139151536,67.617980480462265,102995.44911809496,286099.13393021503,0.2900097412446947,-1.2997329700159614,-0.49113974768924029,-1.2406592652597448,-2.5011584779568814,-0.29717673811749773,1,-3.1275976462235809E-2,0.81831310590172035,-0.34143367830486321,0.22191750334619814,27.710843373493972,0.31959506638276636,24.999999999999993,15.048896953768566,{"$f":"(+(Z156-MIN(Z$4:Z$173))/(MAX(Z$4:Z$173)-MIN(Z$4:Z$173)))*100*IF('TC - Bolsas'!$E$7=\"DANE\",1,0)+AA156*IF('TC - Bolsas'!$E$7=\"DANE\",0,1)*100","v":16.339662991096152},65.024170344977179,98.948699591717244,89.668268205522253,3.7592081643230184,26.221499422946977,89.429750448977813,45.183974730756226,86001]
[null,"CUENCA DEL CAGUÁN Y PIEDEMONTE CAQUETEÑO",18860,"VALPARAÍSO","CAQUETÁ",7122,20,40,{"$f":"IFERROR(VLOOKUP(C157,Hoja3!$B$2:$D$168,3,FALSE),0)","v":12744064197.557369},794676060,175.16,93549.66,50,0.18723745227935623,19.999999999999996,46.989494323730469,0.84245998315080028,36.570853497569011,1789394.0181911499,111580.46335299073,0,-0.34432679308481901,-0.39979718438294815,-1.2406592652597448,3.6050470430841114E-2,-0.81315472899755925,0,-1.1294195012347459,-0.18129247065594511,0.17168563144135107,-0.22397136032655213,46.837349397590359,1.8072893133487316,24.999999999999993,60.688537344726534,{"$f":"(+(Z157-MIN(Z$4:Z$173))/(MAX(Z$4:Z$173)-MIN(Z$4:Z$173)))*100*IF('TC - Bolsas'!$E$7=\"DANE\",1,0)+AA157*IF('TC - Bolsas'!$E$7=\"DANE\",0,1)*100","v":0.87788630783358546},31.574683824143346,81.735205992003685,94.004043605175269,0,32.759897484203115,73.561685392803312,45.000433856783175,18860]
[null,"SUR DEL TOLIMA",73067,"ATACO","TOLIMA",19171,1422,206,{"$f":"IFERROR(VLOOKUP(C158,Hoja3!$B$2:$D$168,3,FALSE),0)","v":27966048598.425098},2207670659,0,101562.4,64,0,19.999999999999996,32.533340454101563,8.4919931146001773,27.970068946823396,1458768.3792407855,115156.78154504199,9.8437255191170213E-3,0.70887686652431414,-0.51076248444646211,-1.2406592652597448,-1.2969744078768359,-0.5380307752628124,1,-1.4336310911692609,1.4684470091452127E-2,0.16117055064186636,-0.20883667013584517,67.921686746987959,0,24.999999999999993,36.709914647205672,{"$f":"(+(Z158-MIN(Z$4:Z$173))/(MAX(Z$4:Z$173)-MIN(Z$4:Z$173)))*100*IF('TC - Bolsas'!$E$7=\"DANE\",1,0)+AA158*IF('TC - Bolsas'!$E$7=\"DANE\",0,1)*100","v":9.1222401524760262},22.308389166435486,85.109984899164132,93.915192868534078,0.12759782888670984,31.434802669051653,76.61174619213638,44.987885725977065,73067]
[null,"SIERRA NEVADA-PERIJÁ-ZONA BANANERA",20013,"AGUSTÍN CODAZZI","CESAR",66019,1189,19869,{"$f":"IFERROR(VLOOKUP(C159,Hoja3!$B$2:$D$168,3,FALSE),0)","v":90093706494.630005},8769817201,0,189925.04,44.5,0,19.999999999999996,28.2601318359375,31.896878171435496,44.873741268464599,1364663.3013924779,132837.77701873702,0.9700328826663237,-0.75808537364554995,-0.51076248444646211,-1.2406592652597448,-1.6910137526142264,0.30375190648939626,1,-0.83574458414674369,7.0464854589327275E-2,0.1091849369360034,1.267450472336463,38.554216867469876,0,24.999999999999993,29.621884311694245,{"$f":"(+(Z159-MIN(Z$4:Z$173))/(MAX(Z$4:Z$173)-MIN(Z$4:Z$173)))*100*IF('TC - Bolsas'!$E$7=\"DANE\",1,0)+AA159*IF('TC - Bolsas'!$E$7=\"DANE\",0,1)*100","v":34.347067705471325},40.520031093460531,86.070539055784877,93.47592281815686,12.57390705750214,29.397931670399039,78.720875855956606,44.194814926066307,20013]
[null,"SIERRA NEVADA-PERIJÁ-ZONA BANANERA",44279,"FONSECA","LA GUAJIRA",45558,1262,298,{"$f":"IFERROR(VLOOKUP(C160,Hoja3!$B$2:$D$168,3,FALSE),0)","v":123261874083.52998},4713962,0,47443.86,36,0,19.999999999999996,42.720710754394531,3.4242065059923616,84.252295615292198,2705603.2767797089,103.47166249615874,1.6067922596305956E-5,-1.3975304526939523,-0.51076248444646211,-1.2406592652597448,-0.35758083353520637,-0.72029934832277509,1,0.55708330922638094,-0.72437161041250475,0.49944997229736093,-0.22394665595725299,25.753012048192769,0,24.999999999999993,53.607846899010461,{"$f":"(+(Z160-MIN(Z$4:Z$173))/(MAX(Z$4:Z$173)-MIN(Z$4:Z$173)))*100*IF('TC - Bolsas'!$E$7=\"DANE\",1,0)+AA160*IF('TC - Bolsas'!$E$7=\"DANE\",0,1)*100","v":3.6603870834656527},82.945612808634891,72.383228056336179,96.773599416025277,2.0827805834574932E-4,34.930052419082443,65.144926078508405,43.994514516910229,44279]
[null,"MACARENA GUAVIARE",50330,"MESETAS","META",10516,573,91,{"$f":"IFERROR(VLOOKUP(C161,Hoja3!$B$2:$D$168,3,FALSE),0)","v":103024799989.86002},1492098820,0,229028.93,45.1,0,80,52.305049896240234,6.3141879041460625,98.673690251336268,9796957.0169132762,141888.4385697984,6.4373151597247E-6,-0.71294807394801551,-0.51076248444646211,1.2406592652597446,0.52620628117308099,-0.61635795806837834,0,1.0671711233576771,-4.9277413677035495,8.2574207021164747E-2,-0.22396146297921007,39.4578313253012,0,100,69.505523013971356,{"$f":"(+(Z161-MIN(Z$4:Z$173))/(MAX(Z$4:Z$173)-MIN(Z$4:Z$173)))*100*IF('TC - Bolsas'!$E$7=\"DANE\",1,0)+AA161*IF('TC - Bolsas'!$E$7=\"DANE\",0,1)*100","v":6.7750907969325702},98.48290377136307,0,93.251066442767979,8.3442740926339723E-5,62.242615513252233,8.3442740926339723E-6,43.569833362558782,50330]
[null,"MONTES DE MARÍA",13244,"EL CARMEN DE BOLÍVAR","BOLÍVAR",73653,1173,257,{"$f":"IFERROR(VLOOKUP(C162,Hoja3!$B$2:$D$168,3,FALSE),0)","v":62599360879.736839},2786604088,0,99811.59,58.4,0,19.999999999999996,25.649930953979492,1.9415366651731769,23.445442452896582,849922.75779312232,37834.223833380856,0,0.28759540268066081,-0.51076248444646211,-1.2406592652597448,-1.9317045161748376,-0.77362521562471231,1,-1.5936680984278579,0.37557512169840129,0.38851411972585692,-0.22397136032655213,59.48795180722891,0,24.999999999999993,25.29230794735426,{"$f":"(+(Z162-MIN(Z$4:Z$173))/(MAX(Z$4:Z$173)-MIN(Z$4:Z$173)))*100*IF('TC - Bolsas'!$E$7=\"DANE\",1,0)+AA162*IF('TC - Bolsas'!$E$7=\"DANE\",0,1)*100","v":2.0624261893245239},17.433656860164334,91.324625020546364,95.836209356085888,0,26.027343098873736,82.192162518491727,42.876788924759126,13244]
[null,"MACARENA GUAVIARE",50577,"PUERTO LLERAS","META",10440,58,51,{"$f":"IFERROR(VLOOKUP(C163,Hoja3!$B$2:$D$168,3,FALSE),0)","v":43751143305.271767},1398998262,0,256593.72,43.5,0,19.999999999999996,59.020263671875,1.0440613026819923,58.458879138171696,4190722.5388191347,134003.66494252873,2.8980797331302816E-5,-0.83331420647477372,-0.51076248444646211,-1.2406592652597448,1.1454267949282628,-0.80590391366615943,0,-0.35523535078094437,-1.6046697341258109,0.10575699650579751,-0.22392680246192689,37.048192771084331,0,24.999999999999993,80.644141135450582,{"$f":"(+(Z163-MIN(Z$4:Z$173))/(MAX(Z$4:Z$173)-MIN(Z$4:Z$173)))*100*IF('TC - Bolsas'!$E$7=\"DANE\",1,0)+AA163*IF('TC - Bolsas'!$E$7=\"DANE\",0,1)*100","v":1.0951639619336426},55.156357549909053,57.224242878841324,93.446957274458825,3.756592777497817E-4,38.171436809986702,51.501856156884969,42.17056261405618,50577]
[null,"SUR DE CÓRDOBA",23855,"VALENCIA","CÓRDOBA",36640,195,1478,{"$f":"IFERROR(VLOOKUP(C164,Hoja3!$B$2:$D$168,3,FALSE),0)","v":136810285340.84177},3591555960,7.65,89278.36,53.1,{"$f":"+K164*100/L164","v":8.5687057871582772E-3},19.999999999999996,46.339382171630859,{"$f":"(+(G164+H164)/F164)*100","v":4.5660480349344983},39.558825018798558,{"$f":"+I164/F164","v":3733905.1675993931},{"$f":"+J164/F164","v":98022.81550218341},8.0419804884915499E-2,{"$f":"+(M164-AVERAGE(M$4:M$173))/STDEVP(M$4:M$173)","v":-0.11111741131422513},{"$f":"+(N164-AVERAGE(N$4:N$173))/STDEVP(N$4:N$173)","v":-0.50568428562858159},{"$f":"+(O164-AVERAGE(O$4:O$173))/STDEVP(O$4:O$173)","v":-1.2406592652597448},{"$f":"+(P164-AVERAGE(P$4:P$173))/STDEVP(P$4:P$173)","v":-2.3897402305876655E-2},{"$f":"+(Q164-AVERAGE(Q$4:Q$173))/STDEVP(Q$4:Q$173)","v":-0.67923174974090372},0,{"$f":"+(R164-AVERAGE(R$4:R$173))/STDEVP(R$4:R$173)","v":-1.0237343091700881},{"$f":"+(S164-AVERAGE(S$4:S$173))/STDEVP(S$4:S$173)*-1","v":-1.3338931809942096},{"$f":"+(T164-AVERAGE(T$4:T$173))/STDEVP(T$4:T$173)*-1","v":0.21154778993693835},{"$f":"+(U164-AVERAGE(U$4:U$173))/STDEVP(U$4:U$173)","v":-0.10032621908743784},{"$f":"(+(V164-MIN(V$4:V$173))/(MAX(V$4:V$173)-MIN(V$4:V$173)))*100","v":51.506024096385538},{"$f":"(+(W164-MIN(W$4:W$173))/(MAX(W$4:W$173)-MIN(W$4:W$173)))*100","v":8.2708508419861701E-2},{"$f":"(+(X164-MIN(X$4:X$173))/(MAX(X$4:X$173)-MIN(X$4:X$173)))*100","v":24.999999999999993},{"$f":"(+(Y164-MIN(Y$4:Y$173))/(MAX(Y$4:Y$173)-MIN(Y$4:Y$173)))*100","v":59.610187311456585},{"$f":"(+(Z164-MIN(Z$4:Z$173))/(MAX(Z$4:Z$173)-MIN(Z$4:Z$173)))*100*IF('TC - Bolsas'!$E$7=\"DANE\",1,0)+AA164*IF('TC - Bolsas'!$E$7=\"DANE\",0,1)*100","v":4.89101716733364},{"$f":"(+(AB164-MIN(AB$4:AB$173))/(MAX(AB$4:AB$173)-MIN(AB$4:AB$173)))*100","v":34.793858119371137},{"$f":"(+(AC164-MIN(AC$4:AC$173))/(MAX(AC$4:AC$173)-MIN(AC$4:AC$173)))*100","v":61.887092480315552},{"$f":"(+(AD164-MIN(AD$4:AD$173))/(MAX(AD$4:AD$173)-MIN(AD$4:AD$173)))*100","v":94.340872414575799},{"$f":"(+(AE164-MIN(AE$4:AE$173))/(MAX(AE$4:AE$173)-MIN(AE$4:AE$173)))*100","v":1.042429767355854},{"$f":"+SUMPRODUCT($AF$1:$AK$1,AF164:AK164)","v":34.189693567049446},{"$f":"SUMPRODUCT(AL164:AN164,$AL$1:$AN$1)","v":55.802626209019579},{"$f":"+SUMPRODUCT(AO164:AP164,$AO$1:$AP$1)","v":40.673573359640486},23855]
["Si","SIERRA NEVADA-PERIJÁ-ZONA BANANERA",20443,"MANAURE","CESAR",11060,175,270,{"$f":"IFERROR(VLOOKUP(C165,Hoja3!$B$2:$D$168,3,FALSE),0)","v":66790271773.139999},1522712473,0,13698.15,41.2,0,19.999999999999996,56.368270874023438,4.0235081374321879,97.710082722210629,6038903.4152929476,137677.43878842675,1.4609375470731246E-4,-1.0063405219819883,-0.51076248444646211,-1.2406592652597448,0.90088233251381666,-0.69874479963489089,0,1.0330881188621432,-2.7001710850466241,9.4955376863979646E-2,-0.2237467417396159,33.584337349397593,0,24.999999999999993,76.245243941237362,{"$f":"(+(Z165-MIN(Z$4:Z$173))/(MAX(Z$4:Z$173)-MIN(Z$4:Z$173)))*100*IF('TC - Bolsas'!$E$7=\"DANE\",1,0)+AA165*IF('TC - Bolsas'!$E$7=\"DANE\",0,1)*100","v":4.3062898626755599},97.444734375701387,38.359396648699153,93.355685330819497,1.8937185802628622E-3,43.263255400749756,34.523646355687269,40.641372687231005,20443]
[null,"MONTES DE MARÍA",13212,"CÓRDOBA","BOLÍVAR",16714,17,47,{"$f":"IFERROR(VLOOKUP(C166,Hoja3!$B$2:$D$168,3,FALSE),0)","v":30089595565.864761},1142502910,0,59251.75,61.9,0,19.999999999999996,10.401786804199219,0.38291252841928924,49.898291151493737,1800262.9870686107,68356.043436639942,3.8861384558623757E-2,0.55089631758294411,-0.51076248444646211,-1.2406592652597448,-3.3377600744504181,-0.82968286352575327,0,-0.65802517964322482,-0.18773500571295326,0.29877395063550932,-0.164222130775762,64.759036144578303,0,24.999999999999993,0,{"$f":"(+(Z166-MIN(Z$4:Z$173))/(MAX(Z$4:Z$173)-MIN(Z$4:Z$173)))*100*IF('TC - Bolsas'!$E$7=\"DANE\",1,0)+AA166*IF('TC - Bolsas'!$E$7=\"DANE\",0,1)*100","v":0.3826048625339924},45.933369779460207,81.624263697792372,95.077919402634166,0.50373492105016437,26.130073182088093,73.512210820118142,40.344714473497106,13212]
[null,"CUENCA DEL CAGUÁN Y PIEDEMONTE CAQUETEÑO",18029,"ALBANIA","CAQUETÁ",4442,107,34,{"$f":"IFERROR(VLOOKUP(C167,Hoja3!$B$2:$D$168,3,FALSE),0)","v":22384914330.14748},1037962731,58.23,42169.72,38.799999999999997,0.1380848627878013,40,59.910945892333984,3.1742458352093652,20.065667695964979,5039377.3818431972,233670.1330481765,2.0379101468041881E-4,-1.1868897207721258,-0.42892721032290521,-0.41355308841991484,1.2275580152546155,-0.7292894614240929,1,-1.7132114547763866,-2.1077062814859113,-0.18728207576116279,-0.22365803242393556,29.969879518072279,1.3328492447081552,50,82.12152807393953,{"$f":"(+(Z167-MIN(Z$4:Z$173))/(MAX(Z$4:Z$173)-MIN(Z$4:Z$173)))*100*IF('TC - Bolsas'!$E$7=\"DANE\",1,0)+AA167*IF('TC - Bolsas'!$E$7=\"DANE\",0,1)*100","v":3.3909896991067527},13.792362442238677,48.561809823771668,90.970824381895028,2.6416107366405823E-3,37.459519779119653,43.705893002468166,39.333431746124205,18029]
[null,"MONTES DE MARÍA",70418,"LOS PALMITOS","SUCRE",24213,362,330,{"$f":"IFERROR(VLOOKUP(C168,Hoja3!$B$2:$D$168,3,FALSE),0)","v":28400008906.131763},4312889396,0,19620.8,41.6,0,19.999999999999996,13.274946212768555,2.8579688597034649,55.654967426511035,1172924.0038876538,178122.88423574113,8.2014131909926111E-2,-0.97624898885029876,-0.51076248444646211,-1.2406592652597448,-3.0728214880527478,-0.74066471406777468,0,-0.45441030799648707,0.18411750737616001,-2.3962209327010705E-2,-9.7874947407894763E-2,34.186746987951807,0,24.999999999999993,4.7657493154287245,{"$f":"(+(Z168-MIN(Z$4:Z$173))/(MAX(Z$4:Z$173)-MIN(Z$4:Z$173)))*100*IF('TC - Bolsas'!$E$7=\"DANE\",1,0)+AA168*IF('TC - Bolsas'!$E$7=\"DANE\",0,1)*100","v":3.0501193147085486},52.135485214234357,88.027670205526675,92.350850909273319,1.0630959944394602,22.165833974282112,79.331212784417957,39.31544761732286,70418]
[null,"SIERRA NEVADA-PERIJÁ-ZONA BANANERA",20750,"SAN DIEGO","CESAR",20895,110,390,{"$f":"IFERROR(VLOOKUP(C169,Hoja3!$B$2:$D$168,3,FALSE),0)","v":73803310706.911774},372846506,0,65146.5,40.700000000000003,0,19.999999999999996,48.681682586669922,2.3929169657812874,39.879198282966115,3532103.8864279385,17843.814596793491,1.1764087001619214E-5,-1.0439549383966,-0.51076248444646211,-1.2406592652597448,0.19208983426312778,-0.75739082186403683,0,-1.0124026382638014,-1.214276330200541,0.44728986535293086,-0.22395327308795529,32.831325301204821,0,24.999999999999993,63.495393459854476,{"$f":"(+(Z169-MIN(Z$4:Z$173))/(MAX(Z$4:Z$173)-MIN(Z$4:Z$173)))*100*IF('TC - Bolsas'!$E$7=\"DANE\",1,0)+AA169*IF('TC - Bolsas'!$E$7=\"DANE\",0,1)*100","v":2.5489054100517174},35.139021173824226,63.946928823611429,96.332854925928444,1.5249022916434467E-4,31.041087469290662,57.552251190273203,38.994436585585419,20750]
[null,"ALTO PATÍA Y NORTE DEL CAUCA",52418,"LOS ANDES","NARIÑO",9266,10,167,{"$f":"IFERROR(VLOOKUP(C170,Hoja3!$B$2:$D$168,3,FALSE),0)","v":33444285815.669998},622776401,446.07,95790.59,44.9,0.4656720456570943,19.999999999999996,16.958810806274414,1.9102093675804015,85.977233464426988,3609355.2574649253,67210.921756960932,1.1651170510242035E-3,-0.72799384051386051,-0.23478437403918295,-1.2406592652597448,-2.7331264906318213,-0.77475193667100928,1,0.61809473004822046,-1.2600667516948751,0.30214083421254362,-0.22217999733406357,39.156626506024097,4.4948491949444227,24.999999999999993,10.876226552532222,{"$f":"(+(Z170-MIN(Z$4:Z$173))/(MAX(Z$4:Z$173)-MIN(Z$4:Z$173)))*100*IF('TC - Bolsas'!$E$7=\"DANE\",1,0)+AA170*IF('TC - Bolsas'!$E$7=\"DANE\",0,1)*100","v":2.0286629096690061},84.804022617880747,63.15840468388496,95.106369025771571,1.5102656592857694E-2,29.62952521485472,56.844074481155751,37.79388999474503,52418]
[null,"CHOCÓ",27205,"CONDOTO","CHOCÓ",12467,70,11501,{"$f":"IFERROR(VLOOKUP(C171,Hoja3!$B$2:$D$168,3,FALSE),0)","v":107081864402},2138891363,20.92,46671.33,53.2,4.4824092221070193E-2,19.999999999999996,52.213535308837891,92.813026389668735,60.113453480992604,8589224.7053822093,171564.23862998316,6.7014301621246053E-2,-0.10359452803130265,-0.48419771985030297,-1.2406592652597448,0.51776757591056444,2.4946688233910574,1,-0.29671270223363622,-4.2118631786827212,-4.678497762136022E-3,-0.12093712888496611,51.656626506024104,0.43265971559382271,24.999999999999993,69.353726500014048,{"$f":"(+(Z171-MIN(Z$4:Z$173))/(MAX(Z$4:Z$173)-MIN(Z$4:Z$173)))*100*IF('TC - Bolsas'!$E$7=\"DANE\",1,0)+AA171*IF('TC - Bolsas'!$E$7=\"DANE\",0,1)*100","v":100},56.938959276902978,12.32762692993408,92.513795161475286,0.86866292387205102,49.036180464302454,11.181730529327877,37.679845483810077,27205]
[null,"CUENCA DEL CAGUÁN Y PIEDEMONTE CAQUETEÑO",18479,"MORELIA","CAQUETÁ",3786,2,18,{"$f":"IFERROR(VLOOKUP(C172,Hoja3!$B$2:$D$168,3,FALSE),0)","v":18379136804.002655},1319970016,0,48050.79,42.4,0,19.999999999999996,55.812351226806641,0.52826201796090866,31.578415469437697,4854499.9482310237,348645.01215002639,1.4938984704178974E-5,-0.91606592258691999,-0.51076248444646211,-1.2406592652597448,0.84962010005813515,-0.82445520772652403,0,-1.3060031025593131,-1.9981209693257038,-0.52533089545343792,-0.22394839169492761,35.391566265060234,0,24.999999999999993,75.323132320749139,{"$f":"(+(Z172-MIN(Z$4:Z$173))/(MAX(Z$4:Z$173)-MIN(Z$4:Z$173)))*100*IF('TC - Bolsas'!$E$7=\"DANE\",1,0)+AA172*IF('TC - Bolsas'!$E$7=\"DANE\",0,1)*100","v":0.53925659569567586},26.195941738922734,50.448900205948547,88.114366383796238,1.9364436872227863E-4,32.376256637569853,45.404029549790565,36.284588511236066,18479]
[null,"MONTES DE MARÍA",13248,"EL GUAMO","BOLÍVAR",9115,0,1242,{"$f":"IFERROR(VLOOKUP(C173,Hoja3!$B$2:$D$168,3,FALSE),0)","v":26887703436.408684},-385978548,0,38369.93,59.5,0,0,26.249536514282227,13.62589138782227,20.038747856082946,2949830.3276367178,-42345.424904004387,5.1429134149437523E-8,0.37034711879280707,-0.51076248444646211,-2.0677654420995744,-1.8764139363800005,-0.35338442276924142,0,-1.7141636152732549,-0.86913615567483105,0.62425809989567993,-0.22397128125445584,61.144578313253007,0,0,26.286881997097961,{"$f":"(+(Z173-MIN(Z$4:Z$173))/(MAX(Z$4:Z$173)-MIN(Z$4:Z$173)))*100*IF('TC - Bolsas'!$E$7=\"DANE\",1,0)+AA173*IF('TC - Bolsas'!$E$7=\"DANE\",0,1)*100","v":14.655345668789044},13.763359603368173,69.890341229994291,97.828207962301178,6.6664250702526142E-7,21.016330569454325,62.901307173659113,33.581823550715761,13248]
[null,null,null,null,null,null,null,null,{"$f":"+SUM(I4:I173)","v":5263072213390.623},null,null,null,null,null,null,null,null,null,null,null,null,null,null,null,null,null,null,-2.4229384147846988]
[null,null,null,null,null,null,null,null,null,null,null,null,null,null,null,null,null,null,null,null,null,null,null,null,null,null,null,-2.4229384147846988,null,null,null,null,null,null,null,null,null,null,null,{"$f":"+AN19*0.05","v":1.184224202300938E-6}]
[]
[]
[]
[null,null,null,null,null,null,null,null,null,null,null,null,null,null,null,null,null,null,null,null,null,null,null,null,null,null,null,null,null,null,null,null,"% AREA CILI ","IICA 2021 - DNP"]
[null,null,null,null,null,null,null,null,null,null,null,null,null,null,null,null,null,null,null,null,null,null,null,null,null,null,null,null,null,null,null,null,0,0]
[null,null,null,null,null,null,null,null,null,null,null,null,null,null,null,null,null,null,null,null,null,null,null,null,null,null,null,null,null,null,null,null,0,0]
[null,null,null,null,null,null,null,null,null,null,null,null,null,null,null,null,null,null,null,null,null,null,null,null,null,null,null,null,null,null,null,null,0,24.999999999999993]
[null,null,null,null,null,null,null,null,null,null,null,null,null,null,null,null,null,null,null,null,null,null,null,null,null,null,null,null,null,null,null,null,0,24.999999999999993]
[null,null,null,null,null,null,null,null,null,null,null,null,null,null,null,null,null,null,null,null,null,null,null,null,null,null,null,null,null,null,null,null,2.1174089625759018,24.999999999999993]
[null,null,null,null,null,null,null,null,null,null,null,null,null,null,null,null,null,null,null,null,null,null,null,null,null,null,null,null,null,null,null,null,0,24.999999999999993]
[null,null,null,null,null,null,null,null,null,null,null,null,null,null,null,null,null,null,null,null,null,null,null,null,null,null,null,null,null,null,null,null,0,24.999999999999993]
[null,null,null,null,null,null,null,null,null,null,null,null,null,null,null,null,null,null,null,null,null,null,null,null,null,null,null,null,null,null,null,null,0,24.999999999999993]
[null,null,null,null,null,null,null,null,null,null,null,null,null,null,null,null,null,null,null,null,null,null,null,null,null,null,null,null,null,null,null,null,0,24.999999999999993]
[null,null,null,null,null,null,null,null,null,null,null,null,null,null,null,null,null,null,null,null,null,null,null,null,null,null,null,null,null,null,null,null,0,24.999999999999993]
[null,null,null,null,null,null,null,null,null,null,null,null,null,null,null,null,null,null,null,null,null,null,null,null,null,null,null,null,null,null,null,null,0,24.999999999999993]
[null,null,null,null,null,null,null,null,null,null,null,null,null,null,null,null,null,null,null,null,null,null,null,null,null,null,null,null,null,null,null,null,0,24.999999999999993]
[null,null,null,null,null,null,null,null,null,null,null,null,null,null,null,null,null,null,null,null,null,null,null,null,null,null,null,null,null,null,null,null,0,24.999999999999993]
[null,null,null,null,null,null,null,null,null,null,null,null,null,null,null,null,null,null,null,null,null,null,null,null,null,null,null,null,null,null,null,null,0,24.999999999999993]
[null,null,null,null,null,null,null,null,null,null,null,null,null,null,null,null,null,null,null,null,null,null,null,null,null,null,null,null,null,null,null,null,0,24.999999999999993]
[null,null,null,null,null,null,null,null,null,null,null,null,null,null,null,null,null,null,null,null,null,null,null,null,null,null,null,null,null,null,null,null,0,24.999999999999993]
[null,null,null,null,null,null,null,null,null,null,null,null,null,null,null,null,null,null,null,null,null,null,null,null,null,null,null,null,null,null,null,null,0,24.999999999999993]
[null,null,null,null,null,null,null,null,null,null,null,null,null,null,null,null,null,null,null,null,null,null,null,null,null,null,null,null,null,null,null,null,0,24.999999999999993]
[null,null,null,null,null,null,null,null,null,null,null,null,null,null,null,null,null,null,null,null,null,null,null,null,null,null,null,null,null,null,null,null,0,24.999999999999993]
[null,null,null,null,null,null,null,null,null,null,null,null,null,null,null,null,null,null,null,null,null,null,null,null,null,null,null,null,null,null,null,null,0,24.999999999999993]
[null,null,null,null,null,null,null,null,null,null,null,null,null,null,null,null,null,null,null,null,null,null,null,null,null,null,null,null,null,null,null,null,0,24.999999999999993]
[null,null,null,null,null,null,null,null,null,null,null,null,null,null,null,null,null,null,null,null,null,null,null,null,null,null,null,null,null,null,null,null,0,24.999999999999993]
[null,null,null,null,null,null,null,null,null,null,null,null,null,null,null,null,null,null,null,null,null,null,null,null,null,null,null,null,null,null,null,null,0,24.999999999999993]
[null,null,null,null,null,null,null,null,null,null,null,null,null,null,null,null,null,null,null,null,null,null,null,null,null,null,null,null,null,null,null,null,0,24.999999999999993]
[null,null,null,null,null,null,null,null,null,null,null,null,null,null,null,null,null,null,null,null,null,null,null,null,null,null,null,null,null,null,null,null,0.15778008234806531,24.999999999999993]
[null,null,null,null,null,null,null,null,null,null,null,null,null,null,null,null,null,null,null,null,null,null,null,null,null,null,null,null,null,null,null,null,0.15281243183279941,24.999999999999993]
[null,null,null,null,null,null,null,null,null,null,null,null,null,null,null,null,null,null,null,null,null,null,null,null,null,null,null,null,null,null,null,null,0,24.999999999999993]
[null,null,null,null,null,null,null,null,null,null,null,null,null,null,null,null,null,null,null,null,null,null,null,null,null,null,null,null,null,null,null,null,0,24.999999999999993]
[null,null,null,null,null,null,null,null,null,null,null,null,null,null,null,null,null,null,null,null,null,null,null,null,null,null,null,null,null,null,null,null,0.31959506638276636,24.999999999999993]
[null,null,null,null,null,null,null,null,null,null,null,null,null,null,null,null,null,null,null,null,null,null,null,null,null,null,null,null,null,null,null,null,1.8072893133487311,24.999999999999993]
[null,null,null,null,null,null,null,null,null,null,null,null,null,null,null,null,null,null,null,null,null,null,null,null,null,null,null,null,null,null,null,null,0,24.999999999999993]
[null,null,null,null,null,null,null,null,null,null,null,null,null,null,null,null,null,null,null,null,null,null,null,null,null,null,null,null,null,null,null,null,0,24.999999999999993]
[null,null,null,null,null,null,null,null,null,null,null,null,null,null,null,null,null,null,null,null,null,null,null,null,null,null,null,null,null,null,null,null,0,24.999999999999993]
[null,null,null,null,null,null,null,null,null,null,null,null,null,null,null,null,null,null,null,null,null,null,null,null,null,null,null,null,null,null,null,null,0,24.999999999999993]
[null,null,null,null,null,null,null,null,null,null,null,null,null,null,null,null,null,null,null,null,null,null,null,null,null,null,null,null,null,null,null,null,0,24.999999999999993]
[null,null,null,null,null,null,null,null,null,null,null,null,null,null,null,null,null,null,null,null,null,null,null,null,null,null,null,null,null,null,null,null,1.0243481768639248E-2,24.999999999999993]
[null,null,null,null,null,null,null,null,null,null,null,null,null,null,null,null,null,null,null,null,null,null,null,null,null,null,null,null,null,null,null,null,0,24.999999999999993]
[null,null,null,null,null,null,null,null,null,null,null,null,null,null,null,null,null,null,null,null,null,null,null,null,null,null,null,null,null,null,null,null,3.3075606971653078E-2,24.999999999999993]
[null,null,null,null,null,null,null,null,null,null,null,null,null,null,null,null,null,null,null,null,null,null,null,null,null,null,null,null,null,null,null,null,1.2113638032698573,24.999999999999993]
[null,null,null,null,null,null,null,null,null,null,null,null,null,null,null,null,null,null,null,null,null,null,null,null,null,null,null,null,null,null,null,null,0.45653184512932976,24.999999999999993]
[null,null,null,null,null,null,null,null,null,null,null,null,null,null,null,null,null,null,null,null,null,null,null,null,null,null,null,null,null,null,null,null,0.35468107986026975,24.999999999999993]
[null,null,null,null,null,null,null,null,null,null,null,null,null,null,null,null,null,null,null,null,null,null,null,null,null,null,null,null,null,null,null,null,0,24.999999999999993]
[null,null,null,null,null,null,null,null,null,null,null,null,null,null,null,null,null,null,null,null,null,null,null,null,null,null,null,null,null,null,null,null,0,24.999999999999993]
[null,null,null,null,null,null,null,null,null,null,null,null,null,null,null,null,null,null,null,null,null,null,null,null,null,null,null,null,null,null,null,null,8.2708508419861715E-2,24.999999999999993]
[null,null,null,null,null,null,null,null,null,null,null,null,null,null,null,null,null,null,null,null,null,null,null,null,null,null,null,null,null,null,null,null,0.43265971559382282,24.999999999999993]
[null,null,null,null,null,null,null,null,null,null,null,null,null,null,null,null,null,null,null,null,null,null,null,null,null,null,null,null,null,null,null,null,5.4202504454236036E-2,24.999999999999993]
[null,null,null,null,null,null,null,null,null,null,null,null,null,null,null,null,null,null,null,null,null,null,null,null,null,null,null,null,null,null,null,null,4.4948491949444236,24.999999999999993]
[null,null,null,null,null,null,null,null,null,null,null,null,null,null,null,null,null,null,null,null,null,null,null,null,null,null,null,null,null,null,null,null,0.11781951999736157,24.999999999999993]
[null,null,null,null,null,null,null,null,null,null,null,null,null,null,null,null,null,null,null,null,null,null,null,null,null,null,null,null,null,null,null,null,0,24.999999999999993]
[null,null,null,null,null,null,null,null,null,null,null,null,null,null,null,null,null,null,null,null,null,null,null,null,null,null,null,null,null,null,null,null,0,24.999999999999993]
[null,null,null,null,null,null,null,null,null,null,null,null,null,null,null,null,null,null,null,null,null,null,null,null,null,null,null,null,null,null,null,null,0,24.999999999999993]
[null,null,null,null,null,null,null,null,null,null,null,null,null,null,null,null,null,null,null,null,null,null,null,null,null,null,null,null,null,null,null,null,0,50]
[null,null,null,null,null,null,null,null,null,null,null,null,null,null,null,null,null,null,null,null,null,null,null,null,null,null,null,null,null,null,null,null,0,50]
[null,null,null,null,null,null,null,null,null,null,null,null,null,null,null,null,null,null,null,null,null,null,null,null,null,null,null,null,null,null,null,null,7.669718315592899,50]
[null,null,null,null,null,null,null,null,null,null,null,null,null,null,null,null,null,null,null,null,null,null,null,null,null,null,null,null,null,null,null,null,1.414314070602658,50]
[null,null,null,null,null,null,null,null,null,null,null,null,null,null,null,null,null,null,null,null,null,null,null,null,null,null,null,null,null,null,null,null,4.7601553357589817E-2,50]
[null,null,null,null,null,null,null,null,null,null,null,null,null,null,null,null,null,null,null,null,null,null,null,null,null,null,null,null,null,null,null,null,8.778210389432676,50]
[null,null,null,null,null,null,null,null,null,null,null,null,null,null,null,null,null,null,null,null,null,null,null,null,null,null,null,null,null,null,null,null,1.7990587009235548,50]
[null,null,null,null,null,null,null,null,null,null,null,null,null,null,null,null,null,null,null,null,null,null,null,null,null,null,null,null,null,null,null,null,12.377647735658666,50]
[null,null,null,null,null,null,null,null,null,null,null,null,null,null,null,null,null,null,null,null,null,null,null,null,null,null,null,null,null,null,null,null,0,50]
[null,null,null,null,null,null,null,null,null,null,null,null,null,null,null,null,null,null,null,null,null,null,null,null,null,null,null,null,null,null,null,null,5.7736409153655401,50]
[null,null,null,null,null,null,null,null,null,null,null,null,null,null,null,null,null,null,null,null,null,null,null,null,null,null,null,null,null,null,null,null,0.23013276268431734,50]
[null,null,null,null,null,null,null,null,null,null,null,null,null,null,null,null,null,null,null,null,null,null,null,null,null,null,null,null,null,null,null,null,29.263749664634275,50]
[null,null,null,null,null,null,null,null,null,null,null,null,null,null,null,null,null,null,null,null,null,null,null,null,null,null,null,null,null,null,null,null,15.281125004716372,50]
[null,null,null,null,null,null,null,null,null,null,null,null,null,null,null,null,null,null,null,null,null,null,null,null,null,null,null,null,null,null,null,null,0.62831979414137451,50]
[null,null,null,null,null,null,null,null,null,null,null,null,null,null,null,null,null,null,null,null,null,null,null,null,null,null,null,null,null,null,null,null,2.457803086056952,50]
[null,null,null,null,null,null,null,null,null,null,null,null,null,null,null,null,null,null,null,null,null,null,null,null,null,null,null,null,null,null,null,null,3.7829547324126209,50]
[null,null,null,null,null,null,null,null,null,null,null,null,null,null,null,null,null,null,null,null,null,null,null,null,null,null,null,null,null,null,null,null,5.6838464715597921,50]
[null,null,null,null,null,null,null,null,null,null,null,null,null,null,null,null,null,null,null,null,null,null,null,null,null,null,null,null,null,null,null,null,0.14690798794357393,50]
[null,null,null,null,null,null,null,null,null,null,null,null,null,null,null,null,null,null,null,null,null,null,null,null,null,null,null,null,null,null,null,null,0,50]
[null,null,null,null,null,null,null,null,null,null,null,null,null,null,null,null,null,null,null,null,null,null,null,null,null,null,null,null,null,null,null,null,3.0948927990487909,50]
[null,null,null,null,null,null,null,null,null,null,null,null,null,null,null,null,null,null,null,null,null,null,null,null,null,null,null,null,null,null,null,null,1.7526750408308711,50]
[null,null,null,null,null,null,null,null,null,null,null,null,null,null,null,null,null,null,null,null,null,null,null,null,null,null,null,null,null,null,null,null,0.14155497695957259,50]
[null,null,null,null,null,null,null,null,null,null,null,null,null,null,null,null,null,null,null,null,null,null,null,null,null,null,null,null,null,null,null,null,1.8618906033933098,50]
[null,null,null,null,null,null,null,null,null,null,null,null,null,null,null,null,null,null,null,null,null,null,null,null,null,null,null,null,null,null,null,null,1.0089936177704122,50]
[null,null,null,null,null,null,null,null,null,null,null,null,null,null,null,null,null,null,null,null,null,null,null,null,null,null,null,null,null,null,null,null,9.2581673316154003,50]
[null,null,null,null,null,null,null,null,null,null,null,null,null,null,null,null,null,null,null,null,null,null,null,null,null,null,null,null,null,null,null,null,0.11038445728603072,50]
[null,null,null,null,null,null,null,null,null,null,null,null,null,null,null,null,null,null,null,null,null,null,null,null,null,null,null,null,null,null,null,null,0,50]
[null,null,null,null,null,null,null,null,null,null,null,null,null,null,null,null,null,null,null,null,null,null,null,null,null,null,null,null,null,null,null,null,0.14263978126035254,50]
[null,null,null,null,null,null,null,null,null,null,null,null,null,null,null,null,null,null,null,null,null,null,null,null,null,null,null,null,null,null,null,null,1.3328492447081552,50]
[null,null,null,null,null,null,null,null,null,null,null,null,null,null,null,null,null,null,null,null,null,null,null,null,null,null,null,null,null,null,null,null,15.430478553706696,74.999999999999986]
[null,null,null,null,null,null,null,null,null,null,null,null,null,null,null,null,null,null,null,null,null,null,null,null,null,null,null,null,null,null,null,null,6.0185444060762858,74.999999999999986]
[null,null,null,null,null,null,null,null,null,null,null,null,null,null,null,null,null,null,null,null,null,null,null,null,null,null,null,null,null,null,null,null,0.15129815700584509,74.999999999999986]
[null,null,null,null,null,null,null,null,null,null,null,null,null,null,null,null,null,null,null,null,null,null,null,null,null,null,null,null,null,null,null,null,7.0113619395873963,74.999999999999986]
[null,null,null,null,null,null,null,null,null,null,null,null,null,null,null,null,null,null,null,null,null,null,null,null,null,null,null,null,null,null,null,null,12.699048359533013,74.999999999999986]
[null,null,null,null,null,null,null,null,null,null,null,null,null,null,null,null,null,null,null,null,null,null,null,null,null,null,null,null,null,null,null,null,1.5871260106287601,74.999999999999986]
[null,null,null,null,null,null,null,null,null,null,null,null,null,null,null,null,null,null,null,null,null,null,null,null,null,null,null,null,null,null,null,null,2.3718127146698555,74.999999999999986]
[null,null,null,null,null,null,null,null,null,null,null,null,null,null,null,null,null,null,null,null,null,null,null,null,null,null,null,null,null,null,null,null,2.1859102369831271,74.999999999999986]
[null,null,null,null,null,null,null,null,null,null,null,null,null,null,null,null,null,null,null,null,null,null,null,null,null,null,null,null,null,null,null,null,19.741148196252475,74.999999999999986]
[null,null,null,null,null,null,null,null,null,null,null,null,null,null,null,null,null,null,null,null,null,null,null,null,null,null,null,null,null,null,null,null,0,74.999999999999986]
[null,null,null,null,null,null,null,null,null,null,null,null,null,null,null,null,null,null,null,null,null,null,null,null,null,null,null,null,null,null,null,null,0.98265143416838596,74.999999999999986]
[null,null,null,null,null,null,null,null,null,null,null,null,null,null,null,null,null,null,null,null,null,null,null,null,null,null,null,null,null,null,null,null,2.1866052111433287,74.999999999999986]
[null,null,null,null,null,null,null,null,null,null,null,null,null,null,null,null,null,null,null,null,null,null,null,null,null,null,null,null,null,null,null,null,3.4029202680439159,74.999999999999986]
[null,null,null,null,null,null,null,null,null,null,null,null,null,null,null,null,null,null,null,null,null,null,null,null,null,null,null,null,null,null,null,null,7.3687943835524115,74.999999999999986]
[null,null,null,null,null,null,null,null,null,null,null,null,null,null,null,null,null,null,null,null,null,null,null,null,null,null,null,null,null,null,null,null,1.7287419674891626,74.999999999999986]
[null,null,null,null,null,null,null,null,null,null,null,null,null,null,null,null,null,null,null,null,null,null,null,null,null,null,null,null,null,null,null,null,8.4295509172461554,74.999999999999986]
[null,null,null,null,null,null,null,null,null,null,null,null,null,null,null,null,null,null,null,null,null,null,null,null,null,null,null,null,null,null,null,null,10.926984945183547,74.999999999999986]
[null,null,null,null,null,null,null,null,null,null,null,null,null,null,null,null,null,null,null,null,null,null,null,null,null,null,null,null,null,null,null,null,4.5403076049860784,74.999999999999986]
[null,null,null,null,null,null,null,null,null,null,null,null,null,null,null,null,null,null,null,null,null,null,null,null,null,null,null,null,null,null,null,null,0.16220107408684675,74.999999999999986]
[null,null,null,null,null,null,null,null,null,null,null,null,null,null,null,null,null,null,null,null,null,null,null,null,null,null,null,null,null,null,null,null,2.2917958166174039,74.999999999999986]
[null,null,null,null,null,null,null,null,null,null,null,null,null,null,null,null,null,null,null,null,null,null,null,null,null,null,null,null,null,null,null,null,3.5839871027972503,74.999999999999986]
[null,null,null,null,null,null,null,null,null,null,null,null,null,null,null,null,null,null,null,null,null,null,null,null,null,null,null,null,null,null,null,null,0,74.999999999999986]
[null,null,null,null,null,null,null,null,null,null,null,null,null,null,null,null,null,null,null,null,null,null,null,null,null,null,null,null,null,null,null,null,0.23013992281170123,74.999999999999986]
[null,null,null,null,null,null,null,null,null,null,null,null,null,null,null,null,null,null,null,null,null,null,null,null,null,null,null,null,null,null,null,null,7.1326515867030125,74.999999999999986]
[null,null,null,null,null,null,null,null,null,null,null,null,null,null,null,null,null,null,null,null,null,null,null,null,null,null,null,null,null,null,null,null,4.8245477517170857E-2,74.999999999999986]
[null,null,null,null,null,null,null,null,null,null,null,null,null,null,null,null,null,null,null,null,null,null,null,null,null,null,null,null,null,null,null,null,9.1650219396657953,74.999999999999986]
[null,null,null,null,null,null,null,null,null,null,null,null,null,null,null,null,null,null,null,null,null,null,null,null,null,null,null,null,null,null,null,null,0.73499046918949329,74.999999999999986]
[null,null,null,null,null,null,null,null,null,null,null,null,null,null,null,null,null,null,null,null,null,null,null,null,null,null,null,null,null,null,null,null,4.5173320236867119E-2,74.999999999999986]
[null,null,null,null,null,null,null,null,null,null,null,null,null,null,null,null,null,null,null,null,null,null,null,null,null,null,null,null,null,null,null,null,1.5484608847791251E-2,74.999999999999986]
[null,null,null,null,null,null,null,null,null,null,null,null,null,null,null,null,null,null,null,null,null,null,null,null,null,null,null,null,null,null,null,null,10.195074359069304,74.999999999999986]
[null,null,null,null,null,null,null,null,null,null,null,null,null,null,null,null,null,null,null,null,null,null,null,null,null,null,null,null,null,null,null,null,0.11115982261464576,74.999999999999986]
[null,null,null,null,null,null,null,null,null,null,null,null,null,null,null,null,null,null,null,null,null,null,null,null,null,null,null,null,null,null,null,null,21.689017954734418,74.999999999999986]
[null,null,null,null,null,null,null,null,null,null,null,null,null,null,null,null,null,null,null,null,null,null,null,null,null,null,null,null,null,null,null,null,13.490383395048028,74.999999999999986]
[null,null,null,null,null,null,null,null,null,null,null,null,null,null,null,null,null,null,null,null,null,null,null,null,null,null,null,null,null,null,null,null,7.8373142546023873,74.999999999999986]
[null,null,null,null,null,null,null,null,null,null,null,null,null,null,null,null,null,null,null,null,null,null,null,null,null,null,null,null,null,null,null,null,0.62263231801647523,74.999999999999986]
[null,null,null,null,null,null,null,null,null,null,null,null,null,null,null,null,null,null,null,null,null,null,null,null,null,null,null,null,null,null,null,null,0,74.999999999999986]
[null,null,null,null,null,null,null,null,null,null,null,null,null,null,null,null,null,null,null,null,null,null,null,null,null,null,null,null,null,null,null,null,0,74.999999999999986]
[null,null,null,null,null,null,null,null,null,null,null,null,null,null,null,null,null,null,null,null,null,null,null,null,null,null,null,null,null,null,null,null,6.6204468823419873,74.999999999999986]
[null,null,null,null,null,null,null,null,null,null,null,null,null,null,null,null,null,null,null,null,null,null,null,null,null,null,null,null,null,null,null,null,0,74.999999999999986]
[null,null,null,null,null,null,null,null,null,null,null,null,null,null,null,null,null,null,null,null,null,null,null,null,null,null,null,null,null,null,null,null,1.9860663931183558E-2,74.999999999999986]
[null,null,null,null,null,null,null,null,null,null,null,null,null,null,null,null,null,null,null,null,null,null,null,null,null,null,null,null,null,null,null,null,1.2611911460813192,74.999999999999986]
[null,null,null,null,null,null,null,null,null,null,null,null,null,null,null,null,null,null,null,null,null,null,null,null,null,null,null,null,null,null,null,null,13.717316808057738,74.999999999999986]
[null,null,null,null,null,null,null,null,null,null,null,null,null,null,null,null,null,null,null,null,null,null,null,null,null,null,null,null,null,null,null,null,57.179642957137148,100]
[null,null,null,null,null,null,null,null,null,null,null,null,null,null,null,null,null,null,null,null,null,null,null,null,null,null,null,null,null,null,null,null,23.027460917541791,100]
[null,null,null,null,null,null,null,null,null,null,null,null,null,null,null,null,null,null,null,null,null,null,null,null,null,null,null,null,null,null,null,null,16.49691488992833,100]
[null,null,null,null,null,null,null,null,null,null,null,null,null,null,null,null,null,null,null,null,null,null,null,null,null,null,null,null,null,null,null,null,91.058183167039573,100]
[null,null,null,null,null,null,null,null,null,null,null,null,null,null,null,null,null,null,null,null,null,null,null,null,null,null,null,null,null,null,null,null,0.35138770649828138,100]
[null,null,null,null,null,null,null,null,null,null,null,null,null,null,null,null,null,null,null,null,null,null,null,null,null,null,null,null,null,null,null,null,44.622583493866337,100]
[null,null,null,null,null,null,null,null,null,null,null,null,null,null,null,null,null,null,null,null,null,null,null,null,null,null,null,null,null,null,null,null,33.848501664716004,100]
[null,null,null,null,null,null,null,null,null,null,null,null,null,null,null,null,null,null,null,null,null,null,null,null,null,null,null,null,null,null,null,null,14.870563485043675,100]
[null,null,null,null,null,null,null,null,null,null,null,null,null,null,null,null,null,null,null,null,null,null,null,null,null,null,null,null,null,null,null,null,13.624863447028957,100]
[null,null,null,null,null,null,null,null,null,null,null,null,null,null,null,null,null,null,null,null,null,null,null,null,null,null,null,null,null,null,null,null,100,100]
[null,null,null,null,null,null,null,null,null,null,null,null,null,null,null,null,null,null,null,null,null,null,null,null,null,null,null,null,null,null,null,null,3.6068881378286641,100]
[null,null,null,null,null,null,null,null,null,null,null,null,null,null,null,null,null,null,null,null,null,null,null,null,null,null,null,null,null,null,null,null,70.257130404266888,100]
[null,null,null,null,null,null,null,null,null,null,null,null,null,null,null,null,null,null,null,null,null,null,null,null,null,null,null,null,null,null,null,null,12.382152307079645,100]
[null,null,null,null,null,null,null,null,null,null,null,null,null,null,null,null,null,null,null,null,null,null,null,null,null,null,null,null,null,null,null,null,78.049324445295142,100]
[null,null,null,null,null,null,null,null,null,null,null,null,null,null,null,null,null,null,null,null,null,null,null,null,null,null,null,null,null,null,null,null,23.574445238802546,100]
[null,null,null,null,null,null,null,null,null,null,null,null,null,null,null,null,null,null,null,null,null,null,null,null,null,null,null,null,null,null,null,null,20.472968904566592,100]
[null,null,null,null,null,null,null,null,null,null,null,null,null,null,null,null,null,null,null,null,null,null,null,null,null,null,null,null,null,null,null,null,38.797694448670534,100]
[null,null,null,null,null,null,null,null,null,null,null,null,null,null,null,null,null,null,null,null,null,null,null,null,null,null,null,null,null,null,null,null,38.324517562471733,100]
[null,null,null,null,null,null,null,null,null,null,null,null,null,null,null,null,null,null,null,null,null,null,null,null,null,null,null,null,null,null,null,null,34.411860755929993,100]
[null,null,null,null,null,null,null,null,null,null,null,null,null,null,null,null,null,null,null,null,null,null,null,null,null,null,null,null,null,null,null,null,27.77479848023242,100]
[null,null,null,null,null,null,null,null,null,null,null,null,null,null,null,null,null,null,null,null,null,null,null,null,null,null,null,null,null,null,null,null,20.533519449695405,100]
[null,null,null,null,null,null,null,null,null,null,null,null,null,null,null,null,null,null,null,null,null,null,null,null,null,null,null,null,null,null,null,null,18.339320353329587,100]
[null,null,null,null,null,null,null,null,null,null,null,null,null,null,null,null,null,null,null,null,null,null,null,null,null,null,null,null,null,null,null,null,30.936729870584838,100]
[null,null,null,null,null,null,null,null,null,null,null,null,null,null,null,null,null,null,null,null,null,null,null,null,null,null,null,null,null,null,null,null,31.759119672834053,100]
[null,null,null,null,null,null,null,null,null,null,null,null,null,null,null,null,null,null,null,null,null,null,null,null,null,null,null,null,null,null,null,null,9.5615892142031882,100]
[null,null,null,null,null,null,null,null,null,null,null,null,null,null,null,null,null,null,null,null,null,null,null,null,null,null,null,null,null,null,null,null,5.0654836767235967,100]
[null,null,null,null,null,null,null,null,null,null,null,null,null,null,null,null,null,null,null,null,null,null,null,null,null,null,null,null,null,null,null,null,25.848532525017188,100]
[null,null,null,null,null,null,null,null,null,null,null,null,null,null,null,null,null,null,null,null,null,null,null,null,null,null,null,null,null,null,null,null,0,100]
[null,null,null,null,null,null,null,null,null,null,null,null,null,null,null,null,null,null,null,null,null,null,null,null,null,null,null,null,null,null,null,null,55.446839352664711,100]
[null,null,null,null,null,null,null,null,null,null,null,null,null,null,null,null,null,null,null,null,null,null,null,null,null,null,null,null,null,null,null,null,4.8560291684433388,100]
[null,null,null,null,null,null,null,null,null,null,null,null,null,null,null,null,null,null,null,null,null,null,null,null,null,null,null,null,null,null,null,null,0.3360086999906074,100]
[null,null,null,null,null,null,null,null,null,null,null,null,null,null,null,null,null,null,null,null,null,null,null,null,null,null,null,null,null,null,null,null,6.9265579737410946E-2,100]
[null,null,null,null,null,null,null,null,null,null,null,null,null,null,null,null,null,null,null,null,null,null,null,null,null,null,null,null,null,null,null,null,11.842728416944272,100]
[null,null,null,null,null,null,null,null,null,null,null,null,null,null,null,null,null,null,null,null,null,null,null,null,null,null,null,null,null,null,null,null,9.0663539509693827,100]
[null,null,null,null,null,null,null,null,null,null,null,null,null,null,null,null,null,null,null,null,null,null,null,null,null,null,null,null,null,null,null,null,19.366173199226637,100]
[null,null,null,null,null,null,null,null,null,null,null,null,null,null,null,null,null,null,null,null,null,null,null,null,null,null,null,null,null,null,null,null,1.7738647640972574,100]
[null,null,null,null,null,null,null,null,null,null,null,null,null,null,null,null,null,null,null,null,null,null,null,null,null,null,null,null,null,null,null,null,2.1050722404442972,100]
[null,null,null,null,null,null,null,null,null,null,null,null,null,null,null,null,null,null,null,null,null,null,null,null,null,null,null,null,null,null,null,null,0,100]
[null,null,null,null,null,null,null,null,null,null,null,null,null,null,null,null,null,null,null,null,null,null,null,null,null,null,null,null,null,null,null,null,9.9974442712347571,100]
[null,null,null,null,null,null,null,null,null,null,null,null,null,null,null,null,null,null,null,null,null,null,null,null,null,null,null,null,null,null,null,null,0.28824982058662846,100]
[null,null,null,null,null,null,null,null,null,null,null,null,null,null,null,null,null,null,null,null,null,null,null,null,null,null,null,null,null,null,null,null,37.959065252192474,100]
[null,null,null,null,null,null,null,null,null,null,null,null,null,null,null,null,null,null,null,null,null,null,null,null,null,null,null,null,null,null,null,null,4.4895610567474158,100]
[null,null,null,null,null,null,null,null,null,null,null,null,null,null,null,null,null,null,null,null,null,null,null,null,null,null,null,null,null,null,null,null,5.7101269169979645,100]
[null,null,null,null,null,null,null,null,null,null,null,null,null,null,null,null,null,null,null,null,null,null,null,null,null,null,null,null,null,null,null,null,0,100]
[null,null,null,null,null,null,null,null,null,null,null,null,null,null,null,null,null,null,null,null,null,null,null,null,null,null,null,null,null,null,null,null,32.558582197176719,100]
[null,null,null,null,null,null,null,null,null,null,null,null,null,null,null,null,null,null,null,null,null,null,null,null,null,null,null,null,null,null,null,null,1.971064104348857,100]
[null,null,null,null,null,null,null,null,null,null,null,null,null,null,null,null,null,null,null,null,null,null,null,null,null,null,null,null,null,null,null,null,0,100]
[null,null,null,null,null,null,null,null,null,null,null,null,null,null,null,null,null,null,null,null,null,null,null,null,null,null,null,null,null,null,null,null,0,100]

{"sheet":"Instrucciones","index":3,"n_rows":11,"n_cols":2,"rows_kept":11,"cut":false,"hidden":false,"merged":[[8,0,8,2],[0,1,4,2],[7,0,7,2],[10,0,10,2]]}
[null,"Simulador puntaje \nMetodología para la priorización de proyectos de inversión a ser financiados con desahorro FONPET"]
[]
[]
[]
[]
["INSTRUCTIVO PARA DILIGENCIAMIENTO"]
["PASOS A SEGUIR"]
["1. Ubiquese en la Hoja \"Calificación\""]
["2. Ubicados en la hoja correcta, dirigase a diligenciar las celdas resaltadas en gris. Las celdas de color azul tienen fórmulas y no pueden ser modificadas. Recuerde que hay celdas en las que se despliega un menú, y otras en las que hay que ingresar información."]
["3. Si tiene alguna duda sobre la distribución de los puntajes, puede consultar la Hoja \"Tabla de Pesos y Puntajes\""]
["Notas: \nEl Puntaje que se contrasta con el puntaje mínimo, corresponde a la simulación de los puntos que obtiene el proyecto, el cual debe tomarse para validar que supere el puntaje mínimo establecido en la Metodología de priorización\nEl Puntaje Total del Proyecto, corresponde a la simulación del puntaje total obtenido al aplicarse la totalidad de criterios de la Metodología de priorización. "]

{"sheet":"Calificación","index":4,"n_rows":1001,"n_cols":15,"rows_kept":1001,"cut":false,"hidden":false,"merged":[[3,9,3,12],[1,1,1,2]]}
[]
[null,"Seguir la instrucción mencionada arriba del encabezado - estas celdas se pueden modificar",null,null,null,null,null,null,null,0.7,0.1,0.2,0.05]
[null,null,null,null,null,null,null,null,null,0.57999999999999996]
[null,"1. Digitar","2. Seleccionar","3. Seleccionar",null,"4. Seleccionar",null,"5. Seleccionar","6. Seleccionar","Puntaje 0 a 100",null,null,null,0.5]
[null,"BPIN","Departamento","Municipio beneficiario de la inversión","Código DANE - Municipio","Sector al que contribuye el proyecto","Puesto del sector por Metodología de cierre de brechas","¿El proyecto de inversión tiene por objeto sustituir o erradicar cultivos ilícitos?","¿El proyecto de inversión tiene por objeto reparar víctimas del conflicto o beneficia a víctimas del conflicto?","Contribución al cierre de brechas mas relevantes","Inversión destinada a erradicación o sustitución","Índice de incidencia del conflicto armado"," Inversión destinada a reparación de víctimas del conflicto","Puntaje Total del Proyecto","Puntaje que se contrasta con el puntaje mínimo"]
[null,null,null,null,{"$f":"IF(D6=\"\",\"\",VLOOKUP(CONCATENATE(C6,D6),Listas!$AT$2:$AV$1104,3,FALSE))","v":""},null,{"$f":"IF(OR(F6=\"\",E6=\"\"),\"\",VLOOKUP(CONCATENATE(E6,Listas!AZ3),Listas!$BC$3:$BI$15430,7,FALSE))","v":""},null,null,{"$f":"IF(G6=\"\",\"\",VLOOKUP(G6,Listas!$BM$3:$BN$16,2,FALSE)*100)","v":""},{"$f":"+IF(H6=\"\",\"\",IF(H6=\"Sí\",1,0)*100)","v":""},{"$f":"+IFERROR(VLOOKUP(E6,Listas!$CQ$2:$CW$1104,7,FALSE),\"\")","v":""},{"$f":"+IF(I6=\"\",\"\",IF(I6=\"Sí\",1,0)*100)","v":""},{"$f":"IF(E6=\"\",\"\",SUMPRODUCT(J6:M6,$J$2:$M$2))","v":""},{"$f":"+IFERROR(J6*58%,\"\")","v":""}]
[null,null,null,null,{"$f":"IF(D7=\"\",\"\",VLOOKUP(CONCATENATE(C7,D7),Listas!$AT$2:$AV$1104,3,FALSE))","v":""},null,{"$f":"IF(OR(F7=\"\",E7=\"\"),\"\",VLOOKUP(CONCATENATE(E7,Listas!AZ4),Listas!$BC$3:$BI$15430,7,FALSE))","v":""},null,null,{"$f":"IF(G7=\"\",\"\",VLOOKUP(G7,Listas!$BM$3:$BN$16,2,FALSE)*100)","v":""},"",{"$f":"+IFERROR(VLOOKUP(E7,Listas!$CQ$2:$CW$1104,7,FALSE),\"\")","v":""},"",{"$f":"IF(E7=\"\",\"\",SUMPRODUCT(J7:M7,$J$2:$M$2))","v":""},{"$f":"+IFERROR(J7*58%,\"\")","v":""}]
[null,null,null,null,{"$f":"IF(D8=\"\",\"\",VLOOKUP(CONCATENATE(C8,D8),Listas!$AT$2:$AV$1104,3,FALSE))","v":""},null,{"$f":"IF(OR(F8=\"\",E8=\"\"),\"\",VLOOKUP(CONCATENATE(E8,Listas!AZ5),Listas!$BC$3:$BI$15430,7,FALSE))","v":""},null,null,{"$f":"IF(G8=\"\",\"\",VLOOKUP(G8,Listas!$BM$3:$BN$16,2,FALSE)*100)","v":""},"",{"$f":"+IFERROR(VLOOKUP(E8,Listas!$CQ$2:$CW$1104,7,FALSE),\"\")","v":""},"","",""]
[null,null,null,null,{"$f":"IF(D9=\"\",\"\",VLOOKUP(CONCATENATE(C9,D9),Listas!$AT$2:$AV$1104,3,FALSE))","v":""},null,{"$f":"IF(OR(F9=\"\",E9=\"\"),\"\",VLOOKUP(CONCATENATE(E9,Listas!AZ6),Listas!$BC$3:$BI$15430,7,FALSE))","v":""},null,null,{"$f":"IF(G9=\"\",\"\",VLOOKUP(G9,Listas!$BM$3:$BN$16,2,FALSE)*100)","v":""},"",{"$f":"+IFERROR(VLOOKUP(E9,Listas!$CQ$2:$CW$1104,7,FALSE),\"\")","v":""},"","",""]
[null,null,null,null,{"$f":"IF(D10=\"\",\"\",VLOOKUP(CONCATENATE(C10,D10),Listas!$AT$2:$AV$1104,3,FALSE))","v":""},null,{"$f":"IF(OR(F10=\"\",E10=\"\"),\"\",VLOOKUP(CONCATENATE(E10,Listas!AZ7),Listas!$BC$3:$BI$15430,7,FALSE))","v":""},null,null,{"$f":"IF(G10=\"\",\"\",VLOOKUP(G10,Listas!$BM$3:$BN$16,2,FALSE)*100)","v":""},"",{"$f":"+IFERROR(VLOOKUP(E10,Listas!$CQ$2:$CW$1104,7,FALSE),\"\")","v":""},"","",""]
[null,null,null,null,{"$f":"IF(D11=\"\",\"\",VLOOKUP(CONCATENATE(C11,D11),Listas!$AT$2:$AV$1104,3,FALSE))","v":""},null,{"$f":"IF(OR(F11=\"\",E11=\"\"),\"\",VLOOKUP(CONCATENATE(E11,Listas!AZ8),Listas!$BC$3:$BI$15430,7,FALSE))","v":""},null,null,{"$f":"IF(G11=\"\",\"\",VLOOKUP(G11,Listas!$BM$3:$BN$16,2,FALSE)*100)","v":""},"",{"$f":"+IFERROR(VLOOKUP(E11,Listas!$CQ$2:$CW$1104,7,FALSE),\"\")","v":""},"","",""]
[null,null,null,null,{"$f":"IF(D12=\"\",\"\",VLOOKUP(CONCATENATE(C12,D12),Listas!$AT$2:$AV$1104,3,FALSE))","v":""},null,{"$f":"IF(OR(F12=\"\",E12=\"\"),\"\",VLOOKUP(CONCATENATE(E12,Listas!AZ9),Listas!$BC$3:$BI$15430,7,FALSE))","v":""},null,null,{"$f":"IF(G12=\"\",\"\",VLOOKUP(G12,Listas!$BM$3:$BN$16,2,FALSE)*100)","v":""},"",{"$f":"+IFERROR(VLOOKUP(E12,Listas!$CQ$2:$CW$1104,7,FALSE),\"\")","v":""},"","",""]
[null,null,null,null,{"$f":"IF(D13=\"\",\"\",VLOOKUP(CONCATENATE(C13,D13),Listas!$AT$2:$AV$1104,3,FALSE))","v":""},null,{"$f":"IF(OR(F13=\"\",E13=\"\"),\"\",VLOOKUP(CONCATENATE(E13,Listas!AZ10),Listas!$BC$3:$BI$15430,7,FALSE))","v":""},null,null,{"$f":"IF(G13=\"\",\"\",VLOOKUP(G13,Listas!$BM$3:$BN$16,2,FALSE)*100)","v":""},"",{"$f":"+IFERROR(VLOOKUP(E13,Listas!$CQ$2:$CW$1104,7,FALSE),\"\")","v":""},"","",""]
[null,null,null,null,{"$f":"IF(D14=\"\",\"\",VLOOKUP(CONCATENATE(C14,D14),Listas!$AT$2:$AV$1104,3,FALSE))","v":""},null,{"$f":"IF(OR(F14=\"\",E14=\"\"),\"\",VLOOKUP(CONCATENATE(E14,Listas!AZ11),Listas!$BC$3:$BI$15430,7,FALSE))","v":""},null,null,{"$f":"IF(G14=\"\",\"\",VLOOKUP(G14,Listas!$BM$3:$BN$16,2,FALSE)*100)","v":""},"",{"$f":"+IFERROR(VLOOKUP(E14,Listas!$CQ$2:$CW$1104,7,FALSE),\"\")","v":""},"","",""]
[null,null,null,null,{"$f":"IF(D15=\"\",\"\",VLOOKUP(CONCATENATE(C15,D15),Listas!$AT$2:$AV$1104,3,FALSE))","v":""},null,{"$f":"IF(OR(F15=\"\",E15=\"\"),\"\",VLOOKUP(CONCATENATE(E15,Listas!AZ12),Listas!$BC$3:$BI$15430,7,FALSE))","v":""},null,null,{"$f":"IF(G15=\"\",\"\",VLOOKUP(G15,Listas!$BM$3:$BN$16,2,FALSE)*100)","v":""},"",{"$f":"+IFERROR(VLOOKUP(E15,Listas!$CQ$2:$CW$1104,7,FALSE),\"\")","v":""},"","",""]
[null,null,null,null,{"$f":"IF(D16=\"\",\"\",VLOOKUP(CONCATENATE(C16,D16),Listas!$AT$2:$AV$1104,3,FALSE))","v":""},null,{"$f":"IF(OR(F16=\"\",E16=\"\"),\"\",VLOOKUP(CONCATENATE(E16,Listas!AZ13),Listas!$BC$3:$BI$15430,7,FALSE))","v":""},null,null,{"$f":"IF(G16=\"\",\"\",VLOOKUP(G16,Listas!$BM$3:$BN$16,2,FALSE)*100)","v":""},"",{"$f":"+IFERROR(VLOOKUP(E16,Listas!$CQ$2:$CW$1104,7,FALSE),\"\")","v":""},"","",""]
[null,null,null,null,{"$f":"IF(D17=\"\",\"\",VLOOKUP(CONCATENATE(C17,D17),Listas!$AT$2:$AV$1104,3,FALSE))","v":""},null,{"$f":"IF(OR(F17=\"\",E17=\"\"),\"\",VLOOKUP(CONCATENATE(E17,Listas!AZ14),Listas!$BC$3:$BI$15430,7,FALSE))","v":""},null,null,{"$f":"IF(G17=\"\",\"\",VLOOKUP(G17,Listas!$BM$3:$BN$16,2,FALSE)*100)","v":""},"",{"$f":"+IFERROR(VLOOKUP(E17,Listas!$CQ$2:$CW$1104,7,FALSE),\"\")","v":""},"","",""]
[null,null,null,null,{"$f":"IF(D18=\"\",\"\",VLOOKUP(CONCATENATE(C18,D18),Listas!$AT$2:$AV$1104,3,FALSE))","v":""},null,{"$f":"IF(OR(F18=\"\",E18=\"\"),\"\",VLOOKUP(CONCATENATE(E18,Listas!AZ15),Listas!$BC$3:$BI$15430,7,FALSE))","v":""},null,null,{"$f":"IF(G18=\"\",\"\",VLOOKUP(G18,Listas!$BM$3:$BN$16,2,FALSE)*100)","v":""},"",{"$f":"+IFERROR(VLOOKUP(E18,Listas!$CQ$2:$CW$1104,7,FALSE),\"\")","v":""},"","",""]
[null,null,null,null,{"$f":"IF(D19=\"\",\"\",VLOOKUP(CONCATENATE(C19,D19),Listas!$AT$2:$AV$1104,3,FALSE))","v":""},null,{"$f":"IF(OR(F19=\"\",E19=\"\"),\"\",VLOOKUP(CONCATENATE(E19,Listas!AZ16),Listas!$BC$3:$BI$15430,7,FALSE))","v":""},null,null,{"$f":"IF(G19=\"\",\"\",VLOOKUP(G19,Listas!$BM$3:$BN$16,2,FALSE)*100)","v":""},"",{"$f":"+IFERROR(VLOOKUP(E19,Listas!$CQ$2:$CW$1104,7,FALSE),\"\")","v":""},"","",""]
[null,null,null,null,{"$f":"IF(D20=\"\",\"\",VLOOKUP(CONCATENATE(C20,D20),Listas!$AT$2:$AV$1104,3,FALSE))","v":""},null,{"$f":"IF(OR(F20=\"\",E20=\"\"),\"\",VLOOKUP(CONCATENATE(E20,Listas!AZ17),Listas!$BC$3:$BI$15430,7,FALSE))","v":""},null,null,{"$f":"IF(G20=\"\",\"\",VLOOKUP(G20,Listas!$BM$3:$BN$16,2,FALSE)*100)","v":""},"",{"$f":"+IFERROR(VLOOKUP(E20,Listas!$CQ$2:$CW$1104,7,FALSE),\"\")","v":""},"","",""]
[null,null,null,null,{"$f":"IF(D21=\"\",\"\",VLOOKUP(CONCATENATE(C21,D21),Listas!$AT$2:$AV$1104,3,FALSE))","v":""},null,{"$f":"IF(OR(F21=\"\",E21=\"\"),\"\",VLOOKUP(CONCATENATE(E21,Listas!AZ18),Listas!$BC$3:$BI$15430,7,FALSE))","v":""},null,null,{"$f":"IF(G21=\"\",\"\",VLOOKUP(G21,Listas!$BM$3:$BN$16,2,FALSE)*100)","v":""},"",{"$f":"+IFERROR(VLOOKUP(E21,Listas!$CQ$2:$CW$1104,7,FALSE),\"\")","v":""},"","",""]
[null,null,null,null,{"$f":"IF(D22=\"\",\"\",VLOOKUP(CONCATENATE(C22,D22),Listas!$AT$2:$AV$1104,3,FALSE))","v":""},null,{"$f":"IF(OR(F22=\"\",E22=\"\"),\"\",VLOOKUP(CONCATENATE(E22,Listas!AZ19),Listas!$BC$3:$BI$15430,7,FALSE))","v":""},null,null,{"$f":"IF(G22=\"\",\"\",VLOOKUP(G22,Listas!$BM$3:$BN$16,2,FALSE)*100)","v":""},"",{"$f":"+IFERROR(VLOOKUP(E22,Listas!$CQ$2:$CW$1104,7,FALSE),\"\")","v":""},"","",""]
[null,null,null,null,{"$f":"IF(D23=\"\",\"\",VLOOKUP(CONCATENATE(C23,D23),Listas!$AT$2:$AV$1104,3,FALSE))","v":""},null,{"$f":"IF(OR(F23=\"\",E23=\"\"),\"\",VLOOKUP(CONCATENATE(E23,Listas!AZ20),Listas!$BC$3:$BI$15430,7,FALSE))","v":""},null,null,{"$f":"IF(G23=\"\",\"\",VLOOKUP(G23,Listas!$BM$3:$BN$16,2,FALSE)*100)","v":""},"",{"$f":"+IFERROR(VLOOKUP(E23,Listas!$CQ$2:$CW$1104,7,FALSE),\"\")","v":""},"","",""]
[null,null,null,null,{"$f":"IF(D24=\"\",\"\",VLOOKUP(CONCATENATE(C24,D24),Listas!$AT$2:$AV$1104,3,FALSE))","v":""},null,{"$f":"IF(OR(F24=\"\",E24=\"\"),\"\",VLOOKUP(CONCATENATE(E24,Listas!AZ21),Listas!$BC$3:$BI$15430,7,FALSE))","v":""},null,null,{"$f":"IF(G24=\"\",\"\",VLOOKUP(G24,Listas!$BM$3:$BN$16,2,FALSE)*100)","v":""},"",{"$f":"+IFERROR(VLOOKUP(E24,Listas!$CQ$2:$CW$1104,7,FALSE),\"\")","v":""},"","",""]
[null,null,null,null,{"$f":"IF(D25=\"\",\"\",VLOOKUP(CONCATENATE(C25,D25),Listas!$AT$2:$AV$1104,3,FALSE))","v":""},null,{"$f":"IF(OR(F25=\"\",E25=\"\"),\"\",VLOOKUP(CONCATENATE(E25,Listas!AZ22),Listas!$BC$3:$BI$15430,7,FALSE))","v":""},null,null,{"$f":"IF(G25=\"\",\"\",VLOOKUP(G25,Listas!$BM$3:$BN$16,2,FALSE)*100)","v":""},"",{"$f":"+IFERROR(VLOOKUP(E25,Listas!$CQ$2:$CW$1104,7,FALSE),\"\")","v":""},"","",""]
[null,null,null,null,{"$f":"IF(D26=\"\",\"\",VLOOKUP(CONCATENATE(C26,D26),Listas!$AT$2:$AV$1104,3,FALSE))","v":""},null,{"$f":"IF(OR(F26=\"\",E26=\"\"),\"\",VLOOKUP(CONCATENATE(E26,Listas!AZ23),Listas!$BC$3:$BI$15430,7,FALSE))","v":""},null,null,{"$f":"IF(G26=\"\",\"\",VLOOKUP(G26,Listas!$BM$3:$BN$16,2,FALSE)*100)","v":""},"",{"$f":"+IFERROR(VLOOKUP(E26,Listas!$CQ$2:$CW$1104,7,FALSE),\"\")","v":""},"","",""]
[null,null,null,null,{"$f":"IF(D27=\"\",\"\",VLOOKUP(CONCATENATE(C27,D27),Listas!$AT$2:$AV$1104,3,FALSE))","v":""},null,{"$f":"IF(OR(F27=\"\",E27=\"\"),\"\",VLOOKUP(CONCATENATE(E27,Listas!AZ24),Listas!$BC$3:$BI$15430,7,FALSE))","v":""},null,null,{"$f":"IF(G27=\"\",\"\",VLOOKUP(G27,Listas!$BM$3:$BN$16,2,FALSE)*100)","v":""},"",{"$f":"+IFERROR(VLOOKUP(E27,Listas!$CQ$2:$CW$1104,7,FALSE),\"\")","v":""},"","",""]
[null,null,null,null,{"$f":"IF(D28=\"\",\"\",VLOOKUP(CONCATENATE(C28,D28),Listas!$AT$2:$AV$1104,3,FALSE))","v":""},null,{"$f":"IF(OR(F28=\"\",E28=\"\"),\"\",VLOOKUP(CONCATENATE(E28,Listas!AZ25),Listas!$BC$3:$BI$15430,7,FALSE))","v":""},null,null,{"$f":"IF(G28=\"\",\"\",VLOOKUP(G28,Listas!$BM$3:$BN$16,2,FALSE)*100)","v":""},"",{"$f":"+IFERROR(VLOOKUP(E28,Listas!$CQ$2:$CW$1104,7,FALSE),\"\")","v":""},"","",""]
[null,null,null,null,{"$f":"IF(D29=\"\",\"\",VLOOKUP(CONCATENATE(C29,D29),Listas!$AT$2:$AV$1104,3,FALSE))","v":""},null,{"$f":"IF(OR(F29=\"\",E29=\"\"),\"\",VLOOKUP(CONCATENATE(E29,Listas!AZ26),Listas!$BC$3:$BI$15430,7,FALSE))","v":""},null,null,{"$f":"IF(G29=\"\",\"\",VLOOKUP(G29,Listas!$BM$3:$BN$16,2,FALSE)*100)","v":""},"",{"$f":"+IFERROR(VLOOKUP(E29,Listas!$CQ$2:$CW$1104,7,FALSE),\"\")","v":""},"","",""]
[null,null,null,null,{"$f":"IF(D30=\"\",\"\",VLOOKUP(CONCATENATE(C30,D30),Listas!$AT$2:$AV$1104,3,FALSE))","v":""},null,{"$f":"IF(OR(F30=\"\",E30=\"\"),\"\",VLOOKUP(CONCATENATE(E30,Listas!AZ27),Listas!$BC$3:$BI$15430,7,FALSE))","v":""},null,null,{"$f":"IF(G30=\"\",\"\",VLOOKUP(G30,Listas!$BM$3:$BN$16,2,FALSE)*100)","v":""},"",{"$f":"+IFERROR(VLOOKUP(E30,Listas!$CQ$2:$CW$1104,7,FALSE),\"\")","v":""},"","",""]
[null,null,null,null,{"$f":"IF(D31=\"\",\"\",VLOOKUP(CONCATENATE(C31,D31),Listas!$AT$2:$AV$1104,3,FALSE))","v":""},null,{"$f":"IF(OR(F31=\"\",E31=\"\"),\"\",VLOOKUP(CONCATENATE(E31,Listas!AZ28),Listas!$BC$3:$BI$15430,7,FALSE))","v":""},null,null,{"$f":"IF(G31=\"\",\"\",VLOOKUP(G31,Listas!$BM$3:$BN$16,2,FALSE)*100)","v":""},"",{"$f":"+IFERROR(VLOOKUP(E31,Listas!$CQ$2:$CW$1104,7,FALSE),\"\")","v":""},"","",""]
[null,null,null,null,{"$f":"IF(D32=\"\",\"\",VLOOKUP(CONCATENATE(C32,D32),Listas!$AT$2:$AV$1104,3,FALSE))","v":""},null,{"$f":"IF(OR(F32=\"\",E32=\"\"),\"\",VLOOKUP(CONCATENATE(E32,Listas!AZ29),Listas!$BC$3:$BI$15430,7,FALSE))","v":""},null,null,{"$f":"IF(G32=\"\",\"\",VLOOKUP(G32,Listas!$BM$3:$BN$16,2,FALSE)*100)","v":""},"",{"$f":"+IFERROR(VLOOKUP(E32,Listas!$CQ$2:$CW$1104,7,FALSE),\"\")","v":""},"","",""]
[null,null,null,null,{"$f":"IF(D33=\"\",\"\",VLOOKUP(CONCATENATE(C33,D33),Listas!$AT$2:$AV$1104,3,FALSE))","v":""},null,{"$f":"IF(OR(F33=\"\",E33=\"\"),\"\",VLOOKUP(CONCATENATE(E33,Listas!AZ30),Listas!$BC$3:$BI$15430,7,FALSE))","v":""},null,null,{"$f":"IF(G33=\"\",\"\",VLOOKUP(G33,Listas!$BM$3:$BN$16,2,FALSE)*100)","v":""},"",{"$f":"+IFERROR(VLOOKUP(E33,Listas!$CQ$2:$CW$1104,7,FALSE),\"\")","v":""},"","",""]
[null,null,null,null,{"$f":"IF(D34=\"\",\"\",VLOOKUP(CONCATENATE(C34,D34),Listas!$AT$2:$AV$1104,3,FALSE))","v":""},null,{"$f":"IF(OR(F34=\"\",E34=\"\"),\"\",VLOOKUP(CONCATENATE(E34,Listas!AZ31),Listas!$BC$3:$BI$15430,7,FALSE))","v":""},null,null,{"$f":"IF(G34=\"\",\"\",VLOOKUP(G34,Listas!$BM$3:$BN$16,2,FALSE)*100)","v":""},"",{"$f":"+IFERROR(VLOOKUP(E34,Listas!$CQ$2:$CW$1104,7,FALSE),\"\")","v":""},"","",""]
[null,null,null,null,{"$f":"IF(D35=\"\",\"\",VLOOKUP(CONCATENATE(C35,D35),Listas!$AT$2:$AV$1104,3,FALSE))","v":""},null,{"$f":"IF(OR(F35=\"\",E35=\"\"),\"\",VLOOKUP(CONCATENATE(E35,Listas!AZ32),Listas!$BC$3:$BI$15430,7,FALSE))","v":""},null,null,{"$f":"IF(G35=\"\",\"\",VLOOKUP(G35,Listas!$BM$3:$BN$16,2,FALSE)*100)","v":""},"",{"$f":"+IFERROR(VLOOKUP(E35,Listas!$CQ$2:$CW$1104,7,FALSE),\"\")","v":""},"","",""]
[null,null,null,null,{"$f":"IF(D36=\"\",\"\",VLOOKUP(CONCATENATE(C36,D36),Listas!$AT$2:$AV$1104,3,FALSE))","v":""},null,{"$f":"IF(OR(F36=\"\",E36=\"\"),\"\",VLOOKUP(CONCATENATE(E36,Listas!AZ33),Listas!$BC$3:$BI$15430,7,FALSE))","v":""},null,null,{"$f":"IF(G36=\"\",\"\",VLOOKUP(G36,Listas!$BM$3:$BN$16,2,FALSE)*100)","v":""},"",{"$f":"+IFERROR(VLOOKUP(E36,Listas!$CQ$2:$CW$1104,7,FALSE),\"\")","v":""},"","",""]
[null,null,null,null,{"$f":"IF(D37=\"\",\"\",VLOOKUP(CONCATENATE(C37,D37),Listas!$AT$2:$AV$1104,3,FALSE))","v":""},null,{"$f":"IF(OR(F37=\"\",E37=\"\"),\"\",VLOOKUP(CONCATENATE(E37,Listas!AZ34),Listas!$BC$3:$BI$15430,7,FALSE))","v":""},null,null,{"$f":"IF(G37=\"\",\"\",VLOOKUP(G37,Listas!$BM$3:$BN$16,2,FALSE)*100)","v":""},"",{"$f":"+IFERROR(VLOOKUP(E37,Listas!$CQ$2:$CW$1104,7,FALSE),\"\")","v":""},"","",""]
[null,null,null,null,{"$f":"IF(D38=\"\",\"\",VLOOKUP(CONCATENATE(C38,D38),Listas!$AT$2:$AV$1104,3,FALSE))","v":""},null,{"$f":"IF(OR(F38=\"\",E38=\"\"),\"\",VLOOKUP(CONCATENATE(E38,Listas!AZ35),Listas!$BC$3:$BI$15430,7,FALSE))","v":""},null,null,{"$f":"IF(G38=\"\",\"\",VLOOKUP(G38,Listas!$BM$3:$BN$16,2,FALSE)*100)","v":""},"",{"$f":"+IFERROR(VLOOKUP(E38,Listas!$CQ$2:$CW$1104,7,FALSE),\"\")","v":""},"","",""]
[null,null,null,null,{"$f":"IF(D39=\"\",\"\",VLOOKUP(CONCATENATE(C39,D39),Listas!$AT$2:$AV$1104,3,FALSE))","v":""},null,{"$f":"IF(OR(F39=\"\",E39=\"\"),\"\",VLOOKUP(CONCATENATE(E39,Listas!AZ36),Listas!$BC$3:$BI$15430,7,FALSE))","v":""},null,null,{"$f":"IF(G39=\"\",\"\",VLOOKUP(G39,Listas!$BM$3:$BN$16,2,FALSE)*100)","v":""},"",{"$f":"+IFERROR(VLOOKUP(E39,Listas!$CQ$2:$CW$1104,7,FALSE),\"\")","v":""},"","",""]
[null,null,null,null,{"$f":"IF(D40=\"\",\"\",VLOOKUP(CONCATENATE(C40,D40),Listas!$AT$2:$AV$1104,3,FALSE))","v":""},null,{"$f":"IF(OR(F40=\"\",E40=\"\"),\"\",VLOOKUP(CONCATENATE(E40,Listas!AZ37),Listas!$BC$3:$BI$15430,7,FALSE))","v":""},null,null,{"$f":"IF(G40=\"\",\"\",VLOOKUP(G40,Listas!$BM$3:$BN$16,2,FALSE)*100)","v":""},"",{"$f":"+IFERROR(VLOOKUP(E40,Listas!$CQ$2:$CW$1104,7,FALSE),\"\")","v":""},"","",""]
[null,null,null,null,{"$f":"IF(D41=\"\",\"\",VLOOKUP(CONCATENATE(C41,D41),Listas!$AT$2:$AV$1104,3,FALSE))","v":""},null,{"$f":"IF(OR(F41=\"\",E41=\"\"),\"\",VLOOKUP(CONCATENATE(E41,Listas!AZ38),Listas!$BC$3:$BI$15430,7,FALSE))","v":""},null,null,{"$f":"IF(G41=\"\",\"\",VLOOKUP(G41,Listas!$BM$3:$BN$16,2,FALSE)*100)","v":""},"",{"$f":"+IFERROR(VLOOKUP(E41,Listas!$CQ$2:$CW$1104,7,FALSE),\"\")","v":""},"","",""]
[null,null,null,null,{"$f":"IF(D42=\"\",\"\",VLOOKUP(CONCATENATE(C42,D42),Listas!$AT$2:$AV$1104,3,FALSE))","v":""},null,{"$f":"IF(OR(F42=\"\",E42=\"\"),\"\",VLOOKUP(CONCATENATE(E42,Listas!AZ39),Listas!$BC$3:$BI$15430,7,FALSE))","v":""},null,null,{"$f":"IF(G42=\"\",\"\",VLOOKUP(G42,Listas!$BM$3:$BN$16,2,FALSE)*100)","v":""},"",{"$f":"+IFERROR(VLOOKUP(E42,Listas!$CQ$2:$CW$1104,7,FALSE),\"\")","v":""},"","",""]
[null,null,null,null,{"$f":"IF(D43=\"\",\"\",VLOOKUP(CONCATENATE(C43,D43),Listas!$AT$2:$AV$1104,3,FALSE))","v":""},null,{"$f":"IF(OR(F43=\"\",E43=\"\"),\"\",VLOOKUP(CONCATENATE(E43,Listas!AZ40),Listas!$BC$3:$BI$15430,7,FALSE))","v":""},null,null,{"$f":"IF(G43=\"\",\"\",VLOOKUP(G43,Listas!$BM$3:$BN$16,2,FALSE)*100)","v":""},"",{"$f":"+IFERROR(VLOOKUP(E43,Listas!$CQ$2:$CW$1104,7,FALSE),\"\")","v":""},"","",""]
[null,null,null,null,{"$f":"IF(D44=\"\",\"\",VLOOKUP(CONCATENATE(C44,D44),Listas!$AT$2:$AV$1104,3,FALSE))","v":""},null,{"$f":"IF(OR(F44=\"\",E44=\"\"),\"\",VLOOKUP(CONCATENATE(E44,Listas!AZ41),Listas!$BC$3:$BI$15430,7,FALSE))","v":""},null,null,{"$f":"IF(G44=\"\",\"\",VLOOKUP(G44,Listas!$BM$3:$BN$16,2,FALSE)*100)","v":""},"",{"$f":"+IFERROR(VLOOKUP(E44,Listas!$CQ$2:$CW$1104,7,FALSE),\"\")","v":""},"","",""]
[null,null,null,null,{"$f":"IF(D45=\"\",\"\",VLOOKUP(CONCATENATE(C45,D45),Listas!$AT$2:$AV$1104,3,FALSE))","v":""},null,{"$f":"IF(OR(F45=\"\",E45=\"\"),\"\",VLOOKUP(CONCATENATE(E45,Listas!AZ42),Listas!$BC$3:$BI$15430,7,FALSE))","v":""},null,null,{"$f":"IF(G45=\"\",\"\",VLOOKUP(G45,Listas!$BM$3:$BN$16,2,FALSE)*100)","v":""},"",{"$f":"+IFERROR(VLOOKUP(E45,Listas!$CQ$2:$CW$1104,7,FALSE),\"\")","v":""},"","",""]
[null,null,null,null,{"$f":"IF(D46=\"\",\"\",VLOOKUP(CONCATENATE(C46,D46),Listas!$AT$2:$AV$1104,3,FALSE))","v":""},null,{"$f":"IF(OR(F46=\"\",E46=\"\"),\"\",VLOOKUP(CONCATENATE(E46,Listas!AZ43),Listas!$BC$3:$BI$15430,7,FALSE))","v":""},null,null,{"$f":"IF(G46=\"\",\"\",VLOOKUP(G46,Listas!$BM$3:$BN$16,2,FALSE)*100)","v":""},"",{"$f":"+IFERROR(VLOOKUP(E46,Listas!$CQ$2:$CW$1104,7,FALSE),\"\")","v":""},"","",""]
[null,null,null,null,{"$f":"IF(D47=\"\",\"\",VLOOKUP(CONCATENATE(C47,D47),Listas!$AT$2:$AV$1104,3,FALSE))","v":""},null,{"$f":"IF(OR(F47=\"\",E47=\"\"),\"\",VLOOKUP(CONCATENATE(E47,Listas!AZ44),Listas!$BC$3:$BI$15430,7,FALSE))","v":""},null,null,{"$f":"IF(G47=\"\",\"\",VLOOKUP(G47,Listas!$BM$3:$BN$16,2,FALSE)*100)","v":""},"",{"$f":"+IFERROR(VLOOKUP(E47,Listas!$CQ$2:$CW$1104,7,FALSE),\"\")","v":""},"","",""]
[null,null,null,null,{"$f":"IF(D48=\"\",\"\",VLOOKUP(CONCATENATE(C48,D48),Listas!$AT$2:$AV$1104,3,FALSE))","v":""},null,{"$f":"IF(OR(F48=\"\",E48=\"\"),\"\",VLOOKUP(CONCATENATE(E48,Listas!AZ45),Listas!$BC$3:$BI$15430,7,FALSE))","v":""},null,null,{"$f":"IF(G48=\"\",\"\",VLOOKUP(G48,Listas!$BM$3:$BN$16,2,FALSE)*100)","v":""},"",{"$f":"+IFERROR(VLOOKUP(E48,Listas!$CQ$2:$CW$1104,7,FALSE),\"\")","v":""},"","",""]
[null,null,null,null,{"$f":"IF(D49=\"\",\"\",VLOOKUP(CONCATENATE(C49,D49),Listas!$AT$2:$AV$1104,3,FALSE))","v":""},null,{"$f":"IF(OR(F49=\"\",E49=\"\"),\"\",VLOOKUP(CONCATENATE(E49,Listas!AZ46),Listas!$BC$3:$BI$15430,7,FALSE))","v":""},null,null,{"$f":"IF(G49=\"\",\"\",VLOOKUP(G49,Listas!$BM$3:$BN$16,2,FALSE)*100)","v":""},"",{"$f":"+IFERROR(VLOOKUP(E49,Listas!$CQ$2:$CW$1104,7,FALSE),\"\")","v":""},"","",""]
[null,null,null,null,{"$f":"IF(D50=\"\",\"\",VLOOKUP(CONCATENATE(C50,D50),Listas!$AT$2:$AV$1104,3,FALSE))","v":""},null,{"$f":"IF(OR(F50=\"\",E50=\"\"),\"\",VLOOKUP(CONCATENATE(E50,Listas!AZ47),Listas!$BC$3:$BI$15430,7,FALSE))","v":""},null,null,{"$f":"IF(G50=\"\",\"\",VLOOKUP(G50,Listas!$BM$3:$BN$16,2,FALSE)*100)","v":""},"",{"$f":"+IFERROR(VLOOKUP(E50,Listas!$CQ$2:$CW$1104,7,FALSE),\"\")","v":""},"","",""]
[null,null,null,null,{"$f":"IF(D51=\"\",\"\",VLOOKUP(CONCATENATE(C51,D51),Listas!$AT$2:$AV$1104,3,FALSE))","v":""},null,{"$f":"IF(OR(F51=\"\",E51=\"\"),\"\",VLOOKUP(CONCATENATE(E51,Listas!AZ48),Listas!$BC$3:$BI$15430,7,FALSE))","v":""},null,null,{"$f":"IF(G51=\"\",\"\",VLOOKUP(G51,Listas!$BM$3:$BN$16,2,FALSE)*100)","v":""},"",{"$f":"+IFERROR(VLOOKUP(E51,Listas!$CQ$2:$CW$1104,7,FALSE),\"\")","v":""},"","",""]
[null,null,null,null,{"$f":"IF(D52=\"\",\"\",VLOOKUP(CONCATENATE(C52,D52),Listas!$AT$2:$AV$1104,3,FALSE))","v":""},null,{"$f":"IF(OR(F52=\"\",E52=\"\"),\"\",VLOOKUP(CONCATENATE(E52,Listas!AZ49),Listas!$BC$3:$BI$15430,7,FALSE))","v":""},null,null,{"$f":"IF(G52=\"\",\"\",VLOOKUP(G52,Listas!$BM$3:$BN$16,2,FALSE)*100)","v":""},"",{"$f":"+IFERROR(VLOOKUP(E52,Listas!$CQ$2:$CW$1104,7,FALSE),\"\")","v":""},"","",""]
[null,null,null,null,{"$f":"IF(D53=\"\",\"\",VLOOKUP(CONCATENATE(C53,D53),Listas!$AT$2:$AV$1104,3,FALSE))","v":""},null,{"$f":"IF(OR(F53=\"\",E53=\"\"),\"\",VLOOKUP(CONCATENATE(E53,Listas!AZ50),Listas!$BC$3:$BI$15430,7,FALSE))","v":""},null,null,{"$f":"IF(G53=\"\",\"\",VLOOKUP(G53,Listas!$BM$3:$BN$16,2,FALSE)*100)","v":""},"",{"$f":"+IFERROR(VLOOKUP(E53,Listas!$CQ$2:$CW$1104,7,FALSE),\"\")","v":""},"","",""]
[null,null,null,null,{"$f":"IF(D54=\"\",\"\",VLOOKUP(CONCATENATE(C54,D54),Listas!$AT$2:$AV$1104,3,FALSE))","v":""},null,{"$f":"IF(OR(F54=\"\",E54=\"\"),\"\",VLOOKUP(CONCATENATE(E54,Listas!AZ51),Listas!$BC$3:$BI$15430,7,FALSE))","v":""},null,null,{"$f":"IF(G54=\"\",\"\",VLOOKUP(G54,Listas!$BM$3:$BN$16,2,FALSE)*100)","v":""},"",{"$f":"+IFERROR(VLOOKUP(E54,Listas!$CQ$2:$CW$1104,7,FALSE),\"\")","v":""},"","",""]
[null,null,null,null,{"$f":"IF(D55=\"\",\"\",VLOOKUP(CONCATENATE(C55,D55),Listas!$AT$2:$AV$1104,3,FALSE))","v":""},null,{"$f":"IF(OR(F55=\"\",E55=\"\"),\"\",VLOOKUP(CONCATENATE(E55,Listas!AZ52),Listas!$BC$3:$BI$15430,7,FALSE))","v":""},null,null,{"$f":"IF(G55=\"\",\"\",VLOOKUP(G55,Listas!$BM$3:$BN$16,2,FALSE)*100)","v":""},"",{"$f":"+IFERROR(VLOOKUP(E55,Listas!$CQ$2:$CW$1104,7,FALSE),\"\")","v":""},"","",""]
[null,null,null,null,{"$f":"IF(D56=\"\",\"\",VLOOKUP(CONCATENATE(C56,D56),Listas!$AT$2:$AV$1104,3,FALSE))","v":""},null,{"$f":"IF(OR(F56=\"\",E56=\"\"),\"\",VLOOKUP(CONCATENATE(E56,Listas!AZ53),Listas!$BC$3:$BI$15430,7,FALSE))","v":""},null,null,{"$f":"IF(G56=\"\",\"\",VLOOKUP(G56,Listas!$BM$3:$BN$16,2,FALSE)*100)","v":""},"",{"$f":"+IFERROR(VLOOKUP(E56,Listas!$CQ$2:$CW$1104,7,FALSE),\"\")","v":""},"","",""]
[null,null,null,null,{"$f":"IF(D57=\"\",\"\",VLOOKUP(CONCATENATE(C57,D57),Listas!$AT$2:$AV$1104,3,FALSE))","v":""},null,{"$f":"IF(OR(F57=\"\",E57=\"\"),\"\",VLOOKUP(CONCATENATE(E57,Listas!AZ54),Listas!$BC$3:$BI$15430,7,FALSE))","v":""},null,null,{"$f":"IF(G57=\"\",\"\",VLOOKUP(G57,Listas!$BM$3:$BN$16,2,FALSE)*100)","v":""},"",{"$f":"+IFERROR(VLOOKUP(E57,Listas!$CQ$2:$CW$1104,7,FALSE),\"\")","v":""},"","",""]
[null,null,null,null,{"$f":"IF(D58=\"\",\"\",VLOOKUP(CONCATENATE(C58,D58),Listas!$AT$2:$AV$1104,3,FALSE))","v":""},null,{"$f":"IF(OR(F58=\"\",E58=\"\"),\"\",VLOOKUP(CONCATENATE(E58,Listas!AZ55),Listas!$BC$3:$BI$15430,7,FALSE))","v":""},null,null,{"$f":"IF(G58=\"\",\"\",VLOOKUP(G58,Listas!$BM$3:$BN$16,2,FALSE)*100)","v":""},"",{"$f":"+IFERROR(VLOOKUP(E58,Listas!$CQ$2:$CW$1104,7,FALSE),\"\")","v":""},"","",""]
[null,null,null,null,{"$f":"IF(D59=\"\",\"\",VLOOKUP(CONCATENATE(C59,D59),Listas!$AT$2:$AV$1104,3,FALSE))","v":""},null,{"$f":"IF(OR(F59=\"\",E59=\"\"),\"\",VLOOKUP(CONCATENATE(E59,Listas!AZ56),Listas!$BC$3:$BI$15430,7,FALSE))","v":""},null,null,{"$f":"IF(G59=\"\",\"\",VLOOKUP(G59,Listas!$BM$3:$BN$16,2,FALSE)*100)","v":""},"",{"$f":"+IFERROR(VLOOKUP(E59,Listas!$CQ$2:$CW$1104,7,FALSE),\"\")","v":""},"","",""]
[null,null,null,null,{"$f":"IF(D60=\"\",\"\",VLOOKUP(CONCATENATE(C60,D60),Listas!$AT$2:$AV$1104,3,FALSE))","v":""},null,{"$f":"IF(OR(F60=\"\",E60=\"\"),\"\",VLOOKUP(CONCATENATE(E60,Listas!AZ57),Listas!$BC$3:$BI$15430,7,FALSE))","v":""},null,null,{"$f":"IF(G60=\"\",\"\",VLOOKUP(G60,Listas!$BM$3:$BN$16,2,FALSE)*100)","v":""},"",{"$f":"+IFERROR(VLOOKUP(E60,Listas!$CQ$2:$CW$1104,7,FALSE),\"\")","v":""},"","",""]
[null,null,null,null,{"$f":"IF(D61=\"\",\"\",VLOOKUP(CONCATENATE(C61,D61),Listas!$AT$2:$AV$1104,3,FALSE))","v":""},null,{"$f":"IF(OR(F61=\"\",E61=\"\"),\"\",VLOOKUP(CONCATENATE(E61,Listas!AZ58),Listas!$BC$3:$BI$15430,7,FALSE))","v":""},null,null,{"$f":"IF(G61=\"\",\"\",VLOOKUP(G61,Listas!$BM$3:$BN$16,2,FALSE)*100)","v":""},"",{"$f":"+IFERROR(VLOOKUP(E61,Listas!$CQ$2:$CW$1104,7,FALSE),\"\")","v":""},"","",""]
[null,null,null,null,{"$f":"IF(D62=\"\",\"\",VLOOKUP(CONCATENATE(C62,D62),Listas!$AT$2:$AV$1104,3,FALSE))","v":""},null,{"$f":"IF(OR(F62=\"\",E62=\"\"),\"\",VLOOKUP(CONCATENATE(E62,Listas!AZ59),Listas!$BC$3:$BI$15430,7,FALSE))","v":""},null,null,{"$f":"IF(G62=\"\",\"\",VLOOKUP(G62,Listas!$BM$3:$BN$16,2,FALSE)*100)","v":""},"",{"$f":"+IFERROR(VLOOKUP(E62,Listas!$CQ$2:$CW$1104,7,FALSE),\"\")","v":""},"","",""]
[null,null,null,null,{"$f":"IF(D63=\"\",\"\",VLOOKUP(CONCATENATE(C63,D63),Listas!$AT$2:$AV$1104,3,FALSE))","v":""},null,{"$f":"IF(OR(F63=\"\",E63=\"\"),\"\",VLOOKUP(CONCATENATE(E63,Listas!AZ60),Listas!$BC$3:$BI$15430,7,FALSE))","v":""},null,null,{"$f":"IF(G63=\"\",\"\",VLOOKUP(G63,Listas!$BM$3:$BN$16,2,FALSE)*100)","v":""},"",{"$f":"+IFERROR(VLOOKUP(E63,Listas!$CQ$2:$CW$1104,7,FALSE),\"\")","v":""},"","",""]
[null,null,null,null,{"$f":"IF(D64=\"\",\"\",VLOOKUP(CONCATENATE(C64,D64),Listas!$AT$2:$AV$1104,3,FALSE))","v":""},null,{"$f":"IF(OR(F64=\"\",E64=\"\"),\"\",VLOOKUP(CONCATENATE(E64,Listas!AZ61),Listas!$BC$3:$BI$15430,7,FALSE))","v":""},null,null,{"$f":"IF(G64=\"\",\"\",VLOOKUP(G64,Listas!$BM$3:$BN$16,2,FALSE)*100)","v":""},"",{"$f":"+IFERROR(VLOOKUP(E64,Listas!$CQ$2:$CW$1104,7,FALSE),\"\")","v":""},"","",""]
[null,null,null,null,{"$f":"IF(D65=\"\",\"\",VLOOKUP(CONCATENATE(C65,D65),Listas!$AT$2:$AV$1104,3,FALSE))","v":""},null,{"$f":"IF(OR(F65=\"\",E65=\"\"),\"\",VLOOKUP(CONCATENATE(E65,Listas!AZ62),Listas!$BC$3:$BI$15430,7,FALSE))","v":""},null,null,{"$f":"IF(G65=\"\",\"\",VLOOKUP(G65,Listas!$BM$3:$BN$16,2,FALSE)*100)","v":""},"",{"$f":"+IFERROR(VLOOKUP(E65,Listas!$CQ$2:$CW$1104,7,FALSE),\"\")","v":""},"","",""]
[null,null,null,null,{"$f":"IF(D66=\"\",\"\",VLOOKUP(CONCATENATE(C66,D66),Listas!$AT$2:$AV$1104,3,FALSE))","v":""},null,{"$f":"IF(OR(F66=\"\",E66=\"\"),\"\",VLOOKUP(CONCATENATE(E66,Listas!AZ63),Listas!$BC$3:$BI$15430,7,FALSE))","v":""},null,null,{"$f":"IF(G66=\"\",\"\",VLOOKUP(G66,Listas!$BM$3:$BN$16,2,FALSE)*100)","v":""},"",{"$f":"+IFERROR(VLOOKUP(E66,Listas!$CQ$2:$CW$1104,7,FALSE),\"\")","v":""},"","",""]
[null,null,null,null,{"$f":"IF(D67=\"\",\"\",VLOOKUP(CONCATENATE(C67,D67),Listas!$AT$2:$AV$1104,3,FALSE))","v":""},null,{"$f":"IF(OR(F67=\"\",E67=\"\"),\"\",VLOOKUP(CONCATENATE(E67,Listas!AZ64),Listas!$BC$3:$BI$15430,7,FALSE))","v":""},null,null,{"$f":"IF(G67=\"\",\"\",VLOOKUP(G67,Listas!$BM$3:$BN$16,2,FALSE)*100)","v":""},"",{"$f":"+IFERROR(VLOOKUP(E67,Listas!$CQ$2:$CW$1104,7,FALSE),\"\")","v":""},"","",""]
[null,null,null,null,{"$f":"IF(D68=\"\",\"\",VLOOKUP(CONCATENATE(C68,D68),Listas!$AT$2:$AV$1104,3,FALSE))","v":""},null,{"$f":"IF(OR(F68=\"\",E68=\"\"),\"\",VLOOKUP(CONCATENATE(E68,Listas!AZ65),Listas!$BC$3:$BI$15430,7,FALSE))","v":""},null,null,{"$f":"IF(G68=\"\",\"\",VLOOKUP(G68,Listas!$BM$3:$BN$16,2,FALSE)*100)","v":""},"",{"$f":"+IFERROR(VLOOKUP(E68,Listas!$CQ$2:$CW$1104,7,FALSE),\"\")","v":""},"","",""]
[null,null,null,null,{"$f":"IF(D69=\"\",\"\",VLOOKUP(CONCATENATE(C69,D69),Listas!$AT$2:$AV$1104,3,FALSE))","v":""},null,{"$f":"IF(OR(F69=\"\",E69=\"\"),\"\",VLOOKUP(CONCATENATE(E69,Listas!AZ66),Listas!$BC$3:$BI$15430,7,FALSE))","v":""},null,null,{"$f":"IF(G69=\"\",\"\",VLOOKUP(G69,Listas!$BM$3:$BN$16,2,FALSE)*100)","v":""},"",{"$f":"+IFERROR(VLOOKUP(E69,Listas!$CQ$2:$CW$1104,7,FALSE),\"\")","v":""},"","",""]
[null,null,null,null,{"$f":"IF(D70=\"\",\"\",VLOOKUP(CONCATENATE(C70,D70),Listas!$AT$2:$AV$1104,3,FALSE))","v":""},null,{"$f":"IF(OR(F70=\"\",E70=\"\"),\"\",VLOOKUP(CONCATENATE(E70,Listas!AZ67),Listas!$BC$3:$BI$15430,7,FALSE))","v":""},null,null,{"$f":"IF(G70=\"\",\"\",VLOOKUP(G70,Listas!$BM$3:$BN$16,2,FALSE)*100)","v":""},{"$f":"+IF(H70=\"\",\"\",IF(H70=\"Sí\",1,0)*100)","v":""},{"$f":"+IFERROR(VLOOKUP(E70,Listas!$CQ$2:$CW$1104,7,FALSE),\"\")","v":""},{"$f":"+IF(I70=\"\",\"\",IF(I70=\"Sí\",1,0)*100)","v":""},"",""]
[null,null,null,null,{"$f":"IF(D71=\"\",\"\",VLOOKUP(CONCATENATE(C71,D71),Listas!$AT$2:$AV$1104,3,FALSE))","v":""},null,{"$f":"IF(OR(F71=\"\",E71=\"\"),\"\",VLOOKUP(CONCATENATE(E71,Listas!AZ68),Listas!$BC$3:$BI$15430,7,FALSE))","v":""},null,null,{"$f":"IF(G71=\"\",\"\",VLOOKUP(G71,Listas!$BM$3:$BN$16,2,FALSE)*100)","v":""},"",{"$f":"+IFERROR(VLOOKUP(E71,Listas!$CQ$2:$CW$1104,7,FALSE),\"\")","v":""},"",{"$f":"IF(E71=\"\",\"\",SUMPRODUCT(J71:M71,$J$2:$M$2))","v":""},{"$f":"+IFERROR(J71*58%,\"\")","v":""}]
[null,null,null,null,{"$f":"IF(D72=\"\",\"\",VLOOKUP(CONCATENATE(C72,D72),Listas!$AT$2:$AV$1104,3,FALSE))","v":""},null,{"$f":"IF(OR(F72=\"\",E72=\"\"),\"\",VLOOKUP(CONCATENATE(E72,Listas!AZ69),Listas!$BC$3:$BI$15430,7,FALSE))","v":""},null,null,{"$f":"IF(G72=\"\",\"\",VLOOKUP(G72,Listas!$BM$3:$BN$16,2,FALSE)*100)","v":""},"",{"$f":"+IFERROR(VLOOKUP(E72,Listas!$CQ$2:$CW$1104,7,FALSE),\"\")","v":""},"","",""]
[null,null,null,null,{"$f":"IF(D73=\"\",\"\",VLOOKUP(CONCATENATE(C73,D73),Listas!$AT$2:$AV$1104,3,FALSE))","v":""},null,{"$f":"IF(OR(F73=\"\",E73=\"\"),\"\",VLOOKUP(CONCATENATE(E73,Listas!AZ70),Listas!$BC$3:$BI$15430,7,FALSE))","v":""},null,null,{"$f":"IF(G73=\"\",\"\",VLOOKUP(G73,Listas!$BM$3:$BN$16,2,FALSE)*100)","v":""},"",{"$f":"+IFERROR(VLOOKUP(E73,Listas!$CQ$2:$CW$1104,7,FALSE),\"\")","v":""},"","",""]
[null,null,null,null,{"$f":"IF(D74=\"\",\"\",VLOOKUP(CONCATENATE(C74,D74),Listas!$AT$2:$AV$1104,3,FALSE))","v":""},null,{"$f":"IF(OR(F74=\"\",E74=\"\"),\"\",VLOOKUP(CONCATENATE(E74,Listas!AZ71),Listas!$BC$3:$BI$15430,7,FALSE))","v":""},null,null,{"$f":"IF(G74=\"\",\"\",VLOOKUP(G74,Listas!$BM$3:$BN$16,2,FALSE)*100)","v":""},"",{"$f":"+IFERROR(VLOOKUP(E74,Listas!$CQ$2:$CW$1104,7,FALSE),\"\")","v":""},"","",""]
[null,null,null,null,{"$f":"IF(D75=\"\",\"\",VLOOKUP(CONCATENATE(C75,D75),Listas!$AT$2:$AV$1104,3,FALSE))","v":""},null,{"$f":"IF(OR(F75=\"\",E75=\"\"),\"\",VLOOKUP(CONCATENATE(E75,Listas!AZ72),Listas!$BC$3:$BI$15430,7,FALSE))","v":""},null,null,{"$f":"IF(G75=\"\",\"\",VLOOKUP(G75,Listas!$BM$3:$BN$16,2,FALSE)*100)","v":""},"",{"$f":"+IFERROR(VLOOKUP(E75,Listas!$CQ$2:$CW$1104,7,FALSE),\"\")","v":""},"","",""]
[null,null,null,null,{"$f":"IF(D76=\"\",\"\",VLOOKUP(CONCATENATE(C76,D76),Listas!$AT$2:$AV$1104,3,FALSE))","v":""},null,{"$f":"IF(OR(F76=\"\",E76=\"\"),\"\",VLOOKUP(CONCATENATE(E76,Listas!AZ73),Listas!$BC$3:$BI$15430,7,FALSE))","v":""},null,null,{"$f":"IF(G76=\"\",\"\",VLOOKUP(G76,Listas!$BM$3:$BN$16,2,FALSE)*100)","v":""},"",{"$f":"+IFERROR(VLOOKUP(E76,Listas!$CQ$2:$CW$1104,7,FALSE),\"\")","v":""},"","",""]
[null,null,null,null,{"$f":"IF(D77=\"\",\"\",VLOOKUP(CONCATENATE(C77,D77),Listas!$AT$2:$AV$1104,3,FALSE))","v":""},null,{"$f":"IF(OR(F77=\"\",E77=\"\"),\"\",VLOOKUP(CONCATENATE(E77,Listas!AZ74),Listas!$BC$3:$BI$15430,7,FALSE))","v":""},null,null,{"$f":"IF(G77=\"\",\"\",VLOOKUP(G77,Listas!$BM$3:$BN$16,2,FALSE)*100)","v":""},"",{"$f":"+IFERROR(VLOOKUP(E77,Listas!$CQ$2:$CW$1104,7,FALSE),\"\")","v":""},"","",""]
[null,null,null,null,{"$f":"IF(D78=\"\",\"\",VLOOKUP(CONCATENATE(C78,D78),Listas!$AT$2:$AV$1104,3,FALSE))","v":""},null,{"$f":"IF(OR(F78=\"\",E78=\"\"),\"\",VLOOKUP(CONCATENATE(E78,Listas!AZ75),Listas!$BC$3:$BI$15430,7,FALSE))","v":""},null,null,{"$f":"IF(G78=\"\",\"\",VLOOKUP(G78,Listas!$BM$3:$BN$16,2,FALSE)*100)","v":""},"",{"$f":"+IFERROR(VLOOKUP(E78,Listas!$CQ$2:$CW$1104,7,FALSE),\"\")","v":""},"","",""]
[null,null,null,null,{"$f":"IF(D79=\"\",\"\",VLOOKUP(CONCATENATE(C79,D79),Listas!$AT$2:$AV$1104,3,FALSE))","v":""},null,{"$f":"IF(OR(F79=\"\",E79=\"\"),\"\",VLOOKUP(CONCATENATE(E79,Listas!AZ76),Listas!$BC$3:$BI$15430,7,FALSE))","v":""},null,null,{"$f":"IF(G79=\"\",\"\",VLOOKUP(G79,Listas!$BM$3:$BN$16,2,FALSE)*100)","v":""},"",{"$f":"+IFERROR(VLOOKUP(E79,Listas!$CQ$2:$CW$1104,7,FALSE),\"\")","v":""},"","",""]
[null,null,null,null,{"$f":"IF(D80=\"\",\"\",VLOOKUP(CONCATENATE(C80,D80),Listas!$AT$2:$AV$1104,3,FALSE))","v":""},null,{"$f":"IF(OR(F80=\"\",E80=\"\"),\"\",VLOOKUP(CONCATENATE(E80,Listas!AZ77),Listas!$BC$3:$BI$15430,7,FALSE))","v":""},null,null,{"$f":"IF(G80=\"\",\"\",VLOOKUP(G80,Listas!$BM$3:$BN$16,2,FALSE)*100)","v":""},"",{"$f":"+IFERROR(VLOOKUP(E80,Listas!$CQ$2:$CW$1104,7,FALSE),\"\")","v":""},"","",""]
[null,null,null,null,{"$f":"IF(D81=\"\",\"\",VLOOKUP(CONCATENATE(C81,D81),Listas!$AT$2:$AV$1104,3,FALSE))","v":""},null,{"$f":"IF(OR(F81=\"\",E81=\"\"),\"\",VLOOKUP(CONCATENATE(E81,Listas!AZ78),Listas!$BC$3:$BI$15430,7,FALSE))","v":""},null,null,{"$f":"IF(G81=\"\",\"\",VLOOKUP(G81,Listas!$BM$3:$BN$16,2,FALSE)*100)","v":""},"",{"$f":"+IFERROR(VLOOKUP(E81,Listas!$CQ$2:$CW$1104,7,FALSE),\"\")","v":""},"","",""]
[null,null,null,null,{"$f":"IF(D82=\"\",\"\",VLOOKUP(CONCATENATE(C82,D82),Listas!$AT$2:$AV$1104,3,FALSE))","v":""},null,{"$f":"IF(OR(F82=\"\",E82=\"\"),\"\",VLOOKUP(CONCATENATE(E82,Listas!AZ79),Listas!$BC$3:$BI$15430,7,FALSE))","v":""},null,null,{"$f":"IF(G82=\"\",\"\",VLOOKUP(G82,Listas!$BM$3:$BN$16,2,FALSE)*100)","v":""},"",{"$f":"+IFERROR(VLOOKUP(E82,Listas!$CQ$2:$CW$1104,7,FALSE),\"\")","v":""},"","",""]
[null,null,null,null,{"$f":"IF(D83=\"\",\"\",VLOOKUP(CONCATENATE(C83,D83),Listas!$AT$2:$AV$1104,3,FALSE))","v":""},null,{"$f":"IF(OR(F83=\"\",E83=\"\"),\"\",VLOOKUP(CONCATENATE(E83,Listas!AZ80),Listas!$BC$3:$BI$15430,7,FALSE))","v":""},null,null,{"$f":"IF(G83=\"\",\"\",VLOOKUP(G83,Listas!$BM$3:$BN$16,2,FALSE)*100)","v":""},"",{"$f":"+IFERROR(VLOOKUP(E83,Listas!$CQ$2:$CW$1104,7,FALSE),\"\")","v":""},"","",""]
[null,null,null,null,{"$f":"IF(D84=\"\",\"\",VLOOKUP(CONCATENATE(C84,D84),Listas!$AT$2:$AV$1104,3,FALSE))","v":""},null,{"$f":"IF(OR(F84=\"\",E84=\"\"),\"\",VLOOKUP(CONCATENATE(E84,Listas!AZ81),Listas!$BC$3:$BI$15430,7,FALSE))","v":""},null,null,{"$f":"IF(G84=\"\",\"\",VLOOKUP(G84,Listas!$BM$3:$BN$16,2,FALSE)*100)","v":""},"",{"$f":"+IFERROR(VLOOKUP(E84,Listas!$CQ$2:$CW$1104,7,FALSE),\"\")","v":""},"","",""]
[null,null,null,null,{"$f":"IF(D85=\"\",\"\",VLOOKUP(CONCATENATE(C85,D85),Listas!$AT$2:$AV$1104,3,FALSE))","v":""},null,{"$f":"IF(OR(F85=\"\",E85=\"\"),\"\",VLOOKUP(CONCATENATE(E85,Listas!AZ82),Listas!$BC$3:$BI$15430,7,FALSE))","v":""},null,null,{"$f":"IF(G85=\"\",\"\",VLOOKUP(G85,Listas!$BM$3:$BN$16,2,FALSE)*100)","v":""},"",{"$f":"+IFERROR(VLOOKUP(E85,Listas!$CQ$2:$CW$1104,7,FALSE),\"\")","v":""},"","",""]
[null,null,null,null,{"$f":"IF(D86=\"\",\"\",VLOOKUP(CONCATENATE(C86,D86),Listas!$AT$2:$AV$1104,3,FALSE))","v":""},null,{"$f":"IF(OR(F86=\"\",E86=\"\"),\"\",VLOOKUP(CONCATENATE(E86,Listas!AZ83),Listas!$BC$3:$BI$15430,7,FALSE))","v":""},null,null,{"$f":"IF(G86=\"\",\"\",VLOOKUP(G86,Listas!$BM$3:$BN$16,2,FALSE)*100)","v":""},"",{"$f":"+IFERROR(VLOOKUP(E86,Listas!$CQ$2:$CW$1104,7,FALSE),\"\")","v":""},"","",""]
[null,null,null,null,{"$f":"IF(D87=\"\",\"\",VLOOKUP(CONCATENATE(C87,D87),Listas!$AT$2:$AV$1104,3,FALSE))","v":""},null,{"$f":"IF(OR(F87=\"\",E87=\"\"),\"\",VLOOKUP(CONCATENATE(E87,Listas!AZ84),Listas!$BC$3:$BI$15430,7,FALSE))","v":""},null,null,{"$f":"IF(G87=\"\",\"\",VLOOKUP(G87,Listas!$BM$3:$BN$16,2,FALSE)*100)","v":""},"",{"$f":"+IFERROR(VLOOKUP(E87,Listas!$CQ$2:$CW$1104,7,FALSE),\"\")","v":""},"","",""]
[null,null,null,null,{"$f":"IF(D88=\"\",\"\",VLOOKUP(CONCATENATE(C88,D88),Listas!$AT$2:$AV$1104,3,FALSE))","v":""},null,{"$f":"IF(OR(F88=\"\",E88=\"\"),\"\",VLOOKUP(CONCATENATE(E88,Listas!AZ85),Listas!$BC$3:$BI$15430,7,FALSE))","v":""},null,null,{"$f":"IF(G88=\"\",\"\",VLOOKUP(G88,Listas!$BM$3:$BN$16,2,FALSE)*100)","v":""},"",{"$f":"+IFERROR(VLOOKUP(E88,Listas!$CQ$2:$CW$1104,7,FALSE),\"\")","v":""},"","",""]
[null,null,null,null,{"$f":"IF(D89=\"\",\"\",VLOOKUP(CONCATENATE(C89,D89),Listas!$AT$2:$AV$1104,3,FALSE))","v":""},null,{"$f":"IF(OR(F89=\"\",E89=\"\"),\"\",VLOOKUP(CONCATENATE(E89,Listas!AZ86),Listas!$BC$3:$BI$15430,7,FALSE))","v":""},null,null,{"$f":"IF(G89=\"\",\"\",VLOOKUP(G89,Listas!$BM$3:$BN$16,2,FALSE)*100)","v":""},"",{"$f":"+IFERROR(VLOOKUP(E89,Listas!$CQ$2:$CW$1104,7,FALSE),\"\")","v":""},"","",""]
[null,null,null,null,{"$f":"IF(D90=\"\",\"\",VLOOKUP(CONCATENATE(C90,D90),Listas!$AT$2:$AV$1104,3,FALSE))","v":""},null,{"$f":"IF(OR(F90=\"\",E90=\"\"),\"\",VLOOKUP(CONCATENATE(E90,Listas!AZ87),Listas!$BC$3:$BI$15430,7,FALSE))","v":""},null,null,{"$f":"IF(G90=\"\",\"\",VLOOKUP(G90,Listas!$BM$3:$BN$16,2,FALSE)*100)","v":""},"",{"$f":"+IFERROR(VLOOKUP(E90,Listas!$CQ$2:$CW$1104,7,FALSE),\"\")","v":""},"","",""]
[null,null,null,null,{"$f":"IF(D91=\"\",\"\",VLOOKUP(CONCATENATE(C91,D91),Listas!$AT$2:$AV$1104,3,FALSE))","v":""},null,{"$f":"IF(OR(F91=\"\",E91=\"\"),\"\",VLOOKUP(CONCATENATE(E91,Listas!AZ88),Listas!$BC$3:$BI$15430,7,FALSE))","v":""},null,null,{"$f":"IF(G91=\"\",\"\",VLOOKUP(G91,Listas!$BM$3:$BN$16,2,FALSE)*100)","v":""},"",{"$f":"+IFERROR(VLOOKUP(E91,Listas!$CQ$2:$CW$1104,7,FALSE),\"\")","v":""},"","",""]
[null,null,null,null,{"$f":"IF(D92=\"\",\"\",VLOOKUP(CONCATENATE(C92,D92),Listas!$AT$2:$AV$1104,3,FALSE))","v":""},null,{"$f":"IF(OR(F92=\"\",E92=\"\"),\"\",VLOOKUP(CONCATENATE(E92,Listas!AZ89),Listas!$BC$3:$BI$15430,7,FALSE))","v":""},null,null,{"$f":"IF(G92=\"\",\"\",VLOOKUP(G92,Listas!$BM$3:$BN$16,2,FALSE)*100)","v":""},"",{"$f":"+IFERROR(VLOOKUP(E92,Listas!$CQ$2:$CW$1104,7,FALSE),\"\")","v":""},"","",""]
[null,null,null,null,{"$f":"IF(D93=\"\",\"\",VLOOKUP(CONCATENATE(C93,D93),Listas!$AT$2:$AV$1104,3,FALSE))","v":""},null,{"$f":"IF(OR(F93=\"\",E93=\"\"),\"\",VLOOKUP(CONCATENATE(E93,Listas!AZ90),Listas!$BC$3:$BI$15430,7,FALSE))","v":""},null,null,{"$f":"IF(G93=\"\",\"\",VLOOKUP(G93,Listas!$BM$3:$BN$16,2,FALSE)*100)","v":""},"",{"$f":"+IFERROR(VLOOKUP(E93,Listas!$CQ$2:$CW$1104,7,FALSE),\"\")","v":""},"","",""]
[null,null,null,null,{"$f":"IF(D94=\"\",\"\",VLOOKUP(CONCATENATE(C94,D94),Listas!$AT$2:$AV$1104,3,FALSE))","v":""},null,{"$f":"IF(OR(F94=\"\",E94=\"\"),\"\",VLOOKUP(CONCATENATE(E94,Listas!AZ91),Listas!$BC$3:$BI$15430,7,FALSE))","v":""},null,null,{"$f":"IF(G94=\"\",\"\",VLOOKUP(G94,Listas!$BM$3:$BN$16,2,FALSE)*100)","v":""},"",{"$f":"+IFERROR(VLOOKUP(E94,Listas!$CQ$2:$CW$1104,7,FALSE),\"\")","v":""},"","",""]
[null,null,null,null,{"$f":"IF(D95=\"\",\"\",VLOOKUP(CONCATENATE(C95,D95),Listas!$AT$2:$AV$1104,3,FALSE))","v":""},null,{"$f":"IF(OR(F95=\"\",E95=\"\"),\"\",VLOOKUP(CONCATENATE(E95,Listas!AZ92),Listas!$BC$3:$BI$15430,7,FALSE))","v":""},null,null,{"$f":"IF(G95=\"\",\"\",VLOOKUP(G95,Listas!$BM$3:$BN$16,2,FALSE)*100)","v":""},"",{"$f":"+IFERROR(VLOOKUP(E95,Listas!$CQ$2:$CW$1104,7,FALSE),\"\")","v":""},"","",""]
[null,null,null,null,{"$f":"IF(D96=\"\",\"\",VLOOKUP(CONCATENATE(C96,D96),Listas!$AT$2:$AV$1104,3,FALSE))","v":""},null,{"$f":"IF(OR(F96=\"\",E96=\"\"),\"\",VLOOKUP(CONCATENATE(E96,Listas!AZ93),Listas!$BC$3:$BI$15430,7,FALSE))","v":""},null,null,{"$f":"IF(G96=\"\",\"\",VLOOKUP(G96,Listas!$BM$3:$BN$16,2,FALSE)*100)","v":""},"",{"$f":"+IFERROR(VLOOKUP(E96,Listas!$CQ$2:$CW$1104,7,FALSE),\"\")","v":""},"","",""]
[null,null,null,null,{"$f":"IF(D97=\"\",\"\",VLOOKUP(CONCATENATE(C97,D97),Listas!$AT$2:$AV$1104,3,FALSE))","v":""},null,{"$f":"IF(OR(F97=\"\",E97=\"\"),\"\",VLOOKUP(CONCATENATE(E97,Listas!AZ94),Listas!$BC$3:$BI$15430,7,FALSE))","v":""},null,null,{"$f":"IF(G97=\"\",\"\",VLOOKUP(G97,Listas!$BM$3:$BN$16,2,FALSE)*100)","v":""},"",{"$f":"+IFERROR(VLOOKUP(E97,Listas!$CQ$2:$CW$1104,7,FALSE),\"\")","v":""},"","",""]
[null,null,null,null,{"$f":"IF(D98=\"\",\"\",VLOOKUP(CONCATENATE(C98,D98),Listas!$AT$2:$AV$1104,3,FALSE))","v":""},null,{"$f":"IF(OR(F98=\"\",E98=\"\"),\"\",VLOOKUP(CONCATENATE(E98,Listas!AZ95),Listas!$BC$3:$BI$15430,7,FALSE))","v":""},null,null,{"$f":"IF(G98=\"\",\"\",VLOOKUP(G98,Listas!$BM$3:$BN$16,2,FALSE)*100)","v":""},"",{"$f":"+IFERROR(VLOOKUP(E98,Listas!$CQ$2:$CW$1104,7,FALSE),\"\")","v":""},"","",""]
[null,null,null,null,{"$f":"IF(D99=\"\",\"\",VLOOKUP(CONCATENATE(C99,D99),Listas!$AT$2:$AV$1104,3,FALSE))","v":""},null,{"$f":"IF(OR(F99=\"\",E99=\"\"),\"\",VLOOKUP(CONCATENATE(E99,Listas!AZ96),Listas!$BC$3:$BI$15430,7,FALSE))","v":""},null,null,{"$f":"IF(G99=\"\",\"\",VLOOKUP(G99,Listas!$BM$3:$BN$16,2,FALSE)*100)","v":""},"",{"$f":"+IFERROR(VLOOKUP(E99,Listas!$CQ$2:$CW$1104,7,FALSE),\"\")","v":""},"","",""]
[null,null,null,null,{"$f":"IF(D100=\"\",\"\",VLOOKUP(CONCATENATE(C100,D100),Listas!$AT$2:$AV$1104,3,FALSE))","v":""},null,{"$f":"IF(OR(F100=\"\",E100=\"\"),\"\",VLOOKUP(CONCATENATE(E100,Listas!AZ97),Listas!$BC$3:$BI$15430,7,FALSE))","v":""},null,null,{"$f":"IF(G100=\"\",\"\",VLOOKUP(G100,Listas!$BM$3:$BN$16,2,FALSE)*100)","v":""},"",{"$f":"+IFERROR(VLOOKUP(E100,Listas!$CQ$2:$CW$1104,7,FALSE),\"\")","v":""},"","",""]
[null,null,null,null,{"$f":"IF(D101=\"\",\"\",VLOOKUP(CONCATENATE(C101,D101),Listas!$AT$2:$AV$1104,3,FALSE))","v":""},null,{"$f":"IF(OR(F101=\"\",E101=\"\"),\"\",VLOOKUP(CONCATENATE(E101,Listas!AZ98),Listas!$BC$3:$BI$15430,7,FALSE))","v":""},null,null,{"$f":"IF(G101=\"\",\"\",VLOOKUP(G101,Listas!$BM$3:$BN$16,2,FALSE)*100)","v":""},"",{"$f":"+IFERROR(VLOOKUP(E101,Listas!$CQ$2:$CW$1104,7,FALSE),\"\")","v":""},"","",""]
[null,null,null,null,{"$f":"IF(D102=\"\",\"\",VLOOKUP(CONCATENATE(C102,D102),Listas!$AT$2:$AV$1104,3,FALSE))","v":""},null,{"$f":"IF(OR(F102=\"\",E102=\"\"),\"\",VLOOKUP(CONCATENATE(E102,Listas!AZ99),Listas!$BC$3:$BI$15430,7,FALSE))","v":""},null,null,{"$f":"IF(G102=\"\",\"\",VLOOKUP(G102,Listas!$BM$3:$BN$16,2,FALSE)*100)","v":""},"",{"$f":"+IFERROR(VLOOKUP(E102,Listas!$CQ$2:$CW$1104,7,FALSE),\"\")","v":""},"","",""]
[null,null,null,null,{"$f":"IF(D103=\"\",\"\",VLOOKUP(CONCATENATE(C103,D103),Listas!$AT$2:$AV$1104,3,FALSE))","v":""},null,{"$f":"IF(OR(F103=\"\",E103=\"\"),\"\",VLOOKUP(CONCATENATE(E103,Listas!AZ100),Listas!$BC$3:$BI$15430,7,FALSE))","v":""},null,null,{"$f":"IF(G103=\"\",\"\",VLOOKUP(G103,Listas!$BM$3:$BN$16,2,FALSE)*100)","v":""},"",{"$f":"+IFERROR(VLOOKUP(E103,Listas!$CQ$2:$CW$1104,7,FALSE),\"\")","v":""},"","",""]
[null,null,null,null,{"$f":"IF(D104=\"\",\"\",VLOOKUP(CONCATENATE(C104,D104),Listas!$AT$2:$AV$1104,3,FALSE))","v":""},null,{"$f":"IF(OR(F104=\"\",E104=\"\"),\"\",VLOOKUP(CONCATENATE(E104,Listas!AZ101),Listas!$BC$3:$BI$15430,7,FALSE))","v":""},null,null,{"$f":"IF(G104=\"\",\"\",VLOOKUP(G104,Listas!$BM$3:$BN$16,2,FALSE)*100)","v":""},"",{"$f":"+IFERROR(VLOOKUP(E104,Listas!$CQ$2:$CW$1104,7,FALSE),\"\")","v":""},"","",""]
[null,null,null,null,{"$f":"IF(D105=\"\",\"\",VLOOKUP(CONCATENATE(C105,D105),Listas!$AT$2:$AV$1104,3,FALSE))","v":""},null,{"$f":"IF(OR(F105=\"\",E105=\"\"),\"\",VLOOKUP(CONCATENATE(E105,Listas!AZ102),Listas!$BC$3:$BI$15430,7,FALSE))","v":""},null,null,{"$f":"IF(G105=\"\",\"\",VLOOKUP(G105,Listas!$BM$3:$BN$16,2,FALSE)*100)","v":""},"",{"$f":"+IFERROR(VLOOKUP(E105,Listas!$CQ$2:$CW$1104,7,FALSE),\"\")","v":""},"","",""]
[null,null,null,null,{"$f":"IF(D106=\"\",\"\",VLOOKUP(CONCATENATE(C106,D106),Listas!$AT$2:$AV$1104,3,FALSE))","v":""},null,{"$f":"IF(OR(F106=\"\",E106=\"\"),\"\",VLOOKUP(CONCATENATE(E106,Listas!AZ103),Listas!$BC$3:$BI$15430,7,FALSE))","v":""},null,null,{"$f":"IF(G106=\"\",\"\",VLOOKUP(G106,Listas!$BM$3:$BN$16,2,FALSE)*100)","v":""},"",{"$f":"+IFERROR(VLOOKUP(E106,Listas!$CQ$2:$CW$1104,7,FALSE),\"\")","v":""},"","",""]
[null,null,null,null,{"$f":"IF(D107=\"\",\"\",VLOOKUP(CONCATENATE(C107,D107),Listas!$AT$2:$AV$1104,3,FALSE))","v":""},null,{"$f":"IF(OR(F107=\"\",E107=\"\"),\"\",VLOOKUP(CONCATENATE(E107,Listas!AZ104),Listas!$BC$3:$BI$15430,7,FALSE))","v":""},null,null,{"$f":"IF(G107=\"\",\"\",VLOOKUP(G107,Listas!$BM$3:$BN$16,2,FALSE)*100)","v":""},"",{"$f":"+IFERROR(VLOOKUP(E107,Listas!$CQ$2:$CW$1104,7,FALSE),\"\")","v":""},"","",""]
[null,null,null,null,{"$f":"IF(D108=\"\",\"\",VLOOKUP(CONCATENATE(C108,D108),Listas!$AT$2:$AV$1104,3,FALSE))","v":""},null,{"$f":"IF(OR(F108=\"\",E108=\"\"),\"\",VLOOKUP(CONCATENATE(E108,Listas!AZ105),Listas!$BC$3:$BI$15430,7,FALSE))","v":""},null,null,{"$f":"IF(G108=\"\",\"\",VLOOKUP(G108,Listas!$BM$3:$BN$16,2,FALSE)*100)","v":""},"",{"$f":"+IFERROR(VLOOKUP(E108,Listas!$CQ$2:$CW$1104,7,FALSE),\"\")","v":""},"","",""]
[null,null,null,null,{"$f":"IF(D109=\"\",\"\",VLOOKUP(CONCATENATE(C109,D109),Listas!$AT$2:$AV$1104,3,FALSE))","v":""},null,{"$f":"IF(OR(F109=\"\",E109=\"\"),\"\",VLOOKUP(CONCATENATE(E109,Listas!AZ106),Listas!$BC$3:$BI$15430,7,FALSE))","v":""},null,null,{"$f":"IF(G109=\"\",\"\",VLOOKUP(G109,Listas!$BM$3:$BN$16,2,FALSE)*100)","v":""},"",{"$f":"+IFERROR(VLOOKUP(E109,Listas!$CQ$2:$CW$1104,7,FALSE),\"\")","v":""},"","",""]
[null,null,null,null,{"$f":"IF(D110=\"\",\"\",VLOOKUP(CONCATENATE(C110,D110),Listas!$AT$2:$AV$1104,3,FALSE))","v":""},null,{"$f":"IF(OR(F110=\"\",E110=\"\"),\"\",VLOOKUP(CONCATENATE(E110,Listas!AZ107),Listas!$BC$3:$BI$15430,7,FALSE))","v":""},null,null,{"$f":"IF(G110=\"\",\"\",VLOOKUP(G110,Listas!$BM$3:$BN$16,2,FALSE)*100)","v":""},"",{"$f":"+IFERROR(VLOOKUP(E110,Listas!$CQ$2:$CW$1104,7,FALSE),\"\")","v":""},"","",""]
[null,null,null,null,{"$f":"IF(D111=\"\",\"\",VLOOKUP(CONCATENATE(C111,D111),Listas!$AT$2:$AV$1104,3,FALSE))","v":""},null,{"$f":"IF(OR(F111=\"\",E111=\"\"),\"\",VLOOKUP(CONCATENATE(E111,Listas!AZ108),Listas!$BC$3:$BI$15430,7,FALSE))","v":""},null,null,{"$f":"IF(G111=\"\",\"\",VLOOKUP(G111,Listas!$BM$3:$BN$16,2,FALSE)*100)","v":""},"",{"$f":"+IFERROR(VLOOKUP(E111,Listas!$CQ$2:$CW$1104,7,FALSE),\"\")","v":""},"","",""]
[null,null,null,null,{"$f":"IF(D112=\"\",\"\",VLOOKUP(CONCATENATE(C112,D112),Listas!$AT$2:$AV$1104,3,FALSE))","v":""},null,{"$f":"IF(OR(F112=\"\",E112=\"\"),\"\",VLOOKUP(CONCATENATE(E112,Listas!AZ109),Listas!$BC$3:$BI$15430,7,FALSE))","v":""},null,null,{"$f":"IF(G112=\"\",\"\",VLOOKUP(G112,Listas!$BM$3:$BN$16,2,FALSE)*100)","v":""},"",{"$f":"+IFERROR(VLOOKUP(E112,Listas!$CQ$2:$CW$1104,7,FALSE),\"\")","v":""},"","",""]
[null,null,null,null,{"$f":"IF(D113=\"\",\"\",VLOOKUP(CONCATENATE(C113,D113),Listas!$AT$2:$AV$1104,3,FALSE))","v":""},null,{"$f":"IF(OR(F113=\"\",E113=\"\"),\"\",VLOOKUP(CONCATENATE(E113,Listas!AZ110),Listas!$BC$3:$BI$15430,7,FALSE))","v":""},null,null,{"$f":"IF(G113=\"\",\"\",VLOOKUP(G113,Listas!$BM$3:$BN$16,2,FALSE)*100)","v":""},"",{"$f":"+IFERROR(VLOOKUP(E113,Listas!$CQ$2:$CW$1104,7,FALSE),\"\")","v":""},"","",""]
[null,null,null,null,{"$f":"IF(D114=\"\",\"\",VLOOKUP(CONCATENATE(C114,D114),Listas!$AT$2:$AV$1104,3,FALSE))","v":""},null,{"$f":"IF(OR(F114=\"\",E114=\"\"),\"\",VLOOKUP(CONCATENATE(E114,Listas!AZ111),Listas!$BC$3:$BI$15430,7,FALSE))","v":""},null,null,{"$f":"IF(G114=\"\",\"\",VLOOKUP(G114,Listas!$BM$3:$BN$16,2,FALSE)*100)","v":""},"",{"$f":"+IFERROR(VLOOKUP(E114,Listas!$CQ$2:$CW$1104,7,FALSE),\"\")","v":""},"","",""]
[null,null,null,null,{"$f":"IF(D115=\"\",\"\",VLOOKUP(CONCATENATE(C115,D115),Listas!$AT$2:$AV$1104,3,FALSE))","v":""},null,{"$f":"IF(OR(F115=\"\",E115=\"\"),\"\",VLOOKUP(CONCATENATE(E115,Listas!AZ112),Listas!$BC$3:$BI$15430,7,FALSE))","v":""},null,null,{"$f":"IF(G115=\"\",\"\",VLOOKUP(G115,Listas!$BM$3:$BN$16,2,FALSE)*100)","v":""},"",{"$f":"+IFERROR(VLOOKUP(E115,Listas!$CQ$2:$CW$1104,7,FALSE),\"\")","v":""},"","",""]
[null,null,null,null,{"$f":"IF(D116=\"\",\"\",VLOOKUP(CONCATENATE(C116,D116),Listas!$AT$2:$AV$1104,3,FALSE))","v":""},null,{"$f":"IF(OR(F116=\"\",E116=\"\"),\"\",VLOOKUP(CONCATENATE(E116,Listas!AZ113),Listas!$BC$3:$BI$15430,7,FALSE))","v":""},null,null,{"$f":"IF(G116=\"\",\"\",VLOOKUP(G116,Listas!$BM$3:$BN$16,2,FALSE)*100)","v":""},"",{"$f":"+IFERROR(VLOOKUP(E116,Listas!$CQ$2:$CW$1104,7,FALSE),\"\")","v":""},"","",""]
[null,null,null,null,{"$f":"IF(D117=\"\",\"\",VLOOKUP(CONCATENATE(C117,D117),Listas!$AT$2:$AV$1104,3,FALSE))","v":""},null,{"$f":"IF(OR(F117=\"\",E117=\"\"),\"\",VLOOKUP(CONCATENATE(E117,Listas!AZ114),Listas!$BC$3:$BI$15430,7,FALSE))","v":""},null,null,{"$f":"IF(G117=\"\",\"\",VLOOKUP(G117,Listas!$BM$3:$BN$16,2,FALSE)*100)","v":""},"",{"$f":"+IFERROR(VLOOKUP(E117,Listas!$CQ$2:$CW$1104,7,FALSE),\"\")","v":""},"","",""]
[null,null,null,null,{"$f":"IF(D118=\"\",\"\",VLOOKUP(CONCATENATE(C118,D118),Listas!$AT$2:$AV$1104,3,FALSE))","v":""},null,{"$f":"IF(OR(F118=\"\",E118=\"\"),\"\",VLOOKUP(CONCATENATE(E118,Listas!AZ115),Listas!$BC$3:$BI$15430,7,FALSE))","v":""},null,null,{"$f":"IF(G118=\"\",\"\",VLOOKUP(G118,Listas!$BM$3:$BN$16,2,FALSE)*100)","v":""},"",{"$f":"+IFERROR(VLOOKUP(E118,Listas!$CQ$2:$CW$1104,7,FALSE),\"\")","v":""},"","",""]
[null,null,null,null,{"$f":"IF(D119=\"\",\"\",VLOOKUP(CONCATENATE(C119,D119),Listas!$AT$2:$AV$1104,3,FALSE))","v":""},null,{"$f":"IF(OR(F119=\"\",E119=\"\"),\"\",VLOOKUP(CONCATENATE(E119,Listas!AZ116),Listas!$BC$3:$BI$15430,7,FALSE))","v":""},null,null,{"$f":"IF(G119=\"\",\"\",VLOOKUP(G119,Listas!$BM$3:$BN$16,2,FALSE)*100)","v":""},"",{"$f":"+IFERROR(VLOOKUP(E119,Listas!$CQ$2:$CW$1104,7,FALSE),\"\")","v":""},"","",""]
[null,null,null,null,{"$f":"IF(D120=\"\",\"\",VLOOKUP(CONCATENATE(C120,D120),Listas!$AT$2:$AV$1104,3,FALSE))","v":""},null,{"$f":"IF(OR(F120=\"\",E120=\"\"),\"\",VLOOKUP(CONCATENATE(E120,Listas!AZ117),Listas!$BC$3:$BI$15430,7,FALSE))","v":""},null,null,{"$f":"IF(G120=\"\",\"\",VLOOKUP(G120,Listas!$BM$3:$BN$16,2,FALSE)*100)","v":""},"",{"$f":"+IFERROR(VLOOKUP(E120,Listas!$CQ$2:$CW$1104,7,FALSE),\"\")","v":""},"","",""]
[null,null,null,null,{"$f":"IF(D121=\"\",\"\",VLOOKUP(CONCATENATE(C121,D121),Listas!$AT$2:$AV$1104,3,FALSE))","v":""},null,{"$f":"IF(OR(F121=\"\",E121=\"\"),\"\",VLOOKUP(CONCATENATE(E121,Listas!AZ118),Listas!$BC$3:$BI$15430,7,FALSE))","v":""},null,null,{"$f":"IF(G121=\"\",\"\",VLOOKUP(G121,Listas!$BM$3:$BN$16,2,FALSE)*100)","v":""},"",{"$f":"+IFERROR(VLOOKUP(E121,Listas!$CQ$2:$CW$1104,7,FALSE),\"\")","v":""},"","",""]
[null,null,null,null,{"$f":"IF(D122=\"\",\"\",VLOOKUP(CONCATENATE(C122,D122),Listas!$AT$2:$AV$1104,3,FALSE))","v":""},null,{"$f":"IF(OR(F122=\"\",E122=\"\"),\"\",VLOOKUP(CONCATENATE(E122,Listas!AZ119),Listas!$BC$3:$BI$15430,7,FALSE))","v":""},null,null,{"$f":"IF(G122=\"\",\"\",VLOOKUP(G122,Listas!$BM$3:$BN$16,2,FALSE)*100)","v":""},"",{"$f":"+IFERROR(VLOOKUP(E122,Listas!$CQ$2:$CW$1104,7,FALSE),\"\")","v":""},"","",""]
[null,null,null,null,{"$f":"IF(D123=\"\",\"\",VLOOKUP(CONCATENATE(C123,D123),Listas!$AT$2:$AV$1104,3,FALSE))","v":""},null,{"$f":"IF(OR(F123=\"\",E123=\"\"),\"\",VLOOKUP(CONCATENATE(E123,Listas!AZ120),Listas!$BC$3:$BI$15430,7,FALSE))","v":""},null,null,{"$f":"IF(G123=\"\",\"\",VLOOKUP(G123,Listas!$BM$3:$BN$16,2,FALSE)*100)","v":""},"",{"$f":"+IFERROR(VLOOKUP(E123,Listas!$CQ$2:$CW$1104,7,FALSE),\"\")","v":""},"","",""]
[null,null,null,null,{"$f":"IF(D124=\"\",\"\",VLOOKUP(CONCATENATE(C124,D124),Listas!$AT$2:$AV$1104,3,FALSE))","v":""},null,{"$f":"IF(OR(F124=\"\",E124=\"\"),\"\",VLOOKUP(CONCATENATE(E124,Listas!AZ121),Listas!$BC$3:$BI$15430,7,FALSE))","v":""},null,null,{"$f":"IF(G124=\"\",\"\",VLOOKUP(G124,Listas!$BM$3:$BN$16,2,FALSE)*100)","v":""},"",{"$f":"+IFERROR(VLOOKUP(E124,Listas!$CQ$2:$CW$1104,7,FALSE),\"\")","v":""},"","",""]
[null,null,null,null,{"$f":"IF(D125=\"\",\"\",VLOOKUP(CONCATENATE(C125,D125),Listas!$AT$2:$AV$1104,3,FALSE))","v":""},null,{"$f":"IF(OR(F125=\"\",E125=\"\"),\"\",VLOOKUP(CONCATENATE(E125,Listas!AZ122),Listas!$BC$3:$BI$15430,7,FALSE))","v":""},null,null,{"$f":"IF(G125=\"\",\"\",VLOOKUP(G125,Listas!$BM$3:$BN$16,2,FALSE)*100)","v":""},"",{"$f":"+IFERROR(VLOOKUP(E125,Listas!$CQ$2:$CW$1104,7,FALSE),\"\")","v":""},"","",""]
[null,null,null,null,{"$f":"IF(D126=\"\",\"\",VLOOKUP(CONCATENATE(C126,D126),Listas!$AT$2:$AV$1104,3,FALSE))","v":""},null,{"$f":"IF(OR(F126=\"\",E126=\"\"),\"\",VLOOKUP(CONCATENATE(E126,Listas!AZ123),Listas!$BC$3:$BI$15430,7,FALSE))","v":""},null,null,{"$f":"IF(G126=\"\",\"\",VLOOKUP(G126,Listas!$BM$3:$BN$16,2,FALSE)*100)","v":""},"",{"$f":"+IFERROR(VLOOKUP(E126,Listas!$CQ$2:$CW$1104,7,FALSE),\"\")","v":""},"","",""]
[null,null,null,null,{"$f":"IF(D127=\"\",\"\",VLOOKUP(CONCATENATE(C127,D127),Listas!$AT$2:$AV$1104,3,FALSE))","v":""},null,{"$f":"IF(OR(F127=\"\",E127=\"\"),\"\",VLOOKUP(CONCATENATE(E127,Listas!AZ124),Listas!$BC$3:$BI$15430,7,FALSE))","v":""},null,null,{"$f":"IF(G127=\"\",\"\",VLOOKUP(G127,Listas!$BM$3:$BN$16,2,FALSE)*100)","v":""},"",{"$f":"+IFERROR(VLOOKUP(E127,Listas!$CQ$2:$CW$1104,7,FALSE),\"\")","v":""},"","",""]
[null,null,null,null,{"$f":"IF(D128=\"\",\"\",VLOOKUP(CONCATENATE(C128,D128),Listas!$AT$2:$AV$1104,3,FALSE))","v":""},null,{"$f":"IF(OR(F128=\"\",E128=\"\"),\"\",VLOOKUP(CONCATENATE(E128,Listas!AZ125),Listas!$BC$3:$BI$15430,7,FALSE))","v":""},null,null,{"$f":"IF(G128=\"\",\"\",VLOOKUP(G128,Listas!$BM$3:$BN$16,2,FALSE)*100)","v":""},"",{"$f":"+IFERROR(VLOOKUP(E128,Listas!$CQ$2:$CW$1104,7,FALSE),\"\")","v":""},"","",""]
[null,null,null,null,{"$f":"IF(D129=\"\",\"\",VLOOKUP(CONCATENATE(C129,D129),Listas!$AT$2:$AV$1104,3,FALSE))","v":""},null,{"$f":"IF(OR(F129=\"\",E129=\"\"),\"\",VLOOKUP(CONCATENATE(E129,Listas!AZ126),Listas!$BC$3:$BI$15430,7,FALSE))","v":""},null,null,{"$f":"IF(G129=\"\",\"\",VLOOKUP(G129,Listas!$BM$3:$BN$16,2,FALSE)*100)","v":""},"",{"$f":"+IFERROR(VLOOKUP(E129,Listas!$CQ$2:$CW$1104,7,FALSE),\"\")","v":""},"","",""]
[null,null,null,null,{"$f":"IF(D130=\"\",\"\",VLOOKUP(CONCATENATE(C130,D130),Listas!$AT$2:$AV$1104,3,FALSE))","v":""},null,{"$f":"IF(OR(F130=\"\",E130=\"\"),\"\",VLOOKUP(CONCATENATE(E130,Listas!AZ127),Listas!$BC$3:$BI$15430,7,FALSE))","v":""},null,null,{"$f":"IF(G130=\"\",\"\",VLOOKUP(G130,Listas!$BM$3:$BN$16,2,FALSE)*100)","v":""},"",{"$f":"+IFERROR(VLOOKUP(E130,Listas!$CQ$2:$CW$1104,7,FALSE),\"\")","v":""},"","",""]
[null,null,null,null,{"$f":"IF(D131=\"\",\"\",VLOOKUP(CONCATENATE(C131,D131),Listas!$AT$2:$AV$1104,3,FALSE))","v":""},null,{"$f":"IF(OR(F131=\"\",E131=\"\"),\"\",VLOOKUP(CONCATENATE(E131,Listas!AZ128),Listas!$BC$3:$BI$15430,7,FALSE))","v":""},null,null,{"$f":"IF(G131=\"\",\"\",VLOOKUP(G131,Listas!$BM$3:$BN$16,2,FALSE)*100)","v":""},"",{"$f":"+IFERROR(VLOOKUP(E131,Listas!$CQ$2:$CW$1104,7,FALSE),\"\")","v":""},"","",""]
[null,null,null,null,{"$f":"IF(D132=\"\",\"\",VLOOKUP(CONCATENATE(C132,D132),Listas!$AT$2:$AV$1104,3,FALSE))","v":""},null,{"$f":"IF(OR(F132=\"\",E132=\"\"),\"\",VLOOKUP(CONCATENATE(E132,Listas!AZ129),Listas!$BC$3:$BI$15430,7,FALSE))","v":""},null,null,{"$f":"IF(G132=\"\",\"\",VLOOKUP(G132,Listas!$BM$3:$BN$16,2,FALSE)*100)","v":""},"",{"$f":"+IFERROR(VLOOKUP(E132,Listas!$CQ$2:$CW$1104,7,FALSE),\"\")","v":""},"","",""]
[null,null,null,null,{"$f":"IF(D133=\"\",\"\",VLOOKUP(CONCATENATE(C133,D133),Listas!$AT$2:$AV$1104,3,FALSE))","v":""},null,{"$f":"IF(OR(F133=\"\",E133=\"\"),\"\",VLOOKUP(CONCATENATE(E133,Listas!AZ130),Listas!$BC$3:$BI$15430,7,FALSE))","v":""},null,null,{"$f":"IF(G133=\"\",\"\",VLOOKUP(G133,Listas!$BM$3:$BN$16,2,FALSE)*100)","v":""},"",{"$f":"+IFERROR(VLOOKUP(E133,Listas!$CQ$2:$CW$1104,7,FALSE),\"\")","v":""},"","",""]
[null,null,null,null,{"$f":"IF(D134=\"\",\"\",VLOOKUP(CONCATENATE(C134,D134),Listas!$AT$2:$AV$1104,3,FALSE))","v":""},null,{"$f":"IF(OR(F134=\"\",E134=\"\"),\"\",VLOOKUP(CONCATENATE(E134,Listas!AZ131),Listas!$BC$3:$BI$15430,7,FALSE))","v":""},null,null,{"$f":"IF(G134=\"\",\"\",VLOOKUP(G134,Listas!$BM$3:$BN$16,2,FALSE)*100)","v":""},{"$f":"+IF(H134=\"\",\"\",IF(H134=\"Sí\",1,0)*100)","v":""},{"$f":"+IFERROR(VLOOKUP(E134,Listas!$CQ$2:$CW$1104,7,FALSE),\"\")","v":""},{"$f":"+IF(I134=\"\",\"\",IF(I134=\"Sí\",1,0)*100)","v":""},"",""]
[null,null,null,null,{"$f":"IF(D135=\"\",\"\",VLOOKUP(CONCATENATE(C135,D135),Listas!$AT$2:$AV$1104,3,FALSE))","v":""},null,{"$f":"IF(OR(F135=\"\",E135=\"\"),\"\",VLOOKUP(CONCATENATE(E135,Listas!AZ132),Listas!$BC$3:$BI$15430,7,FALSE))","v":""},null,null,{"$f":"IF(G135=\"\",\"\",VLOOKUP(G135,Listas!$BM$3:$BN$16,2,FALSE)*100)","v":""},"",{"$f":"+IFERROR(VLOOKUP(E135,Listas!$CQ$2:$CW$1104,7,FALSE),\"\")","v":""},"",{"$f":"IF(E135=\"\",\"\",SUMPRODUCT(J135:M135,$J$2:$M$2))","v":""},{"$f":"+IFERROR(J135*58%,\"\")","v":""}]
[null,null,null,null,{"$f":"IF(D136=\"\",\"\",VLOOKUP(CONCATENATE(C136,D136),Listas!$AT$2:$AV$1104,3,FALSE))","v":""},null,{"$f":"IF(OR(F136=\"\",E136=\"\"),\"\",VLOOKUP(CONCATENATE(E136,Listas!AZ133),Listas!$BC$3:$BI$15430,7,FALSE))","v":""},null,null,{"$f":"IF(G136=\"\",\"\",VLOOKUP(G136,Listas!$BM$3:$BN$16,2,FALSE)*100)","v":""},"",{"$f":"+IFERROR(VLOOKUP(E136,Listas!$CQ$2:$CW$1104,7,FALSE),\"\")","v":""},"","",""]
[null,null,null,null,{"$f":"IF(D137=\"\",\"\",VLOOKUP(CONCATENATE(C137,D137),Listas!$AT$2:$AV$1104,3,FALSE))","v":""},null,{"$f":"IF(OR(F137=\"\",E137=\"\"),\"\",VLOOKUP(CONCATENATE(E137,Listas!AZ134),Listas!$BC$3:$BI$15430,7,FALSE))","v":""},null,null,{"$f":"IF(G137=\"\",\"\",VLOOKUP(G137,Listas!$BM$3:$BN$16,2,FALSE)*100)","v":""},"",{"$f":"+IFERROR(VLOOKUP(E137,Listas!$CQ$2:$CW$1104,7,FALSE),\"\")","v":""},"","",""]
[null,null,null,null,{"$f":"IF(D138=\"\",\"\",VLOOKUP(CONCATENATE(C138,D138),Listas!$AT$2:$AV$1104,3,FALSE))","v":""},null,{"$f":"IF(OR(F138=\"\",E138=\"\"),\"\",VLOOKUP(CONCATENATE(E138,Listas!AZ135),Listas!$BC$3:$BI$15430,7,FALSE))","v":""},null,null,{"$f":"IF(G138=\"\",\"\",VLOOKUP(G138,Listas!$BM$3:$BN$16,2,FALSE)*100)","v":""},"",{"$f":"+IFERROR(VLOOKUP(E138,Listas!$CQ$2:$CW$1104,7,FALSE),\"\")","v":""},"","",""]
[null,null,null,null,{"$f":"IF(D139=\"\",\"\",VLOOKUP(CONCATENATE(C139,D139),Listas!$AT$2:$AV$1104,3,FALSE))","v":""},null,{"$f":"IF(OR(F139=\"\",E139=\"\"),\"\",VLOOKUP(CONCATENATE(E139,Listas!AZ136),Listas!$BC$3:$BI$15430,7,FALSE))","v":""},null,null,{"$f":"IF(G139=\"\",\"\",VLOOKUP(G139,Listas!$BM$3:$BN$16,2,FALSE)*100)","v":""},"",{"$f":"+IFERROR(VLOOKUP(E139,Listas!$CQ$2:$CW$1104,7,FALSE),\"\")","v":""},"","",""]
[null,null,null,null,{"$f":"IF(D140=\"\",\"\",VLOOKUP(CONCATENATE(C140,D140),Listas!$AT$2:$AV$1104,3,FALSE))","v":""},null,{"$f":"IF(OR(F140=\"\",E140=\"\"),\"\",VLOOKUP(CONCATENATE(E140,Listas!AZ137),Listas!$BC$3:$BI$15430,7,FALSE))","v":""},null,null,{"$f":"IF(G140=\"\",\"\",VLOOKUP(G140,Listas!$BM$3:$BN$16,2,FALSE)*100)","v":""},"",{"$f":"+IFERROR(VLOOKUP(E140,Listas!$CQ$2:$CW$1104,7,FALSE),\"\")","v":""},"","",""]
[null,null,null,null,{"$f":"IF(D141=\"\",\"\",VLOOKUP(CONCATENATE(C141,D141),Listas!$AT$2:$AV$1104,3,FALSE))","v":""},null,{"$f":"IF(OR(F141=\"\",E141=\"\"),\"\",VLOOKUP(CONCATENATE(E141,Listas!AZ138),Listas!$BC$3:$BI$15430,7,FALSE))","v":""},null,null,{"$f":"IF(G141=\"\",\"\",VLOOKUP(G141,Listas!$BM$3:$BN$16,2,FALSE)*100)","v":""},"",{"$f":"+IFERROR(VLOOKUP(E141,Listas!$CQ$2:$CW$1104,7,FALSE),\"\")","v":""},"","",""]
[null,null,null,null,{"$f":"IF(D142=\"\",\"\",VLOOKUP(CONCATENATE(C142,D142),Listas!$AT$2:$AV$1104,3,FALSE))","v":""},null,{"$f":"IF(OR(F142=\"\",E142=\"\"),\"\",VLOOKUP(CONCATENATE(E142,Listas!AZ139),Listas!$BC$3:$BI$15430,7,FALSE))","v":""},null,null,{"$f":"IF(G142=\"\",\"\",VLOOKUP(G142,Listas!$BM$3:$BN$16,2,FALSE)*100)","v":""},"",{"$f":"+IFERROR(VLOOKUP(E142,Listas!$CQ$2:$CW$1104,7,FALSE),\"\")","v":""},"","",""]
[null,null,null,null,{"$f":"IF(D143=\"\",\"\",VLOOKUP(CONCATENATE(C143,D143),Listas!$AT$2:$AV$1104,3,FALSE))","v":""},null,{"$f":"IF(OR(F143=\"\",E143=\"\"),\"\",VLOOKUP(CONCATENATE(E143,Listas!AZ140),Listas!$BC$3:$BI$15430,7,FALSE))","v":""},null,null,{"$f":"IF(G143=\"\",\"\",VLOOKUP(G143,Listas!$BM$3:$BN$16,2,FALSE)*100)","v":""},"",{"$f":"+IFERROR(VLOOKUP(E143,Listas!$CQ$2:$CW$1104,7,FALSE),\"\")","v":""},"","",""]
[null,null,null,null,{"$f":"IF(D144=\"\",\"\",VLOOKUP(CONCATENATE(C144,D144),Listas!$AT$2:$AV$1104,3,FALSE))","v":""},null,{"$f":"IF(OR(F144=\"\",E144=\"\"),\"\",VLOOKUP(CONCATENATE(E144,Listas!AZ141),Listas!$BC$3:$BI$15430,7,FALSE))","v":""},null,null,{"$f":"IF(G144=\"\",\"\",VLOOKUP(G144,Listas!$BM$3:$BN$16,2,FALSE)*100)","v":""},"",{"$f":"+IFERROR(VLOOKUP(E144,Listas!$CQ$2:$CW$1104,7,FALSE),\"\")","v":""},"","",""]
[null,null,null,null,{"$f":"IF(D145=\"\",\"\",VLOOKUP(CONCATENATE(C145,D145),Listas!$AT$2:$AV$1104,3,FALSE))","v":""},null,{"$f":"IF(OR(F145=\"\",E145=\"\"),\"\",VLOOKUP(CONCATENATE(E145,Listas!AZ142),Listas!$BC$3:$BI$15430,7,FALSE))","v":""},null,null,{"$f":"IF(G145=\"\",\"\",VLOOKUP(G145,Listas!$BM$3:$BN$16,2,FALSE)*100)","v":""},"",{"$f":"+IFERROR(VLOOKUP(E145,Listas!$CQ$2:$CW$1104,7,FALSE),\"\")","v":""},"","",""]
[null,null,null,null,{"$f":"IF(D146=\"\",\"\",VLOOKUP(CONCATENATE(C146,D146),Listas!$AT$2:$AV$1104,3,FALSE))","v":""},null,{"$f":"IF(OR(F146=\"\",E146=\"\"),\"\",VLOOKUP(CONCATENATE(E146,Listas!AZ143),Listas!$BC$3:$BI$15430,7,FALSE))","v":""},null,null,{"$f":"IF(G146=\"\",\"\",VLOOKUP(G146,Listas!$BM$3:$BN$16,2,FALSE)*100)","v":""},"",{"$f":"+IFERROR(VLOOKUP(E146,Listas!$CQ$2:$CW$1104,7,FALSE),\"\")","v":""},"","",""]
[null,null,null,null,{"$f":"IF(D147=\"\",\"\",VLOOKUP(CONCATENATE(C147,D147),Listas!$AT$2:$AV$1104,3,FALSE))","v":""},null,{"$f":"IF(OR(F147=\"\",E147=\"\"),\"\",VLOOKUP(CONCATENATE(E147,Listas!AZ144),Listas!$BC$3:$BI$15430,7,FALSE))","v":""},null,null,{"$f":"IF(G147=\"\",\"\",VLOOKUP(G147,Listas!$BM$3:$BN$16,2,FALSE)*100)","v":""},"",{"$f":"+IFERROR(VLOOKUP(E147,Listas!$CQ$2:$CW$1104,7,FALSE),\"\")","v":""},"","",""]
[null,null,null,null,{"$f":"IF(D148=\"\",\"\",VLOOKUP(CONCATENATE(C148,D148),Listas!$AT$2:$AV$1104,3,FALSE))","v":""},null,{"$f":"IF(OR(F148=\"\",E148=\"\"),\"\",VLOOKUP(CONCATENATE(E148,Listas!AZ145),Listas!$BC$3:$BI$15430,7,FALSE))","v":""},null,null,{"$f":"IF(G148=\"\",\"\",VLOOKUP(G148,Listas!$BM$3:$BN$16,2,FALSE)*100)","v":""},"",{"$f":"+IFERROR(VLOOKUP(E148,Listas!$CQ$2:$CW$1104,7,FALSE),\"\")","v":""},"","",""]
[null,null,null,null,{"$f":"IF(D149=\"\",\"\",VLOOKUP(CONCATENATE(C149,D149),Listas!$AT$2:$AV$1104,3,FALSE))","v":""},null,{"$f":"IF(OR(F149=\"\",E149=\"\"),\"\",VLOOKUP(CONCATENATE(E149,Listas!AZ146),Listas!$BC$3:$BI$15430,7,FALSE))","v":""},null,null,{"$f":"IF(G149=\"\",\"\",VLOOKUP(G149,Listas!$BM$3:$BN$16,2,FALSE)*100)","v":""},"",{"$f":"+IFERROR(VLOOKUP(E149,Listas!$CQ$2:$CW$1104,7,FALSE),\"\")","v":""},"","",""]
[null,null,null,null,{"$f":"IF(D150=\"\",\"\",VLOOKUP(CONCATENATE(C150,D150),Listas!$AT$2:$AV$1104,3,FALSE))","v":""},null,{"$f":"IF(OR(F150=\"\",E150=\"\"),\"\",VLOOKUP(CONCATENATE(E150,Listas!AZ147),Listas!$BC$3:$BI$15430,7,FALSE))","v":""},null,null,{"$f":"IF(G150=\"\",\"\",VLOOKUP(G150,Listas!$BM$3:$BN$16,2,FALSE)*100)","v":""},"",{"$f":"+IFERROR(VLOOKUP(E150,Listas!$CQ$2:$CW$1104,7,FALSE),\"\")","v":""},"","",""]
[null,null,null,null,{"$f":"IF(D151=\"\",\"\",VLOOKUP(CONCATENATE(C151,D151),Listas!$AT$2:$AV$1104,3,FALSE))","v":""},null,{"$f":"IF(OR(F151=\"\",E151=\"\"),\"\",VLOOKUP(CONCATENATE(E151,Listas!AZ148),Listas!$BC$3:$BI$15430,7,FALSE))","v":""},null,null,{"$f":"IF(G151=\"\",\"\",VLOOKUP(G151,Listas!$BM$3:$BN$16,2,FALSE)*100)","v":""},"",{"$f":"+IFERROR(VLOOKUP(E151,Listas!$CQ$2:$CW$1104,7,FALSE),\"\")","v":""},"","",""]
[null,null,null,null,{"$f":"IF(D152=\"\",\"\",VLOOKUP(CONCATENATE(C152,D152),Listas!$AT$2:$AV$1104,3,FALSE))","v":""},null,{"$f":"IF(OR(F152=\"\",E152=\"\"),\"\",VLOOKUP(CONCATENATE(E152,Listas!AZ149),Listas!$BC$3:$BI$15430,7,FALSE))","v":""},null,null,{"$f":"IF(G152=\"\",\"\",VLOOKUP(G152,Listas!$BM$3:$BN$16,2,FALSE)*100)","v":""},"",{"$f":"+IFERROR(VLOOKUP(E152,Listas!$CQ$2:$CW$1104,7,FALSE),\"\")","v":""},"","",""]
[null,null,null,null,{"$f":"IF(D153=\"\",\"\",VLOOKUP(CONCATENATE(C153,D153),Listas!$AT$2:$AV$1104,3,FALSE))","v":""},null,{"$f":"IF(OR(F153=\"\",E153=\"\"),\"\",VLOOKUP(CONCATENATE(E153,Listas!AZ150),Listas!$BC$3:$BI$15430,7,FALSE))","v":""},null,null,{"$f":"IF(G153=\"\",\"\",VLOOKUP(G153,Listas!$BM$3:$BN$16,2,FALSE)*100)","v":""},"",{"$f":"+IFERROR(VLOOKUP(E153,Listas!$CQ$2:$CW$1104,7,FALSE),\"\")","v":""},"","",""]
[null,null,null,null,{"$f":"IF(D154=\"\",\"\",VLOOKUP(CONCATENATE(C154,D154),Listas!$AT$2:$AV$1104,3,FALSE))","v":""},null,{"$f":"IF(OR(F154=\"\",E154=\"\"),\"\",VLOOKUP(CONCATENATE(E154,Listas!AZ151),Listas!$BC$3:$BI$15430,7,FALSE))","v":""},null,null,{"$f":"IF(G154=\"\",\"\",VLOOKUP(G154,Listas!$BM$3:$BN$16,2,FALSE)*100)","v":""},"",{"$f":"+IFERROR(VLOOKUP(E154,Listas!$CQ$2:$CW$1104,7,FALSE),\"\")","v":""},"","",""]
[null,null,null,null,{"$f":"IF(D155=\"\",\"\",VLOOKUP(CONCATENATE(C155,D155),Listas!$AT$2:$AV$1104,3,FALSE))","v":""},null,{"$f":"IF(OR(F155=\"\",E155=\"\"),\"\",VLOOKUP(CONCATENATE(E155,Listas!AZ152),Listas!$BC$3:$BI$15430,7,FALSE))","v":""},null,null,{"$f":"IF(G155=\"\",\"\",VLOOKUP(G155,Listas!$BM$3:$BN$16,2,FALSE)*100)","v":""},"",{"$f":"+IFERROR(VLOOKUP(E155,Listas!$CQ$2:$CW$1104,7,FALSE),\"\")","v":""},"","",""]
[null,null,null,null,{"$f":"IF(D156=\"\",\"\",VLOOKUP(CONCATENATE(C156,D156),Listas!$AT$2:$AV$1104,3,FALSE))","v":""},null,{"$f":"IF(OR(F156=\"\",E156=\"\"),\"\",VLOOKUP(CONCATENATE(E156,Listas!AZ153),Listas!$BC$3:$BI$15430,7,FALSE))","v":""},null,null,{"$f":"IF(G156=\"\",\"\",VLOOKUP(G156,Listas!$BM$3:$BN$16,2,FALSE)*100)","v":""},"",{"$f":"+IFERROR(VLOOKUP(E156,Listas!$CQ$2:$CW$1104,7,FALSE),\"\")","v":""},"","",""]
[null,null,null,null,{"$f":"IF(D157=\"\",\"\",VLOOKUP(CONCATENATE(C157,D157),Listas!$AT$2:$AV$1104,3,FALSE))","v":""},null,{"$f":"IF(OR(F157=\"\",E157=\"\"),\"\",VLOOKUP(CONCATENATE(E157,Listas!AZ154),Listas!$BC$3:$BI$15430,7,FALSE))","v":""},null,null,{"$f":"IF(G157=\"\",\"\",VLOOKUP(G157,Listas!$BM$3:$BN$16,2,FALSE)*100)","v":""},"",{"$f":"+IFERROR(VLOOKUP(E157,Listas!$CQ$2:$CW$1104,7,FALSE),\"\")","v":""},"","",""]
[null,null,null,null,{"$f":"IF(D158=\"\",\"\",VLOOKUP(CONCATENATE(C158,D158),Listas!$AT$2:$AV$1104,3,FALSE))","v":""},null,{"$f":"IF(OR(F158=\"\",E158=\"\"),\"\",VLOOKUP(CONCATENATE(E158,Listas!AZ155),Listas!$BC$3:$BI$15430,7,FALSE))","v":""},null,null,{"$f":"IF(G158=\"\",\"\",VLOOKUP(G158,Listas!$BM$3:$BN$16,2,FALSE)*100)","v":""},"",{"$f":"+IFERROR(VLOOKUP(E158,Listas!$CQ$2:$CW$1104,7,FALSE),\"\")","v":""},"","",""]
[null,null,null,null,{"$f":"IF(D159=\"\",\"\",VLOOKUP(CONCATENATE(C159,D159),Listas!$AT$2:$AV$1104,3,FALSE))","v":""},null,{"$f":"IF(OR(F159=\"\",E159=\"\"),\"\",VLOOKUP(CONCATENATE(E159,Listas!AZ156),Listas!$BC$3:$BI$15430,7,FALSE))","v":""},null,null,{"$f":"IF(G159=\"\",\"\",VLOOKUP(G159,Listas!$BM$3:$BN$16,2,FALSE)*100)","v":""},"",{"$f":"+IFERROR(VLOOKUP(E159,Listas!$CQ$2:$CW$1104,7,FALSE),\"\")","v":""},"","",""]
[null,null,null,null,{"$f":"IF(D160=\"\",\"\",VLOOKUP(CONCATENATE(C160,D160),Listas!$AT$2:$AV$1104,3,FALSE))","v":""},null,{"$f":"IF(OR(F160=\"\",E160=\"\"),\"\",VLOOKUP(CONCATENATE(E160,Listas!AZ157),Listas!$BC$3:$BI$15430,7,FALSE))","v":""},null,null,{"$f":"IF(G160=\"\",\"\",VLOOKUP(G160,Listas!$BM$3:$BN$16,2,FALSE)*100)","v":""},"",{"$f":"+IFERROR(VLOOKUP(E160,Listas!$CQ$2:$CW$1104,7,FALSE),\"\")","v":""},"","",""]
[null,null,null,null,{"$f":"IF(D161=\"\",\"\",VLOOKUP(CONCATENATE(C161,D161),Listas!$AT$2:$AV$1104,3,FALSE))","v":""},null,{"$f":"IF(OR(F161=\"\",E161=\"\"),\"\",VLOOKUP(CONCATENATE(E161,Listas!AZ158),Listas!$BC$3:$BI$15430,7,FALSE))","v":""},null,null,{"$f":"IF(G161=\"\",\"\",VLOOKUP(G161,Listas!$BM$3:$BN$16,2,FALSE)*100)","v":""},"",{"$f":"+IFERROR(VLOOKUP(E161,Listas!$CQ$2:$CW$1104,7,FALSE),\"\")","v":""},"","",""]
[null,null,null,null,{"$f":"IF(D162=\"\",\"\",VLOOKUP(CONCATENATE(C162,D162),Listas!$AT$2:$AV$1104,3,FALSE))","v":""},null,{"$f":"IF(OR(F162=\"\",E162=\"\"),\"\",VLOOKUP(CONCATENATE(E162,Listas!AZ159),Listas!$BC$3:$BI$15430,7,FALSE))","v":""},null,null,{"$f":"IF(G162=\"\",\"\",VLOOKUP(G162,Listas!$BM$3:$BN$16,2,FALSE)*100)","v":""},"",{"$f":"+IFERROR(VLOOKUP(E162,Listas!$CQ$2:$CW$1104,7,FALSE),\"\")","v":""},"","",""]
[null,null,null,null,{"$f":"IF(D163=\"\",\"\",VLOOKUP(CONCATENATE(C163,D163),Listas!$AT$2:$AV$1104,3,FALSE))","v":""},null,{"$f":"IF(OR(F163=\"\",E163=\"\"),\"\",VLOOKUP(CONCATENATE(E163,Listas!AZ160),Listas!$BC$3:$BI$15430,7,FALSE))","v":""},null,null,{"$f":"IF(G163=\"\",\"\",VLOOKUP(G163,Listas!$BM$3:$BN$16,2,FALSE)*100)","v":""},"",{"$f":"+IFERROR(VLOOKUP(E163,Listas!$CQ$2:$CW$1104,7,FALSE),\"\")","v":""},"","",""]
[null,null,null,null,{"$f":"IF(D164=\"\",\"\",VLOOKUP(CONCATENATE(C164,D164),Listas!$AT$2:$AV$1104,3,FALSE))","v":""},null,{"$f":"IF(OR(F164=\"\",E164=\"\"),\"\",VLOOKUP(CONCATENATE(E164,Listas!AZ161),Listas!$BC$3:$BI$15430,7,FALSE))","v":""},null,null,{"$f":"IF(G164=\"\",\"\",VLOOKUP(G164,Listas!$BM$3:$BN$16,2,FALSE)*100)","v":""},"",{"$f":"+IFERROR(VLOOKUP(E164,Listas!$CQ$2:$CW$1104,7,FALSE),\"\")","v":""},"","",""]
[null,null,null,null,{"$f":"IF(D165=\"\",\"\",VLOOKUP(CONCATENATE(C165,D165),Listas!$AT$2:$AV$1104,3,FALSE))","v":""},null,{"$f":"IF(OR(F165=\"\",E165=\"\"),\"\",VLOOKUP(CONCATENATE(E165,Listas!AZ162),Listas!$BC$3:$BI$15430,7,FALSE))","v":""},null,null,{"$f":"IF(G165=\"\",\"\",VLOOKUP(G165,Listas!$BM$3:$BN$16,2,FALSE)*100)","v":""},"",{"$f":"+IFERROR(VLOOKUP(E165,Listas!$CQ$2:$CW$1104,7,FALSE),\"\")","v":""},"","",""]
[null,null,null,null,{"$f":"IF(D166=\"\",\"\",VLOOKUP(CONCATENATE(C166,D166),Listas!$AT$2:$AV$1104,3,FALSE))","v":""},null,{"$f":"IF(OR(F166=\"\",E166=\"\"),\"\",VLOOKUP(CONCATENATE(E166,Listas!AZ163),Listas!$BC$3:$BI$15430,7,FALSE))","v":""},null,null,{"$f":"IF(G166=\"\",\"\",VLOOKUP(G166,Listas!$BM$3:$BN$16,2,FALSE)*100)","v":""},"",{"$f":"+IFERROR(VLOOKUP(E166,Listas!$CQ$2:$CW$1104,7,FALSE),\"\")","v":""},"","",""]
[null,null,null,null,{"$f":"IF(D167=\"\",\"\",VLOOKUP(CONCATENATE(C167,D167),Listas!$AT$2:$AV$1104,3,FALSE))","v":""},null,{"$f":"IF(OR(F167=\"\",E167=\"\"),\"\",VLOOKUP(CONCATENATE(E167,Listas!AZ164),Listas!$BC$3:$BI$15430,7,FALSE))","v":""},null,null,{"$f":"IF(G167=\"\",\"\",VLOOKUP(G167,Listas!$BM$3:$BN$16,2,FALSE)*100)","v":""},"",{"$f":"+IFERROR(VLOOKUP(E167,Listas!$CQ$2:$CW$1104,7,FALSE),\"\")","v":""},"","",""]
[null,null,null,null,{"$f":"IF(D168=\"\",\"\",VLOOKUP(CONCATENATE(C168,D168),Listas!$AT$2:$AV$1104,3,FALSE))","v":""},null,{"$f":"IF(OR(F168=\"\",E168=\"\"),\"\",VLOOKUP(CONCATENATE(E168,Listas!AZ165),Listas!$BC$3:$BI$15430,7,FALSE))","v":""},null,null,{"$f":"IF(G168=\"\",\"\",VLOOKUP(G168,Listas!$BM$3:$BN$16,2,FALSE)*100)","v":""},"",{"$f":"+IFERROR(VLOOKUP(E168,Listas!$CQ$2:$CW$1104,7,FALSE),\"\")","v":""},"","",""]
[null,null,null,null,{"$f":"IF(D169=\"\",\"\",VLOOKUP(CONCATENATE(C169,D169),Listas!$AT$2:$AV$1104,3,FALSE))","v":""},null,{"$f":"IF(OR(F169=\"\",E169=\"\"),\"\",VLOOKUP(CONCATENATE(E169,Listas!AZ166),Listas!$BC$3:$BI$15430,7,FALSE))","v":""},null,null,{"$f":"IF(G169=\"\",\"\",VLOOKUP(G169,Listas!$BM$3:$BN$16,2,FALSE)*100)","v":""},"",{"$f":"+IFERROR(VLOOKUP(E169,Listas!$CQ$2:$CW$1104,7,FALSE),\"\")","v":""},"","",""]
[null,null,null,null,{"$f":"IF(D170=\"\",\"\",VLOOKUP(CONCATENATE(C170,D170),Listas!$AT$2:$AV$1104,3,FALSE))","v":""},null,{"$f":"IF(OR(F170=\"\",E170=\"\"),\"\",VLOOKUP(CONCATENATE(E170,Listas!AZ167),Listas!$BC$3:$BI$15430,7,FALSE))","v":""},null,null,{"$f":"IF(G170=\"\",\"\",VLOOKUP(G170,Listas!$BM$3:$BN$16,2,FALSE)*100)","v":""},"",{"$f":"+IFERROR(VLOOKUP(E170,Listas!$CQ$2:$CW$1104,7,FALSE),\"\")","v":""},"","",""]
[null,null,null,null,{"$f":"IF(D171=\"\",\"\",VLOOKUP(CONCATENATE(C171,D171),Listas!$AT$2:$AV$1104,3,FALSE))","v":""},null,{"$f":"IF(OR(F171=\"\",E171=\"\"),\"\",VLOOKUP(CONCATENATE(E171,Listas!AZ168),Listas!$BC$3:$BI$15430,7,FALSE))","v":""},null,null,{"$f":"IF(G171=\"\",\"\",VLOOKUP(G171,Listas!$BM$3:$BN$16,2,FALSE)*100)","v":""},"",{"$f":"+IFERROR(VLOOKUP(E171,Listas!$CQ$2:$CW$1104,7,FALSE),\"\")","v":""},"","",""]
[null,null,null,null,{"$f":"IF(D172=\"\",\"\",VLOOKUP(CONCATENATE(C172,D172),Listas!$AT$2:$AV$1104,3,FALSE))","v":""},null,{"$f":"IF(OR(F172=\"\",E172=\"\"),\"\",VLOOKUP(CONCATENATE(E172,Listas!AZ169),Listas!$BC$3:$BI$15430,7,FALSE))","v":""},null,null,{"$f":"IF(G172=\"\",\"\",VLOOKUP(G172,Listas!$BM$3:$BN$16,2,FALSE)*100)","v":""},"",{"$f":"+IFERROR(VLOOKUP(E172,Listas!$CQ$2:$CW$1104,7,FALSE),\"\")","v":""},"","",""]
[null,null,null,null,{"$f":"IF(D173=\"\",\"\",VLOOKUP(CONCATENATE(C173,D173),Listas!$AT$2:$AV$1104,3,FALSE))","v":""},null,{"$f":"IF(OR(F173=\"\",E173=\"\"),\"\",VLOOKUP(CONCATENATE(E173,Listas!AZ170),Listas!$BC$3:$BI$15430,7,FALSE))","v":""},null,null,{"$f":"IF(G173=\"\",\"\",VLOOKUP(G173,Listas!$BM$3:$BN$16,2,FALSE)*100)","v":""},"",{"$f":"+IFERROR(VLOOKUP(E173,Listas!$CQ$2:$CW$1104,7,FALSE),\"\")","v":""},"","",""]
[null,null,null,null,{"$f":"IF(D174=\"\",\"\",VLOOKUP(CONCATENATE(C174,D174),Listas!$AT$2:$AV$1104,3,FALSE))","v":""},null,{"$f":"IF(OR(F174=\"\",E174=\"\"),\"\",VLOOKUP(CONCATENATE(E174,Listas!AZ171),Listas!$BC$3:$BI$15430,7,FALSE))","v":""},null,null,{"$f":"IF(G174=\"\",\"\",VLOOKUP(G174,Listas!$BM$3:$BN$16,2,FALSE)*100)","v":""},"",{"$f":"+IFERROR(VLOOKUP(E174,Listas!$CQ$2:$CW$1104,7,FALSE),\"\")","v":""},"","",""]
[null,null,null,null,{"$f":"IF(D175=\"\",\"\",VLOOKUP(CONCATENATE(C175,D175),Listas!$AT$2:$AV$1104,3,FALSE))","v":""},null,{"$f":"IF(OR(F175=\"\",E175=\"\"),\"\",VLOOKUP(CONCATENATE(E175,Listas!AZ172),Listas!$BC$3:$BI$15430,7,FALSE))","v":""},null,null,{"$f":"IF(G175=\"\",\"\",VLOOKUP(G175,Listas!$BM$3:$BN$16,2,FALSE)*100)","v":""},"",{"$f":"+IFERROR(VLOOKUP(E175,Listas!$CQ$2:$CW$1104,7,FALSE),\"\")","v":""},"","",""]
[null,null,null,null,{"$f":"IF(D176=\"\",\"\",VLOOKUP(CONCATENATE(C176,D176),Listas!$AT$2:$AV$1104,3,FALSE))","v":""},null,{"$f":"IF(OR(F176=\"\",E176=\"\"),\"\",VLOOKUP(CONCATENATE(E176,Listas!AZ173),Listas!$BC$3:$BI$15430,7,FALSE))","v":""},null,null,{"$f":"IF(G176=\"\",\"\",VLOOKUP(G176,Listas!$BM$3:$BN$16,2,FALSE)*100)","v":""},"",{"$f":"+IFERROR(VLOOKUP(E176,Listas!$CQ$2:$CW$1104,7,FALSE),\"\")","v":""},"","",""]
[null,null,null,null,{"$f":"IF(D177=\"\",\"\",VLOOKUP(CONCATENATE(C177,D177),Listas!$AT$2:$AV$1104,3,FALSE))","v":""},null,{"$f":"IF(OR(F177=\"\",E177=\"\"),\"\",VLOOKUP(CONCATENATE(E177,Listas!AZ174),Listas!$BC$3:$BI$15430,7,FALSE))","v":""},null,null,{"$f":"IF(G177=\"\",\"\",VLOOKUP(G177,Listas!$BM$3:$BN$16,2,FALSE)*100)","v":""},"",{"$f":"+IFERROR(VLOOKUP(E177,Listas!$CQ$2:$CW$1104,7,FALSE),\"\")","v":""},"","",""]
[null,null,null,null,{"$f":"IF(D178=\"\",\"\",VLOOKUP(CONCATENATE(C178,D178),Listas!$AT$2:$AV$1104,3,FALSE))","v":""},null,{"$f":"IF(OR(F178=\"\",E178=\"\"),\"\",VLOOKUP(CONCATENATE(E178,Listas!AZ175),Listas!$BC$3:$BI$15430,7,FALSE))","v":""},null,null,{"$f":"IF(G178=\"\",\"\",VLOOKUP(G178,Listas!$BM$3:$BN$16,2,FALSE)*100)","v":""},"",{"$f":"+IFERROR(VLOOKUP(E178,Listas!$CQ$2:$CW$1104,7,FALSE),\"\")","v":""},"","",""]
[null,null,null,null,{"$f":"IF(D179=\"\",\"\",VLOOKUP(CONCATENATE(C179,D179),Listas!$AT$2:$AV$1104,3,FALSE))","v":""},null,{"$f":"IF(OR(F179=\"\",E179=\"\"),\"\",VLOOKUP(CONCATENATE(E179,Listas!AZ176),Listas!$BC$3:$BI$15430,7,FALSE))","v":""},null,null,{"$f":"IF(G179=\"\",\"\",VLOOKUP(G179,Listas!$BM$3:$BN$16,2,FALSE)*100)","v":""},"",{"$f":"+IFERROR(VLOOKUP(E179,Listas!$CQ$2:$CW$1104,7,FALSE),\"\")","v":""},"","",""]
[null,null,null,null,{"$f":"IF(D180=\"\",\"\",VLOOKUP(CONCATENATE(C180,D180),Listas!$AT$2:$AV$1104,3,FALSE))","v":""},null,{"$f":"IF(OR(F180=\"\",E180=\"\"),\"\",VLOOKUP(CONCATENATE(E180,Listas!AZ177),Listas!$BC$3:$BI$15430,7,FALSE))","v":""},null,null,{"$f":"IF(G180=\"\",\"\",VLOOKUP(G180,Listas!$BM$3:$BN$16,2,FALSE)*100)","v":""},"",{"$f":"+IFERROR(VLOOKUP(E180,Listas!$CQ$2:$CW$1104,7,FALSE),\"\")","v":""},"","",""]
[null,null,null,null,{"$f":"IF(D181=\"\",\"\",VLOOKUP(CONCATENATE(C181,D181),Listas!$AT$2:$AV$1104,3,FALSE))","v":""},null,{"$f":"IF(OR(F181=\"\",E181=\"\"),\"\",VLOOKUP(CONCATENATE(E181,Listas!AZ178),Listas!$BC$3:$BI$15430,7,FALSE))","v":""},null,null,{"$f":"IF(G181=\"\",\"\",VLOOKUP(G181,Listas!$BM$3:$BN$16,2,FALSE)*100)","v":""},"",{"$f":"+IFERROR(VLOOKUP(E181,Listas!$CQ$2:$CW$1104,7,FALSE),\"\")","v":""},"","",""]
[null,null,null,null,{"$f":"IF(D182=\"\",\"\",VLOOKUP(CONCATENATE(C182,D182),Listas!$AT$2:$AV$1104,3,FALSE))","v":""},null,{"$f":"IF(OR(F182=\"\",E182=\"\"),\"\",VLOOKUP(CONCATENATE(E182,Listas!AZ179),Listas!$BC$3:$BI$15430,7,FALSE))","v":""},null,null,{"$f":"IF(G182=\"\",\"\",VLOOKUP(G182,Listas!$BM$3:$BN$16,2,FALSE)*100)","v":""},"",{"$f":"+IFERROR(VLOOKUP(E182,Listas!$CQ$2:$CW$1104,7,FALSE),\"\")","v":""},"","",""]
[null,null,null,null,{"$f":"IF(D183=\"\",\"\",VLOOKUP(CONCATENATE(C183,D183),Listas!$AT$2:$AV$1104,3,FALSE))","v":""},null,{"$f":"IF(OR(F183=\"\",E183=\"\"),\"\",VLOOKUP(CONCATENATE(E183,Listas!AZ180),Listas!$BC$3:$BI$15430,7,FALSE))","v":""},null,null,{"$f":"IF(G183=\"\",\"\",VLOOKUP(G183,Listas!$BM$3:$BN$16,2,FALSE)*100)","v":""},"",{"$f":"+IFERROR(VLOOKUP(E183,Listas!$CQ$2:$CW$1104,7,FALSE),\"\")","v":""},"","",""]
[null,null,null,null,{"$f":"IF(D184=\"\",\"\",VLOOKUP(CONCATENATE(C184,D184),Listas!$AT$2:$AV$1104,3,FALSE))","v":""},null,{"$f":"IF(OR(F184=\"\",E184=\"\"),\"\",VLOOKUP(CONCATENATE(E184,Listas!AZ181),Listas!$BC$3:$BI$15430,7,FALSE))","v":""},null,null,{"$f":"IF(G184=\"\",\"\",VLOOKUP(G184,Listas!$BM$3:$BN$16,2,FALSE)*100)","v":""},"",{"$f":"+IFERROR(VLOOKUP(E184,Listas!$CQ$2:$CW$1104,7,FALSE),\"\")","v":""},"","",""]
[null,null,null,null,{"$f":"IF(D185=\"\",\"\",VLOOKUP(CONCATENATE(C185,D185),Listas!$AT$2:$AV$1104,3,FALSE))","v":""},null,{"$f":"IF(OR(F185=\"\",E185=\"\"),\"\",VLOOKUP(CONCATENATE(E185,Listas!AZ182),Listas!$BC$3:$BI$15430,7,FALSE))","v":""},null,null,{"$f":"IF(G185=\"\",\"\",VLOOKUP(G185,Listas!$BM$3:$BN$16,2,FALSE)*100)","v":""},"",{"$f":"+IFERROR(VLOOKUP(E185,Listas!$CQ$2:$CW$1104,7,FALSE),\"\")","v":""},"","",""]
[null,null,null,null,{"$f":"IF(D186=\"\",\"\",VLOOKUP(CONCATENATE(C186,D186),Listas!$AT$2:$AV$1104,3,FALSE))","v":""},null,{"$f":"IF(OR(F186=\"\",E186=\"\"),\"\",VLOOKUP(CONCATENATE(E186,Listas!AZ183),Listas!$BC$3:$BI$15430,7,FALSE))","v":""},null,null,{"$f":"IF(G186=\"\",\"\",VLOOKUP(G186,Listas!$BM$3:$BN$16,2,FALSE)*100)","v":""},"",{"$f":"+IFERROR(VLOOKUP(E186,Listas!$CQ$2:$CW$1104,7,FALSE),\"\")","v":""},"","",""]
[null,null,null,null,{"$f":"IF(D187=\"\",\"\",VLOOKUP(CONCATENATE(C187,D187),Listas!$AT$2:$AV$1104,3,FALSE))","v":""},null,{"$f":"IF(OR(F187=\"\",E187=\"\"),\"\",VLOOKUP(CONCATENATE(E187,Listas!AZ184),Listas!$BC$3:$BI$15430,7,FALSE))","v":""},null,null,{"$f":"IF(G187=\"\",\"\",VLOOKUP(G187,Listas!$BM$3:$BN$16,2,FALSE)*100)","v":""},"",{"$f":"+IFERROR(VLOOKUP(E187,Listas!$CQ$2:$CW$1104,7,FALSE),\"\")","v":""},"","",""]
[null,null,null,null,{"$f":"IF(D188=\"\",\"\",VLOOKUP(CONCATENATE(C188,D188),Listas!$AT$2:$AV$1104,3,FALSE))","v":""},null,{"$f":"IF(OR(F188=\"\",E188=\"\"),\"\",VLOOKUP(CONCATENATE(E188,Listas!AZ185),Listas!$BC$3:$BI$15430,7,FALSE))","v":""},null,null,{"$f":"IF(G188=\"\",\"\",VLOOKUP(G188,Listas!$BM$3:$BN$16,2,FALSE)*100)","v":""},"",{"$f":"+IFERROR(VLOOKUP(E188,Listas!$CQ$2:$CW$1104,7,FALSE),\"\")","v":""},"","",""]
[null,null,null,null,{"$f":"IF(D189=\"\",\"\",VLOOKUP(CONCATENATE(C189,D189),Listas!$AT$2:$AV$1104,3,FALSE))","v":""},null,{"$f":"IF(OR(F189=\"\",E189=\"\"),\"\",VLOOKUP(CONCATENATE(E189,Listas!AZ186),Listas!$BC$3:$BI$15430,7,FALSE))","v":""},null,null,{"$f":"IF(G189=\"\",\"\",VLOOKUP(G189,Listas!$BM$3:$BN$16,2,FALSE)*100)","v":""},"",{"$f":"+IFERROR(VLOOKUP(E189,Listas!$CQ$2:$CW$1104,7,FALSE),\"\")","v":""},"","",""]
[null,null,null,null,{"$f":"IF(D190=\"\",\"\",VLOOKUP(CONCATENATE(C190,D190),Listas!$AT$2:$AV$1104,3,FALSE))","v":""},null,{"$f":"IF(OR(F190=\"\",E190=\"\"),\"\",VLOOKUP(CONCATENATE(E190,Listas!AZ187),Listas!$BC$3:$BI$15430,7,FALSE))","v":""},null,null,{"$f":"IF(G190=\"\",\"\",VLOOKUP(G190,Listas!$BM$3:$BN$16,2,FALSE)*100)","v":""},"",{"$f":"+IFERROR(VLOOKUP(E190,Listas!$CQ$2:$CW$1104,7,FALSE),\"\")","v":""},"","",""]
[null,null,null,null,{"$f":"IF(D191=\"\",\"\",VLOOKUP(CONCATENATE(C191,D191),Listas!$AT$2:$AV$1104,3,FALSE))","v":""},null,{"$f":"IF(OR(F191=\"\",E191=\"\"),\"\",VLOOKUP(CONCATENATE(E191,Listas!AZ188),Listas!$BC$3:$BI$15430,7,FALSE))","v":""},null,null,{"$f":"IF(G191=\"\",\"\",VLOOKUP(G191,Listas!$BM$3:$BN$16,2,FALSE)*100)","v":""},"",{"$f":"+IFERROR(VLOOKUP(E191,Listas!$CQ$2:$CW$1104,7,FALSE),\"\")","v":""},"","",""]
[null,null,null,null,{"$f":"IF(D192=\"\",\"\",VLOOKUP(CONCATENATE(C192,D192),Listas!$AT$2:$AV$1104,3,FALSE))","v":""},null,{"$f":"IF(OR(F192=\"\",E192=\"\"),\"\",VLOOKUP(CONCATENATE(E192,Listas!AZ189),Listas!$BC$3:$BI$15430,7,FALSE))","v":""},null,null,{"$f":"IF(G192=\"\",\"\",VLOOKUP(G192,Listas!$BM$3:$BN$16,2,FALSE)*100)","v":""},"",{"$f":"+IFERROR(VLOOKUP(E192,Listas!$CQ$2:$CW$1104,7,FALSE),\"\")","v":""},"","",""]
[null,null,null,null,{"$f":"IF(D193=\"\",\"\",VLOOKUP(CONCATENATE(C193,D193),Listas!$AT$2:$AV$1104,3,FALSE))","v":""},null,{"$f":"IF(OR(F193=\"\",E193=\"\"),\"\",VLOOKUP(CONCATENATE(E193,Listas!AZ190),Listas!$BC$3:$BI$15430,7,FALSE))","v":""},null,null,{"$f":"IF(G193=\"\",\"\",VLOOKUP(G193,Listas!$BM$3:$BN$16,2,FALSE)*100)","v":""},"",{"$f":"+IFERROR(VLOOKUP(E193,Listas!$CQ$2:$CW$1104,7,FALSE),\"\")","v":""},"","",""]
[null,null,null,null,{"$f":"IF(D194=\"\",\"\",VLOOKUP(CONCATENATE(C194,D194),Listas!$AT$2:$AV$1104,3,FALSE))","v":""},null,{"$f":"IF(OR(F194=\"\",E194=\"\"),\"\",VLOOKUP(CONCATENATE(E194,Listas!AZ191),Listas!$BC$3:$BI$15430,7,FALSE))","v":""},null,null,{"$f":"IF(G194=\"\",\"\",VLOOKUP(G194,Listas!$BM$3:$BN$16,2,FALSE)*100)","v":""},"",{"$f":"+IFERROR(VLOOKUP(E194,Listas!$CQ$2:$CW$1104,7,FALSE),\"\")","v":""},"","",""]
[null,null,null,null,{"$f":"IF(D195=\"\",\"\",VLOOKUP(CONCATENATE(C195,D195),Listas!$AT$2:$AV$1104,3,FALSE))","v":""},null,{"$f":"IF(OR(F195=\"\",E195=\"\"),\"\",VLOOKUP(CONCATENATE(E195,Listas!AZ192),Listas!$BC$3:$BI$15430,7,FALSE))","v":""},null,null,{"$f":"IF(G195=\"\",\"\",VLOOKUP(G195,Listas!$BM$3:$BN$16,2,FALSE)*100)","v":""},"",{"$f":"+IFERROR(VLOOKUP(E195,Listas!$CQ$2:$CW$1104,7,FALSE),\"\")","v":""},"","",""]
[null,null,null,null,{"$f":"IF(D196=\"\",\"\",VLOOKUP(CONCATENATE(C196,D196),Listas!$AT$2:$AV$1104,3,FALSE))","v":""},null,{"$f":"IF(OR(F196=\"\",E196=\"\"),\"\",VLOOKUP(CONCATENATE(E196,Listas!AZ193),Listas!$BC$3:$BI$15430,7,FALSE))","v":""},null,null,{"$f":"IF(G196=\"\",\"\",VLOOKUP(G196,Listas!$BM$3:$BN$16,2,FALSE)*100)","v":""},"",{"$f":"+IFERROR(VLOOKUP(E196,Listas!$CQ$2:$CW$1104,7,FALSE),\"\")","v":""},"","",""]
[null,null,null,null,{"$f":"IF(D197=\"\",\"\",VLOOKUP(CONCATENATE(C197,D197),Listas!$AT$2:$AV$1104,3,FALSE))","v":""},null,{"$f":"IF(OR(F197=\"\",E197=\"\"),\"\",VLOOKUP(CONCATENATE(E197,Listas!AZ194),Listas!$BC$3:$BI$15430,7,FALSE))","v":""},null,null,{"$f":"IF(G197=\"\",\"\",VLOOKUP(G197,Listas!$BM$3:$BN$16,2,FALSE)*100)","v":""},"",{"$f":"+IFERROR(VLOOKUP(E197,Listas!$CQ$2:$CW$1104,7,FALSE),\"\")","v":""},"","",""]
[null,null,null,null,{"$f":"IF(D198=\"\",\"\",VLOOKUP(CONCATENATE(C198,D198),Listas!$AT$2:$AV$1104,3,FALSE))","v":""},null,{"$f":"IF(OR(F198=\"\",E198=\"\"),\"\",VLOOKUP(CONCATENATE(E198,Listas!AZ195),Listas!$BC$3:$BI$15430,7,FALSE))","v":""},null,null,{"$f":"IF(G198=\"\",\"\",VLOOKUP(G198,Listas!$BM$3:$BN$16,2,FALSE)*100)","v":""},{"$f":"+IF(H198=\"\",\"\",IF(H198=\"Sí\",1,0)*100)","v":""},{"$f":"+IFERROR(VLOOKUP(E198,Listas!$CQ$2:$CW$1104,7,FALSE),\"\")","v":""},{"$f":"+IF(I198=\"\",\"\",IF(I198=\"Sí\",1,0)*100)","v":""},"",""]
[null,null,null,null,{"$f":"IF(D199=\"\",\"\",VLOOKUP(CONCATENATE(C199,D199),Listas!$AT$2:$AV$1104,3,FALSE))","v":""},null,{"$f":"IF(OR(F199=\"\",E199=\"\"),\"\",VLOOKUP(CONCATENATE(E199,Listas!AZ196),Listas!$BC$3:$BI$15430,7,FALSE))","v":""},null,null,{"$f":"IF(G199=\"\",\"\",VLOOKUP(G199,Listas!$BM$3:$BN$16,2,FALSE)*100)","v":""},"",{"$f":"+IFERROR(VLOOKUP(E199,Listas!$CQ$2:$CW$1104,7,FALSE),\"\")","v":""},"",{"$f":"IF(E199=\"\",\"\",SUMPRODUCT(J199:M199,$J$2:$M$2))","v":""},{"$f":"+IFERROR(J199*58%,\"\")","v":""}]
[null,null,null,null,{"$f":"IF(D200=\"\",\"\",VLOOKUP(CONCATENATE(C200,D200),Listas!$AT$2:$AV$1104,3,FALSE))","v":""},null,{"$f":"IF(OR(F200=\"\",E200=\"\"),\"\",VLOOKUP(CONCATENATE(E200,Listas!AZ197),Listas!$BC$3:$BI$15430,7,FALSE))","v":""},null,null,{"$f":"IF(G200=\"\",\"\",VLOOKUP(G200,Listas!$BM$3:$BN$16,2,FALSE)*100)","v":""},"",{"$f":"+IFERROR(VLOOKUP(E200,Listas!$CQ$2:$CW$1104,7,FALSE),\"\")","v":""},"","",""]
[null,null,null,null,{"$f":"IF(D201=\"\",\"\",VLOOKUP(CONCATENATE(C201,D201),Listas!$AT$2:$AV$1104,3,FALSE))","v":""},null,{"$f":"IF(OR(F201=\"\",E201=\"\"),\"\",VLOOKUP(CONCATENATE(E201,Listas!AZ198),Listas!$BC$3:$BI$15430,7,FALSE))","v":""},null,null,{"$f":"IF(G201=\"\",\"\",VLOOKUP(G201,Listas!$BM$3:$BN$16,2,FALSE)*100)","v":""},"",{"$f":"+IFERROR(VLOOKUP(E201,Listas!$CQ$2:$CW$1104,7,FALSE),\"\")","v":""},"","",""]
[null,null,null,null,{"$f":"IF(D202=\"\",\"\",VLOOKUP(CONCATENATE(C202,D202),Listas!$AT$2:$AV$1104,3,FALSE))","v":""},null,{"$f":"IF(OR(F202=\"\",E202=\"\"),\"\",VLOOKUP(CONCATENATE(E202,Listas!AZ199),Listas!$BC$3:$BI$15430,7,FALSE))","v":""},null,null,{"$f":"IF(G202=\"\",\"\",VLOOKUP(G202,Listas!$BM$3:$BN$16,2,FALSE)*100)","v":""},"",{"$f":"+IFERROR(VLOOKUP(E202,Listas!$CQ$2:$CW$1104,7,FALSE),\"\")","v":""},"","",""]
[null,null,null,null,{"$f":"IF(D203=\"\",\"\",VLOOKUP(CONCATENATE(C203,D203),Listas!$AT$2:$AV$1104,3,FALSE))","v":""},null,{"$f":"IF(OR(F203=\"\",E203=\"\"),\"\",VLOOKUP(CONCATENATE(E203,Listas!AZ200),Listas!$BC$3:$BI$15430,7,FALSE))","v":""},null,null,{"$f":"IF(G203=\"\",\"\",VLOOKUP(G203,Listas!$BM$3:$BN$16,2,FALSE)*100)","v":""},"",{"$f":"+IFERROR(VLOOKUP(E203,Listas!$CQ$2:$CW$1104,7,FALSE),\"\")","v":""},"","",""]
[null,null,null,null,{"$f":"IF(D204=\"\",\"\",VLOOKUP(CONCATENATE(C204,D204),Listas!$AT$2:$AV$1104,3,FALSE))","v":""},null,{"$f":"IF(OR(F204=\"\",E204=\"\"),\"\",VLOOKUP(CONCATENATE(E204,Listas!AZ201),Listas!$BC$3:$BI$15430,7,FALSE))","v":""},null,null,{"$f":"IF(G204=\"\",\"\",VLOOKUP(G204,Listas!$BM$3:$BN$16,2,FALSE)*100)","v":""},"",{"$f":"+IFERROR(VLOOKUP(E204,Listas!$CQ$2:$CW$1104,7,FALSE),\"\")","v":""},"","",""]
[null,null,null,null,{"$f":"IF(D205=\"\",\"\",VLOOKUP(CONCATENATE(C205,D205),Listas!$AT$2:$AV$1104,3,FALSE))","v":""},null,{"$f":"IF(OR(F205=\"\",E205=\"\"),\"\",VLOOKUP(CONCATENATE(E205,Listas!AZ202),Listas!$BC$3:$BI$15430,7,FALSE))","v":""},null,null,{"$f":"IF(G205=\"\",\"\",VLOOKUP(G205,Listas!$BM$3:$BN$16,2,FALSE)*100)","v":""},"",{"$f":"+IFERROR(VLOOKUP(E205,Listas!$CQ$2:$CW$1104,7,FALSE),\"\")","v":""},"","",""]
[null,null,null,null,{"$f":"IF(D206=\"\",\"\",VLOOKUP(CONCATENATE(C206,D206),Listas!$AT$2:$AV$1104,3,FALSE))","v":""},null,{"$f":"IF(OR(F206=\"\",E206=\"\"),\"\",VLOOKUP(CONCATENATE(E206,Listas!AZ203),Listas!$BC$3:$BI$15430,7,FALSE))","v":""},null,null,{"$f":"IF(G206=\"\",\"\",VLOOKUP(G206,Listas!$BM$3:$BN$16,2,FALSE)*100)","v":""},"",{"$f":"+IFERROR(VLOOKUP(E206,Listas!$CQ$2:$CW$1104,7,FALSE),\"\")","v":""},"","",""]
[null,null,null,null,{"$f":"IF(D207=\"\",\"\",VLOOKUP(CONCATENATE(C207,D207),Listas!$AT$2:$AV$1104,3,FALSE))","v":""},null,{"$f":"IF(OR(F207=\"\",E207=\"\"),\"\",VLOOKUP(CONCATENATE(E207,Listas!AZ204),Listas!$BC$3:$BI$15430,7,FALSE))","v":""},null,null,{"$f":"IF(G207=\"\",\"\",VLOOKUP(G207,Listas!$BM$3:$BN$16,2,FALSE)*100)","v":""},"",{"$f":"+IFERROR(VLOOKUP(E207,Listas!$CQ$2:$CW$1104,7,FALSE),\"\")","v":""},"","",""]
[null,null,null,null,{"$f":"IF(D208=\"\",\"\",VLOOKUP(CONCATENATE(C208,D208),Listas!$AT$2:$AV$1104,3,FALSE))","v":""},null,{"$f":"IF(OR(F208=\"\",E208=\"\"),\"\",VLOOKUP(CONCATENATE(E208,Listas!AZ205),Listas!$BC$3:$BI$15430,7,FALSE))","v":""},null,null,{"$f":"IF(G208=\"\",\"\",VLOOKUP(G208,Listas!$BM$3:$BN$16,2,FALSE)*100)","v":""},"",{"$f":"+IFERROR(VLOOKUP(E208,Listas!$CQ$2:$CW$1104,7,FALSE),\"\")","v":""},"","",""]
[null,null,null,null,{"$f":"IF(D209=\"\",\"\",VLOOKUP(CONCATENATE(C209,D209),Listas!$AT$2:$AV$1104,3,FALSE))","v":""},null,{"$f":"IF(OR(F209=\"\",E209=\"\"),\"\",VLOOKUP(CONCATENATE(E209,Listas!AZ206),Listas!$BC$3:$BI$15430,7,FALSE))","v":""},null,null,{"$f":"IF(G209=\"\",\"\",VLOOKUP(G209,Listas!$BM$3:$BN$16,2,FALSE)*100)","v":""},"",{"$f":"+IFERROR(VLOOKUP(E209,Listas!$CQ$2:$CW$1104,7,FALSE),\"\")","v":""},"","",""]
[null,null,null,null,{"$f":"IF(D210=\"\",\"\",VLOOKUP(CONCATENATE(C210,D210),Listas!$AT$2:$AV$1104,3,FALSE))","v":""},null,{"$f":"IF(OR(F210=\"\",E210=\"\"),\"\",VLOOKUP(CONCATENATE(E210,Listas!AZ207),Listas!$BC$3:$BI$15430,7,FALSE))","v":""},null,null,{"$f":"IF(G210=\"\",\"\",VLOOKUP(G210,Listas!$BM$3:$BN$16,2,FALSE)*100)","v":""},"",{"$f":"+IFERROR(VLOOKUP(E210,Listas!$CQ$2:$CW$1104,7,FALSE),\"\")","v":""},"","",""]
[null,null,null,null,{"$f":"IF(D211=\"\",\"\",VLOOKUP(CONCATENATE(C211,D211),Listas!$AT$2:$AV$1104,3,FALSE))","v":""},null,{"$f":"IF(OR(F211=\"\",E211=\"\"),\"\",VLOOKUP(CONCATENATE(E211,Listas!AZ208),Listas!$BC$3:$BI$15430,7,FALSE))","v":""},null,null,{"$f":"IF(G211=\"\",\"\",VLOOKUP(G211,Listas!$BM$3:$BN$16,2,FALSE)*100)","v":""},"",{"$f":"+IFERROR(VLOOKUP(E211,Listas!$CQ$2:$CW$1104,7,FALSE),\"\")","v":""},"","",""]
[null,null,null,null,{"$f":"IF(D212=\"\",\"\",VLOOKUP(CONCATENATE(C212,D212),Listas!$AT$2:$AV$1104,3,FALSE))","v":""},null,{"$f":"IF(OR(F212=\"\",E212=\"\"),\"\",VLOOKUP(CONCATENATE(E212,Listas!AZ209),Listas!$BC$3:$BI$15430,7,FALSE))","v":""},null,null,{"$f":"IF(G212=\"\",\"\",VLOOKUP(G212,Listas!$BM$3:$BN$16,2,FALSE)*100)","v":""},"",{"$f":"+IFERROR(VLOOKUP(E212,Listas!$CQ$2:$CW$1104,7,FALSE),\"\")","v":""},"","",""]
[null,null,null,null,{"$f":"IF(D213=\"\",\"\",VLOOKUP(CONCATENATE(C213,D213),Listas!$AT$2:$AV$1104,3,FALSE))","v":""},null,{"$f":"IF(OR(F213=\"\",E213=\"\"),\"\",VLOOKUP(CONCATENATE(E213,Listas!AZ210),Listas!$BC$3:$BI$15430,7,FALSE))","v":""},null,null,{"$f":"IF(G213=\"\",\"\",VLOOKUP(G213,Listas!$BM$3:$BN$16,2,FALSE)*100)","v":""},"",{"$f":"+IFERROR(VLOOKUP(E213,Listas!$CQ$2:$CW$1104,7,FALSE),\"\")","v":""},"","",""]
[null,null,null,null,{"$f":"IF(D214=\"\",\"\",VLOOKUP(CONCATENATE(C214,D214),Listas!$AT$2:$AV$1104,3,FALSE))","v":""},null,{"$f":"IF(OR(F214=\"\",E214=\"\"),\"\",VLOOKUP(CONCATENATE(E214,Listas!AZ211),Listas!$BC$3:$BI$15430,7,FALSE))","v":""},null,null,{"$f":"IF(G214=\"\",\"\",VLOOKUP(G214,Listas!$BM$3:$BN$16,2,FALSE)*100)","v":""},"",{"$f":"+IFERROR(VLOOKUP(E214,Listas!$CQ$2:$CW$1104,7,FALSE),\"\")","v":""},"","",""]
[null,null,null,null,{"$f":"IF(D215=\"\",\"\",VLOOKUP(CONCATENATE(C215,D215),Listas!$AT$2:$AV$1104,3,FALSE))","v":""},null,{"$f":"IF(OR(F215=\"\",E215=\"\"),\"\",VLOOKUP(CONCATENATE(E215,Listas!AZ212),Listas!$BC$3:$BI$15430,7,FALSE))","v":""},null,null,{"$f":"IF(G215=\"\",\"\",VLOOKUP(G215,Listas!$BM$3:$BN$16,2,FALSE)*100)","v":""},"",{"$f":"+IFERROR(VLOOKUP(E215,Listas!$CQ$2:$CW$1104,7,FALSE),\"\")","v":""},"","",""]
[null,null,null,null,{"$f":"IF(D216=\"\",\"\",VLOOKUP(CONCATENATE(C216,D216),Listas!$AT$2:$AV$1104,3,FALSE))","v":""},null,{"$f":"IF(OR(F216=\"\",E216=\"\"),\"\",VLOOKUP(CONCATENATE(E216,Listas!AZ213),Listas!$BC$3:$BI$15430,7,FALSE))","v":""},null,null,{"$f":"IF(G216=\"\",\"\",VLOOKUP(G216,Listas!$BM$3:$BN$16,2,FALSE)*100)","v":""},"",{"$f":"+IFERROR(VLOOKUP(E216,Listas!$CQ$2:$CW$1104,7,FALSE),\"\")","v":""},"","",""]
[null,null,null,null,{"$f":"IF(D217=\"\",\"\",VLOOKUP(CONCATENATE(C217,D217),Listas!$AT$2:$AV$1104,3,FALSE))","v":""},null,{"$f":"IF(OR(F217=\"\",E217=\"\"),\"\",VLOOKUP(CONCATENATE(E217,Listas!AZ214),Listas!$BC$3:$BI$15430,7,FALSE))","v":""},null,null,{"$f":"IF(G217=\"\",\"\",VLOOKUP(G217,Listas!$BM$3:$BN$16,2,FALSE)*100)","v":""},"",{"$f":"+IFERROR(VLOOKUP(E217,Listas!$CQ$2:$CW$1104,7,FALSE),\"\")","v":""},"","",""]
[null,null,null,null,{"$f":"IF(D218=\"\",\"\",VLOOKUP(CONCATENATE(C218,D218),Listas!$AT$2:$AV$1104,3,FALSE))","v":""},null,{"$f":"IF(OR(F218=\"\",E218=\"\"),\"\",VLOOKUP(CONCATENATE(E218,Listas!AZ215),Listas!$BC$3:$BI$15430,7,FALSE))","v":""},null,null,{"$f":"IF(G218=\"\",\"\",VLOOKUP(G218,Listas!$BM$3:$BN$16,2,FALSE)*100)","v":""},"",{"$f":"+IFERROR(VLOOKUP(E218,Listas!$CQ$2:$CW$1104,7,FALSE),\"\")","v":""},"","",""]
[null,null,null,null,{"$f":"IF(D219=\"\",\"\",VLOOKUP(CONCATENATE(C219,D219),Listas!$AT$2:$AV$1104,3,FALSE))","v":""},null,{"$f":"IF(OR(F219=\"\",E219=\"\"),\"\",VLOOKUP(CONCATENATE(E219,Listas!AZ216),Listas!$BC$3:$BI$15430,7,FALSE))","v":""},null,null,{"$f":"IF(G219=\"\",\"\",VLOOKUP(G219,Listas!$BM$3:$BN$16,2,FALSE)*100)","v":""},"",{"$f":"+IFERROR(VLOOKUP(E219,Listas!$CQ$2:$CW$1104,7,FALSE),\"\")","v":""},"","",""]
[null,null,null,null,{"$f":"IF(D220=\"\",\"\",VLOOKUP(CONCATENATE(C220,D220),Listas!$AT$2:$AV$1104,3,FALSE))","v":""},null,{"$f":"IF(OR(F220=\"\",E220=\"\"),\"\",VLOOKUP(CONCATENATE(E220,Listas!AZ217),Listas!$BC$3:$BI$15430,7,FALSE))","v":""},null,null,{"$f":"IF(G220=\"\",\"\",VLOOKUP(G220,Listas!$BM$3:$BN$16,2,FALSE)*100)","v":""},"",{"$f":"+IFERROR(VLOOKUP(E220,Listas!$CQ$2:$CW$1104,7,FALSE),\"\")","v":""},"","",""]
[null,null,null,null,{"$f":"IF(D221=\"\",\"\",VLOOKUP(CONCATENATE(C221,D221),Listas!$AT$2:$AV$1104,3,FALSE))","v":""},null,{"$f":"IF(OR(F221=\"\",E221=\"\"),\"\",VLOOKUP(CONCATENATE(E221,Listas!AZ218),Listas!$BC$3:$BI$15430,7,FALSE))","v":""},null,null,{"$f":"IF(G221=\"\",\"\",VLOOKUP(G221,Listas!$BM$3:$BN$16,2,FALSE)*100)","v":""},"",{"$f":"+IFERROR(VLOOKUP(E221,Listas!$CQ$2:$CW$1104,7,FALSE),\"\")","v":""},"","",""]
[null,null,null,null,{"$f":"IF(D222=\"\",\"\",VLOOKUP(CONCATENATE(C222,D222),Listas!$AT$2:$AV$1104,3,FALSE))","v":""},null,{"$f":"IF(OR(F222=\"\",E222=\"\"),\"\",VLOOKUP(CONCATENATE(E222,Listas!AZ219),Listas!$BC$3:$BI$15430,7,FALSE))","v":""},null,null,{"$f":"IF(G222=\"\",\"\",VLOOKUP(G222,Listas!$BM$3:$BN$16,2,FALSE)*100)","v":""},"",{"$f":"+IFERROR(VLOOKUP(E222,Listas!$CQ$2:$CW$1104,7,FALSE),\"\")","v":""},"","",""]
[null,null,null,null,{"$f":"IF(D223=\"\",\"\",VLOOKUP(CONCATENATE(C223,D223),Listas!$AT$2:$AV$1104,3,FALSE))","v":""},null,{"$f":"IF(OR(F223=\"\",E223=\"\"),\"\",VLOOKUP(CONCATENATE(E223,Listas!AZ220),Listas!$BC$3:$BI$15430,7,FALSE))","v":""},null,null,{"$f":"IF(G223=\"\",\"\",VLOOKUP(G223,Listas!$BM$3:$BN$16,2,FALSE)*100)","v":""},"",{"$f":"+IFERROR(VLOOKUP(E223,Listas!$CQ$2:$CW$1104,7,FALSE),\"\")","v":""},"","",""]
[null,null,null,null,{"$f":"IF(D224=\"\",\"\",VLOOKUP(CONCATENATE(C224,D224),Listas!$AT$2:$AV$1104,3,FALSE))","v":""},null,{"$f":"IF(OR(F224=\"\",E224=\"\"),\"\",VLOOKUP(CONCATENATE(E224,Listas!AZ221),Listas!$BC$3:$BI$15430,7,FALSE))","v":""},null,null,{"$f":"IF(G224=\"\",\"\",VLOOKUP(G224,Listas!$BM$3:$BN$16,2,FALSE)*100)","v":""},"",{"$f":"+IFERROR(VLOOKUP(E224,Listas!$CQ$2:$CW$1104,7,FALSE),\"\")","v":""},"","",""]
[null,null,null,null,{"$f":"IF(D225=\"\",\"\",VLOOKUP(CONCATENATE(C225,D225),Listas!$AT$2:$AV$1104,3,FALSE))","v":""},null,{"$f":"IF(OR(F225=\"\",E225=\"\"),\"\",VLOOKUP(CONCATENATE(E225,Listas!AZ222),Listas!$BC$3:$BI$15430,7,FALSE))","v":""},null,null,{"$f":"IF(G225=\"\",\"\",VLOOKUP(G225,Listas!$BM$3:$BN$16,2,FALSE)*100)","v":""},"",{"$f":"+IFERROR(VLOOKUP(E225,Listas!$CQ$2:$CW$1104,7,FALSE),\"\")","v":""},"","",""]
[null,null,null,null,{"$f":"IF(D226=\"\",\"\",VLOOKUP(CONCATENATE(C226,D226),Listas!$AT$2:$AV$1104,3,FALSE))","v":""},null,{"$f":"IF(OR(F226=\"\",E226=\"\"),\"\",VLOOKUP(CONCATENATE(E226,Listas!AZ223),Listas!$BC$3:$BI$15430,7,FALSE))","v":""},null,null,{"$f":"IF(G226=\"\",\"\",VLOOKUP(G226,Listas!$BM$3:$BN$16,2,FALSE)*100)","v":""},"",{"$f":"+IFERROR(VLOOKUP(E226,Listas!$CQ$2:$CW$1104,7,FALSE),\"\")","v":""},"","",""]
[null,null,null,null,{"$f":"IF(D227=\"\",\"\",VLOOKUP(CONCATENATE(C227,D227),Listas!$AT$2:$AV$1104,3,FALSE))","v":""},null,{"$f":"IF(OR(F227=\"\",E227=\"\"),\"\",VLOOKUP(CONCATENATE(E227,Listas!AZ224),Listas!$BC$3:$BI$15430,7,FALSE))","v":""},null,null,{"$f":"IF(G227=\"\",\"\",VLOOKUP(G227,Listas!$BM$3:$BN$16,2,FALSE)*100)","v":""},"",{"$f":"+IFERROR(VLOOKUP(E227,Listas!$CQ$2:$CW$1104,7,FALSE),\"\")","v":""},"","",""]
[null,null,null,null,{"$f":"IF(D228=\"\",\"\",VLOOKUP(CONCATENATE(C228,D228),Listas!$AT$2:$AV$1104,3,FALSE))","v":""},null,{"$f":"IF(OR(F228=\"\",E228=\"\"),\"\",VLOOKUP(CONCATENATE(E228,Listas!AZ225),Listas!$BC$3:$BI$15430,7,FALSE))","v":""},null,null,{"$f":"IF(G228=\"\",\"\",VLOOKUP(G228,Listas!$BM$3:$BN$16,2,FALSE)*100)","v":""},"",{"$f":"+IFERROR(VLOOKUP(E228,Listas!$CQ$2:$CW$1104,7,FALSE),\"\")","v":""},"","",""]
[null,null,null,null,{"$f":"IF(D229=\"\",\"\",VLOOKUP(CONCATENATE(C229,D229),Listas!$AT$2:$AV$1104,3,FALSE))","v":""},null,{"$f":"IF(OR(F229=\"\",E229=\"\"),\"\",VLOOKUP(CONCATENATE(E229,Listas!AZ226),Listas!$BC$3:$BI$15430,7,FALSE))","v":""},null,null,{"$f":"IF(G229=\"\",\"\",VLOOKUP(G229,Listas!$BM$3:$BN$16,2,FALSE)*100)","v":""},"",{"$f":"+IFERROR(VLOOKUP(E229,Listas!$CQ$2:$CW$1104,7,FALSE),\"\")","v":""},"","",""]
[null,null,null,null,{"$f":"IF(D230=\"\",\"\",VLOOKUP(CONCATENATE(C230,D230),Listas!$AT$2:$AV$1104,3,FALSE))","v":""},null,{"$f":"IF(OR(F230=\"\",E230=\"\"),\"\",VLOOKUP(CONCATENATE(E230,Listas!AZ227),Listas!$BC$3:$BI$15430,7,FALSE))","v":""},null,null,{"$f":"IF(G230=\"\",\"\",VLOOKUP(G230,Listas!$BM$3:$BN$16,2,FALSE)*100)","v":""},"",{"$f":"+IFERROR(VLOOKUP(E230,Listas!$CQ$2:$CW$1104,7,FALSE),\"\")","v":""},"","",""]
[null,null,null,null,{"$f":"IF(D231=\"\",\"\",VLOOKUP(CONCATENATE(C231,D231),Listas!$AT$2:$AV$1104,3,FALSE))","v":""},null,{"$f":"IF(OR(F231=\"\",E231=\"\"),\"\",VLOOKUP(CONCATENATE(E231,Listas!AZ228),Listas!$BC$3:$BI$15430,7,FALSE))","v":""},null,null,{"$f":"IF(G231=\"\",\"\",VLOOKUP(G231,Listas!$BM$3:$BN$16,2,FALSE)*100)","v":""},"",{"$f":"+IFERROR(VLOOKUP(E231,Listas!$CQ$2:$CW$1104,7,FALSE),\"\")","v":""},"","",""]
[null,null,null,null,{"$f":"IF(D232=\"\",\"\",VLOOKUP(CONCATENATE(C232,D232),Listas!$AT$2:$AV$1104,3,FALSE))","v":""},null,{"$f":"IF(OR(F232=\"\",E232=\"\"),\"\",VLOOKUP(CONCATENATE(E232,Listas!AZ229),Listas!$BC$3:$BI$15430,7,FALSE))","v":""},null,null,{"$f":"IF(G232=\"\",\"\",VLOOKUP(G232,Listas!$BM$3:$BN$16,2,FALSE)*100)","v":""},"",{"$f":"+IFERROR(VLOOKUP(E232,Listas!$CQ$2:$CW$1104,7,FALSE),\"\")","v":""},"","",""]
[null,null,null,null,{"$f":"IF(D233=\"\",\"\",VLOOKUP(CONCATENATE(C233,D233),Listas!$AT$2:$AV$1104,3,FALSE))","v":""},null,{"$f":"IF(OR(F233=\"\",E233=\"\"),\"\",VLOOKUP(CONCATENATE(E233,Listas!AZ230),Listas!$BC$3:$BI$15430,7,FALSE))","v":""},null,null,{"$f":"IF(G233=\"\",\"\",VLOOKUP(G233,Listas!$BM$3:$BN$16,2,FALSE)*100)","v":""},"",{"$f":"+IFERROR(VLOOKUP(E233,Listas!$CQ$2:$CW$1104,7,FALSE),\"\")","v":""},"","",""]
[null,null,null,null,{"$f":"IF(D234=\"\",\"\",VLOOKUP(CONCATENATE(C234,D234),Listas!$AT$2:$AV$1104,3,FALSE))","v":""},null,{"$f":"IF(OR(F234=\"\",E234=\"\"),\"\",VLOOKUP(CONCATENATE(E234,Listas!AZ231),Listas!$BC$3:$BI$15430,7,FALSE))","v":""},null,null,{"$f":"IF(G234=\"\",\"\",VLOOKUP(G234,Listas!$BM$3:$BN$16,2,FALSE)*100)","v":""},"",{"$f":"+IFERROR(VLOOKUP(E234,Listas!$CQ$2:$CW$1104,7,FALSE),\"\")","v":""},"","",""]
[null,null,null,null,{"$f":"IF(D235=\"\",\"\",VLOOKUP(CONCATENATE(C235,D235),Listas!$AT$2:$AV$1104,3,FALSE))","v":""},null,{"$f":"IF(OR(F235=\"\",E235=\"\"),\"\",VLOOKUP(CONCATENATE(E235,Listas!AZ232),Listas!$BC$3:$BI$15430,7,FALSE))","v":""},null,null,{"$f":"IF(G235=\"\",\"\",VLOOKUP(G235,Listas!$BM$3:$BN$16,2,FALSE)*100)","v":""},"",{"$f":"+IFERROR(VLOOKUP(E235,Listas!$CQ$2:$CW$1104,7,FALSE),\"\")","v":""},"","",""]
[null,null,null,null,{"$f":"IF(D236=\"\",\"\",VLOOKUP(CONCATENATE(C236,D236),Listas!$AT$2:$AV$1104,3,FALSE))","v":""},null,{"$f":"IF(OR(F236=\"\",E236=\"\"),\"\",VLOOKUP(CONCATENATE(E236,Listas!AZ233),Listas!$BC$3:$BI$15430,7,FALSE))","v":""},null,null,{"$f":"IF(G236=\"\",\"\",VLOOKUP(G236,Listas!$BM$3:$BN$16,2,FALSE)*100)","v":""},"",{"$f":"+IFERROR(VLOOKUP(E236,Listas!$CQ$2:$CW$1104,7,FALSE),\"\")","v":""},"","",""]
[null,null,null,null,{"$f":"IF(D237=\"\",\"\",VLOOKUP(CONCATENATE(C237,D237),Listas!$AT$2:$AV$1104,3,FALSE))","v":""},null,{"$f":"IF(OR(F237=\"\",E237=\"\"),\"\",VLOOKUP(CONCATENATE(E237,Listas!AZ234),Listas!$BC$3:$BI$15430,7,FALSE))","v":""},null,null,{"$f":"IF(G237=\"\",\"\",VLOOKUP(G237,Listas!$BM$3:$BN$16,2,FALSE)*100)","v":""},"",{"$f":"+IFERROR(VLOOKUP(E237,Listas!$CQ$2:$CW$1104,7,FALSE),\"\")","v":""},"","",""]
[null,null,null,null,{"$f":"IF(D238=\"\",\"\",VLOOKUP(CONCATENATE(C238,D238),Listas!$AT$2:$AV$1104,3,FALSE))","v":""},null,{"$f":"IF(OR(F238=\"\",E238=\"\"),\"\",VLOOKUP(CONCATENATE(E238,Listas!AZ235),Listas!$BC$3:$BI$15430,7,FALSE))","v":""},null,null,{"$f":"IF(G238=\"\",\"\",VLOOKUP(G238,Listas!$BM$3:$BN$16,2,FALSE)*100)","v":""},"",{"$f":"+IFERROR(VLOOKUP(E238,Listas!$CQ$2:$CW$1104,7,FALSE),\"\")","v":""},"","",""]
[null,null,null,null,{"$f":"IF(D239=\"\",\"\",VLOOKUP(CONCATENATE(C239,D239),Listas!$AT$2:$AV$1104,3,FALSE))","v":""},null,{"$f":"IF(OR(F239=\"\",E239=\"\"),\"\",VLOOKUP(CONCATENATE(E239,Listas!AZ236),Listas!$BC$3:$BI$15430,7,FALSE))","v":""},null,null,{"$f":"IF(G239=\"\",\"\",VLOOKUP(G239,Listas!$BM$3:$BN$16,2,FALSE)*100)","v":""},"",{"$f":"+IFERROR(VLOOKUP(E239,Listas!$CQ$2:$CW$1104,7,FALSE),\"\")","v":""},"","",""]
[null,null,null,null,{"$f":"IF(D240=\"\",\"\",VLOOKUP(CONCATENATE(C240,D240),Listas!$AT$2:$AV$1104,3,FALSE))","v":""},null,{"$f":"IF(OR(F240=\"\",E240=\"\"),\"\",VLOOKUP(CONCATENATE(E240,Listas!AZ237),Listas!$BC$3:$BI$15430,7,FALSE))","v":""},null,null,{"$f":"IF(G240=\"\",\"\",VLOOKUP(G240,Listas!$BM$3:$BN$16,2,FALSE)*100)","v":""},"",{"$f":"+IFERROR(VLOOKUP(E240,Listas!$CQ$2:$CW$1104,7,FALSE),\"\")","v":""},"","",""]
[null,null,null,null,{"$f":"IF(D241=\"\",\"\",VLOOKUP(CONCATENATE(C241,D241),Listas!$AT$2:$AV$1104,3,FALSE))","v":""},null,{"$f":"IF(OR(F241=\"\",E241=\"\"),\"\",VLOOKUP(CONCATENATE(E241,Listas!AZ238),Listas!$BC$3:$BI$15430,7,FALSE))","v":""},null,null,{"$f":"IF(G241=\"\",\"\",VLOOKUP(G241,Listas!$BM$3:$BN$16,2,FALSE)*100)","v":""},"",{"$f":"+IFERROR(VLOOKUP(E241,Listas!$CQ$2:$CW$1104,7,FALSE),\"\")","v":""},"","",""]
[null,null,null,null,{"$f":"IF(D242=\"\",\"\",VLOOKUP(CONCATENATE(C242,D242),Listas!$AT$2:$AV$1104,3,FALSE))","v":""},null,{"$f":"IF(OR(F242=\"\",E242=\"\"),\"\",VLOOKUP(CONCATENATE(E242,Listas!AZ239),Listas!$BC$3:$BI$15430,7,FALSE))","v":""},null,null,{"$f":"IF(G242=\"\",\"\",VLOOKUP(G242,Listas!$BM$3:$BN$16,2,FALSE)*100)","v":""},"",{"$f":"+IFERROR(VLOOKUP(E242,Listas!$CQ$2:$CW$1104,7,FALSE),\"\")","v":""},"","",""]
[null,null,null,null,{"$f":"IF(D243=\"\",\"\",VLOOKUP(CONCATENATE(C243,D243),Listas!$AT$2:$AV$1104,3,FALSE))","v":""},null,{"$f":"IF(OR(F243=\"\",E243=\"\"),\"\",VLOOKUP(CONCATENATE(E243,Listas!AZ240),Listas!$BC$3:$BI$15430,7,FALSE))","v":""},null,null,{"$f":"IF(G243=\"\",\"\",VLOOKUP(G243,Listas!$BM$3:$BN$16,2,FALSE)*100)","v":""},"",{"$f":"+IFERROR(VLOOKUP(E243,Listas!$CQ$2:$CW$1104,7,FALSE),\"\")","v":""},"","",""]
[null,null,null,null,{"$f":"IF(D244=\"\",\"\",VLOOKUP(CONCATENATE(C244,D244),Listas!$AT$2:$AV$1104,3,FALSE))","v":""},null,{"$f":"IF(OR(F244=\"\",E244=\"\"),\"\",VLOOKUP(CONCATENATE(E244,Listas!AZ241),Listas!$BC$3:$BI$15430,7,FALSE))","v":""},null,null,{"$f":"IF(G244=\"\",\"\",VLOOKUP(G244,Listas!$BM$3:$BN$16,2,FALSE)*100)","v":""},"",{"$f":"+IFERROR(VLOOKUP(E244,Listas!$CQ$2:$CW$1104,7,FALSE),\"\")","v":""},"","",""]
[null,null,null,null,{"$f":"IF(D245=\"\",\"\",VLOOKUP(CONCATENATE(C245,D245),Listas!$AT$2:$AV$1104,3,FALSE))","v":""},null,{"$f":"IF(OR(F245=\"\",E245=\"\"),\"\",VLOOKUP(CONCATENATE(E245,Listas!AZ242),Listas!$BC$3:$BI$15430,7,FALSE))","v":""},null,null,{"$f":"IF(G245=\"\",\"\",VLOOKUP(G245,Listas!$BM$3:$BN$16,2,FALSE)*100)","v":""},"",{"$f":"+IFERROR(VLOOKUP(E245,Listas!$CQ$2:$CW$1104,7,FALSE),\"\")","v":""},"","",""]
[null,null,null,null,{"$f":"IF(D246=\"\",\"\",VLOOKUP(CONCATENATE(C246,D246),Listas!$AT$2:$AV$1104,3,FALSE))","v":""},null,{"$f":"IF(OR(F246=\"\",E246=\"\"),\"\",VLOOKUP(CONCATENATE(E246,Listas!AZ243),Listas!$BC$3:$BI$15430,7,FALSE))","v":""},null,null,{"$f":"IF(G246=\"\",\"\",VLOOKUP(G246,Listas!$BM$3:$BN$16,2,FALSE)*100)","v":""},"",{"$f":"+IFERROR(VLOOKUP(E246,Listas!$CQ$2:$CW$1104,7,FALSE),\"\")","v":""},"","",""]
[null,null,null,null,{"$f":"IF(D247=\"\",\"\",VLOOKUP(CONCATENATE(C247,D247),Listas!$AT$2:$AV$1104,3,FALSE))","v":""},null,{"$f":"IF(OR(F247=\"\",E247=\"\"),\"\",VLOOKUP(CONCATENATE(E247,Listas!AZ244),Listas!$BC$3:$BI$15430,7,FALSE))","v":""},null,null,{"$f":"IF(G247=\"\",\"\",VLOOKUP(G247,Listas!$BM$3:$BN$16,2,FALSE)*100)","v":""},"",{"$f":"+IFERROR(VLOOKUP(E247,Listas!$CQ$2:$CW$1104,7,FALSE),\"\")","v":""},"","",""]
[null,null,null,null,{"$f":"IF(D248=\"\",\"\",VLOOKUP(CONCATENATE(C248,D248),Listas!$AT$2:$AV$1104,3,FALSE))","v":""},null,{"$f":"IF(OR(F248=\"\",E248=\"\"),\"\",VLOOKUP(CONCATENATE(E248,Listas!AZ245),Listas!$BC$3:$BI$15430,7,FALSE))","v":""},null,null,{"$f":"IF(G248=\"\",\"\",VLOOKUP(G248,Listas!$BM$3:$BN$16,2,FALSE)*100)","v":""},"",{"$f":"+IFERROR(VLOOKUP(E248,Listas!$CQ$2:$CW$1104,7,FALSE),\"\")","v":""},"","",""]
[null,null,null,null,{"$f":"IF(D249=\"\",\"\",VLOOKUP(CONCATENATE(C249,D249),Listas!$AT$2:$AV$1104,3,FALSE))","v":""},null,{"$f":"IF(OR(F249=\"\",E249=\"\"),\"\",VLOOKUP(CONCATENATE(E249,Listas!AZ246),Listas!$BC$3:$BI$15430,7,FALSE))","v":""},null,null,{"$f":"IF(G249=\"\",\"\",VLOOKUP(G249,Listas!$BM$3:$BN$16,2,FALSE)*100)","v":""},"",{"$f":"+IFERROR(VLOOKUP(E249,Listas!$CQ$2:$CW$1104,7,FALSE),\"\")","v":""},"","",""]
[null,null,null,null,{"$f":"IF(D250=\"\",\"\",VLOOKUP(CONCATENATE(C250,D250),Listas!$AT$2:$AV$1104,3,FALSE))","v":""},null,{"$f":"IF(OR(F250=\"\",E250=\"\"),\"\",VLOOKUP(CONCATENATE(E250,Listas!AZ247),Listas!$BC$3:$BI$15430,7,FALSE))","v":""},null,null,{"$f":"IF(G250=\"\",\"\",VLOOKUP(G250,Listas!$BM$3:$BN$16,2,FALSE)*100)","v":""},"",{"$f":"+IFERROR(VLOOKUP(E250,Listas!$CQ$2:$CW$1104,7,FALSE),\"\")","v":""},"","",""]
[null,null,null,null,{"$f":"IF(D251=\"\",\"\",VLOOKUP(CONCATENATE(C251,D251),Listas!$AT$2:$AV$1104,3,FALSE))","v":""},null,{"$f":"IF(OR(F251=\"\",E251=\"\"),\"\",VLOOKUP(CONCATENATE(E251,Listas!AZ248),Listas!$BC$3:$BI$15430,7,FALSE))","v":""},null,null,{"$f":"IF(G251=\"\",\"\",VLOOKUP(G251,Listas!$BM$3:$BN$16,2,FALSE)*100)","v":""},"",{"$f":"+IFERROR(VLOOKUP(E251,Listas!$CQ$2:$CW$1104,7,FALSE),\"\")","v":""},"","",""]
[null,null,null,null,{"$f":"IF(D252=\"\",\"\",VLOOKUP(CONCATENATE(C252,D252),Listas!$AT$2:$AV$1104,3,FALSE))","v":""},null,{"$f":"IF(OR(F252=\"\",E252=\"\"),\"\",VLOOKUP(CONCATENATE(E252,Listas!AZ249),Listas!$BC$3:$BI$15430,7,FALSE))","v":""},null,null,{"$f":"IF(G252=\"\",\"\",VLOOKUP(G252,Listas!$BM$3:$BN$16,2,FALSE)*100)","v":""},"",{"$f":"+IFERROR(VLOOKUP(E252,Listas!$CQ$2:$CW$1104,7,FALSE),\"\")","v":""},"","",""]
[null,null,null,null,{"$f":"IF(D253=\"\",\"\",VLOOKUP(CONCATENATE(C253,D253),Listas!$AT$2:$AV$1104,3,FALSE))","v":""},null,{"$f":"IF(OR(F253=\"\",E253=\"\"),\"\",VLOOKUP(CONCATENATE(E253,Listas!AZ250),Listas!$BC$3:$BI$15430,7,FALSE))","v":""},null,null,{"$f":"IF(G253=\"\",\"\",VLOOKUP(G253,Listas!$BM$3:$BN$16,2,FALSE)*100)","v":""},"",{"$f":"+IFERROR(VLOOKUP(E253,Listas!$CQ$2:$CW$1104,7,FALSE),\"\")","v":""},"","",""]
[null,null,null,null,{"$f":"IF(D254=\"\",\"\",VLOOKUP(CONCATENATE(C254,D254),Listas!$AT$2:$AV$1104,3,FALSE))","v":""},null,{"$f":"IF(OR(F254=\"\",E254=\"\"),\"\",VLOOKUP(CONCATENATE(E254,Listas!AZ251),Listas!$BC$3:$BI$15430,7,FALSE))","v":""},null,null,{"$f":"IF(G254=\"\",\"\",VLOOKUP(G254,Listas!$BM$3:$BN$16,2,FALSE)*100)","v":""},"",{"$f":"+IFERROR(VLOOKUP(E254,Listas!$CQ$2:$CW$1104,7,FALSE),\"\")","v":""},"","",""]
[null,null,null,null,{"$f":"IF(D255=\"\",\"\",VLOOKUP(CONCATENATE(C255,D255),Listas!$AT$2:$AV$1104,3,FALSE))","v":""},null,{"$f":"IF(OR(F255=\"\",E255=\"\"),\"\",VLOOKUP(CONCATENATE(E255,Listas!AZ252),Listas!$BC$3:$BI$15430,7,FALSE))","v":""},null,null,{"$f":"IF(G255=\"\",\"\",VLOOKUP(G255,Listas!$BM$3:$BN$16,2,FALSE)*100)","v":""},"",{"$f":"+IFERROR(VLOOKUP(E255,Listas!$CQ$2:$CW$1104,7,FALSE),\"\")","v":""},"","",""]
[null,null,null,null,{"$f":"IF(D256=\"\",\"\",VLOOKUP(CONCATENATE(C256,D256),Listas!$AT$2:$AV$1104,3,FALSE))","v":""},null,{"$f":"IF(OR(F256=\"\",E256=\"\"),\"\",VLOOKUP(CONCATENATE(E256,Listas!AZ253),Listas!$BC$3:$BI$15430,7,FALSE))","v":""},null,null,{"$f":"IF(G256=\"\",\"\",VLOOKUP(G256,Listas!$BM$3:$BN$16,2,FALSE)*100)","v":""},"",{"$f":"+IFERROR(VLOOKUP(E256,Listas!$CQ$2:$CW$1104,7,FALSE),\"\")","v":""},"","",""]
[null,null,null,null,{"$f":"IF(D257=\"\",\"\",VLOOKUP(CONCATENATE(C257,D257),Listas!$AT$2:$AV$1104,3,FALSE))","v":""},null,{"$f":"IF(OR(F257=\"\",E257=\"\"),\"\",VLOOKUP(CONCATENATE(E257,Listas!AZ254),Listas!$BC$3:$BI$15430,7,FALSE))","v":""},null,null,{"$f":"IF(G257=\"\",\"\",VLOOKUP(G257,Listas!$BM$3:$BN$16,2,FALSE)*100)","v":""},"",{"$f":"+IFERROR(VLOOKUP(E257,Listas!$CQ$2:$CW$1104,7,FALSE),\"\")","v":""},"","",""]
[null,null,null,null,{"$f":"IF(D258=\"\",\"\",VLOOKUP(CONCATENATE(C258,D258),Listas!$AT$2:$AV$1104,3,FALSE))","v":""},null,{"$f":"IF(OR(F258=\"\",E258=\"\"),\"\",VLOOKUP(CONCATENATE(E258,Listas!AZ255),Listas!$BC$3:$BI$15430,7,FALSE))","v":""},null,null,{"$f":"IF(G258=\"\",\"\",VLOOKUP(G258,Listas!$BM$3:$BN$16,2,FALSE)*100)","v":""},"",{"$f":"+IFERROR(VLOOKUP(E258,Listas!$CQ$2:$CW$1104,7,FALSE),\"\")","v":""},"","",""]
[null,null,null,null,{"$f":"IF(D259=\"\",\"\",VLOOKUP(CONCATENATE(C259,D259),Listas!$AT$2:$AV$1104,3,FALSE))","v":""},null,{"$f":"IF(OR(F259=\"\",E259=\"\"),\"\",VLOOKUP(CONCATENATE(E259,Listas!AZ256),Listas!$BC$3:$BI$15430,7,FALSE))","v":""},null,null,{"$f":"IF(G259=\"\",\"\",VLOOKUP(G259,Listas!$BM$3:$BN$16,2,FALSE)*100)","v":""},"",{"$f":"+IFERROR(VLOOKUP(E259,Listas!$CQ$2:$CW$1104,7,FALSE),\"\")","v":""},"","",""]
[null,null,null,null,{"$f":"IF(D260=\"\",\"\",VLOOKUP(CONCATENATE(C260,D260),Listas!$AT$2:$AV$1104,3,FALSE))","v":""},null,{"$f":"IF(OR(F260=\"\",E260=\"\"),\"\",VLOOKUP(CONCATENATE(E260,Listas!AZ257),Listas!$BC$3:$BI$15430,7,FALSE))","v":""},null,null,{"$f":"IF(G260=\"\",\"\",VLOOKUP(G260,Listas!$BM$3:$BN$16,2,FALSE)*100)","v":""},"",{"$f":"+IFERROR(VLOOKUP(E260,Listas!$CQ$2:$CW$1104,7,FALSE),\"\")","v":""},"","",""]
[null,null,null,null,{"$f":"IF(D261=\"\",\"\",VLOOKUP(CONCATENATE(C261,D261),Listas!$AT$2:$AV$1104,3,FALSE))","v":""},null,{"$f":"IF(OR(F261=\"\",E261=\"\"),\"\",VLOOKUP(CONCATENATE(E261,Listas!AZ258),Listas!$BC$3:$BI$15430,7,FALSE))","v":""},null,null,{"$f":"IF(G261=\"\",\"\",VLOOKUP(G261,Listas!$BM$3:$BN$16,2,FALSE)*100)","v":""},"",{"$f":"+IFERROR(VLOOKUP(E261,Listas!$CQ$2:$CW$1104,7,FALSE),\"\")","v":""},"","",""]
[null,null,null,null,{"$f":"IF(D262=\"\",\"\",VLOOKUP(CONCATENATE(C262,D262),Listas!$AT$2:$AV$1104,3,FALSE))","v":""},null,{"$f":"IF(OR(F262=\"\",E262=\"\"),\"\",VLOOKUP(CONCATENATE(E262,Listas!AZ259),Listas!$BC$3:$BI$15430,7,FALSE))","v":""},null,null,{"$f":"IF(G262=\"\",\"\",VLOOKUP(G262,Listas!$BM$3:$BN$16,2,FALSE)*100)","v":""},{"$f":"+IF(H262=\"\",\"\",IF(H262=\"Sí\",1,0)*100)","v":""},{"$f":"+IFERROR(VLOOKUP(E262,Listas!$CQ$2:$CW$1104,7,FALSE),\"\")","v":""},{"$f":"+IF(I262=\"\",\"\",IF(I262=\"Sí\",1,0)*100)","v":""},"",""]
[null,null,null,null,{"$f":"IF(D263=\"\",\"\",VLOOKUP(CONCATENATE(C263,D263),Listas!$AT$2:$AV$1104,3,FALSE))","v":""},null,{"$f":"IF(OR(F263=\"\",E263=\"\"),\"\",VLOOKUP(CONCATENATE(E263,Listas!AZ260),Listas!$BC$3:$BI$15430,7,FALSE))","v":""},null,null,{"$f":"IF(G263=\"\",\"\",VLOOKUP(G263,Listas!$BM$3:$BN$16,2,FALSE)*100)","v":""},"",{"$f":"+IFERROR(VLOOKUP(E263,Listas!$CQ$2:$CW$1104,7,FALSE),\"\")","v":""},"",{"$f":"IF(E263=\"\",\"\",SUMPRODUCT(J263:M263,$J$2:$M$2))","v":""},{"$f":"+IFERROR(J263*58%,\"\")","v":""}]
[null,null,null,null,{"$f":"IF(D264=\"\",\"\",VLOOKUP(CONCATENATE(C264,D264),Listas!$AT$2:$AV$1104,3,FALSE))","v":""},null,{"$f":"IF(OR(F264=\"\",E264=\"\"),\"\",VLOOKUP(CONCATENATE(E264,Listas!AZ261),Listas!$BC$3:$BI$15430,7,FALSE))","v":""},null,null,{"$f":"IF(G264=\"\",\"\",VLOOKUP(G264,Listas!$BM$3:$BN$16,2,FALSE)*100)","v":""},"",{"$f":"+IFERROR(VLOOKUP(E264,Listas!$CQ$2:$CW$1104,7,FALSE),\"\")","v":""},"","",""]
[null,null,null,null,{"$f":"IF(D265=\"\",\"\",VLOOKUP(CONCATENATE(C265,D265),Listas!$AT$2:$AV$1104,3,FALSE))","v":""},null,{"$f":"IF(OR(F265=\"\",E265=\"\"),\"\",VLOOKUP(CONCATENATE(E265,Listas!AZ262),Listas!$BC$3:$BI$15430,7,FALSE))","v":""},null,null,{"$f":"IF(G265=\"\",\"\",VLOOKUP(G265,Listas!$BM$3:$BN$16,2,FALSE)*100)","v":""},"",{"$f":"+IFERROR(VLOOKUP(E265,Listas!$CQ$2:$CW$1104,7,FALSE),\"\")","v":""},"","",""]
[null,null,null,null,{"$f":"IF(D266=\"\",\"\",VLOOKUP(CONCATENATE(C266,D266),Listas!$AT$2:$AV$1104,3,FALSE))","v":""},null,{"$f":"IF(OR(F266=\"\",E266=\"\"),\"\",VLOOKUP(CONCATENATE(E266,Listas!AZ263),Listas!$BC$3:$BI$15430,7,FALSE))","v":""},null,null,{"$f":"IF(G266=\"\",\"\",VLOOKUP(G266,Listas!$BM$3:$BN$16,2,FALSE)*100)","v":""},"",{"$f":"+IFERROR(VLOOKUP(E266,Listas!$CQ$2:$CW$1104,7,FALSE),\"\")","v":""},"","",""]
[null,null,null,null,{"$f":"IF(D267=\"\",\"\",VLOOKUP(CONCATENATE(C267,D267),Listas!$AT$2:$AV$1104,3,FALSE))","v":""},null,{"$f":"IF(OR(F267=\"\",E267=\"\"),\"\",VLOOKUP(CONCATENATE(E267,Listas!AZ264),Listas!$BC$3:$BI$15430,7,FALSE))","v":""},null,null,{"$f":"IF(G267=\"\",\"\",VLOOKUP(G267,Listas!$BM$3:$BN$16,2,FALSE)*100)","v":""},"",{"$f":"+IFERROR(VLOOKUP(E267,Listas!$CQ$2:$CW$1104,7,FALSE),\"\")","v":""},"","",""]
[null,null,null,null,{"$f":"IF(D268=\"\",\"\",VLOOKUP(CONCATENATE(C268,D268),Listas!$AT$2:$AV$1104,3,FALSE))","v":""},null,{"$f":"IF(OR(F268=\"\",E268=\"\"),\"\",VLOOKUP(CONCATENATE(E268,Listas!AZ265),Listas!$BC$3:$BI$15430,7,FALSE))","v":""},null,null,{"$f":"IF(G268=\"\",\"\",VLOOKUP(G268,Listas!$BM$3:$BN$16,2,FALSE)*100)","v":""},"",{"$f":"+IFERROR(VLOOKUP(E268,Listas!$CQ$2:$CW$1104,7,FALSE),\"\")","v":""},"","",""]
[null,null,null,null,{"$f":"IF(D269=\"\",\"\",VLOOKUP(CONCATENATE(C269,D269),Listas!$AT$2:$AV$1104,3,FALSE))","v":""},null,{"$f":"IF(OR(F269=\"\",E269=\"\"),\"\",VLOOKUP(CONCATENATE(E269,Listas!AZ266),Listas!$BC$3:$BI$15430,7,FALSE))","v":""},null,null,{"$f":"IF(G269=\"\",\"\",VLOOKUP(G269,Listas!$BM$3:$BN$16,2,FALSE)*100)","v":""},"",{"$f":"+IFERROR(VLOOKUP(E269,Listas!$CQ$2:$CW$1104,7,FALSE),\"\")","v":""},"","",""]
[null,null,null,null,{"$f":"IF(D270=\"\",\"\",VLOOKUP(CONCATENATE(C270,D270),Listas!$AT$2:$AV$1104,3,FALSE))","v":""},null,{"$f":"IF(OR(F270=\"\",E270=\"\"),\"\",VLOOKUP(CONCATENATE(E270,Listas!AZ267),Listas!$BC$3:$BI$15430,7,FALSE))","v":""},null,null,{"$f":"IF(G270=\"\",\"\",VLOOKUP(G270,Listas!$BM$3:$BN$16,2,FALSE)*100)","v":""},"",{"$f":"+IFERROR(VLOOKUP(E270,Listas!$CQ$2:$CW$1104,7,FALSE),\"\")","v":""},"","",""]
[null,null,null,null,{"$f":"IF(D271=\"\",\"\",VLOOKUP(CONCATENATE(C271,D271),Listas!$AT$2:$AV$1104,3,FALSE))","v":""},null,{"$f":"IF(OR(F271=\"\",E271=\"\"),\"\",VLOOKUP(CONCATENATE(E271,Listas!AZ268),Listas!$BC$3:$BI$15430,7,FALSE))","v":""},null,null,{"$f":"IF(G271=\"\",\"\",VLOOKUP(G271,Listas!$BM$3:$BN$16,2,FALSE)*100)","v":""},"",{"$f":"+IFERROR(VLOOKUP(E271,Listas!$CQ$2:$CW$1104,7,FALSE),\"\")","v":""},"","",""]
[null,null,null,null,{"$f":"IF(D272=\"\",\"\",VLOOKUP(CONCATENATE(C272,D272),Listas!$AT$2:$AV$1104,3,FALSE))","v":""},null,{"$f":"IF(OR(F272=\"\",E272=\"\"),\"\",VLOOKUP(CONCATENATE(E272,Listas!AZ269),Listas!$BC$3:$BI$15430,7,FALSE))","v":""},null,null,{"$f":"IF(G272=\"\",\"\",VLOOKUP(G272,Listas!$BM$3:$BN$16,2,FALSE)*100)","v":""},"",{"$f":"+IFERROR(VLOOKUP(E272,Listas!$CQ$2:$CW$1104,7,FALSE),\"\")","v":""},"","",""]
[null,null,null,null,{"$f":"IF(D273=\"\",\"\",VLOOKUP(CONCATENATE(C273,D273),Listas!$AT$2:$AV$1104,3,FALSE))","v":""},null,{"$f":"IF(OR(F273=\"\",E273=\"\"),\"\",VLOOKUP(CONCATENATE(E273,Listas!AZ270),Listas!$BC$3:$BI$15430,7,FALSE))","v":""},null,null,{"$f":"IF(G273=\"\",\"\",VLOOKUP(G273,Listas!$BM$3:$BN$16,2,FALSE)*100)","v":""},"",{"$f":"+IFERROR(VLOOKUP(E273,Listas!$CQ$2:$CW$1104,7,FALSE),\"\")","v":""},"","",""]
[null,null,null,null,{"$f":"IF(D274=\"\",\"\",VLOOKUP(CONCATENATE(C274,D274),Listas!$AT$2:$AV$1104,3,FALSE))","v":""},null,{"$f":"IF(OR(F274=\"\",E274=\"\"),\"\",VLOOKUP(CONCATENATE(E274,Listas!AZ271),Listas!$BC$3:$BI$15430,7,FALSE))","v":""},null,null,{"$f":"IF(G274=\"\",\"\",VLOOKUP(G274,Listas!$BM$3:$BN$16,2,FALSE)*100)","v":""},"",{"$f":"+IFERROR(VLOOKUP(E274,Listas!$CQ$2:$CW$1104,7,FALSE),\"\")","v":""},"","",""]
[null,null,null,null,{"$f":"IF(D275=\"\",\"\",VLOOKUP(CONCATENATE(C275,D275),Listas!$AT$2:$AV$1104,3,FALSE))","v":""},null,{"$f":"IF(OR(F275=\"\",E275=\"\"),\"\",VLOOKUP(CONCATENATE(E275,Listas!AZ272),Listas!$BC$3:$BI$15430,7,FALSE))","v":""},null,null,{"$f":"IF(G275=\"\",\"\",VLOOKUP(G275,Listas!$BM$3:$BN$16,2,FALSE)*100)","v":""},"",{"$f":"+IFERROR(VLOOKUP(E275,Listas!$CQ$2:$CW$1104,7,FALSE),\"\")","v":""},"","",""]
[null,null,null,null,{"$f":"IF(D276=\"\",\"\",VLOOKUP(CONCATENATE(C276,D276),Listas!$AT$2:$AV$1104,3,FALSE))","v":""},null,{"$f":"IF(OR(F276=\"\",E276=\"\"),\"\",VLOOKUP(CONCATENATE(E276,Listas!AZ273),Listas!$BC$3:$BI$15430,7,FALSE))","v":""},null,null,{"$f":"IF(G276=\"\",\"\",VLOOKUP(G276,Listas!$BM$3:$BN$16,2,FALSE)*100)","v":""},"",{"$f":"+IFERROR(VLOOKUP(E276,Listas!$CQ$2:$CW$1104,7,FALSE),\"\")","v":""},"","",""]
[null,null,null,null,{"$f":"IF(D277=\"\",\"\",VLOOKUP(CONCATENATE(C277,D277),Listas!$AT$2:$AV$1104,3,FALSE))","v":""},null,{"$f":"IF(OR(F277=\"\",E277=\"\"),\"\",VLOOKUP(CONCATENATE(E277,Listas!AZ274),Listas!$BC$3:$BI$15430,7,FALSE))","v":""},null,null,{"$f":"IF(G277=\"\",\"\",VLOOKUP(G277,Listas!$BM$3:$BN$16,2,FALSE)*100)","v":""},"",{"$f":"+IFERROR(VLOOKUP(E277,Listas!$CQ$2:$CW$1104,7,FALSE),\"\")","v":""},"","",""]
[null,null,null,null,{"$f":"IF(D278=\"\",\"\",VLOOKUP(CONCATENATE(C278,D278),Listas!$AT$2:$AV$1104,3,FALSE))","v":""},null,{"$f":"IF(OR(F278=\"\",E278=\"\"),\"\",VLOOKUP(CONCATENATE(E278,Listas!AZ275),Listas!$BC$3:$BI$15430,7,FALSE))","v":""},null,null,{"$f":"IF(G278=\"\",\"\",VLOOKUP(G278,Listas!$BM$3:$BN$16,2,FALSE)*100)","v":""},"",{"$f":"+IFERROR(VLOOKUP(E278,Listas!$CQ$2:$CW$1104,7,FALSE),\"\")","v":""},"","",""]
[null,null,null,null,{"$f":"IF(D279=\"\",\"\",VLOOKUP(CONCATENATE(C279,D279),Listas!$AT$2:$AV$1104,3,FALSE))","v":""},null,{"$f":"IF(OR(F279=\"\",E279=\"\"),\"\",VLOOKUP(CONCATENATE(E279,Listas!AZ276),Listas!$BC$3:$BI$15430,7,FALSE))","v":""},null,null,{"$f":"IF(G279=\"\",\"\",VLOOKUP(G279,Listas!$BM$3:$BN$16,2,FALSE)*100)","v":""},"",{"$f":"+IFERROR(VLOOKUP(E279,Listas!$CQ$2:$CW$1104,7,FALSE),\"\")","v":""},"","",""]
[null,null,null,null,{"$f":"IF(D280=\"\",\"\",VLOOKUP(CONCATENATE(C280,D280),Listas!$AT$2:$AV$1104,3,FALSE))","v":""},null,{"$f":"IF(OR(F280=\"\",E280=\"\"),\"\",VLOOKUP(CONCATENATE(E280,Listas!AZ277),Listas!$BC$3:$BI$15430,7,FALSE))","v":""},null,null,{"$f":"IF(G280=\"\",\"\",VLOOKUP(G280,Listas!$BM$3:$BN$16,2,FALSE)*100)","v":""},"",{"$f":"+IFERROR(VLOOKUP(E280,Listas!$CQ$2:$CW$1104,7,FALSE),\"\")","v":""},"","",""]
[null,null,null,null,{"$f":"IF(D281=\"\",\"\",VLOOKUP(CONCATENATE(C281,D281),Listas!$AT$2:$AV$1104,3,FALSE))","v":""},null,{"$f":"IF(OR(F281=\"\",E281=\"\"),\"\",VLOOKUP(CONCATENATE(E281,Listas!AZ278),Listas!$BC$3:$BI$15430,7,FALSE))","v":""},null,null,{"$f":"IF(G281=\"\",\"\",VLOOKUP(G281,Listas!$BM$3:$BN$16,2,FALSE)*100)","v":""},"",{"$f":"+IFERROR(VLOOKUP(E281,Listas!$CQ$2:$CW$1104,7,FALSE),\"\")","v":""},"","",""]
[null,null,null,null,{"$f":"IF(D282=\"\",\"\",VLOOKUP(CONCATENATE(C282,D282),Listas!$AT$2:$AV$1104,3,FALSE))","v":""},null,{"$f":"IF(OR(F282=\"\",E282=\"\"),\"\",VLOOKUP(CONCATENATE(E282,Listas!AZ279),Listas!$BC$3:$BI$15430,7,FALSE))","v":""},null,null,{"$f":"IF(G282=\"\",\"\",VLOOKUP(G282,Listas!$BM$3:$BN$16,2,FALSE)*100)","v":""},"",{"$f":"+IFERROR(VLOOKUP(E282,Listas!$CQ$2:$CW$1104,7,FALSE),\"\")","v":""},"","",""]
[null,null,null,null,{"$f":"IF(D283=\"\",\"\",VLOOKUP(CONCATENATE(C283,D283),Listas!$AT$2:$AV$1104,3,FALSE))","v":""},null,{"$f":"IF(OR(F283=\"\",E283=\"\"),\"\",VLOOKUP(CONCATENATE(E283,Listas!AZ280),Listas!$BC$3:$BI$15430,7,FALSE))","v":""},null,null,{"$f":"IF(G283=\"\",\"\",VLOOKUP(G283,Listas!$BM$3:$BN$16,2,FALSE)*100)","v":""},"",{"$f":"+IFERROR(VLOOKUP(E283,Listas!$CQ$2:$CW$1104,7,FALSE),\"\")","v":""},"","",""]
[null,null,null,null,{"$f":"IF(D284=\"\",\"\",VLOOKUP(CONCATENATE(C284,D284),Listas!$AT$2:$AV$1104,3,FALSE))","v":""},null,{"$f":"IF(OR(F284=\"\",E284=\"\"),\"\",VLOOKUP(CONCATENATE(E284,Listas!AZ281),Listas!$BC$3:$BI$15430,7,FALSE))","v":""},null,null,{"$f":"IF(G284=\"\",\"\",VLOOKUP(G284,Listas!$BM$3:$BN$16,2,FALSE)*100)","v":""},"",{"$f":"+IFERROR(VLOOKUP(E284,Listas!$CQ$2:$CW$1104,7,FALSE),\"\")","v":""},"","",""]
[null,null,null,null,{"$f":"IF(D285=\"\",\"\",VLOOKUP(CONCATENATE(C285,D285),Listas!$AT$2:$AV$1104,3,FALSE))","v":""},null,{"$f":"IF(OR(F285=\"\",E285=\"\"),\"\",VLOOKUP(CONCATENATE(E285,Listas!AZ282),Listas!$BC$3:$BI$15430,7,FALSE))","v":""},null,null,{"$f":"IF(G285=\"\",\"\",VLOOKUP(G285,Listas!$BM$3:$BN$16,2,FALSE)*100)","v":""},"",{"$f":"+IFERROR(VLOOKUP(E285,Listas!$CQ$2:$CW$1104,7,FALSE),\"\")","v":""},"","",""]
[null,null,null,null,{"$f":"IF(D286=\"\",\"\",VLOOKUP(CONCATENATE(C286,D286),Listas!$AT$2:$AV$1104,3,FALSE))","v":""},null,{"$f":"IF(OR(F286=\"\",E286=\"\"),\"\",VLOOKUP(CONCATENATE(E286,Listas!AZ283),Listas!$BC$3:$BI$15430,7,FALSE))","v":""},null,null,{"$f":"IF(G286=\"\",\"\",VLOOKUP(G286,Listas!$BM$3:$BN$16,2,FALSE)*100)","v":""},"",{"$f":"+IFERROR(VLOOKUP(E286,Listas!$CQ$2:$CW$1104,7,FALSE),\"\")","v":""},"","",""]
[null,null,null,null,{"$f":"IF(D287=\"\",\"\",VLOOKUP(CONCATENATE(C287,D287),Listas!$AT$2:$AV$1104,3,FALSE))","v":""},null,{"$f":"IF(OR(F287=\"\",E287=\"\"),\"\",VLOOKUP(CONCATENATE(E287,Listas!AZ284),Listas!$BC$3:$BI$15430,7,FALSE))","v":""},null,null,{"$f":"IF(G287=\"\",\"\",VLOOKUP(G287,Listas!$BM$3:$BN$16,2,FALSE)*100)","v":""},"",{"$f":"+IFERROR(VLOOKUP(E287,Listas!$CQ$2:$CW$1104,7,FALSE),\"\")","v":""},"","",""]
[null,null,null,null,{"$f":"IF(D288=\"\",\"\",VLOOKUP(CONCATENATE(C288,D288),Listas!$AT$2:$AV$1104,3,FALSE))","v":""},null,{"$f":"IF(OR(F288=\"\",E288=\"\"),\"\",VLOOKUP(CONCATENATE(E288,Listas!AZ285),Listas!$BC$3:$BI$15430,7,FALSE))","v":""},null,null,{"$f":"IF(G288=\"\",\"\",VLOOKUP(G288,Listas!$BM$3:$BN$16,2,FALSE)*100)","v":""},"",{"$f":"+IFERROR(VLOOKUP(E288,Listas!$CQ$2:$CW$1104,7,FALSE),\"\")","v":""},"","",""]
[null,null,null,null,{"$f":"IF(D289=\"\",\"\",VLOOKUP(CONCATENATE(C289,D289),Listas!$AT$2:$AV$1104,3,FALSE))","v":""},null,{"$f":"IF(OR(F289=\"\",E289=\"\"),\"\",VLOOKUP(CONCATENATE(E289,Listas!AZ286),Listas!$BC$3:$BI$15430,7,FALSE))","v":""},null,null,{"$f":"IF(G289=\"\",\"\",VLOOKUP(G289,Listas!$BM$3:$BN$16,2,FALSE)*100)","v":""},"",{"$f":"+IFERROR(VLOOKUP(E289,Listas!$CQ$2:$CW$1104,7,FALSE),\"\")","v":""},"","",""]
[null,null,null,null,{"$f":"IF(D290=\"\",\"\",VLOOKUP(CONCATENATE(C290,D290),Listas!$AT$2:$AV$1104,3,FALSE))","v":""},null,{"$f":"IF(OR(F290=\"\",E290=\"\"),\"\",VLOOKUP(CONCATENATE(E290,Listas!AZ287),Listas!$BC$3:$BI$15430,7,FALSE))","v":""},null,null,{"$f":"IF(G290=\"\",\"\",VLOOKUP(G290,Listas!$BM$3:$BN$16,2,FALSE)*100)","v":""},"",{"$f":"+IFERROR(VLOOKUP(E290,Listas!$CQ$2:$CW$1104,7,FALSE),\"\")","v":""},"","",""]
[null,null,null,null,{"$f":"IF(D291=\"\",\"\",VLOOKUP(CONCATENATE(C291,D291),Listas!$AT$2:$AV$1104,3,FALSE))","v":""},null,{"$f":"IF(OR(F291=\"\",E291=\"\"),\"\",VLOOKUP(CONCATENATE(E291,Listas!AZ288),Listas!$BC$3:$BI$15430,7,FALSE))","v":""},null,null,{"$f":"IF(G291=\"\",\"\",VLOOKUP(G291,Listas!$BM$3:$BN$16,2,FALSE)*100)","v":""},"",{"$f":"+IFERROR(VLOOKUP(E291,Listas!$CQ$2:$CW$1104,7,FALSE),\"\")","v":""},"","",""]
[null,null,null,null,{"$f":"IF(D292=\"\",\"\",VLOOKUP(CONCATENATE(C292,D292),Listas!$AT$2:$AV$1104,3,FALSE))","v":""},null,{"$f":"IF(OR(F292=\"\",E292=\"\"),\"\",VLOOKUP(CONCATENATE(E292,Listas!AZ289),Listas!$BC$3:$BI$15430,7,FALSE))","v":""},null,null,{"$f":"IF(G292=\"\",\"\",VLOOKUP(G292,Listas!$BM$3:$BN$16,2,FALSE)*100)","v":""},"",{"$f":"+IFERROR(VLOOKUP(E292,Listas!$CQ$2:$CW$1104,7,FALSE),\"\")","v":""},"","",""]
[null,null,null,null,{"$f":"IF(D293=\"\",\"\",VLOOKUP(CONCATENATE(C293,D293),Listas!$AT$2:$AV$1104,3,FALSE))","v":""},null,{"$f":"IF(OR(F293=\"\",E293=\"\"),\"\",VLOOKUP(CONCATENATE(E293,Listas!AZ290),Listas!$BC$3:$BI$15430,7,FALSE))","v":""},null,null,{"$f":"IF(G293=\"\",\"\",VLOOKUP(G293,Listas!$BM$3:$BN$16,2,FALSE)*100)","v":""},"",{"$f":"+IFERROR(VLOOKUP(E293,Listas!$CQ$2:$CW$1104,7,FALSE),\"\")","v":""},"","",""]
[null,null,null,null,{"$f":"IF(D294=\"\",\"\",VLOOKUP(CONCATENATE(C294,D294),Listas!$AT$2:$AV$1104,3,FALSE))","v":""},null,{"$f":"IF(OR(F294=\"\",E294=\"\"),\"\",VLOOKUP(CONCATENATE(E294,Listas!AZ291),Listas!$BC$3:$BI$15430,7,FALSE))","v":""},null,null,{"$f":"IF(G294=\"\",\"\",VLOOKUP(G294,Listas!$BM$3:$BN$16,2,FALSE)*100)","v":""},"",{"$f":"+IFERROR(VLOOKUP(E294,Listas!$CQ$2:$CW$1104,7,FALSE),\"\")","v":""},"","",""]
[null,null,null,null,{"$f":"IF(D295=\"\",\"\",VLOOKUP(CONCATENATE(C295,D295),Listas!$AT$2:$AV$1104,3,FALSE))","v":""},null,{"$f":"IF(OR(F295=\"\",E295=\"\"),\"\",VLOOKUP(CONCATENATE(E295,Listas!AZ292),Listas!$BC$3:$BI$15430,7,FALSE))","v":""},null,null,{"$f":"IF(G295=\"\",\"\",VLOOKUP(G295,Listas!$BM$3:$BN$16,2,FALSE)*100)","v":""},"",{"$f":"+IFERROR(VLOOKUP(E295,Listas!$CQ$2:$CW$1104,7,FALSE),\"\")","v":""},"","",""]
[null,null,null,null,{"$f":"IF(D296=\"\",\"\",VLOOKUP(CONCATENATE(C296,D296),Listas!$AT$2:$AV$1104,3,FALSE))","v":""},null,{"$f":"IF(OR(F296=\"\",E296=\"\"),\"\",VLOOKUP(CONCATENATE(E296,Listas!AZ293),Listas!$BC$3:$BI$15430,7,FALSE))","v":""},null,null,{"$f":"IF(G296=\"\",\"\",VLOOKUP(G296,Listas!$BM$3:$BN$16,2,FALSE)*100)","v":""},"",{"$f":"+IFERROR(VLOOKUP(E296,Listas!$CQ$2:$CW$1104,7,FALSE),\"\")","v":""},"","",""]
[null,null,null,null,{"$f":"IF(D297=\"\",\"\",VLOOKUP(CONCATENATE(C297,D297),Listas!$AT$2:$AV$1104,3,FALSE))","v":""},null,{"$f":"IF(OR(F297=\"\",E297=\"\"),\"\",VLOOKUP(CONCATENATE(E297,Listas!AZ294),Listas!$BC$3:$BI$15430,7,FALSE))","v":""},null,null,{"$f":"IF(G297=\"\",\"\",VLOOKUP(G297,Listas!$BM$3:$BN$16,2,FALSE)*100)","v":""},"",{"$f":"+IFERROR(VLOOKUP(E297,Listas!$CQ$2:$CW$1104,7,FALSE),\"\")","v":""},"","",""]
[null,null,null,null,{"$f":"IF(D298=\"\",\"\",VLOOKUP(CONCATENATE(C298,D298),Listas!$AT$2:$AV$1104,3,FALSE))","v":""},null,{"$f":"IF(OR(F298=\"\",E298=\"\"),\"\",VLOOKUP(CONCATENATE(E298,Listas!AZ295),Listas!$BC$3:$BI$15430,7,FALSE))","v":""},null,null,{"$f":"IF(G298=\"\",\"\",VLOOKUP(G298,Listas!$BM$3:$BN$16,2,FALSE)*100)","v":""},"",{"$f":"+IFERROR(VLOOKUP(E298,Listas!$CQ$2:$CW$1104,7,FALSE),\"\")","v":""},"","",""]
[null,null,null,null,{"$f":"IF(D299=\"\",\"\",VLOOKUP(CONCATENATE(C299,D299),Listas!$AT$2:$AV$1104,3,FALSE))","v":""},null,{"$f":"IF(OR(F299=\"\",E299=\"\"),\"\",VLOOKUP(CONCATENATE(E299,Listas!AZ296),Listas!$BC$3:$BI$15430,7,FALSE))","v":""},null,null,{"$f":"IF(G299=\"\",\"\",VLOOKUP(G299,Listas!$BM$3:$BN$16,2,FALSE)*100)","v":""},"",{"$f":"+IFERROR(VLOOKUP(E299,Listas!$CQ$2:$CW$1104,7,FALSE),\"\")","v":""},"","",""]
[null,null,null,null,{"$f":"IF(D300=\"\",\"\",VLOOKUP(CONCATENATE(C300,D300),Listas!$AT$2:$AV$1104,3,FALSE))","v":""},null,{"$f":"IF(OR(F300=\"\",E300=\"\"),\"\",VLOOKUP(CONCATENATE(E300,Listas!AZ297),Listas!$BC$3:$BI$15430,7,FALSE))","v":""},null,null,{"$f":"IF(G300=\"\",\"\",VLOOKUP(G300,Listas!$BM$3:$BN$16,2,FALSE)*100)","v":""},"",{"$f":"+IFERROR(VLOOKUP(E300,Listas!$CQ$2:$CW$1104,7,FALSE),\"\")","v":""},"","",""]
[null,null,null,null,{"$f":"IF(D301=\"\",\"\",VLOOKUP(CONCATENATE(C301,D301),Listas!$AT$2:$AV$1104,3,FALSE))","v":""},null,{"$f":"IF(OR(F301=\"\",E301=\"\"),\"\",VLOOKUP(CONCATENATE(E301,Listas!AZ298),Listas!$BC$3:$BI$15430,7,FALSE))","v":""},null,null,{"$f":"IF(G301=\"\",\"\",VLOOKUP(G301,Listas!$BM$3:$BN$16,2,FALSE)*100)","v":""},"",{"$f":"+IFERROR(VLOOKUP(E301,Listas!$CQ$2:$CW$1104,7,FALSE),\"\")","v":""},"","",""]
[null,null,null,null,{"$f":"IF(D302=\"\",\"\",VLOOKUP(CONCATENATE(C302,D302),Listas!$AT$2:$AV$1104,3,FALSE))","v":""},null,{"$f":"IF(OR(F302=\"\",E302=\"\"),\"\",VLOOKUP(CONCATENATE(E302,Listas!AZ299),Listas!$BC$3:$BI$15430,7,FALSE))","v":""},null,null,{"$f":"IF(G302=\"\",\"\",VLOOKUP(G302,Listas!$BM$3:$BN$16,2,FALSE)*100)","v":""},"",{"$f":"+IFERROR(VLOOKUP(E302,Listas!$CQ$2:$CW$1104,7,FALSE),\"\")","v":""},"","",""]
[null,null,null,null,{"$f":"IF(D303=\"\",\"\",VLOOKUP(CONCATENATE(C303,D303),Listas!$AT$2:$AV$1104,3,FALSE))","v":""},null,{"$f":"IF(OR(F303=\"\",E303=\"\"),\"\",VLOOKUP(CONCATENATE(E303,Listas!AZ300),Listas!$BC$3:$BI$15430,7,FALSE))","v":""},null,null,{"$f":"IF(G303=\"\",\"\",VLOOKUP(G303,Listas!$BM$3:$BN$16,2,FALSE)*100)","v":""},"",{"$f":"+IFERROR(VLOOKUP(E303,Listas!$CQ$2:$CW$1104,7,FALSE),\"\")","v":""},"","",""]
[null,null,null,null,{"$f":"IF(D304=\"\",\"\",VLOOKUP(CONCATENATE(C304,D304),Listas!$AT$2:$AV$1104,3,FALSE))","v":""},null,{"$f":"IF(OR(F304=\"\",E304=\"\"),\"\",VLOOKUP(CONCATENATE(E304,Listas!AZ301),Listas!$BC$3:$BI$15430,7,FALSE))","v":""},null,null,{"$f":"IF(G304=\"\",\"\",VLOOKUP(G304,Listas!$BM$3:$BN$16,2,FALSE)*100)","v":""},"",{"$f":"+IFERROR(VLOOKUP(E304,Listas!$CQ$2:$CW$1104,7,FALSE),\"\")","v":""},"","",""]
[null,null,null,null,{"$f":"IF(D305=\"\",\"\",VLOOKUP(CONCATENATE(C305,D305),Listas!$AT$2:$AV$1104,3,FALSE))","v":""},null,{"$f":"IF(OR(F305=\"\",E305=\"\"),\"\",VLOOKUP(CONCATENATE(E305,Listas!AZ302),Listas!$BC$3:$BI$15430,7,FALSE))","v":""},null,null,{"$f":"IF(G305=\"\",\"\",VLOOKUP(G305,Listas!$BM$3:$BN$16,2,FALSE)*100)","v":""},"",{"$f":"+IFERROR(VLOOKUP(E305,Listas!$CQ$2:$CW$1104,7,FALSE),\"\")","v":""},"","",""]
[null,null,null,null,{"$f":"IF(D306=\"\",\"\",VLOOKUP(CONCATENATE(C306,D306),Listas!$AT$2:$AV$1104,3,FALSE))","v":""},null,{"$f":"IF(OR(F306=\"\",E306=\"\"),\"\",VLOOKUP(CONCATENATE(E306,Listas!AZ303),Listas!$BC$3:$BI$15430,7,FALSE))","v":""},null,null,{"$f":"IF(G306=\"\",\"\",VLOOKUP(G306,Listas!$BM$3:$BN$16,2,FALSE)*100)","v":""},"",{"$f":"+IFERROR(VLOOKUP(E306,Listas!$CQ$2:$CW$1104,7,FALSE),\"\")","v":""},"","",""]
[null,null,null,null,{"$f":"IF(D307=\"\",\"\",VLOOKUP(CONCATENATE(C307,D307),Listas!$AT$2:$AV$1104,3,FALSE))","v":""},null,{"$f":"IF(OR(F307=\"\",E307=\"\"),\"\",VLOOKUP(CONCATENATE(E307,Listas!AZ304),Listas!$BC$3:$BI$15430,7,FALSE))","v":""},null,null,{"$f":"IF(G307=\"\",\"\",VLOOKUP(G307,Listas!$BM$3:$BN$16,2,FALSE)*100)","v":""},"",{"$f":"+IFERROR(VLOOKUP(E307,Listas!$CQ$2:$CW$1104,7,FALSE),\"\")","v":""},"","",""]
[null,null,null,null,{"$f":"IF(D308=\"\",\"\",VLOOKUP(CONCATENATE(C308,D308),Listas!$AT$2:$AV$1104,3,FALSE))","v":""},null,{"$f":"IF(OR(F308=\"\",E308=\"\"),\"\",VLOOKUP(CONCATENATE(E308,Listas!AZ305),Listas!$BC$3:$BI$15430,7,FALSE))","v":""},null,null,{"$f":"IF(G308=\"\",\"\",VLOOKUP(G308,Listas!$BM$3:$BN$16,2,FALSE)*100)","v":""},"",{"$f":"+IFERROR(VLOOKUP(E308,Listas!$CQ$2:$CW$1104,7,FALSE),\"\")","v":""},"","",""]
[null,null,null,null,{"$f":"IF(D309=\"\",\"\",VLOOKUP(CONCATENATE(C309,D309),Listas!$AT$2:$AV$1104,3,FALSE))","v":""},null,{"$f":"IF(OR(F309=\"\",E309=\"\"),\"\",VLOOKUP(CONCATENATE(E309,Listas!AZ306),Listas!$BC$3:$BI$15430,7,FALSE))","v":""},null,null,{"$f":"IF(G309=\"\",\"\",VLOOKUP(G309,Listas!$BM$3:$BN$16,2,FALSE)*100)","v":""},"",{"$f":"+IFERROR(VLOOKUP(E309,Listas!$CQ$2:$CW$1104,7,FALSE),\"\")","v":""},"","",""]
[null,null,null,null,{"$f":"IF(D310=\"\",\"\",VLOOKUP(CONCATENATE(C310,D310),Listas!$AT$2:$AV$1104,3,FALSE))","v":""},null,{"$f":"IF(OR(F310=\"\",E310=\"\"),\"\",VLOOKUP(CONCATENATE(E310,Listas!AZ307),Listas!$BC$3:$BI$15430,7,FALSE))","v":""},null,null,{"$f":"IF(G310=\"\",\"\",VLOOKUP(G310,Listas!$BM$3:$BN$16,2,FALSE)*100)","v":""},"",{"$f":"+IFERROR(VLOOKUP(E310,Listas!$CQ$2:$CW$1104,7,FALSE),\"\")","v":""},"","",""]
[null,null,null,null,{"$f":"IF(D311=\"\",\"\",VLOOKUP(CONCATENATE(C311,D311),Listas!$AT$2:$AV$1104,3,FALSE))","v":""},null,{"$f":"IF(OR(F311=\"\",E311=\"\"),\"\",VLOOKUP(CONCATENATE(E311,Listas!AZ308),Listas!$BC$3:$BI$15430,7,FALSE))","v":""},null,null,{"$f":"IF(G311=\"\",\"\",VLOOKUP(G311,Listas!$BM$3:$BN$16,2,FALSE)*100)","v":""},"",{"$f":"+IFERROR(VLOOKUP(E311,Listas!$CQ$2:$CW$1104,7,FALSE),\"\")","v":""},"","",""]
[null,null,null,null,{"$f":"IF(D312=\"\",\"\",VLOOKUP(CONCATENATE(C312,D312),Listas!$AT$2:$AV$1104,3,FALSE))","v":""},null,{"$f":"IF(OR(F312=\"\",E312=\"\"),\"\",VLOOKUP(CONCATENATE(E312,Listas!AZ309),Listas!$BC$3:$BI$15430,7,FALSE))","v":""},null,null,{"$f":"IF(G312=\"\",\"\",VLOOKUP(G312,Listas!$BM$3:$BN$16,2,FALSE)*100)","v":""},"",{"$f":"+IFERROR(VLOOKUP(E312,Listas!$CQ$2:$CW$1104,7,FALSE),\"\")","v":""},"","",""]
[null,null,null,null,{"$f":"IF(D313=\"\",\"\",VLOOKUP(CONCATENATE(C313,D313),Listas!$AT$2:$AV$1104,3,FALSE))","v":""},null,{"$f":"IF(OR(F313=\"\",E313=\"\"),\"\",VLOOKUP(CONCATENATE(E313,Listas!AZ310),Listas!$BC$3:$BI$15430,7,FALSE))","v":""},null,null,{"$f":"IF(G313=\"\",\"\",VLOOKUP(G313,Listas!$BM$3:$BN$16,2,FALSE)*100)","v":""},"",{"$f":"+IFERROR(VLOOKUP(E313,Listas!$CQ$2:$CW$1104,7,FALSE),\"\")","v":""},"","",""]
[null,null,null,null,{"$f":"IF(D314=\"\",\"\",VLOOKUP(CONCATENATE(C314,D314),Listas!$AT$2:$AV$1104,3,FALSE))","v":""},null,{"$f":"IF(OR(F314=\"\",E314=\"\"),\"\",VLOOKUP(CONCATENATE(E314,Listas!AZ311),Listas!$BC$3:$BI$15430,7,FALSE))","v":""},null,null,{"$f":"IF(G314=\"\",\"\",VLOOKUP(G314,Listas!$BM$3:$BN$16,2,FALSE)*100)","v":""},"",{"$f":"+IFERROR(VLOOKUP(E314,Listas!$CQ$2:$CW$1104,7,FALSE),\"\")","v":""},"","",""]
[null,null,null,null,{"$f":"IF(D315=\"\",\"\",VLOOKUP(CONCATENATE(C315,D315),Listas!$AT$2:$AV$1104,3,FALSE))","v":""},null,{"$f":"IF(OR(F315=\"\",E315=\"\"),\"\",VLOOKUP(CONCATENATE(E315,Listas!AZ312),Listas!$BC$3:$BI$15430,7,FALSE))","v":""},null,null,{"$f":"IF(G315=\"\",\"\",VLOOKUP(G315,Listas!$BM$3:$BN$16,2,FALSE)*100)","v":""},"",{"$f":"+IFERROR(VLOOKUP(E315,Listas!$CQ$2:$CW$1104,7,FALSE),\"\")","v":""},"","",""]
[null,null,null,null,{"$f":"IF(D316=\"\",\"\",VLOOKUP(CONCATENATE(C316,D316),Listas!$AT$2:$AV$1104,3,FALSE))","v":""},null,{"$f":"IF(OR(F316=\"\",E316=\"\"),\"\",VLOOKUP(CONCATENATE(E316,Listas!AZ313),Listas!$BC$3:$BI$15430,7,FALSE))","v":""},null,null,{"$f":"IF(G316=\"\",\"\",VLOOKUP(G316,Listas!$BM$3:$BN$16,2,FALSE)*100)","v":""},"",{"$f":"+IFERROR(VLOOKUP(E316,Listas!$CQ$2:$CW$1104,7,FALSE),\"\")","v":""},"","",""]
[null,null,null,null,{"$f":"IF(D317=\"\",\"\",VLOOKUP(CONCATENATE(C317,D317),Listas!$AT$2:$AV$1104,3,FALSE))","v":""},null,{"$f":"IF(OR(F317=\"\",E317=\"\"),\"\",VLOOKUP(CONCATENATE(E317,Listas!AZ314),Listas!$BC$3:$BI$15430,7,FALSE))","v":""},null,null,{"$f":"IF(G317=\"\",\"\",VLOOKUP(G317,Listas!$BM$3:$BN$16,2,FALSE)*100)","v":""},"",{"$f":"+IFERROR(VLOOKUP(E317,Listas!$CQ$2:$CW$1104,7,FALSE),\"\")","v":""},"","",""]
[null,null,null,null,{"$f":"IF(D318=\"\",\"\",VLOOKUP(CONCATENATE(C318,D318),Listas!$AT$2:$AV$1104,3,FALSE))","v":""},null,{"$f":"IF(OR(F318=\"\",E318=\"\"),\"\",VLOOKUP(CONCATENATE(E318,Listas!AZ315),Listas!$BC$3:$BI$15430,7,FALSE))","v":""},null,null,{"$f":"IF(G318=\"\",\"\",VLOOKUP(G318,Listas!$BM$3:$BN$16,2,FALSE)*100)","v":""},"",{"$f":"+IFERROR(VLOOKUP(E318,Listas!$CQ$2:$CW$1104,7,FALSE),\"\")","v":""},"","",""]
[null,null,null,null,{"$f":"IF(D319=\"\",\"\",VLOOKUP(CONCATENATE(C319,D319),Listas!$AT$2:$AV$1104,3,FALSE))","v":""},null,{"$f":"IF(OR(F319=\"\",E319=\"\"),\"\",VLOOKUP(CONCATENATE(E319,Listas!AZ316),Listas!$BC$3:$BI$15430,7,FALSE))","v":""},null,null,{"$f":"IF(G319=\"\",\"\",VLOOKUP(G319,Listas!$BM$3:$BN$16,2,FALSE)*100)","v":""},"",{"$f":"+IFERROR(VLOOKUP(E319,Listas!$CQ$2:$CW$1104,7,FALSE),\"\")","v":""},"","",""]
[null,null,null,null,{"$f":"IF(D320=\"\",\"\",VLOOKUP(CONCATENATE(C320,D320),Listas!$AT$2:$AV$1104,3,FALSE))","v":""},null,{"$f":"IF(OR(F320=\"\",E320=\"\"),\"\",VLOOKUP(CONCATENATE(E320,Listas!AZ317),Listas!$BC$3:$BI$15430,7,FALSE))","v":""},null,null,{"$f":"IF(G320=\"\",\"\",VLOOKUP(G320,Listas!$BM$3:$BN$16,2,FALSE)*100)","v":""},"",{"$f":"+IFERROR(VLOOKUP(E320,Listas!$CQ$2:$CW$1104,7,FALSE),\"\")","v":""},"","",""]
[null,null,null,null,{"$f":"IF(D321=\"\",\"\",VLOOKUP(CONCATENATE(C321,D321),Listas!$AT$2:$AV$1104,3,FALSE))","v":""},null,{"$f":"IF(OR(F321=\"\",E321=\"\"),\"\",VLOOKUP(CONCATENATE(E321,Listas!AZ318),Listas!$BC$3:$BI$15430,7,FALSE))","v":""},null,null,{"$f":"IF(G321=\"\",\"\",VLOOKUP(G321,Listas!$BM$3:$BN$16,2,FALSE)*100)","v":""},"",{"$f":"+IFERROR(VLOOKUP(E321,Listas!$CQ$2:$CW$1104,7,FALSE),\"\")","v":""},"","",""]
[null,null,null,null,{"$f":"IF(D322=\"\",\"\",VLOOKUP(CONCATENATE(C322,D322),Listas!$AT$2:$AV$1104,3,FALSE))","v":""},null,{"$f":"IF(OR(F322=\"\",E322=\"\"),\"\",VLOOKUP(CONCATENATE(E322,Listas!AZ319),Listas!$BC$3:$BI$15430,7,FALSE))","v":""},null,null,{"$f":"IF(G322=\"\",\"\",VLOOKUP(G322,Listas!$BM$3:$BN$16,2,FALSE)*100)","v":""},"",{"$f":"+IFERROR(VLOOKUP(E322,Listas!$CQ$2:$CW$1104,7,FALSE),\"\")","v":""},"","",""]
[null,null,null,null,{"$f":"IF(D323=\"\",\"\",VLOOKUP(CONCATENATE(C323,D323),Listas!$AT$2:$AV$1104,3,FALSE))","v":""},null,{"$f":"IF(OR(F323=\"\",E323=\"\"),\"\",VLOOKUP(CONCATENATE(E323,Listas!AZ320),Listas!$BC$3:$BI$15430,7,FALSE))","v":""},null,null,{"$f":"IF(G323=\"\",\"\",VLOOKUP(G323,Listas!$BM$3:$BN$16,2,FALSE)*100)","v":""},"",{"$f":"+IFERROR(VLOOKUP(E323,Listas!$CQ$2:$CW$1104,7,FALSE),\"\")","v":""},"","",""]
[null,null,null,null,{"$f":"IF(D324=\"\",\"\",VLOOKUP(CONCATENATE(C324,D324),Listas!$AT$2:$AV$1104,3,FALSE))","v":""},null,{"$f":"IF(OR(F324=\"\",E324=\"\"),\"\",VLOOKUP(CONCATENATE(E324,Listas!AZ321),Listas!$BC$3:$BI$15430,7,FALSE))","v":""},null,null,{"$f":"IF(G324=\"\",\"\",VLOOKUP(G324,Listas!$BM$3:$BN$16,2,FALSE)*100)","v":""},"",{"$f":"+IFERROR(VLOOKUP(E324,Listas!$CQ$2:$CW$1104,7,FALSE),\"\")","v":""},"","",""]
[null,null,null,null,{"$f":"IF(D325=\"\",\"\",VLOOKUP(CONCATENATE(C325,D325),Listas!$AT$2:$AV$1104,3,FALSE))","v":""},null,{"$f":"IF(OR(F325=\"\",E325=\"\"),\"\",VLOOKUP(CONCATENATE(E325,Listas!AZ322),Listas!$BC$3:$BI$15430,7,FALSE))","v":""},null,null,{"$f":"IF(G325=\"\",\"\",VLOOKUP(G325,Listas!$BM$3:$BN$16,2,FALSE)*100)","v":""},"",{"$f":"+IFERROR(VLOOKUP(E325,Listas!$CQ$2:$CW$1104,7,FALSE),\"\")","v":""},"","",""]
[null,null,null,null,{"$f":"IF(D326=\"\",\"\",VLOOKUP(CONCATENATE(C326,D326),Listas!$AT$2:$AV$1104,3,FALSE))","v":""},null,{"$f":"IF(OR(F326=\"\",E326=\"\"),\"\",VLOOKUP(CONCATENATE(E326,Listas!AZ323),Listas!$BC$3:$BI$15430,7,FALSE))","v":""},null,null,{"$f":"IF(G326=\"\",\"\",VLOOKUP(G326,Listas!$BM$3:$BN$16,2,FALSE)*100)","v":""},{"$f":"+IF(H326=\"\",\"\",IF(H326=\"Sí\",1,0)*100)","v":""},{"$f":"+IFERROR(VLOOKUP(E326,Listas!$CQ$2:$CW$1104,7,FALSE),\"\")","v":""},{"$f":"+IF(I326=\"\",\"\",IF(I326=\"Sí\",1,0)*100)","v":""},"",""]
[null,null,null,null,{"$f":"IF(D327=\"\",\"\",VLOOKUP(CONCATENATE(C327,D327),Listas!$AT$2:$AV$1104,3,FALSE))","v":""},null,{"$f":"IF(OR(F327=\"\",E327=\"\"),\"\",VLOOKUP(CONCATENATE(E327,Listas!AZ324),Listas!$BC$3:$BI$15430,7,FALSE))","v":""},null,null,{"$f":"IF(G327=\"\",\"\",VLOOKUP(G327,Listas!$BM$3:$BN$16,2,FALSE)*100)","v":""},"",{"$f":"+IFERROR(VLOOKUP(E327,Listas!$CQ$2:$CW$1104,7,FALSE),\"\")","v":""},"",{"$f":"IF(E327=\"\",\"\",SUMPRODUCT(J327:M327,$J$2:$M$2))","v":""},{"$f":"+IFERROR(J327*58%,\"\")","v":""}]
[null,null,null,null,{"$f":"IF(D328=\"\",\"\",VLOOKUP(CONCATENATE(C328,D328),Listas!$AT$2:$AV$1104,3,FALSE))","v":""},null,{"$f":"IF(OR(F328=\"\",E328=\"\"),\"\",VLOOKUP(CONCATENATE(E328,Listas!AZ325),Listas!$BC$3:$BI$15430,7,FALSE))","v":""},null,null,{"$f":"IF(G328=\"\",\"\",VLOOKUP(G328,Listas!$BM$3:$BN$16,2,FALSE)*100)","v":""},"",{"$f":"+IFERROR(VLOOKUP(E328,Listas!$CQ$2:$CW$1104,7,FALSE),\"\")","v":""},"","",""]
[null,null,null,null,{"$f":"IF(D329=\"\",\"\",VLOOKUP(CONCATENATE(C329,D329),Listas!$AT$2:$AV$1104,3,FALSE))","v":""},null,{"$f":"IF(OR(F329=\"\",E329=\"\"),\"\",VLOOKUP(CONCATENATE(E329,Listas!AZ326),Listas!$BC$3:$BI$15430,7,FALSE))","v":""},null,null,{"$f":"IF(G329=\"\",\"\",VLOOKUP(G329,Listas!$BM$3:$BN$16,2,FALSE)*100)","v":""},"",{"$f":"+IFERROR(VLOOKUP(E329,Listas!$CQ$2:$CW$1104,7,FALSE),\"\")","v":""},"","",""]
[null,null,null,null,{"$f":"IF(D330=\"\",\"\",VLOOKUP(CONCATENATE(C330,D330),Listas!$AT$2:$AV$1104,3,FALSE))","v":""},null,{"$f":"IF(OR(F330=\"\",E330=\"\"),\"\",VLOOKUP(CONCATENATE(E330,Listas!AZ327),Listas!$BC$3:$BI$15430,7,FALSE))","v":""},null,null,{"$f":"IF(G330=\"\",\"\",VLOOKUP(G330,Listas!$BM$3:$BN$16,2,FALSE)*100)","v":""},"",{"$f":"+IFERROR(VLOOKUP(E330,Listas!$CQ$2:$CW$1104,7,FALSE),\"\")","v":""},"","",""]
[null,null,null,null,{"$f":"IF(D331=\"\",\"\",VLOOKUP(CONCATENATE(C331,D331),Listas!$AT$2:$AV$1104,3,FALSE))","v":""},null,{"$f":"IF(OR(F331=\"\",E331=\"\"),\"\",VLOOKUP(CONCATENATE(E331,Listas!AZ328),Listas!$BC$3:$BI$15430,7,FALSE))","v":""},null,null,{"$f":"IF(G331=\"\",\"\",VLOOKUP(G331,Listas!$BM$3:$BN$16,2,FALSE)*100)","v":""},"",{"$f":"+IFERROR(VLOOKUP(E331,Listas!$CQ$2:$CW$1104,7,FALSE),\"\")","v":""},"","",""]
[null,null,null,null,{"$f":"IF(D332=\"\",\"\",VLOOKUP(CONCATENATE(C332,D332),Listas!$AT$2:$AV$1104,3,FALSE))","v":""},null,{"$f":"IF(OR(F332=\"\",E332=\"\"),\"\",VLOOKUP(CONCATENATE(E332,Listas!AZ329),Listas!$BC$3:$BI$15430,7,FALSE))","v":""},null,null,{"$f":"IF(G332=\"\",\"\",VLOOKUP(G332,Listas!$BM$3:$BN$16,2,FALSE)*100)","v":""},"",{"$f":"+IFERROR(VLOOKUP(E332,Listas!$CQ$2:$CW$1104,7,FALSE),\"\")","v":""},"","",""]
[null,null,null,null,{"$f":"IF(D333=\"\",\"\",VLOOKUP(CONCATENATE(C333,D333),Listas!$AT$2:$AV$1104,3,FALSE))","v":""},null,{"$f":"IF(OR(F333=\"\",E333=\"\"),\"\",VLOOKUP(CONCATENATE(E333,Listas!AZ330),Listas!$BC$3:$BI$15430,7,FALSE))","v":""},null,null,{"$f":"IF(G333=\"\",\"\",VLOOKUP(G333,Listas!$BM$3:$BN$16,2,FALSE)*100)","v":""},"",{"$f":"+IFERROR(VLOOKUP(E333,Listas!$CQ$2:$CW$1104,7,FALSE),\"\")","v":""},"","",""]
[null,null,null,null,{"$f":"IF(D334=\"\",\"\",VLOOKUP(CONCATENATE(C334,D334),Listas!$AT$2:$AV$1104,3,FALSE))","v":""},null,{"$f":"IF(OR(F334=\"\",E334=\"\"),\"\",VLOOKUP(CONCATENATE(E334,Listas!AZ331),Listas!$BC$3:$BI$15430,7,FALSE))","v":""},null,null,{"$f":"IF(G334=\"\",\"\",VLOOKUP(G334,Listas!$BM$3:$BN$16,2,FALSE)*100)","v":""},"",{"$f":"+IFERROR(VLOOKUP(E334,Listas!$CQ$2:$CW$1104,7,FALSE),\"\")","v":""},"","",""]
[null,null,null,null,{"$f":"IF(D335=\"\",\"\",VLOOKUP(CONCATENATE(C335,D335),Listas!$AT$2:$AV$1104,3,FALSE))","v":""},null,{"$f":"IF(OR(F335=\"\",E335=\"\"),\"\",VLOOKUP(CONCATENATE(E335,Listas!AZ332),Listas!$BC$3:$BI$15430,7,FALSE))","v":""},null,null,{"$f":"IF(G335=\"\",\"\",VLOOKUP(G335,Listas!$BM$3:$BN$16,2,FALSE)*100)","v":""},"",{"$f":"+IFERROR(VLOOKUP(E335,Listas!$CQ$2:$CW$1104,7,FALSE),\"\")","v":""},"","",""]
[null,null,null,null,{"$f":"IF(D336=\"\",\"\",VLOOKUP(CONCATENATE(C336,D336),Listas!$AT$2:$AV$1104,3,FALSE))","v":""},null,{"$f":"IF(OR(F336=\"\",E336=\"\"),\"\",VLOOKUP(CONCATENATE(E336,Listas!AZ333),Listas!$BC$3:$BI$15430,7,FALSE))","v":""},null,null,{"$f":"IF(G336=\"\",\"\",VLOOKUP(G336,Listas!$BM$3:$BN$16,2,FALSE)*100)","v":""},"",{"$f":"+IFERROR(VLOOKUP(E336,Listas!$CQ$2:$CW$1104,7,FALSE),\"\")","v":""},"","",""]
[null,null,null,null,{"$f":"IF(D337=\"\",\"\",VLOOKUP(CONCATENATE(C337,D337),Listas!$AT$2:$AV$1104,3,FALSE))","v":""},null,{"$f":"IF(OR(F337=\"\",E337=\"\"),\"\",VLOOKUP(CONCATENATE(E337,Listas!AZ334),Listas!$BC$3:$BI$15430,7,FALSE))","v":""},null,null,{"$f":"IF(G337=\"\",\"\",VLOOKUP(G337,Listas!$BM$3:$BN$16,2,FALSE)*100)","v":""},"",{"$f":"+IFERROR(VLOOKUP(E337,Listas!$CQ$2:$CW$1104,7,FALSE),\"\")","v":""},"","",""]
[null,null,null,null,{"$f":"IF(D338=\"\",\"\",VLOOKUP(CONCATENATE(C338,D338),Listas!$AT$2:$AV$1104,3,FALSE))","v":""},null,{"$f":"IF(OR(F338=\"\",E338=\"\"),\"\",VLOOKUP(CONCATENATE(E338,Listas!AZ335),Listas!$BC$3:$BI$15430,7,FALSE))","v":""},null,null,{"$f":"IF(G338=\"\",\"\",VLOOKUP(G338,Listas!$BM$3:$BN$16,2,FALSE)*100)","v":""},"",{"$f":"+IFERROR(VLOOKUP(E338,Listas!$CQ$2:$CW$1104,7,FALSE),\"\")","v":""},"","",""]
[null,null,null,null,{"$f":"IF(D339=\"\",\"\",VLOOKUP(CONCATENATE(C339,D339),Listas!$AT$2:$AV$1104,3,FALSE))","v":""},null,{"$f":"IF(OR(F339=\"\",E339=\"\"),\"\",VLOOKUP(CONCATENATE(E339,Listas!AZ336),Listas!$BC$3:$BI$15430,7,FALSE))","v":""},null,null,{"$f":"IF(G339=\"\",\"\",VLOOKUP(G339,Listas!$BM$3:$BN$16,2,FALSE)*100)","v":""},"",{"$f":"+IFERROR(VLOOKUP(E339,Listas!$CQ$2:$CW$1104,7,FALSE),\"\")","v":""},"","",""]
[null,null,null,null,{"$f":"IF(D340=\"\",\"\",VLOOKUP(CONCATENATE(C340,D340),Listas!$AT$2:$AV$1104,3,FALSE))","v":""},null,{"$f":"IF(OR(F340=\"\",E340=\"\"),\"\",VLOOKUP(CONCATENATE(E340,Listas!AZ337),Listas!$BC$3:$BI$15430,7,FALSE))","v":""},null,null,{"$f":"IF(G340=\"\",\"\",VLOOKUP(G340,Listas!$BM$3:$BN$16,2,FALSE)*100)","v":""},"",{"$f":"+IFERROR(VLOOKUP(E340,Listas!$CQ$2:$CW$1104,7,FALSE),\"\")","v":""},"","",""]
[null,null,null,null,{"$f":"IF(D341=\"\",\"\",VLOOKUP(CONCATENATE(C341,D341),Listas!$AT$2:$AV$1104,3,FALSE))","v":""},null,{"$f":"IF(OR(F341=\"\",E341=\"\"),\"\",VLOOKUP(CONCATENATE(E341,Listas!AZ338),Listas!$BC$3:$BI$15430,7,FALSE))","v":""},null,null,{"$f":"IF(G341=\"\",\"\",VLOOKUP(G341,Listas!$BM$3:$BN$16,2,FALSE)*100)","v":""},"",{"$f":"+IFERROR(VLOOKUP(E341,Listas!$CQ$2:$CW$1104,7,FALSE),\"\")","v":""},"","",""]
[null,null,null,null,{"$f":"IF(D342=\"\",\"\",VLOOKUP(CONCATENATE(C342,D342),Listas!$AT$2:$AV$1104,3,FALSE))","v":""},null,{"$f":"IF(OR(F342=\"\",E342=\"\"),\"\",VLOOKUP(CONCATENATE(E342,Listas!AZ339),Listas!$BC$3:$BI$15430,7,FALSE))","v":""},null,null,{"$f":"IF(G342=\"\",\"\",VLOOKUP(G342,Listas!$BM$3:$BN$16,2,FALSE)*100)","v":""},"",{"$f":"+IFERROR(VLOOKUP(E342,Listas!$CQ$2:$CW$1104,7,FALSE),\"\")","v":""},"","",""]
[null,null,null,null,{"$f":"IF(D343=\"\",\"\",VLOOKUP(CONCATENATE(C343,D343),Listas!$AT$2:$AV$1104,3,FALSE))","v":""},null,{"$f":"IF(OR(F343=\"\",E343=\"\"),\"\",VLOOKUP(CONCATENATE(E343,Listas!AZ340),Listas!$BC$3:$BI$15430,7,FALSE))","v":""},null,null,{"$f":"IF(G343=\"\",\"\",VLOOKUP(G343,Listas!$BM$3:$BN$16,2,FALSE)*100)","v":""},"",{"$f":"+IFERROR(VLOOKUP(E343,Listas!$CQ$2:$CW$1104,7,FALSE),\"\")","v":""},"","",""]
[null,null,null,null,{"$f":"IF(D344=\"\",\"\",VLOOKUP(CONCATENATE(C344,D344),Listas!$AT$2:$AV$1104,3,FALSE))","v":""},null,{"$f":"IF(OR(F344=\"\",E344=\"\"),\"\",VLOOKUP(CONCATENATE(E344,Listas!AZ341),Listas!$BC$3:$BI$15430,7,FALSE))","v":""},null,null,{"$f":"IF(G344=\"\",\"\",VLOOKUP(G344,Listas!$BM$3:$BN$16,2,FALSE)*100)","v":""},"",{"$f":"+IFERROR(VLOOKUP(E344,Listas!$CQ$2:$CW$1104,7,FALSE),\"\")","v":""},"","",""]
[null,null,null,null,{"$f":"IF(D345=\"\",\"\",VLOOKUP(CONCATENATE(C345,D345),Listas!$AT$2:$AV$1104,3,FALSE))","v":""},null,{"$f":"IF(OR(F345=\"\",E345=\"\"),\"\",VLOOKUP(CONCATENATE(E345,Listas!AZ342),Listas!$BC$3:$BI$15430,7,FALSE))","v":""},null,null,{"$f":"IF(G345=\"\",\"\",VLOOKUP(G345,Listas!$BM$3:$BN$16,2,FALSE)*100)","v":""},"",{"$f":"+IFERROR(VLOOKUP(E345,Listas!$CQ$2:$CW$1104,7,FALSE),\"\")","v":""},"","",""]
[null,null,null,null,{"$f":"IF(D346=\"\",\"\",VLOOKUP(CONCATENATE(C346,D346),Listas!$AT$2:$AV$1104,3,FALSE))","v":""},null,{"$f":"IF(OR(F346=\"\",E346=\"\"),\"\",VLOOKUP(CONCATENATE(E346,Listas!AZ343),Listas!$BC$3:$BI$15430,7,FALSE))","v":""},null,null,{"$f":"IF(G346=\"\",\"\",VLOOKUP(G346,Listas!$BM$3:$BN$16,2,FALSE)*100)","v":""},"",{"$f":"+IFERROR(VLOOKUP(E346,Listas!$CQ$2:$CW$1104,7,FALSE),\"\")","v":""},"","",""]
[null,null,null,null,{"$f":"IF(D347=\"\",\"\",VLOOKUP(CONCATENATE(C347,D347),Listas!$AT$2:$AV$1104,3,FALSE))","v":""},null,{"$f":"IF(OR(F347=\"\",E347=\"\"),\"\",VLOOKUP(CONCATENATE(E347,Listas!AZ344),Listas!$BC$3:$BI$15430,7,FALSE))","v":""},null,null,{"$f":"IF(G347=\"\",\"\",VLOOKUP(G347,Listas!$BM$3:$BN$16,2,FALSE)*100)","v":""},"",{"$f":"+IFERROR(VLOOKUP(E347,Listas!$CQ$2:$CW$1104,7,FALSE),\"\")","v":""},"","",""]
[null,null,null,null,{"$f":"IF(D348=\"\",\"\",VLOOKUP(CONCATENATE(C348,D348),Listas!$AT$2:$AV$1104,3,FALSE))","v":""},null,{"$f":"IF(OR(F348=\"\",E348=\"\"),\"\",VLOOKUP(CONCATENATE(E348,Listas!AZ345),Listas!$BC$3:$BI$15430,7,FALSE))","v":""},null,null,{"$f":"IF(G348=\"\",\"\",VLOOKUP(G348,Listas!$BM$3:$BN$16,2,FALSE)*100)","v":""},"",{"$f":"+IFERROR(VLOOKUP(E348,Listas!$CQ$2:$CW$1104,7,FALSE),\"\")","v":""},"","",""]
[null,null,null,null,{"$f":"IF(D349=\"\",\"\",VLOOKUP(CONCATENATE(C349,D349),Listas!$AT$2:$AV$1104,3,FALSE))","v":""},null,{"$f":"IF(OR(F349=\"\",E349=\"\"),\"\",VLOOKUP(CONCATENATE(E349,Listas!AZ346),Listas!$BC$3:$BI$15430,7,FALSE))","v":""},null,null,{"$f":"IF(G349=\"\",\"\",VLOOKUP(G349,Listas!$BM$3:$BN$16,2,FALSE)*100)","v":""},"",{"$f":"+IFERROR(VLOOKUP(E349,Listas!$CQ$2:$CW$1104,7,FALSE),\"\")","v":""},"","",""]
[null,null,null,null,{"$f":"IF(D350=\"\",\"\",VLOOKUP(CONCATENATE(C350,D350),Listas!$AT$2:$AV$1104,3,FALSE))","v":""},null,{"$f":"IF(OR(F350=\"\",E350=\"\"),\"\",VLOOKUP(CONCATENATE(E350,Listas!AZ347),Listas!$BC$3:$BI$15430,7,FALSE))","v":""},null,null,{"$f":"IF(G350=\"\",\"\",VLOOKUP(G350,Listas!$BM$3:$BN$16,2,FALSE)*100)","v":""},"",{"$f":"+IFERROR(VLOOKUP(E350,Listas!$CQ$2:$CW$1104,7,FALSE),\"\")","v":""},"","",""]
[null,null,null,null,{"$f":"IF(D351=\"\",\"\",VLOOKUP(CONCATENATE(C351,D351),Listas!$AT$2:$AV$1104,3,FALSE))","v":""},null,{"$f":"IF(OR(F351=\"\",E351=\"\"),\"\",VLOOKUP(CONCATENATE(E351,Listas!AZ348),Listas!$BC$3:$BI$15430,7,FALSE))","v":""},null,null,{"$f":"IF(G351=\"\",\"\",VLOOKUP(G351,Listas!$BM$3:$BN$16,2,FALSE)*100)","v":""},"",{"$f":"+IFERROR(VLOOKUP(E351,Listas!$CQ$2:$CW$1104,7,FALSE),\"\")","v":""},"","",""]
[null,null,null,null,{"$f":"IF(D352=\"\",\"\",VLOOKUP(CONCATENATE(C352,D352),Listas!$AT$2:$AV$1104,3,FALSE))","v":""},null,{"$f":"IF(OR(F352=\"\",E352=\"\"),\"\",VLOOKUP(CONCATENATE(E352,Listas!AZ349),Listas!$BC$3:$BI$15430,7,FALSE))","v":""},null,null,{"$f":"IF(G352=\"\",\"\",VLOOKUP(G352,Listas!$BM$3:$BN$16,2,FALSE)*100)","v":""},"",{"$f":"+IFERROR(VLOOKUP(E352,Listas!$CQ$2:$CW$1104,7,FALSE),\"\")","v":""},"","",""]
[null,null,null,null,{"$f":"IF(D353=\"\",\"\",VLOOKUP(CONCATENATE(C353,D353),Listas!$AT$2:$AV$1104,3,FALSE))","v":""},null,{"$f":"IF(OR(F353=\"\",E353=\"\"),\"\",VLOOKUP(CONCATENATE(E353,Listas!AZ350),Listas!$BC$3:$BI$15430,7,FALSE))","v":""},null,null,{"$f":"IF(G353=\"\",\"\",VLOOKUP(G353,Listas!$BM$3:$BN$16,2,FALSE)*100)","v":""},"",{"$f":"+IFERROR(VLOOKUP(E353,Listas!$CQ$2:$CW$1104,7,FALSE),\"\")","v":""},"","",""]
[null,null,null,null,{"$f":"IF(D354=\"\",\"\",VLOOKUP(CONCATENATE(C354,D354),Listas!$AT$2:$AV$1104,3,FALSE))","v":""},null,{"$f":"IF(OR(F354=\"\",E354=\"\"),\"\",VLOOKUP(CONCATENATE(E354,Listas!AZ351),Listas!$BC$3:$BI$15430,7,FALSE))","v":""},null,null,{"$f":"IF(G354=\"\",\"\",VLOOKUP(G354,Listas!$BM$3:$BN$16,2,FALSE)*100)","v":""},"",{"$f":"+IFERROR(VLOOKUP(E354,Listas!$CQ$2:$CW$1104,7,FALSE),\"\")","v":""},"","",""]
[null,null,null,null,{"$f":"IF(D355=\"\",\"\",VLOOKUP(CONCATENATE(C355,D355),Listas!$AT$2:$AV$1104,3,FALSE))","v":""},null,{"$f":"IF(OR(F355=\"\",E355=\"\"),\"\",VLOOKUP(CONCATENATE(E355,Listas!AZ352),Listas!$BC$3:$BI$15430,7,FALSE))","v":""},null,null,{"$f":"IF(G355=\"\",\"\",VLOOKUP(G355,Listas!$BM$3:$BN$16,2,FALSE)*100)","v":""},"",{"$f":"+IFERROR(VLOOKUP(E355,Listas!$CQ$2:$CW$1104,7,FALSE),\"\")","v":""},"","",""]
[null,null,null,null,{"$f":"IF(D356=\"\",\"\",VLOOKUP(CONCATENATE(C356,D356),Listas!$AT$2:$AV$1104,3,FALSE))","v":""},null,{"$f":"IF(OR(F356=\"\",E356=\"\"),\"\",VLOOKUP(CONCATENATE(E356,Listas!AZ353),Listas!$BC$3:$BI$15430,7,FALSE))","v":""},null,null,{"$f":"IF(G356=\"\",\"\",VLOOKUP(G356,Listas!$BM$3:$BN$16,2,FALSE)*100)","v":""},"",{"$f":"+IFERROR(VLOOKUP(E356,Listas!$CQ$2:$CW$1104,7,FALSE),\"\")","v":""},"","",""]
[null,null,null,null,{"$f":"IF(D357=\"\",\"\",VLOOKUP(CONCATENATE(C357,D357),Listas!$AT$2:$AV$1104,3,FALSE))","v":""},null,{"$f":"IF(OR(F357=\"\",E357=\"\"),\"\",VLOOKUP(CONCATENATE(E357,Listas!AZ354),Listas!$BC$3:$BI$15430,7,FALSE))","v":""},null,null,{"$f":"IF(G357=\"\",\"\",VLOOKUP(G357,Listas!$BM$3:$BN$16,2,FALSE)*100)","v":""},"",{"$f":"+IFERROR(VLOOKUP(E357,Listas!$CQ$2:$CW$1104,7,FALSE),\"\")","v":""},"","",""]
[null,null,null,null,{"$f":"IF(D358=\"\",\"\",VLOOKUP(CONCATENATE(C358,D358),Listas!$AT$2:$AV$1104,3,FALSE))","v":""},null,{"$f":"IF(OR(F358=\"\",E358=\"\"),\"\",VLOOKUP(CONCATENATE(E358,Listas!AZ355),Listas!$BC$3:$BI$15430,7,FALSE))","v":""},null,null,{"$f":"IF(G358=\"\",\"\",VLOOKUP(G358,Listas!$BM$3:$BN$16,2,FALSE)*100)","v":""},"",{"$f":"+IFERROR(VLOOKUP(E358,Listas!$CQ$2:$CW$1104,7,FALSE),\"\")","v":""},"","",""]
[null,null,null,null,{"$f":"IF(D359=\"\",\"\",VLOOKUP(CONCATENATE(C359,D359),Listas!$AT$2:$AV$1104,3,FALSE))","v":""},null,{"$f":"IF(OR(F359=\"\",E359=\"\"),\"\",VLOOKUP(CONCATENATE(E359,Listas!AZ356),Listas!$BC$3:$BI$15430,7,FALSE))","v":""},null,null,{"$f":"IF(G359=\"\",\"\",VLOOKUP(G359,Listas!$BM$3:$BN$16,2,FALSE)*100)","v":""},"",{"$f":"+IFERROR(VLOOKUP(E359,Listas!$CQ$2:$CW$1104,7,FALSE),\"\")","v":""},"","",""]
[null,null,null,null,{"$f":"IF(D360=\"\",\"\",VLOOKUP(CONCATENATE(C360,D360),Listas!$AT$2:$AV$1104,3,FALSE))","v":""},null,{"$f":"IF(OR(F360=\"\",E360=\"\"),\"\",VLOOKUP(CONCATENATE(E360,Listas!AZ357),Listas!$BC$3:$BI$15430,7,FALSE))","v":""},null,null,{"$f":"IF(G360=\"\",\"\",VLOOKUP(G360,Listas!$BM$3:$BN$16,2,FALSE)*100)","v":""},"",{"$f":"+IFERROR(VLOOKUP(E360,Listas!$CQ$2:$CW$1104,7,FALSE),\"\")","v":""},"","",""]
[null,null,null,null,{"$f":"IF(D361=\"\",\"\",VLOOKUP(CONCATENATE(C361,D361),Listas!$AT$2:$AV$1104,3,FALSE))","v":""},null,{"$f":"IF(OR(F361=\"\",E361=\"\"),\"\",VLOOKUP(CONCATENATE(E361,Listas!AZ358),Listas!$BC$3:$BI$15430,7,FALSE))","v":""},null,null,{"$f":"IF(G361=\"\",\"\",VLOOKUP(G361,Listas!$BM$3:$BN$16,2,FALSE)*100)","v":""},"",{"$f":"+IFERROR(VLOOKUP(E361,Listas!$CQ$2:$CW$1104,7,FALSE),\"\")","v":""},"","",""]
[null,null,null,null,{"$f":"IF(D362=\"\",\"\",VLOOKUP(CONCATENATE(C362,D362),Listas!$AT$2:$AV$1104,3,FALSE))","v":""},null,{"$f":"IF(OR(F362=\"\",E362=\"\"),\"\",VLOOKUP(CONCATENATE(E362,Listas!AZ359),Listas!$BC$3:$BI$15430,7,FALSE))","v":""},null,null,{"$f":"IF(G362=\"\",\"\",VLOOKUP(G362,Listas!$BM$3:$BN$16,2,FALSE)*100)","v":""},"",{"$f":"+IFERROR(VLOOKUP(E362,Listas!$CQ$2:$CW$1104,7,FALSE),\"\")","v":""},"","",""]
[null,null,null,null,{"$f":"IF(D363=\"\",\"\",VLOOKUP(CONCATENATE(C363,D363),Listas!$AT$2:$AV$1104,3,FALSE))","v":""},null,{"$f":"IF(OR(F363=\"\",E363=\"\"),\"\",VLOOKUP(CONCATENATE(E363,Listas!AZ360),Listas!$BC$3:$BI$15430,7,FALSE))","v":""},null,null,{"$f":"IF(G363=\"\",\"\",VLOOKUP(G363,Listas!$BM$3:$BN$16,2,FALSE)*100)","v":""},"",{"$f":"+IFERROR(VLOOKUP(E363,Listas!$CQ$2:$CW$1104,7,FALSE),\"\")","v":""},"","",""]
[null,null,null,null,{"$f":"IF(D364=\"\",\"\",VLOOKUP(CONCATENATE(C364,D364),Listas!$AT$2:$AV$1104,3,FALSE))","v":""},null,{"$f":"IF(OR(F364=\"\",E364=\"\"),\"\",VLOOKUP(CONCATENATE(E364,Listas!AZ361),Listas!$BC$3:$BI$15430,7,FALSE))","v":""},null,null,{"$f":"IF(G364=\"\",\"\",VLOOKUP(G364,Listas!$BM$3:$BN$16,2,FALSE)*100)","v":""},"",{"$f":"+IFERROR(VLOOKUP(E364,Listas!$CQ$2:$CW$1104,7,FALSE),\"\")","v":""},"","",""]
[null,null,null,null,{"$f":"IF(D365=\"\",\"\",VLOOKUP(CONCATENATE(C365,D365),Listas!$AT$2:$AV$1104,3,FALSE))","v":""},null,{"$f":"IF(OR(F365=\"\",E365=\"\"),\"\",VLOOKUP(CONCATENATE(E365,Listas!AZ362),Listas!$BC$3:$BI$15430,7,FALSE))","v":""},null,null,{"$f":"IF(G365=\"\",\"\",VLOOKUP(G365,Listas!$BM$3:$BN$16,2,FALSE)*100)","v":""},"",{"$f":"+IFERROR(VLOOKUP(E365,Listas!$CQ$2:$CW$1104,7,FALSE),\"\")","v":""},"","",""]
[null,null,null,null,{"$f":"IF(D366=\"\",\"\",VLOOKUP(CONCATENATE(C366,D366),Listas!$AT$2:$AV$1104,3,FALSE))","v":""},null,{"$f":"IF(OR(F366=\"\",E366=\"\"),\"\",VLOOKUP(CONCATENATE(E366,Listas!AZ363),Listas!$BC$3:$BI$15430,7,FALSE))","v":""},null,null,{"$f":"IF(G366=\"\",\"\",VLOOKUP(G366,Listas!$BM$3:$BN$16,2,FALSE)*100)","v":""},"",{"$f":"+IFERROR(VLOOKUP(E366,Listas!$CQ$2:$CW$1104,7,FALSE),\"\")","v":""},"","",""]
[null,null,null,null,{"$f":"IF(D367=\"\",\"\",VLOOKUP(CONCATENATE(C367,D367),Listas!$AT$2:$AV$1104,3,FALSE))","v":""},null,{"$f":"IF(OR(F367=\"\",E367=\"\"),\"\",VLOOKUP(CONCATENATE(E367,Listas!AZ364),Listas!$BC$3:$BI$15430,7,FALSE))","v":""},null,null,{"$f":"IF(G367=\"\",\"\",VLOOKUP(G367,Listas!$BM$3:$BN$16,2,FALSE)*100)","v":""},"",{"$f":"+IFERROR(VLOOKUP(E367,Listas!$CQ$2:$CW$1104,7,FALSE),\"\")","v":""},"","",""]
[null,null,null,null,{"$f":"IF(D368=\"\",\"\",VLOOKUP(CONCATENATE(C368,D368),Listas!$AT$2:$AV$1104,3,FALSE))","v":""},null,{"$f":"IF(OR(F368=\"\",E368=\"\"),\"\",VLOOKUP(CONCATENATE(E368,Listas!AZ365),Listas!$BC$3:$BI$15430,7,FALSE))","v":""},null,null,{"$f":"IF(G368=\"\",\"\",VLOOKUP(G368,Listas!$BM$3:$BN$16,2,FALSE)*100)","v":""},"",{"$f":"+IFERROR(VLOOKUP(E368,Listas!$CQ$2:$CW$1104,7,FALSE),\"\")","v":""},"","",""]
[null,null,null,null,{"$f":"IF(D369=\"\",\"\",VLOOKUP(CONCATENATE(C369,D369),Listas!$AT$2:$AV$1104,3,FALSE))","v":""},null,{"$f":"IF(OR(F369=\"\",E369=\"\"),\"\",VLOOKUP(CONCATENATE(E369,Listas!AZ366),Listas!$BC$3:$BI$15430,7,FALSE))","v":""},null,null,{"$f":"IF(G369=\"\",\"\",VLOOKUP(G369,Listas!$BM$3:$BN$16,2,FALSE)*100)","v":""},"",{"$f":"+IFERROR(VLOOKUP(E369,Listas!$CQ$2:$CW$1104,7,FALSE),\"\")","v":""},"","",""]
[null,null,null,null,{"$f":"IF(D370=\"\",\"\",VLOOKUP(CONCATENATE(C370,D370),Listas!$AT$2:$AV$1104,3,FALSE))","v":""},null,{"$f":"IF(OR(F370=\"\",E370=\"\"),\"\",VLOOKUP(CONCATENATE(E370,Listas!AZ367),Listas!$BC$3:$BI$15430,7,FALSE))","v":""},null,null,{"$f":"IF(G370=\"\",\"\",VLOOKUP(G370,Listas!$BM$3:$BN$16,2,FALSE)*100)","v":""},"",{"$f":"+IFERROR(VLOOKUP(E370,Listas!$CQ$2:$CW$1104,7,FALSE),\"\")","v":""},"","",""]
[null,null,null,null,{"$f":"IF(D371=\"\",\"\",VLOOKUP(CONCATENATE(C371,D371),Listas!$AT$2:$AV$1104,3,FALSE))","v":""},null,{"$f":"IF(OR(F371=\"\",E371=\"\"),\"\",VLOOKUP(CONCATENATE(E371,Listas!AZ368),Listas!$BC$3:$BI$15430,7,FALSE))","v":""},null,null,{"$f":"IF(G371=\"\",\"\",VLOOKUP(G371,Listas!$BM$3:$BN$16,2,FALSE)*100)","v":""},"",{"$f":"+IFERROR(VLOOKUP(E371,Listas!$CQ$2:$CW$1104,7,FALSE),\"\")","v":""},"","",""]
[null,null,null,null,{"$f":"IF(D372=\"\",\"\",VLOOKUP(CONCATENATE(C372,D372),Listas!$AT$2:$AV$1104,3,FALSE))","v":""},null,{"$f":"IF(OR(F372=\"\",E372=\"\"),\"\",VLOOKUP(CONCATENATE(E372,Listas!AZ369),Listas!$BC$3:$BI$15430,7,FALSE))","v":""},null,null,{"$f":"IF(G372=\"\",\"\",VLOOKUP(G372,Listas!$BM$3:$BN$16,2,FALSE)*100)","v":""},"",{"$f":"+IFERROR(VLOOKUP(E372,Listas!$CQ$2:$CW$1104,7,FALSE),\"\")","v":""},"","",""]
[null,null,null,null,{"$f":"IF(D373=\"\",\"\",VLOOKUP(CONCATENATE(C373,D373),Listas!$AT$2:$AV$1104,3,FALSE))","v":""},null,{"$f":"IF(OR(F373=\"\",E373=\"\"),\"\",VLOOKUP(CONCATENATE(E373,Listas!AZ370),Listas!$BC$3:$BI$15430,7,FALSE))","v":""},null,null,{"$f":"IF(G373=\"\",\"\",VLOOKUP(G373,Listas!$BM$3:$BN$16,2,FALSE)*100)","v":""},"",{"$f":"+IFERROR(VLOOKUP(E373,Listas!$CQ$2:$CW$1104,7,FALSE),\"\")","v":""},"","",""]
[null,null,null,null,{"$f":"IF(D374=\"\",\"\",VLOOKUP(CONCATENATE(C374,D374),Listas!$AT$2:$AV$1104,3,FALSE))","v":""},null,{"$f":"IF(OR(F374=\"\",E374=\"\"),\"\",VLOOKUP(CONCATENATE(E374,Listas!AZ371),Listas!$BC$3:$BI$15430,7,FALSE))","v":""},null,null,{"$f":"IF(G374=\"\",\"\",VLOOKUP(G374,Listas!$BM$3:$BN$16,2,FALSE)*100)","v":""},"",{"$f":"+IFERROR(VLOOKUP(E374,Listas!$CQ$2:$CW$1104,7,FALSE),\"\")","v":""},"","",""]
[null,null,null,null,{"$f":"IF(D375=\"\",\"\",VLOOKUP(CONCATENATE(C375,D375),Listas!$AT$2:$AV$1104,3,FALSE))","v":""},null,{"$f":"IF(OR(F375=\"\",E375=\"\"),\"\",VLOOKUP(CONCATENATE(E375,Listas!AZ372),Listas!$BC$3:$BI$15430,7,FALSE))","v":""},null,null,{"$f":"IF(G375=\"\",\"\",VLOOKUP(G375,Listas!$BM$3:$BN$16,2,FALSE)*100)","v":""},"",{"$f":"+IFERROR(VLOOKUP(E375,Listas!$CQ$2:$CW$1104,7,FALSE),\"\")","v":""},"","",""]
[null,null,null,null,{"$f":"IF(D376=\"\",\"\",VLOOKUP(CONCATENATE(C376,D376),Listas!$AT$2:$AV$1104,3,FALSE))","v":""},null,{"$f":"IF(OR(F376=\"\",E376=\"\"),\"\",VLOOKUP(CONCATENATE(E376,Listas!AZ373),Listas!$BC$3:$BI$15430,7,FALSE))","v":""},null,null,{"$f":"IF(G376=\"\",\"\",VLOOKUP(G376,Listas!$BM$3:$BN$16,2,FALSE)*100)","v":""},"",{"$f":"+IFERROR(VLOOKUP(E376,Listas!$CQ$2:$CW$1104,7,FALSE),\"\")","v":""},"","",""]
[null,null,null,null,{"$f":"IF(D377=\"\",\"\",VLOOKUP(CONCATENATE(C377,D377),Listas!$AT$2:$AV$1104,3,FALSE))","v":""},null,{"$f":"IF(OR(F377=\"\",E377=\"\"),\"\",VLOOKUP(CONCATENATE(E377,Listas!AZ374),Listas!$BC$3:$BI$15430,7,FALSE))","v":""},null,null,{"$f":"IF(G377=\"\",\"\",VLOOKUP(G377,Listas!$BM$3:$BN$16,2,FALSE)*100)","v":""},"",{"$f":"+IFERROR(VLOOKUP(E377,Listas!$CQ$2:$CW$1104,7,FALSE),\"\")","v":""},"","",""]
[null,null,null,null,{"$f":"IF(D378=\"\",\"\",VLOOKUP(CONCATENATE(C378,D378),Listas!$AT$2:$AV$1104,3,FALSE))","v":""},null,{"$f":"IF(OR(F378=\"\",E378=\"\"),\"\",VLOOKUP(CONCATENATE(E378,Listas!AZ375),Listas!$BC$3:$BI$15430,7,FALSE))","v":""},null,null,{"$f":"IF(G378=\"\",\"\",VLOOKUP(G378,Listas!$BM$3:$BN$16,2,FALSE)*100)","v":""},"",{"$f":"+IFERROR(VLOOKUP(E378,Listas!$CQ$2:$CW$1104,7,FALSE),\"\")","v":""},"","",""]
[null,null,null,null,{"$f":"IF(D379=\"\",\"\",VLOOKUP(CONCATENATE(C379,D379),Listas!$AT$2:$AV$1104,3,FALSE))","v":""},null,{"$f":"IF(OR(F379=\"\",E379=\"\"),\"\",VLOOKUP(CONCATENATE(E379,Listas!AZ376),Listas!$BC$3:$BI$15430,7,FALSE))","v":""},null,null,{"$f":"IF(G379=\"\",\"\",VLOOKUP(G379,Listas!$BM$3:$BN$16,2,FALSE)*100)","v":""},"",{"$f":"+IFERROR(VLOOKUP(E379,Listas!$CQ$2:$CW$1104,7,FALSE),\"\")","v":""},"","",""]
[null,null,null,null,{"$f":"IF(D380=\"\",\"\",VLOOKUP(CONCATENATE(C380,D380),Listas!$AT$2:$AV$1104,3,FALSE))","v":""},null,{"$f":"IF(OR(F380=\"\",E380=\"\"),\"\",VLOOKUP(CONCATENATE(E380,Listas!AZ377),Listas!$BC$3:$BI$15430,7,FALSE))","v":""},null,null,{"$f":"IF(G380=\"\",\"\",VLOOKUP(G380,Listas!$BM$3:$BN$16,2,FALSE)*100)","v":""},"",{"$f":"+IFERROR(VLOOKUP(E380,Listas!$CQ$2:$CW$1104,7,FALSE),\"\")","v":""},"","",""]
[null,null,null,null,{"$f":"IF(D381=\"\",\"\",VLOOKUP(CONCATENATE(C381,D381),Listas!$AT$2:$AV$1104,3,FALSE))","v":""},null,{"$f":"IF(OR(F381=\"\",E381=\"\"),\"\",VLOOKUP(CONCATENATE(E381,Listas!AZ378),Listas!$BC$3:$BI$15430,7,FALSE))","v":""},null,null,{"$f":"IF(G381=\"\",\"\",VLOOKUP(G381,Listas!$BM$3:$BN$16,2,FALSE)*100)","v":""},"",{"$f":"+IFERROR(VLOOKUP(E381,Listas!$CQ$2:$CW$1104,7,FALSE),\"\")","v":""},"","",""]
[null,null,null,null,{"$f":"IF(D382=\"\",\"\",VLOOKUP(CONCATENATE(C382,D382),Listas!$AT$2:$AV$1104,3,FALSE))","v":""},null,{"$f":"IF(OR(F382=\"\",E382=\"\"),\"\",VLOOKUP(CONCATENATE(E382,Listas!AZ379),Listas!$BC$3:$BI$15430,7,FALSE))","v":""},null,null,{"$f":"IF(G382=\"\",\"\",VLOOKUP(G382,Listas!$BM$3:$BN$16,2,FALSE)*100)","v":""},"",{"$f":"+IFERROR(VLOOKUP(E382,Listas!$CQ$2:$CW$1104,7,FALSE),\"\")","v":""},"","",""]
[null,null,null,null,{"$f":"IF(D383=\"\",\"\",VLOOKUP(CONCATENATE(C383,D383),Listas!$AT$2:$AV$1104,3,FALSE))","v":""},null,{"$f":"IF(OR(F383=\"\",E383=\"\"),\"\",VLOOKUP(CONCATENATE(E383,Listas!AZ380),Listas!$BC$3:$BI$15430,7,FALSE))","v":""},null,null,{"$f":"IF(G383=\"\",\"\",VLOOKUP(G383,Listas!$BM$3:$BN$16,2,FALSE)*100)","v":""},"",{"$f":"+IFERROR(VLOOKUP(E383,Listas!$CQ$2:$CW$1104,7,FALSE),\"\")","v":""},"","",""]
[null,null,null,null,{"$f":"IF(D384=\"\",\"\",VLOOKUP(CONCATENATE(C384,D384),Listas!$AT$2:$AV$1104,3,FALSE))","v":""},null,{"$f":"IF(OR(F384=\"\",E384=\"\"),\"\",VLOOKUP(CONCATENATE(E384,Listas!AZ381),Listas!$BC$3:$BI$15430,7,FALSE))","v":""},null,null,{"$f":"IF(G384=\"\",\"\",VLOOKUP(G384,Listas!$BM$3:$BN$16,2,FALSE)*100)","v":""},"",{"$f":"+IFERROR(VLOOKUP(E384,Listas!$CQ$2:$CW$1104,7,FALSE),\"\")","v":""},"","",""]
[null,null,null,null,{"$f":"IF(D385=\"\",\"\",VLOOKUP(CONCATENATE(C385,D385),Listas!$AT$2:$AV$1104,3,FALSE))","v":""},null,{"$f":"IF(OR(F385=\"\",E385=\"\"),\"\",VLOOKUP(CONCATENATE(E385,Listas!AZ382),Listas!$BC$3:$BI$15430,7,FALSE))","v":""},null,null,{"$f":"IF(G385=\"\",\"\",VLOOKUP(G385,Listas!$BM$3:$BN$16,2,FALSE)*100)","v":""},"",{"$f":"+IFERROR(VLOOKUP(E385,Listas!$CQ$2:$CW$1104,7,FALSE),\"\")","v":""},"","",""]
[null,null,null,null,{"$f":"IF(D386=\"\",\"\",VLOOKUP(CONCATENATE(C386,D386),Listas!$AT$2:$AV$1104,3,FALSE))","v":""},null,{"$f":"IF(OR(F386=\"\",E386=\"\"),\"\",VLOOKUP(CONCATENATE(E386,Listas!AZ383),Listas!$BC$3:$BI$15430,7,FALSE))","v":""},null,null,{"$f":"IF(G386=\"\",\"\",VLOOKUP(G386,Listas!$BM$3:$BN$16,2,FALSE)*100)","v":""},"",{"$f":"+IFERROR(VLOOKUP(E386,Listas!$CQ$2:$CW$1104,7,FALSE),\"\")","v":""},"","",""]
[null,null,null,null,{"$f":"IF(D387=\"\",\"\",VLOOKUP(CONCATENATE(C387,D387),Listas!$AT$2:$AV$1104,3,FALSE))","v":""},null,{"$f":"IF(OR(F387=\"\",E387=\"\"),\"\",VLOOKUP(CONCATENATE(E387,Listas!AZ384),Listas!$BC$3:$BI$15430,7,FALSE))","v":""},null,null,{"$f":"IF(G387=\"\",\"\",VLOOKUP(G387,Listas!$BM$3:$BN$16,2,FALSE)*100)","v":""},"",{"$f":"+IFERROR(VLOOKUP(E387,Listas!$CQ$2:$CW$1104,7,FALSE),\"\")","v":""},"","",""]
[null,null,null,null,{"$f":"IF(D388=\"\",\"\",VLOOKUP(CONCATENATE(C388,D388),Listas!$AT$2:$AV$1104,3,FALSE))","v":""},null,{"$f":"IF(OR(F388=\"\",E388=\"\"),\"\",VLOOKUP(CONCATENATE(E388,Listas!AZ385),Listas!$BC$3:$BI$15430,7,FALSE))","v":""},null,null,{"$f":"IF(G388=\"\",\"\",VLOOKUP(G388,Listas!$BM$3:$BN$16,2,FALSE)*100)","v":""},"",{"$f":"+IFERROR(VLOOKUP(E388,Listas!$CQ$2:$CW$1104,7,FALSE),\"\")","v":""},"","",""]
[null,null,null,null,{"$f":"IF(D389=\"\",\"\",VLOOKUP(CONCATENATE(C389,D389),Listas!$AT$2:$AV$1104,3,FALSE))","v":""},null,{"$f":"IF(OR(F389=\"\",E389=\"\"),\"\",VLOOKUP(CONCATENATE(E389,Listas!AZ386),Listas!$BC$3:$BI$15430,7,FALSE))","v":""},null,null,{"$f":"IF(G389=\"\",\"\",VLOOKUP(G389,Listas!$BM$3:$BN$16,2,FALSE)*100)","v":""},"",{"$f":"+IFERROR(VLOOKUP(E389,Listas!$CQ$2:$CW$1104,7,FALSE),\"\")","v":""},"","",""]
[null,null,null,null,{"$f":"IF(D390=\"\",\"\",VLOOKUP(CONCATENATE(C390,D390),Listas!$AT$2:$AV$1104,3,FALSE))","v":""},null,{"$f":"IF(OR(F390=\"\",E390=\"\"),\"\",VLOOKUP(CONCATENATE(E390,Listas!AZ387),Listas!$BC$3:$BI$15430,7,FALSE))","v":""},null,null,{"$f":"IF(G390=\"\",\"\",VLOOKUP(G390,Listas!$BM$3:$BN$16,2,FALSE)*100)","v":""},{"$f":"+IF(H390=\"\",\"\",IF(H390=\"Sí\",1,0)*100)","v":""},{"$f":"+IFERROR(VLOOKUP(E390,Listas!$CQ$2:$CW$1104,7,FALSE),\"\")","v":""},{"$f":"+IF(I390=\"\",\"\",IF(I390=\"Sí\",1,0)*100)","v":""},"",""]
[null,null,null,null,{"$f":"IF(D391=\"\",\"\",VLOOKUP(CONCATENATE(C391,D391),Listas!$AT$2:$AV$1104,3,FALSE))","v":""},null,{"$f":"IF(OR(F391=\"\",E391=\"\"),\"\",VLOOKUP(CONCATENATE(E391,Listas!AZ388),Listas!$BC$3:$BI$15430,7,FALSE))","v":""},null,null,{"$f":"IF(G391=\"\",\"\",VLOOKUP(G391,Listas!$BM$3:$BN$16,2,FALSE)*100)","v":""},"",{"$f":"+IFERROR(VLOOKUP(E391,Listas!$CQ$2:$CW$1104,7,FALSE),\"\")","v":""},"",{"$f":"IF(E391=\"\",\"\",SUMPRODUCT(J391:M391,$J$2:$M$2))","v":""},{"$f":"+IFERROR(J391*58%,\"\")","v":""}]
[null,null,null,null,{"$f":"IF(D392=\"\",\"\",VLOOKUP(CONCATENATE(C392,D392),Listas!$AT$2:$AV$1104,3,FALSE))","v":""},null,{"$f":"IF(OR(F392=\"\",E392=\"\"),\"\",VLOOKUP(CONCATENATE(E392,Listas!AZ389),Listas!$BC$3:$BI$15430,7,FALSE))","v":""},null,null,{"$f":"IF(G392=\"\",\"\",VLOOKUP(G392,Listas!$BM$3:$BN$16,2,FALSE)*100)","v":""},"",{"$f":"+IFERROR(VLOOKUP(E392,Listas!$CQ$2:$CW$1104,7,FALSE),\"\")","v":""},"","",""]
[null,null,null,null,{"$f":"IF(D393=\"\",\"\",VLOOKUP(CONCATENATE(C393,D393),Listas!$AT$2:$AV$1104,3,FALSE))","v":""},null,{"$f":"IF(OR(F393=\"\",E393=\"\"),\"\",VLOOKUP(CONCATENATE(E393,Listas!AZ390),Listas!$BC$3:$BI$15430,7,FALSE))","v":""},null,null,{"$f":"IF(G393=\"\",\"\",VLOOKUP(G393,Listas!$BM$3:$BN$16,2,FALSE)*100)","v":""},"",{"$f":"+IFERROR(VLOOKUP(E393,Listas!$CQ$2:$CW$1104,7,FALSE),\"\")","v":""},"","",""]
[null,null,null,null,{"$f":"IF(D394=\"\",\"\",VLOOKUP(CONCATENATE(C394,D394),Listas!$AT$2:$AV$1104,3,FALSE))","v":""},null,{"$f":"IF(OR(F394=\"\",E394=\"\"),\"\",VLOOKUP(CONCATENATE(E394,Listas!AZ391),Listas!$BC$3:$BI$15430,7,FALSE))","v":""},null,null,{"$f":"IF(G394=\"\",\"\",VLOOKUP(G394,Listas!$BM$3:$BN$16,2,FALSE)*100)","v":""},"",{"$f":"+IFERROR(VLOOKUP(E394,Listas!$CQ$2:$CW$1104,7,FALSE),\"\")","v":""},"","",""]
[null,null,null,null,{"$f":"IF(D395=\"\",\"\",VLOOKUP(CONCATENATE(C395,D395),Listas!$AT$2:$AV$1104,3,FALSE))","v":""},null,{"$f":"IF(OR(F395=\"\",E395=\"\"),\"\",VLOOKUP(CONCATENATE(E395,Listas!AZ392),Listas!$BC$3:$BI$15430,7,FALSE))","v":""},null,null,{"$f":"IF(G395=\"\",\"\",VLOOKUP(G395,Listas!$BM$3:$BN$16,2,FALSE)*100)","v":""},"",{"$f":"+IFERROR(VLOOKUP(E395,Listas!$CQ$2:$CW$1104,7,FALSE),\"\")","v":""},"","",""]
[null,null,null,null,{"$f":"IF(D396=\"\",\"\",VLOOKUP(CONCATENATE(C396,D396),Listas!$AT$2:$AV$1104,3,FALSE))","v":""},null,{"$f":"IF(OR(F396=\"\",E396=\"\"),\"\",VLOOKUP(CONCATENATE(E396,Listas!AZ393),Listas!$BC$3:$BI$15430,7,FALSE))","v":""},null,null,{"$f":"IF(G396=\"\",\"\",VLOOKUP(G396,Listas!$BM$3:$BN$16,2,FALSE)*100)","v":""},"",{"$f":"+IFERROR(VLOOKUP(E396,Listas!$CQ$2:$CW$1104,7,FALSE),\"\")","v":""},"","",""]
[null,null,null,null,{"$f":"IF(D397=\"\",\"\",VLOOKUP(CONCATENATE(C397,D397),Listas!$AT$2:$AV$1104,3,FALSE))","v":""},null,{"$f":"IF(OR(F397=\"\",E397=\"\"),\"\",VLOOKUP(CONCATENATE(E397,Listas!AZ394),Listas!$BC$3:$BI$15430,7,FALSE))","v":""},null,null,{"$f":"IF(G397=\"\",\"\",VLOOKUP(G397,Listas!$BM$3:$BN$16,2,FALSE)*100)","v":""},"",{"$f":"+IFERROR(VLOOKUP(E397,Listas!$CQ$2:$CW$1104,7,FALSE),\"\")","v":""},"","",""]
[null,null,null,null,{"$f":"IF(D398=\"\",\"\",VLOOKUP(CONCATENATE(C398,D398),Listas!$AT$2:$AV$1104,3,FALSE))","v":""},null,{"$f":"IF(OR(F398=\"\",E398=\"\"),\"\",VLOOKUP(CONCATENATE(E398,Listas!AZ395),Listas!$BC$3:$BI$15430,7,FALSE))","v":""},null,null,{"$f":"IF(G398=\"\",\"\",VLOOKUP(G398,Listas!$BM$3:$BN$16,2,FALSE)*100)","v":""},"",{"$f":"+IFERROR(VLOOKUP(E398,Listas!$CQ$2:$CW$1104,7,FALSE),\"\")","v":""},"","",""]
[null,null,null,null,{"$f":"IF(D399=\"\",\"\",VLOOKUP(CONCATENATE(C399,D399),Listas!$AT$2:$AV$1104,3,FALSE))","v":""},null,{"$f":"IF(OR(F399=\"\",E399=\"\"),\"\",VLOOKUP(CONCATENATE(E399,Listas!AZ396),Listas!$BC$3:$BI$15430,7,FALSE))","v":""},null,null,{"$f":"IF(G399=\"\",\"\",VLOOKUP(G399,Listas!$BM$3:$BN$16,2,FALSE)*100)","v":""},"",{"$f":"+IFERROR(VLOOKUP(E399,Listas!$CQ$2:$CW$1104,7,FALSE),\"\")","v":""},"","",""]
[null,null,null,null,{"$f":"IF(D400=\"\",\"\",VLOOKUP(CONCATENATE(C400,D400),Listas!$AT$2:$AV$1104,3,FALSE))","v":""},null,{"$f":"IF(OR(F400=\"\",E400=\"\"),\"\",VLOOKUP(CONCATENATE(E400,Listas!AZ397),Listas!$BC$3:$BI$15430,7,FALSE))","v":""},null,null,{"$f":"IF(G400=\"\",\"\",VLOOKUP(G400,Listas!$BM$3:$BN$16,2,FALSE)*100)","v":""},"",{"$f":"+IFERROR(VLOOKUP(E400,Listas!$CQ$2:$CW$1104,7,FALSE),\"\")","v":""},"","",""]
[null,null,null,null,{"$f":"IF(D401=\"\",\"\",VLOOKUP(CONCATENATE(C401,D401),Listas!$AT$2:$AV$1104,3,FALSE))","v":""},null,{"$f":"IF(OR(F401=\"\",E401=\"\"),\"\",VLOOKUP(CONCATENATE(E401,Listas!AZ398),Listas!$BC$3:$BI$15430,7,FALSE))","v":""},null,null,{"$f":"IF(G401=\"\",\"\",VLOOKUP(G401,Listas!$BM$3:$BN$16,2,FALSE)*100)","v":""},"",{"$f":"+IFERROR(VLOOKUP(E401,Listas!$CQ$2:$CW$1104,7,FALSE),\"\")","v":""},"","",""]
[null,null,null,null,{"$f":"IF(D402=\"\",\"\",VLOOKUP(CONCATENATE(C402,D402),Listas!$AT$2:$AV$1104,3,FALSE))","v":""},null,{"$f":"IF(OR(F402=\"\",E402=\"\"),\"\",VLOOKUP(CONCATENATE(E402,Listas!AZ399),Listas!$BC$3:$BI$15430,7,FALSE))","v":""},null,null,{"$f":"IF(G402=\"\",\"\",VLOOKUP(G402,Listas!$BM$3:$BN$16,2,FALSE)*100)","v":""},"",{"$f":"+IFERROR(VLOOKUP(E402,Listas!$CQ$2:$CW$1104,7,FALSE),\"\")","v":""},"","",""]
[null,null,null,null,{"$f":"IF(D403=\"\",\"\",VLOOKUP(CONCATENATE(C403,D403),Listas!$AT$2:$AV$1104,3,FALSE))","v":""},null,{"$f":"IF(OR(F403=\"\",E403=\"\"),\"\",VLOOKUP(CONCATENATE(E403,Listas!AZ400),Listas!$BC$3:$BI$15430,7,FALSE))","v":""},null,null,{"$f":"IF(G403=\"\",\"\",VLOOKUP(G403,Listas!$BM$3:$BN$16,2,FALSE)*100)","v":""},"",{"$f":"+IFERROR(VLOOKUP(E403,Listas!$CQ$2:$CW$1104,7,FALSE),\"\")","v":""},"","",""]
[null,null,null,null,{"$f":"IF(D404=\"\",\"\",VLOOKUP(CONCATENATE(C404,D404),Listas!$AT$2:$AV$1104,3,FALSE))","v":""},null,{"$f":"IF(OR(F404=\"\",E404=\"\"),\"\",VLOOKUP(CONCATENATE(E404,Listas!AZ401),Listas!$BC$3:$BI$15430,7,FALSE))","v":""},null,null,{"$f":"IF(G404=\"\",\"\",VLOOKUP(G404,Listas!$BM$3:$BN$16,2,FALSE)*100)","v":""},"",{"$f":"+IFERROR(VLOOKUP(E404,Listas!$CQ$2:$CW$1104,7,FALSE),\"\")","v":""},"","",""]
[null,null,null,null,{"$f":"IF(D405=\"\",\"\",VLOOKUP(CONCATENATE(C405,D405),Listas!$AT$2:$AV$1104,3,FALSE))","v":""},null,{"$f":"IF(OR(F405=\"\",E405=\"\"),\"\",VLOOKUP(CONCATENATE(E405,Listas!AZ402),Listas!$BC$3:$BI$15430,7,FALSE))","v":""},null,null,{"$f":"IF(G405=\"\",\"\",VLOOKUP(G405,Listas!$BM$3:$BN$16,2,FALSE)*100)","v":""},"",{"$f":"+IFERROR(VLOOKUP(E405,Listas!$CQ$2:$CW$1104,7,FALSE),\"\")","v":""},"","",""]
[null,null,null,null,{"$f":"IF(D406=\"\",\"\",VLOOKUP(CONCATENATE(C406,D406),Listas!$AT$2:$AV$1104,3,FALSE))","v":""},null,{"$f":"IF(OR(F406=\"\",E406=\"\"),\"\",VLOOKUP(CONCATENATE(E406,Listas!AZ403),Listas!$BC$3:$BI$15430,7,FALSE))","v":""},null,null,{"$f":"IF(G406=\"\",\"\",VLOOKUP(G406,Listas!$BM$3:$BN$16,2,FALSE)*100)","v":""},"",{"$f":"+IFERROR(VLOOKUP(E406,Listas!$CQ$2:$CW$1104,7,FALSE),\"\")","v":""},"","",""]
[null,null,null,null,{"$f":"IF(D407=\"\",\"\",VLOOKUP(CONCATENATE(C407,D407),Listas!$AT$2:$AV$1104,3,FALSE))","v":""},null,{"$f":"IF(OR(F407=\"\",E407=\"\"),\"\",VLOOKUP(CONCATENATE(E407,Listas!AZ404),Listas!$BC$3:$BI$15430,7,FALSE))","v":""},null,null,{"$f":"IF(G407=\"\",\"\",VLOOKUP(G407,Listas!$BM$3:$BN$16,2,FALSE)*100)","v":""},"",{"$f":"+IFERROR(VLOOKUP(E407,Listas!$CQ$2:$CW$1104,7,FALSE),\"\")","v":""},"","",""]
[null,null,null,null,{"$f":"IF(D408=\"\",\"\",VLOOKUP(CONCATENATE(C408,D408),Listas!$AT$2:$AV$1104,3,FALSE))","v":""},null,{"$f":"IF(OR(F408=\"\",E408=\"\"),\"\",VLOOKUP(CONCATENATE(E408,Listas!AZ405),Listas!$BC$3:$BI$15430,7,FALSE))","v":""},null,null,{"$f":"IF(G408=\"\",\"\",VLOOKUP(G408,Listas!$BM$3:$BN$16,2,FALSE)*100)","v":""},"",{"$f":"+IFERROR(VLOOKUP(E408,Listas!$CQ$2:$CW$1104,7,FALSE),\"\")","v":""},"","",""]
[null,null,null,null,{"$f":"IF(D409=\"\",\"\",VLOOKUP(CONCATENATE(C409,D409),Listas!$AT$2:$AV$1104,3,FALSE))","v":""},null,{"$f":"IF(OR(F409=\"\",E409=\"\"),\"\",VLOOKUP(CONCATENATE(E409,Listas!AZ406),Listas!$BC$3:$BI$15430,7,FALSE))","v":""},null,null,{"$f":"IF(G409=\"\",\"\",VLOOKUP(G409,Listas!$BM$3:$BN$16,2,FALSE)*100)","v":""},"",{"$f":"+IFERROR(VLOOKUP(E409,Listas!$CQ$2:$CW$1104,7,FALSE),\"\")","v":""},"","",""]
[null,null,null,null,{"$f":"IF(D410=\"\",\"\",VLOOKUP(CONCATENATE(C410,D410),Listas!$AT$2:$AV$1104,3,FALSE))","v":""},null,{"$f":"IF(OR(F410=\"\",E410=\"\"),\"\",VLOOKUP(CONCATENATE(E410,Listas!AZ407),Listas!$BC$3:$BI$15430,7,FALSE))","v":""},null,null,{"$f":"IF(G410=\"\",\"\",VLOOKUP(G410,Listas!$BM$3:$BN$16,2,FALSE)*100)","v":""},"",{"$f":"+IFERROR(VLOOKUP(E410,Listas!$CQ$2:$CW$1104,7,FALSE),\"\")","v":""},"","",""]
[null,null,null,null,{"$f":"IF(D411=\"\",\"\",VLOOKUP(CONCATENATE(C411,D411),Listas!$AT$2:$AV$1104,3,FALSE))","v":""},null,{"$f":"IF(OR(F411=\"\",E411=\"\"),\"\",VLOOKUP(CONCATENATE(E411,Listas!AZ408),Listas!$BC$3:$BI$15430,7,FALSE))","v":""},null,null,{"$f":"IF(G411=\"\",\"\",VLOOKUP(G411,Listas!$BM$3:$BN$16,2,FALSE)*100)","v":""},"",{"$f":"+IFERROR(VLOOKUP(E411,Listas!$CQ$2:$CW$1104,7,FALSE),\"\")","v":""},"","",""]
[null,null,null,null,{"$f":"IF(D412=\"\",\"\",VLOOKUP(CONCATENATE(C412,D412),Listas!$AT$2:$AV$1104,3,FALSE))","v":""},null,{"$f":"IF(OR(F412=\"\",E412=\"\"),\"\",VLOOKUP(CONCATENATE(E412,Listas!AZ409),Listas!$BC$3:$BI$15430,7,FALSE))","v":""},null,null,{"$f":"IF(G412=\"\",\"\",VLOOKUP(G412,Listas!$BM$3:$BN$16,2,FALSE)*100)","v":""},"",{"$f":"+IFERROR(VLOOKUP(E412,Listas!$CQ$2:$CW$1104,7,FALSE),\"\")","v":""},"","",""]
[null,null,null,null,{"$f":"IF(D413=\"\",\"\",VLOOKUP(CONCATENATE(C413,D413),Listas!$AT$2:$AV$1104,3,FALSE))","v":""},null,{"$f":"IF(OR(F413=\"\",E413=\"\"),\"\",VLOOKUP(CONCATENATE(E413,Listas!AZ410),Listas!$BC$3:$BI$15430,7,FALSE))","v":""},null,null,{"$f":"IF(G413=\"\",\"\",VLOOKUP(G413,Listas!$BM$3:$BN$16,2,FALSE)*100)","v":""},"",{"$f":"+IFERROR(VLOOKUP(E413,Listas!$CQ$2:$CW$1104,7,FALSE),\"\")","v":""},"","",""]
[null,null,null,null,{"$f":"IF(D414=\"\",\"\",VLOOKUP(CONCATENATE(C414,D414),Listas!$AT$2:$AV$1104,3,FALSE))","v":""},null,{"$f":"IF(OR(F414=\"\",E414=\"\"),\"\",VLOOKUP(CONCATENATE(E414,Listas!AZ411),Listas!$BC$3:$BI$15430,7,FALSE))","v":""},null,null,{"$f":"IF(G414=\"\",\"\",VLOOKUP(G414,Listas!$BM$3:$BN$16,2,FALSE)*100)","v":""},"",{"$f":"+IFERROR(VLOOKUP(E414,Listas!$CQ$2:$CW$1104,7,FALSE),\"\")","v":""},"","",""]
[null,null,null,null,{"$f":"IF(D415=\"\",\"\",VLOOKUP(CONCATENATE(C415,D415),Listas!$AT$2:$AV$1104,3,FALSE))","v":""},null,{"$f":"IF(OR(F415=\"\",E415=\"\"),\"\",VLOOKUP(CONCATENATE(E415,Listas!AZ412),Listas!$BC$3:$BI$15430,7,FALSE))","v":""},null,null,{"$f":"IF(G415=\"\",\"\",VLOOKUP(G415,Listas!$BM$3:$BN$16,2,FALSE)*100)","v":""},"",{"$f":"+IFERROR(VLOOKUP(E415,Listas!$CQ$2:$CW$1104,7,FALSE),\"\")","v":""},"","",""]
[null,null,null,null,{"$f":"IF(D416=\"\",\"\",VLOOKUP(CONCATENATE(C416,D416),Listas!$AT$2:$AV$1104,3,FALSE))","v":""},null,{"$f":"IF(OR(F416=\"\",E416=\"\"),\"\",VLOOKUP(CONCATENATE(E416,Listas!AZ413),Listas!$BC$3:$BI$15430,7,FALSE))","v":""},null,null,{"$f":"IF(G416=\"\",\"\",VLOOKUP(G416,Listas!$BM$3:$BN$16,2,FALSE)*100)","v":""},"",{"$f":"+IFERROR(VLOOKUP(E416,Listas!$CQ$2:$CW$1104,7,FALSE),\"\")","v":""},"","",""]
[null,null,null,null,{"$f":"IF(D417=\"\",\"\",VLOOKUP(CONCATENATE(C417,D417),Listas!$AT$2:$AV$1104,3,FALSE))","v":""},null,{"$f":"IF(OR(F417=\"\",E417=\"\"),\"\",VLOOKUP(CONCATENATE(E417,Listas!AZ414),Listas!$BC$3:$BI$15430,7,FALSE))","v":""},null,null,{"$f":"IF(G417=\"\",\"\",VLOOKUP(G417,Listas!$BM$3:$BN$16,2,FALSE)*100)","v":""},"",{"$f":"+IFERROR(VLOOKUP(E417,Listas!$CQ$2:$CW$1104,7,FALSE),\"\")","v":""},"","",""]
[null,null,null,null,{"$f":"IF(D418=\"\",\"\",VLOOKUP(CONCATENATE(C418,D418),Listas!$AT$2:$AV$1104,3,FALSE))","v":""},null,{"$f":"IF(OR(F418=\"\",E418=\"\"),\"\",VLOOKUP(CONCATENATE(E418,Listas!AZ415),Listas!$BC$3:$BI$15430,7,FALSE))","v":""},null,null,{"$f":"IF(G418=\"\",\"\",VLOOKUP(G418,Listas!$BM$3:$BN$16,2,FALSE)*100)","v":""},"",{"$f":"+IFERROR(VLOOKUP(E418,Listas!$CQ$2:$CW$1104,7,FALSE),\"\")","v":""},"","",""]
[null,null,null,null,{"$f":"IF(D419=\"\",\"\",VLOOKUP(CONCATENATE(C419,D419),Listas!$AT$2:$AV$1104,3,FALSE))","v":""},null,{"$f":"IF(OR(F419=\"\",E419=\"\"),\"\",VLOOKUP(CONCATENATE(E419,Listas!AZ416),Listas!$BC$3:$BI$15430,7,FALSE))","v":""},null,null,{"$f":"IF(G419=\"\",\"\",VLOOKUP(G419,Listas!$BM$3:$BN$16,2,FALSE)*100)","v":""},"",{"$f":"+IFERROR(VLOOKUP(E419,Listas!$CQ$2:$CW$1104,7,FALSE),\"\")","v":""},"","",""]
[null,null,null,null,{"$f":"IF(D420=\"\",\"\",VLOOKUP(CONCATENATE(C420,D420),Listas!$AT$2:$AV$1104,3,FALSE))","v":""},null,{"$f":"IF(OR(F420=\"\",E420=\"\"),\"\",VLOOKUP(CONCATENATE(E420,Listas!AZ417),Listas!$BC$3:$BI$15430,7,FALSE))","v":""},null,null,{"$f":"IF(G420=\"\",\"\",VLOOKUP(G420,Listas!$BM$3:$BN$16,2,FALSE)*100)","v":""},"",{"$f":"+IFERROR(VLOOKUP(E420,Listas!$CQ$2:$CW$1104,7,FALSE),\"\")","v":""},"","",""]
[null,null,null,null,{"$f":"IF(D421=\"\",\"\",VLOOKUP(CONCATENATE(C421,D421),Listas!$AT$2:$AV$1104,3,FALSE))","v":""},null,{"$f":"IF(OR(F421=\"\",E421=\"\"),\"\",VLOOKUP(CONCATENATE(E421,Listas!AZ418),Listas!$BC$3:$BI$15430,7,FALSE))","v":""},null,null,{"$f":"IF(G421=\"\",\"\",VLOOKUP(G421,Listas!$BM$3:$BN$16,2,FALSE)*100)","v":""},"",{"$f":"+IFERROR(VLOOKUP(E421,Listas!$CQ$2:$CW$1104,7,FALSE),\"\")","v":""},"","",""]
[null,null,null,null,{"$f":"IF(D422=\"\",\"\",VLOOKUP(CONCATENATE(C422,D422),Listas!$AT$2:$AV$1104,3,FALSE))","v":""},null,{"$f":"IF(OR(F422=\"\",E422=\"\"),\"\",VLOOKUP(CONCATENATE(E422,Listas!AZ419),Listas!$BC$3:$BI$15430,7,FALSE))","v":""},null,null,{"$f":"IF(G422=\"\",\"\",VLOOKUP(G422,Listas!$BM$3:$BN$16,2,FALSE)*100)","v":""},"",{"$f":"+IFERROR(VLOOKUP(E422,Listas!$CQ$2:$CW$1104,7,FALSE),\"\")","v":""},"","",""]
[null,null,null,null,{"$f":"IF(D423=\"\",\"\",VLOOKUP(CONCATENATE(C423,D423),Listas!$AT$2:$AV$1104,3,FALSE))","v":""},null,{"$f":"IF(OR(F423=\"\",E423=\"\"),\"\",VLOOKUP(CONCATENATE(E423,Listas!AZ420),Listas!$BC$3:$BI$15430,7,FALSE))","v":""},null,null,{"$f":"IF(G423=\"\",\"\",VLOOKUP(G423,Listas!$BM$3:$BN$16,2,FALSE)*100)","v":""},"",{"$f":"+IFERROR(VLOOKUP(E423,Listas!$CQ$2:$CW$1104,7,FALSE),\"\")","v":""},"","",""]
[null,null,null,null,{"$f":"IF(D424=\"\",\"\",VLOOKUP(CONCATENATE(C424,D424),Listas!$AT$2:$AV$1104,3,FALSE))","v":""},null,{"$f":"IF(OR(F424=\"\",E424=\"\"),\"\",VLOOKUP(CONCATENATE(E424,Listas!AZ421),Listas!$BC$3:$BI$15430,7,FALSE))","v":""},null,null,{"$f":"IF(G424=\"\",\"\",VLOOKUP(G424,Listas!$BM$3:$BN$16,2,FALSE)*100)","v":""},"",{"$f":"+IFERROR(VLOOKUP(E424,Listas!$CQ$2:$CW$1104,7,FALSE),\"\")","v":""},"","",""]
[null,null,null,null,{"$f":"IF(D425=\"\",\"\",VLOOKUP(CONCATENATE(C425,D425),Listas!$AT$2:$AV$1104,3,FALSE))","v":""},null,{"$f":"IF(OR(F425=\"\",E425=\"\"),\"\",VLOOKUP(CONCATENATE(E425,Listas!AZ422),Listas!$BC$3:$BI$15430,7,FALSE))","v":""},null,null,{"$f":"IF(G425=\"\",\"\",VLOOKUP(G425,Listas!$BM$3:$BN$16,2,FALSE)*100)","v":""},"",{"$f":"+IFERROR(VLOOKUP(E425,Listas!$CQ$2:$CW$1104,7,FALSE),\"\")","v":""},"","",""]
[null,null,null,null,{"$f":"IF(D426=\"\",\"\",VLOOKUP(CONCATENATE(C426,D426),Listas!$AT$2:$AV$1104,3,FALSE))","v":""},null,{"$f":"IF(OR(F426=\"\",E426=\"\"),\"\",VLOOKUP(CONCATENATE(E426,Listas!AZ423),Listas!$BC$3:$BI$15430,7,FALSE))","v":""},null,null,{"$f":"IF(G426=\"\",\"\",VLOOKUP(G426,Listas!$BM$3:$BN$16,2,FALSE)*100)","v":""},"",{"$f":"+IFERROR(VLOOKUP(E426,Listas!$CQ$2:$CW$1104,7,FALSE),\"\")","v":""},"","",""]
[null,null,null,null,{"$f":"IF(D427=\"\",\"\",VLOOKUP(CONCATENATE(C427,D427),Listas!$AT$2:$AV$1104,3,FALSE))","v":""},null,{"$f":"IF(OR(F427=\"\",E427=\"\"),\"\",VLOOKUP(CONCATENATE(E427,Listas!AZ424),Listas!$BC$3:$BI$15430,7,FALSE))","v":""},null,null,{"$f":"IF(G427=\"\",\"\",VLOOKUP(G427,Listas!$BM$3:$BN$16,2,FALSE)*100)","v":""},"",{"$f":"+IFERROR(VLOOKUP(E427,Listas!$CQ$2:$CW$1104,7,FALSE),\"\")","v":""},"","",""]
[null,null,null,null,{"$f":"IF(D428=\"\",\"\",VLOOKUP(CONCATENATE(C428,D428),Listas!$AT$2:$AV$1104,3,FALSE))","v":""},null,{"$f":"IF(OR(F428=\"\",E428=\"\"),\"\",VLOOKUP(CONCATENATE(E428,Listas!AZ425),Listas!$BC$3:$BI$15430,7,FALSE))","v":""},null,null,{"$f":"IF(G428=\"\",\"\",VLOOKUP(G428,Listas!$BM$3:$BN$16,2,FALSE)*100)","v":""},"",{"$f":"+IFERROR(VLOOKUP(E428,Listas!$CQ$2:$CW$1104,7,FALSE),\"\")","v":""},"","",""]
[null,null,null,null,{"$f":"IF(D429=\"\",\"\",VLOOKUP(CONCATENATE(C429,D429),Listas!$AT$2:$AV$1104,3,FALSE))","v":""},null,{"$f":"IF(OR(F429=\"\",E429=\"\"),\"\",VLOOKUP(CONCATENATE(E429,Listas!AZ426),Listas!$BC$3:$BI$15430,7,FALSE))","v":""},null,null,{"$f":"IF(G429=\"\",\"\",VLOOKUP(G429,Listas!$BM$3:$BN$16,2,FALSE)*100)","v":""},"",{"$f":"+IFERROR(VLOOKUP(E429,Listas!$CQ$2:$CW$1104,7,FALSE),\"\")","v":""},"","",""]
[null,null,null,null,{"$f":"IF(D430=\"\",\"\",VLOOKUP(CONCATENATE(C430,D430),Listas!$AT$2:$AV$1104,3,FALSE))","v":""},null,{"$f":"IF(OR(F430=\"\",E430=\"\"),\"\",VLOOKUP(CONCATENATE(E430,Listas!AZ427),Listas!$BC$3:$BI$15430,7,FALSE))","v":""},null,null,{"$f":"IF(G430=\"\",\"\",VLOOKUP(G430,Listas!$BM$3:$BN$16,2,FALSE)*100)","v":""},"",{"$f":"+IFERROR(VLOOKUP(E430,Listas!$CQ$2:$CW$1104,7,FALSE),\"\")","v":""},"","",""]
[null,null,null,null,{"$f":"IF(D431=\"\",\"\",VLOOKUP(CONCATENATE(C431,D431),Listas!$AT$2:$AV$1104,3,FALSE))","v":""},null,{"$f":"IF(OR(F431=\"\",E431=\"\"),\"\",VLOOKUP(CONCATENATE(E431,Listas!AZ428),Listas!$BC$3:$BI$15430,7,FALSE))","v":""},null,null,{"$f":"IF(G431=\"\",\"\",VLOOKUP(G431,Listas!$BM$3:$BN$16,2,FALSE)*100)","v":""},"",{"$f":"+IFERROR(VLOOKUP(E431,Listas!$CQ$2:$CW$1104,7,FALSE),\"\")","v":""},"","",""]
[null,null,null,null,{"$f":"IF(D432=\"\",\"\",VLOOKUP(CONCATENATE(C432,D432),Listas!$AT$2:$AV$1104,3,FALSE))","v":""},null,{"$f":"IF(OR(F432=\"\",E432=\"\"),\"\",VLOOKUP(CONCATENATE(E432,Listas!AZ429),Listas!$BC$3:$BI$15430,7,FALSE))","v":""},null,null,{"$f":"IF(G432=\"\",\"\",VLOOKUP(G432,Listas!$BM$3:$BN$16,2,FALSE)*100)","v":""},"",{"$f":"+IFERROR(VLOOKUP(E432,Listas!$CQ$2:$CW$1104,7,FALSE),\"\")","v":""},"","",""]
[null,null,null,null,{"$f":"IF(D433=\"\",\"\",VLOOKUP(CONCATENATE(C433,D433),Listas!$AT$2:$AV$1104,3,FALSE))","v":""},null,{"$f":"IF(OR(F433=\"\",E433=\"\"),\"\",VLOOKUP(CONCATENATE(E433,Listas!AZ430),Listas!$BC$3:$BI$15430,7,FALSE))","v":""},null,null,{"$f":"IF(G433=\"\",\"\",VLOOKUP(G433,Listas!$BM$3:$BN$16,2,FALSE)*100)","v":""},"",{"$f":"+IFERROR(VLOOKUP(E433,Listas!$CQ$2:$CW$1104,7,FALSE),\"\")","v":""},"","",""]
[null,null,null,null,{"$f":"IF(D434=\"\",\"\",VLOOKUP(CONCATENATE(C434,D434),Listas!$AT$2:$AV$1104,3,FALSE))","v":""},null,{"$f":"IF(OR(F434=\"\",E434=\"\"),\"\",VLOOKUP(CONCATENATE(E434,Listas!AZ431),Listas!$BC$3:$BI$15430,7,FALSE))","v":""},null,null,{"$f":"IF(G434=\"\",\"\",VLOOKUP(G434,Listas!$BM$3:$BN$16,2,FALSE)*100)","v":""},"",{"$f":"+IFERROR(VLOOKUP(E434,Listas!$CQ$2:$CW$1104,7,FALSE),\"\")","v":""},"","",""]
[null,null,null,null,{"$f":"IF(D435=\"\",\"\",VLOOKUP(CONCATENATE(C435,D435),Listas!$AT$2:$AV$1104,3,FALSE))","v":""},null,{"$f":"IF(OR(F435=\"\",E435=\"\"),\"\",VLOOKUP(CONCATENATE(E435,Listas!AZ432),Listas!$BC$3:$BI$15430,7,FALSE))","v":""},null,null,{"$f":"IF(G435=\"\",\"\",VLOOKUP(G435,Listas!$BM$3:$BN$16,2,FALSE)*100)","v":""},"",{"$f":"+IFERROR(VLOOKUP(E435,Listas!$CQ$2:$CW$1104,7,FALSE),\"\")","v":""},"","",""]
[null,null,null,null,{"$f":"IF(D436=\"\",\"\",VLOOKUP(CONCATENATE(C436,D436),Listas!$AT$2:$AV$1104,3,FALSE))","v":""},null,{"$f":"IF(OR(F436=\"\",E436=\"\"),\"\",VLOOKUP(CONCATENATE(E436,Listas!AZ433),Listas!$BC$3:$BI$15430,7,FALSE))","v":""},null,null,{"$f":"IF(G436=\"\",\"\",VLOOKUP(G436,Listas!$BM$3:$BN$16,2,FALSE)*100)","v":""},"",{"$f":"+IFERROR(VLOOKUP(E436,Listas!$CQ$2:$CW$1104,7,FALSE),\"\")","v":""},"","",""]
[null,null,null,null,{"$f":"IF(D437=\"\",\"\",VLOOKUP(CONCATENATE(C437,D437),Listas!$AT$2:$AV$1104,3,FALSE))","v":""},null,{"$f":"IF(OR(F437=\"\",E437=\"\"),\"\",VLOOKUP(CONCATENATE(E437,Listas!AZ434),Listas!$BC$3:$BI$15430,7,FALSE))","v":""},null,null,{"$f":"IF(G437=\"\",\"\",VLOOKUP(G437,Listas!$BM$3:$BN$16,2,FALSE)*100)","v":""},"",{"$f":"+IFERROR(VLOOKUP(E437,Listas!$CQ$2:$CW$1104,7,FALSE),\"\")","v":""},"","",""]
[null,null,null,null,{"$f":"IF(D438=\"\",\"\",VLOOKUP(CONCATENATE(C438,D438),Listas!$AT$2:$AV$1104,3,FALSE))","v":""},null,{"$f":"IF(OR(F438=\"\",E438=\"\"),\"\",VLOOKUP(CONCATENATE(E438,Listas!AZ435),Listas!$BC$3:$BI$15430,7,FALSE))","v":""},null,null,{"$f":"IF(G438=\"\",\"\",VLOOKUP(G438,Listas!$BM$3:$BN$16,2,FALSE)*100)","v":""},"",{"$f":"+IFERROR(VLOOKUP(E438,Listas!$CQ$2:$CW$1104,7,FALSE),\"\")","v":""},"","",""]
[null,null,null,null,{"$f":"IF(D439=\"\",\"\",VLOOKUP(CONCATENATE(C439,D439),Listas!$AT$2:$AV$1104,3,FALSE))","v":""},null,{"$f":"IF(OR(F439=\"\",E439=\"\"),\"\",VLOOKUP(CONCATENATE(E439,Listas!AZ436),Listas!$BC$3:$BI$15430,7,FALSE))","v":""},null,null,{"$f":"IF(G439=\"\",\"\",VLOOKUP(G439,Listas!$BM$3:$BN$16,2,FALSE)*100)","v":""},"",{"$f":"+IFERROR(VLOOKUP(E439,Listas!$CQ$2:$CW$1104,7,FALSE),\"\")","v":""},"","",""]
[null,null,null,null,{"$f":"IF(D440=\"\",\"\",VLOOKUP(CONCATENATE(C440,D440),Listas!$AT$2:$AV$1104,3,FALSE))","v":""},null,{"$f":"IF(OR(F440=\"\",E440=\"\"),\"\",VLOOKUP(CONCATENATE(E440,Listas!AZ437),Listas!$BC$3:$BI$15430,7,FALSE))","v":""},null,null,{"$f":"IF(G440=\"\",\"\",VLOOKUP(G440,Listas!$BM$3:$BN$16,2,FALSE)*100)","v":""},"",{"$f":"+IFERROR(VLOOKUP(E440,Listas!$CQ$2:$CW$1104,7,FALSE),\"\")","v":""},"","",""]
[null,null,null,null,{"$f":"IF(D441=\"\",\"\",VLOOKUP(CONCATENATE(C441,D441),Listas!$AT$2:$AV$1104,3,FALSE))","v":""},null,{"$f":"IF(OR(F441=\"\",E441=\"\"),\"\",VLOOKUP(CONCATENATE(E441,Listas!AZ438),Listas!$BC$3:$BI$15430,7,FALSE))","v":""},null,null,{"$f":"IF(G441=\"\",\"\",VLOOKUP(G441,Listas!$BM$3:$BN$16,2,FALSE)*100)","v":""},"",{"$f":"+IFERROR(VLOOKUP(E441,Listas!$CQ$2:$CW$1104,7,FALSE),\"\")","v":""},"","",""]
[null,null,null,null,{"$f":"IF(D442=\"\",\"\",VLOOKUP(CONCATENATE(C442,D442),Listas!$AT$2:$AV$1104,3,FALSE))","v":""},null,{"$f":"IF(OR(F442=\"\",E442=\"\"),\"\",VLOOKUP(CONCATENATE(E442,Listas!AZ439),Listas!$BC$3:$BI$15430,7,FALSE))","v":""},null,null,{"$f":"IF(G442=\"\",\"\",VLOOKUP(G442,Listas!$BM$3:$BN$16,2,FALSE)*100)","v":""},"",{"$f":"+IFERROR(VLOOKUP(E442,Listas!$CQ$2:$CW$1104,7,FALSE),\"\")","v":""},"","",""]
[null,null,null,null,{"$f":"IF(D443=\"\",\"\",VLOOKUP(CONCATENATE(C443,D443),Listas!$AT$2:$AV$1104,3,FALSE))","v":""},null,{"$f":"IF(OR(F443=\"\",E443=\"\"),\"\",VLOOKUP(CONCATENATE(E443,Listas!AZ440),Listas!$BC$3:$BI$15430,7,FALSE))","v":""},null,null,{"$f":"IF(G443=\"\",\"\",VLOOKUP(G443,Listas!$BM$3:$BN$16,2,FALSE)*100)","v":""},"",{"$f":"+IFERROR(VLOOKUP(E443,Listas!$CQ$2:$CW$1104,7,FALSE),\"\")","v":""},"","",""]
[null,null,null,null,{"$f":"IF(D444=\"\",\"\",VLOOKUP(CONCATENATE(C444,D444),Listas!$AT$2:$AV$1104,3,FALSE))","v":""},null,{"$f":"IF(OR(F444=\"\",E444=\"\"),\"\",VLOOKUP(CONCATENATE(E444,Listas!AZ441),Listas!$BC$3:$BI$15430,7,FALSE))","v":""},null,null,{"$f":"IF(G444=\"\",\"\",VLOOKUP(G444,Listas!$BM$3:$BN$16,2,FALSE)*100)","v":""},"",{"$f":"+IFERROR(VLOOKUP(E444,Listas!$CQ$2:$CW$1104,7,FALSE),\"\")","v":""},"","",""]
[null,null,null,null,{"$f":"IF(D445=\"\",\"\",VLOOKUP(CONCATENATE(C445,D445),Listas!$AT$2:$AV$1104,3,FALSE))","v":""},null,{"$f":"IF(OR(F445=\"\",E445=\"\"),\"\",VLOOKUP(CONCATENATE(E445,Listas!AZ442),Listas!$BC$3:$BI$15430,7,FALSE))","v":""},null,null,{"$f":"IF(G445=\"\",\"\",VLOOKUP(G445,Listas!$BM$3:$BN$16,2,FALSE)*100)","v":""},"",{"$f":"+IFERROR(VLOOKUP(E445,Listas!$CQ$2:$CW$1104,7,FALSE),\"\")","v":""},"","",""]
[null,null,null,null,{"$f":"IF(D446=\"\",\"\",VLOOKUP(CONCATENATE(C446,D446),Listas!$AT$2:$AV$1104,3,FALSE))","v":""},null,{"$f":"IF(OR(F446=\"\",E446=\"\"),\"\",VLOOKUP(CONCATENATE(E446,Listas!AZ443),Listas!$BC$3:$BI$15430,7,FALSE))","v":""},null,null,{"$f":"IF(G446=\"\",\"\",VLOOKUP(G446,Listas!$BM$3:$BN$16,2,FALSE)*100)","v":""},"",{"$f":"+IFERROR(VLOOKUP(E446,Listas!$CQ$2:$CW$1104,7,FALSE),\"\")","v":""},"","",""]
[null,null,null,null,{"$f":"IF(D447=\"\",\"\",VLOOKUP(CONCATENATE(C447,D447),Listas!$AT$2:$AV$1104,3,FALSE))","v":""},null,{"$f":"IF(OR(F447=\"\",E447=\"\"),\"\",VLOOKUP(CONCATENATE(E447,Listas!AZ444),Listas!$BC$3:$BI$15430,7,FALSE))","v":""},null,null,{"$f":"IF(G447=\"\",\"\",VLOOKUP(G447,Listas!$BM$3:$BN$16,2,FALSE)*100)","v":""},"",{"$f":"+IFERROR(VLOOKUP(E447,Listas!$CQ$2:$CW$1104,7,FALSE),\"\")","v":""},"","",""]
[null,null,null,null,{"$f":"IF(D448=\"\",\"\",VLOOKUP(CONCATENATE(C448,D448),Listas!$AT$2:$AV$1104,3,FALSE))","v":""},null,{"$f":"IF(OR(F448=\"\",E448=\"\"),\"\",VLOOKUP(CONCATENATE(E448,Listas!AZ445),Listas!$BC$3:$BI$15430,7,FALSE))","v":""},null,null,{"$f":"IF(G448=\"\",\"\",VLOOKUP(G448,Listas!$BM$3:$BN$16,2,FALSE)*100)","v":""},"",{"$f":"+IFERROR(VLOOKUP(E448,Listas!$CQ$2:$CW$1104,7,FALSE),\"\")","v":""},"","",""]
[null,null,null,null,{"$f":"IF(D449=\"\",\"\",VLOOKUP(CONCATENATE(C449,D449),Listas!$AT$2:$AV$1104,3,FALSE))","v":""},null,{"$f":"IF(OR(F449=\"\",E449=\"\"),\"\",VLOOKUP(CONCATENATE(E449,Listas!AZ446),Listas!$BC$3:$BI$15430,7,FALSE))","v":""},null,null,{"$f":"IF(G449=\"\",\"\",VLOOKUP(G449,Listas!$BM$3:$BN$16,2,FALSE)*100)","v":""},"",{"$f":"+IFERROR(VLOOKUP(E449,Listas!$CQ$2:$CW$1104,7,FALSE),\"\")","v":""},"","",""]
[null,null,null,null,{"$f":"IF(D450=\"\",\"\",VLOOKUP(CONCATENATE(C450,D450),Listas!$AT$2:$AV$1104,3,FALSE))","v":""},null,{"$f":"IF(OR(F450=\"\",E450=\"\"),\"\",VLOOKUP(CONCATENATE(E450,Listas!AZ447),Listas!$BC$3:$BI$15430,7,FALSE))","v":""},null,null,{"$f":"IF(G450=\"\",\"\",VLOOKUP(G450,Listas!$BM$3:$BN$16,2,FALSE)*100)","v":""},"",{"$f":"+IFERROR(VLOOKUP(E450,Listas!$CQ$2:$CW$1104,7,FALSE),\"\")","v":""},"","",""]
[null,null,null,null,{"$f":"IF(D451=\"\",\"\",VLOOKUP(CONCATENATE(C451,D451),Listas!$AT$2:$AV$1104,3,FALSE))","v":""},null,{"$f":"IF(OR(F451=\"\",E451=\"\"),\"\",VLOOKUP(CONCATENATE(E451,Listas!AZ448),Listas!$BC$3:$BI$15430,7,FALSE))","v":""},null,null,{"$f":"IF(G451=\"\",\"\",VLOOKUP(G451,Listas!$BM$3:$BN$16,2,FALSE)*100)","v":""},"",{"$f":"+IFERROR(VLOOKUP(E451,Listas!$CQ$2:$CW$1104,7,FALSE),\"\")","v":""},"","",""]
[null,null,null,null,{"$f":"IF(D452=\"\",\"\",VLOOKUP(CONCATENATE(C452,D452),Listas!$AT$2:$AV$1104,3,FALSE))","v":""},null,{"$f":"IF(OR(F452=\"\",E452=\"\"),\"\",VLOOKUP(CONCATENATE(E452,Listas!AZ449),Listas!$BC$3:$BI$15430,7,FALSE))","v":""},null,null,{"$f":"IF(G452=\"\",\"\",VLOOKUP(G452,Listas!$BM$3:$BN$16,2,FALSE)*100)","v":""},"",{"$f":"+IFERROR(VLOOKUP(E452,Listas!$CQ$2:$CW$1104,7,FALSE),\"\")","v":""},"","",""]
[null,null,null,null,{"$f":"IF(D453=\"\",\"\",VLOOKUP(CONCATENATE(C453,D453),Listas!$AT$2:$AV$1104,3,FALSE))","v":""},null,{"$f":"IF(OR(F453=\"\",E453=\"\"),\"\",VLOOKUP(CONCATENATE(E453,Listas!AZ450),Listas!$BC$3:$BI$15430,7,FALSE))","v":""},null,null,{"$f":"IF(G453=\"\",\"\",VLOOKUP(G453,Listas!$BM$3:$BN$16,2,FALSE)*100)","v":""},"",{"$f":"+IFERROR(VLOOKUP(E453,Listas!$CQ$2:$CW$1104,7,FALSE),\"\")","v":""},"","",""]
[null,null,null,null,{"$f":"IF(D454=\"\",\"\",VLOOKUP(CONCATENATE(C454,D454),Listas!$AT$2:$AV$1104,3,FALSE))","v":""},null,{"$f":"IF(OR(F454=\"\",E454=\"\"),\"\",VLOOKUP(CONCATENATE(E454,Listas!AZ451),Listas!$BC$3:$BI$15430,7,FALSE))","v":""},null,null,{"$f":"IF(G454=\"\",\"\",VLOOKUP(G454,Listas!$BM$3:$BN$16,2,FALSE)*100)","v":""},{"$f":"+IF(H454=\"\",\"\",IF(H454=\"Sí\",1,0)*100)","v":""},{"$f":"+IFERROR(VLOOKUP(E454,Listas!$CQ$2:$CW$1104,7,FALSE),\"\")","v":""},{"$f":"+IF(I454=\"\",\"\",IF(I454=\"Sí\",1,0)*100)","v":""},"",""]
[null,null,null,null,{"$f":"IF(D455=\"\",\"\",VLOOKUP(CONCATENATE(C455,D455),Listas!$AT$2:$AV$1104,3,FALSE))","v":""},null,{"$f":"IF(OR(F455=\"\",E455=\"\"),\"\",VLOOKUP(CONCATENATE(E455,Listas!AZ452),Listas!$BC$3:$BI$15430,7,FALSE))","v":""},null,null,{"$f":"IF(G455=\"\",\"\",VLOOKUP(G455,Listas!$BM$3:$BN$16,2,FALSE)*100)","v":""},"",{"$f":"+IFERROR(VLOOKUP(E455,Listas!$CQ$2:$CW$1104,7,FALSE),\"\")","v":""},"",{"$f":"IF(E455=\"\",\"\",SUMPRODUCT(J455:M455,$J$2:$M$2))","v":""},{"$f":"+IFERROR(J455*58%,\"\")","v":""}]
[null,null,null,null,{"$f":"IF(D456=\"\",\"\",VLOOKUP(CONCATENATE(C456,D456),Listas!$AT$2:$AV$1104,3,FALSE))","v":""},null,{"$f":"IF(OR(F456=\"\",E456=\"\"),\"\",VLOOKUP(CONCATENATE(E456,Listas!AZ453),Listas!$BC$3:$BI$15430,7,FALSE))","v":""},null,null,{"$f":"IF(G456=\"\",\"\",VLOOKUP(G456,Listas!$BM$3:$BN$16,2,FALSE)*100)","v":""},"",{"$f":"+IFERROR(VLOOKUP(E456,Listas!$CQ$2:$CW$1104,7,FALSE),\"\")","v":""},"","",""]
[null,null,null,null,{"$f":"IF(D457=\"\",\"\",VLOOKUP(CONCATENATE(C457,D457),Listas!$AT$2:$AV$1104,3,FALSE))","v":""},null,{"$f":"IF(OR(F457=\"\",E457=\"\"),\"\",VLOOKUP(CONCATENATE(E457,Listas!AZ454),Listas!$BC$3:$BI$15430,7,FALSE))","v":""},null,null,{"$f":"IF(G457=\"\",\"\",VLOOKUP(G457,Listas!$BM$3:$BN$16,2,FALSE)*100)","v":""},"",{"$f":"+IFERROR(VLOOKUP(E457,Listas!$CQ$2:$CW$1104,7,FALSE),\"\")","v":""},"","",""]
[null,null,null,null,{"$f":"IF(D458=\"\",\"\",VLOOKUP(CONCATENATE(C458,D458),Listas!$AT$2:$AV$1104,3,FALSE))","v":""},null,{"$f":"IF(OR(F458=\"\",E458=\"\"),\"\",VLOOKUP(CONCATENATE(E458,Listas!AZ455),Listas!$BC$3:$BI$15430,7,FALSE))","v":""},null,null,{"$f":"IF(G458=\"\",\"\",VLOOKUP(G458,Listas!$BM$3:$BN$16,2,FALSE)*100)","v":""},"",{"$f":"+IFERROR(VLOOKUP(E458,Listas!$CQ$2:$CW$1104,7,FALSE),\"\")","v":""},"","",""]
[null,null,null,null,{"$f":"IF(D459=\"\",\"\",VLOOKUP(CONCATENATE(C459,D459),Listas!$AT$2:$AV$1104,3,FALSE))","v":""},null,{"$f":"IF(OR(F459=\"\",E459=\"\"),\"\",VLOOKUP(CONCATENATE(E459,Listas!AZ456),Listas!$BC$3:$BI$15430,7,FALSE))","v":""},null,null,{"$f":"IF(G459=\"\",\"\",VLOOKUP(G459,Listas!$BM$3:$BN$16,2,FALSE)*100)","v":""},"",{"$f":"+IFERROR(VLOOKUP(E459,Listas!$CQ$2:$CW$1104,7,FALSE),\"\")","v":""},"","",""]
[null,null,null,null,{"$f":"IF(D460=\"\",\"\",VLOOKUP(CONCATENATE(C460,D460),Listas!$AT$2:$AV$1104,3,FALSE))","v":""},null,{"$f":"IF(OR(F460=\"\",E460=\"\"),\"\",VLOOKUP(CONCATENATE(E460,Listas!AZ457),Listas!$BC$3:$BI$15430,7,FALSE))","v":""},null,null,{"$f":"IF(G460=\"\",\"\",VLOOKUP(G460,Listas!$BM$3:$BN$16,2,FALSE)*100)","v":""},"",{"$f":"+IFERROR(VLOOKUP(E460,Listas!$CQ$2:$CW$1104,7,FALSE),\"\")","v":""},"","",""]
[null,null,null,null,{"$f":"IF(D461=\"\",\"\",VLOOKUP(CONCATENATE(C461,D461),Listas!$AT$2:$AV$1104,3,FALSE))","v":""},null,{"$f":"IF(OR(F461=\"\",E461=\"\"),\"\",VLOOKUP(CONCATENATE(E461,Listas!AZ458),Listas!$BC$3:$BI$15430,7,FALSE))","v":""},null,null,{"$f":"IF(G461=\"\",\"\",VLOOKUP(G461,Listas!$BM$3:$BN$16,2,FALSE)*100)","v":""},"",{"$f":"+IFERROR(VLOOKUP(E461,Listas!$CQ$2:$CW$1104,7,FALSE),\"\")","v":""},"","",""]
[null,null,null,null,{"$f":"IF(D462=\"\",\"\",VLOOKUP(CONCATENATE(C462,D462),Listas!$AT$2:$AV$1104,3,FALSE))","v":""},null,{"$f":"IF(OR(F462=\"\",E462=\"\"),\"\",VLOOKUP(CONCATENATE(E462,Listas!AZ459),Listas!$BC$3:$BI$15430,7,FALSE))","v":""},null,null,{"$f":"IF(G462=\"\",\"\",VLOOKUP(G462,Listas!$BM$3:$BN$16,2,FALSE)*100)","v":""},"",{"$f":"+IFERROR(VLOOKUP(E462,Listas!$CQ$2:$CW$1104,7,FALSE),\"\")","v":""},"","",""]
[null,null,null,null,{"$f":"IF(D463=\"\",\"\",VLOOKUP(CONCATENATE(C463,D463),Listas!$AT$2:$AV$1104,3,FALSE))","v":""},null,{"$f":"IF(OR(F463=\"\",E463=\"\"),\"\",VLOOKUP(CONCATENATE(E463,Listas!AZ460),Listas!$BC$3:$BI$15430,7,FALSE))","v":""},null,null,{"$f":"IF(G463=\"\",\"\",VLOOKUP(G463,Listas!$BM$3:$BN$16,2,FALSE)*100)","v":""},"",{"$f":"+IFERROR(VLOOKUP(E463,Listas!$CQ$2:$CW$1104,7,FALSE),\"\")","v":""},"","",""]
[null,null,null,null,{"$f":"IF(D464=\"\",\"\",VLOOKUP(CONCATENATE(C464,D464),Listas!$AT$2:$AV$1104,3,FALSE))","v":""},null,{"$f":"IF(OR(F464=\"\",E464=\"\"),\"\",VLOOKUP(CONCATENATE(E464,Listas!AZ461),Listas!$BC$3:$BI$15430,7,FALSE))","v":""},null,null,{"$f":"IF(G464=\"\",\"\",VLOOKUP(G464,Listas!$BM$3:$BN$16,2,FALSE)*100)","v":""},"",{"$f":"+IFERROR(VLOOKUP(E464,Listas!$CQ$2:$CW$1104,7,FALSE),\"\")","v":""},"","",""]
[null,null,null,null,{"$f":"IF(D465=\"\",\"\",VLOOKUP(CONCATENATE(C465,D465),Listas!$AT$2:$AV$1104,3,FALSE))","v":""},null,{"$f":"IF(OR(F465=\"\",E465=\"\"),\"\",VLOOKUP(CONCATENATE(E465,Listas!AZ462),Listas!$BC$3:$BI$15430,7,FALSE))","v":""},null,null,{"$f":"IF(G465=\"\",\"\",VLOOKUP(G465,Listas!$BM$3:$BN$16,2,FALSE)*100)","v":""},"",{"$f":"+IFERROR(VLOOKUP(E465,Listas!$CQ$2:$CW$1104,7,FALSE),\"\")","v":""},"","",""]
[null,null,null,null,{"$f":"IF(D466=\"\",\"\",VLOOKUP(CONCATENATE(C466,D466),Listas!$AT$2:$AV$1104,3,FALSE))","v":""},null,{"$f":"IF(OR(F466=\"\",E466=\"\"),\"\",VLOOKUP(CONCATENATE(E466,Listas!AZ463),Listas!$BC$3:$BI$15430,7,FALSE))","v":""},null,null,{"$f":"IF(G466=\"\",\"\",VLOOKUP(G466,Listas!$BM$3:$BN$16,2,FALSE)*100)","v":""},"",{"$f":"+IFERROR(VLOOKUP(E466,Listas!$CQ$2:$CW$1104,7,FALSE),\"\")","v":""},"","",""]
[null,null,null,null,{"$f":"IF(D467=\"\",\"\",VLOOKUP(CONCATENATE(C467,D467),Listas!$AT$2:$AV$1104,3,FALSE))","v":""},null,{"$f":"IF(OR(F467=\"\",E467=\"\"),\"\",VLOOKUP(CONCATENATE(E467,Listas!AZ464),Listas!$BC$3:$BI$15430,7,FALSE))","v":""},null,null,{"$f":"IF(G467=\"\",\"\",VLOOKUP(G467,Listas!$BM$3:$BN$16,2,FALSE)*100)","v":""},"",{"$f":"+IFERROR(VLOOKUP(E467,Listas!$CQ$2:$CW$1104,7,FALSE),\"\")","v":""},"","",""]
[null,null,null,null,{"$f":"IF(D468=\"\",\"\",VLOOKUP(CONCATENATE(C468,D468),Listas!$AT$2:$AV$1104,3,FALSE))","v":""},null,{"$f":"IF(OR(F468=\"\",E468=\"\"),\"\",VLOOKUP(CONCATENATE(E468,Listas!AZ465),Listas!$BC$3:$BI$15430,7,FALSE))","v":""},null,null,{"$f":"IF(G468=\"\",\"\",VLOOKUP(G468,Listas!$BM$3:$BN$16,2,FALSE)*100)","v":""},"",{"$f":"+IFERROR(VLOOKUP(E468,Listas!$CQ$2:$CW$1104,7,FALSE),\"\")","v":""},"","",""]
[null,null,null,null,{"$f":"IF(D469=\"\",\"\",VLOOKUP(CONCATENATE(C469,D469),Listas!$AT$2:$AV$1104,3,FALSE))","v":""},null,{"$f":"IF(OR(F469=\"\",E469=\"\"),\"\",VLOOKUP(CONCATENATE(E469,Listas!AZ466),Listas!$BC$3:$BI$15430,7,FALSE))","v":""},null,null,{"$f":"IF(G469=\"\",\"\",VLOOKUP(G469,Listas!$BM$3:$BN$16,2,FALSE)*100)","v":""},"",{"$f":"+IFERROR(VLOOKUP(E469,Listas!$CQ$2:$CW$1104,7,FALSE),\"\")","v":""},"","",""]
[null,null,null,null,{"$f":"IF(D470=\"\",\"\",VLOOKUP(CONCATENATE(C470,D470),Listas!$AT$2:$AV$1104,3,FALSE))","v":""},null,{"$f":"IF(OR(F470=\"\",E470=\"\"),\"\",VLOOKUP(CONCATENATE(E470,Listas!AZ467),Listas!$BC$3:$BI$15430,7,FALSE))","v":""},null,null,{"$f":"IF(G470=\"\",\"\",VLOOKUP(G470,Listas!$BM$3:$BN$16,2,FALSE)*100)","v":""},"",{"$f":"+IFERROR(VLOOKUP(E470,Listas!$CQ$2:$CW$1104,7,FALSE),\"\")","v":""},"","",""]
[null,null,null,null,{"$f":"IF(D471=\"\",\"\",VLOOKUP(CONCATENATE(C471,D471),Listas!$AT$2:$AV$1104,3,FALSE))","v":""},null,{"$f":"IF(OR(F471=\"\",E471=\"\"),\"\",VLOOKUP(CONCATENATE(E471,Listas!AZ468),Listas!$BC$3:$BI$15430,7,FALSE))","v":""},null,null,{"$f":"IF(G471=\"\",\"\",VLOOKUP(G471,Listas!$BM$3:$BN$16,2,FALSE)*100)","v":""},"",{"$f":"+IFERROR(VLOOKUP(E471,Listas!$CQ$2:$CW$1104,7,FALSE),\"\")","v":""},"","",""]
[null,null,null,null,{"$f":"IF(D472=\"\",\"\",VLOOKUP(CONCATENATE(C472,D472),Listas!$AT$2:$AV$1104,3,FALSE))","v":""},null,{"$f":"IF(OR(F472=\"\",E472=\"\"),\"\",VLOOKUP(CONCATENATE(E472,Listas!AZ469),Listas!$BC$3:$BI$15430,7,FALSE))","v":""},null,null,{"$f":"IF(G472=\"\",\"\",VLOOKUP(G472,Listas!$BM$3:$BN$16,2,FALSE)*100)","v":""},"",{"$f":"+IFERROR(VLOOKUP(E472,Listas!$CQ$2:$CW$1104,7,FALSE),\"\")","v":""},"","",""]
[null,null,null,null,{"$f":"IF(D473=\"\",\"\",VLOOKUP(CONCATENATE(C473,D473),Listas!$AT$2:$AV$1104,3,FALSE))","v":""},null,{"$f":"IF(OR(F473=\"\",E473=\"\"),\"\",VLOOKUP(CONCATENATE(E473,Listas!AZ470),Listas!$BC$3:$BI$15430,7,FALSE))","v":""},null,null,{"$f":"IF(G473=\"\",\"\",VLOOKUP(G473,Listas!$BM$3:$BN$16,2,FALSE)*100)","v":""},"",{"$f":"+IFERROR(VLOOKUP(E473,Listas!$CQ$2:$CW$1104,7,FALSE),\"\")","v":""},"","",""]
[null,null,null,null,{"$f":"IF(D474=\"\",\"\",VLOOKUP(CONCATENATE(C474,D474),Listas!$AT$2:$AV$1104,3,FALSE))","v":""},null,{"$f":"IF(OR(F474=\"\",E474=\"\"),\"\",VLOOKUP(CONCATENATE(E474,Listas!AZ471),Listas!$BC$3:$BI$15430,7,FALSE))","v":""},null,null,{"$f":"IF(G474=\"\",\"\",VLOOKUP(G474,Listas!$BM$3:$BN$16,2,FALSE)*100)","v":""},"",{"$f":"+IFERROR(VLOOKUP(E474,Listas!$CQ$2:$CW$1104,7,FALSE),\"\")","v":""},"","",""]
[null,null,null,null,{"$f":"IF(D475=\"\",\"\",VLOOKUP(CONCATENATE(C475,D475),Listas!$AT$2:$AV$1104,3,FALSE))","v":""},null,{"$f":"IF(OR(F475=\"\",E475=\"\"),\"\",VLOOKUP(CONCATENATE(E475,Listas!AZ472),Listas!$BC$3:$BI$15430,7,FALSE))","v":""},null,null,{"$f":"IF(G475=\"\",\"\",VLOOKUP(G475,Listas!$BM$3:$BN$16,2,FALSE)*100)","v":""},"",{"$f":"+IFERROR(VLOOKUP(E475,Listas!$CQ$2:$CW$1104,7,FALSE),\"\")","v":""},"","",""]
[null,null,null,null,{"$f":"IF(D476=\"\",\"\",VLOOKUP(CONCATENATE(C476,D476),Listas!$AT$2:$AV$1104,3,FALSE))","v":""},null,{"$f":"IF(OR(F476=\"\",E476=\"\"),\"\",VLOOKUP(CONCATENATE(E476,Listas!AZ473),Listas!$BC$3:$BI$15430,7,FALSE))","v":""},null,null,{"$f":"IF(G476=\"\",\"\",VLOOKUP(G476,Listas!$BM$3:$BN$16,2,FALSE)*100)","v":""},"",{"$f":"+IFERROR(VLOOKUP(E476,Listas!$CQ$2:$CW$1104,7,FALSE),\"\")","v":""},"","",""]
[null,null,null,null,{"$f":"IF(D477=\"\",\"\",VLOOKUP(CONCATENATE(C477,D477),Listas!$AT$2:$AV$1104,3,FALSE))","v":""},null,{"$f":"IF(OR(F477=\"\",E477=\"\"),\"\",VLOOKUP(CONCATENATE(E477,Listas!AZ474),Listas!$BC$3:$BI$15430,7,FALSE))","v":""},null,null,{"$f":"IF(G477=\"\",\"\",VLOOKUP(G477,Listas!$BM$3:$BN$16,2,FALSE)*100)","v":""},"",{"$f":"+IFERROR(VLOOKUP(E477,Listas!$CQ$2:$CW$1104,7,FALSE),\"\")","v":""},"","",""]
[null,null,null,null,{"$f":"IF(D478=\"\",\"\",VLOOKUP(CONCATENATE(C478,D478),Listas!$AT$2:$AV$1104,3,FALSE))","v":""},null,{"$f":"IF(OR(F478=\"\",E478=\"\"),\"\",VLOOKUP(CONCATENATE(E478,Listas!AZ475),Listas!$BC$3:$BI$15430,7,FALSE))","v":""},null,null,{"$f":"IF(G478=\"\",\"\",VLOOKUP(G478,Listas!$BM$3:$BN$16,2,FALSE)*100)","v":""},"",{"$f":"+IFERROR(VLOOKUP(E478,Listas!$CQ$2:$CW$1104,7,FALSE),\"\")","v":""},"","",""]
[null,null,null,null,{"$f":"IF(D479=\"\",\"\",VLOOKUP(CONCATENATE(C479,D479),Listas!$AT$2:$AV$1104,3,FALSE))","v":""},null,{"$f":"IF(OR(F479=\"\",E479=\"\"),\"\",VLOOKUP(CONCATENATE(E479,Listas!AZ476),Listas!$BC$3:$BI$15430,7,FALSE))","v":""},null,null,{"$f":"IF(G479=\"\",\"\",VLOOKUP(G479,Listas!$BM$3:$BN$16,2,FALSE)*100)","v":""},"",{"$f":"+IFERROR(VLOOKUP(E479,Listas!$CQ$2:$CW$1104,7,FALSE),\"\")","v":""},"","",""]
[null,null,null,null,{"$f":"IF(D480=\"\",\"\",VLOOKUP(CONCATENATE(C480,D480),Listas!$AT$2:$AV$1104,3,FALSE))","v":""},null,{"$f":"IF(OR(F480=\"\",E480=\"\"),\"\",VLOOKUP(CONCATENATE(E480,Listas!AZ477),Listas!$BC$3:$BI$15430,7,FALSE))","v":""},null,null,{"$f":"IF(G480=\"\",\"\",VLOOKUP(G480,Listas!$BM$3:$BN$16,2,FALSE)*100)","v":""},"",{"$f":"+IFERROR(VLOOKUP(E480,Listas!$CQ$2:$CW$1104,7,FALSE),\"\")","v":""},"","",""]
[null,null,null,null,{"$f":"IF(D481=\"\",\"\",VLOOKUP(CONCATENATE(C481,D481),Listas!$AT$2:$AV$1104,3,FALSE))","v":""},null,{"$f":"IF(OR(F481=\"\",E481=\"\"),\"\",VLOOKUP(CONCATENATE(E481,Listas!AZ478),Listas!$BC$3:$BI$15430,7,FALSE))","v":""},null,null,{"$f":"IF(G481=\"\",\"\",VLOOKUP(G481,Listas!$BM$3:$BN$16,2,FALSE)*100)","v":""},"",{"$f":"+IFERROR(VLOOKUP(E481,Listas!$CQ$2:$CW$1104,7,FALSE),\"\")","v":""},"","",""]
[null,null,null,null,{"$f":"IF(D482=\"\",\"\",VLOOKUP(CONCATENATE(C482,D482),Listas!$AT$2:$AV$1104,3,FALSE))","v":""},null,{"$f":"IF(OR(F482=\"\",E482=\"\"),\"\",VLOOKUP(CONCATENATE(E482,Listas!AZ479),Listas!$BC$3:$BI$15430,7,FALSE))","v":""},null,null,{"$f":"IF(G482=\"\",\"\",VLOOKUP(G482,Listas!$BM$3:$BN$16,2,FALSE)*100)","v":""},"",{"$f":"+IFERROR(VLOOKUP(E482,Listas!$CQ$2:$CW$1104,7,FALSE),\"\")","v":""},"","",""]
[null,null,null,null,{"$f":"IF(D483=\"\",\"\",VLOOKUP(CONCATENATE(C483,D483),Listas!$AT$2:$AV$1104,3,FALSE))","v":""},null,{"$f":"IF(OR(F483=\"\",E483=\"\"),\"\",VLOOKUP(CONCATENATE(E483,Listas!AZ480),Listas!$BC$3:$BI$15430,7,FALSE))","v":""},null,null,{"$f":"IF(G483=\"\",\"\",VLOOKUP(G483,Listas!$BM$3:$BN$16,2,FALSE)*100)","v":""},"",{"$f":"+IFERROR(VLOOKUP(E483,Listas!$CQ$2:$CW$1104,7,FALSE),\"\")","v":""},"","",""]
[null,null,null,null,{"$f":"IF(D484=\"\",\"\",VLOOKUP(CONCATENATE(C484,D484),Listas!$AT$2:$AV$1104,3,FALSE))","v":""},null,{"$f":"IF(OR(F484=\"\",E484=\"\"),\"\",VLOOKUP(CONCATENATE(E484,Listas!AZ481),Listas!$BC$3:$BI$15430,7,FALSE))","v":""},null,null,{"$f":"IF(G484=\"\",\"\",VLOOKUP(G484,Listas!$BM$3:$BN$16,2,FALSE)*100)","v":""},"",{"$f":"+IFERROR(VLOOKUP(E484,Listas!$CQ$2:$CW$1104,7,FALSE),\"\")","v":""},"","",""]
[null,null,null,null,{"$f":"IF(D485=\"\",\"\",VLOOKUP(CONCATENATE(C485,D485),Listas!$AT$2:$AV$1104,3,FALSE))","v":""},null,{"$f":"IF(OR(F485=\"\",E485=\"\"),\"\",VLOOKUP(CONCATENATE(E485,Listas!AZ482),Listas!$BC$3:$BI$15430,7,FALSE))","v":""},null,null,{"$f":"IF(G485=\"\",\"\",VLOOKUP(G485,Listas!$BM$3:$BN$16,2,FALSE)*100)","v":""},"",{"$f":"+IFERROR(VLOOKUP(E485,Listas!$CQ$2:$CW$1104,7,FALSE),\"\")","v":""},"","",""]
[null,null,null,null,{"$f":"IF(D486=\"\",\"\",VLOOKUP(CONCATENATE(C486,D486),Listas!$AT$2:$AV$1104,3,FALSE))","v":""},null,{"$f":"IF(OR(F486=\"\",E486=\"\"),\"\",VLOOKUP(CONCATENATE(E486,Listas!AZ483),Listas!$BC$3:$BI$15430,7,FALSE))","v":""},null,null,{"$f":"IF(G486=\"\",\"\",VLOOKUP(G486,Listas!$BM$3:$BN$16,2,FALSE)*100)","v":""},"",{"$f":"+IFERROR(VLOOKUP(E486,Listas!$CQ$2:$CW$1104,7,FALSE),\"\")","v":""},"","",""]
[null,null,null,null,{"$f":"IF(D487=\"\",\"\",VLOOKUP(CONCATENATE(C487,D487),Listas!$AT$2:$AV$1104,3,FALSE))","v":""},null,{"$f":"IF(OR(F487=\"\",E487=\"\"),\"\",VLOOKUP(CONCATENATE(E487,Listas!AZ484),Listas!$BC$3:$BI$15430,7,FALSE))","v":""},null,null,{"$f":"IF(G487=\"\",\"\",VLOOKUP(G487,Listas!$BM$3:$BN$16,2,FALSE)*100)","v":""},"",{"$f":"+IFERROR(VLOOKUP(E487,Listas!$CQ$2:$CW$1104,7,FALSE),\"\")","v":""},"","",""]
[null,null,null,null,{"$f":"IF(D488=\"\",\"\",VLOOKUP(CONCATENATE(C488,D488),Listas!$AT$2:$AV$1104,3,FALSE))","v":""},null,{"$f":"IF(OR(F488=\"\",E488=\"\"),\"\",VLOOKUP(CONCATENATE(E488,Listas!AZ485),Listas!$BC$3:$BI$15430,7,FALSE))","v":""},null,null,{"$f":"IF(G488=\"\",\"\",VLOOKUP(G488,Listas!$BM$3:$BN$16,2,FALSE)*100)","v":""},"",{"$f":"+IFERROR(VLOOKUP(E488,Listas!$CQ$2:$CW$1104,7,FALSE),\"\")","v":""},"","",""]
[null,null,null,null,{"$f":"IF(D489=\"\",\"\",VLOOKUP(CONCATENATE(C489,D489),Listas!$AT$2:$AV$1104,3,FALSE))","v":""},null,{"$f":"IF(OR(F489=\"\",E489=\"\"),\"\",VLOOKUP(CONCATENATE(E489,Listas!AZ486),Listas!$BC$3:$BI$15430,7,FALSE))","v":""},null,null,{"$f":"IF(G489=\"\",\"\",VLOOKUP(G489,Listas!$BM$3:$BN$16,2,FALSE)*100)","v":""},"",{"$f":"+IFERROR(VLOOKUP(E489,Listas!$CQ$2:$CW$1104,7,FALSE),\"\")","v":""},"","",""]
[null,null,null,null,{"$f":"IF(D490=\"\",\"\",VLOOKUP(CONCATENATE(C490,D490),Listas!$AT$2:$AV$1104,3,FALSE))","v":""},null,{"$f":"IF(OR(F490=\"\",E490=\"\"),\"\",VLOOKUP(CONCATENATE(E490,Listas!AZ487),Listas!$BC$3:$BI$15430,7,FALSE))","v":""},null,null,{"$f":"IF(G490=\"\",\"\",VLOOKUP(G490,Listas!$BM$3:$BN$16,2,FALSE)*100)","v":""},"",{"$f":"+IFERROR(VLOOKUP(E490,Listas!$CQ$2:$CW$1104,7,FALSE),\"\")","v":""},"","",""]
[null,null,null,null,{"$f":"IF(D491=\"\",\"\",VLOOKUP(CONCATENATE(C491,D491),Listas!$AT$2:$AV$1104,3,FALSE))","v":""},null,{"$f":"IF(OR(F491=\"\",E491=\"\"),\"\",VLOOKUP(CONCATENATE(E491,Listas!AZ488),Listas!$BC$3:$BI$15430,7,FALSE))","v":""},null,null,{"$f":"IF(G491=\"\",\"\",VLOOKUP(G491,Listas!$BM$3:$BN$16,2,FALSE)*100)","v":""},"",{"$f":"+IFERROR(VLOOKUP(E491,Listas!$CQ$2:$CW$1104,7,FALSE),\"\")","v":""},"","",""]
[null,null,null,null,{"$f":"IF(D492=\"\",\"\",VLOOKUP(CONCATENATE(C492,D492),Listas!$AT$2:$AV$1104,3,FALSE))","v":""},null,{"$f":"IF(OR(F492=\"\",E492=\"\"),\"\",VLOOKUP(CONCATENATE(E492,Listas!AZ489),Listas!$BC$3:$BI$15430,7,FALSE))","v":""},null,null,{"$f":"IF(G492=\"\",\"\",VLOOKUP(G492,Listas!$BM$3:$BN$16,2,FALSE)*100)","v":""},"",{"$f":"+IFERROR(VLOOKUP(E492,Listas!$CQ$2:$CW$1104,7,FALSE),\"\")","v":""},"","",""]
[null,null,null,null,{"$f":"IF(D493=\"\",\"\",VLOOKUP(CONCATENATE(C493,D493),Listas!$AT$2:$AV$1104,3,FALSE))","v":""},null,{"$f":"IF(OR(F493=\"\",E493=\"\"),\"\",VLOOKUP(CONCATENATE(E493,Listas!AZ490),Listas!$BC$3:$BI$15430,7,FALSE))","v":""},null,null,{"$f":"IF(G493=\"\",\"\",VLOOKUP(G493,Listas!$BM$3:$BN$16,2,FALSE)*100)","v":""},"",{"$f":"+IFERROR(VLOOKUP(E493,Listas!$CQ$2:$CW$1104,7,FALSE),\"\")","v":""},"","",""]
[null,null,null,null,{"$f":"IF(D494=\"\",\"\",VLOOKUP(CONCATENATE(C494,D494),Listas!$AT$2:$AV$1104,3,FALSE))","v":""},null,{"$f":"IF(OR(F494=\"\",E494=\"\"),\"\",VLOOKUP(CONCATENATE(E494,Listas!AZ491),Listas!$BC$3:$BI$15430,7,FALSE))","v":""},null,null,{"$f":"IF(G494=\"\",\"\",VLOOKUP(G494,Listas!$BM$3:$BN$16,2,FALSE)*100)","v":""},"",{"$f":"+IFERROR(VLOOKUP(E494,Listas!$CQ$2:$CW$1104,7,FALSE),\"\")","v":""},"","",""]
[null,null,null,null,{"$f":"IF(D495=\"\",\"\",VLOOKUP(CONCATENATE(C495,D495),Listas!$AT$2:$AV$1104,3,FALSE))","v":""},null,{"$f":"IF(OR(F495=\"\",E495=\"\"),\"\",VLOOKUP(CONCATENATE(E495,Listas!AZ492),Listas!$BC$3:$BI$15430,7,FALSE))","v":""},null,null,{"$f":"IF(G495=\"\",\"\",VLOOKUP(G495,Listas!$BM$3:$BN$16,2,FALSE)*100)","v":""},"",{"$f":"+IFERROR(VLOOKUP(E495,Listas!$CQ$2:$CW$1104,7,FALSE),\"\")","v":""},"","",""]
[null,null,null,null,{"$f":"IF(D496=\"\",\"\",VLOOKUP(CONCATENATE(C496,D496),Listas!$AT$2:$AV$1104,3,FALSE))","v":""},null,{"$f":"IF(OR(F496=\"\",E496=\"\"),\"\",VLOOKUP(CONCATENATE(E496,Listas!AZ493),Listas!$BC$3:$BI$15430,7,FALSE))","v":""},null,null,{"$f":"IF(G496=\"\",\"\",VLOOKUP(G496,Listas!$BM$3:$BN$16,2,FALSE)*100)","v":""},"",{"$f":"+IFERROR(VLOOKUP(E496,Listas!$CQ$2:$CW$1104,7,FALSE),\"\")","v":""},"","",""]
[null,null,null,null,{"$f":"IF(D497=\"\",\"\",VLOOKUP(CONCATENATE(C497,D497),Listas!$AT$2:$AV$1104,3,FALSE))","v":""},null,{"$f":"IF(OR(F497=\"\",E497=\"\"),\"\",VLOOKUP(CONCATENATE(E497,Listas!AZ494),Listas!$BC$3:$BI$15430,7,FALSE))","v":""},null,null,{"$f":"IF(G497=\"\",\"\",VLOOKUP(G497,Listas!$BM$3:$BN$16,2,FALSE)*100)","v":""},"",{"$f":"+IFERROR(VLOOKUP(E497,Listas!$CQ$2:$CW$1104,7,FALSE),\"\")","v":""},"","",""]
[null,null,null,null,{"$f":"IF(D498=\"\",\"\",VLOOKUP(CONCATENATE(C498,D498),Listas!$AT$2:$AV$1104,3,FALSE))","v":""},null,{"$f":"IF(OR(F498=\"\",E498=\"\"),\"\",VLOOKUP(CONCATENATE(E498,Listas!AZ495),Listas!$BC$3:$BI$15430,7,FALSE))","v":""},null,null,{"$f":"IF(G498=\"\",\"\",VLOOKUP(G498,Listas!$BM$3:$BN$16,2,FALSE)*100)","v":""},"",{"$f":"+IFERROR(VLOOKUP(E498,Listas!$CQ$2:$CW$1104,7,FALSE),\"\")","v":""},"","",""]
[null,null,null,null,{"$f":"IF(D499=\"\",\"\",VLOOKUP(CONCATENATE(C499,D499),Listas!$AT$2:$AV$1104,3,FALSE))","v":""},null,{"$f":"IF(OR(F499=\"\",E499=\"\"),\"\",VLOOKUP(CONCATENATE(E499,Listas!AZ496),Listas!$BC$3:$BI$15430,7,FALSE))","v":""},null,null,{"$f":"IF(G499=\"\",\"\",VLOOKUP(G499,Listas!$BM$3:$BN$16,2,FALSE)*100)","v":""},"",{"$f":"+IFERROR(VLOOKUP(E499,Listas!$CQ$2:$CW$1104,7,FALSE),\"\")","v":""},"","",""]
[null,null,null,null,{"$f":"IF(D500=\"\",\"\",VLOOKUP(CONCATENATE(C500,D500),Listas!$AT$2:$AV$1104,3,FALSE))","v":""},null,{"$f":"IF(OR(F500=\"\",E500=\"\"),\"\",VLOOKUP(CONCATENATE(E500,Listas!AZ497),Listas!$BC$3:$BI$15430,7,FALSE))","v":""},null,null,{"$f":"IF(G500=\"\",\"\",VLOOKUP(G500,Listas!$BM$3:$BN$16,2,FALSE)*100)","v":""},"",{"$f":"+IFERROR(VLOOKUP(E500,Listas!$CQ$2:$CW$1104,7,FALSE),\"\")","v":""},"","",""]
[null,null,null,null,{"$f":"IF(D501=\"\",\"\",VLOOKUP(CONCATENATE(C501,D501),Listas!$AT$2:$AV$1104,3,FALSE))","v":""},null,{"$f":"IF(OR(F501=\"\",E501=\"\"),\"\",VLOOKUP(CONCATENATE(E501,Listas!AZ498),Listas!$BC$3:$BI$15430,7,FALSE))","v":""},null,null,{"$f":"IF(G501=\"\",\"\",VLOOKUP(G501,Listas!$BM$3:$BN$16,2,FALSE)*100)","v":""},"",{"$f":"+IFERROR(VLOOKUP(E501,Listas!$CQ$2:$CW$1104,7,FALSE),\"\")","v":""},"","",""]
[null,null,null,null,{"$f":"IF(D502=\"\",\"\",VLOOKUP(CONCATENATE(C502,D502),Listas!$AT$2:$AV$1104,3,FALSE))","v":""},null,{"$f":"IF(OR(F502=\"\",E502=\"\"),\"\",VLOOKUP(CONCATENATE(E502,Listas!AZ499),Listas!$BC$3:$BI$15430,7,FALSE))","v":""},null,null,{"$f":"IF(G502=\"\",\"\",VLOOKUP(G502,Listas!$BM$3:$BN$16,2,FALSE)*100)","v":""},"",{"$f":"+IFERROR(VLOOKUP(E502,Listas!$CQ$2:$CW$1104,7,FALSE),\"\")","v":""},"","",""]
[null,null,null,null,{"$f":"IF(D503=\"\",\"\",VLOOKUP(CONCATENATE(C503,D503),Listas!$AT$2:$AV$1104,3,FALSE))","v":""},null,{"$f":"IF(OR(F503=\"\",E503=\"\"),\"\",VLOOKUP(CONCATENATE(E503,Listas!AZ500),Listas!$BC$3:$BI$15430,7,FALSE))","v":""},null,null,{"$f":"IF(G503=\"\",\"\",VLOOKUP(G503,Listas!$BM$3:$BN$16,2,FALSE)*100)","v":""},"",{"$f":"+IFERROR(VLOOKUP(E503,Listas!$CQ$2:$CW$1104,7,FALSE),\"\")","v":""},"","",""]
[null,null,null,null,{"$f":"IF(D504=\"\",\"\",VLOOKUP(CONCATENATE(C504,D504),Listas!$AT$2:$AV$1104,3,FALSE))","v":""},null,{"$f":"IF(OR(F504=\"\",E504=\"\"),\"\",VLOOKUP(CONCATENATE(E504,Listas!AZ501),Listas!$BC$3:$BI$15430,7,FALSE))","v":""},null,null,{"$f":"IF(G504=\"\",\"\",VLOOKUP(G504,Listas!$BM$3:$BN$16,2,FALSE)*100)","v":""},"",{"$f":"+IFERROR(VLOOKUP(E504,Listas!$CQ$2:$CW$1104,7,FALSE),\"\")","v":""},"","",""]
[null,null,null,null,{"$f":"IF(D505=\"\",\"\",VLOOKUP(CONCATENATE(C505,D505),Listas!$AT$2:$AV$1104,3,FALSE))","v":""},null,{"$f":"IF(OR(F505=\"\",E505=\"\"),\"\",VLOOKUP(CONCATENATE(E505,Listas!AZ502),Listas!$BC$3:$BI$15430,7,FALSE))","v":""},null,null,{"$f":"IF(G505=\"\",\"\",VLOOKUP(G505,Listas!$BM$3:$BN$16,2,FALSE)*100)","v":""},"",{"$f":"+IFERROR(VLOOKUP(E505,Listas!$CQ$2:$CW$1104,7,FALSE),\"\")","v":""},"","",""]
[null,null,null,null,{"$f":"IF(D506=\"\",\"\",VLOOKUP(CONCATENATE(C506,D506),Listas!$AT$2:$AV$1104,3,FALSE))","v":""},null,{"$f":"IF(OR(F506=\"\",E506=\"\"),\"\",VLOOKUP(CONCATENATE(E506,Listas!AZ503),Listas!$BC$3:$BI$15430,7,FALSE))","v":""},null,null,{"$f":"IF(G506=\"\",\"\",VLOOKUP(G506,Listas!$BM$3:$BN$16,2,FALSE)*100)","v":""},"",{"$f":"+IFERROR(VLOOKUP(E506,Listas!$CQ$2:$CW$1104,7,FALSE),\"\")","v":""},"","",""]
[null,null,null,null,{"$f":"IF(D507=\"\",\"\",VLOOKUP(CONCATENATE(C507,D507),Listas!$AT$2:$AV$1104,3,FALSE))","v":""},null,{"$f":"IF(OR(F507=\"\",E507=\"\"),\"\",VLOOKUP(CONCATENATE(E507,Listas!AZ504),Listas!$BC$3:$BI$15430,7,FALSE))","v":""},null,null,{"$f":"IF(G507=\"\",\"\",VLOOKUP(G507,Listas!$BM$3:$BN$16,2,FALSE)*100)","v":""},"",{"$f":"+IFERROR(VLOOKUP(E507,Listas!$CQ$2:$CW$1104,7,FALSE),\"\")","v":""},"","",""]
[null,null,null,null,{"$f":"IF(D508=\"\",\"\",VLOOKUP(CONCATENATE(C508,D508),Listas!$AT$2:$AV$1104,3,FALSE))","v":""},null,{"$f":"IF(OR(F508=\"\",E508=\"\"),\"\",VLOOKUP(CONCATENATE(E508,Listas!AZ505),Listas!$BC$3:$BI$15430,7,FALSE))","v":""},null,null,{"$f":"IF(G508=\"\",\"\",VLOOKUP(G508,Listas!$BM$3:$BN$16,2,FALSE)*100)","v":""},"",{"$f":"+IFERROR(VLOOKUP(E508,Listas!$CQ$2:$CW$1104,7,FALSE),\"\")","v":""},"","",""]
[null,null,null,null,{"$f":"IF(D509=\"\",\"\",VLOOKUP(CONCATENATE(C509,D509),Listas!$AT$2:$AV$1104,3,FALSE))","v":""},null,{"$f":"IF(OR(F509=\"\",E509=\"\"),\"\",VLOOKUP(CONCATENATE(E509,Listas!AZ506),Listas!$BC$3:$BI$15430,7,FALSE))","v":""},null,null,{"$f":"IF(G509=\"\",\"\",VLOOKUP(G509,Listas!$BM$3:$BN$16,2,FALSE)*100)","v":""},"",{"$f":"+IFERROR(VLOOKUP(E509,Listas!$CQ$2:$CW$1104,7,FALSE),\"\")","v":""},"","",""]
[null,null,null,null,{"$f":"IF(D510=\"\",\"\",VLOOKUP(CONCATENATE(C510,D510),Listas!$AT$2:$AV$1104,3,FALSE))","v":""},null,{"$f":"IF(OR(F510=\"\",E510=\"\"),\"\",VLOOKUP(CONCATENATE(E510,Listas!AZ507),Listas!$BC$3:$BI$15430,7,FALSE))","v":""},null,null,{"$f":"IF(G510=\"\",\"\",VLOOKUP(G510,Listas!$BM$3:$BN$16,2,FALSE)*100)","v":""},"",{"$f":"+IFERROR(VLOOKUP(E510,Listas!$CQ$2:$CW$1104,7,FALSE),\"\")","v":""},"","",""]
[null,null,null,null,{"$f":"IF(D511=\"\",\"\",VLOOKUP(CONCATENATE(C511,D511),Listas!$AT$2:$AV$1104,3,FALSE))","v":""},null,{"$f":"IF(OR(F511=\"\",E511=\"\"),\"\",VLOOKUP(CONCATENATE(E511,Listas!AZ508),Listas!$BC$3:$BI$15430,7,FALSE))","v":""},null,null,{"$f":"IF(G511=\"\",\"\",VLOOKUP(G511,Listas!$BM$3:$BN$16,2,FALSE)*100)","v":""},"",{"$f":"+IFERROR(VLOOKUP(E511,Listas!$CQ$2:$CW$1104,7,FALSE),\"\")","v":""},"","",""]
[null,null,null,null,{"$f":"IF(D512=\"\",\"\",VLOOKUP(CONCATENATE(C512,D512),Listas!$AT$2:$AV$1104,3,FALSE))","v":""},null,{"$f":"IF(OR(F512=\"\",E512=\"\"),\"\",VLOOKUP(CONCATENATE(E512,Listas!AZ509),Listas!$BC$3:$BI$15430,7,FALSE))","v":""},null,null,{"$f":"IF(G512=\"\",\"\",VLOOKUP(G512,Listas!$BM$3:$BN$16,2,FALSE)*100)","v":""},"",{"$f":"+IFERROR(VLOOKUP(E512,Listas!$CQ$2:$CW$1104,7,FALSE),\"\")","v":""},"","",""]
[null,null,null,null,{"$f":"IF(D513=\"\",\"\",VLOOKUP(CONCATENATE(C513,D513),Listas!$AT$2:$AV$1104,3,FALSE))","v":""},null,{"$f":"IF(OR(F513=\"\",E513=\"\"),\"\",VLOOKUP(CONCATENATE(E513,Listas!AZ510),Listas!$BC$3:$BI$15430,7,FALSE))","v":""},null,null,{"$f":"IF(G513=\"\",\"\",VLOOKUP(G513,Listas!$BM$3:$BN$16,2,FALSE)*100)","v":""},"",{"$f":"+IFERROR(VLOOKUP(E513,Listas!$CQ$2:$CW$1104,7,FALSE),\"\")","v":""},"","",""]
[null,null,null,null,{"$f":"IF(D514=\"\",\"\",VLOOKUP(CONCATENATE(C514,D514),Listas!$AT$2:$AV$1104,3,FALSE))","v":""},null,{"$f":"IF(OR(F514=\"\",E514=\"\"),\"\",VLOOKUP(CONCATENATE(E514,Listas!AZ511),Listas!$BC$3:$BI$15430,7,FALSE))","v":""},null,null,{"$f":"IF(G514=\"\",\"\",VLOOKUP(G514,Listas!$BM$3:$BN$16,2,FALSE)*100)","v":""},"",{"$f":"+IFERROR(VLOOKUP(E514,Listas!$CQ$2:$CW$1104,7,FALSE),\"\")","v":""},"","",""]
[null,null,null,null,{"$f":"IF(D515=\"\",\"\",VLOOKUP(CONCATENATE(C515,D515),Listas!$AT$2:$AV$1104,3,FALSE))","v":""},null,{"$f":"IF(OR(F515=\"\",E515=\"\"),\"\",VLOOKUP(CONCATENATE(E515,Listas!AZ512),Listas!$BC$3:$BI$15430,7,FALSE))","v":""},null,null,{"$f":"IF(G515=\"\",\"\",VLOOKUP(G515,Listas!$BM$3:$BN$16,2,FALSE)*100)","v":""},"",{"$f":"+IFERROR(VLOOKUP(E515,Listas!$CQ$2:$CW$1104,7,FALSE),\"\")","v":""},"","",""]
[null,null,null,null,{"$f":"IF(D516=\"\",\"\",VLOOKUP(CONCATENATE(C516,D516),Listas!$AT$2:$AV$1104,3,FALSE))","v":""},null,{"$f":"IF(OR(F516=\"\",E516=\"\"),\"\",VLOOKUP(CONCATENATE(E516,Listas!AZ513),Listas!$BC$3:$BI$15430,7,FALSE))","v":""},null,null,{"$f":"IF(G516=\"\",\"\",VLOOKUP(G516,Listas!$BM$3:$BN$16,2,FALSE)*100)","v":""},"",{"$f":"+IFERROR(VLOOKUP(E516,Listas!$CQ$2:$CW$1104,7,FALSE),\"\")","v":""},"","",""]
[null,null,null,null,{"$f":"IF(D517=\"\",\"\",VLOOKUP(CONCATENATE(C517,D517),Listas!$AT$2:$AV$1104,3,FALSE))","v":""},null,{"$f":"IF(OR(F517=\"\",E517=\"\"),\"\",VLOOKUP(CONCATENATE(E517,Listas!AZ514),Listas!$BC$3:$BI$15430,7,FALSE))","v":""},null,null,{"$f":"IF(G517=\"\",\"\",VLOOKUP(G517,Listas!$BM$3:$BN$16,2,FALSE)*100)","v":""},"",{"$f":"+IFERROR(VLOOKUP(E517,Listas!$CQ$2:$CW$1104,7,FALSE),\"\")","v":""},"","",""]
[null,null,null,null,{"$f":"IF(D518=\"\",\"\",VLOOKUP(CONCATENATE(C518,D518),Listas!$AT$2:$AV$1104,3,FALSE))","v":""},null,{"$f":"IF(OR(F518=\"\",E518=\"\"),\"\",VLOOKUP(CONCATENATE(E518,Listas!AZ515),Listas!$BC$3:$BI$15430,7,FALSE))","v":""},null,null,{"$f":"IF(G518=\"\",\"\",VLOOKUP(G518,Listas!$BM$3:$BN$16,2,FALSE)*100)","v":""},{"$f":"+IF(H518=\"\",\"\",IF(H518=\"Sí\",1,0)*100)","v":""},{"$f":"+IFERROR(VLOOKUP(E518,Listas!$CQ$2:$CW$1104,7,FALSE),\"\")","v":""},{"$f":"+IF(I518=\"\",\"\",IF(I518=\"Sí\",1,0)*100)","v":""},"",""]
[null,null,null,null,{"$f":"IF(D519=\"\",\"\",VLOOKUP(CONCATENATE(C519,D519),Listas!$AT$2:$AV$1104,3,FALSE))","v":""},null,{"$f":"IF(OR(F519=\"\",E519=\"\"),\"\",VLOOKUP(CONCATENATE(E519,Listas!AZ516),Listas!$BC$3:$BI$15430,7,FALSE))","v":""},null,null,{"$f":"IF(G519=\"\",\"\",VLOOKUP(G519,Listas!$BM$3:$BN$16,2,FALSE)*100)","v":""},"",{"$f":"+IFERROR(VLOOKUP(E519,Listas!$CQ$2:$CW$1104,7,FALSE),\"\")","v":""},"",{"$f":"IF(E519=\"\",\"\",SUMPRODUCT(J519:M519,$J$2:$M$2))","v":""},{"$f":"+IFERROR(J519*58%,\"\")","v":""}]
[null,null,null,null,{"$f":"IF(D520=\"\",\"\",VLOOKUP(CONCATENATE(C520,D520),Listas!$AT$2:$AV$1104,3,FALSE))","v":""},null,{"$f":"IF(OR(F520=\"\",E520=\"\"),\"\",VLOOKUP(CONCATENATE(E520,Listas!AZ517),Listas!$BC$3:$BI$15430,7,FALSE))","v":""},null,null,{"$f":"IF(G520=\"\",\"\",VLOOKUP(G520,Listas!$BM$3:$BN$16,2,FALSE)*100)","v":""},"",{"$f":"+IFERROR(VLOOKUP(E520,Listas!$CQ$2:$CW$1104,7,FALSE),\"\")","v":""},"","",""]
[null,null,null,null,{"$f":"IF(D521=\"\",\"\",VLOOKUP(CONCATENATE(C521,D521),Listas!$AT$2:$AV$1104,3,FALSE))","v":""},null,{"$f":"IF(OR(F521=\"\",E521=\"\"),\"\",VLOOKUP(CONCATENATE(E521,Listas!AZ518),Listas!$BC$3:$BI$15430,7,FALSE))","v":""},null,null,{"$f":"IF(G521=\"\",\"\",VLOOKUP(G521,Listas!$BM$3:$BN$16,2,FALSE)*100)","v":""},"",{"$f":"+IFERROR(VLOOKUP(E521,Listas!$CQ$2:$CW$1104,7,FALSE),\"\")","v":""},"","",""]
[null,null,null,null,{"$f":"IF(D522=\"\",\"\",VLOOKUP(CONCATENATE(C522,D522),Listas!$AT$2:$AV$1104,3,FALSE))","v":""},null,{"$f":"IF(OR(F522=\"\",E522=\"\"),\"\",VLOOKUP(CONCATENATE(E522,Listas!AZ519),Listas!$BC$3:$BI$15430,7,FALSE))","v":""},null,null,{"$f":"IF(G522=\"\",\"\",VLOOKUP(G522,Listas!$BM$3:$BN$16,2,FALSE)*100)","v":""},"",{"$f":"+IFERROR(VLOOKUP(E522,Listas!$CQ$2:$CW$1104,7,FALSE),\"\")","v":""},"","",""]
[null,null,null,null,{"$f":"IF(D523=\"\",\"\",VLOOKUP(CONCATENATE(C523,D523),Listas!$AT$2:$AV$1104,3,FALSE))","v":""},null,{"$f":"IF(OR(F523=\"\",E523=\"\"),\"\",VLOOKUP(CONCATENATE(E523,Listas!AZ520),Listas!$BC$3:$BI$15430,7,FALSE))","v":""},null,null,{"$f":"IF(G523=\"\",\"\",VLOOKUP(G523,Listas!$BM$3:$BN$16,2,FALSE)*100)","v":""},"",{"$f":"+IFERROR(VLOOKUP(E523,Listas!$CQ$2:$CW$1104,7,FALSE),\"\")","v":""},"","",""]
[null,null,null,null,{"$f":"IF(D524=\"\",\"\",VLOOKUP(CONCATENATE(C524,D524),Listas!$AT$2:$AV$1104,3,FALSE))","v":""},null,{"$f":"IF(OR(F524=\"\",E524=\"\"),\"\",VLOOKUP(CONCATENATE(E524,Listas!AZ521),Listas!$BC$3:$BI$15430,7,FALSE))","v":""},null,null,{"$f":"IF(G524=\"\",\"\",VLOOKUP(G524,Listas!$BM$3:$BN$16,2,FALSE)*100)","v":""},"",{"$f":"+IFERROR(VLOOKUP(E524,Listas!$CQ$2:$CW$1104,7,FALSE),\"\")","v":""},"","",""]
[null,null,null,null,{"$f":"IF(D525=\"\",\"\",VLOOKUP(CONCATENATE(C525,D525),Listas!$AT$2:$AV$1104,3,FALSE))","v":""},null,{"$f":"IF(OR(F525=\"\",E525=\"\"),\"\",VLOOKUP(CONCATENATE(E525,Listas!AZ522),Listas!$BC$3:$BI$15430,7,FALSE))","v":""},null,null,{"$f":"IF(G525=\"\",\"\",VLOOKUP(G525,Listas!$BM$3:$BN$16,2,FALSE)*100)","v":""},"",{"$f":"+IFERROR(VLOOKUP(E525,Listas!$CQ$2:$CW$1104,7,FALSE),\"\")","v":""},"","",""]
[null,null,null,null,{"$f":"IF(D526=\"\",\"\",VLOOKUP(CONCATENATE(C526,D526),Listas!$AT$2:$AV$1104,3,FALSE))","v":""},null,{"$f":"IF(OR(F526=\"\",E526=\"\"),\"\",VLOOKUP(CONCATENATE(E526,Listas!AZ523),Listas!$BC$3:$BI$15430,7,FALSE))","v":""},null,null,{"$f":"IF(G526=\"\",\"\",VLOOKUP(G526,Listas!$BM$3:$BN$16,2,FALSE)*100)","v":""},"",{"$f":"+IFERROR(VLOOKUP(E526,Listas!$CQ$2:$CW$1104,7,FALSE),\"\")","v":""},"","",""]
[null,null,null,null,{"$f":"IF(D527=\"\",\"\",VLOOKUP(CONCATENATE(C527,D527),Listas!$AT$2:$AV$1104,3,FALSE))","v":""},null,{"$f":"IF(OR(F527=\"\",E527=\"\"),\"\",VLOOKUP(CONCATENATE(E527,Listas!AZ524),Listas!$BC$3:$BI$15430,7,FALSE))","v":""},null,null,{"$f":"IF(G527=\"\",\"\",VLOOKUP(G527,Listas!$BM$3:$BN$16,2,FALSE)*100)","v":""},"",{"$f":"+IFERROR(VLOOKUP(E527,Listas!$CQ$2:$CW$1104,7,FALSE),\"\")","v":""},"","",""]
[null,null,null,null,{"$f":"IF(D528=\"\",\"\",VLOOKUP(CONCATENATE(C528,D528),Listas!$AT$2:$AV$1104,3,FALSE))","v":""},null,{"$f":"IF(OR(F528=\"\",E528=\"\"),\"\",VLOOKUP(CONCATENATE(E528,Listas!AZ525),Listas!$BC$3:$BI$15430,7,FALSE))","v":""},null,null,{"$f":"IF(G528=\"\",\"\",VLOOKUP(G528,Listas!$BM$3:$BN$16,2,FALSE)*100)","v":""},"",{"$f":"+IFERROR(VLOOKUP(E528,Listas!$CQ$2:$CW$1104,7,FALSE),\"\")","v":""},"","",""]
[null,null,null,null,{"$f":"IF(D529=\"\",\"\",VLOOKUP(CONCATENATE(C529,D529),Listas!$AT$2:$AV$1104,3,FALSE))","v":""},null,{"$f":"IF(OR(F529=\"\",E529=\"\"),\"\",VLOOKUP(CONCATENATE(E529,Listas!AZ526),Listas!$BC$3:$BI$15430,7,FALSE))","v":""},null,null,{"$f":"IF(G529=\"\",\"\",VLOOKUP(G529,Listas!$BM$3:$BN$16,2,FALSE)*100)","v":""},"",{"$f":"+IFERROR(VLOOKUP(E529,Listas!$CQ$2:$CW$1104,7,FALSE),\"\")","v":""},"","",""]
[null,null,null,null,{"$f":"IF(D530=\"\",\"\",VLOOKUP(CONCATENATE(C530,D530),Listas!$AT$2:$AV$1104,3,FALSE))","v":""},null,{"$f":"IF(OR(F530=\"\",E530=\"\"),\"\",VLOOKUP(CONCATENATE(E530,Listas!AZ527),Listas!$BC$3:$BI$15430,7,FALSE))","v":""},null,null,{"$f":"IF(G530=\"\",\"\",VLOOKUP(G530,Listas!$BM$3:$BN$16,2,FALSE)*100)","v":""},"",{"$f":"+IFERROR(VLOOKUP(E530,Listas!$CQ$2:$CW$1104,7,FALSE),\"\")","v":""},"","",""]
[null,null,null,null,{"$f":"IF(D531=\"\",\"\",VLOOKUP(CONCATENATE(C531,D531),Listas!$AT$2:$AV$1104,3,FALSE))","v":""},null,{"$f":"IF(OR(F531=\"\",E531=\"\"),\"\",VLOOKUP(CONCATENATE(E531,Listas!AZ528),Listas!$BC$3:$BI$15430,7,FALSE))","v":""},null,null,{"$f":"IF(G531=\"\",\"\",VLOOKUP(G531,Listas!$BM$3:$BN$16,2,FALSE)*100)","v":""},"",{"$f":"+IFERROR(VLOOKUP(E531,Listas!$CQ$2:$CW$1104,7,FALSE),\"\")","v":""},"","",""]
[null,null,null,null,{"$f":"IF(D532=\"\",\"\",VLOOKUP(CONCATENATE(C532,D532),Listas!$AT$2:$AV$1104,3,FALSE))","v":""},null,{"$f":"IF(OR(F532=\"\",E532=\"\"),\"\",VLOOKUP(CONCATENATE(E532,Listas!AZ529),Listas!$BC$3:$BI$15430,7,FALSE))","v":""},null,null,{"$f":"IF(G532=\"\",\"\",VLOOKUP(G532,Listas!$BM$3:$BN$16,2,FALSE)*100)","v":""},"",{"$f":"+IFERROR(VLOOKUP(E532,Listas!$CQ$2:$CW$1104,7,FALSE),\"\")","v":""},"","",""]
[null,null,null,null,{"$f":"IF(D533=\"\",\"\",VLOOKUP(CONCATENATE(C533,D533),Listas!$AT$2:$AV$1104,3,FALSE))","v":""},null,{"$f":"IF(OR(F533=\"\",E533=\"\"),\"\",VLOOKUP(CONCATENATE(E533,Listas!AZ530),Listas!$BC$3:$BI$15430,7,FALSE))","v":""},null,null,{"$f":"IF(G533=\"\",\"\",VLOOKUP(G533,Listas!$BM$3:$BN$16,2,FALSE)*100)","v":""},"",{"$f":"+IFERROR(VLOOKUP(E533,Listas!$CQ$2:$CW$1104,7,FALSE),\"\")","v":""},"","",""]
[null,null,null,null,{"$f":"IF(D534=\"\",\"\",VLOOKUP(CONCATENATE(C534,D534),Listas!$AT$2:$AV$1104,3,FALSE))","v":""},null,{"$f":"IF(OR(F534=\"\",E534=\"\"),\"\",VLOOKUP(CONCATENATE(E534,Listas!AZ531),Listas!$BC$3:$BI$15430,7,FALSE))","v":""},null,null,{"$f":"IF(G534=\"\",\"\",VLOOKUP(G534,Listas!$BM$3:$BN$16,2,FALSE)*100)","v":""},"",{"$f":"+IFERROR(VLOOKUP(E534,Listas!$CQ$2:$CW$1104,7,FALSE),\"\")","v":""},"","",""]
[null,null,null,null,{"$f":"IF(D535=\"\",\"\",VLOOKUP(CONCATENATE(C535,D535),Listas!$AT$2:$AV$1104,3,FALSE))","v":""},null,{"$f":"IF(OR(F535=\"\",E535=\"\"),\"\",VLOOKUP(CONCATENATE(E535,Listas!AZ532),Listas!$BC$3:$BI$15430,7,FALSE))","v":""},null,null,{"$f":"IF(G535=\"\",\"\",VLOOKUP(G535,Listas!$BM$3:$BN$16,2,FALSE)*100)","v":""},"",{"$f":"+IFERROR(VLOOKUP(E535,Listas!$CQ$2:$CW$1104,7,FALSE),\"\")","v":""},"","",""]
[null,null,null,null,{"$f":"IF(D536=\"\",\"\",VLOOKUP(CONCATENATE(C536,D536),Listas!$AT$2:$AV$1104,3,FALSE))","v":""},null,{"$f":"IF(OR(F536=\"\",E536=\"\"),\"\",VLOOKUP(CONCATENATE(E536,Listas!AZ533),Listas!$BC$3:$BI$15430,7,FALSE))","v":""},null,null,{"$f":"IF(G536=\"\",\"\",VLOOKUP(G536,Listas!$BM$3:$BN$16,2,FALSE)*100)","v":""},"",{"$f":"+IFERROR(VLOOKUP(E536,Listas!$CQ$2:$CW$1104,7,FALSE),\"\")","v":""},"","",""]
[null,null,null,null,{"$f":"IF(D537=\"\",\"\",VLOOKUP(CONCATENATE(C537,D537),Listas!$AT$2:$AV$1104,3,FALSE))","v":""},null,{"$f":"IF(OR(F537=\"\",E537=\"\"),\"\",VLOOKUP(CONCATENATE(E537,Listas!AZ534),Listas!$BC$3:$BI$15430,7,FALSE))","v":""},null,null,{"$f":"IF(G537=\"\",\"\",VLOOKUP(G537,Listas!$BM$3:$BN$16,2,FALSE)*100)","v":""},"",{"$f":"+IFERROR(VLOOKUP(E537,Listas!$CQ$2:$CW$1104,7,FALSE),\"\")","v":""},"","",""]
[null,null,null,null,{"$f":"IF(D538=\"\",\"\",VLOOKUP(CONCATENATE(C538,D538),Listas!$AT$2:$AV$1104,3,FALSE))","v":""},null,{"$f":"IF(OR(F538=\"\",E538=\"\"),\"\",VLOOKUP(CONCATENATE(E538,Listas!AZ535),Listas!$BC$3:$BI$15430,7,FALSE))","v":""},null,null,{"$f":"IF(G538=\"\",\"\",VLOOKUP(G538,Listas!$BM$3:$BN$16,2,FALSE)*100)","v":""},"",{"$f":"+IFERROR(VLOOKUP(E538,Listas!$CQ$2:$CW$1104,7,FALSE),\"\")","v":""},"","",""]
[null,null,null,null,{"$f":"IF(D539=\"\",\"\",VLOOKUP(CONCATENATE(C539,D539),Listas!$AT$2:$AV$1104,3,FALSE))","v":""},null,{"$f":"IF(OR(F539=\"\",E539=\"\"),\"\",VLOOKUP(CONCATENATE(E539,Listas!AZ536),Listas!$BC$3:$BI$15430,7,FALSE))","v":""},null,null,{"$f":"IF(G539=\"\",\"\",VLOOKUP(G539,Listas!$BM$3:$BN$16,2,FALSE)*100)","v":""},"",{"$f":"+IFERROR(VLOOKUP(E539,Listas!$CQ$2:$CW$1104,7,FALSE),\"\")","v":""},"","",""]
[null,null,null,null,{"$f":"IF(D540=\"\",\"\",VLOOKUP(CONCATENATE(C540,D540),Listas!$AT$2:$AV$1104,3,FALSE))","v":""},null,{"$f":"IF(OR(F540=\"\",E540=\"\"),\"\",VLOOKUP(CONCATENATE(E540,Listas!AZ537),Listas!$BC$3:$BI$15430,7,FALSE))","v":""},null,null,{"$f":"IF(G540=\"\",\"\",VLOOKUP(G540,Listas!$BM$3:$BN$16,2,FALSE)*100)","v":""},"",{"$f":"+IFERROR(VLOOKUP(E540,Listas!$CQ$2:$CW$1104,7,FALSE),\"\")","v":""},"","",""]
[null,null,null,null,{"$f":"IF(D541=\"\",\"\",VLOOKUP(CONCATENATE(C541,D541),Listas!$AT$2:$AV$1104,3,FALSE))","v":""},null,{"$f":"IF(OR(F541=\"\",E541=\"\"),\"\",VLOOKUP(CONCATENATE(E541,Listas!AZ538),Listas!$BC$3:$BI$15430,7,FALSE))","v":""},null,null,{"$f":"IF(G541=\"\",\"\",VLOOKUP(G541,Listas!$BM$3:$BN$16,2,FALSE)*100)","v":""},"",{"$f":"+IFERROR(VLOOKUP(E541,Listas!$CQ$2:$CW$1104,7,FALSE),\"\")","v":""},"","",""]
[null,null,null,null,{"$f":"IF(D542=\"\",\"\",VLOOKUP(CONCATENATE(C542,D542),Listas!$AT$2:$AV$1104,3,FALSE))","v":""},null,{"$f":"IF(OR(F542=\"\",E542=\"\"),\"\",VLOOKUP(CONCATENATE(E542,Listas!AZ539),Listas!$BC$3:$BI$15430,7,FALSE))","v":""},null,null,{"$f":"IF(G542=\"\",\"\",VLOOKUP(G542,Listas!$BM$3:$BN$16,2,FALSE)*100)","v":""},"",{"$f":"+IFERROR(VLOOKUP(E542,Listas!$CQ$2:$CW$1104,7,FALSE),\"\")","v":""},"","",""]
[null,null,null,null,{"$f":"IF(D543=\"\",\"\",VLOOKUP(CONCATENATE(C543,D543),Listas!$AT$2:$AV$1104,3,FALSE))","v":""},null,{"$f":"IF(OR(F543=\"\",E543=\"\"),\"\",VLOOKUP(CONCATENATE(E543,Listas!AZ540),Listas!$BC$3:$BI$15430,7,FALSE))","v":""},null,null,{"$f":"IF(G543=\"\",\"\",VLOOKUP(G543,Listas!$BM$3:$BN$16,2,FALSE)*100)","v":""},"",{"$f":"+IFERROR(VLOOKUP(E543,Listas!$CQ$2:$CW$1104,7,FALSE),\"\")","v":""},"","",""]
[null,null,null,null,{"$f":"IF(D544=\"\",\"\",VLOOKUP(CONCATENATE(C544,D544),Listas!$AT$2:$AV$1104,3,FALSE))","v":""},null,{"$f":"IF(OR(F544=\"\",E544=\"\"),\"\",VLOOKUP(CONCATENATE(E544,Listas!AZ541),Listas!$BC$3:$BI$15430,7,FALSE))","v":""},null,null,{"$f":"IF(G544=\"\",\"\",VLOOKUP(G544,Listas!$BM$3:$BN$16,2,FALSE)*100)","v":""},"",{"$f":"+IFERROR(VLOOKUP(E544,Listas!$CQ$2:$CW$1104,7,FALSE),\"\")","v":""},"","",""]
[null,null,null,null,{"$f":"IF(D545=\"\",\"\",VLOOKUP(CONCATENATE(C545,D545),Listas!$AT$2:$AV$1104,3,FALSE))","v":""},null,{"$f":"IF(OR(F545=\"\",E545=\"\"),\"\",VLOOKUP(CONCATENATE(E545,Listas!AZ542),Listas!$BC$3:$BI$15430,7,FALSE))","v":""},null,null,{"$f":"IF(G545=\"\",\"\",VLOOKUP(G545,Listas!$BM$3:$BN$16,2,FALSE)*100)","v":""},"",{"$f":"+IFERROR(VLOOKUP(E545,Listas!$CQ$2:$CW$1104,7,FALSE),\"\")","v":""},"","",""]
[null,null,null,null,{"$f":"IF(D546=\"\",\"\",VLOOKUP(CONCATENATE(C546,D546),Listas!$AT$2:$AV$1104,3,FALSE))","v":""},null,{"$f":"IF(OR(F546=\"\",E546=\"\"),\"\",VLOOKUP(CONCATENATE(E546,Listas!AZ543),Listas!$BC$3:$BI$15430,7,FALSE))","v":""},null,null,{"$f":"IF(G546=\"\",\"\",VLOOKUP(G546,Listas!$BM$3:$BN$16,2,FALSE)*100)","v":""},"",{"$f":"+IFERROR(VLOOKUP(E546,Listas!$CQ$2:$CW$1104,7,FALSE),\"\")","v":""},"","",""]
[null,null,null,null,{"$f":"IF(D547=\"\",\"\",VLOOKUP(CONCATENATE(C547,D547),Listas!$AT$2:$AV$1104,3,FALSE))","v":""},null,{"$f":"IF(OR(F547=\"\",E547=\"\"),\"\",VLOOKUP(CONCATENATE(E547,Listas!AZ544),Listas!$BC$3:$BI$15430,7,FALSE))","v":""},null,null,{"$f":"IF(G547=\"\",\"\",VLOOKUP(G547,Listas!$BM$3:$BN$16,2,FALSE)*100)","v":""},"",{"$f":"+IFERROR(VLOOKUP(E547,Listas!$CQ$2:$CW$1104,7,FALSE),\"\")","v":""},"","",""]
[null,null,null,null,{"$f":"IF(D548=\"\",\"\",VLOOKUP(CONCATENATE(C548,D548),Listas!$AT$2:$AV$1104,3,FALSE))","v":""},null,{"$f":"IF(OR(F548=\"\",E548=\"\"),\"\",VLOOKUP(CONCATENATE(E548,Listas!AZ545),Listas!$BC$3:$BI$15430,7,FALSE))","v":""},null,null,{"$f":"IF(G548=\"\",\"\",VLOOKUP(G548,Listas!$BM$3:$BN$16,2,FALSE)*100)","v":""},"",{"$f":"+IFERROR(VLOOKUP(E548,Listas!$CQ$2:$CW$1104,7,FALSE),\"\")","v":""},"","",""]
[null,null,null,null,{"$f":"IF(D549=\"\",\"\",VLOOKUP(CONCATENATE(C549,D549),Listas!$AT$2:$AV$1104,3,FALSE))","v":""},null,{"$f":"IF(OR(F549=\"\",E549=\"\"),\"\",VLOOKUP(CONCATENATE(E549,Listas!AZ546),Listas!$BC$3:$BI$15430,7,FALSE))","v":""},null,null,{"$f":"IF(G549=\"\",\"\",VLOOKUP(G549,Listas!$BM$3:$BN$16,2,FALSE)*100)","v":""},"",{"$f":"+IFERROR(VLOOKUP(E549,Listas!$CQ$2:$CW$1104,7,FALSE),\"\")","v":""},"","",""]
[null,null,null,null,{"$f":"IF(D550=\"\",\"\",VLOOKUP(CONCATENATE(C550,D550),Listas!$AT$2:$AV$1104,3,FALSE))","v":""},null,{"$f":"IF(OR(F550=\"\",E550=\"\"),\"\",VLOOKUP(CONCATENATE(E550,Listas!AZ547),Listas!$BC$3:$BI$15430,7,FALSE))","v":""},null,null,{"$f":"IF(G550=\"\",\"\",VLOOKUP(G550,Listas!$BM$3:$BN$16,2,FALSE)*100)","v":""},"",{"$f":"+IFERROR(VLOOKUP(E550,Listas!$CQ$2:$CW$1104,7,FALSE),\"\")","v":""},"","",""]
[null,null,null,null,{"$f":"IF(D551=\"\",\"\",VLOOKUP(CONCATENATE(C551,D551),Listas!$AT$2:$AV$1104,3,FALSE))","v":""},null,{"$f":"IF(OR(F551=\"\",E551=\"\"),\"\",VLOOKUP(CONCATENATE(E551,Listas!AZ548),Listas!$BC$3:$BI$15430,7,FALSE))","v":""},null,null,{"$f":"IF(G551=\"\",\"\",VLOOKUP(G551,Listas!$BM$3:$BN$16,2,FALSE)*100)","v":""},"",{"$f":"+IFERROR(VLOOKUP(E551,Listas!$CQ$2:$CW$1104,7,FALSE),\"\")","v":""},"","",""]
[null,null,null,null,{"$f":"IF(D552=\"\",\"\",VLOOKUP(CONCATENATE(C552,D552),Listas!$AT$2:$AV$1104,3,FALSE))","v":""},null,{"$f":"IF(OR(F552=\"\",E552=\"\"),\"\",VLOOKUP(CONCATENATE(E552,Listas!AZ549),Listas!$BC$3:$BI$15430,7,FALSE))","v":""},null,null,{"$f":"IF(G552=\"\",\"\",VLOOKUP(G552,Listas!$BM$3:$BN$16,2,FALSE)*100)","v":""},"",{"$f":"+IFERROR(VLOOKUP(E552,Listas!$CQ$2:$CW$1104,7,FALSE),\"\")","v":""},"","",""]
[null,null,null,null,{"$f":"IF(D553=\"\",\"\",VLOOKUP(CONCATENATE(C553,D553),Listas!$AT$2:$AV$1104,3,FALSE))","v":""},null,{"$f":"IF(OR(F553=\"\",E553=\"\"),\"\",VLOOKUP(CONCATENATE(E553,Listas!AZ550),Listas!$BC$3:$BI$15430,7,FALSE))","v":""},null,null,{"$f":"IF(G553=\"\",\"\",VLOOKUP(G553,Listas!$BM$3:$BN$16,2,FALSE)*100)","v":""},"",{"$f":"+IFERROR(VLOOKUP(E553,Listas!$CQ$2:$CW$1104,7,FALSE),\"\")","v":""},"","",""]
[null,null,null,null,{"$f":"IF(D554=\"\",\"\",VLOOKUP(CONCATENATE(C554,D554),Listas!$AT$2:$AV$1104,3,FALSE))","v":""},null,{"$f":"IF(OR(F554=\"\",E554=\"\"),\"\",VLOOKUP(CONCATENATE(E554,Listas!AZ551),Listas!$BC$3:$BI$15430,7,FALSE))","v":""},null,null,{"$f":"IF(G554=\"\",\"\",VLOOKUP(G554,Listas!$BM$3:$BN$16,2,FALSE)*100)","v":""},"",{"$f":"+IFERROR(VLOOKUP(E554,Listas!$CQ$2:$CW$1104,7,FALSE),\"\")","v":""},"","",""]
[null,null,null,null,{"$f":"IF(D555=\"\",\"\",VLOOKUP(CONCATENATE(C555,D555),Listas!$AT$2:$AV$1104,3,FALSE))","v":""},null,{"$f":"IF(OR(F555=\"\",E555=\"\"),\"\",VLOOKUP(CONCATENATE(E555,Listas!AZ552),Listas!$BC$3:$BI$15430,7,FALSE))","v":""},null,null,{"$f":"IF(G555=\"\",\"\",VLOOKUP(G555,Listas!$BM$3:$BN$16,2,FALSE)*100)","v":""},"",{"$f":"+IFERROR(VLOOKUP(E555,Listas!$CQ$2:$CW$1104,7,FALSE),\"\")","v":""},"","",""]
[null,null,null,null,{"$f":"IF(D556=\"\",\"\",VLOOKUP(CONCATENATE(C556,D556),Listas!$AT$2:$AV$1104,3,FALSE))","v":""},null,{"$f":"IF(OR(F556=\"\",E556=\"\"),\"\",VLOOKUP(CONCATENATE(E556,Listas!AZ553),Listas!$BC$3:$BI$15430,7,FALSE))","v":""},null,null,{"$f":"IF(G556=\"\",\"\",VLOOKUP(G556,Listas!$BM$3:$BN$16,2,FALSE)*100)","v":""},"",{"$f":"+IFERROR(VLOOKUP(E556,Listas!$CQ$2:$CW$1104,7,FALSE),\"\")","v":""},"","",""]
[null,null,null,null,{"$f":"IF(D557=\"\",\"\",VLOOKUP(CONCATENATE(C557,D557),Listas!$AT$2:$AV$1104,3,FALSE))","v":""},null,{"$f":"IF(OR(F557=\"\",E557=\"\"),\"\",VLOOKUP(CONCATENATE(E557,Listas!AZ554),Listas!$BC$3:$BI$15430,7,FALSE))","v":""},null,null,{"$f":"IF(G557=\"\",\"\",VLOOKUP(G557,Listas!$BM$3:$BN$16,2,FALSE)*100)","v":""},"",{"$f":"+IFERROR(VLOOKUP(E557,Listas!$CQ$2:$CW$1104,7,FALSE),\"\")","v":""},"","",""]
[null,null,null,null,{"$f":"IF(D558=\"\",\"\",VLOOKUP(CONCATENATE(C558,D558),Listas!$AT$2:$AV$1104,3,FALSE))","v":""},null,{"$f":"IF(OR(F558=\"\",E558=\"\"),\"\",VLOOKUP(CONCATENATE(E558,Listas!AZ555),Listas!$BC$3:$BI$15430,7,FALSE))","v":""},null,null,{"$f":"IF(G558=\"\",\"\",VLOOKUP(G558,Listas!$BM$3:$BN$16,2,FALSE)*100)","v":""},"",{"$f":"+IFERROR(VLOOKUP(E558,Listas!$CQ$2:$CW$1104,7,FALSE),\"\")","v":""},"","",""]
[null,null,null,null,{"$f":"IF(D559=\"\",\"\",VLOOKUP(CONCATENATE(C559,D559),Listas!$AT$2:$AV$1104,3,FALSE))","v":""},null,{"$f":"IF(OR(F559=\"\",E559=\"\"),\"\",VLOOKUP(CONCATENATE(E559,Listas!AZ556),Listas!$BC$3:$BI$15430,7,FALSE))","v":""},null,null,{"$f":"IF(G559=\"\",\"\",VLOOKUP(G559,Listas!$BM$3:$BN$16,2,FALSE)*100)","v":""},"",{"$f":"+IFERROR(VLOOKUP(E559,Listas!$CQ$2:$CW$1104,7,FALSE),\"\")","v":""},"","",""]
[null,null,null,null,{"$f":"IF(D560=\"\",\"\",VLOOKUP(CONCATENATE(C560,D560),Listas!$AT$2:$AV$1104,3,FALSE))","v":""},null,{"$f":"IF(OR(F560=\"\",E560=\"\"),\"\",VLOOKUP(CONCATENATE(E560,Listas!AZ557),Listas!$BC$3:$BI$15430,7,FALSE))","v":""},null,null,{"$f":"IF(G560=\"\",\"\",VLOOKUP(G560,Listas!$BM$3:$BN$16,2,FALSE)*100)","v":""},"",{"$f":"+IFERROR(VLOOKUP(E560,Listas!$CQ$2:$CW$1104,7,FALSE),\"\")","v":""},"","",""]
[null,null,null,null,{"$f":"IF(D561=\"\",\"\",VLOOKUP(CONCATENATE(C561,D561),Listas!$AT$2:$AV$1104,3,FALSE))","v":""},null,{"$f":"IF(OR(F561=\"\",E561=\"\"),\"\",VLOOKUP(CONCATENATE(E561,Listas!AZ558),Listas!$BC$3:$BI$15430,7,FALSE))","v":""},null,null,{"$f":"IF(G561=\"\",\"\",VLOOKUP(G561,Listas!$BM$3:$BN$16,2,FALSE)*100)","v":""},"",{"$f":"+IFERROR(VLOOKUP(E561,Listas!$CQ$2:$CW$1104,7,FALSE),\"\")","v":""},"","",""]
[null,null,null,null,{"$f":"IF(D562=\"\",\"\",VLOOKUP(CONCATENATE(C562,D562),Listas!$AT$2:$AV$1104,3,FALSE))","v":""},null,{"$f":"IF(OR(F562=\"\",E562=\"\"),\"\",VLOOKUP(CONCATENATE(E562,Listas!AZ559),Listas!$BC$3:$BI$15430,7,FALSE))","v":""},null,null,{"$f":"IF(G562=\"\",\"\",VLOOKUP(G562,Listas!$BM$3:$BN$16,2,FALSE)*100)","v":""},"",{"$f":"+IFERROR(VLOOKUP(E562,Listas!$CQ$2:$CW$1104,7,FALSE),\"\")","v":""},"","",""]
[null,null,null,null,{"$f":"IF(D563=\"\",\"\",VLOOKUP(CONCATENATE(C563,D563),Listas!$AT$2:$AV$1104,3,FALSE))","v":""},null,{"$f":"IF(OR(F563=\"\",E563=\"\"),\"\",VLOOKUP(CONCATENATE(E563,Listas!AZ560),Listas!$BC$3:$BI$15430,7,FALSE))","v":""},null,null,{"$f":"IF(G563=\"\",\"\",VLOOKUP(G563,Listas!$BM$3:$BN$16,2,FALSE)*100)","v":""},"",{"$f":"+IFERROR(VLOOKUP(E563,Listas!$CQ$2:$CW$1104,7,FALSE),\"\")","v":""},"","",""]
[null,null,null,null,{"$f":"IF(D564=\"\",\"\",VLOOKUP(CONCATENATE(C564,D564),Listas!$AT$2:$AV$1104,3,FALSE))","v":""},null,{"$f":"IF(OR(F564=\"\",E564=\"\"),\"\",VLOOKUP(CONCATENATE(E564,Listas!AZ561),Listas!$BC$3:$BI$15430,7,FALSE))","v":""},null,null,{"$f":"IF(G564=\"\",\"\",VLOOKUP(G564,Listas!$BM$3:$BN$16,2,FALSE)*100)","v":""},"",{"$f":"+IFERROR(VLOOKUP(E564,Listas!$CQ$2:$CW$1104,7,FALSE),\"\")","v":""},"","",""]
[null,null,null,null,{"$f":"IF(D565=\"\",\"\",VLOOKUP(CONCATENATE(C565,D565),Listas!$AT$2:$AV$1104,3,FALSE))","v":""},null,{"$f":"IF(OR(F565=\"\",E565=\"\"),\"\",VLOOKUP(CONCATENATE(E565,Listas!AZ562),Listas!$BC$3:$BI$15430,7,FALSE))","v":""},null,null,{"$f":"IF(G565=\"\",\"\",VLOOKUP(G565,Listas!$BM$3:$BN$16,2,FALSE)*100)","v":""},"",{"$f":"+IFERROR(VLOOKUP(E565,Listas!$CQ$2:$CW$1104,7,FALSE),\"\")","v":""},"","",""]
[null,null,null,null,{"$f":"IF(D566=\"\",\"\",VLOOKUP(CONCATENATE(C566,D566),Listas!$AT$2:$AV$1104,3,FALSE))","v":""},null,{"$f":"IF(OR(F566=\"\",E566=\"\"),\"\",VLOOKUP(CONCATENATE(E566,Listas!AZ563),Listas!$BC$3:$BI$15430,7,FALSE))","v":""},null,null,{"$f":"IF(G566=\"\",\"\",VLOOKUP(G566,Listas!$BM$3:$BN$16,2,FALSE)*100)","v":""},"",{"$f":"+IFERROR(VLOOKUP(E566,Listas!$CQ$2:$CW$1104,7,FALSE),\"\")","v":""},"","",""]
[null,null,null,null,{"$f":"IF(D567=\"\",\"\",VLOOKUP(CONCATENATE(C567,D567),Listas!$AT$2:$AV$1104,3,FALSE))","v":""},null,{"$f":"IF(OR(F567=\"\",E567=\"\"),\"\",VLOOKUP(CONCATENATE(E567,Listas!AZ564),Listas!$BC$3:$BI$15430,7,FALSE))","v":""},null,null,{"$f":"IF(G567=\"\",\"\",VLOOKUP(G567,Listas!$BM$3:$BN$16,2,FALSE)*100)","v":""},"",{"$f":"+IFERROR(VLOOKUP(E567,Listas!$CQ$2:$CW$1104,7,FALSE),\"\")","v":""},"","",""]
[null,null,null,null,{"$f":"IF(D568=\"\",\"\",VLOOKUP(CONCATENATE(C568,D568),Listas!$AT$2:$AV$1104,3,FALSE))","v":""},null,{"$f":"IF(OR(F568=\"\",E568=\"\"),\"\",VLOOKUP(CONCATENATE(E568,Listas!AZ565),Listas!$BC$3:$BI$15430,7,FALSE))","v":""},null,null,{"$f":"IF(G568=\"\",\"\",VLOOKUP(G568,Listas!$BM$3:$BN$16,2,FALSE)*100)","v":""},"",{"$f":"+IFERROR(VLOOKUP(E568,Listas!$CQ$2:$CW$1104,7,FALSE),\"\")","v":""},"","",""]
[null,null,null,null,{"$f":"IF(D569=\"\",\"\",VLOOKUP(CONCATENATE(C569,D569),Listas!$AT$2:$AV$1104,3,FALSE))","v":""},null,{"$f":"IF(OR(F569=\"\",E569=\"\"),\"\",VLOOKUP(CONCATENATE(E569,Listas!AZ566),Listas!$BC$3:$BI$15430,7,FALSE))","v":""},null,null,{"$f":"IF(G569=\"\",\"\",VLOOKUP(G569,Listas!$BM$3:$BN$16,2,FALSE)*100)","v":""},"",{"$f":"+IFERROR(VLOOKUP(E569,Listas!$CQ$2:$CW$1104,7,FALSE),\"\")","v":""},"","",""]
[null,null,null,null,{"$f":"IF(D570=\"\",\"\",VLOOKUP(CONCATENATE(C570,D570),Listas!$AT$2:$AV$1104,3,FALSE))","v":""},null,{"$f":"IF(OR(F570=\"\",E570=\"\"),\"\",VLOOKUP(CONCATENATE(E570,Listas!AZ567),Listas!$BC$3:$BI$15430,7,FALSE))","v":""},null,null,{"$f":"IF(G570=\"\",\"\",VLOOKUP(G570,Listas!$BM$3:$BN$16,2,FALSE)*100)","v":""},"",{"$f":"+IFERROR(VLOOKUP(E570,Listas!$CQ$2:$CW$1104,7,FALSE),\"\")","v":""},"","",""]
[null,null,null,null,{"$f":"IF(D571=\"\",\"\",VLOOKUP(CONCATENATE(C571,D571),Listas!$AT$2:$AV$1104,3,FALSE))","v":""},null,{"$f":"IF(OR(F571=\"\",E571=\"\"),\"\",VLOOKUP(CONCATENATE(E571,Listas!AZ568),Listas!$BC$3:$BI$15430,7,FALSE))","v":""},null,null,{"$f":"IF(G571=\"\",\"\",VLOOKUP(G571,Listas!$BM$3:$BN$16,2,FALSE)*100)","v":""},"",{"$f":"+IFERROR(VLOOKUP(E571,Listas!$CQ$2:$CW$1104,7,FALSE),\"\")","v":""},"","",""]
[null,null,null,null,{"$f":"IF(D572=\"\",\"\",VLOOKUP(CONCATENATE(C572,D572),Listas!$AT$2:$AV$1104,3,FALSE))","v":""},null,{"$f":"IF(OR(F572=\"\",E572=\"\"),\"\",VLOOKUP(CONCATENATE(E572,Listas!AZ569),Listas!$BC$3:$BI$15430,7,FALSE))","v":""},null,null,{"$f":"IF(G572=\"\",\"\",VLOOKUP(G572,Listas!$BM$3:$BN$16,2,FALSE)*100)","v":""},"",{"$f":"+IFERROR(VLOOKUP(E572,Listas!$CQ$2:$CW$1104,7,FALSE),\"\")","v":""},"","",""]
[null,null,null,null,{"$f":"IF(D573=\"\",\"\",VLOOKUP(CONCATENATE(C573,D573),Listas!$AT$2:$AV$1104,3,FALSE))","v":""},null,{"$f":"IF(OR(F573=\"\",E573=\"\"),\"\",VLOOKUP(CONCATENATE(E573,Listas!AZ570),Listas!$BC$3:$BI$15430,7,FALSE))","v":""},null,null,{"$f":"IF(G573=\"\",\"\",VLOOKUP(G573,Listas!$BM$3:$BN$16,2,FALSE)*100)","v":""},"",{"$f":"+IFERROR(VLOOKUP(E573,Listas!$CQ$2:$CW$1104,7,FALSE),\"\")","v":""},"","",""]
[null,null,null,null,{"$f":"IF(D574=\"\",\"\",VLOOKUP(CONCATENATE(C574,D574),Listas!$AT$2:$AV$1104,3,FALSE))","v":""},null,{"$f":"IF(OR(F574=\"\",E574=\"\"),\"\",VLOOKUP(CONCATENATE(E574,Listas!AZ571),Listas!$BC$3:$BI$15430,7,FALSE))","v":""},null,null,{"$f":"IF(G574=\"\",\"\",VLOOKUP(G574,Listas!$BM$3:$BN$16,2,FALSE)*100)","v":""},"",{"$f":"+IFERROR(VLOOKUP(E574,Listas!$CQ$2:$CW$1104,7,FALSE),\"\")","v":""},"","",""]
[null,null,null,null,{"$f":"IF(D575=\"\",\"\",VLOOKUP(CONCATENATE(C575,D575),Listas!$AT$2:$AV$1104,3,FALSE))","v":""},null,{"$f":"IF(OR(F575=\"\",E575=\"\"),\"\",VLOOKUP(CONCATENATE(E575,Listas!AZ572),Listas!$BC$3:$BI$15430,7,FALSE))","v":""},null,null,{"$f":"IF(G575=\"\",\"\",VLOOKUP(G575,Listas!$BM$3:$BN$16,2,FALSE)*100)","v":""},"",{"$f":"+IFERROR(VLOOKUP(E575,Listas!$CQ$2:$CW$1104,7,FALSE),\"\")","v":""},"","",""]
[null,null,null,null,{"$f":"IF(D576=\"\",\"\",VLOOKUP(CONCATENATE(C576,D576),Listas!$AT$2:$AV$1104,3,FALSE))","v":""},null,{"$f":"IF(OR(F576=\"\",E576=\"\"),\"\",VLOOKUP(CONCATENATE(E576,Listas!AZ573),Listas!$BC$3:$BI$15430,7,FALSE))","v":""},null,null,{"$f":"IF(G576=\"\",\"\",VLOOKUP(G576,Listas!$BM$3:$BN$16,2,FALSE)*100)","v":""},"",{"$f":"+IFERROR(VLOOKUP(E576,Listas!$CQ$2:$CW$1104,7,FALSE),\"\")","v":""},"","",""]
[null,null,null,null,{"$f":"IF(D577=\"\",\"\",VLOOKUP(CONCATENATE(C577,D577),Listas!$AT$2:$AV$1104,3,FALSE))","v":""},null,{"$f":"IF(OR(F577=\"\",E577=\"\"),\"\",VLOOKUP(CONCATENATE(E577,Listas!AZ574),Listas!$BC$3:$BI$15430,7,FALSE))","v":""},null,null,{"$f":"IF(G577=\"\",\"\",VLOOKUP(G577,Listas!$BM$3:$BN$16,2,FALSE)*100)","v":""},"",{"$f":"+IFERROR(VLOOKUP(E577,Listas!$CQ$2:$CW$1104,7,FALSE),\"\")","v":""},"","",""]
[null,null,null,null,{"$f":"IF(D578=\"\",\"\",VLOOKUP(CONCATENATE(C578,D578),Listas!$AT$2:$AV$1104,3,FALSE))","v":""},null,{"$f":"IF(OR(F578=\"\",E578=\"\"),\"\",VLOOKUP(CONCATENATE(E578,Listas!AZ575),Listas!$BC$3:$BI$15430,7,FALSE))","v":""},null,null,{"$f":"IF(G578=\"\",\"\",VLOOKUP(G578,Listas!$BM$3:$BN$16,2,FALSE)*100)","v":""},"",{"$f":"+IFERROR(VLOOKUP(E578,Listas!$CQ$2:$CW$1104,7,FALSE),\"\")","v":""},"","",""]
[null,null,null,null,{"$f":"IF(D579=\"\",\"\",VLOOKUP(CONCATENATE(C579,D579),Listas!$AT$2:$AV$1104,3,FALSE))","v":""},null,{"$f":"IF(OR(F579=\"\",E579=\"\"),\"\",VLOOKUP(CONCATENATE(E579,Listas!AZ576),Listas!$BC$3:$BI$15430,7,FALSE))","v":""},null,null,{"$f":"IF(G579=\"\",\"\",VLOOKUP(G579,Listas!$BM$3:$BN$16,2,FALSE)*100)","v":""},"",{"$f":"+IFERROR(VLOOKUP(E579,Listas!$CQ$2:$CW$1104,7,FALSE),\"\")","v":""},"","",""]
[null,null,null,null,{"$f":"IF(D580=\"\",\"\",VLOOKUP(CONCATENATE(C580,D580),Listas!$AT$2:$AV$1104,3,FALSE))","v":""},null,{"$f":"IF(OR(F580=\"\",E580=\"\"),\"\",VLOOKUP(CONCATENATE(E580,Listas!AZ577),Listas!$BC$3:$BI$15430,7,FALSE))","v":""},null,null,{"$f":"IF(G580=\"\",\"\",VLOOKUP(G580,Listas!$BM$3:$BN$16,2,FALSE)*100)","v":""},"",{"$f":"+IFERROR(VLOOKUP(E580,Listas!$CQ$2:$CW$1104,7,FALSE),\"\")","v":""},"","",""]
[null,null,null,null,{"$f":"IF(D581=\"\",\"\",VLOOKUP(CONCATENATE(C581,D581),Listas!$AT$2:$AV$1104,3,FALSE))","v":""},null,{"$f":"IF(OR(F581=\"\",E581=\"\"),\"\",VLOOKUP(CONCATENATE(E581,Listas!AZ578),Listas!$BC$3:$BI$15430,7,FALSE))","v":""},null,null,{"$f":"IF(G581=\"\",\"\",VLOOKUP(G581,Listas!$BM$3:$BN$16,2,FALSE)*100)","v":""},"",{"$f":"+IFERROR(VLOOKUP(E581,Listas!$CQ$2:$CW$1104,7,FALSE),\"\")","v":""},"","",""]
[null,null,null,null,{"$f":"IF(D582=\"\",\"\",VLOOKUP(CONCATENATE(C582,D582),Listas!$AT$2:$AV$1104,3,FALSE))","v":""},null,{"$f":"IF(OR(F582=\"\",E582=\"\"),\"\",VLOOKUP(CONCATENATE(E582,Listas!AZ579),Listas!$BC$3:$BI$15430,7,FALSE))","v":""},null,null,{"$f":"IF(G582=\"\",\"\",VLOOKUP(G582,Listas!$BM$3:$BN$16,2,FALSE)*100)","v":""},{"$f":"+IF(H582=\"\",\"\",IF(H582=\"Sí\",1,0)*100)","v":""},{"$f":"+IFERROR(VLOOKUP(E582,Listas!$CQ$2:$CW$1104,7,FALSE),\"\")","v":""},{"$f":"+IF(I582=\"\",\"\",IF(I582=\"Sí\",1,0)*100)","v":""},"",""]
[null,null,null,null,{"$f":"IF(D583=\"\",\"\",VLOOKUP(CONCATENATE(C583,D583),Listas!$AT$2:$AV$1104,3,FALSE))","v":""},null,{"$f":"IF(OR(F583=\"\",E583=\"\"),\"\",VLOOKUP(CONCATENATE(E583,Listas!AZ580),Listas!$BC$3:$BI$15430,7,FALSE))","v":""},null,null,{"$f":"IF(G583=\"\",\"\",VLOOKUP(G583,Listas!$BM$3:$BN$16,2,FALSE)*100)","v":""},"",{"$f":"+IFERROR(VLOOKUP(E583,Listas!$CQ$2:$CW$1104,7,FALSE),\"\")","v":""},"",{"$f":"IF(E583=\"\",\"\",SUMPRODUCT(J583:M583,$J$2:$M$2))","v":""},{"$f":"+IFERROR(J583*58%,\"\")","v":""}]
[null,null,null,null,{"$f":"IF(D584=\"\",\"\",VLOOKUP(CONCATENATE(C584,D584),Listas!$AT$2:$AV$1104,3,FALSE))","v":""},null,{"$f":"IF(OR(F584=\"\",E584=\"\"),\"\",VLOOKUP(CONCATENATE(E584,Listas!AZ581),Listas!$BC$3:$BI$15430,7,FALSE))","v":""},null,null,{"$f":"IF(G584=\"\",\"\",VLOOKUP(G584,Listas!$BM$3:$BN$16,2,FALSE)*100)","v":""},"",{"$f":"+IFERROR(VLOOKUP(E584,Listas!$CQ$2:$CW$1104,7,FALSE),\"\")","v":""},"","",""]
[null,null,null,null,{"$f":"IF(D585=\"\",\"\",VLOOKUP(CONCATENATE(C585,D585),Listas!$AT$2:$AV$1104,3,FALSE))","v":""},null,{"$f":"IF(OR(F585=\"\",E585=\"\"),\"\",VLOOKUP(CONCATENATE(E585,Listas!AZ582),Listas!$BC$3:$BI$15430,7,FALSE))","v":""},null,null,{"$f":"IF(G585=\"\",\"\",VLOOKUP(G585,Listas!$BM$3:$BN$16,2,FALSE)*100)","v":""},"",{"$f":"+IFERROR(VLOOKUP(E585,Listas!$CQ$2:$CW$1104,7,FALSE),\"\")","v":""},"","",""]
[null,null,null,null,{"$f":"IF(D586=\"\",\"\",VLOOKUP(CONCATENATE(C586,D586),Listas!$AT$2:$AV$1104,3,FALSE))","v":""},null,{"$f":"IF(OR(F586=\"\",E586=\"\"),\"\",VLOOKUP(CONCATENATE(E586,Listas!AZ583),Listas!$BC$3:$BI$15430,7,FALSE))","v":""},null,null,{"$f":"IF(G586=\"\",\"\",VLOOKUP(G586,Listas!$BM$3:$BN$16,2,FALSE)*100)","v":""},"",{"$f":"+IFERROR(VLOOKUP(E586,Listas!$CQ$2:$CW$1104,7,FALSE),\"\")","v":""},"","",""]
[null,null,null,null,{"$f":"IF(D587=\"\",\"\",VLOOKUP(CONCATENATE(C587,D587),Listas!$AT$2:$AV$1104,3,FALSE))","v":""},null,{"$f":"IF(OR(F587=\"\",E587=\"\"),\"\",VLOOKUP(CONCATENATE(E587,Listas!AZ584),Listas!$BC$3:$BI$15430,7,FALSE))","v":""},null,null,{"$f":"IF(G587=\"\",\"\",VLOOKUP(G587,Listas!$BM$3:$BN$16,2,FALSE)*100)","v":""},"",{"$f":"+IFERROR(VLOOKUP(E587,Listas!$CQ$2:$CW$1104,7,FALSE),\"\")","v":""},"","",""]
[null,null,null,null,{"$f":"IF(D588=\"\",\"\",VLOOKUP(CONCATENATE(C588,D588),Listas!$AT$2:$AV$1104,3,FALSE))","v":""},null,{"$f":"IF(OR(F588=\"\",E588=\"\"),\"\",VLOOKUP(CONCATENATE(E588,Listas!AZ585),Listas!$BC$3:$BI$15430,7,FALSE))","v":""},null,null,{"$f":"IF(G588=\"\",\"\",VLOOKUP(G588,Listas!$BM$3:$BN$16,2,FALSE)*100)","v":""},"",{"$f":"+IFERROR(VLOOKUP(E588,Listas!$CQ$2:$CW$1104,7,FALSE),\"\")","v":""},"","",""]
[null,null,null,null,{"$f":"IF(D589=\"\",\"\",VLOOKUP(CONCATENATE(C589,D589),Listas!$AT$2:$AV$1104,3,FALSE))","v":""},null,{"$f":"IF(OR(F589=\"\",E589=\"\"),\"\",VLOOKUP(CONCATENATE(E589,Listas!AZ586),Listas!$BC$3:$BI$15430,7,FALSE))","v":""},null,null,{"$f":"IF(G589=\"\",\"\",VLOOKUP(G589,Listas!$BM$3:$BN$16,2,FALSE)*100)","v":""},"",{"$f":"+IFERROR(VLOOKUP(E589,Listas!$CQ$2:$CW$1104,7,FALSE),\"\")","v":""},"","",""]
[null,null,null,null,{"$f":"IF(D590=\"\",\"\",VLOOKUP(CONCATENATE(C590,D590),Listas!$AT$2:$AV$1104,3,FALSE))","v":""},null,{"$f":"IF(OR(F590=\"\",E590=\"\"),\"\",VLOOKUP(CONCATENATE(E590,Listas!AZ587),Listas!$BC$3:$BI$15430,7,FALSE))","v":""},null,null,{"$f":"IF(G590=\"\",\"\",VLOOKUP(G590,Listas!$BM$3:$BN$16,2,FALSE)*100)","v":""},"",{"$f":"+IFERROR(VLOOKUP(E590,Listas!$CQ$2:$CW$1104,7,FALSE),\"\")","v":""},"","",""]
[null,null,null,null,{"$f":"IF(D591=\"\",\"\",VLOOKUP(CONCATENATE(C591,D591),Listas!$AT$2:$AV$1104,3,FALSE))","v":""},null,{"$f":"IF(OR(F591=\"\",E591=\"\"),\"\",VLOOKUP(CONCATENATE(E591,Listas!AZ588),Listas!$BC$3:$BI$15430,7,FALSE))","v":""},null,null,{"$f":"IF(G591=\"\",\"\",VLOOKUP(G591,Listas!$BM$3:$BN$16,2,FALSE)*100)","v":""},"",{"$f":"+IFERROR(VLOOKUP(E591,Listas!$CQ$2:$CW$1104,7,FALSE),\"\")","v":""},"","",""]
[null,null,null,null,{"$f":"IF(D592=\"\",\"\",VLOOKUP(CONCATENATE(C592,D592),Listas!$AT$2:$AV$1104,3,FALSE))","v":""},null,{"$f":"IF(OR(F592=\"\",E592=\"\"),\"\",VLOOKUP(CONCATENATE(E592,Listas!AZ589),Listas!$BC$3:$BI$15430,7,FALSE))","v":""},null,null,{"$f":"IF(G592=\"\",\"\",VLOOKUP(G592,Listas!$BM$3:$BN$16,2,FALSE)*100)","v":""},"",{"$f":"+IFERROR(VLOOKUP(E592,Listas!$CQ$2:$CW$1104,7,FALSE),\"\")","v":""},"","",""]
[null,null,null,null,{"$f":"IF(D593=\"\",\"\",VLOOKUP(CONCATENATE(C593,D593),Listas!$AT$2:$AV$1104,3,FALSE))","v":""},null,{"$f":"IF(OR(F593=\"\",E593=\"\"),\"\",VLOOKUP(CONCATENATE(E593,Listas!AZ590),Listas!$BC$3:$BI$15430,7,FALSE))","v":""},null,null,{"$f":"IF(G593=\"\",\"\",VLOOKUP(G593,Listas!$BM$3:$BN$16,2,FALSE)*100)","v":""},"",{"$f":"+IFERROR(VLOOKUP(E593,Listas!$CQ$2:$CW$1104,7,FALSE),\"\")","v":""},"","",""]
[null,null,null,null,{"$f":"IF(D594=\"\",\"\",VLOOKUP(CONCATENATE(C594,D594),Listas!$AT$2:$AV$1104,3,FALSE))","v":""},null,{"$f":"IF(OR(F594=\"\",E594=\"\"),\"\",VLOOKUP(CONCATENATE(E594,Listas!AZ591),Listas!$BC$3:$BI$15430,7,FALSE))","v":""},null,null,{"$f":"IF(G594=\"\",\"\",VLOOKUP(G594,Listas!$BM$3:$BN$16,2,FALSE)*100)","v":""},"",{"$f":"+IFERROR(VLOOKUP(E594,Listas!$CQ$2:$CW$1104,7,FALSE),\"\")","v":""},"","",""]
[null,null,null,null,{"$f":"IF(D595=\"\",\"\",VLOOKUP(CONCATENATE(C595,D595),Listas!$AT$2:$AV$1104,3,FALSE))","v":""},null,{"$f":"IF(OR(F595=\"\",E595=\"\"),\"\",VLOOKUP(CONCATENATE(E595,Listas!AZ592),Listas!$BC$3:$BI$15430,7,FALSE))","v":""},null,null,{"$f":"IF(G595=\"\",\"\",VLOOKUP(G595,Listas!$BM$3:$BN$16,2,FALSE)*100)","v":""},"",{"$f":"+IFERROR(VLOOKUP(E595,Listas!$CQ$2:$CW$1104,7,FALSE),\"\")","v":""},"","",""]
[null,null,null,null,{"$f":"IF(D596=\"\",\"\",VLOOKUP(CONCATENATE(C596,D596),Listas!$AT$2:$AV$1104,3,FALSE))","v":""},null,{"$f":"IF(OR(F596=\"\",E596=\"\"),\"\",VLOOKUP(CONCATENATE(E596,Listas!AZ593),Listas!$BC$3:$BI$15430,7,FALSE))","v":""},null,null,{"$f":"IF(G596=\"\",\"\",VLOOKUP(G596,Listas!$BM$3:$BN$16,2,FALSE)*100)","v":""},"",{"$f":"+IFERROR(VLOOKUP(E596,Listas!$CQ$2:$CW$1104,7,FALSE),\"\")","v":""},"","",""]
[null,null,null,null,{"$f":"IF(D597=\"\",\"\",VLOOKUP(CONCATENATE(C597,D597),Listas!$AT$2:$AV$1104,3,FALSE))","v":""},null,{"$f":"IF(OR(F597=\"\",E597=\"\"),\"\",VLOOKUP(CONCATENATE(E597,Listas!AZ594),Listas!$BC$3:$BI$15430,7,FALSE))","v":""},null,null,{"$f":"IF(G597=\"\",\"\",VLOOKUP(G597,Listas!$BM$3:$BN$16,2,FALSE)*100)","v":""},"",{"$f":"+IFERROR(VLOOKUP(E597,Listas!$CQ$2:$CW$1104,7,FALSE),\"\")","v":""},"","",""]
[null,null,null,null,{"$f":"IF(D598=\"\",\"\",VLOOKUP(CONCATENATE(C598,D598),Listas!$AT$2:$AV$1104,3,FALSE))","v":""},null,{"$f":"IF(OR(F598=\"\",E598=\"\"),\"\",VLOOKUP(CONCATENATE(E598,Listas!AZ595),Listas!$BC$3:$BI$15430,7,FALSE))","v":""},null,null,{"$f":"IF(G598=\"\",\"\",VLOOKUP(G598,Listas!$BM$3:$BN$16,2,FALSE)*100)","v":""},"",{"$f":"+IFERROR(VLOOKUP(E598,Listas!$CQ$2:$CW$1104,7,FALSE),\"\")","v":""},"","",""]
[null,null,null,null,{"$f":"IF(D599=\"\",\"\",VLOOKUP(CONCATENATE(C599,D599),Listas!$AT$2:$AV$1104,3,FALSE))","v":""},null,{"$f":"IF(OR(F599=\"\",E599=\"\"),\"\",VLOOKUP(CONCATENATE(E599,Listas!AZ596),Listas!$BC$3:$BI$15430,7,FALSE))","v":""},null,null,{"$f":"IF(G599=\"\",\"\",VLOOKUP(G599,Listas!$BM$3:$BN$16,2,FALSE)*100)","v":""},"",{"$f":"+IFERROR(VLOOKUP(E599,Listas!$CQ$2:$CW$1104,7,FALSE),\"\")","v":""},"","",""]
[null,null,null,null,{"$f":"IF(D600=\"\",\"\",VLOOKUP(CONCATENATE(C600,D600),Listas!$AT$2:$AV$1104,3,FALSE))","v":""},null,{"$f":"IF(OR(F600=\"\",E600=\"\"),\"\",VLOOKUP(CONCATENATE(E600,Listas!AZ597),Listas!$BC$3:$BI$15430,7,FALSE))","v":""},null,null,{"$f":"IF(G600=\"\",\"\",VLOOKUP(G600,Listas!$BM$3:$BN$16,2,FALSE)*100)","v":""},"",{"$f":"+IFERROR(VLOOKUP(E600,Listas!$CQ$2:$CW$1104,7,FALSE),\"\")","v":""},"","",""]
[null,null,null,null,{"$f":"IF(D601=\"\",\"\",VLOOKUP(CONCATENATE(C601,D601),Listas!$AT$2:$AV$1104,3,FALSE))","v":""},null,{"$f":"IF(OR(F601=\"\",E601=\"\"),\"\",VLOOKUP(CONCATENATE(E601,Listas!AZ598),Listas!$BC$3:$BI$15430,7,FALSE))","v":""},null,null,{"$f":"IF(G601=\"\",\"\",VLOOKUP(G601,Listas!$BM$3:$BN$16,2,FALSE)*100)","v":""},"",{"$f":"+IFERROR(VLOOKUP(E601,Listas!$CQ$2:$CW$1104,7,FALSE),\"\")","v":""},"","",""]
[null,null,null,null,{"$f":"IF(D602=\"\",\"\",VLOOKUP(CONCATENATE(C602,D602),Listas!$AT$2:$AV$1104,3,FALSE))","v":""},null,{"$f":"IF(OR(F602=\"\",E602=\"\"),\"\",VLOOKUP(CONCATENATE(E602,Listas!AZ599),Listas!$BC$3:$BI$15430,7,FALSE))","v":""},null,null,{"$f":"IF(G602=\"\",\"\",VLOOKUP(G602,Listas!$BM$3:$BN$16,2,FALSE)*100)","v":""},"",{"$f":"+IFERROR(VLOOKUP(E602,Listas!$CQ$2:$CW$1104,7,FALSE),\"\")","v":""},"","",""]
[null,null,null,null,{"$f":"IF(D603=\"\",\"\",VLOOKUP(CONCATENATE(C603,D603),Listas!$AT$2:$AV$1104,3,FALSE))","v":""},null,{"$f":"IF(OR(F603=\"\",E603=\"\"),\"\",VLOOKUP(CONCATENATE(E603,Listas!AZ600),Listas!$BC$3:$BI$15430,7,FALSE))","v":""},null,null,{"$f":"IF(G603=\"\",\"\",VLOOKUP(G603,Listas!$BM$3:$BN$16,2,FALSE)*100)","v":""},"",{"$f":"+IFERROR(VLOOKUP(E603,Listas!$CQ$2:$CW$1104,7,FALSE),\"\")","v":""},"","",""]
[null,null,null,null,{"$f":"IF(D604=\"\",\"\",VLOOKUP(CONCATENATE(C604,D604),Listas!$AT$2:$AV$1104,3,FALSE))","v":""},null,{"$f":"IF(OR(F604=\"\",E604=\"\"),\"\",VLOOKUP(CONCATENATE(E604,Listas!AZ601),Listas!$BC$3:$BI$15430,7,FALSE))","v":""},null,null,{"$f":"IF(G604=\"\",\"\",VLOOKUP(G604,Listas!$BM$3:$BN$16,2,FALSE)*100)","v":""},"",{"$f":"+IFERROR(VLOOKUP(E604,Listas!$CQ$2:$CW$1104,7,FALSE),\"\")","v":""},"","",""]
[null,null,null,null,{"$f":"IF(D605=\"\",\"\",VLOOKUP(CONCATENATE(C605,D605),Listas!$AT$2:$AV$1104,3,FALSE))","v":""},null,{"$f":"IF(OR(F605=\"\",E605=\"\"),\"\",VLOOKUP(CONCATENATE(E605,Listas!AZ602),Listas!$BC$3:$BI$15430,7,FALSE))","v":""},null,null,{"$f":"IF(G605=\"\",\"\",VLOOKUP(G605,Listas!$BM$3:$BN$16,2,FALSE)*100)","v":""},"",{"$f":"+IFERROR(VLOOKUP(E605,Listas!$CQ$2:$CW$1104,7,FALSE),\"\")","v":""},"","",""]
[null,null,null,null,{"$f":"IF(D606=\"\",\"\",VLOOKUP(CONCATENATE(C606,D606),Listas!$AT$2:$AV$1104,3,FALSE))","v":""},null,{"$f":"IF(OR(F606=\"\",E606=\"\"),\"\",VLOOKUP(CONCATENATE(E606,Listas!AZ603),Listas!$BC$3:$BI$15430,7,FALSE))","v":""},null,null,{"$f":"IF(G606=\"\",\"\",VLOOKUP(G606,Listas!$BM$3:$BN$16,2,FALSE)*100)","v":""},"",{"$f":"+IFERROR(VLOOKUP(E606,Listas!$CQ$2:$CW$1104,7,FALSE),\"\")","v":""},"","",""]
[null,null,null,null,{"$f":"IF(D607=\"\",\"\",VLOOKUP(CONCATENATE(C607,D607),Listas!$AT$2:$AV$1104,3,FALSE))","v":""},null,{"$f":"IF(OR(F607=\"\",E607=\"\"),\"\",VLOOKUP(CONCATENATE(E607,Listas!AZ604),Listas!$BC$3:$BI$15430,7,FALSE))","v":""},null,null,{"$f":"IF(G607=\"\",\"\",VLOOKUP(G607,Listas!$BM$3:$BN$16,2,FALSE)*100)","v":""},"",{"$f":"+IFERROR(VLOOKUP(E607,Listas!$CQ$2:$CW$1104,7,FALSE),\"\")","v":""},"","",""]
[null,null,null,null,{"$f":"IF(D608=\"\",\"\",VLOOKUP(CONCATENATE(C608,D608),Listas!$AT$2:$AV$1104,3,FALSE))","v":""},null,{"$f":"IF(OR(F608=\"\",E608=\"\"),\"\",VLOOKUP(CONCATENATE(E608,Listas!AZ605),Listas!$BC$3:$BI$15430,7,FALSE))","v":""},null,null,{"$f":"IF(G608=\"\",\"\",VLOOKUP(G608,Listas!$BM$3:$BN$16,2,FALSE)*100)","v":""},"",{"$f":"+IFERROR(VLOOKUP(E608,Listas!$CQ$2:$CW$1104,7,FALSE),\"\")","v":""},"","",""]
[null,null,null,null,{"$f":"IF(D609=\"\",\"\",VLOOKUP(CONCATENATE(C609,D609),Listas!$AT$2:$AV$1104,3,FALSE))","v":""},null,{"$f":"IF(OR(F609=\"\",E609=\"\"),\"\",VLOOKUP(CONCATENATE(E609,Listas!AZ606),Listas!$BC$3:$BI$15430,7,FALSE))","v":""},null,null,{"$f":"IF(G609=\"\",\"\",VLOOKUP(G609,Listas!$BM$3:$BN$16,2,FALSE)*100)","v":""},"",{"$f":"+IFERROR(VLOOKUP(E609,Listas!$CQ$2:$CW$1104,7,FALSE),\"\")","v":""},"","",""]
[null,null,null,null,{"$f":"IF(D610=\"\",\"\",VLOOKUP(CONCATENATE(C610,D610),Listas!$AT$2:$AV$1104,3,FALSE))","v":""},null,{"$f":"IF(OR(F610=\"\",E610=\"\"),\"\",VLOOKUP(CONCATENATE(E610,Listas!AZ607),Listas!$BC$3:$BI$15430,7,FALSE))","v":""},null,null,{"$f":"IF(G610=\"\",\"\",VLOOKUP(G610,Listas!$BM$3:$BN$16,2,FALSE)*100)","v":""},"",{"$f":"+IFERROR(VLOOKUP(E610,Listas!$CQ$2:$CW$1104,7,FALSE),\"\")","v":""},"","",""]
[null,null,null,null,{"$f":"IF(D611=\"\",\"\",VLOOKUP(CONCATENATE(C611,D611),Listas!$AT$2:$AV$1104,3,FALSE))","v":""},null,{"$f":"IF(OR(F611=\"\",E611=\"\"),\"\",VLOOKUP(CONCATENATE(E611,Listas!AZ608),Listas!$BC$3:$BI$15430,7,FALSE))","v":""},null,null,{"$f":"IF(G611=\"\",\"\",VLOOKUP(G611,Listas!$BM$3:$BN$16,2,FALSE)*100)","v":""},"",{"$f":"+IFERROR(VLOOKUP(E611,Listas!$CQ$2:$CW$1104,7,FALSE),\"\")","v":""},"","",""]
[null,null,null,null,{"$f":"IF(D612=\"\",\"\",VLOOKUP(CONCATENATE(C612,D612),Listas!$AT$2:$AV$1104,3,FALSE))","v":""},null,{"$f":"IF(OR(F612=\"\",E612=\"\"),\"\",VLOOKUP(CONCATENATE(E612,Listas!AZ609),Listas!$BC$3:$BI$15430,7,FALSE))","v":""},null,null,{"$f":"IF(G612=\"\",\"\",VLOOKUP(G612,Listas!$BM$3:$BN$16,2,FALSE)*100)","v":""},"",{"$f":"+IFERROR(VLOOKUP(E612,Listas!$CQ$2:$CW$1104,7,FALSE),\"\")","v":""},"","",""]
[null,null,null,null,{"$f":"IF(D613=\"\",\"\",VLOOKUP(CONCATENATE(C613,D613),Listas!$AT$2:$AV$1104,3,FALSE))","v":""},null,{"$f":"IF(OR(F613=\"\",E613=\"\"),\"\",VLOOKUP(CONCATENATE(E613,Listas!AZ610),Listas!$BC$3:$BI$15430,7,FALSE))","v":""},null,null,{"$f":"IF(G613=\"\",\"\",VLOOKUP(G613,Listas!$BM$3:$BN$16,2,FALSE)*100)","v":""},"",{"$f":"+IFERROR(VLOOKUP(E613,Listas!$CQ$2:$CW$1104,7,FALSE),\"\")","v":""},"","",""]
[null,null,null,null,{"$f":"IF(D614=\"\",\"\",VLOOKUP(CONCATENATE(C614,D614),Listas!$AT$2:$AV$1104,3,FALSE))","v":""},null,{"$f":"IF(OR(F614=\"\",E614=\"\"),\"\",VLOOKUP(CONCATENATE(E614,Listas!AZ611),Listas!$BC$3:$BI$15430,7,FALSE))","v":""},null,null,{"$f":"IF(G614=\"\",\"\",VLOOKUP(G614,Listas!$BM$3:$BN$16,2,FALSE)*100)","v":""},"",{"$f":"+IFERROR(VLOOKUP(E614,Listas!$CQ$2:$CW$1104,7,FALSE),\"\")","v":""},"","",""]
[null,null,null,null,{"$f":"IF(D615=\"\",\"\",VLOOKUP(CONCATENATE(C615,D615),Listas!$AT$2:$AV$1104,3,FALSE))","v":""},null,{"$f":"IF(OR(F615=\"\",E615=\"\"),\"\",VLOOKUP(CONCATENATE(E615,Listas!AZ612),Listas!$BC$3:$BI$15430,7,FALSE))","v":""},null,null,{"$f":"IF(G615=\"\",\"\",VLOOKUP(G615,Listas!$BM$3:$BN$16,2,FALSE)*100)","v":""},"",{"$f":"+IFERROR(VLOOKUP(E615,Listas!$CQ$2:$CW$1104,7,FALSE),\"\")","v":""},"","",""]
[null,null,null,null,{"$f":"IF(D616=\"\",\"\",VLOOKUP(CONCATENATE(C616,D616),Listas!$AT$2:$AV$1104,3,FALSE))","v":""},null,{"$f":"IF(OR(F616=\"\",E616=\"\"),\"\",VLOOKUP(CONCATENATE(E616,Listas!AZ613),Listas!$BC$3:$BI$15430,7,FALSE))","v":""},null,null,{"$f":"IF(G616=\"\",\"\",VLOOKUP(G616,Listas!$BM$3:$BN$16,2,FALSE)*100)","v":""},"",{"$f":"+IFERROR(VLOOKUP(E616,Listas!$CQ$2:$CW$1104,7,FALSE),\"\")","v":""},"","",""]
[null,null,null,null,{"$f":"IF(D617=\"\",\"\",VLOOKUP(CONCATENATE(C617,D617),Listas!$AT$2:$AV$1104,3,FALSE))","v":""},null,{"$f":"IF(OR(F617=\"\",E617=\"\"),\"\",VLOOKUP(CONCATENATE(E617,Listas!AZ614),Listas!$BC$3:$BI$15430,7,FALSE))","v":""},null,null,{"$f":"IF(G617=\"\",\"\",VLOOKUP(G617,Listas!$BM$3:$BN$16,2,FALSE)*100)","v":""},"",{"$f":"+IFERROR(VLOOKUP(E617,Listas!$CQ$2:$CW$1104,7,FALSE),\"\")","v":""},"","",""]
[null,null,null,null,{"$f":"IF(D618=\"\",\"\",VLOOKUP(CONCATENATE(C618,D618),Listas!$AT$2:$AV$1104,3,FALSE))","v":""},null,{"$f":"IF(OR(F618=\"\",E618=\"\"),\"\",VLOOKUP(CONCATENATE(E618,Listas!AZ615),Listas!$BC$3:$BI$15430,7,FALSE))","v":""},null,null,{"$f":"IF(G618=\"\",\"\",VLOOKUP(G618,Listas!$BM$3:$BN$16,2,FALSE)*100)","v":""},"",{"$f":"+IFERROR(VLOOKUP(E618,Listas!$CQ$2:$CW$1104,7,FALSE),\"\")","v":""},"","",""]
[null,null,null,null,{"$f":"IF(D619=\"\",\"\",VLOOKUP(CONCATENATE(C619,D619),Listas!$AT$2:$AV$1104,3,FALSE))","v":""},null,{"$f":"IF(OR(F619=\"\",E619=\"\"),\"\",VLOOKUP(CONCATENATE(E619,Listas!AZ616),Listas!$BC$3:$BI$15430,7,FALSE))","v":""},null,null,{"$f":"IF(G619=\"\",\"\",VLOOKUP(G619,Listas!$BM$3:$BN$16,2,FALSE)*100)","v":""},"",{"$f":"+IFERROR(VLOOKUP(E619,Listas!$CQ$2:$CW$1104,7,FALSE),\"\")","v":""},"","",""]
[null,null,null,null,{"$f":"IF(D620=\"\",\"\",VLOOKUP(CONCATENATE(C620,D620),Listas!$AT$2:$AV$1104,3,FALSE))","v":""},null,{"$f":"IF(OR(F620=\"\",E620=\"\"),\"\",VLOOKUP(CONCATENATE(E620,Listas!AZ617),Listas!$BC$3:$BI$15430,7,FALSE))","v":""},null,null,{"$f":"IF(G620=\"\",\"\",VLOOKUP(G620,Listas!$BM$3:$BN$16,2,FALSE)*100)","v":""},"",{"$f":"+IFERROR(VLOOKUP(E620,Listas!$CQ$2:$CW$1104,7,FALSE),\"\")","v":""},"","",""]
[null,null,null,null,{"$f":"IF(D621=\"\",\"\",VLOOKUP(CONCATENATE(C621,D621),Listas!$AT$2:$AV$1104,3,FALSE))","v":""},null,{"$f":"IF(OR(F621=\"\",E621=\"\"),\"\",VLOOKUP(CONCATENATE(E621,Listas!AZ618),Listas!$BC$3:$BI$15430,7,FALSE))","v":""},null,null,{"$f":"IF(G621=\"\",\"\",VLOOKUP(G621,Listas!$BM$3:$BN$16,2,FALSE)*100)","v":""},"",{"$f":"+IFERROR(VLOOKUP(E621,Listas!$CQ$2:$CW$1104,7,FALSE),\"\")","v":""},"","",""]
[null,null,null,null,{"$f":"IF(D622=\"\",\"\",VLOOKUP(CONCATENATE(C622,D622),Listas!$AT$2:$AV$1104,3,FALSE))","v":""},null,{"$f":"IF(OR(F622=\"\",E622=\"\"),\"\",VLOOKUP(CONCATENATE(E622,Listas!AZ619),Listas!$BC$3:$BI$15430,7,FALSE))","v":""},null,null,{"$f":"IF(G622=\"\",\"\",VLOOKUP(G622,Listas!$BM$3:$BN$16,2,FALSE)*100)","v":""},"",{"$f":"+IFERROR(VLOOKUP(E622,Listas!$CQ$2:$CW$1104,7,FALSE),\"\")","v":""},"","",""]
[null,null,null,null,{"$f":"IF(D623=\"\",\"\",VLOOKUP(CONCATENATE(C623,D623),Listas!$AT$2:$AV$1104,3,FALSE))","v":""},null,{"$f":"IF(OR(F623=\"\",E623=\"\"),\"\",VLOOKUP(CONCATENATE(E623,Listas!AZ620),Listas!$BC$3:$BI$15430,7,FALSE))","v":""},null,null,{"$f":"IF(G623=\"\",\"\",VLOOKUP(G623,Listas!$BM$3:$BN$16,2,FALSE)*100)","v":""},"",{"$f":"+IFERROR(VLOOKUP(E623,Listas!$CQ$2:$CW$1104,7,FALSE),\"\")","v":""},"","",""]
[null,null,null,null,{"$f":"IF(D624=\"\",\"\",VLOOKUP(CONCATENATE(C624,D624),Listas!$AT$2:$AV$1104,3,FALSE))","v":""},null,{"$f":"IF(OR(F624=\"\",E624=\"\"),\"\",VLOOKUP(CONCATENATE(E624,Listas!AZ621),Listas!$BC$3:$BI$15430,7,FALSE))","v":""},null,null,{"$f":"IF(G624=\"\",\"\",VLOOKUP(G624,Listas!$BM$3:$BN$16,2,FALSE)*100)","v":""},"",{"$f":"+IFERROR(VLOOKUP(E624,Listas!$CQ$2:$CW$1104,7,FALSE),\"\")","v":""},"","",""]
[null,null,null,null,{"$f":"IF(D625=\"\",\"\",VLOOKUP(CONCATENATE(C625,D625),Listas!$AT$2:$AV$1104,3,FALSE))","v":""},null,{"$f":"IF(OR(F625=\"\",E625=\"\"),\"\",VLOOKUP(CONCATENATE(E625,Listas!AZ622),Listas!$BC$3:$BI$15430,7,FALSE))","v":""},null,null,{"$f":"IF(G625=\"\",\"\",VLOOKUP(G625,Listas!$BM$3:$BN$16,2,FALSE)*100)","v":""},"",{"$f":"+IFERROR(VLOOKUP(E625,Listas!$CQ$2:$CW$1104,7,FALSE),\"\")","v":""},"","",""]
[null,null,null,null,{"$f":"IF(D626=\"\",\"\",VLOOKUP(CONCATENATE(C626,D626),Listas!$AT$2:$AV$1104,3,FALSE))","v":""},null,{"$f":"IF(OR(F626=\"\",E626=\"\"),\"\",VLOOKUP(CONCATENATE(E626,Listas!AZ623),Listas!$BC$3:$BI$15430,7,FALSE))","v":""},null,null,{"$f":"IF(G626=\"\",\"\",VLOOKUP(G626,Listas!$BM$3:$BN$16,2,FALSE)*100)","v":""},"",{"$f":"+IFERROR(VLOOKUP(E626,Listas!$CQ$2:$CW$1104,7,FALSE),\"\")","v":""},"","",""]
[null,null,null,null,{"$f":"IF(D627=\"\",\"\",VLOOKUP(CONCATENATE(C627,D627),Listas!$AT$2:$AV$1104,3,FALSE))","v":""},null,{"$f":"IF(OR(F627=\"\",E627=\"\"),\"\",VLOOKUP(CONCATENATE(E627,Listas!AZ624),Listas!$BC$3:$BI$15430,7,FALSE))","v":""},null,null,{"$f":"IF(G627=\"\",\"\",VLOOKUP(G627,Listas!$BM$3:$BN$16,2,FALSE)*100)","v":""},"",{"$f":"+IFERROR(VLOOKUP(E627,Listas!$CQ$2:$CW$1104,7,FALSE),\"\")","v":""},"","",""]
[null,null,null,null,{"$f":"IF(D628=\"\",\"\",VLOOKUP(CONCATENATE(C628,D628),Listas!$AT$2:$AV$1104,3,FALSE))","v":""},null,{"$f":"IF(OR(F628=\"\",E628=\"\"),\"\",VLOOKUP(CONCATENATE(E628,Listas!AZ625),Listas!$BC$3:$BI$15430,7,FALSE))","v":""},null,null,{"$f":"IF(G628=\"\",\"\",VLOOKUP(G628,Listas!$BM$3:$BN$16,2,FALSE)*100)","v":""},"",{"$f":"+IFERROR(VLOOKUP(E628,Listas!$CQ$2:$CW$1104,7,FALSE),\"\")","v":""},"","",""]
[null,null,null,null,{"$f":"IF(D629=\"\",\"\",VLOOKUP(CONCATENATE(C629,D629),Listas!$AT$2:$AV$1104,3,FALSE))","v":""},null,{"$f":"IF(OR(F629=\"\",E629=\"\"),\"\",VLOOKUP(CONCATENATE(E629,Listas!AZ626),Listas!$BC$3:$BI$15430,7,FALSE))","v":""},null,null,{"$f":"IF(G629=\"\",\"\",VLOOKUP(G629,Listas!$BM$3:$BN$16,2,FALSE)*100)","v":""},"",{"$f":"+IFERROR(VLOOKUP(E629,Listas!$CQ$2:$CW$1104,7,FALSE),\"\")","v":""},"","",""]
[null,null,null,null,{"$f":"IF(D630=\"\",\"\",VLOOKUP(CONCATENATE(C630,D630),Listas!$AT$2:$AV$1104,3,FALSE))","v":""},null,{"$f":"IF(OR(F630=\"\",E630=\"\"),\"\",VLOOKUP(CONCATENATE(E630,Listas!AZ627),Listas!$BC$3:$BI$15430,7,FALSE))","v":""},null,null,{"$f":"IF(G630=\"\",\"\",VLOOKUP(G630,Listas!$BM$3:$BN$16,2,FALSE)*100)","v":""},"",{"$f":"+IFERROR(VLOOKUP(E630,Listas!$CQ$2:$CW$1104,7,FALSE),\"\")","v":""},"","",""]
[null,null,null,null,{"$f":"IF(D631=\"\",\"\",VLOOKUP(CONCATENATE(C631,D631),Listas!$AT$2:$AV$1104,3,FALSE))","v":""},null,{"$f":"IF(OR(F631=\"\",E631=\"\"),\"\",VLOOKUP(CONCATENATE(E631,Listas!AZ628),Listas!$BC$3:$BI$15430,7,FALSE))","v":""},null,null,{"$f":"IF(G631=\"\",\"\",VLOOKUP(G631,Listas!$BM$3:$BN$16,2,FALSE)*100)","v":""},"",{"$f":"+IFERROR(VLOOKUP(E631,Listas!$CQ$2:$CW$1104,7,FALSE),\"\")","v":""},"","",""]
[null,null,null,null,{"$f":"IF(D632=\"\",\"\",VLOOKUP(CONCATENATE(C632,D632),Listas!$AT$2:$AV$1104,3,FALSE))","v":""},null,{"$f":"IF(OR(F632=\"\",E632=\"\"),\"\",VLOOKUP(CONCATENATE(E632,Listas!AZ629),Listas!$BC$3:$BI$15430,7,FALSE))","v":""},null,null,{"$f":"IF(G632=\"\",\"\",VLOOKUP(G632,Listas!$BM$3:$BN$16,2,FALSE)*100)","v":""},"",{"$f":"+IFERROR(VLOOKUP(E632,Listas!$CQ$2:$CW$1104,7,FALSE),\"\")","v":""},"","",""]
[null,null,null,null,{"$f":"IF(D633=\"\",\"\",VLOOKUP(CONCATENATE(C633,D633),Listas!$AT$2:$AV$1104,3,FALSE))","v":""},null,{"$f":"IF(OR(F633=\"\",E633=\"\"),\"\",VLOOKUP(CONCATENATE(E633,Listas!AZ630),Listas!$BC$3:$BI$15430,7,FALSE))","v":""},null,null,{"$f":"IF(G633=\"\",\"\",VLOOKUP(G633,Listas!$BM$3:$BN$16,2,FALSE)*100)","v":""},"",{"$f":"+IFERROR(VLOOKUP(E633,Listas!$CQ$2:$CW$1104,7,FALSE),\"\")","v":""},"","",""]
[null,null,null,null,{"$f":"IF(D634=\"\",\"\",VLOOKUP(CONCATENATE(C634,D634),Listas!$AT$2:$AV$1104,3,FALSE))","v":""},null,{"$f":"IF(OR(F634=\"\",E634=\"\"),\"\",VLOOKUP(CONCATENATE(E634,Listas!AZ631),Listas!$BC$3:$BI$15430,7,FALSE))","v":""},null,null,{"$f":"IF(G634=\"\",\"\",VLOOKUP(G634,Listas!$BM$3:$BN$16,2,FALSE)*100)","v":""},"",{"$f":"+IFERROR(VLOOKUP(E634,Listas!$CQ$2:$CW$1104,7,FALSE),\"\")","v":""},"","",""]
[null,null,null,null,{"$f":"IF(D635=\"\",\"\",VLOOKUP(CONCATENATE(C635,D635),Listas!$AT$2:$AV$1104,3,FALSE))","v":""},null,{"$f":"IF(OR(F635=\"\",E635=\"\"),\"\",VLOOKUP(CONCATENATE(E635,Listas!AZ632),Listas!$BC$3:$BI$15430,7,FALSE))","v":""},null,null,{"$f":"IF(G635=\"\",\"\",VLOOKUP(G635,Listas!$BM$3:$BN$16,2,FALSE)*100)","v":""},"",{"$f":"+IFERROR(VLOOKUP(E635,Listas!$CQ$2:$CW$1104,7,FALSE),\"\")","v":""},"","",""]
[null,null,null,null,{"$f":"IF(D636=\"\",\"\",VLOOKUP(CONCATENATE(C636,D636),Listas!$AT$2:$AV$1104,3,FALSE))","v":""},null,{"$f":"IF(OR(F636=\"\",E636=\"\"),\"\",VLOOKUP(CONCATENATE(E636,Listas!AZ633),Listas!$BC$3:$BI$15430,7,FALSE))","v":""},null,null,{"$f":"IF(G636=\"\",\"\",VLOOKUP(G636,Listas!$BM$3:$BN$16,2,FALSE)*100)","v":""},"",{"$f":"+IFERROR(VLOOKUP(E636,Listas!$CQ$2:$CW$1104,7,FALSE),\"\")","v":""},"","",""]
[null,null,null,null,{"$f":"IF(D637=\"\",\"\",VLOOKUP(CONCATENATE(C637,D637),Listas!$AT$2:$AV$1104,3,FALSE))","v":""},null,{"$f":"IF(OR(F637=\"\",E637=\"\"),\"\",VLOOKUP(CONCATENATE(E637,Listas!AZ634),Listas!$BC$3:$BI$15430,7,FALSE))","v":""},null,null,{"$f":"IF(G637=\"\",\"\",VLOOKUP(G637,Listas!$BM$3:$BN$16,2,FALSE)*100)","v":""},"",{"$f":"+IFERROR(VLOOKUP(E637,Listas!$CQ$2:$CW$1104,7,FALSE),\"\")","v":""},"","",""]
[null,null,null,null,{"$f":"IF(D638=\"\",\"\",VLOOKUP(CONCATENATE(C638,D638),Listas!$AT$2:$AV$1104,3,FALSE))","v":""},null,{"$f":"IF(OR(F638=\"\",E638=\"\"),\"\",VLOOKUP(CONCATENATE(E638,Listas!AZ635),Listas!$BC$3:$BI$15430,7,FALSE))","v":""},null,null,{"$f":"IF(G638=\"\",\"\",VLOOKUP(G638,Listas!$BM$3:$BN$16,2,FALSE)*100)","v":""},"",{"$f":"+IFERROR(VLOOKUP(E638,Listas!$CQ$2:$CW$1104,7,FALSE),\"\")","v":""},"","",""]
[null,null,null,null,{"$f":"IF(D639=\"\",\"\",VLOOKUP(CONCATENATE(C639,D639),Listas!$AT$2:$AV$1104,3,FALSE))","v":""},null,{"$f":"IF(OR(F639=\"\",E639=\"\"),\"\",VLOOKUP(CONCATENATE(E639,Listas!AZ636),Listas!$BC$3:$BI$15430,7,FALSE))","v":""},null,null,{"$f":"IF(G639=\"\",\"\",VLOOKUP(G639,Listas!$BM$3:$BN$16,2,FALSE)*100)","v":""},"",{"$f":"+IFERROR(VLOOKUP(E639,Listas!$CQ$2:$CW$1104,7,FALSE),\"\")","v":""},"","",""]
[null,null,null,null,{"$f":"IF(D640=\"\",\"\",VLOOKUP(CONCATENATE(C640,D640),Listas!$AT$2:$AV$1104,3,FALSE))","v":""},null,{"$f":"IF(OR(F640=\"\",E640=\"\"),\"\",VLOOKUP(CONCATENATE(E640,Listas!AZ637),Listas!$BC$3:$BI$15430,7,FALSE))","v":""},null,null,{"$f":"IF(G640=\"\",\"\",VLOOKUP(G640,Listas!$BM$3:$BN$16,2,FALSE)*100)","v":""},"",{"$f":"+IFERROR(VLOOKUP(E640,Listas!$CQ$2:$CW$1104,7,FALSE),\"\")","v":""},"","",""]
[null,null,null,null,{"$f":"IF(D641=\"\",\"\",VLOOKUP(CONCATENATE(C641,D641),Listas!$AT$2:$AV$1104,3,FALSE))","v":""},null,{"$f":"IF(OR(F641=\"\",E641=\"\"),\"\",VLOOKUP(CONCATENATE(E641,Listas!AZ638),Listas!$BC$3:$BI$15430,7,FALSE))","v":""},null,null,{"$f":"IF(G641=\"\",\"\",VLOOKUP(G641,Listas!$BM$3:$BN$16,2,FALSE)*100)","v":""},"",{"$f":"+IFERROR(VLOOKUP(E641,Listas!$CQ$2:$CW$1104,7,FALSE),\"\")","v":""},"","",""]
[null,null,null,null,{"$f":"IF(D642=\"\",\"\",VLOOKUP(CONCATENATE(C642,D642),Listas!$AT$2:$AV$1104,3,FALSE))","v":""},null,{"$f":"IF(OR(F642=\"\",E642=\"\"),\"\",VLOOKUP(CONCATENATE(E642,Listas!AZ639),Listas!$BC$3:$BI$15430,7,FALSE))","v":""},null,null,{"$f":"IF(G642=\"\",\"\",VLOOKUP(G642,Listas!$BM$3:$BN$16,2,FALSE)*100)","v":""},"",{"$f":"+IFERROR(VLOOKUP(E642,Listas!$CQ$2:$CW$1104,7,FALSE),\"\")","v":""},"","",""]
[null,null,null,null,{"$f":"IF(D643=\"\",\"\",VLOOKUP(CONCATENATE(C643,D643),Listas!$AT$2:$AV$1104,3,FALSE))","v":""},null,{"$f":"IF(OR(F643=\"\",E643=\"\"),\"\",VLOOKUP(CONCATENATE(E643,Listas!AZ640),Listas!$BC$3:$BI$15430,7,FALSE))","v":""},null,null,{"$f":"IF(G643=\"\",\"\",VLOOKUP(G643,Listas!$BM$3:$BN$16,2,FALSE)*100)","v":""},"",{"$f":"+IFERROR(VLOOKUP(E643,Listas!$CQ$2:$CW$1104,7,FALSE),\"\")","v":""},"","",""]
[null,null,null,null,{"$f":"IF(D644=\"\",\"\",VLOOKUP(CONCATENATE(C644,D644),Listas!$AT$2:$AV$1104,3,FALSE))","v":""},null,{"$f":"IF(OR(F644=\"\",E644=\"\"),\"\",VLOOKUP(CONCATENATE(E644,Listas!AZ641),Listas!$BC$3:$BI$15430,7,FALSE))","v":""},null,null,{"$f":"IF(G644=\"\",\"\",VLOOKUP(G644,Listas!$BM$3:$BN$16,2,FALSE)*100)","v":""},"",{"$f":"+IFERROR(VLOOKUP(E644,Listas!$CQ$2:$CW$1104,7,FALSE),\"\")","v":""},"","",""]
[null,null,null,null,{"$f":"IF(D645=\"\",\"\",VLOOKUP(CONCATENATE(C645,D645),Listas!$AT$2:$AV$1104,3,FALSE))","v":""},null,{"$f":"IF(OR(F645=\"\",E645=\"\"),\"\",VLOOKUP(CONCATENATE(E645,Listas!AZ642),Listas!$BC$3:$BI$15430,7,FALSE))","v":""},null,null,{"$f":"IF(G645=\"\",\"\",VLOOKUP(G645,Listas!$BM$3:$BN$16,2,FALSE)*100)","v":""},"",{"$f":"+IFERROR(VLOOKUP(E645,Listas!$CQ$2:$CW$1104,7,FALSE),\"\")","v":""},"","",""]
[null,null,null,null,{"$f":"IF(D646=\"\",\"\",VLOOKUP(CONCATENATE(C646,D646),Listas!$AT$2:$AV$1104,3,FALSE))","v":""},null,{"$f":"IF(OR(F646=\"\",E646=\"\"),\"\",VLOOKUP(CONCATENATE(E646,Listas!AZ643),Listas!$BC$3:$BI$15430,7,FALSE))","v":""},null,null,{"$f":"IF(G646=\"\",\"\",VLOOKUP(G646,Listas!$BM$3:$BN$16,2,FALSE)*100)","v":""},{"$f":"+IF(H646=\"\",\"\",IF(H646=\"Sí\",1,0)*100)","v":""},{"$f":"+IFERROR(VLOOKUP(E646,Listas!$CQ$2:$CW$1104,7,FALSE),\"\")","v":""},{"$f":"+IF(I646=\"\",\"\",IF(I646=\"Sí\",1,0)*100)","v":""},"",""]
[null,null,null,null,{"$f":"IF(D647=\"\",\"\",VLOOKUP(CONCATENATE(C647,D647),Listas!$AT$2:$AV$1104,3,FALSE))","v":""},null,{"$f":"IF(OR(F647=\"\",E647=\"\"),\"\",VLOOKUP(CONCATENATE(E647,Listas!AZ644),Listas!$BC$3:$BI$15430,7,FALSE))","v":""},null,null,{"$f":"IF(G647=\"\",\"\",VLOOKUP(G647,Listas!$BM$3:$BN$16,2,FALSE)*100)","v":""},"",{"$f":"+IFERROR(VLOOKUP(E647,Listas!$CQ$2:$CW$1104,7,FALSE),\"\")","v":""},"",{"$f":"IF(E647=\"\",\"\",SUMPRODUCT(J647:M647,$J$2:$M$2))","v":""},{"$f":"+IFERROR(J647*58%,\"\")","v":""}]
[null,null,null,null,{"$f":"IF(D648=\"\",\"\",VLOOKUP(CONCATENATE(C648,D648),Listas!$AT$2:$AV$1104,3,FALSE))","v":""},null,{"$f":"IF(OR(F648=\"\",E648=\"\"),\"\",VLOOKUP(CONCATENATE(E648,Listas!AZ645),Listas!$BC$3:$BI$15430,7,FALSE))","v":""},null,null,{"$f":"IF(G648=\"\",\"\",VLOOKUP(G648,Listas!$BM$3:$BN$16,2,FALSE)*100)","v":""},"",{"$f":"+IFERROR(VLOOKUP(E648,Listas!$CQ$2:$CW$1104,7,FALSE),\"\")","v":""},"","",""]
[null,null,null,null,{"$f":"IF(D649=\"\",\"\",VLOOKUP(CONCATENATE(C649,D649),Listas!$AT$2:$AV$1104,3,FALSE))","v":""},null,{"$f":"IF(OR(F649=\"\",E649=\"\"),\"\",VLOOKUP(CONCATENATE(E649,Listas!AZ646),Listas!$BC$3:$BI$15430,7,FALSE))","v":""},null,null,{"$f":"IF(G649=\"\",\"\",VLOOKUP(G649,Listas!$BM$3:$BN$16,2,FALSE)*100)","v":""},"",{"$f":"+IFERROR(VLOOKUP(E649,Listas!$CQ$2:$CW$1104,7,FALSE),\"\")","v":""},"","",""]
[null,null,null,null,{"$f":"IF(D650=\"\",\"\",VLOOKUP(CONCATENATE(C650,D650),Listas!$AT$2:$AV$1104,3,FALSE))","v":""},null,{"$f":"IF(OR(F650=\"\",E650=\"\"),\"\",VLOOKUP(CONCATENATE(E650,Listas!AZ647),Listas!$BC$3:$BI$15430,7,FALSE))","v":""},null,null,{"$f":"IF(G650=\"\",\"\",VLOOKUP(G650,Listas!$BM$3:$BN$16,2,FALSE)*100)","v":""},"",{"$f":"+IFERROR(VLOOKUP(E650,Listas!$CQ$2:$CW$1104,7,FALSE),\"\")","v":""},"","",""]
[null,null,null,null,{"$f":"IF(D651=\"\",\"\",VLOOKUP(CONCATENATE(C651,D651),Listas!$AT$2:$AV$1104,3,FALSE))","v":""},null,{"$f":"IF(OR(F651=\"\",E651=\"\"),\"\",VLOOKUP(CONCATENATE(E651,Listas!AZ648),Listas!$BC$3:$BI$15430,7,FALSE))","v":""},null,null,{"$f":"IF(G651=\"\",\"\",VLOOKUP(G651,Listas!$BM$3:$BN$16,2,FALSE)*100)","v":""},"",{"$f":"+IFERROR(VLOOKUP(E651,Listas!$CQ$2:$CW$1104,7,FALSE),\"\")","v":""},"","",""]
[null,null,null,null,{"$f":"IF(D652=\"\",\"\",VLOOKUP(CONCATENATE(C652,D652),Listas!$AT$2:$AV$1104,3,FALSE))","v":""},null,{"$f":"IF(OR(F652=\"\",E652=\"\"),\"\",VLOOKUP(CONCATENATE(E652,Listas!AZ649),Listas!$BC$3:$BI$15430,7,FALSE))","v":""},null,null,{"$f":"IF(G652=\"\",\"\",VLOOKUP(G652,Listas!$BM$3:$BN$16,2,FALSE)*100)","v":""},"",{"$f":"+IFERROR(VLOOKUP(E652,Listas!$CQ$2:$CW$1104,7,FALSE),\"\")","v":""},"","",""]
[null,null,null,null,{"$f":"IF(D653=\"\",\"\",VLOOKUP(CONCATENATE(C653,D653),Listas!$AT$2:$AV$1104,3,FALSE))","v":""},null,{"$f":"IF(OR(F653=\"\",E653=\"\"),\"\",VLOOKUP(CONCATENATE(E653,Listas!AZ650),Listas!$BC$3:$BI$15430,7,FALSE))","v":""},null,null,{"$f":"IF(G653=\"\",\"\",VLOOKUP(G653,Listas!$BM$3:$BN$16,2,FALSE)*100)","v":""},"",{"$f":"+IFERROR(VLOOKUP(E653,Listas!$CQ$2:$CW$1104,7,FALSE),\"\")","v":""},"","",""]
[null,null,null,null,{"$f":"IF(D654=\"\",\"\",VLOOKUP(CONCATENATE(C654,D654),Listas!$AT$2:$AV$1104,3,FALSE))","v":""},null,{"$f":"IF(OR(F654=\"\",E654=\"\"),\"\",VLOOKUP(CONCATENATE(E654,Listas!AZ651),Listas!$BC$3:$BI$15430,7,FALSE))","v":""},null,null,{"$f":"IF(G654=\"\",\"\",VLOOKUP(G654,Listas!$BM$3:$BN$16,2,FALSE)*100)","v":""},"",{"$f":"+IFERROR(VLOOKUP(E654,Listas!$CQ$2:$CW$1104,7,FALSE),\"\")","v":""},"","",""]
[null,null,null,null,{"$f":"IF(D655=\"\",\"\",VLOOKUP(CONCATENATE(C655,D655),Listas!$AT$2:$AV$1104,3,FALSE))","v":""},null,{"$f":"IF(OR(F655=\"\",E655=\"\"),\"\",VLOOKUP(CONCATENATE(E655,Listas!AZ652),Listas!$BC$3:$BI$15430,7,FALSE))","v":""},null,null,{"$f":"IF(G655=\"\",\"\",VLOOKUP(G655,Listas!$BM$3:$BN$16,2,FALSE)*100)","v":""},"",{"$f":"+IFERROR(VLOOKUP(E655,Listas!$CQ$2:$CW$1104,7,FALSE),\"\")","v":""},"","",""]
[null,null,null,null,{"$f":"IF(D656=\"\",\"\",VLOOKUP(CONCATENATE(C656,D656),Listas!$AT$2:$AV$1104,3,FALSE))","v":""},null,{"$f":"IF(OR(F656=\"\",E656=\"\"),\"\",VLOOKUP(CONCATENATE(E656,Listas!AZ653),Listas!$BC$3:$BI$15430,7,FALSE))","v":""},null,null,{"$f":"IF(G656=\"\",\"\",VLOOKUP(G656,Listas!$BM$3:$BN$16,2,FALSE)*100)","v":""},"",{"$f":"+IFERROR(VLOOKUP(E656,Listas!$CQ$2:$CW$1104,7,FALSE),\"\")","v":""},"","",""]
[null,null,null,null,{"$f":"IF(D657=\"\",\"\",VLOOKUP(CONCATENATE(C657,D657),Listas!$AT$2:$AV$1104,3,FALSE))","v":""},null,{"$f":"IF(OR(F657=\"\",E657=\"\"),\"\",VLOOKUP(CONCATENATE(E657,Listas!AZ654),Listas!$BC$3:$BI$15430,7,FALSE))","v":""},null,null,{"$f":"IF(G657=\"\",\"\",VLOOKUP(G657,Listas!$BM$3:$BN$16,2,FALSE)*100)","v":""},"",{"$f":"+IFERROR(VLOOKUP(E657,Listas!$CQ$2:$CW$1104,7,FALSE),\"\")","v":""},"","",""]
[null,null,null,null,{"$f":"IF(D658=\"\",\"\",VLOOKUP(CONCATENATE(C658,D658),Listas!$AT$2:$AV$1104,3,FALSE))","v":""},null,{"$f":"IF(OR(F658=\"\",E658=\"\"),\"\",VLOOKUP(CONCATENATE(E658,Listas!AZ655),Listas!$BC$3:$BI$15430,7,FALSE))","v":""},null,null,{"$f":"IF(G658=\"\",\"\",VLOOKUP(G658,Listas!$BM$3:$BN$16,2,FALSE)*100)","v":""},"",{"$f":"+IFERROR(VLOOKUP(E658,Listas!$CQ$2:$CW$1104,7,FALSE),\"\")","v":""},"","",""]
[null,null,null,null,{"$f":"IF(D659=\"\",\"\",VLOOKUP(CONCATENATE(C659,D659),Listas!$AT$2:$AV$1104,3,FALSE))","v":""},null,{"$f":"IF(OR(F659=\"\",E659=\"\"),\"\",VLOOKUP(CONCATENATE(E659,Listas!AZ656),Listas!$BC$3:$BI$15430,7,FALSE))","v":""},null,null,{"$f":"IF(G659=\"\",\"\",VLOOKUP(G659,Listas!$BM$3:$BN$16,2,FALSE)*100)","v":""},"",{"$f":"+IFERROR(VLOOKUP(E659,Listas!$CQ$2:$CW$1104,7,FALSE),\"\")","v":""},"","",""]
[null,null,null,null,{"$f":"IF(D660=\"\",\"\",VLOOKUP(CONCATENATE(C660,D660),Listas!$AT$2:$AV$1104,3,FALSE))","v":""},null,{"$f":"IF(OR(F660=\"\",E660=\"\"),\"\",VLOOKUP(CONCATENATE(E660,Listas!AZ657),Listas!$BC$3:$BI$15430,7,FALSE))","v":""},null,null,{"$f":"IF(G660=\"\",\"\",VLOOKUP(G660,Listas!$BM$3:$BN$16,2,FALSE)*100)","v":""},"",{"$f":"+IFERROR(VLOOKUP(E660,Listas!$CQ$2:$CW$1104,7,FALSE),\"\")","v":""},"","",""]
[null,null,null,null,{"$f":"IF(D661=\"\",\"\",VLOOKUP(CONCATENATE(C661,D661),Listas!$AT$2:$AV$1104,3,FALSE))","v":""},null,{"$f":"IF(OR(F661=\"\",E661=\"\"),\"\",VLOOKUP(CONCATENATE(E661,Listas!AZ658),Listas!$BC$3:$BI$15430,7,FALSE))","v":""},null,null,{"$f":"IF(G661=\"\",\"\",VLOOKUP(G661,Listas!$BM$3:$BN$16,2,FALSE)*100)","v":""},"",{"$f":"+IFERROR(VLOOKUP(E661,Listas!$CQ$2:$CW$1104,7,FALSE),\"\")","v":""},"","",""]
[null,null,null,null,{"$f":"IF(D662=\"\",\"\",VLOOKUP(CONCATENATE(C662,D662),Listas!$AT$2:$AV$1104,3,FALSE))","v":""},null,{"$f":"IF(OR(F662=\"\",E662=\"\"),\"\",VLOOKUP(CONCATENATE(E662,Listas!AZ659),Listas!$BC$3:$BI$15430,7,FALSE))","v":""},null,null,{"$f":"IF(G662=\"\",\"\",VLOOKUP(G662,Listas!$BM$3:$BN$16,2,FALSE)*100)","v":""},"",{"$f":"+IFERROR(VLOOKUP(E662,Listas!$CQ$2:$CW$1104,7,FALSE),\"\")","v":""},"","",""]
[null,null,null,null,{"$f":"IF(D663=\"\",\"\",VLOOKUP(CONCATENATE(C663,D663),Listas!$AT$2:$AV$1104,3,FALSE))","v":""},null,{"$f":"IF(OR(F663=\"\",E663=\"\"),\"\",VLOOKUP(CONCATENATE(E663,Listas!AZ660),Listas!$BC$3:$BI$15430,7,FALSE))","v":""},null,null,{"$f":"IF(G663=\"\",\"\",VLOOKUP(G663,Listas!$BM$3:$BN$16,2,FALSE)*100)","v":""},"",{"$f":"+IFERROR(VLOOKUP(E663,Listas!$CQ$2:$CW$1104,7,FALSE),\"\")","v":""},"","",""]
[null,null,null,null,{"$f":"IF(D664=\"\",\"\",VLOOKUP(CONCATENATE(C664,D664),Listas!$AT$2:$AV$1104,3,FALSE))","v":""},null,{"$f":"IF(OR(F664=\"\",E664=\"\"),\"\",VLOOKUP(CONCATENATE(E664,Listas!AZ661),Listas!$BC$3:$BI$15430,7,FALSE))","v":""},null,null,{"$f":"IF(G664=\"\",\"\",VLOOKUP(G664,Listas!$BM$3:$BN$16,2,FALSE)*100)","v":""},"",{"$f":"+IFERROR(VLOOKUP(E664,Listas!$CQ$2:$CW$1104,7,FALSE),\"\")","v":""},"","",""]
[null,null,null,null,{"$f":"IF(D665=\"\",\"\",VLOOKUP(CONCATENATE(C665,D665),Listas!$AT$2:$AV$1104,3,FALSE))","v":""},null,{"$f":"IF(OR(F665=\"\",E665=\"\"),\"\",VLOOKUP(CONCATENATE(E665,Listas!AZ662),Listas!$BC$3:$BI$15430,7,FALSE))","v":""},null,null,{"$f":"IF(G665=\"\",\"\",VLOOKUP(G665,Listas!$BM$3:$BN$16,2,FALSE)*100)","v":""},"",{"$f":"+IFERROR(VLOOKUP(E665,Listas!$CQ$2:$CW$1104,7,FALSE),\"\")","v":""},"","",""]
[null,null,null,null,{"$f":"IF(D666=\"\",\"\",VLOOKUP(CONCATENATE(C666,D666),Listas!$AT$2:$AV$1104,3,FALSE))","v":""},null,{"$f":"IF(OR(F666=\"\",E666=\"\"),\"\",VLOOKUP(CONCATENATE(E666,Listas!AZ663),Listas!$BC$3:$BI$15430,7,FALSE))","v":""},null,null,{"$f":"IF(G666=\"\",\"\",VLOOKUP(G666,Listas!$BM$3:$BN$16,2,FALSE)*100)","v":""},"",{"$f":"+IFERROR(VLOOKUP(E666,Listas!$CQ$2:$CW$1104,7,FALSE),\"\")","v":""},"","",""]
[null,null,null,null,{"$f":"IF(D667=\"\",\"\",VLOOKUP(CONCATENATE(C667,D667),Listas!$AT$2:$AV$1104,3,FALSE))","v":""},null,{"$f":"IF(OR(F667=\"\",E667=\"\"),\"\",VLOOKUP(CONCATENATE(E667,Listas!AZ664),Listas!$BC$3:$BI$15430,7,FALSE))","v":""},null,null,{"$f":"IF(G667=\"\",\"\",VLOOKUP(G667,Listas!$BM$3:$BN$16,2,FALSE)*100)","v":""},"",{"$f":"+IFERROR(VLOOKUP(E667,Listas!$CQ$2:$CW$1104,7,FALSE),\"\")","v":""},"","",""]
[null,null,null,null,{"$f":"IF(D668=\"\",\"\",VLOOKUP(CONCATENATE(C668,D668),Listas!$AT$2:$AV$1104,3,FALSE))","v":""},null,{"$f":"IF(OR(F668=\"\",E668=\"\"),\"\",VLOOKUP(CONCATENATE(E668,Listas!AZ665),Listas!$BC$3:$BI$15430,7,FALSE))","v":""},null,null,{"$f":"IF(G668=\"\",\"\",VLOOKUP(G668,Listas!$BM$3:$BN$16,2,FALSE)*100)","v":""},"",{"$f":"+IFERROR(VLOOKUP(E668,Listas!$CQ$2:$CW$1104,7,FALSE),\"\")","v":""},"","",""]
[null,null,null,null,{"$f":"IF(D669=\"\",\"\",VLOOKUP(CONCATENATE(C669,D669),Listas!$AT$2:$AV$1104,3,FALSE))","v":""},null,{"$f":"IF(OR(F669=\"\",E669=\"\"),\"\",VLOOKUP(CONCATENATE(E669,Listas!AZ666),Listas!$BC$3:$BI$15430,7,FALSE))","v":""},null,null,{"$f":"IF(G669=\"\",\"\",VLOOKUP(G669,Listas!$BM$3:$BN$16,2,FALSE)*100)","v":""},"",{"$f":"+IFERROR(VLOOKUP(E669,Listas!$CQ$2:$CW$1104,7,FALSE),\"\")","v":""},"","",""]
[null,null,null,null,{"$f":"IF(D670=\"\",\"\",VLOOKUP(CONCATENATE(C670,D670),Listas!$AT$2:$AV$1104,3,FALSE))","v":""},null,{"$f":"IF(OR(F670=\"\",E670=\"\"),\"\",VLOOKUP(CONCATENATE(E670,Listas!AZ667),Listas!$BC$3:$BI$15430,7,FALSE))","v":""},null,null,{"$f":"IF(G670=\"\",\"\",VLOOKUP(G670,Listas!$BM$3:$BN$16,2,FALSE)*100)","v":""},"",{"$f":"+IFERROR(VLOOKUP(E670,Listas!$CQ$2:$CW$1104,7,FALSE),\"\")","v":""},"","",""]
[null,null,null,null,{"$f":"IF(D671=\"\",\"\",VLOOKUP(CONCATENATE(C671,D671),Listas!$AT$2:$AV$1104,3,FALSE))","v":""},null,{"$f":"IF(OR(F671=\"\",E671=\"\"),\"\",VLOOKUP(CONCATENATE(E671,Listas!AZ668),Listas!$BC$3:$BI$15430,7,FALSE))","v":""},null,null,{"$f":"IF(G671=\"\",\"\",VLOOKUP(G671,Listas!$BM$3:$BN$16,2,FALSE)*100)","v":""},"",{"$f":"+IFERROR(VLOOKUP(E671,Listas!$CQ$2:$CW$1104,7,FALSE),\"\")","v":""},"","",""]
[null,null,null,null,{"$f":"IF(D672=\"\",\"\",VLOOKUP(CONCATENATE(C672,D672),Listas!$AT$2:$AV$1104,3,FALSE))","v":""},null,{"$f":"IF(OR(F672=\"\",E672=\"\"),\"\",VLOOKUP(CONCATENATE(E672,Listas!AZ669),Listas!$BC$3:$BI$15430,7,FALSE))","v":""},null,null,{"$f":"IF(G672=\"\",\"\",VLOOKUP(G672,Listas!$BM$3:$BN$16,2,FALSE)*100)","v":""},"",{"$f":"+IFERROR(VLOOKUP(E672,Listas!$CQ$2:$CW$1104,7,FALSE),\"\")","v":""},"","",""]
[null,null,null,null,{"$f":"IF(D673=\"\",\"\",VLOOKUP(CONCATENATE(C673,D673),Listas!$AT$2:$AV$1104,3,FALSE))","v":""},null,{"$f":"IF(OR(F673=\"\",E673=\"\"),\"\",VLOOKUP(CONCATENATE(E673,Listas!AZ670),Listas!$BC$3:$BI$15430,7,FALSE))","v":""},null,null,{"$f":"IF(G673=\"\",\"\",VLOOKUP(G673,Listas!$BM$3:$BN$16,2,FALSE)*100)","v":""},"",{"$f":"+IFERROR(VLOOKUP(E673,Listas!$CQ$2:$CW$1104,7,FALSE),\"\")","v":""},"","",""]
[null,null,null,null,{"$f":"IF(D674=\"\",\"\",VLOOKUP(CONCATENATE(C674,D674),Listas!$AT$2:$AV$1104,3,FALSE))","v":""},null,{"$f":"IF(OR(F674=\"\",E674=\"\"),\"\",VLOOKUP(CONCATENATE(E674,Listas!AZ671),Listas!$BC$3:$BI$15430,7,FALSE))","v":""},null,null,{"$f":"IF(G674=\"\",\"\",VLOOKUP(G674,Listas!$BM$3:$BN$16,2,FALSE)*100)","v":""},"",{"$f":"+IFERROR(VLOOKUP(E674,Listas!$CQ$2:$CW$1104,7,FALSE),\"\")","v":""},"","",""]
[null,null,null,null,{"$f":"IF(D675=\"\",\"\",VLOOKUP(CONCATENATE(C675,D675),Listas!$AT$2:$AV$1104,3,FALSE))","v":""},null,{"$f":"IF(OR(F675=\"\",E675=\"\"),\"\",VLOOKUP(CONCATENATE(E675,Listas!AZ672),Listas!$BC$3:$BI$15430,7,FALSE))","v":""},null,null,{"$f":"IF(G675=\"\",\"\",VLOOKUP(G675,Listas!$BM$3:$BN$16,2,FALSE)*100)","v":""},"",{"$f":"+IFERROR(VLOOKUP(E675,Listas!$CQ$2:$CW$1104,7,FALSE),\"\")","v":""},"","",""]
[null,null,null,null,{"$f":"IF(D676=\"\",\"\",VLOOKUP(CONCATENATE(C676,D676),Listas!$AT$2:$AV$1104,3,FALSE))","v":""},null,{"$f":"IF(OR(F676=\"\",E676=\"\"),\"\",VLOOKUP(CONCATENATE(E676,Listas!AZ673),Listas!$BC$3:$BI$15430,7,FALSE))","v":""},null,null,{"$f":"IF(G676=\"\",\"\",VLOOKUP(G676,Listas!$BM$3:$BN$16,2,FALSE)*100)","v":""},"",{"$f":"+IFERROR(VLOOKUP(E676,Listas!$CQ$2:$CW$1104,7,FALSE),\"\")","v":""},"","",""]
[null,null,null,null,{"$f":"IF(D677=\"\",\"\",VLOOKUP(CONCATENATE(C677,D677),Listas!$AT$2:$AV$1104,3,FALSE))","v":""},null,{"$f":"IF(OR(F677=\"\",E677=\"\"),\"\",VLOOKUP(CONCATENATE(E677,Listas!AZ674),Listas!$BC$3:$BI$15430,7,FALSE))","v":""},null,null,{"$f":"IF(G677=\"\",\"\",VLOOKUP(G677,Listas!$BM$3:$BN$16,2,FALSE)*100)","v":""},"",{"$f":"+IFERROR(VLOOKUP(E677,Listas!$CQ$2:$CW$1104,7,FALSE),\"\")","v":""},"","",""]
[null,null,null,null,{"$f":"IF(D678=\"\",\"\",VLOOKUP(CONCATENATE(C678,D678),Listas!$AT$2:$AV$1104,3,FALSE))","v":""},null,{"$f":"IF(OR(F678=\"\",E678=\"\"),\"\",VLOOKUP(CONCATENATE(E678,Listas!AZ675),Listas!$BC$3:$BI$15430,7,FALSE))","v":""},null,null,{"$f":"IF(G678=\"\",\"\",VLOOKUP(G678,Listas!$BM$3:$BN$16,2,FALSE)*100)","v":""},"",{"$f":"+IFERROR(VLOOKUP(E678,Listas!$CQ$2:$CW$1104,7,FALSE),\"\")","v":""},"","",""]
[null,null,null,null,{"$f":"IF(D679=\"\",\"\",VLOOKUP(CONCATENATE(C679,D679),Listas!$AT$2:$AV$1104,3,FALSE))","v":""},null,{"$f":"IF(OR(F679=\"\",E679=\"\"),\"\",VLOOKUP(CONCATENATE(E679,Listas!AZ676),Listas!$BC$3:$BI$15430,7,FALSE))","v":""},null,null,{"$f":"IF(G679=\"\",\"\",VLOOKUP(G679,Listas!$BM$3:$BN$16,2,FALSE)*100)","v":""},"",{"$f":"+IFERROR(VLOOKUP(E679,Listas!$CQ$2:$CW$1104,7,FALSE),\"\")","v":""},"","",""]
[null,null,null,null,{"$f":"IF(D680=\"\",\"\",VLOOKUP(CONCATENATE(C680,D680),Listas!$AT$2:$AV$1104,3,FALSE))","v":""},null,{"$f":"IF(OR(F680=\"\",E680=\"\"),\"\",VLOOKUP(CONCATENATE(E680,Listas!AZ677),Listas!$BC$3:$BI$15430,7,FALSE))","v":""},null,null,{"$f":"IF(G680=\"\",\"\",VLOOKUP(G680,Listas!$BM$3:$BN$16,2,FALSE)*100)","v":""},"",{"$f":"+IFERROR(VLOOKUP(E680,Listas!$CQ$2:$CW$1104,7,FALSE),\"\")","v":""},"","",""]
[null,null,null,null,{"$f":"IF(D681=\"\",\"\",VLOOKUP(CONCATENATE(C681,D681),Listas!$AT$2:$AV$1104,3,FALSE))","v":""},null,{"$f":"IF(OR(F681=\"\",E681=\"\"),\"\",VLOOKUP(CONCATENATE(E681,Listas!AZ678),Listas!$BC$3:$BI$15430,7,FALSE))","v":""},null,null,{"$f":"IF(G681=\"\",\"\",VLOOKUP(G681,Listas!$BM$3:$BN$16,2,FALSE)*100)","v":""},"",{"$f":"+IFERROR(VLOOKUP(E681,Listas!$CQ$2:$CW$1104,7,FALSE),\"\")","v":""},"","",""]
[null,null,null,null,{"$f":"IF(D682=\"\",\"\",VLOOKUP(CONCATENATE(C682,D682),Listas!$AT$2:$AV$1104,3,FALSE))","v":""},null,{"$f":"IF(OR(F682=\"\",E682=\"\"),\"\",VLOOKUP(CONCATENATE(E682,Listas!AZ679),Listas!$BC$3:$BI$15430,7,FALSE))","v":""},null,null,{"$f":"IF(G682=\"\",\"\",VLOOKUP(G682,Listas!$BM$3:$BN$16,2,FALSE)*100)","v":""},"",{"$f":"+IFERROR(VLOOKUP(E682,Listas!$CQ$2:$CW$1104,7,FALSE),\"\")","v":""},"","",""]
[null,null,null,null,{"$f":"IF(D683=\"\",\"\",VLOOKUP(CONCATENATE(C683,D683),Listas!$AT$2:$AV$1104,3,FALSE))","v":""},null,{"$f":"IF(OR(F683=\"\",E683=\"\"),\"\",VLOOKUP(CONCATENATE(E683,Listas!AZ680),Listas!$BC$3:$BI$15430,7,FALSE))","v":""},null,null,{"$f":"IF(G683=\"\",\"\",VLOOKUP(G683,Listas!$BM$3:$BN$16,2,FALSE)*100)","v":""},"",{"$f":"+IFERROR(VLOOKUP(E683,Listas!$CQ$2:$CW$1104,7,FALSE),\"\")","v":""},"","",""]
[null,null,null,null,{"$f":"IF(D684=\"\",\"\",VLOOKUP(CONCATENATE(C684,D684),Listas!$AT$2:$AV$1104,3,FALSE))","v":""},null,{"$f":"IF(OR(F684=\"\",E684=\"\"),\"\",VLOOKUP(CONCATENATE(E684,Listas!AZ681),Listas!$BC$3:$BI$15430,7,FALSE))","v":""},null,null,{"$f":"IF(G684=\"\",\"\",VLOOKUP(G684,Listas!$BM$3:$BN$16,2,FALSE)*100)","v":""},"",{"$f":"+IFERROR(VLOOKUP(E684,Listas!$CQ$2:$CW$1104,7,FALSE),\"\")","v":""},"","",""]
[null,null,null,null,{"$f":"IF(D685=\"\",\"\",VLOOKUP(CONCATENATE(C685,D685),Listas!$AT$2:$AV$1104,3,FALSE))","v":""},null,{"$f":"IF(OR(F685=\"\",E685=\"\"),\"\",VLOOKUP(CONCATENATE(E685,Listas!AZ682),Listas!$BC$3:$BI$15430,7,FALSE))","v":""},null,null,{"$f":"IF(G685=\"\",\"\",VLOOKUP(G685,Listas!$BM$3:$BN$16,2,FALSE)*100)","v":""},"",{"$f":"+IFERROR(VLOOKUP(E685,Listas!$CQ$2:$CW$1104,7,FALSE),\"\")","v":""},"","",""]
[null,null,null,null,{"$f":"IF(D686=\"\",\"\",VLOOKUP(CONCATENATE(C686,D686),Listas!$AT$2:$AV$1104,3,FALSE))","v":""},null,{"$f":"IF(OR(F686=\"\",E686=\"\"),\"\",VLOOKUP(CONCATENATE(E686,Listas!AZ683),Listas!$BC$3:$BI$15430,7,FALSE))","v":""},null,null,{"$f":"IF(G686=\"\",\"\",VLOOKUP(G686,Listas!$BM$3:$BN$16,2,FALSE)*100)","v":""},"",{"$f":"+IFERROR(VLOOKUP(E686,Listas!$CQ$2:$CW$1104,7,FALSE),\"\")","v":""},"","",""]
[null,null,null,null,{"$f":"IF(D687=\"\",\"\",VLOOKUP(CONCATENATE(C687,D687),Listas!$AT$2:$AV$1104,3,FALSE))","v":""},null,{"$f":"IF(OR(F687=\"\",E687=\"\"),\"\",VLOOKUP(CONCATENATE(E687,Listas!AZ684),Listas!$BC$3:$BI$15430,7,FALSE))","v":""},null,null,{"$f":"IF(G687=\"\",\"\",VLOOKUP(G687,Listas!$BM$3:$BN$16,2,FALSE)*100)","v":""},"",{"$f":"+IFERROR(VLOOKUP(E687,Listas!$CQ$2:$CW$1104,7,FALSE),\"\")","v":""},"","",""]
[null,null,null,null,{"$f":"IF(D688=\"\",\"\",VLOOKUP(CONCATENATE(C688,D688),Listas!$AT$2:$AV$1104,3,FALSE))","v":""},null,{"$f":"IF(OR(F688=\"\",E688=\"\"),\"\",VLOOKUP(CONCATENATE(E688,Listas!AZ685),Listas!$BC$3:$BI$15430,7,FALSE))","v":""},null,null,{"$f":"IF(G688=\"\",\"\",VLOOKUP(G688,Listas!$BM$3:$BN$16,2,FALSE)*100)","v":""},"",{"$f":"+IFERROR(VLOOKUP(E688,Listas!$CQ$2:$CW$1104,7,FALSE),\"\")","v":""},"","",""]
[null,null,null,null,{"$f":"IF(D689=\"\",\"\",VLOOKUP(CONCATENATE(C689,D689),Listas!$AT$2:$AV$1104,3,FALSE))","v":""},null,{"$f":"IF(OR(F689=\"\",E689=\"\"),\"\",VLOOKUP(CONCATENATE(E689,Listas!AZ686),Listas!$BC$3:$BI$15430,7,FALSE))","v":""},null,null,{"$f":"IF(G689=\"\",\"\",VLOOKUP(G689,Listas!$BM$3:$BN$16,2,FALSE)*100)","v":""},"",{"$f":"+IFERROR(VLOOKUP(E689,Listas!$CQ$2:$CW$1104,7,FALSE),\"\")","v":""},"","",""]
[null,null,null,null,{"$f":"IF(D690=\"\",\"\",VLOOKUP(CONCATENATE(C690,D690),Listas!$AT$2:$AV$1104,3,FALSE))","v":""},null,{"$f":"IF(OR(F690=\"\",E690=\"\"),\"\",VLOOKUP(CONCATENATE(E690,Listas!AZ687),Listas!$BC$3:$BI$15430,7,FALSE))","v":""},null,null,{"$f":"IF(G690=\"\",\"\",VLOOKUP(G690,Listas!$BM$3:$BN$16,2,FALSE)*100)","v":""},"",{"$f":"+IFERROR(VLOOKUP(E690,Listas!$CQ$2:$CW$1104,7,FALSE),\"\")","v":""},"","",""]
[null,null,null,null,{"$f":"IF(D691=\"\",\"\",VLOOKUP(CONCATENATE(C691,D691),Listas!$AT$2:$AV$1104,3,FALSE))","v":""},null,{"$f":"IF(OR(F691=\"\",E691=\"\"),\"\",VLOOKUP(CONCATENATE(E691,Listas!AZ688),Listas!$BC$3:$BI$15430,7,FALSE))","v":""},null,null,{"$f":"IF(G691=\"\",\"\",VLOOKUP(G691,Listas!$BM$3:$BN$16,2,FALSE)*100)","v":""},"",{"$f":"+IFERROR(VLOOKUP(E691,Listas!$CQ$2:$CW$1104,7,FALSE),\"\")","v":""},"","",""]
[null,null,null,null,{"$f":"IF(D692=\"\",\"\",VLOOKUP(CONCATENATE(C692,D692),Listas!$AT$2:$AV$1104,3,FALSE))","v":""},null,{"$f":"IF(OR(F692=\"\",E692=\"\"),\"\",VLOOKUP(CONCATENATE(E692,Listas!AZ689),Listas!$BC$3:$BI$15430,7,FALSE))","v":""},null,null,{"$f":"IF(G692=\"\",\"\",VLOOKUP(G692,Listas!$BM$3:$BN$16,2,FALSE)*100)","v":""},"",{"$f":"+IFERROR(VLOOKUP(E692,Listas!$CQ$2:$CW$1104,7,FALSE),\"\")","v":""},"","",""]
[null,null,null,null,{"$f":"IF(D693=\"\",\"\",VLOOKUP(CONCATENATE(C693,D693),Listas!$AT$2:$AV$1104,3,FALSE))","v":""},null,{"$f":"IF(OR(F693=\"\",E693=\"\"),\"\",VLOOKUP(CONCATENATE(E693,Listas!AZ690),Listas!$BC$3:$BI$15430,7,FALSE))","v":""},null,null,{"$f":"IF(G693=\"\",\"\",VLOOKUP(G693,Listas!$BM$3:$BN$16,2,FALSE)*100)","v":""},"",{"$f":"+IFERROR(VLOOKUP(E693,Listas!$CQ$2:$CW$1104,7,FALSE),\"\")","v":""},"","",""]
[null,null,null,null,{"$f":"IF(D694=\"\",\"\",VLOOKUP(CONCATENATE(C694,D694),Listas!$AT$2:$AV$1104,3,FALSE))","v":""},null,{"$f":"IF(OR(F694=\"\",E694=\"\"),\"\",VLOOKUP(CONCATENATE(E694,Listas!AZ691),Listas!$BC$3:$BI$15430,7,FALSE))","v":""},null,null,{"$f":"IF(G694=\"\",\"\",VLOOKUP(G694,Listas!$BM$3:$BN$16,2,FALSE)*100)","v":""},"",{"$f":"+IFERROR(VLOOKUP(E694,Listas!$CQ$2:$CW$1104,7,FALSE),\"\")","v":""},"","",""]
[null,null,null,null,{"$f":"IF(D695=\"\",\"\",VLOOKUP(CONCATENATE(C695,D695),Listas!$AT$2:$AV$1104,3,FALSE))","v":""},null,{"$f":"IF(OR(F695=\"\",E695=\"\"),\"\",VLOOKUP(CONCATENATE(E695,Listas!AZ692),Listas!$BC$3:$BI$15430,7,FALSE))","v":""},null,null,{"$f":"IF(G695=\"\",\"\",VLOOKUP(G695,Listas!$BM$3:$BN$16,2,FALSE)*100)","v":""},"",{"$f":"+IFERROR(VLOOKUP(E695,Listas!$CQ$2:$CW$1104,7,FALSE),\"\")","v":""},"","",""]
[null,null,null,null,{"$f":"IF(D696=\"\",\"\",VLOOKUP(CONCATENATE(C696,D696),Listas!$AT$2:$AV$1104,3,FALSE))","v":""},null,{"$f":"IF(OR(F696=\"\",E696=\"\"),\"\",VLOOKUP(CONCATENATE(E696,Listas!AZ693),Listas!$BC$3:$BI$15430,7,FALSE))","v":""},null,null,{"$f":"IF(G696=\"\",\"\",VLOOKUP(G696,Listas!$BM$3:$BN$16,2,FALSE)*100)","v":""},"",{"$f":"+IFERROR(VLOOKUP(E696,Listas!$CQ$2:$CW$1104,7,FALSE),\"\")","v":""},"","",""]
[null,null,null,null,{"$f":"IF(D697=\"\",\"\",VLOOKUP(CONCATENATE(C697,D697),Listas!$AT$2:$AV$1104,3,FALSE))","v":""},null,{"$f":"IF(OR(F697=\"\",E697=\"\"),\"\",VLOOKUP(CONCATENATE(E697,Listas!AZ694),Listas!$BC$3:$BI$15430,7,FALSE))","v":""},null,null,{"$f":"IF(G697=\"\",\"\",VLOOKUP(G697,Listas!$BM$3:$BN$16,2,FALSE)*100)","v":""},"",{"$f":"+IFERROR(VLOOKUP(E697,Listas!$CQ$2:$CW$1104,7,FALSE),\"\")","v":""},"","",""]
[null,null,null,null,{"$f":"IF(D698=\"\",\"\",VLOOKUP(CONCATENATE(C698,D698),Listas!$AT$2:$AV$1104,3,FALSE))","v":""},null,{"$f":"IF(OR(F698=\"\",E698=\"\"),\"\",VLOOKUP(CONCATENATE(E698,Listas!AZ695),Listas!$BC$3:$BI$15430,7,FALSE))","v":""},null,null,{"$f":"IF(G698=\"\",\"\",VLOOKUP(G698,Listas!$BM$3:$BN$16,2,FALSE)*100)","v":""},"",{"$f":"+IFERROR(VLOOKUP(E698,Listas!$CQ$2:$CW$1104,7,FALSE),\"\")","v":""},"","",""]
[null,null,null,null,{"$f":"IF(D699=\"\",\"\",VLOOKUP(CONCATENATE(C699,D699),Listas!$AT$2:$AV$1104,3,FALSE))","v":""},null,{"$f":"IF(OR(F699=\"\",E699=\"\"),\"\",VLOOKUP(CONCATENATE(E699,Listas!AZ696),Listas!$BC$3:$BI$15430,7,FALSE))","v":""},null,null,{"$f":"IF(G699=\"\",\"\",VLOOKUP(G699,Listas!$BM$3:$BN$16,2,FALSE)*100)","v":""},"",{"$f":"+IFERROR(VLOOKUP(E699,Listas!$CQ$2:$CW$1104,7,FALSE),\"\")","v":""},"","",""]
[null,null,null,null,{"$f":"IF(D700=\"\",\"\",VLOOKUP(CONCATENATE(C700,D700),Listas!$AT$2:$AV$1104,3,FALSE))","v":""},null,{"$f":"IF(OR(F700=\"\",E700=\"\"),\"\",VLOOKUP(CONCATENATE(E700,Listas!AZ697),Listas!$BC$3:$BI$15430,7,FALSE))","v":""},null,null,{"$f":"IF(G700=\"\",\"\",VLOOKUP(G700,Listas!$BM$3:$BN$16,2,FALSE)*100)","v":""},"",{"$f":"+IFERROR(VLOOKUP(E700,Listas!$CQ$2:$CW$1104,7,FALSE),\"\")","v":""},"","",""]
[null,null,null,null,{"$f":"IF(D701=\"\",\"\",VLOOKUP(CONCATENATE(C701,D701),Listas!$AT$2:$AV$1104,3,FALSE))","v":""},null,{"$f":"IF(OR(F701=\"\",E701=\"\"),\"\",VLOOKUP(CONCATENATE(E701,Listas!AZ698),Listas!$BC$3:$BI$15430,7,FALSE))","v":""},null,null,{"$f":"IF(G701=\"\",\"\",VLOOKUP(G701,Listas!$BM$3:$BN$16,2,FALSE)*100)","v":""},"",{"$f":"+IFERROR(VLOOKUP(E701,Listas!$CQ$2:$CW$1104,7,FALSE),\"\")","v":""},"","",""]
[null,null,null,null,{"$f":"IF(D702=\"\",\"\",VLOOKUP(CONCATENATE(C702,D702),Listas!$AT$2:$AV$1104,3,FALSE))","v":""},null,{"$f":"IF(OR(F702=\"\",E702=\"\"),\"\",VLOOKUP(CONCATENATE(E702,Listas!AZ699),Listas!$BC$3:$BI$15430,7,FALSE))","v":""},null,null,{"$f":"IF(G702=\"\",\"\",VLOOKUP(G702,Listas!$BM$3:$BN$16,2,FALSE)*100)","v":""},"",{"$f":"+IFERROR(VLOOKUP(E702,Listas!$CQ$2:$CW$1104,7,FALSE),\"\")","v":""},"","",""]
[null,null,null,null,{"$f":"IF(D703=\"\",\"\",VLOOKUP(CONCATENATE(C703,D703),Listas!$AT$2:$AV$1104,3,FALSE))","v":""},null,{"$f":"IF(OR(F703=\"\",E703=\"\"),\"\",VLOOKUP(CONCATENATE(E703,Listas!AZ700),Listas!$BC$3:$BI$15430,7,FALSE))","v":""},null,null,{"$f":"IF(G703=\"\",\"\",VLOOKUP(G703,Listas!$BM$3:$BN$16,2,FALSE)*100)","v":""},"",{"$f":"+IFERROR(VLOOKUP(E703,Listas!$CQ$2:$CW$1104,7,FALSE),\"\")","v":""},"","",""]
[null,null,null,null,{"$f":"IF(D704=\"\",\"\",VLOOKUP(CONCATENATE(C704,D704),Listas!$AT$2:$AV$1104,3,FALSE))","v":""},null,{"$f":"IF(OR(F704=\"\",E704=\"\"),\"\",VLOOKUP(CONCATENATE(E704,Listas!AZ701),Listas!$BC$3:$BI$15430,7,FALSE))","v":""},null,null,{"$f":"IF(G704=\"\",\"\",VLOOKUP(G704,Listas!$BM$3:$BN$16,2,FALSE)*100)","v":""},"",{"$f":"+IFERROR(VLOOKUP(E704,Listas!$CQ$2:$CW$1104,7,FALSE),\"\")","v":""},"","",""]
[null,null,null,null,{"$f":"IF(D705=\"\",\"\",VLOOKUP(CONCATENATE(C705,D705),Listas!$AT$2:$AV$1104,3,FALSE))","v":""},null,{"$f":"IF(OR(F705=\"\",E705=\"\"),\"\",VLOOKUP(CONCATENATE(E705,Listas!AZ702),Listas!$BC$3:$BI$15430,7,FALSE))","v":""},null,null,{"$f":"IF(G705=\"\",\"\",VLOOKUP(G705,Listas!$BM$3:$BN$16,2,FALSE)*100)","v":""},"",{"$f":"+IFERROR(VLOOKUP(E705,Listas!$CQ$2:$CW$1104,7,FALSE),\"\")","v":""},"","",""]
[null,null,null,null,{"$f":"IF(D706=\"\",\"\",VLOOKUP(CONCATENATE(C706,D706),Listas!$AT$2:$AV$1104,3,FALSE))","v":""},null,{"$f":"IF(OR(F706=\"\",E706=\"\"),\"\",VLOOKUP(CONCATENATE(E706,Listas!AZ703),Listas!$BC$3:$BI$15430,7,FALSE))","v":""},null,null,{"$f":"IF(G706=\"\",\"\",VLOOKUP(G706,Listas!$BM$3:$BN$16,2,FALSE)*100)","v":""},"",{"$f":"+IFERROR(VLOOKUP(E706,Listas!$CQ$2:$CW$1104,7,FALSE),\"\")","v":""},"","",""]
[null,null,null,null,{"$f":"IF(D707=\"\",\"\",VLOOKUP(CONCATENATE(C707,D707),Listas!$AT$2:$AV$1104,3,FALSE))","v":""},null,{"$f":"IF(OR(F707=\"\",E707=\"\"),\"\",VLOOKUP(CONCATENATE(E707,Listas!AZ704),Listas!$BC$3:$BI$15430,7,FALSE))","v":""},null,null,{"$f":"IF(G707=\"\",\"\",VLOOKUP(G707,Listas!$BM$3:$BN$16,2,FALSE)*100)","v":""},"",{"$f":"+IFERROR(VLOOKUP(E707,Listas!$CQ$2:$CW$1104,7,FALSE),\"\")","v":""},"","",""]
[null,null,null,null,{"$f":"IF(D708=\"\",\"\",VLOOKUP(CONCATENATE(C708,D708),Listas!$AT$2:$AV$1104,3,FALSE))","v":""},null,{"$f":"IF(OR(F708=\"\",E708=\"\"),\"\",VLOOKUP(CONCATENATE(E708,Listas!AZ705),Listas!$BC$3:$BI$15430,7,FALSE))","v":""},null,null,{"$f":"IF(G708=\"\",\"\",VLOOKUP(G708,Listas!$BM$3:$BN$16,2,FALSE)*100)","v":""},"",{"$f":"+IFERROR(VLOOKUP(E708,Listas!$CQ$2:$CW$1104,7,FALSE),\"\")","v":""},"","",""]
[null,null,null,null,{"$f":"IF(D709=\"\",\"\",VLOOKUP(CONCATENATE(C709,D709),Listas!$AT$2:$AV$1104,3,FALSE))","v":""},null,{"$f":"IF(OR(F709=\"\",E709=\"\"),\"\",VLOOKUP(CONCATENATE(E709,Listas!AZ706),Listas!$BC$3:$BI$15430,7,FALSE))","v":""},null,null,{"$f":"IF(G709=\"\",\"\",VLOOKUP(G709,Listas!$BM$3:$BN$16,2,FALSE)*100)","v":""},"",{"$f":"+IFERROR(VLOOKUP(E709,Listas!$CQ$2:$CW$1104,7,FALSE),\"\")","v":""},"","",""]
[null,null,null,null,{"$f":"IF(D710=\"\",\"\",VLOOKUP(CONCATENATE(C710,D710),Listas!$AT$2:$AV$1104,3,FALSE))","v":""},null,{"$f":"IF(OR(F710=\"\",E710=\"\"),\"\",VLOOKUP(CONCATENATE(E710,Listas!AZ707),Listas!$BC$3:$BI$15430,7,FALSE))","v":""},null,null,{"$f":"IF(G710=\"\",\"\",VLOOKUP(G710,Listas!$BM$3:$BN$16,2,FALSE)*100)","v":""},{"$f":"+IF(H710=\"\",\"\",IF(H710=\"Sí\",1,0)*100)","v":""},{"$f":"+IFERROR(VLOOKUP(E710,Listas!$CQ$2:$CW$1104,7,FALSE),\"\")","v":""},{"$f":"+IF(I710=\"\",\"\",IF(I710=\"Sí\",1,0)*100)","v":""},"",""]
[null,null,null,null,{"$f":"IF(D711=\"\",\"\",VLOOKUP(CONCATENATE(C711,D711),Listas!$AT$2:$AV$1104,3,FALSE))","v":""},null,{"$f":"IF(OR(F711=\"\",E711=\"\"),\"\",VLOOKUP(CONCATENATE(E711,Listas!AZ708),Listas!$BC$3:$BI$15430,7,FALSE))","v":""},null,null,{"$f":"IF(G711=\"\",\"\",VLOOKUP(G711,Listas!$BM$3:$BN$16,2,FALSE)*100)","v":""},"",{"$f":"+IFERROR(VLOOKUP(E711,Listas!$CQ$2:$CW$1104,7,FALSE),\"\")","v":""},"",{"$f":"IF(E711=\"\",\"\",SUMPRODUCT(J711:M711,$J$2:$M$2))","v":""},{"$f":"+IFERROR(J711*58%,\"\")","v":""}]
[null,null,null,null,{"$f":"IF(D712=\"\",\"\",VLOOKUP(CONCATENATE(C712,D712),Listas!$AT$2:$AV$1104,3,FALSE))","v":""},null,{"$f":"IF(OR(F712=\"\",E712=\"\"),\"\",VLOOKUP(CONCATENATE(E712,Listas!AZ709),Listas!$BC$3:$BI$15430,7,FALSE))","v":""},null,null,{"$f":"IF(G712=\"\",\"\",VLOOKUP(G712,Listas!$BM$3:$BN$16,2,FALSE)*100)","v":""},"",{"$f":"+IFERROR(VLOOKUP(E712,Listas!$CQ$2:$CW$1104,7,FALSE),\"\")","v":""},"","",""]
[null,null,null,null,{"$f":"IF(D713=\"\",\"\",VLOOKUP(CONCATENATE(C713,D713),Listas!$AT$2:$AV$1104,3,FALSE))","v":""},null,{"$f":"IF(OR(F713=\"\",E713=\"\"),\"\",VLOOKUP(CONCATENATE(E713,Listas!AZ710),Listas!$BC$3:$BI$15430,7,FALSE))","v":""},null,null,{"$f":"IF(G713=\"\",\"\",VLOOKUP(G713,Listas!$BM$3:$BN$16,2,FALSE)*100)","v":""},"",{"$f":"+IFERROR(VLOOKUP(E713,Listas!$CQ$2:$CW$1104,7,FALSE),\"\")","v":""},"","",""]
[null,null,null,null,{"$f":"IF(D714=\"\",\"\",VLOOKUP(CONCATENATE(C714,D714),Listas!$AT$2:$AV$1104,3,FALSE))","v":""},null,{"$f":"IF(OR(F714=\"\",E714=\"\"),\"\",VLOOKUP(CONCATENATE(E714,Listas!AZ711),Listas!$BC$3:$BI$15430,7,FALSE))","v":""},null,null,{"$f":"IF(G714=\"\",\"\",VLOOKUP(G714,Listas!$BM$3:$BN$16,2,FALSE)*100)","v":""},"",{"$f":"+IFERROR(VLOOKUP(E714,Listas!$CQ$2:$CW$1104,7,FALSE),\"\")","v":""},"","",""]
[null,null,null,null,{"$f":"IF(D715=\"\",\"\",VLOOKUP(CONCATENATE(C715,D715),Listas!$AT$2:$AV$1104,3,FALSE))","v":""},null,{"$f":"IF(OR(F715=\"\",E715=\"\"),\"\",VLOOKUP(CONCATENATE(E715,Listas!AZ712),Listas!$BC$3:$BI$15430,7,FALSE))","v":""},null,null,{"$f":"IF(G715=\"\",\"\",VLOOKUP(G715,Listas!$BM$3:$BN$16,2,FALSE)*100)","v":""},"",{"$f":"+IFERROR(VLOOKUP(E715,Listas!$CQ$2:$CW$1104,7,FALSE),\"\")","v":""},"","",""]
[null,null,null,null,{"$f":"IF(D716=\"\",\"\",VLOOKUP(CONCATENATE(C716,D716),Listas!$AT$2:$AV$1104,3,FALSE))","v":""},null,{"$f":"IF(OR(F716=\"\",E716=\"\"),\"\",VLOOKUP(CONCATENATE(E716,Listas!AZ713),Listas!$BC$3:$BI$15430,7,FALSE))","v":""},null,null,{"$f":"IF(G716=\"\",\"\",VLOOKUP(G716,Listas!$BM$3:$BN$16,2,FALSE)*100)","v":""},"",{"$f":"+IFERROR(VLOOKUP(E716,Listas!$CQ$2:$CW$1104,7,FALSE),\"\")","v":""},"","",""]
[null,null,null,null,{"$f":"IF(D717=\"\",\"\",VLOOKUP(CONCATENATE(C717,D717),Listas!$AT$2:$AV$1104,3,FALSE))","v":""},null,{"$f":"IF(OR(F717=\"\",E717=\"\"),\"\",VLOOKUP(CONCATENATE(E717,Listas!AZ714),Listas!$BC$3:$BI$15430,7,FALSE))","v":""},null,null,{"$f":"IF(G717=\"\",\"\",VLOOKUP(G717,Listas!$BM$3:$BN$16,2,FALSE)*100)","v":""},"",{"$f":"+IFERROR(VLOOKUP(E717,Listas!$CQ$2:$CW$1104,7,FALSE),\"\")","v":""},"","",""]
[null,null,null,null,{"$f":"IF(D718=\"\",\"\",VLOOKUP(CONCATENATE(C718,D718),Listas!$AT$2:$AV$1104,3,FALSE))","v":""},null,{"$f":"IF(OR(F718=\"\",E718=\"\"),\"\",VLOOKUP(CONCATENATE(E718,Listas!AZ715),Listas!$BC$3:$BI$15430,7,FALSE))","v":""},null,null,{"$f":"IF(G718=\"\",\"\",VLOOKUP(G718,Listas!$BM$3:$BN$16,2,FALSE)*100)","v":""},"",{"$f":"+IFERROR(VLOOKUP(E718,Listas!$CQ$2:$CW$1104,7,FALSE),\"\")","v":""},"","",""]
[null,null,null,null,{"$f":"IF(D719=\"\",\"\",VLOOKUP(CONCATENATE(C719,D719),Listas!$AT$2:$AV$1104,3,FALSE))","v":""},null,{"$f":"IF(OR(F719=\"\",E719=\"\"),\"\",VLOOKUP(CONCATENATE(E719,Listas!AZ716),Listas!$BC$3:$BI$15430,7,FALSE))","v":""},null,null,{"$f":"IF(G719=\"\",\"\",VLOOKUP(G719,Listas!$BM$3:$BN$16,2,FALSE)*100)","v":""},"",{"$f":"+IFERROR(VLOOKUP(E719,Listas!$CQ$2:$CW$1104,7,FALSE),\"\")","v":""},"","",""]
[null,null,null,null,{"$f":"IF(D720=\"\",\"\",VLOOKUP(CONCATENATE(C720,D720),Listas!$AT$2:$AV$1104,3,FALSE))","v":""},null,{"$f":"IF(OR(F720=\"\",E720=\"\"),\"\",VLOOKUP(CONCATENATE(E720,Listas!AZ717),Listas!$BC$3:$BI$15430,7,FALSE))","v":""},null,null,{"$f":"IF(G720=\"\",\"\",VLOOKUP(G720,Listas!$BM$3:$BN$16,2,FALSE)*100)","v":""},"",{"$f":"+IFERROR(VLOOKUP(E720,Listas!$CQ$2:$CW$1104,7,FALSE),\"\")","v":""},"","",""]
[null,null,null,null,{"$f":"IF(D721=\"\",\"\",VLOOKUP(CONCATENATE(C721,D721),Listas!$AT$2:$AV$1104,3,FALSE))","v":""},null,{"$f":"IF(OR(F721=\"\",E721=\"\"),\"\",VLOOKUP(CONCATENATE(E721,Listas!AZ718),Listas!$BC$3:$BI$15430,7,FALSE))","v":""},null,null,{"$f":"IF(G721=\"\",\"\",VLOOKUP(G721,Listas!$BM$3:$BN$16,2,FALSE)*100)","v":""},"",{"$f":"+IFERROR(VLOOKUP(E721,Listas!$CQ$2:$CW$1104,7,FALSE),\"\")","v":""},"","",""]
[null,null,null,null,{"$f":"IF(D722=\"\",\"\",VLOOKUP(CONCATENATE(C722,D722),Listas!$AT$2:$AV$1104,3,FALSE))","v":""},null,{"$f":"IF(OR(F722=\"\",E722=\"\"),\"\",VLOOKUP(CONCATENATE(E722,Listas!AZ719),Listas!$BC$3:$BI$15430,7,FALSE))","v":""},null,null,{"$f":"IF(G722=\"\",\"\",VLOOKUP(G722,Listas!$BM$3:$BN$16,2,FALSE)*100)","v":""},"",{"$f":"+IFERROR(VLOOKUP(E722,Listas!$CQ$2:$CW$1104,7,FALSE),\"\")","v":""},"","",""]
[null,null,null,null,{"$f":"IF(D723=\"\",\"\",VLOOKUP(CONCATENATE(C723,D723),Listas!$AT$2:$AV$1104,3,FALSE))","v":""},null,{"$f":"IF(OR(F723=\"\",E723=\"\"),\"\",VLOOKUP(CONCATENATE(E723,Listas!AZ720),Listas!$BC$3:$BI$15430,7,FALSE))","v":""},null,null,{"$f":"IF(G723=\"\",\"\",VLOOKUP(G723,Listas!$BM$3:$BN$16,2,FALSE)*100)","v":""},"",{"$f":"+IFERROR(VLOOKUP(E723,Listas!$CQ$2:$CW$1104,7,FALSE),\"\")","v":""},"","",""]
[null,null,null,null,{"$f":"IF(D724=\"\",\"\",VLOOKUP(CONCATENATE(C724,D724),Listas!$AT$2:$AV$1104,3,FALSE))","v":""},null,{"$f":"IF(OR(F724=\"\",E724=\"\"),\"\",VLOOKUP(CONCATENATE(E724,Listas!AZ721),Listas!$BC$3:$BI$15430,7,FALSE))","v":""},null,null,{"$f":"IF(G724=\"\",\"\",VLOOKUP(G724,Listas!$BM$3:$BN$16,2,FALSE)*100)","v":""},"",{"$f":"+IFERROR(VLOOKUP(E724,Listas!$CQ$2:$CW$1104,7,FALSE),\"\")","v":""},"","",""]
[null,null,null,null,{"$f":"IF(D725=\"\",\"\",VLOOKUP(CONCATENATE(C725,D725),Listas!$AT$2:$AV$1104,3,FALSE))","v":""},null,{"$f":"IF(OR(F725=\"\",E725=\"\"),\"\",VLOOKUP(CONCATENATE(E725,Listas!AZ722),Listas!$BC$3:$BI$15430,7,FALSE))","v":""},null,null,{"$f":"IF(G725=\"\",\"\",VLOOKUP(G725,Listas!$BM$3:$BN$16,2,FALSE)*100)","v":""},"",{"$f":"+IFERROR(VLOOKUP(E725,Listas!$CQ$2:$CW$1104,7,FALSE),\"\")","v":""},"","",""]
[null,null,null,null,{"$f":"IF(D726=\"\",\"\",VLOOKUP(CONCATENATE(C726,D726),Listas!$AT$2:$AV$1104,3,FALSE))","v":""},null,{"$f":"IF(OR(F726=\"\",E726=\"\"),\"\",VLOOKUP(CONCATENATE(E726,Listas!AZ723),Listas!$BC$3:$BI$15430,7,FALSE))","v":""},null,null,{"$f":"IF(G726=\"\",\"\",VLOOKUP(G726,Listas!$BM$3:$BN$16,2,FALSE)*100)","v":""},"",{"$f":"+IFERROR(VLOOKUP(E726,Listas!$CQ$2:$CW$1104,7,FALSE),\"\")","v":""},"","",""]
[null,null,null,null,{"$f":"IF(D727=\"\",\"\",VLOOKUP(CONCATENATE(C727,D727),Listas!$AT$2:$AV$1104,3,FALSE))","v":""},null,{"$f":"IF(OR(F727=\"\",E727=\"\"),\"\",VLOOKUP(CONCATENATE(E727,Listas!AZ724),Listas!$BC$3:$BI$15430,7,FALSE))","v":""},null,null,{"$f":"IF(G727=\"\",\"\",VLOOKUP(G727,Listas!$BM$3:$BN$16,2,FALSE)*100)","v":""},"",{"$f":"+IFERROR(VLOOKUP(E727,Listas!$CQ$2:$CW$1104,7,FALSE),\"\")","v":""},"","",""]
[null,null,null,null,{"$f":"IF(D728=\"\",\"\",VLOOKUP(CONCATENATE(C728,D728),Listas!$AT$2:$AV$1104,3,FALSE))","v":""},null,{"$f":"IF(OR(F728=\"\",E728=\"\"),\"\",VLOOKUP(CONCATENATE(E728,Listas!AZ725),Listas!$BC$3:$BI$15430,7,FALSE))","v":""},null,null,{"$f":"IF(G728=\"\",\"\",VLOOKUP(G728,Listas!$BM$3:$BN$16,2,FALSE)*100)","v":""},"",{"$f":"+IFERROR(VLOOKUP(E728,Listas!$CQ$2:$CW$1104,7,FALSE),\"\")","v":""},"","",""]
[null,null,null,null,{"$f":"IF(D729=\"\",\"\",VLOOKUP(CONCATENATE(C729,D729),Listas!$AT$2:$AV$1104,3,FALSE))","v":""},null,{"$f":"IF(OR(F729=\"\",E729=\"\"),\"\",VLOOKUP(CONCATENATE(E729,Listas!AZ726),Listas!$BC$3:$BI$15430,7,FALSE))","v":""},null,null,{"$f":"IF(G729=\"\",\"\",VLOOKUP(G729,Listas!$BM$3:$BN$16,2,FALSE)*100)","v":""},"",{"$f":"+IFERROR(VLOOKUP(E729,Listas!$CQ$2:$CW$1104,7,FALSE),\"\")","v":""},"","",""]
[null,null,null,null,{"$f":"IF(D730=\"\",\"\",VLOOKUP(CONCATENATE(C730,D730),Listas!$AT$2:$AV$1104,3,FALSE))","v":""},null,{"$f":"IF(OR(F730=\"\",E730=\"\"),\"\",VLOOKUP(CONCATENATE(E730,Listas!AZ727),Listas!$BC$3:$BI$15430,7,FALSE))","v":""},null,null,{"$f":"IF(G730=\"\",\"\",VLOOKUP(G730,Listas!$BM$3:$BN$16,2,FALSE)*100)","v":""},"",{"$f":"+IFERROR(VLOOKUP(E730,Listas!$CQ$2:$CW$1104,7,FALSE),\"\")","v":""},"","",""]
[null,null,null,null,{"$f":"IF(D731=\"\",\"\",VLOOKUP(CONCATENATE(C731,D731),Listas!$AT$2:$AV$1104,3,FALSE))","v":""},null,{"$f":"IF(OR(F731=\"\",E731=\"\"),\"\",VLOOKUP(CONCATENATE(E731,Listas!AZ728),Listas!$BC$3:$BI$15430,7,FALSE))","v":""},null,null,{"$f":"IF(G731=\"\",\"\",VLOOKUP(G731,Listas!$BM$3:$BN$16,2,FALSE)*100)","v":""},"",{"$f":"+IFERROR(VLOOKUP(E731,Listas!$CQ$2:$CW$1104,7,FALSE),\"\")","v":""},"","",""]
[null,null,null,null,{"$f":"IF(D732=\"\",\"\",VLOOKUP(CONCATENATE(C732,D732),Listas!$AT$2:$AV$1104,3,FALSE))","v":""},null,{"$f":"IF(OR(F732=\"\",E732=\"\"),\"\",VLOOKUP(CONCATENATE(E732,Listas!AZ729),Listas!$BC$3:$BI$15430,7,FALSE))","v":""},null,null,{"$f":"IF(G732=\"\",\"\",VLOOKUP(G732,Listas!$BM$3:$BN$16,2,FALSE)*100)","v":""},"",{"$f":"+IFERROR(VLOOKUP(E732,Listas!$CQ$2:$CW$1104,7,FALSE),\"\")","v":""},"","",""]
[null,null,null,null,{"$f":"IF(D733=\"\",\"\",VLOOKUP(CONCATENATE(C733,D733),Listas!$AT$2:$AV$1104,3,FALSE))","v":""},null,{"$f":"IF(OR(F733=\"\",E733=\"\"),\"\",VLOOKUP(CONCATENATE(E733,Listas!AZ730),Listas!$BC$3:$BI$15430,7,FALSE))","v":""},null,null,{"$f":"IF(G733=\"\",\"\",VLOOKUP(G733,Listas!$BM$3:$BN$16,2,FALSE)*100)","v":""},"",{"$f":"+IFERROR(VLOOKUP(E733,Listas!$CQ$2:$CW$1104,7,FALSE),\"\")","v":""},"","",""]
[null,null,null,null,{"$f":"IF(D734=\"\",\"\",VLOOKUP(CONCATENATE(C734,D734),Listas!$AT$2:$AV$1104,3,FALSE))","v":""},null,{"$f":"IF(OR(F734=\"\",E734=\"\"),\"\",VLOOKUP(CONCATENATE(E734,Listas!AZ731),Listas!$BC$3:$BI$15430,7,FALSE))","v":""},null,null,{"$f":"IF(G734=\"\",\"\",VLOOKUP(G734,Listas!$BM$3:$BN$16,2,FALSE)*100)","v":""},"",{"$f":"+IFERROR(VLOOKUP(E734,Listas!$CQ$2:$CW$1104,7,FALSE),\"\")","v":""},"","",""]
[null,null,null,null,{"$f":"IF(D735=\"\",\"\",VLOOKUP(CONCATENATE(C735,D735),Listas!$AT$2:$AV$1104,3,FALSE))","v":""},null,{"$f":"IF(OR(F735=\"\",E735=\"\"),\"\",VLOOKUP(CONCATENATE(E735,Listas!AZ732),Listas!$BC$3:$BI$15430,7,FALSE))","v":""},null,null,{"$f":"IF(G735=\"\",\"\",VLOOKUP(G735,Listas!$BM$3:$BN$16,2,FALSE)*100)","v":""},"",{"$f":"+IFERROR(VLOOKUP(E735,Listas!$CQ$2:$CW$1104,7,FALSE),\"\")","v":""},"","",""]
[null,null,null,null,{"$f":"IF(D736=\"\",\"\",VLOOKUP(CONCATENATE(C736,D736),Listas!$AT$2:$AV$1104,3,FALSE))","v":""},null,{"$f":"IF(OR(F736=\"\",E736=\"\"),\"\",VLOOKUP(CONCATENATE(E736,Listas!AZ733),Listas!$BC$3:$BI$15430,7,FALSE))","v":""},null,null,{"$f":"IF(G736=\"\",\"\",VLOOKUP(G736,Listas!$BM$3:$BN$16,2,FALSE)*100)","v":""},"",{"$f":"+IFERROR(VLOOKUP(E736,Listas!$CQ$2:$CW$1104,7,FALSE),\"\")","v":""},"","",""]
[null,null,null,null,{"$f":"IF(D737=\"\",\"\",VLOOKUP(CONCATENATE(C737,D737),Listas!$AT$2:$AV$1104,3,FALSE))","v":""},null,{"$f":"IF(OR(F737=\"\",E737=\"\"),\"\",VLOOKUP(CONCATENATE(E737,Listas!AZ734),Listas!$BC$3:$BI$15430,7,FALSE))","v":""},null,null,{"$f":"IF(G737=\"\",\"\",VLOOKUP(G737,Listas!$BM$3:$BN$16,2,FALSE)*100)","v":""},"",{"$f":"+IFERROR(VLOOKUP(E737,Listas!$CQ$2:$CW$1104,7,FALSE),\"\")","v":""},"","",""]
[null,null,null,null,{"$f":"IF(D738=\"\",\"\",VLOOKUP(CONCATENATE(C738,D738),Listas!$AT$2:$AV$1104,3,FALSE))","v":""},null,{"$f":"IF(OR(F738=\"\",E738=\"\"),\"\",VLOOKUP(CONCATENATE(E738,Listas!AZ735),Listas!$BC$3:$BI$15430,7,FALSE))","v":""},null,null,{"$f":"IF(G738=\"\",\"\",VLOOKUP(G738,Listas!$BM$3:$BN$16,2,FALSE)*100)","v":""},"",{"$f":"+IFERROR(VLOOKUP(E738,Listas!$CQ$2:$CW$1104,7,FALSE),\"\")","v":""},"","",""]
[null,null,null,null,{"$f":"IF(D739=\"\",\"\",VLOOKUP(CONCATENATE(C739,D739),Listas!$AT$2:$AV$1104,3,FALSE))","v":""},null,{"$f":"IF(OR(F739=\"\",E739=\"\"),\"\",VLOOKUP(CONCATENATE(E739,Listas!AZ736),Listas!$BC$3:$BI$15430,7,FALSE))","v":""},null,null,{"$f":"IF(G739=\"\",\"\",VLOOKUP(G739,Listas!$BM$3:$BN$16,2,FALSE)*100)","v":""},"",{"$f":"+IFERROR(VLOOKUP(E739,Listas!$CQ$2:$CW$1104,7,FALSE),\"\")","v":""},"","",""]
[null,null,null,null,{"$f":"IF(D740=\"\",\"\",VLOOKUP(CONCATENATE(C740,D740),Listas!$AT$2:$AV$1104,3,FALSE))","v":""},null,{"$f":"IF(OR(F740=\"\",E740=\"\"),\"\",VLOOKUP(CONCATENATE(E740,Listas!AZ737),Listas!$BC$3:$BI$15430,7,FALSE))","v":""},null,null,{"$f":"IF(G740=\"\",\"\",VLOOKUP(G740,Listas!$BM$3:$BN$16,2,FALSE)*100)","v":""},"",{"$f":"+IFERROR(VLOOKUP(E740,Listas!$CQ$2:$CW$1104,7,FALSE),\"\")","v":""},"","",""]
[null,null,null,null,{"$f":"IF(D741=\"\",\"\",VLOOKUP(CONCATENATE(C741,D741),Listas!$AT$2:$AV$1104,3,FALSE))","v":""},null,{"$f":"IF(OR(F741=\"\",E741=\"\"),\"\",VLOOKUP(CONCATENATE(E741,Listas!AZ738),Listas!$BC$3:$BI$15430,7,FALSE))","v":""},null,null,{"$f":"IF(G741=\"\",\"\",VLOOKUP(G741,Listas!$BM$3:$BN$16,2,FALSE)*100)","v":""},"",{"$f":"+IFERROR(VLOOKUP(E741,Listas!$CQ$2:$CW$1104,7,FALSE),\"\")","v":""},"","",""]
[null,null,null,null,{"$f":"IF(D742=\"\",\"\",VLOOKUP(CONCATENATE(C742,D742),Listas!$AT$2:$AV$1104,3,FALSE))","v":""},null,{"$f":"IF(OR(F742=\"\",E742=\"\"),\"\",VLOOKUP(CONCATENATE(E742,Listas!AZ739),Listas!$BC$3:$BI$15430,7,FALSE))","v":""},null,null,{"$f":"IF(G742=\"\",\"\",VLOOKUP(G742,Listas!$BM$3:$BN$16,2,FALSE)*100)","v":""},"",{"$f":"+IFERROR(VLOOKUP(E742,Listas!$CQ$2:$CW$1104,7,FALSE),\"\")","v":""},"","",""]
[null,null,null,null,{"$f":"IF(D743=\"\",\"\",VLOOKUP(CONCATENATE(C743,D743),Listas!$AT$2:$AV$1104,3,FALSE))","v":""},null,{"$f":"IF(OR(F743=\"\",E743=\"\"),\"\",VLOOKUP(CONCATENATE(E743,Listas!AZ740),Listas!$BC$3:$BI$15430,7,FALSE))","v":""},null,null,{"$f":"IF(G743=\"\",\"\",VLOOKUP(G743,Listas!$BM$3:$BN$16,2,FALSE)*100)","v":""},"",{"$f":"+IFERROR(VLOOKUP(E743,Listas!$CQ$2:$CW$1104,7,FALSE),\"\")","v":""},"","",""]
[null,null,null,null,{"$f":"IF(D744=\"\",\"\",VLOOKUP(CONCATENATE(C744,D744),Listas!$AT$2:$AV$1104,3,FALSE))","v":""},null,{"$f":"IF(OR(F744=\"\",E744=\"\"),\"\",VLOOKUP(CONCATENATE(E744,Listas!AZ741),Listas!$BC$3:$BI$15430,7,FALSE))","v":""},null,null,{"$f":"IF(G744=\"\",\"\",VLOOKUP(G744,Listas!$BM$3:$BN$16,2,FALSE)*100)","v":""},"",{"$f":"+IFERROR(VLOOKUP(E744,Listas!$CQ$2:$CW$1104,7,FALSE),\"\")","v":""},"","",""]
[null,null,null,null,{"$f":"IF(D745=\"\",\"\",VLOOKUP(CONCATENATE(C745,D745),Listas!$AT$2:$AV$1104,3,FALSE))","v":""},null,{"$f":"IF(OR(F745=\"\",E745=\"\"),\"\",VLOOKUP(CONCATENATE(E745,Listas!AZ742),Listas!$BC$3:$BI$15430,7,FALSE))","v":""},null,null,{"$f":"IF(G745=\"\",\"\",VLOOKUP(G745,Listas!$BM$3:$BN$16,2,FALSE)*100)","v":""},"",{"$f":"+IFERROR(VLOOKUP(E745,Listas!$CQ$2:$CW$1104,7,FALSE),\"\")","v":""},"","",""]
[null,null,null,null,{"$f":"IF(D746=\"\",\"\",VLOOKUP(CONCATENATE(C746,D746),Listas!$AT$2:$AV$1104,3,FALSE))","v":""},null,{"$f":"IF(OR(F746=\"\",E746=\"\"),\"\",VLOOKUP(CONCATENATE(E746,Listas!AZ743),Listas!$BC$3:$BI$15430,7,FALSE))","v":""},null,null,{"$f":"IF(G746=\"\",\"\",VLOOKUP(G746,Listas!$BM$3:$BN$16,2,FALSE)*100)","v":""},"",{"$f":"+IFERROR(VLOOKUP(E746,Listas!$CQ$2:$CW$1104,7,FALSE),\"\")","v":""},"","",""]
[null,null,null,null,{"$f":"IF(D747=\"\",\"\",VLOOKUP(CONCATENATE(C747,D747),Listas!$AT$2:$AV$1104,3,FALSE))","v":""},null,{"$f":"IF(OR(F747=\"\",E747=\"\"),\"\",VLOOKUP(CONCATENATE(E747,Listas!AZ744),Listas!$BC$3:$BI$15430,7,FALSE))","v":""},null,null,{"$f":"IF(G747=\"\",\"\",VLOOKUP(G747,Listas!$BM$3:$BN$16,2,FALSE)*100)","v":""},"",{"$f":"+IFERROR(VLOOKUP(E747,Listas!$CQ$2:$CW$1104,7,FALSE),\"\")","v":""},"","",""]
[null,null,null,null,{"$f":"IF(D748=\"\",\"\",VLOOKUP(CONCATENATE(C748,D748),Listas!$AT$2:$AV$1104,3,FALSE))","v":""},null,{"$f":"IF(OR(F748=\"\",E748=\"\"),\"\",VLOOKUP(CONCATENATE(E748,Listas!AZ745),Listas!$BC$3:$BI$15430,7,FALSE))","v":""},null,null,{"$f":"IF(G748=\"\",\"\",VLOOKUP(G748,Listas!$BM$3:$BN$16,2,FALSE)*100)","v":""},"",{"$f":"+IFERROR(VLOOKUP(E748,Listas!$CQ$2:$CW$1104,7,FALSE),\"\")","v":""},"","",""]
[null,null,null,null,{"$f":"IF(D749=\"\",\"\",VLOOKUP(CONCATENATE(C749,D749),Listas!$AT$2:$AV$1104,3,FALSE))","v":""},null,{"$f":"IF(OR(F749=\"\",E749=\"\"),\"\",VLOOKUP(CONCATENATE(E749,Listas!AZ746),Listas!$BC$3:$BI$15430,7,FALSE))","v":""},null,null,{"$f":"IF(G749=\"\",\"\",VLOOKUP(G749,Listas!$BM$3:$BN$16,2,FALSE)*100)","v":""},"",{"$f":"+IFERROR(VLOOKUP(E749,Listas!$CQ$2:$CW$1104,7,FALSE),\"\")","v":""},"","",""]
[null,null,null,null,{"$f":"IF(D750=\"\",\"\",VLOOKUP(CONCATENATE(C750,D750),Listas!$AT$2:$AV$1104,3,FALSE))","v":""},null,{"$f":"IF(OR(F750=\"\",E750=\"\"),\"\",VLOOKUP(CONCATENATE(E750,Listas!AZ747),Listas!$BC$3:$BI$15430,7,FALSE))","v":""},null,null,{"$f":"IF(G750=\"\",\"\",VLOOKUP(G750,Listas!$BM$3:$BN$16,2,FALSE)*100)","v":""},"",{"$f":"+IFERROR(VLOOKUP(E750,Listas!$CQ$2:$CW$1104,7,FALSE),\"\")","v":""},"","",""]
[null,null,null,null,{"$f":"IF(D751=\"\",\"\",VLOOKUP(CONCATENATE(C751,D751),Listas!$AT$2:$AV$1104,3,FALSE))","v":""},null,{"$f":"IF(OR(F751=\"\",E751=\"\"),\"\",VLOOKUP(CONCATENATE(E751,Listas!AZ748),Listas!$BC$3:$BI$15430,7,FALSE))","v":""},null,null,{"$f":"IF(G751=\"\",\"\",VLOOKUP(G751,Listas!$BM$3:$BN$16,2,FALSE)*100)","v":""},"",{"$f":"+IFERROR(VLOOKUP(E751,Listas!$CQ$2:$CW$1104,7,FALSE),\"\")","v":""},"","",""]
[null,null,null,null,{"$f":"IF(D752=\"\",\"\",VLOOKUP(CONCATENATE(C752,D752),Listas!$AT$2:$AV$1104,3,FALSE))","v":""},null,{"$f":"IF(OR(F752=\"\",E752=\"\"),\"\",VLOOKUP(CONCATENATE(E752,Listas!AZ749),Listas!$BC$3:$BI$15430,7,FALSE))","v":""},null,null,{"$f":"IF(G752=\"\",\"\",VLOOKUP(G752,Listas!$BM$3:$BN$16,2,FALSE)*100)","v":""},"",{"$f":"+IFERROR(VLOOKUP(E752,Listas!$CQ$2:$CW$1104,7,FALSE),\"\")","v":""},"","",""]
[null,null,null,null,{"$f":"IF(D753=\"\",\"\",VLOOKUP(CONCATENATE(C753,D753),Listas!$AT$2:$AV$1104,3,FALSE))","v":""},null,{"$f":"IF(OR(F753=\"\",E753=\"\"),\"\",VLOOKUP(CONCATENATE(E753,Listas!AZ750),Listas!$BC$3:$BI$15430,7,FALSE))","v":""},null,null,{"$f":"IF(G753=\"\",\"\",VLOOKUP(G753,Listas!$BM$3:$BN$16,2,FALSE)*100)","v":""},"",{"$f":"+IFERROR(VLOOKUP(E753,Listas!$CQ$2:$CW$1104,7,FALSE),\"\")","v":""},"","",""]
[null,null,null,null,{"$f":"IF(D754=\"\",\"\",VLOOKUP(CONCATENATE(C754,D754),Listas!$AT$2:$AV$1104,3,FALSE))","v":""},null,{"$f":"IF(OR(F754=\"\",E754=\"\"),\"\",VLOOKUP(CONCATENATE(E754,Listas!AZ751),Listas!$BC$3:$BI$15430,7,FALSE))","v":""},null,null,{"$f":"IF(G754=\"\",\"\",VLOOKUP(G754,Listas!$BM$3:$BN$16,2,FALSE)*100)","v":""},"",{"$f":"+IFERROR(VLOOKUP(E754,Listas!$CQ$2:$CW$1104,7,FALSE),\"\")","v":""},"","",""]
[null,null,null,null,{"$f":"IF(D755=\"\",\"\",VLOOKUP(CONCATENATE(C755,D755),Listas!$AT$2:$AV$1104,3,FALSE))","v":""},null,{"$f":"IF(OR(F755=\"\",E755=\"\"),\"\",VLOOKUP(CONCATENATE(E755,Listas!AZ752),Listas!$BC$3:$BI$15430,7,FALSE))","v":""},null,null,{"$f":"IF(G755=\"\",\"\",VLOOKUP(G755,Listas!$BM$3:$BN$16,2,FALSE)*100)","v":""},"",{"$f":"+IFERROR(VLOOKUP(E755,Listas!$CQ$2:$CW$1104,7,FALSE),\"\")","v":""},"","",""]
[null,null,null,null,{"$f":"IF(D756=\"\",\"\",VLOOKUP(CONCATENATE(C756,D756),Listas!$AT$2:$AV$1104,3,FALSE))","v":""},null,{"$f":"IF(OR(F756=\"\",E756=\"\"),\"\",VLOOKUP(CONCATENATE(E756,Listas!AZ753),Listas!$BC$3:$BI$15430,7,FALSE))","v":""},null,null,{"$f":"IF(G756=\"\",\"\",VLOOKUP(G756,Listas!$BM$3:$BN$16,2,FALSE)*100)","v":""},"",{"$f":"+IFERROR(VLOOKUP(E756,Listas!$CQ$2:$CW$1104,7,FALSE),\"\")","v":""},"","",""]
[null,null,null,null,{"$f":"IF(D757=\"\",\"\",VLOOKUP(CONCATENATE(C757,D757),Listas!$AT$2:$AV$1104,3,FALSE))","v":""},null,{"$f":"IF(OR(F757=\"\",E757=\"\"),\"\",VLOOKUP(CONCATENATE(E757,Listas!AZ754),Listas!$BC$3:$BI$15430,7,FALSE))","v":""},null,null,{"$f":"IF(G757=\"\",\"\",VLOOKUP(G757,Listas!$BM$3:$BN$16,2,FALSE)*100)","v":""},"",{"$f":"+IFERROR(VLOOKUP(E757,Listas!$CQ$2:$CW$1104,7,FALSE),\"\")","v":""},"","",""]
[null,null,null,null,{"$f":"IF(D758=\"\",\"\",VLOOKUP(CONCATENATE(C758,D758),Listas!$AT$2:$AV$1104,3,FALSE))","v":""},null,{"$f":"IF(OR(F758=\"\",E758=\"\"),\"\",VLOOKUP(CONCATENATE(E758,Listas!AZ755),Listas!$BC$3:$BI$15430,7,FALSE))","v":""},null,null,{"$f":"IF(G758=\"\",\"\",VLOOKUP(G758,Listas!$BM$3:$BN$16,2,FALSE)*100)","v":""},"",{"$f":"+IFERROR(VLOOKUP(E758,Listas!$CQ$2:$CW$1104,7,FALSE),\"\")","v":""},"","",""]
[null,null,null,null,{"$f":"IF(D759=\"\",\"\",VLOOKUP(CONCATENATE(C759,D759),Listas!$AT$2:$AV$1104,3,FALSE))","v":""},null,{"$f":"IF(OR(F759=\"\",E759=\"\"),\"\",VLOOKUP(CONCATENATE(E759,Listas!AZ756),Listas!$BC$3:$BI$15430,7,FALSE))","v":""},null,null,{"$f":"IF(G759=\"\",\"\",VLOOKUP(G759,Listas!$BM$3:$BN$16,2,FALSE)*100)","v":""},"",{"$f":"+IFERROR(VLOOKUP(E759,Listas!$CQ$2:$CW$1104,7,FALSE),\"\")","v":""},"","",""]
[null,null,null,null,{"$f":"IF(D760=\"\",\"\",VLOOKUP(CONCATENATE(C760,D760),Listas!$AT$2:$AV$1104,3,FALSE))","v":""},null,{"$f":"IF(OR(F760=\"\",E760=\"\"),\"\",VLOOKUP(CONCATENATE(E760,Listas!AZ757),Listas!$BC$3:$BI$15430,7,FALSE))","v":""},null,null,{"$f":"IF(G760=\"\",\"\",VLOOKUP(G760,Listas!$BM$3:$BN$16,2,FALSE)*100)","v":""},"",{"$f":"+IFERROR(VLOOKUP(E760,Listas!$CQ$2:$CW$1104,7,FALSE),\"\")","v":""},"","",""]
[null,null,null,null,{"$f":"IF(D761=\"\",\"\",VLOOKUP(CONCATENATE(C761,D761),Listas!$AT$2:$AV$1104,3,FALSE))","v":""},null,{"$f":"IF(OR(F761=\"\",E761=\"\"),\"\",VLOOKUP(CONCATENATE(E761,Listas!AZ758),Listas!$BC$3:$BI$15430,7,FALSE))","v":""},null,null,{"$f":"IF(G761=\"\",\"\",VLOOKUP(G761,Listas!$BM$3:$BN$16,2,FALSE)*100)","v":""},"",{"$f":"+IFERROR(VLOOKUP(E761,Listas!$CQ$2:$CW$1104,7,FALSE),\"\")","v":""},"","",""]
[null,null,null,null,{"$f":"IF(D762=\"\",\"\",VLOOKUP(CONCATENATE(C762,D762),Listas!$AT$2:$AV$1104,3,FALSE))","v":""},null,{"$f":"IF(OR(F762=\"\",E762=\"\"),\"\",VLOOKUP(CONCATENATE(E762,Listas!AZ759),Listas!$BC$3:$BI$15430,7,FALSE))","v":""},null,null,{"$f":"IF(G762=\"\",\"\",VLOOKUP(G762,Listas!$BM$3:$BN$16,2,FALSE)*100)","v":""},"",{"$f":"+IFERROR(VLOOKUP(E762,Listas!$CQ$2:$CW$1104,7,FALSE),\"\")","v":""},"","",""]
[null,null,null,null,{"$f":"IF(D763=\"\",\"\",VLOOKUP(CONCATENATE(C763,D763),Listas!$AT$2:$AV$1104,3,FALSE))","v":""},null,{"$f":"IF(OR(F763=\"\",E763=\"\"),\"\",VLOOKUP(CONCATENATE(E763,Listas!AZ760),Listas!$BC$3:$BI$15430,7,FALSE))","v":""},null,null,{"$f":"IF(G763=\"\",\"\",VLOOKUP(G763,Listas!$BM$3:$BN$16,2,FALSE)*100)","v":""},"",{"$f":"+IFERROR(VLOOKUP(E763,Listas!$CQ$2:$CW$1104,7,FALSE),\"\")","v":""},"","",""]
[null,null,null,null,{"$f":"IF(D764=\"\",\"\",VLOOKUP(CONCATENATE(C764,D764),Listas!$AT$2:$AV$1104,3,FALSE))","v":""},null,{"$f":"IF(OR(F764=\"\",E764=\"\"),\"\",VLOOKUP(CONCATENATE(E764,Listas!AZ761),Listas!$BC$3:$BI$15430,7,FALSE))","v":""},null,null,{"$f":"IF(G764=\"\",\"\",VLOOKUP(G764,Listas!$BM$3:$BN$16,2,FALSE)*100)","v":""},"",{"$f":"+IFERROR(VLOOKUP(E764,Listas!$CQ$2:$CW$1104,7,FALSE),\"\")","v":""},"","",""]
[null,null,null,null,{"$f":"IF(D765=\"\",\"\",VLOOKUP(CONCATENATE(C765,D765),Listas!$AT$2:$AV$1104,3,FALSE))","v":""},null,{"$f":"IF(OR(F765=\"\",E765=\"\"),\"\",VLOOKUP(CONCATENATE(E765,Listas!AZ762),Listas!$BC$3:$BI$15430,7,FALSE))","v":""},null,null,{"$f":"IF(G765=\"\",\"\",VLOOKUP(G765,Listas!$BM$3:$BN$16,2,FALSE)*100)","v":""},"",{"$f":"+IFERROR(VLOOKUP(E765,Listas!$CQ$2:$CW$1104,7,FALSE),\"\")","v":""},"","",""]
[null,null,null,null,{"$f":"IF(D766=\"\",\"\",VLOOKUP(CONCATENATE(C766,D766),Listas!$AT$2:$AV$1104,3,FALSE))","v":""},null,{"$f":"IF(OR(F766=\"\",E766=\"\"),\"\",VLOOKUP(CONCATENATE(E766,Listas!AZ763),Listas!$BC$3:$BI$15430,7,FALSE))","v":""},null,null,{"$f":"IF(G766=\"\",\"\",VLOOKUP(G766,Listas!$BM$3:$BN$16,2,FALSE)*100)","v":""},"",{"$f":"+IFERROR(VLOOKUP(E766,Listas!$CQ$2:$CW$1104,7,FALSE),\"\")","v":""},"","",""]
[null,null,null,null,{"$f":"IF(D767=\"\",\"\",VLOOKUP(CONCATENATE(C767,D767),Listas!$AT$2:$AV$1104,3,FALSE))","v":""},null,{"$f":"IF(OR(F767=\"\",E767=\"\"),\"\",VLOOKUP(CONCATENATE(E767,Listas!AZ764),Listas!$BC$3:$BI$15430,7,FALSE))","v":""},null,null,{"$f":"IF(G767=\"\",\"\",VLOOKUP(G767,Listas!$BM$3:$BN$16,2,FALSE)*100)","v":""},"",{"$f":"+IFERROR(VLOOKUP(E767,Listas!$CQ$2:$CW$1104,7,FALSE),\"\")","v":""},"","",""]
[null,null,null,null,{"$f":"IF(D768=\"\",\"\",VLOOKUP(CONCATENATE(C768,D768),Listas!$AT$2:$AV$1104,3,FALSE))","v":""},null,{"$f":"IF(OR(F768=\"\",E768=\"\"),\"\",VLOOKUP(CONCATENATE(E768,Listas!AZ765),Listas!$BC$3:$BI$15430,7,FALSE))","v":""},null,null,{"$f":"IF(G768=\"\",\"\",VLOOKUP(G768,Listas!$BM$3:$BN$16,2,FALSE)*100)","v":""},"",{"$f":"+IFERROR(VLOOKUP(E768,Listas!$CQ$2:$CW$1104,7,FALSE),\"\")","v":""},"","",""]
[null,null,null,null,{"$f":"IF(D769=\"\",\"\",VLOOKUP(CONCATENATE(C769,D769),Listas!$AT$2:$AV$1104,3,FALSE))","v":""},null,{"$f":"IF(OR(F769=\"\",E769=\"\"),\"\",VLOOKUP(CONCATENATE(E769,Listas!AZ766),Listas!$BC$3:$BI$15430,7,FALSE))","v":""},null,null,{"$f":"IF(G769=\"\",\"\",VLOOKUP(G769,Listas!$BM$3:$BN$16,2,FALSE)*100)","v":""},"",{"$f":"+IFERROR(VLOOKUP(E769,Listas!$CQ$2:$CW$1104,7,FALSE),\"\")","v":""},"","",""]
[null,null,null,null,{"$f":"IF(D770=\"\",\"\",VLOOKUP(CONCATENATE(C770,D770),Listas!$AT$2:$AV$1104,3,FALSE))","v":""},null,{"$f":"IF(OR(F770=\"\",E770=\"\"),\"\",VLOOKUP(CONCATENATE(E770,Listas!AZ767),Listas!$BC$3:$BI$15430,7,FALSE))","v":""},null,null,{"$f":"IF(G770=\"\",\"\",VLOOKUP(G770,Listas!$BM$3:$BN$16,2,FALSE)*100)","v":""},"",{"$f":"+IFERROR(VLOOKUP(E770,Listas!$CQ$2:$CW$1104,7,FALSE),\"\")","v":""},"","",""]
[null,null,null,null,{"$f":"IF(D771=\"\",\"\",VLOOKUP(CONCATENATE(C771,D771),Listas!$AT$2:$AV$1104,3,FALSE))","v":""},null,{"$f":"IF(OR(F771=\"\",E771=\"\"),\"\",VLOOKUP(CONCATENATE(E771,Listas!AZ768),Listas!$BC$3:$BI$15430,7,FALSE))","v":""},null,null,{"$f":"IF(G771=\"\",\"\",VLOOKUP(G771,Listas!$BM$3:$BN$16,2,FALSE)*100)","v":""},"",{"$f":"+IFERROR(VLOOKUP(E771,Listas!$CQ$2:$CW$1104,7,FALSE),\"\")","v":""},"","",""]
[null,null,null,null,{"$f":"IF(D772=\"\",\"\",VLOOKUP(CONCATENATE(C772,D772),Listas!$AT$2:$AV$1104,3,FALSE))","v":""},null,{"$f":"IF(OR(F772=\"\",E772=\"\"),\"\",VLOOKUP(CONCATENATE(E772,Listas!AZ769),Listas!$BC$3:$BI$15430,7,FALSE))","v":""},null,null,{"$f":"IF(G772=\"\",\"\",VLOOKUP(G772,Listas!$BM$3:$BN$16,2,FALSE)*100)","v":""},"",{"$f":"+IFERROR(VLOOKUP(E772,Listas!$CQ$2:$CW$1104,7,FALSE),\"\")","v":""},"","",""]
[null,null,null,null,{"$f":"IF(D773=\"\",\"\",VLOOKUP(CONCATENATE(C773,D773),Listas!$AT$2:$AV$1104,3,FALSE))","v":""},null,{"$f":"IF(OR(F773=\"\",E773=\"\"),\"\",VLOOKUP(CONCATENATE(E773,Listas!AZ770),Listas!$BC$3:$BI$15430,7,FALSE))","v":""},null,null,{"$f":"IF(G773=\"\",\"\",VLOOKUP(G773,Listas!$BM$3:$BN$16,2,FALSE)*100)","v":""},"",{"$f":"+IFERROR(VLOOKUP(E773,Listas!$CQ$2:$CW$1104,7,FALSE),\"\")","v":""},"","",""]
[null,null,null,null,{"$f":"IF(D774=\"\",\"\",VLOOKUP(CONCATENATE(C774,D774),Listas!$AT$2:$AV$1104,3,FALSE))","v":""},null,{"$f":"IF(OR(F774=\"\",E774=\"\"),\"\",VLOOKUP(CONCATENATE(E774,Listas!AZ771),Listas!$BC$3:$BI$15430,7,FALSE))","v":""},null,null,{"$f":"IF(G774=\"\",\"\",VLOOKUP(G774,Listas!$BM$3:$BN$16,2,FALSE)*100)","v":""},{"$f":"+IF(H774=\"\",\"\",IF(H774=\"Sí\",1,0)*100)","v":""},{"$f":"+IFERROR(VLOOKUP(E774,Listas!$CQ$2:$CW$1104,7,FALSE),\"\")","v":""},{"$f":"+IF(I774=\"\",\"\",IF(I774=\"Sí\",1,0)*100)","v":""},"",""]
[null,null,null,null,{"$f":"IF(D775=\"\",\"\",VLOOKUP(CONCATENATE(C775,D775),Listas!$AT$2:$AV$1104,3,FALSE))","v":""},null,{"$f":"IF(OR(F775=\"\",E775=\"\"),\"\",VLOOKUP(CONCATENATE(E775,Listas!AZ772),Listas!$BC$3:$BI$15430,7,FALSE))","v":""},null,null,{"$f":"IF(G775=\"\",\"\",VLOOKUP(G775,Listas!$BM$3:$BN$16,2,FALSE)*100)","v":""},"",{"$f":"+IFERROR(VLOOKUP(E775,Listas!$CQ$2:$CW$1104,7,FALSE),\"\")","v":""},"",{"$f":"IF(E775=\"\",\"\",SUMPRODUCT(J775:M775,$J$2:$M$2))","v":""},{"$f":"+IFERROR(J775*58%,\"\")","v":""}]
[null,null,null,null,{"$f":"IF(D776=\"\",\"\",VLOOKUP(CONCATENATE(C776,D776),Listas!$AT$2:$AV$1104,3,FALSE))","v":""},null,{"$f":"IF(OR(F776=\"\",E776=\"\"),\"\",VLOOKUP(CONCATENATE(E776,Listas!AZ773),Listas!$BC$3:$BI$15430,7,FALSE))","v":""},null,null,{"$f":"IF(G776=\"\",\"\",VLOOKUP(G776,Listas!$BM$3:$BN$16,2,FALSE)*100)","v":""},"",{"$f":"+IFERROR(VLOOKUP(E776,Listas!$CQ$2:$CW$1104,7,FALSE),\"\")","v":""},"","",""]
[null,null,null,null,{"$f":"IF(D777=\"\",\"\",VLOOKUP(CONCATENATE(C777,D777),Listas!$AT$2:$AV$1104,3,FALSE))","v":""},null,{"$f":"IF(OR(F777=\"\",E777=\"\"),\"\",VLOOKUP(CONCATENATE(E777,Listas!AZ774),Listas!$BC$3:$BI$15430,7,FALSE))","v":""},null,null,{"$f":"IF(G777=\"\",\"\",VLOOKUP(G777,Listas!$BM$3:$BN$16,2,FALSE)*100)","v":""},"",{"$f":"+IFERROR(VLOOKUP(E777,Listas!$CQ$2:$CW$1104,7,FALSE),\"\")","v":""},"","",""]
[null,null,null,null,{"$f":"IF(D778=\"\",\"\",VLOOKUP(CONCATENATE(C778,D778),Listas!$AT$2:$AV$1104,3,FALSE))","v":""},null,{"$f":"IF(OR(F778=\"\",E778=\"\"),\"\",VLOOKUP(CONCATENATE(E778,Listas!AZ775),Listas!$BC$3:$BI$15430,7,FALSE))","v":""},null,null,{"$f":"IF(G778=\"\",\"\",VLOOKUP(G778,Listas!$BM$3:$BN$16,2,FALSE)*100)","v":""},"",{"$f":"+IFERROR(VLOOKUP(E778,Listas!$CQ$2:$CW$1104,7,FALSE),\"\")","v":""},"","",""]
[null,null,null,null,{"$f":"IF(D779=\"\",\"\",VLOOKUP(CONCATENATE(C779,D779),Listas!$AT$2:$AV$1104,3,FALSE))","v":""},null,{"$f":"IF(OR(F779=\"\",E779=\"\"),\"\",VLOOKUP(CONCATENATE(E779,Listas!AZ776),Listas!$BC$3:$BI$15430,7,FALSE))","v":""},null,null,{"$f":"IF(G779=\"\",\"\",VLOOKUP(G779,Listas!$BM$3:$BN$16,2,FALSE)*100)","v":""},"",{"$f":"+IFERROR(VLOOKUP(E779,Listas!$CQ$2:$CW$1104,7,FALSE),\"\")","v":""},"","",""]
[null,null,null,null,{"$f":"IF(D780=\"\",\"\",VLOOKUP(CONCATENATE(C780,D780),Listas!$AT$2:$AV$1104,3,FALSE))","v":""},null,{"$f":"IF(OR(F780=\"\",E780=\"\"),\"\",VLOOKUP(CONCATENATE(E780,Listas!AZ777),Listas!$BC$3:$BI$15430,7,FALSE))","v":""},null,null,{"$f":"IF(G780=\"\",\"\",VLOOKUP(G780,Listas!$BM$3:$BN$16,2,FALSE)*100)","v":""},"",{"$f":"+IFERROR(VLOOKUP(E780,Listas!$CQ$2:$CW$1104,7,FALSE),\"\")","v":""},"","",""]
[null,null,null,null,{"$f":"IF(D781=\"\",\"\",VLOOKUP(CONCATENATE(C781,D781),Listas!$AT$2:$AV$1104,3,FALSE))","v":""},null,{"$f":"IF(OR(F781=\"\",E781=\"\"),\"\",VLOOKUP(CONCATENATE(E781,Listas!AZ778),Listas!$BC$3:$BI$15430,7,FALSE))","v":""},null,null,{"$f":"IF(G781=\"\",\"\",VLOOKUP(G781,Listas!$BM$3:$BN$16,2,FALSE)*100)","v":""},"",{"$f":"+IFERROR(VLOOKUP(E781,Listas!$CQ$2:$CW$1104,7,FALSE),\"\")","v":""},"","",""]
[null,null,null,null,{"$f":"IF(D782=\"\",\"\",VLOOKUP(CONCATENATE(C782,D782),Listas!$AT$2:$AV$1104,3,FALSE))","v":""},null,{"$f":"IF(OR(F782=\"\",E782=\"\"),\"\",VLOOKUP(CONCATENATE(E782,Listas!AZ779),Listas!$BC$3:$BI$15430,7,FALSE))","v":""},null,null,{"$f":"IF(G782=\"\",\"\",VLOOKUP(G782,Listas!$BM$3:$BN$16,2,FALSE)*100)","v":""},"",{"$f":"+IFERROR(VLOOKUP(E782,Listas!$CQ$2:$CW$1104,7,FALSE),\"\")","v":""},"","",""]
[null,null,null,null,{"$f":"IF(D783=\"\",\"\",VLOOKUP(CONCATENATE(C783,D783),Listas!$AT$2:$AV$1104,3,FALSE))","v":""},null,{"$f":"IF(OR(F783=\"\",E783=\"\"),\"\",VLOOKUP(CONCATENATE(E783,Listas!AZ780),Listas!$BC$3:$BI$15430,7,FALSE))","v":""},null,null,{"$f":"IF(G783=\"\",\"\",VLOOKUP(G783,Listas!$BM$3:$BN$16,2,FALSE)*100)","v":""},"",{"$f":"+IFERROR(VLOOKUP(E783,Listas!$CQ$2:$CW$1104,7,FALSE),\"\")","v":""},"","",""]
[null,null,null,null,{"$f":"IF(D784=\"\",\"\",VLOOKUP(CONCATENATE(C784,D784),Listas!$AT$2:$AV$1104,3,FALSE))","v":""},null,{"$f":"IF(OR(F784=\"\",E784=\"\"),\"\",VLOOKUP(CONCATENATE(E784,Listas!AZ781),Listas!$BC$3:$BI$15430,7,FALSE))","v":""},null,null,{"$f":"IF(G784=\"\",\"\",VLOOKUP(G784,Listas!$BM$3:$BN$16,2,FALSE)*100)","v":""},"",{"$f":"+IFERROR(VLOOKUP(E784,Listas!$CQ$2:$CW$1104,7,FALSE),\"\")","v":""},"","",""]
[null,null,null,null,{"$f":"IF(D785=\"\",\"\",VLOOKUP(CONCATENATE(C785,D785),Listas!$AT$2:$AV$1104,3,FALSE))","v":""},null,{"$f":"IF(OR(F785=\"\",E785=\"\"),\"\",VLOOKUP(CONCATENATE(E785,Listas!AZ782),Listas!$BC$3:$BI$15430,7,FALSE))","v":""},null,null,{"$f":"IF(G785=\"\",\"\",VLOOKUP(G785,Listas!$BM$3:$BN$16,2,FALSE)*100)","v":""},"",{"$f":"+IFERROR(VLOOKUP(E785,Listas!$CQ$2:$CW$1104,7,FALSE),\"\")","v":""},"","",""]
[null,null,null,null,{"$f":"IF(D786=\"\",\"\",VLOOKUP(CONCATENATE(C786,D786),Listas!$AT$2:$AV$1104,3,FALSE))","v":""},null,{"$f":"IF(OR(F786=\"\",E786=\"\"),\"\",VLOOKUP(CONCATENATE(E786,Listas!AZ783),Listas!$BC$3:$BI$15430,7,FALSE))","v":""},null,null,{"$f":"IF(G786=\"\",\"\",VLOOKUP(G786,Listas!$BM$3:$BN$16,2,FALSE)*100)","v":""},"",{"$f":"+IFERROR(VLOOKUP(E786,Listas!$CQ$2:$CW$1104,7,FALSE),\"\")","v":""},"","",""]
[null,null,null,null,{"$f":"IF(D787=\"\",\"\",VLOOKUP(CONCATENATE(C787,D787),Listas!$AT$2:$AV$1104,3,FALSE))","v":""},null,{"$f":"IF(OR(F787=\"\",E787=\"\"),\"\",VLOOKUP(CONCATENATE(E787,Listas!AZ784),Listas!$BC$3:$BI$15430,7,FALSE))","v":""},null,null,{"$f":"IF(G787=\"\",\"\",VLOOKUP(G787,Listas!$BM$3:$BN$16,2,FALSE)*100)","v":""},"",{"$f":"+IFERROR(VLOOKUP(E787,Listas!$CQ$2:$CW$1104,7,FALSE),\"\")","v":""},"","",""]
[null,null,null,null,{"$f":"IF(D788=\"\",\"\",VLOOKUP(CONCATENATE(C788,D788),Listas!$AT$2:$AV$1104,3,FALSE))","v":""},null,{"$f":"IF(OR(F788=\"\",E788=\"\"),\"\",VLOOKUP(CONCATENATE(E788,Listas!AZ785),Listas!$BC$3:$BI$15430,7,FALSE))","v":""},null,null,{"$f":"IF(G788=\"\",\"\",VLOOKUP(G788,Listas!$BM$3:$BN$16,2,FALSE)*100)","v":""},"",{"$f":"+IFERROR(VLOOKUP(E788,Listas!$CQ$2:$CW$1104,7,FALSE),\"\")","v":""},"","",""]
[null,null,null,null,{"$f":"IF(D789=\"\",\"\",VLOOKUP(CONCATENATE(C789,D789),Listas!$AT$2:$AV$1104,3,FALSE))","v":""},null,{"$f":"IF(OR(F789=\"\",E789=\"\"),\"\",VLOOKUP(CONCATENATE(E789,Listas!AZ786),Listas!$BC$3:$BI$15430,7,FALSE))","v":""},null,null,{"$f":"IF(G789=\"\",\"\",VLOOKUP(G789,Listas!$BM$3:$BN$16,2,FALSE)*100)","v":""},"",{"$f":"+IFERROR(VLOOKUP(E789,Listas!$CQ$2:$CW$1104,7,FALSE),\"\")","v":""},"","",""]
[null,null,null,null,{"$f":"IF(D790=\"\",\"\",VLOOKUP(CONCATENATE(C790,D790),Listas!$AT$2:$AV$1104,3,FALSE))","v":""},null,{"$f":"IF(OR(F790=\"\",E790=\"\"),\"\",VLOOKUP(CONCATENATE(E790,Listas!AZ787),Listas!$BC$3:$BI$15430,7,FALSE))","v":""},null,null,{"$f":"IF(G790=\"\",\"\",VLOOKUP(G790,Listas!$BM$3:$BN$16,2,FALSE)*100)","v":""},"",{"$f":"+IFERROR(VLOOKUP(E790,Listas!$CQ$2:$CW$1104,7,FALSE),\"\")","v":""},"","",""]
[null,null,null,null,{"$f":"IF(D791=\"\",\"\",VLOOKUP(CONCATENATE(C791,D791),Listas!$AT$2:$AV$1104,3,FALSE))","v":""},null,{"$f":"IF(OR(F791=\"\",E791=\"\"),\"\",VLOOKUP(CONCATENATE(E791,Listas!AZ788),Listas!$BC$3:$BI$15430,7,FALSE))","v":""},null,null,{"$f":"IF(G791=\"\",\"\",VLOOKUP(G791,Listas!$BM$3:$BN$16,2,FALSE)*100)","v":""},"",{"$f":"+IFERROR(VLOOKUP(E791,Listas!$CQ$2:$CW$1104,7,FALSE),\"\")","v":""},"","",""]
[null,null,null,null,{"$f":"IF(D792=\"\",\"\",VLOOKUP(CONCATENATE(C792,D792),Listas!$AT$2:$AV$1104,3,FALSE))","v":""},null,{"$f":"IF(OR(F792=\"\",E792=\"\"),\"\",VLOOKUP(CONCATENATE(E792,Listas!AZ789),Listas!$BC$3:$BI$15430,7,FALSE))","v":""},null,null,{"$f":"IF(G792=\"\",\"\",VLOOKUP(G792,Listas!$BM$3:$BN$16,2,FALSE)*100)","v":""},"",{"$f":"+IFERROR(VLOOKUP(E792,Listas!$CQ$2:$CW$1104,7,FALSE),\"\")","v":""},"","",""]
[null,null,null,null,{"$f":"IF(D793=\"\",\"\",VLOOKUP(CONCATENATE(C793,D793),Listas!$AT$2:$AV$1104,3,FALSE))","v":""},null,{"$f":"IF(OR(F793=\"\",E793=\"\"),\"\",VLOOKUP(CONCATENATE(E793,Listas!AZ790),Listas!$BC$3:$BI$15430,7,FALSE))","v":""},null,null,{"$f":"IF(G793=\"\",\"\",VLOOKUP(G793,Listas!$BM$3:$BN$16,2,FALSE)*100)","v":""},"",{"$f":"+IFERROR(VLOOKUP(E793,Listas!$CQ$2:$CW$1104,7,FALSE),\"\")","v":""},"","",""]
[null,null,null,null,{"$f":"IF(D794=\"\",\"\",VLOOKUP(CONCATENATE(C794,D794),Listas!$AT$2:$AV$1104,3,FALSE))","v":""},null,{"$f":"IF(OR(F794=\"\",E794=\"\"),\"\",VLOOKUP(CONCATENATE(E794,Listas!AZ791),Listas!$BC$3:$BI$15430,7,FALSE))","v":""},null,null,{"$f":"IF(G794=\"\",\"\",VLOOKUP(G794,Listas!$BM$3:$BN$16,2,FALSE)*100)","v":""},"",{"$f":"+IFERROR(VLOOKUP(E794,Listas!$CQ$2:$CW$1104,7,FALSE),\"\")","v":""},"","",""]
[null,null,null,null,{"$f":"IF(D795=\"\",\"\",VLOOKUP(CONCATENATE(C795,D795),Listas!$AT$2:$AV$1104,3,FALSE))","v":""},null,{"$f":"IF(OR(F795=\"\",E795=\"\"),\"\",VLOOKUP(CONCATENATE(E795,Listas!AZ792),Listas!$BC$3:$BI$15430,7,FALSE))","v":""},null,null,{"$f":"IF(G795=\"\",\"\",VLOOKUP(G795,Listas!$BM$3:$BN$16,2,FALSE)*100)","v":""},"",{"$f":"+IFERROR(VLOOKUP(E795,Listas!$CQ$2:$CW$1104,7,FALSE),\"\")","v":""},"","",""]
[null,null,null,null,{"$f":"IF(D796=\"\",\"\",VLOOKUP(CONCATENATE(C796,D796),Listas!$AT$2:$AV$1104,3,FALSE))","v":""},null,{"$f":"IF(OR(F796=\"\",E796=\"\"),\"\",VLOOKUP(CONCATENATE(E796,Listas!AZ793),Listas!$BC$3:$BI$15430,7,FALSE))","v":""},null,null,{"$f":"IF(G796=\"\",\"\",VLOOKUP(G796,Listas!$BM$3:$BN$16,2,FALSE)*100)","v":""},"",{"$f":"+IFERROR(VLOOKUP(E796,Listas!$CQ$2:$CW$1104,7,FALSE),\"\")","v":""},"","",""]
[null,null,null,null,{"$f":"IF(D797=\"\",\"\",VLOOKUP(CONCATENATE(C797,D797),Listas!$AT$2:$AV$1104,3,FALSE))","v":""},null,{"$f":"IF(OR(F797=\"\",E797=\"\"),\"\",VLOOKUP(CONCATENATE(E797,Listas!AZ794),Listas!$BC$3:$BI$15430,7,FALSE))","v":""},null,null,{"$f":"IF(G797=\"\",\"\",VLOOKUP(G797,Listas!$BM$3:$BN$16,2,FALSE)*100)","v":""},"",{"$f":"+IFERROR(VLOOKUP(E797,Listas!$CQ$2:$CW$1104,7,FALSE),\"\")","v":""},"","",""]
[null,null,null,null,{"$f":"IF(D798=\"\",\"\",VLOOKUP(CONCATENATE(C798,D798),Listas!$AT$2:$AV$1104,3,FALSE))","v":""},null,{"$f":"IF(OR(F798=\"\",E798=\"\"),\"\",VLOOKUP(CONCATENATE(E798,Listas!AZ795),Listas!$BC$3:$BI$15430,7,FALSE))","v":""},null,null,{"$f":"IF(G798=\"\",\"\",VLOOKUP(G798,Listas!$BM$3:$BN$16,2,FALSE)*100)","v":""},"",{"$f":"+IFERROR(VLOOKUP(E798,Listas!$CQ$2:$CW$1104,7,FALSE),\"\")","v":""},"","",""]
[null,null,null,null,{"$f":"IF(D799=\"\",\"\",VLOOKUP(CONCATENATE(C799,D799),Listas!$AT$2:$AV$1104,3,FALSE))","v":""},null,{"$f":"IF(OR(F799=\"\",E799=\"\"),\"\",VLOOKUP(CONCATENATE(E799,Listas!AZ796),Listas!$BC$3:$BI$15430,7,FALSE))","v":""},null,null,{"$f":"IF(G799=\"\",\"\",VLOOKUP(G799,Listas!$BM$3:$BN$16,2,FALSE)*100)","v":""},"",{"$f":"+IFERROR(VLOOKUP(E799,Listas!$CQ$2:$CW$1104,7,FALSE),\"\")","v":""},"","",""]
[null,null,null,null,{"$f":"IF(D800=\"\",\"\",VLOOKUP(CONCATENATE(C800,D800),Listas!$AT$2:$AV$1104,3,FALSE))","v":""},null,{"$f":"IF(OR(F800=\"\",E800=\"\"),\"\",VLOOKUP(CONCATENATE(E800,Listas!AZ797),Listas!$BC$3:$BI$15430,7,FALSE))","v":""},null,null,{"$f":"IF(G800=\"\",\"\",VLOOKUP(G800,Listas!$BM$3:$BN$16,2,FALSE)*100)","v":""},"",{"$f":"+IFERROR(VLOOKUP(E800,Listas!$CQ$2:$CW$1104,7,FALSE),\"\")","v":""},"","",""]
[null,null,null,null,{"$f":"IF(D801=\"\",\"\",VLOOKUP(CONCATENATE(C801,D801),Listas!$AT$2:$AV$1104,3,FALSE))","v":""},null,{"$f":"IF(OR(F801=\"\",E801=\"\"),\"\",VLOOKUP(CONCATENATE(E801,Listas!AZ798),Listas!$BC$3:$BI$15430,7,FALSE))","v":""},null,null,{"$f":"IF(G801=\"\",\"\",VLOOKUP(G801,Listas!$BM$3:$BN$16,2,FALSE)*100)","v":""},"",{"$f":"+IFERROR(VLOOKUP(E801,Listas!$CQ$2:$CW$1104,7,FALSE),\"\")","v":""},"","",""]
[null,null,null,null,{"$f":"IF(D802=\"\",\"\",VLOOKUP(CONCATENATE(C802,D802),Listas!$AT$2:$AV$1104,3,FALSE))","v":""},null,{"$f":"IF(OR(F802=\"\",E802=\"\"),\"\",VLOOKUP(CONCATENATE(E802,Listas!AZ799),Listas!$BC$3:$BI$15430,7,FALSE))","v":""},null,null,{"$f":"IF(G802=\"\",\"\",VLOOKUP(G802,Listas!$BM$3:$BN$16,2,FALSE)*100)","v":""},"",{"$f":"+IFERROR(VLOOKUP(E802,Listas!$CQ$2:$CW$1104,7,FALSE),\"\")","v":""},"","",""]
[null,null,null,null,{"$f":"IF(D803=\"\",\"\",VLOOKUP(CONCATENATE(C803,D803),Listas!$AT$2:$AV$1104,3,FALSE))","v":""},null,{"$f":"IF(OR(F803=\"\",E803=\"\"),\"\",VLOOKUP(CONCATENATE(E803,Listas!AZ800),Listas!$BC$3:$BI$15430,7,FALSE))","v":""},null,null,{"$f":"IF(G803=\"\",\"\",VLOOKUP(G803,Listas!$BM$3:$BN$16,2,FALSE)*100)","v":""},"",{"$f":"+IFERROR(VLOOKUP(E803,Listas!$CQ$2:$CW$1104,7,FALSE),\"\")","v":""},"","",""]
[null,null,null,null,{"$f":"IF(D804=\"\",\"\",VLOOKUP(CONCATENATE(C804,D804),Listas!$AT$2:$AV$1104,3,FALSE))","v":""},null,{"$f":"IF(OR(F804=\"\",E804=\"\"),\"\",VLOOKUP(CONCATENATE(E804,Listas!AZ801),Listas!$BC$3:$BI$15430,7,FALSE))","v":""},null,null,{"$f":"IF(G804=\"\",\"\",VLOOKUP(G804,Listas!$BM$3:$BN$16,2,FALSE)*100)","v":""},"",{"$f":"+IFERROR(VLOOKUP(E804,Listas!$CQ$2:$CW$1104,7,FALSE),\"\")","v":""},"","",""]
[null,null,null,null,{"$f":"IF(D805=\"\",\"\",VLOOKUP(CONCATENATE(C805,D805),Listas!$AT$2:$AV$1104,3,FALSE))","v":""},null,{"$f":"IF(OR(F805=\"\",E805=\"\"),\"\",VLOOKUP(CONCATENATE(E805,Listas!AZ802),Listas!$BC$3:$BI$15430,7,FALSE))","v":""},null,null,{"$f":"IF(G805=\"\",\"\",VLOOKUP(G805,Listas!$BM$3:$BN$16,2,FALSE)*100)","v":""},"",{"$f":"+IFERROR(VLOOKUP(E805,Listas!$CQ$2:$CW$1104,7,FALSE),\"\")","v":""},"","",""]
[null,null,null,null,{"$f":"IF(D806=\"\",\"\",VLOOKUP(CONCATENATE(C806,D806),Listas!$AT$2:$AV$1104,3,FALSE))","v":""},null,{"$f":"IF(OR(F806=\"\",E806=\"\"),\"\",VLOOKUP(CONCATENATE(E806,Listas!AZ803),Listas!$BC$3:$BI$15430,7,FALSE))","v":""},null,null,{"$f":"IF(G806=\"\",\"\",VLOOKUP(G806,Listas!$BM$3:$BN$16,2,FALSE)*100)","v":""},"",{"$f":"+IFERROR(VLOOKUP(E806,Listas!$CQ$2:$CW$1104,7,FALSE),\"\")","v":""},"","",""]
[null,null,null,null,{"$f":"IF(D807=\"\",\"\",VLOOKUP(CONCATENATE(C807,D807),Listas!$AT$2:$AV$1104,3,FALSE))","v":""},null,{"$f":"IF(OR(F807=\"\",E807=\"\"),\"\",VLOOKUP(CONCATENATE(E807,Listas!AZ804),Listas!$BC$3:$BI$15430,7,FALSE))","v":""},null,null,{"$f":"IF(G807=\"\",\"\",VLOOKUP(G807,Listas!$BM$3:$BN$16,2,FALSE)*100)","v":""},"",{"$f":"+IFERROR(VLOOKUP(E807,Listas!$CQ$2:$CW$1104,7,FALSE),\"\")","v":""},"","",""]
[null,null,null,null,{"$f":"IF(D808=\"\",\"\",VLOOKUP(CONCATENATE(C808,D808),Listas!$AT$2:$AV$1104,3,FALSE))","v":""},null,{"$f":"IF(OR(F808=\"\",E808=\"\"),\"\",VLOOKUP(CONCATENATE(E808,Listas!AZ805),Listas!$BC$3:$BI$15430,7,FALSE))","v":""},null,null,{"$f":"IF(G808=\"\",\"\",VLOOKUP(G808,Listas!$BM$3:$BN$16,2,FALSE)*100)","v":""},"",{"$f":"+IFERROR(VLOOKUP(E808,Listas!$CQ$2:$CW$1104,7,FALSE),\"\")","v":""},"","",""]
[null,null,null,null,{"$f":"IF(D809=\"\",\"\",VLOOKUP(CONCATENATE(C809,D809),Listas!$AT$2:$AV$1104,3,FALSE))","v":""},null,{"$f":"IF(OR(F809=\"\",E809=\"\"),\"\",VLOOKUP(CONCATENATE(E809,Listas!AZ806),Listas!$BC$3:$BI$15430,7,FALSE))","v":""},null,null,{"$f":"IF(G809=\"\",\"\",VLOOKUP(G809,Listas!$BM$3:$BN$16,2,FALSE)*100)","v":""},"",{"$f":"+IFERROR(VLOOKUP(E809,Listas!$CQ$2:$CW$1104,7,FALSE),\"\")","v":""},"","",""]
[null,null,null,null,{"$f":"IF(D810=\"\",\"\",VLOOKUP(CONCATENATE(C810,D810),Listas!$AT$2:$AV$1104,3,FALSE))","v":""},null,{"$f":"IF(OR(F810=\"\",E810=\"\"),\"\",VLOOKUP(CONCATENATE(E810,Listas!AZ807),Listas!$BC$3:$BI$15430,7,FALSE))","v":""},null,null,{"$f":"IF(G810=\"\",\"\",VLOOKUP(G810,Listas!$BM$3:$BN$16,2,FALSE)*100)","v":""},"",{"$f":"+IFERROR(VLOOKUP(E810,Listas!$CQ$2:$CW$1104,7,FALSE),\"\")","v":""},"","",""]
[null,null,null,null,{"$f":"IF(D811=\"\",\"\",VLOOKUP(CONCATENATE(C811,D811),Listas!$AT$2:$AV$1104,3,FALSE))","v":""},null,{"$f":"IF(OR(F811=\"\",E811=\"\"),\"\",VLOOKUP(CONCATENATE(E811,Listas!AZ808),Listas!$BC$3:$BI$15430,7,FALSE))","v":""},null,null,{"$f":"IF(G811=\"\",\"\",VLOOKUP(G811,Listas!$BM$3:$BN$16,2,FALSE)*100)","v":""},"",{"$f":"+IFERROR(VLOOKUP(E811,Listas!$CQ$2:$CW$1104,7,FALSE),\"\")","v":""},"","",""]
[null,null,null,null,{"$f":"IF(D812=\"\",\"\",VLOOKUP(CONCATENATE(C812,D812),Listas!$AT$2:$AV$1104,3,FALSE))","v":""},null,{"$f":"IF(OR(F812=\"\",E812=\"\"),\"\",VLOOKUP(CONCATENATE(E812,Listas!AZ809),Listas!$BC$3:$BI$15430,7,FALSE))","v":""},null,null,{"$f":"IF(G812=\"\",\"\",VLOOKUP(G812,Listas!$BM$3:$BN$16,2,FALSE)*100)","v":""},"",{"$f":"+IFERROR(VLOOKUP(E812,Listas!$CQ$2:$CW$1104,7,FALSE),\"\")","v":""},"","",""]
[null,null,null,null,{"$f":"IF(D813=\"\",\"\",VLOOKUP(CONCATENATE(C813,D813),Listas!$AT$2:$AV$1104,3,FALSE))","v":""},null,{"$f":"IF(OR(F813=\"\",E813=\"\"),\"\",VLOOKUP(CONCATENATE(E813,Listas!AZ810),Listas!$BC$3:$BI$15430,7,FALSE))","v":""},null,null,{"$f":"IF(G813=\"\",\"\",VLOOKUP(G813,Listas!$BM$3:$BN$16,2,FALSE)*100)","v":""},"",{"$f":"+IFERROR(VLOOKUP(E813,Listas!$CQ$2:$CW$1104,7,FALSE),\"\")","v":""},"","",""]
[null,null,null,null,{"$f":"IF(D814=\"\",\"\",VLOOKUP(CONCATENATE(C814,D814),Listas!$AT$2:$AV$1104,3,FALSE))","v":""},null,{"$f":"IF(OR(F814=\"\",E814=\"\"),\"\",VLOOKUP(CONCATENATE(E814,Listas!AZ811),Listas!$BC$3:$BI$15430,7,FALSE))","v":""},null,null,{"$f":"IF(G814=\"\",\"\",VLOOKUP(G814,Listas!$BM$3:$BN$16,2,FALSE)*100)","v":""},"",{"$f":"+IFERROR(VLOOKUP(E814,Listas!$CQ$2:$CW$1104,7,FALSE),\"\")","v":""},"","",""]
[null,null,null,null,{"$f":"IF(D815=\"\",\"\",VLOOKUP(CONCATENATE(C815,D815),Listas!$AT$2:$AV$1104,3,FALSE))","v":""},null,{"$f":"IF(OR(F815=\"\",E815=\"\"),\"\",VLOOKUP(CONCATENATE(E815,Listas!AZ812),Listas!$BC$3:$BI$15430,7,FALSE))","v":""},null,null,{"$f":"IF(G815=\"\",\"\",VLOOKUP(G815,Listas!$BM$3:$BN$16,2,FALSE)*100)","v":""},"",{"$f":"+IFERROR(VLOOKUP(E815,Listas!$CQ$2:$CW$1104,7,FALSE),\"\")","v":""},"","",""]
[null,null,null,null,{"$f":"IF(D816=\"\",\"\",VLOOKUP(CONCATENATE(C816,D816),Listas!$AT$2:$AV$1104,3,FALSE))","v":""},null,{"$f":"IF(OR(F816=\"\",E816=\"\"),\"\",VLOOKUP(CONCATENATE(E816,Listas!AZ813),Listas!$BC$3:$BI$15430,7,FALSE))","v":""},null,null,{"$f":"IF(G816=\"\",\"\",VLOOKUP(G816,Listas!$BM$3:$BN$16,2,FALSE)*100)","v":""},"",{"$f":"+IFERROR(VLOOKUP(E816,Listas!$CQ$2:$CW$1104,7,FALSE),\"\")","v":""},"","",""]
[null,null,null,null,{"$f":"IF(D817=\"\",\"\",VLOOKUP(CONCATENATE(C817,D817),Listas!$AT$2:$AV$1104,3,FALSE))","v":""},null,{"$f":"IF(OR(F817=\"\",E817=\"\"),\"\",VLOOKUP(CONCATENATE(E817,Listas!AZ814),Listas!$BC$3:$BI$15430,7,FALSE))","v":""},null,null,{"$f":"IF(G817=\"\",\"\",VLOOKUP(G817,Listas!$BM$3:$BN$16,2,FALSE)*100)","v":""},"",{"$f":"+IFERROR(VLOOKUP(E817,Listas!$CQ$2:$CW$1104,7,FALSE),\"\")","v":""},"","",""]
[null,null,null,null,{"$f":"IF(D818=\"\",\"\",VLOOKUP(CONCATENATE(C818,D818),Listas!$AT$2:$AV$1104,3,FALSE))","v":""},null,{"$f":"IF(OR(F818=\"\",E818=\"\"),\"\",VLOOKUP(CONCATENATE(E818,Listas!AZ815),Listas!$BC$3:$BI$15430,7,FALSE))","v":""},null,null,{"$f":"IF(G818=\"\",\"\",VLOOKUP(G818,Listas!$BM$3:$BN$16,2,FALSE)*100)","v":""},"",{"$f":"+IFERROR(VLOOKUP(E818,Listas!$CQ$2:$CW$1104,7,FALSE),\"\")","v":""},"","",""]
[null,null,null,null,{"$f":"IF(D819=\"\",\"\",VLOOKUP(CONCATENATE(C819,D819),Listas!$AT$2:$AV$1104,3,FALSE))","v":""},null,{"$f":"IF(OR(F819=\"\",E819=\"\"),\"\",VLOOKUP(CONCATENATE(E819,Listas!AZ816),Listas!$BC$3:$BI$15430,7,FALSE))","v":""},null,null,{"$f":"IF(G819=\"\",\"\",VLOOKUP(G819,Listas!$BM$3:$BN$16,2,FALSE)*100)","v":""},"",{"$f":"+IFERROR(VLOOKUP(E819,Listas!$CQ$2:$CW$1104,7,FALSE),\"\")","v":""},"","",""]
[null,null,null,null,{"$f":"IF(D820=\"\",\"\",VLOOKUP(CONCATENATE(C820,D820),Listas!$AT$2:$AV$1104,3,FALSE))","v":""},null,{"$f":"IF(OR(F820=\"\",E820=\"\"),\"\",VLOOKUP(CONCATENATE(E820,Listas!AZ817),Listas!$BC$3:$BI$15430,7,FALSE))","v":""},null,null,{"$f":"IF(G820=\"\",\"\",VLOOKUP(G820,Listas!$BM$3:$BN$16,2,FALSE)*100)","v":""},"",{"$f":"+IFERROR(VLOOKUP(E820,Listas!$CQ$2:$CW$1104,7,FALSE),\"\")","v":""},"","",""]
[null,null,null,null,{"$f":"IF(D821=\"\",\"\",VLOOKUP(CONCATENATE(C821,D821),Listas!$AT$2:$AV$1104,3,FALSE))","v":""},null,{"$f":"IF(OR(F821=\"\",E821=\"\"),\"\",VLOOKUP(CONCATENATE(E821,Listas!AZ818),Listas!$BC$3:$BI$15430,7,FALSE))","v":""},null,null,{"$f":"IF(G821=\"\",\"\",VLOOKUP(G821,Listas!$BM$3:$BN$16,2,FALSE)*100)","v":""},"",{"$f":"+IFERROR(VLOOKUP(E821,Listas!$CQ$2:$CW$1104,7,FALSE),\"\")","v":""},"","",""]
[null,null,null,null,{"$f":"IF(D822=\"\",\"\",VLOOKUP(CONCATENATE(C822,D822),Listas!$AT$2:$AV$1104,3,FALSE))","v":""},null,{"$f":"IF(OR(F822=\"\",E822=\"\"),\"\",VLOOKUP(CONCATENATE(E822,Listas!AZ819),Listas!$BC$3:$BI$15430,7,FALSE))","v":""},null,null,{"$f":"IF(G822=\"\",\"\",VLOOKUP(G822,Listas!$BM$3:$BN$16,2,FALSE)*100)","v":""},"",{"$f":"+IFERROR(VLOOKUP(E822,Listas!$CQ$2:$CW$1104,7,FALSE),\"\")","v":""},"","",""]
[null,null,null,null,{"$f":"IF(D823=\"\",\"\",VLOOKUP(CONCATENATE(C823,D823),Listas!$AT$2:$AV$1104,3,FALSE))","v":""},null,{"$f":"IF(OR(F823=\"\",E823=\"\"),\"\",VLOOKUP(CONCATENATE(E823,Listas!AZ820),Listas!$BC$3:$BI$15430,7,FALSE))","v":""},null,null,{"$f":"IF(G823=\"\",\"\",VLOOKUP(G823,Listas!$BM$3:$BN$16,2,FALSE)*100)","v":""},"",{"$f":"+IFERROR(VLOOKUP(E823,Listas!$CQ$2:$CW$1104,7,FALSE),\"\")","v":""},"","",""]
[null,null,null,null,{"$f":"IF(D824=\"\",\"\",VLOOKUP(CONCATENATE(C824,D824),Listas!$AT$2:$AV$1104,3,FALSE))","v":""},null,{"$f":"IF(OR(F824=\"\",E824=\"\"),\"\",VLOOKUP(CONCATENATE(E824,Listas!AZ821),Listas!$BC$3:$BI$15430,7,FALSE))","v":""},null,null,{"$f":"IF(G824=\"\",\"\",VLOOKUP(G824,Listas!$BM$3:$BN$16,2,FALSE)*100)","v":""},"",{"$f":"+IFERROR(VLOOKUP(E824,Listas!$CQ$2:$CW$1104,7,FALSE),\"\")","v":""},"","",""]
[null,null,null,null,{"$f":"IF(D825=\"\",\"\",VLOOKUP(CONCATENATE(C825,D825),Listas!$AT$2:$AV$1104,3,FALSE))","v":""},null,{"$f":"IF(OR(F825=\"\",E825=\"\"),\"\",VLOOKUP(CONCATENATE(E825,Listas!AZ822),Listas!$BC$3:$BI$15430,7,FALSE))","v":""},null,null,{"$f":"IF(G825=\"\",\"\",VLOOKUP(G825,Listas!$BM$3:$BN$16,2,FALSE)*100)","v":""},"",{"$f":"+IFERROR(VLOOKUP(E825,Listas!$CQ$2:$CW$1104,7,FALSE),\"\")","v":""},"","",""]
[null,null,null,null,{"$f":"IF(D826=\"\",\"\",VLOOKUP(CONCATENATE(C826,D826),Listas!$AT$2:$AV$1104,3,FALSE))","v":""},null,{"$f":"IF(OR(F826=\"\",E826=\"\"),\"\",VLOOKUP(CONCATENATE(E826,Listas!AZ823),Listas!$BC$3:$BI$15430,7,FALSE))","v":""},null,null,{"$f":"IF(G826=\"\",\"\",VLOOKUP(G826,Listas!$BM$3:$BN$16,2,FALSE)*100)","v":""},"",{"$f":"+IFERROR(VLOOKUP(E826,Listas!$CQ$2:$CW$1104,7,FALSE),\"\")","v":""},"","",""]
[null,null,null,null,{"$f":"IF(D827=\"\",\"\",VLOOKUP(CONCATENATE(C827,D827),Listas!$AT$2:$AV$1104,3,FALSE))","v":""},null,{"$f":"IF(OR(F827=\"\",E827=\"\"),\"\",VLOOKUP(CONCATENATE(E827,Listas!AZ824),Listas!$BC$3:$BI$15430,7,FALSE))","v":""},null,null,{"$f":"IF(G827=\"\",\"\",VLOOKUP(G827,Listas!$BM$3:$BN$16,2,FALSE)*100)","v":""},"",{"$f":"+IFERROR(VLOOKUP(E827,Listas!$CQ$2:$CW$1104,7,FALSE),\"\")","v":""},"","",""]
[null,null,null,null,{"$f":"IF(D828=\"\",\"\",VLOOKUP(CONCATENATE(C828,D828),Listas!$AT$2:$AV$1104,3,FALSE))","v":""},null,{"$f":"IF(OR(F828=\"\",E828=\"\"),\"\",VLOOKUP(CONCATENATE(E828,Listas!AZ825),Listas!$BC$3:$BI$15430,7,FALSE))","v":""},null,null,{"$f":"IF(G828=\"\",\"\",VLOOKUP(G828,Listas!$BM$3:$BN$16,2,FALSE)*100)","v":""},"",{"$f":"+IFERROR(VLOOKUP(E828,Listas!$CQ$2:$CW$1104,7,FALSE),\"\")","v":""},"","",""]
[null,null,null,null,{"$f":"IF(D829=\"\",\"\",VLOOKUP(CONCATENATE(C829,D829),Listas!$AT$2:$AV$1104,3,FALSE))","v":""},null,{"$f":"IF(OR(F829=\"\",E829=\"\"),\"\",VLOOKUP(CONCATENATE(E829,Listas!AZ826),Listas!$BC$3:$BI$15430,7,FALSE))","v":""},null,null,{"$f":"IF(G829=\"\",\"\",VLOOKUP(G829,Listas!$BM$3:$BN$16,2,FALSE)*100)","v":""},"",{"$f":"+IFERROR(VLOOKUP(E829,Listas!$CQ$2:$CW$1104,7,FALSE),\"\")","v":""},"","",""]
[null,null,null,null,{"$f":"IF(D830=\"\",\"\",VLOOKUP(CONCATENATE(C830,D830),Listas!$AT$2:$AV$1104,3,FALSE))","v":""},null,{"$f":"IF(OR(F830=\"\",E830=\"\"),\"\",VLOOKUP(CONCATENATE(E830,Listas!AZ827),Listas!$BC$3:$BI$15430,7,FALSE))","v":""},null,null,{"$f":"IF(G830=\"\",\"\",VLOOKUP(G830,Listas!$BM$3:$BN$16,2,FALSE)*100)","v":""},"",{"$f":"+IFERROR(VLOOKUP(E830,Listas!$CQ$2:$CW$1104,7,FALSE),\"\")","v":""},"","",""]
[null,null,null,null,{"$f":"IF(D831=\"\",\"\",VLOOKUP(CONCATENATE(C831,D831),Listas!$AT$2:$AV$1104,3,FALSE))","v":""},null,{"$f":"IF(OR(F831=\"\",E831=\"\"),\"\",VLOOKUP(CONCATENATE(E831,Listas!AZ828),Listas!$BC$3:$BI$15430,7,FALSE))","v":""},null,null,{"$f":"IF(G831=\"\",\"\",VLOOKUP(G831,Listas!$BM$3:$BN$16,2,FALSE)*100)","v":""},"",{"$f":"+IFERROR(VLOOKUP(E831,Listas!$CQ$2:$CW$1104,7,FALSE),\"\")","v":""},"","",""]
[null,null,null,null,{"$f":"IF(D832=\"\",\"\",VLOOKUP(CONCATENATE(C832,D832),Listas!$AT$2:$AV$1104,3,FALSE))","v":""},null,{"$f":"IF(OR(F832=\"\",E832=\"\"),\"\",VLOOKUP(CONCATENATE(E832,Listas!AZ829),Listas!$BC$3:$BI$15430,7,FALSE))","v":""},null,null,{"$f":"IF(G832=\"\",\"\",VLOOKUP(G832,Listas!$BM$3:$BN$16,2,FALSE)*100)","v":""},"",{"$f":"+IFERROR(VLOOKUP(E832,Listas!$CQ$2:$CW$1104,7,FALSE),\"\")","v":""},"","",""]
[null,null,null,null,{"$f":"IF(D833=\"\",\"\",VLOOKUP(CONCATENATE(C833,D833),Listas!$AT$2:$AV$1104,3,FALSE))","v":""},null,{"$f":"IF(OR(F833=\"\",E833=\"\"),\"\",VLOOKUP(CONCATENATE(E833,Listas!AZ830),Listas!$BC$3:$BI$15430,7,FALSE))","v":""},null,null,{"$f":"IF(G833=\"\",\"\",VLOOKUP(G833,Listas!$BM$3:$BN$16,2,FALSE)*100)","v":""},"",{"$f":"+IFERROR(VLOOKUP(E833,Listas!$CQ$2:$CW$1104,7,FALSE),\"\")","v":""},"","",""]
[null,null,null,null,{"$f":"IF(D834=\"\",\"\",VLOOKUP(CONCATENATE(C834,D834),Listas!$AT$2:$AV$1104,3,FALSE))","v":""},null,{"$f":"IF(OR(F834=\"\",E834=\"\"),\"\",VLOOKUP(CONCATENATE(E834,Listas!AZ831),Listas!$BC$3:$BI$15430,7,FALSE))","v":""},null,null,{"$f":"IF(G834=\"\",\"\",VLOOKUP(G834,Listas!$BM$3:$BN$16,2,FALSE)*100)","v":""},"",{"$f":"+IFERROR(VLOOKUP(E834,Listas!$CQ$2:$CW$1104,7,FALSE),\"\")","v":""},"","",""]
[null,null,null,null,{"$f":"IF(D835=\"\",\"\",VLOOKUP(CONCATENATE(C835,D835),Listas!$AT$2:$AV$1104,3,FALSE))","v":""},null,{"$f":"IF(OR(F835=\"\",E835=\"\"),\"\",VLOOKUP(CONCATENATE(E835,Listas!AZ832),Listas!$BC$3:$BI$15430,7,FALSE))","v":""},null,null,{"$f":"IF(G835=\"\",\"\",VLOOKUP(G835,Listas!$BM$3:$BN$16,2,FALSE)*100)","v":""},"",{"$f":"+IFERROR(VLOOKUP(E835,Listas!$CQ$2:$CW$1104,7,FALSE),\"\")","v":""},"","",""]
[null,null,null,null,{"$f":"IF(D836=\"\",\"\",VLOOKUP(CONCATENATE(C836,D836),Listas!$AT$2:$AV$1104,3,FALSE))","v":""},null,{"$f":"IF(OR(F836=\"\",E836=\"\"),\"\",VLOOKUP(CONCATENATE(E836,Listas!AZ833),Listas!$BC$3:$BI$15430,7,FALSE))","v":""},null,null,{"$f":"IF(G836=\"\",\"\",VLOOKUP(G836,Listas!$BM$3:$BN$16,2,FALSE)*100)","v":""},"",{"$f":"+IFERROR(VLOOKUP(E836,Listas!$CQ$2:$CW$1104,7,FALSE),\"\")","v":""},"","",""]
[null,null,null,null,{"$f":"IF(D837=\"\",\"\",VLOOKUP(CONCATENATE(C837,D837),Listas!$AT$2:$AV$1104,3,FALSE))","v":""},null,{"$f":"IF(OR(F837=\"\",E837=\"\"),\"\",VLOOKUP(CONCATENATE(E837,Listas!AZ834),Listas!$BC$3:$BI$15430,7,FALSE))","v":""},null,null,{"$f":"IF(G837=\"\",\"\",VLOOKUP(G837,Listas!$BM$3:$BN$16,2,FALSE)*100)","v":""},"",{"$f":"+IFERROR(VLOOKUP(E837,Listas!$CQ$2:$CW$1104,7,FALSE),\"\")","v":""},"","",""]
[null,null,null,null,{"$f":"IF(D838=\"\",\"\",VLOOKUP(CONCATENATE(C838,D838),Listas!$AT$2:$AV$1104,3,FALSE))","v":""},null,{"$f":"IF(OR(F838=\"\",E838=\"\"),\"\",VLOOKUP(CONCATENATE(E838,Listas!AZ835),Listas!$BC$3:$BI$15430,7,FALSE))","v":""},null,null,{"$f":"IF(G838=\"\",\"\",VLOOKUP(G838,Listas!$BM$3:$BN$16,2,FALSE)*100)","v":""},{"$f":"+IF(H838=\"\",\"\",IF(H838=\"Sí\",1,0)*100)","v":""},{"$f":"+IFERROR(VLOOKUP(E838,Listas!$CQ$2:$CW$1104,7,FALSE),\"\")","v":""},{"$f":"+IF(I838=\"\",\"\",IF(I838=\"Sí\",1,0)*100)","v":""},"",""]
[null,null,null,null,{"$f":"IF(D839=\"\",\"\",VLOOKUP(CONCATENATE(C839,D839),Listas!$AT$2:$AV$1104,3,FALSE))","v":""},null,{"$f":"IF(OR(F839=\"\",E839=\"\"),\"\",VLOOKUP(CONCATENATE(E839,Listas!AZ836),Listas!$BC$3:$BI$15430,7,FALSE))","v":""},null,null,{"$f":"IF(G839=\"\",\"\",VLOOKUP(G839,Listas!$BM$3:$BN$16,2,FALSE)*100)","v":""},"",{"$f":"+IFERROR(VLOOKUP(E839,Listas!$CQ$2:$CW$1104,7,FALSE),\"\")","v":""},"",{"$f":"IF(E839=\"\",\"\",SUMPRODUCT(J839:M839,$J$2:$M$2))","v":""},{"$f":"+IFERROR(J839*58%,\"\")","v":""}]
[null,null,null,null,{"$f":"IF(D840=\"\",\"\",VLOOKUP(CONCATENATE(C840,D840),Listas!$AT$2:$AV$1104,3,FALSE))","v":""},null,{"$f":"IF(OR(F840=\"\",E840=\"\"),\"\",VLOOKUP(CONCATENATE(E840,Listas!AZ837),Listas!$BC$3:$BI$15430,7,FALSE))","v":""},null,null,{"$f":"IF(G840=\"\",\"\",VLOOKUP(G840,Listas!$BM$3:$BN$16,2,FALSE)*100)","v":""},"",{"$f":"+IFERROR(VLOOKUP(E840,Listas!$CQ$2:$CW$1104,7,FALSE),\"\")","v":""},"","",""]
[null,null,null,null,{"$f":"IF(D841=\"\",\"\",VLOOKUP(CONCATENATE(C841,D841),Listas!$AT$2:$AV$1104,3,FALSE))","v":""},null,{"$f":"IF(OR(F841=\"\",E841=\"\"),\"\",VLOOKUP(CONCATENATE(E841,Listas!AZ838),Listas!$BC$3:$BI$15430,7,FALSE))","v":""},null,null,{"$f":"IF(G841=\"\",\"\",VLOOKUP(G841,Listas!$BM$3:$BN$16,2,FALSE)*100)","v":""},"",{"$f":"+IFERROR(VLOOKUP(E841,Listas!$CQ$2:$CW$1104,7,FALSE),\"\")","v":""},"","",""]
[null,null,null,null,{"$f":"IF(D842=\"\",\"\",VLOOKUP(CONCATENATE(C842,D842),Listas!$AT$2:$AV$1104,3,FALSE))","v":""},null,{"$f":"IF(OR(F842=\"\",E842=\"\"),\"\",VLOOKUP(CONCATENATE(E842,Listas!AZ839),Listas!$BC$3:$BI$15430,7,FALSE))","v":""},null,null,{"$f":"IF(G842=\"\",\"\",VLOOKUP(G842,Listas!$BM$3:$BN$16,2,FALSE)*100)","v":""},"",{"$f":"+IFERROR(VLOOKUP(E842,Listas!$CQ$2:$CW$1104,7,FALSE),\"\")","v":""},"","",""]
[null,null,null,null,{"$f":"IF(D843=\"\",\"\",VLOOKUP(CONCATENATE(C843,D843),Listas!$AT$2:$AV$1104,3,FALSE))","v":""},null,{"$f":"IF(OR(F843=\"\",E843=\"\"),\"\",VLOOKUP(CONCATENATE(E843,Listas!AZ840),Listas!$BC$3:$BI$15430,7,FALSE))","v":""},null,null,{"$f":"IF(G843=\"\",\"\",VLOOKUP(G843,Listas!$BM$3:$BN$16,2,FALSE)*100)","v":""},"",{"$f":"+IFERROR(VLOOKUP(E843,Listas!$CQ$2:$CW$1104,7,FALSE),\"\")","v":""},"","",""]
[null,null,null,null,{"$f":"IF(D844=\"\",\"\",VLOOKUP(CONCATENATE(C844,D844),Listas!$AT$2:$AV$1104,3,FALSE))","v":""},null,{"$f":"IF(OR(F844=\"\",E844=\"\"),\"\",VLOOKUP(CONCATENATE(E844,Listas!AZ841),Listas!$BC$3:$BI$15430,7,FALSE))","v":""},null,null,{"$f":"IF(G844=\"\",\"\",VLOOKUP(G844,Listas!$BM$3:$BN$16,2,FALSE)*100)","v":""},"",{"$f":"+IFERROR(VLOOKUP(E844,Listas!$CQ$2:$CW$1104,7,FALSE),\"\")","v":""},"","",""]
[null,null,null,null,{"$f":"IF(D845=\"\",\"\",VLOOKUP(CONCATENATE(C845,D845),Listas!$AT$2:$AV$1104,3,FALSE))","v":""},null,{"$f":"IF(OR(F845=\"\",E845=\"\"),\"\",VLOOKUP(CONCATENATE(E845,Listas!AZ842),Listas!$BC$3:$BI$15430,7,FALSE))","v":""},null,null,{"$f":"IF(G845=\"\",\"\",VLOOKUP(G845,Listas!$BM$3:$BN$16,2,FALSE)*100)","v":""},"",{"$f":"+IFERROR(VLOOKUP(E845,Listas!$CQ$2:$CW$1104,7,FALSE),\"\")","v":""},"","",""]
[null,null,null,null,{"$f":"IF(D846=\"\",\"\",VLOOKUP(CONCATENATE(C846,D846),Listas!$AT$2:$AV$1104,3,FALSE))","v":""},null,{"$f":"IF(OR(F846=\"\",E846=\"\"),\"\",VLOOKUP(CONCATENATE(E846,Listas!AZ843),Listas!$BC$3:$BI$15430,7,FALSE))","v":""},null,null,{"$f":"IF(G846=\"\",\"\",VLOOKUP(G846,Listas!$BM$3:$BN$16,2,FALSE)*100)","v":""},"",{"$f":"+IFERROR(VLOOKUP(E846,Listas!$CQ$2:$CW$1104,7,FALSE),\"\")","v":""},"","",""]
[null,null,null,null,{"$f":"IF(D847=\"\",\"\",VLOOKUP(CONCATENATE(C847,D847),Listas!$AT$2:$AV$1104,3,FALSE))","v":""},null,{"$f":"IF(OR(F847=\"\",E847=\"\"),\"\",VLOOKUP(CONCATENATE(E847,Listas!AZ844),Listas!$BC$3:$BI$15430,7,FALSE))","v":""},null,null,{"$f":"IF(G847=\"\",\"\",VLOOKUP(G847,Listas!$BM$3:$BN$16,2,FALSE)*100)","v":""},"",{"$f":"+IFERROR(VLOOKUP(E847,Listas!$CQ$2:$CW$1104,7,FALSE),\"\")","v":""},"","",""]
[null,null,null,null,{"$f":"IF(D848=\"\",\"\",VLOOKUP(CONCATENATE(C848,D848),Listas!$AT$2:$AV$1104,3,FALSE))","v":""},null,{"$f":"IF(OR(F848=\"\",E848=\"\"),\"\",VLOOKUP(CONCATENATE(E848,Listas!AZ845),Listas!$BC$3:$BI$15430,7,FALSE))","v":""},null,null,{"$f":"IF(G848=\"\",\"\",VLOOKUP(G848,Listas!$BM$3:$BN$16,2,FALSE)*100)","v":""},"",{"$f":"+IFERROR(VLOOKUP(E848,Listas!$CQ$2:$CW$1104,7,FALSE),\"\")","v":""},"","",""]
[null,null,null,null,{"$f":"IF(D849=\"\",\"\",VLOOKUP(CONCATENATE(C849,D849),Listas!$AT$2:$AV$1104,3,FALSE))","v":""},null,{"$f":"IF(OR(F849=\"\",E849=\"\"),\"\",VLOOKUP(CONCATENATE(E849,Listas!AZ846),Listas!$BC$3:$BI$15430,7,FALSE))","v":""},null,null,{"$f":"IF(G849=\"\",\"\",VLOOKUP(G849,Listas!$BM$3:$BN$16,2,FALSE)*100)","v":""},"",{"$f":"+IFERROR(VLOOKUP(E849,Listas!$CQ$2:$CW$1104,7,FALSE),\"\")","v":""},"","",""]
[null,null,null,null,{"$f":"IF(D850=\"\",\"\",VLOOKUP(CONCATENATE(C850,D850),Listas!$AT$2:$AV$1104,3,FALSE))","v":""},null,{"$f":"IF(OR(F850=\"\",E850=\"\"),\"\",VLOOKUP(CONCATENATE(E850,Listas!AZ847),Listas!$BC$3:$BI$15430,7,FALSE))","v":""},null,null,{"$f":"IF(G850=\"\",\"\",VLOOKUP(G850,Listas!$BM$3:$BN$16,2,FALSE)*100)","v":""},"",{"$f":"+IFERROR(VLOOKUP(E850,Listas!$CQ$2:$CW$1104,7,FALSE),\"\")","v":""},"","",""]
[null,null,null,null,{"$f":"IF(D851=\"\",\"\",VLOOKUP(CONCATENATE(C851,D851),Listas!$AT$2:$AV$1104,3,FALSE))","v":""},null,{"$f":"IF(OR(F851=\"\",E851=\"\"),\"\",VLOOKUP(CONCATENATE(E851,Listas!AZ848),Listas!$BC$3:$BI$15430,7,FALSE))","v":""},null,null,{"$f":"IF(G851=\"\",\"\",VLOOKUP(G851,Listas!$BM$3:$BN$16,2,FALSE)*100)","v":""},"",{"$f":"+IFERROR(VLOOKUP(E851,Listas!$CQ$2:$CW$1104,7,FALSE),\"\")","v":""},"","",""]
[null,null,null,null,{"$f":"IF(D852=\"\",\"\",VLOOKUP(CONCATENATE(C852,D852),Listas!$AT$2:$AV$1104,3,FALSE))","v":""},null,{"$f":"IF(OR(F852=\"\",E852=\"\"),\"\",VLOOKUP(CONCATENATE(E852,Listas!AZ849),Listas!$BC$3:$BI$15430,7,FALSE))","v":""},null,null,{"$f":"IF(G852=\"\",\"\",VLOOKUP(G852,Listas!$BM$3:$BN$16,2,FALSE)*100)","v":""},"",{"$f":"+IFERROR(VLOOKUP(E852,Listas!$CQ$2:$CW$1104,7,FALSE),\"\")","v":""},"","",""]
[null,null,null,null,{"$f":"IF(D853=\"\",\"\",VLOOKUP(CONCATENATE(C853,D853),Listas!$AT$2:$AV$1104,3,FALSE))","v":""},null,{"$f":"IF(OR(F853=\"\",E853=\"\"),\"\",VLOOKUP(CONCATENATE(E853,Listas!AZ850),Listas!$BC$3:$BI$15430,7,FALSE))","v":""},null,null,{"$f":"IF(G853=\"\",\"\",VLOOKUP(G853,Listas!$BM$3:$BN$16,2,FALSE)*100)","v":""},"",{"$f":"+IFERROR(VLOOKUP(E853,Listas!$CQ$2:$CW$1104,7,FALSE),\"\")","v":""},"","",""]
[null,null,null,null,{"$f":"IF(D854=\"\",\"\",VLOOKUP(CONCATENATE(C854,D854),Listas!$AT$2:$AV$1104,3,FALSE))","v":""},null,{"$f":"IF(OR(F854=\"\",E854=\"\"),\"\",VLOOKUP(CONCATENATE(E854,Listas!AZ851),Listas!$BC$3:$BI$15430,7,FALSE))","v":""},null,null,{"$f":"IF(G854=\"\",\"\",VLOOKUP(G854,Listas!$BM$3:$BN$16,2,FALSE)*100)","v":""},"",{"$f":"+IFERROR(VLOOKUP(E854,Listas!$CQ$2:$CW$1104,7,FALSE),\"\")","v":""},"","",""]
[null,null,null,null,{"$f":"IF(D855=\"\",\"\",VLOOKUP(CONCATENATE(C855,D855),Listas!$AT$2:$AV$1104,3,FALSE))","v":""},null,{"$f":"IF(OR(F855=\"\",E855=\"\"),\"\",VLOOKUP(CONCATENATE(E855,Listas!AZ852),Listas!$BC$3:$BI$15430,7,FALSE))","v":""},null,null,{"$f":"IF(G855=\"\",\"\",VLOOKUP(G855,Listas!$BM$3:$BN$16,2,FALSE)*100)","v":""},"",{"$f":"+IFERROR(VLOOKUP(E855,Listas!$CQ$2:$CW$1104,7,FALSE),\"\")","v":""},"","",""]
[null,null,null,null,{"$f":"IF(D856=\"\",\"\",VLOOKUP(CONCATENATE(C856,D856),Listas!$AT$2:$AV$1104,3,FALSE))","v":""},null,{"$f":"IF(OR(F856=\"\",E856=\"\"),\"\",VLOOKUP(CONCATENATE(E856,Listas!AZ853),Listas!$BC$3:$BI$15430,7,FALSE))","v":""},null,null,{"$f":"IF(G856=\"\",\"\",VLOOKUP(G856,Listas!$BM$3:$BN$16,2,FALSE)*100)","v":""},"",{"$f":"+IFERROR(VLOOKUP(E856,Listas!$CQ$2:$CW$1104,7,FALSE),\"\")","v":""},"","",""]
[null,null,null,null,{"$f":"IF(D857=\"\",\"\",VLOOKUP(CONCATENATE(C857,D857),Listas!$AT$2:$AV$1104,3,FALSE))","v":""},null,{"$f":"IF(OR(F857=\"\",E857=\"\"),\"\",VLOOKUP(CONCATENATE(E857,Listas!AZ854),Listas!$BC$3:$BI$15430,7,FALSE))","v":""},null,null,{"$f":"IF(G857=\"\",\"\",VLOOKUP(G857,Listas!$BM$3:$BN$16,2,FALSE)*100)","v":""},"",{"$f":"+IFERROR(VLOOKUP(E857,Listas!$CQ$2:$CW$1104,7,FALSE),\"\")","v":""},"","",""]
[null,null,null,null,{"$f":"IF(D858=\"\",\"\",VLOOKUP(CONCATENATE(C858,D858),Listas!$AT$2:$AV$1104,3,FALSE))","v":""},null,{"$f":"IF(OR(F858=\"\",E858=\"\"),\"\",VLOOKUP(CONCATENATE(E858,Listas!AZ855),Listas!$BC$3:$BI$15430,7,FALSE))","v":""},null,null,{"$f":"IF(G858=\"\",\"\",VLOOKUP(G858,Listas!$BM$3:$BN$16,2,FALSE)*100)","v":""},"",{"$f":"+IFERROR(VLOOKUP(E858,Listas!$CQ$2:$CW$1104,7,FALSE),\"\")","v":""},"","",""]
[null,null,null,null,{"$f":"IF(D859=\"\",\"\",VLOOKUP(CONCATENATE(C859,D859),Listas!$AT$2:$AV$1104,3,FALSE))","v":""},null,{"$f":"IF(OR(F859=\"\",E859=\"\"),\"\",VLOOKUP(CONCATENATE(E859,Listas!AZ856),Listas!$BC$3:$BI$15430,7,FALSE))","v":""},null,null,{"$f":"IF(G859=\"\",\"\",VLOOKUP(G859,Listas!$BM$3:$BN$16,2,FALSE)*100)","v":""},"",{"$f":"+IFERROR(VLOOKUP(E859,Listas!$CQ$2:$CW$1104,7,FALSE),\"\")","v":""},"","",""]
[null,null,null,null,{"$f":"IF(D860=\"\",\"\",VLOOKUP(CONCATENATE(C860,D860),Listas!$AT$2:$AV$1104,3,FALSE))","v":""},null,{"$f":"IF(OR(F860=\"\",E860=\"\"),\"\",VLOOKUP(CONCATENATE(E860,Listas!AZ857),Listas!$BC$3:$BI$15430,7,FALSE))","v":""},null,null,{"$f":"IF(G860=\"\",\"\",VLOOKUP(G860,Listas!$BM$3:$BN$16,2,FALSE)*100)","v":""},"",{"$f":"+IFERROR(VLOOKUP(E860,Listas!$CQ$2:$CW$1104,7,FALSE),\"\")","v":""},"","",""]
[null,null,null,null,{"$f":"IF(D861=\"\",\"\",VLOOKUP(CONCATENATE(C861,D861),Listas!$AT$2:$AV$1104,3,FALSE))","v":""},null,{"$f":"IF(OR(F861=\"\",E861=\"\"),\"\",VLOOKUP(CONCATENATE(E861,Listas!AZ858),Listas!$BC$3:$BI$15430,7,FALSE))","v":""},null,null,{"$f":"IF(G861=\"\",\"\",VLOOKUP(G861,Listas!$BM$3:$BN$16,2,FALSE)*100)","v":""},"",{"$f":"+IFERROR(VLOOKUP(E861,Listas!$CQ$2:$CW$1104,7,FALSE),\"\")","v":""},"","",""]
[null,null,null,null,{"$f":"IF(D862=\"\",\"\",VLOOKUP(CONCATENATE(C862,D862),Listas!$AT$2:$AV$1104,3,FALSE))","v":""},null,{"$f":"IF(OR(F862=\"\",E862=\"\"),\"\",VLOOKUP(CONCATENATE(E862,Listas!AZ859),Listas!$BC$3:$BI$15430,7,FALSE))","v":""},null,null,{"$f":"IF(G862=\"\",\"\",VLOOKUP(G862,Listas!$BM$3:$BN$16,2,FALSE)*100)","v":""},"",{"$f":"+IFERROR(VLOOKUP(E862,Listas!$CQ$2:$CW$1104,7,FALSE),\"\")","v":""},"","",""]
[null,null,null,null,{"$f":"IF(D863=\"\",\"\",VLOOKUP(CONCATENATE(C863,D863),Listas!$AT$2:$AV$1104,3,FALSE))","v":""},null,{"$f":"IF(OR(F863=\"\",E863=\"\"),\"\",VLOOKUP(CONCATENATE(E863,Listas!AZ860),Listas!$BC$3:$BI$15430,7,FALSE))","v":""},null,null,{"$f":"IF(G863=\"\",\"\",VLOOKUP(G863,Listas!$BM$3:$BN$16,2,FALSE)*100)","v":""},"",{"$f":"+IFERROR(VLOOKUP(E863,Listas!$CQ$2:$CW$1104,7,FALSE),\"\")","v":""},"","",""]
[null,null,null,null,{"$f":"IF(D864=\"\",\"\",VLOOKUP(CONCATENATE(C864,D864),Listas!$AT$2:$AV$1104,3,FALSE))","v":""},null,{"$f":"IF(OR(F864=\"\",E864=\"\"),\"\",VLOOKUP(CONCATENATE(E864,Listas!AZ861),Listas!$BC$3:$BI$15430,7,FALSE))","v":""},null,null,{"$f":"IF(G864=\"\",\"\",VLOOKUP(G864,Listas!$BM$3:$BN$16,2,FALSE)*100)","v":""},"",{"$f":"+IFERROR(VLOOKUP(E864,Listas!$CQ$2:$CW$1104,7,FALSE),\"\")","v":""},"","",""]
[null,null,null,null,{"$f":"IF(D865=\"\",\"\",VLOOKUP(CONCATENATE(C865,D865),Listas!$AT$2:$AV$1104,3,FALSE))","v":""},null,{"$f":"IF(OR(F865=\"\",E865=\"\"),\"\",VLOOKUP(CONCATENATE(E865,Listas!AZ862),Listas!$BC$3:$BI$15430,7,FALSE))","v":""},null,null,{"$f":"IF(G865=\"\",\"\",VLOOKUP(G865,Listas!$BM$3:$BN$16,2,FALSE)*100)","v":""},"",{"$f":"+IFERROR(VLOOKUP(E865,Listas!$CQ$2:$CW$1104,7,FALSE),\"\")","v":""},"","",""]
[null,null,null,null,{"$f":"IF(D866=\"\",\"\",VLOOKUP(CONCATENATE(C866,D866),Listas!$AT$2:$AV$1104,3,FALSE))","v":""},null,{"$f":"IF(OR(F866=\"\",E866=\"\"),\"\",VLOOKUP(CONCATENATE(E866,Listas!AZ863),Listas!$BC$3:$BI$15430,7,FALSE))","v":""},null,null,{"$f":"IF(G866=\"\",\"\",VLOOKUP(G866,Listas!$BM$3:$BN$16,2,FALSE)*100)","v":""},"",{"$f":"+IFERROR(VLOOKUP(E866,Listas!$CQ$2:$CW$1104,7,FALSE),\"\")","v":""},"","",""]
[null,null,null,null,{"$f":"IF(D867=\"\",\"\",VLOOKUP(CONCATENATE(C867,D867),Listas!$AT$2:$AV$1104,3,FALSE))","v":""},null,{"$f":"IF(OR(F867=\"\",E867=\"\"),\"\",VLOOKUP(CONCATENATE(E867,Listas!AZ864),Listas!$BC$3:$BI$15430,7,FALSE))","v":""},null,null,{"$f":"IF(G867=\"\",\"\",VLOOKUP(G867,Listas!$BM$3:$BN$16,2,FALSE)*100)","v":""},"",{"$f":"+IFERROR(VLOOKUP(E867,Listas!$CQ$2:$CW$1104,7,FALSE),\"\")","v":""},"","",""]
[null,null,null,null,{"$f":"IF(D868=\"\",\"\",VLOOKUP(CONCATENATE(C868,D868),Listas!$AT$2:$AV$1104,3,FALSE))","v":""},null,{"$f":"IF(OR(F868=\"\",E868=\"\"),\"\",VLOOKUP(CONCATENATE(E868,Listas!AZ865),Listas!$BC$3:$BI$15430,7,FALSE))","v":""},null,null,{"$f":"IF(G868=\"\",\"\",VLOOKUP(G868,Listas!$BM$3:$BN$16,2,FALSE)*100)","v":""},"",{"$f":"+IFERROR(VLOOKUP(E868,Listas!$CQ$2:$CW$1104,7,FALSE),\"\")","v":""},"","",""]
[null,null,null,null,{"$f":"IF(D869=\"\",\"\",VLOOKUP(CONCATENATE(C869,D869),Listas!$AT$2:$AV$1104,3,FALSE))","v":""},null,{"$f":"IF(OR(F869=\"\",E869=\"\"),\"\",VLOOKUP(CONCATENATE(E869,Listas!AZ866),Listas!$BC$3:$BI$15430,7,FALSE))","v":""},null,null,{"$f":"IF(G869=\"\",\"\",VLOOKUP(G869,Listas!$BM$3:$BN$16,2,FALSE)*100)","v":""},"",{"$f":"+IFERROR(VLOOKUP(E869,Listas!$CQ$2:$CW$1104,7,FALSE),\"\")","v":""},"","",""]
[null,null,null,null,{"$f":"IF(D870=\"\",\"\",VLOOKUP(CONCATENATE(C870,D870),Listas!$AT$2:$AV$1104,3,FALSE))","v":""},null,{"$f":"IF(OR(F870=\"\",E870=\"\"),\"\",VLOOKUP(CONCATENATE(E870,Listas!AZ867),Listas!$BC$3:$BI$15430,7,FALSE))","v":""},null,null,{"$f":"IF(G870=\"\",\"\",VLOOKUP(G870,Listas!$BM$3:$BN$16,2,FALSE)*100)","v":""},"",{"$f":"+IFERROR(VLOOKUP(E870,Listas!$CQ$2:$CW$1104,7,FALSE),\"\")","v":""},"","",""]
[null,null,null,null,{"$f":"IF(D871=\"\",\"\",VLOOKUP(CONCATENATE(C871,D871),Listas!$AT$2:$AV$1104,3,FALSE))","v":""},null,{"$f":"IF(OR(F871=\"\",E871=\"\"),\"\",VLOOKUP(CONCATENATE(E871,Listas!AZ868),Listas!$BC$3:$BI$15430,7,FALSE))","v":""},null,null,{"$f":"IF(G871=\"\",\"\",VLOOKUP(G871,Listas!$BM$3:$BN$16,2,FALSE)*100)","v":""},"",{"$f":"+IFERROR(VLOOKUP(E871,Listas!$CQ$2:$CW$1104,7,FALSE),\"\")","v":""},"","",""]
[null,null,null,null,{"$f":"IF(D872=\"\",\"\",VLOOKUP(CONCATENATE(C872,D872),Listas!$AT$2:$AV$1104,3,FALSE))","v":""},null,{"$f":"IF(OR(F872=\"\",E872=\"\"),\"\",VLOOKUP(CONCATENATE(E872,Listas!AZ869),Listas!$BC$3:$BI$15430,7,FALSE))","v":""},null,null,{"$f":"IF(G872=\"\",\"\",VLOOKUP(G872,Listas!$BM$3:$BN$16,2,FALSE)*100)","v":""},"",{"$f":"+IFERROR(VLOOKUP(E872,Listas!$CQ$2:$CW$1104,7,FALSE),\"\")","v":""},"","",""]
[null,null,null,null,{"$f":"IF(D873=\"\",\"\",VLOOKUP(CONCATENATE(C873,D873),Listas!$AT$2:$AV$1104,3,FALSE))","v":""},null,{"$f":"IF(OR(F873=\"\",E873=\"\"),\"\",VLOOKUP(CONCATENATE(E873,Listas!AZ870),Listas!$BC$3:$BI$15430,7,FALSE))","v":""},null,null,{"$f":"IF(G873=\"\",\"\",VLOOKUP(G873,Listas!$BM$3:$BN$16,2,FALSE)*100)","v":""},"",{"$f":"+IFERROR(VLOOKUP(E873,Listas!$CQ$2:$CW$1104,7,FALSE),\"\")","v":""},"","",""]
[null,null,null,null,{"$f":"IF(D874=\"\",\"\",VLOOKUP(CONCATENATE(C874,D874),Listas!$AT$2:$AV$1104,3,FALSE))","v":""},null,{"$f":"IF(OR(F874=\"\",E874=\"\"),\"\",VLOOKUP(CONCATENATE(E874,Listas!AZ871),Listas!$BC$3:$BI$15430,7,FALSE))","v":""},null,null,{"$f":"IF(G874=\"\",\"\",VLOOKUP(G874,Listas!$BM$3:$BN$16,2,FALSE)*100)","v":""},"",{"$f":"+IFERROR(VLOOKUP(E874,Listas!$CQ$2:$CW$1104,7,FALSE),\"\")","v":""},"","",""]
[null,null,null,null,{"$f":"IF(D875=\"\",\"\",VLOOKUP(CONCATENATE(C875,D875),Listas!$AT$2:$AV$1104,3,FALSE))","v":""},null,{"$f":"IF(OR(F875=\"\",E875=\"\"),\"\",VLOOKUP(CONCATENATE(E875,Listas!AZ872),Listas!$BC$3:$BI$15430,7,FALSE))","v":""},null,null,{"$f":"IF(G875=\"\",\"\",VLOOKUP(G875,Listas!$BM$3:$BN$16,2,FALSE)*100)","v":""},"",{"$f":"+IFERROR(VLOOKUP(E875,Listas!$CQ$2:$CW$1104,7,FALSE),\"\")","v":""},"","",""]
[null,null,null,null,{"$f":"IF(D876=\"\",\"\",VLOOKUP(CONCATENATE(C876,D876),Listas!$AT$2:$AV$1104,3,FALSE))","v":""},null,{"$f":"IF(OR(F876=\"\",E876=\"\"),\"\",VLOOKUP(CONCATENATE(E876,Listas!AZ873),Listas!$BC$3:$BI$15430,7,FALSE))","v":""},null,null,{"$f":"IF(G876=\"\",\"\",VLOOKUP(G876,Listas!$BM$3:$BN$16,2,FALSE)*100)","v":""},"",{"$f":"+IFERROR(VLOOKUP(E876,Listas!$CQ$2:$CW$1104,7,FALSE),\"\")","v":""},"","",""]
[null,null,null,null,{"$f":"IF(D877=\"\",\"\",VLOOKUP(CONCATENATE(C877,D877),Listas!$AT$2:$AV$1104,3,FALSE))","v":""},null,{"$f":"IF(OR(F877=\"\",E877=\"\"),\"\",VLOOKUP(CONCATENATE(E877,Listas!AZ874),Listas!$BC$3:$BI$15430,7,FALSE))","v":""},null,null,{"$f":"IF(G877=\"\",\"\",VLOOKUP(G877,Listas!$BM$3:$BN$16,2,FALSE)*100)","v":""},"",{"$f":"+IFERROR(VLOOKUP(E877,Listas!$CQ$2:$CW$1104,7,FALSE),\"\")","v":""},"","",""]
[null,null,null,null,{"$f":"IF(D878=\"\",\"\",VLOOKUP(CONCATENATE(C878,D878),Listas!$AT$2:$AV$1104,3,FALSE))","v":""},null,{"$f":"IF(OR(F878=\"\",E878=\"\"),\"\",VLOOKUP(CONCATENATE(E878,Listas!AZ875),Listas!$BC$3:$BI$15430,7,FALSE))","v":""},null,null,{"$f":"IF(G878=\"\",\"\",VLOOKUP(G878,Listas!$BM$3:$BN$16,2,FALSE)*100)","v":""},"",{"$f":"+IFERROR(VLOOKUP(E878,Listas!$CQ$2:$CW$1104,7,FALSE),\"\")","v":""},"","",""]
[null,null,null,null,{"$f":"IF(D879=\"\",\"\",VLOOKUP(CONCATENATE(C879,D879),Listas!$AT$2:$AV$1104,3,FALSE))","v":""},null,{"$f":"IF(OR(F879=\"\",E879=\"\"),\"\",VLOOKUP(CONCATENATE(E879,Listas!AZ876),Listas!$BC$3:$BI$15430,7,FALSE))","v":""},null,null,{"$f":"IF(G879=\"\",\"\",VLOOKUP(G879,Listas!$BM$3:$BN$16,2,FALSE)*100)","v":""},"",{"$f":"+IFERROR(VLOOKUP(E879,Listas!$CQ$2:$CW$1104,7,FALSE),\"\")","v":""},"","",""]
[null,null,null,null,{"$f":"IF(D880=\"\",\"\",VLOOKUP(CONCATENATE(C880,D880),Listas!$AT$2:$AV$1104,3,FALSE))","v":""},null,{"$f":"IF(OR(F880=\"\",E880=\"\"),\"\",VLOOKUP(CONCATENATE(E880,Listas!AZ877),Listas!$BC$3:$BI$15430,7,FALSE))","v":""},null,null,{"$f":"IF(G880=\"\",\"\",VLOOKUP(G880,Listas!$BM$3:$BN$16,2,FALSE)*100)","v":""},"",{"$f":"+IFERROR(VLOOKUP(E880,Listas!$CQ$2:$CW$1104,7,FALSE),\"\")","v":""},"","",""]
[null,null,null,null,{"$f":"IF(D881=\"\",\"\",VLOOKUP(CONCATENATE(C881,D881),Listas!$AT$2:$AV$1104,3,FALSE))","v":""},null,{"$f":"IF(OR(F881=\"\",E881=\"\"),\"\",VLOOKUP(CONCATENATE(E881,Listas!AZ878),Listas!$BC$3:$BI$15430,7,FALSE))","v":""},null,null,{"$f":"IF(G881=\"\",\"\",VLOOKUP(G881,Listas!$BM$3:$BN$16,2,FALSE)*100)","v":""},"",{"$f":"+IFERROR(VLOOKUP(E881,Listas!$CQ$2:$CW$1104,7,FALSE),\"\")","v":""},"","",""]
[null,null,null,null,{"$f":"IF(D882=\"\",\"\",VLOOKUP(CONCATENATE(C882,D882),Listas!$AT$2:$AV$1104,3,FALSE))","v":""},null,{"$f":"IF(OR(F882=\"\",E882=\"\"),\"\",VLOOKUP(CONCATENATE(E882,Listas!AZ879),Listas!$BC$3:$BI$15430,7,FALSE))","v":""},null,null,{"$f":"IF(G882=\"\",\"\",VLOOKUP(G882,Listas!$BM$3:$BN$16,2,FALSE)*100)","v":""},"",{"$f":"+IFERROR(VLOOKUP(E882,Listas!$CQ$2:$CW$1104,7,FALSE),\"\")","v":""},"","",""]
[null,null,null,null,{"$f":"IF(D883=\"\",\"\",VLOOKUP(CONCATENATE(C883,D883),Listas!$AT$2:$AV$1104,3,FALSE))","v":""},null,{"$f":"IF(OR(F883=\"\",E883=\"\"),\"\",VLOOKUP(CONCATENATE(E883,Listas!AZ880),Listas!$BC$3:$BI$15430,7,FALSE))","v":""},null,null,{"$f":"IF(G883=\"\",\"\",VLOOKUP(G883,Listas!$BM$3:$BN$16,2,FALSE)*100)","v":""},"",{"$f":"+IFERROR(VLOOKUP(E883,Listas!$CQ$2:$CW$1104,7,FALSE),\"\")","v":""},"","",""]
[null,null,null,null,{"$f":"IF(D884=\"\",\"\",VLOOKUP(CONCATENATE(C884,D884),Listas!$AT$2:$AV$1104,3,FALSE))","v":""},null,{"$f":"IF(OR(F884=\"\",E884=\"\"),\"\",VLOOKUP(CONCATENATE(E884,Listas!AZ881),Listas!$BC$3:$BI$15430,7,FALSE))","v":""},null,null,{"$f":"IF(G884=\"\",\"\",VLOOKUP(G884,Listas!$BM$3:$BN$16,2,FALSE)*100)","v":""},"",{"$f":"+IFERROR(VLOOKUP(E884,Listas!$CQ$2:$CW$1104,7,FALSE),\"\")","v":""},"","",""]
[null,null,null,null,{"$f":"IF(D885=\"\",\"\",VLOOKUP(CONCATENATE(C885,D885),Listas!$AT$2:$AV$1104,3,FALSE))","v":""},null,{"$f":"IF(OR(F885=\"\",E885=\"\"),\"\",VLOOKUP(CONCATENATE(E885,Listas!AZ882),Listas!$BC$3:$BI$15430,7,FALSE))","v":""},null,null,{"$f":"IF(G885=\"\",\"\",VLOOKUP(G885,Listas!$BM$3:$BN$16,2,FALSE)*100)","v":""},"",{"$f":"+IFERROR(VLOOKUP(E885,Listas!$CQ$2:$CW$1104,7,FALSE),\"\")","v":""},"","",""]
[null,null,null,null,{"$f":"IF(D886=\"\",\"\",VLOOKUP(CONCATENATE(C886,D886),Listas!$AT$2:$AV$1104,3,FALSE))","v":""},null,{"$f":"IF(OR(F886=\"\",E886=\"\"),\"\",VLOOKUP(CONCATENATE(E886,Listas!AZ883),Listas!$BC$3:$BI$15430,7,FALSE))","v":""},null,null,{"$f":"IF(G886=\"\",\"\",VLOOKUP(G886,Listas!$BM$3:$BN$16,2,FALSE)*100)","v":""},"",{"$f":"+IFERROR(VLOOKUP(E886,Listas!$CQ$2:$CW$1104,7,FALSE),\"\")","v":""},"","",""]
[null,null,null,null,{"$f":"IF(D887=\"\",\"\",VLOOKUP(CONCATENATE(C887,D887),Listas!$AT$2:$AV$1104,3,FALSE))","v":""},null,{"$f":"IF(OR(F887=\"\",E887=\"\"),\"\",VLOOKUP(CONCATENATE(E887,Listas!AZ884),Listas!$BC$3:$BI$15430,7,FALSE))","v":""},null,null,{"$f":"IF(G887=\"\",\"\",VLOOKUP(G887,Listas!$BM$3:$BN$16,2,FALSE)*100)","v":""},"",{"$f":"+IFERROR(VLOOKUP(E887,Listas!$CQ$2:$CW$1104,7,FALSE),\"\")","v":""},"","",""]
[null,null,null,null,{"$f":"IF(D888=\"\",\"\",VLOOKUP(CONCATENATE(C888,D888),Listas!$AT$2:$AV$1104,3,FALSE))","v":""},null,{"$f":"IF(OR(F888=\"\",E888=\"\"),\"\",VLOOKUP(CONCATENATE(E888,Listas!AZ885),Listas!$BC$3:$BI$15430,7,FALSE))","v":""},null,null,{"$f":"IF(G888=\"\",\"\",VLOOKUP(G888,Listas!$BM$3:$BN$16,2,FALSE)*100)","v":""},"",{"$f":"+IFERROR(VLOOKUP(E888,Listas!$CQ$2:$CW$1104,7,FALSE),\"\")","v":""},"","",""]
[null,null,null,null,{"$f":"IF(D889=\"\",\"\",VLOOKUP(CONCATENATE(C889,D889),Listas!$AT$2:$AV$1104,3,FALSE))","v":""},null,{"$f":"IF(OR(F889=\"\",E889=\"\"),\"\",VLOOKUP(CONCATENATE(E889,Listas!AZ886),Listas!$BC$3:$BI$15430,7,FALSE))","v":""},null,null,{"$f":"IF(G889=\"\",\"\",VLOOKUP(G889,Listas!$BM$3:$BN$16,2,FALSE)*100)","v":""},"",{"$f":"+IFERROR(VLOOKUP(E889,Listas!$CQ$2:$CW$1104,7,FALSE),\"\")","v":""},"","",""]
[null,null,null,null,{"$f":"IF(D890=\"\",\"\",VLOOKUP(CONCATENATE(C890,D890),Listas!$AT$2:$AV$1104,3,FALSE))","v":""},null,{"$f":"IF(OR(F890=\"\",E890=\"\"),\"\",VLOOKUP(CONCATENATE(E890,Listas!AZ887),Listas!$BC$3:$BI$15430,7,FALSE))","v":""},null,null,{"$f":"IF(G890=\"\",\"\",VLOOKUP(G890,Listas!$BM$3:$BN$16,2,FALSE)*100)","v":""},"",{"$f":"+IFERROR(VLOOKUP(E890,Listas!$CQ$2:$CW$1104,7,FALSE),\"\")","v":""},"","",""]
[null,null,null,null,{"$f":"IF(D891=\"\",\"\",VLOOKUP(CONCATENATE(C891,D891),Listas!$AT$2:$AV$1104,3,FALSE))","v":""},null,{"$f":"IF(OR(F891=\"\",E891=\"\"),\"\",VLOOKUP(CONCATENATE(E891,Listas!AZ888),Listas!$BC$3:$BI$15430,7,FALSE))","v":""},null,null,{"$f":"IF(G891=\"\",\"\",VLOOKUP(G891,Listas!$BM$3:$BN$16,2,FALSE)*100)","v":""},"",{"$f":"+IFERROR(VLOOKUP(E891,Listas!$CQ$2:$CW$1104,7,FALSE),\"\")","v":""},"","",""]
[null,null,null,null,{"$f":"IF(D892=\"\",\"\",VLOOKUP(CONCATENATE(C892,D892),Listas!$AT$2:$AV$1104,3,FALSE))","v":""},null,{"$f":"IF(OR(F892=\"\",E892=\"\"),\"\",VLOOKUP(CONCATENATE(E892,Listas!AZ889),Listas!$BC$3:$BI$15430,7,FALSE))","v":""},null,null,{"$f":"IF(G892=\"\",\"\",VLOOKUP(G892,Listas!$BM$3:$BN$16,2,FALSE)*100)","v":""},"",{"$f":"+IFERROR(VLOOKUP(E892,Listas!$CQ$2:$CW$1104,7,FALSE),\"\")","v":""},"","",""]
[null,null,null,null,{"$f":"IF(D893=\"\",\"\",VLOOKUP(CONCATENATE(C893,D893),Listas!$AT$2:$AV$1104,3,FALSE))","v":""},null,{"$f":"IF(OR(F893=\"\",E893=\"\"),\"\",VLOOKUP(CONCATENATE(E893,Listas!AZ890),Listas!$BC$3:$BI$15430,7,FALSE))","v":""},null,null,{"$f":"IF(G893=\"\",\"\",VLOOKUP(G893,Listas!$BM$3:$BN$16,2,FALSE)*100)","v":""},"",{"$f":"+IFERROR(VLOOKUP(E893,Listas!$CQ$2:$CW$1104,7,FALSE),\"\")","v":""},"","",""]
[null,null,null,null,{"$f":"IF(D894=\"\",\"\",VLOOKUP(CONCATENATE(C894,D894),Listas!$AT$2:$AV$1104,3,FALSE))","v":""},null,{"$f":"IF(OR(F894=\"\",E894=\"\"),\"\",VLOOKUP(CONCATENATE(E894,Listas!AZ891),Listas!$BC$3:$BI$15430,7,FALSE))","v":""},null,null,{"$f":"IF(G894=\"\",\"\",VLOOKUP(G894,Listas!$BM$3:$BN$16,2,FALSE)*100)","v":""},"",{"$f":"+IFERROR(VLOOKUP(E894,Listas!$CQ$2:$CW$1104,7,FALSE),\"\")","v":""},"","",""]
[null,null,null,null,{"$f":"IF(D895=\"\",\"\",VLOOKUP(CONCATENATE(C895,D895),Listas!$AT$2:$AV$1104,3,FALSE))","v":""},null,{"$f":"IF(OR(F895=\"\",E895=\"\"),\"\",VLOOKUP(CONCATENATE(E895,Listas!AZ892),Listas!$BC$3:$BI$15430,7,FALSE))","v":""},null,null,{"$f":"IF(G895=\"\",\"\",VLOOKUP(G895,Listas!$BM$3:$BN$16,2,FALSE)*100)","v":""},"",{"$f":"+IFERROR(VLOOKUP(E895,Listas!$CQ$2:$CW$1104,7,FALSE),\"\")","v":""},"","",""]
[null,null,null,null,{"$f":"IF(D896=\"\",\"\",VLOOKUP(CONCATENATE(C896,D896),Listas!$AT$2:$AV$1104,3,FALSE))","v":""},null,{"$f":"IF(OR(F896=\"\",E896=\"\"),\"\",VLOOKUP(CONCATENATE(E896,Listas!AZ893),Listas!$BC$3:$BI$15430,7,FALSE))","v":""},null,null,{"$f":"IF(G896=\"\",\"\",VLOOKUP(G896,Listas!$BM$3:$BN$16,2,FALSE)*100)","v":""},"",{"$f":"+IFERROR(VLOOKUP(E896,Listas!$CQ$2:$CW$1104,7,FALSE),\"\")","v":""},"","",""]
[null,null,null,null,{"$f":"IF(D897=\"\",\"\",VLOOKUP(CONCATENATE(C897,D897),Listas!$AT$2:$AV$1104,3,FALSE))","v":""},null,{"$f":"IF(OR(F897=\"\",E897=\"\"),\"\",VLOOKUP(CONCATENATE(E897,Listas!AZ894),Listas!$BC$3:$BI$15430,7,FALSE))","v":""},null,null,{"$f":"IF(G897=\"\",\"\",VLOOKUP(G897,Listas!$BM$3:$BN$16,2,FALSE)*100)","v":""},"",{"$f":"+IFERROR(VLOOKUP(E897,Listas!$CQ$2:$CW$1104,7,FALSE),\"\")","v":""},"","",""]
[null,null,null,null,{"$f":"IF(D898=\"\",\"\",VLOOKUP(CONCATENATE(C898,D898),Listas!$AT$2:$AV$1104,3,FALSE))","v":""},null,{"$f":"IF(OR(F898=\"\",E898=\"\"),\"\",VLOOKUP(CONCATENATE(E898,Listas!AZ895),Listas!$BC$3:$BI$15430,7,FALSE))","v":""},null,null,{"$f":"IF(G898=\"\",\"\",VLOOKUP(G898,Listas!$BM$3:$BN$16,2,FALSE)*100)","v":""},"",{"$f":"+IFERROR(VLOOKUP(E898,Listas!$CQ$2:$CW$1104,7,FALSE),\"\")","v":""},"","",""]
[null,null,null,null,{"$f":"IF(D899=\"\",\"\",VLOOKUP(CONCATENATE(C899,D899),Listas!$AT$2:$AV$1104,3,FALSE))","v":""},null,{"$f":"IF(OR(F899=\"\",E899=\"\"),\"\",VLOOKUP(CONCATENATE(E899,Listas!AZ896),Listas!$BC$3:$BI$15430,7,FALSE))","v":""},null,null,{"$f":"IF(G899=\"\",\"\",VLOOKUP(G899,Listas!$BM$3:$BN$16,2,FALSE)*100)","v":""},"",{"$f":"+IFERROR(VLOOKUP(E899,Listas!$CQ$2:$CW$1104,7,FALSE),\"\")","v":""},"","",""]
[null,null,null,null,{"$f":"IF(D900=\"\",\"\",VLOOKUP(CONCATENATE(C900,D900),Listas!$AT$2:$AV$1104,3,FALSE))","v":""},null,{"$f":"IF(OR(F900=\"\",E900=\"\"),\"\",VLOOKUP(CONCATENATE(E900,Listas!AZ897),Listas!$BC$3:$BI$15430,7,FALSE))","v":""},null,null,{"$f":"IF(G900=\"\",\"\",VLOOKUP(G900,Listas!$BM$3:$BN$16,2,FALSE)*100)","v":""},"",{"$f":"+IFERROR(VLOOKUP(E900,Listas!$CQ$2:$CW$1104,7,FALSE),\"\")","v":""},"","",""]
[null,null,null,null,{"$f":"IF(D901=\"\",\"\",VLOOKUP(CONCATENATE(C901,D901),Listas!$AT$2:$AV$1104,3,FALSE))","v":""},null,{"$f":"IF(OR(F901=\"\",E901=\"\"),\"\",VLOOKUP(CONCATENATE(E901,Listas!AZ898),Listas!$BC$3:$BI$15430,7,FALSE))","v":""},null,null,{"$f":"IF(G901=\"\",\"\",VLOOKUP(G901,Listas!$BM$3:$BN$16,2,FALSE)*100)","v":""},"",{"$f":"+IFERROR(VLOOKUP(E901,Listas!$CQ$2:$CW$1104,7,FALSE),\"\")","v":""},"","",""]
[null,null,null,null,{"$f":"IF(D902=\"\",\"\",VLOOKUP(CONCATENATE(C902,D902),Listas!$AT$2:$AV$1104,3,FALSE))","v":""},null,{"$f":"IF(OR(F902=\"\",E902=\"\"),\"\",VLOOKUP(CONCATENATE(E902,Listas!AZ899),Listas!$BC$3:$BI$15430,7,FALSE))","v":""},null,null,{"$f":"IF(G902=\"\",\"\",VLOOKUP(G902,Listas!$BM$3:$BN$16,2,FALSE)*100)","v":""},{"$f":"+IF(H902=\"\",\"\",IF(H902=\"Sí\",1,0)*100)","v":""},{"$f":"+IFERROR(VLOOKUP(E902,Listas!$CQ$2:$CW$1104,7,FALSE),\"\")","v":""},{"$f":"+IF(I902=\"\",\"\",IF(I902=\"Sí\",1,0)*100)","v":""},"",""]
[null,null,null,null,{"$f":"IF(D903=\"\",\"\",VLOOKUP(CONCATENATE(C903,D903),Listas!$AT$2:$AV$1104,3,FALSE))","v":""},null,{"$f":"IF(OR(F903=\"\",E903=\"\"),\"\",VLOOKUP(CONCATENATE(E903,Listas!AZ900),Listas!$BC$3:$BI$15430,7,FALSE))","v":""},null,null,{"$f":"IF(G903=\"\",\"\",VLOOKUP(G903,Listas!$BM$3:$BN$16,2,FALSE)*100)","v":""},"",{"$f":"+IFERROR(VLOOKUP(E903,Listas!$CQ$2:$CW$1104,7,FALSE),\"\")","v":""},"",{"$f":"IF(E903=\"\",\"\",SUMPRODUCT(J903:M903,$J$2:$M$2))","v":""},{"$f":"+IFERROR(J903*58%,\"\")","v":""}]
[null,null,null,null,{"$f":"IF(D904=\"\",\"\",VLOOKUP(CONCATENATE(C904,D904),Listas!$AT$2:$AV$1104,3,FALSE))","v":""},null,{"$f":"IF(OR(F904=\"\",E904=\"\"),\"\",VLOOKUP(CONCATENATE(E904,Listas!AZ901),Listas!$BC$3:$BI$15430,7,FALSE))","v":""},null,null,{"$f":"IF(G904=\"\",\"\",VLOOKUP(G904,Listas!$BM$3:$BN$16,2,FALSE)*100)","v":""},"",{"$f":"+IFERROR(VLOOKUP(E904,Listas!$CQ$2:$CW$1104,7,FALSE),\"\")","v":""},"","",""]
[null,null,null,null,{"$f":"IF(D905=\"\",\"\",VLOOKUP(CONCATENATE(C905,D905),Listas!$AT$2:$AV$1104,3,FALSE))","v":""},null,{"$f":"IF(OR(F905=\"\",E905=\"\"),\"\",VLOOKUP(CONCATENATE(E905,Listas!AZ902),Listas!$BC$3:$BI$15430,7,FALSE))","v":""},null,null,{"$f":"IF(G905=\"\",\"\",VLOOKUP(G905,Listas!$BM$3:$BN$16,2,FALSE)*100)","v":""},"",{"$f":"+IFERROR(VLOOKUP(E905,Listas!$CQ$2:$CW$1104,7,FALSE),\"\")","v":""},"","",""]
[null,null,null,null,{"$f":"IF(D906=\"\",\"\",VLOOKUP(CONCATENATE(C906,D906),Listas!$AT$2:$AV$1104,3,FALSE))","v":""},null,{"$f":"IF(OR(F906=\"\",E906=\"\"),\"\",VLOOKUP(CONCATENATE(E906,Listas!AZ903),Listas!$BC$3:$BI$15430,7,FALSE))","v":""},null,null,{"$f":"IF(G906=\"\",\"\",VLOOKUP(G906,Listas!$BM$3:$BN$16,2,FALSE)*100)","v":""},"",{"$f":"+IFERROR(VLOOKUP(E906,Listas!$CQ$2:$CW$1104,7,FALSE),\"\")","v":""},"","",""]
[null,null,null,null,{"$f":"IF(D907=\"\",\"\",VLOOKUP(CONCATENATE(C907,D907),Listas!$AT$2:$AV$1104,3,FALSE))","v":""},null,{"$f":"IF(OR(F907=\"\",E907=\"\"),\"\",VLOOKUP(CONCATENATE(E907,Listas!AZ904),Listas!$BC$3:$BI$15430,7,FALSE))","v":""},null,null,{"$f":"IF(G907=\"\",\"\",VLOOKUP(G907,Listas!$BM$3:$BN$16,2,FALSE)*100)","v":""},"",{"$f":"+IFERROR(VLOOKUP(E907,Listas!$CQ$2:$CW$1104,7,FALSE),\"\")","v":""},"","",""]
[null,null,null,null,{"$f":"IF(D908=\"\",\"\",VLOOKUP(CONCATENATE(C908,D908),Listas!$AT$2:$AV$1104,3,FALSE))","v":""},null,{"$f":"IF(OR(F908=\"\",E908=\"\"),\"\",VLOOKUP(CONCATENATE(E908,Listas!AZ905),Listas!$BC$3:$BI$15430,7,FALSE))","v":""},null,null,{"$f":"IF(G908=\"\",\"\",VLOOKUP(G908,Listas!$BM$3:$BN$16,2,FALSE)*100)","v":""},"",{"$f":"+IFERROR(VLOOKUP(E908,Listas!$CQ$2:$CW$1104,7,FALSE),\"\")","v":""},"","",""]
[null,null,null,null,{"$f":"IF(D909=\"\",\"\",VLOOKUP(CONCATENATE(C909,D909),Listas!$AT$2:$AV$1104,3,FALSE))","v":""},null,{"$f":"IF(OR(F909=\"\",E909=\"\"),\"\",VLOOKUP(CONCATENATE(E909,Listas!AZ906),Listas!$BC$3:$BI$15430,7,FALSE))","v":""},null,null,{"$f":"IF(G909=\"\",\"\",VLOOKUP(G909,Listas!$BM$3:$BN$16,2,FALSE)*100)","v":""},"",{"$f":"+IFERROR(VLOOKUP(E909,Listas!$CQ$2:$CW$1104,7,FALSE),\"\")","v":""},"","",""]
[null,null,null,null,{"$f":"IF(D910=\"\",\"\",VLOOKUP(CONCATENATE(C910,D910),Listas!$AT$2:$AV$1104,3,FALSE))","v":""},null,{"$f":"IF(OR(F910=\"\",E910=\"\"),\"\",VLOOKUP(CONCATENATE(E910,Listas!AZ907),Listas!$BC$3:$BI$15430,7,FALSE))","v":""},null,null,{"$f":"IF(G910=\"\",\"\",VLOOKUP(G910,Listas!$BM$3:$BN$16,2,FALSE)*100)","v":""},"",{"$f":"+IFERROR(VLOOKUP(E910,Listas!$CQ$2:$CW$1104,7,FALSE),\"\")","v":""},"","",""]
[null,null,null,null,{"$f":"IF(D911=\"\",\"\",VLOOKUP(CONCATENATE(C911,D911),Listas!$AT$2:$AV$1104,3,FALSE))","v":""},null,{"$f":"IF(OR(F911=\"\",E911=\"\"),\"\",VLOOKUP(CONCATENATE(E911,Listas!AZ908),Listas!$BC$3:$BI$15430,7,FALSE))","v":""},null,null,{"$f":"IF(G911=\"\",\"\",VLOOKUP(G911,Listas!$BM$3:$BN$16,2,FALSE)*100)","v":""},"",{"$f":"+IFERROR(VLOOKUP(E911,Listas!$CQ$2:$CW$1104,7,FALSE),\"\")","v":""},"","",""]
[null,null,null,null,{"$f":"IF(D912=\"\",\"\",VLOOKUP(CONCATENATE(C912,D912),Listas!$AT$2:$AV$1104,3,FALSE))","v":""},null,{"$f":"IF(OR(F912=\"\",E912=\"\"),\"\",VLOOKUP(CONCATENATE(E912,Listas!AZ909),Listas!$BC$3:$BI$15430,7,FALSE))","v":""},null,null,{"$f":"IF(G912=\"\",\"\",VLOOKUP(G912,Listas!$BM$3:$BN$16,2,FALSE)*100)","v":""},"",{"$f":"+IFERROR(VLOOKUP(E912,Listas!$CQ$2:$CW$1104,7,FALSE),\"\")","v":""},"","",""]
[null,null,null,null,{"$f":"IF(D913=\"\",\"\",VLOOKUP(CONCATENATE(C913,D913),Listas!$AT$2:$AV$1104,3,FALSE))","v":""},null,{"$f":"IF(OR(F913=\"\",E913=\"\"),\"\",VLOOKUP(CONCATENATE(E913,Listas!AZ910),Listas!$BC$3:$BI$15430,7,FALSE))","v":""},null,null,{"$f":"IF(G913=\"\",\"\",VLOOKUP(G913,Listas!$BM$3:$BN$16,2,FALSE)*100)","v":""},"",{"$f":"+IFERROR(VLOOKUP(E913,Listas!$CQ$2:$CW$1104,7,FALSE),\"\")","v":""},"","",""]
[null,null,null,null,{"$f":"IF(D914=\"\",\"\",VLOOKUP(CONCATENATE(C914,D914),Listas!$AT$2:$AV$1104,3,FALSE))","v":""},null,{"$f":"IF(OR(F914=\"\",E914=\"\"),\"\",VLOOKUP(CONCATENATE(E914,Listas!AZ911),Listas!$BC$3:$BI$15430,7,FALSE))","v":""},null,null,{"$f":"IF(G914=\"\",\"\",VLOOKUP(G914,Listas!$BM$3:$BN$16,2,FALSE)*100)","v":""},"",{"$f":"+IFERROR(VLOOKUP(E914,Listas!$CQ$2:$CW$1104,7,FALSE),\"\")","v":""},"","",""]
[null,null,null,null,{"$f":"IF(D915=\"\",\"\",VLOOKUP(CONCATENATE(C915,D915),Listas!$AT$2:$AV$1104,3,FALSE))","v":""},null,{"$f":"IF(OR(F915=\"\",E915=\"\"),\"\",VLOOKUP(CONCATENATE(E915,Listas!AZ912),Listas!$BC$3:$BI$15430,7,FALSE))","v":""},null,null,{"$f":"IF(G915=\"\",\"\",VLOOKUP(G915,Listas!$BM$3:$BN$16,2,FALSE)*100)","v":""},"",{"$f":"+IFERROR(VLOOKUP(E915,Listas!$CQ$2:$CW$1104,7,FALSE),\"\")","v":""},"","",""]
[null,null,null,null,{"$f":"IF(D916=\"\",\"\",VLOOKUP(CONCATENATE(C916,D916),Listas!$AT$2:$AV$1104,3,FALSE))","v":""},null,{"$f":"IF(OR(F916=\"\",E916=\"\"),\"\",VLOOKUP(CONCATENATE(E916,Listas!AZ913),Listas!$BC$3:$BI$15430,7,FALSE))","v":""},null,null,{"$f":"IF(G916=\"\",\"\",VLOOKUP(G916,Listas!$BM$3:$BN$16,2,FALSE)*100)","v":""},"",{"$f":"+IFERROR(VLOOKUP(E916,Listas!$CQ$2:$CW$1104,7,FALSE),\"\")","v":""},"","",""]
[null,null,null,null,{"$f":"IF(D917=\"\",\"\",VLOOKUP(CONCATENATE(C917,D917),Listas!$AT$2:$AV$1104,3,FALSE))","v":""},null,{"$f":"IF(OR(F917=\"\",E917=\"\"),\"\",VLOOKUP(CONCATENATE(E917,Listas!AZ914),Listas!$BC$3:$BI$15430,7,FALSE))","v":""},null,null,{"$f":"IF(G917=\"\",\"\",VLOOKUP(G917,Listas!$BM$3:$BN$16,2,FALSE)*100)","v":""},"",{"$f":"+IFERROR(VLOOKUP(E917,Listas!$CQ$2:$CW$1104,7,FALSE),\"\")","v":""},"","",""]
[null,null,null,null,{"$f":"IF(D918=\"\",\"\",VLOOKUP(CONCATENATE(C918,D918),Listas!$AT$2:$AV$1104,3,FALSE))","v":""},null,{"$f":"IF(OR(F918=\"\",E918=\"\"),\"\",VLOOKUP(CONCATENATE(E918,Listas!AZ915),Listas!$BC$3:$BI$15430,7,FALSE))","v":""},null,null,{"$f":"IF(G918=\"\",\"\",VLOOKUP(G918,Listas!$BM$3:$BN$16,2,FALSE)*100)","v":""},"",{"$f":"+IFERROR(VLOOKUP(E918,Listas!$CQ$2:$CW$1104,7,FALSE),\"\")","v":""},"","",""]
[null,null,null,null,{"$f":"IF(D919=\"\",\"\",VLOOKUP(CONCATENATE(C919,D919),Listas!$AT$2:$AV$1104,3,FALSE))","v":""},null,{"$f":"IF(OR(F919=\"\",E919=\"\"),\"\",VLOOKUP(CONCATENATE(E919,Listas!AZ916),Listas!$BC$3:$BI$15430,7,FALSE))","v":""},null,null,{"$f":"IF(G919=\"\",\"\",VLOOKUP(G919,Listas!$BM$3:$BN$16,2,FALSE)*100)","v":""},"",{"$f":"+IFERROR(VLOOKUP(E919,Listas!$CQ$2:$CW$1104,7,FALSE),\"\")","v":""},"","",""]
[null,null,null,null,{"$f":"IF(D920=\"\",\"\",VLOOKUP(CONCATENATE(C920,D920),Listas!$AT$2:$AV$1104,3,FALSE))","v":""},null,{"$f":"IF(OR(F920=\"\",E920=\"\"),\"\",VLOOKUP(CONCATENATE(E920,Listas!AZ917),Listas!$BC$3:$BI$15430,7,FALSE))","v":""},null,null,{"$f":"IF(G920=\"\",\"\",VLOOKUP(G920,Listas!$BM$3:$BN$16,2,FALSE)*100)","v":""},"",{"$f":"+IFERROR(VLOOKUP(E920,Listas!$CQ$2:$CW$1104,7,FALSE),\"\")","v":""},"","",""]
[null,null,null,null,{"$f":"IF(D921=\"\",\"\",VLOOKUP(CONCATENATE(C921,D921),Listas!$AT$2:$AV$1104,3,FALSE))","v":""},null,{"$f":"IF(OR(F921=\"\",E921=\"\"),\"\",VLOOKUP(CONCATENATE(E921,Listas!AZ918),Listas!$BC$3:$BI$15430,7,FALSE))","v":""},null,null,{"$f":"IF(G921=\"\",\"\",VLOOKUP(G921,Listas!$BM$3:$BN$16,2,FALSE)*100)","v":""},"",{"$f":"+IFERROR(VLOOKUP(E921,Listas!$CQ$2:$CW$1104,7,FALSE),\"\")","v":""},"","",""]
[null,null,null,null,{"$f":"IF(D922=\"\",\"\",VLOOKUP(CONCATENATE(C922,D922),Listas!$AT$2:$AV$1104,3,FALSE))","v":""},null,{"$f":"IF(OR(F922=\"\",E922=\"\"),\"\",VLOOKUP(CONCATENATE(E922,Listas!AZ919),Listas!$BC$3:$BI$15430,7,FALSE))","v":""},null,null,{"$f":"IF(G922=\"\",\"\",VLOOKUP(G922,Listas!$BM$3:$BN$16,2,FALSE)*100)","v":""},"",{"$f":"+IFERROR(VLOOKUP(E922,Listas!$CQ$2:$CW$1104,7,FALSE),\"\")","v":""},"","",""]
[null,null,null,null,{"$f":"IF(D923=\"\",\"\",VLOOKUP(CONCATENATE(C923,D923),Listas!$AT$2:$AV$1104,3,FALSE))","v":""},null,{"$f":"IF(OR(F923=\"\",E923=\"\"),\"\",VLOOKUP(CONCATENATE(E923,Listas!AZ920),Listas!$BC$3:$BI$15430,7,FALSE))","v":""},null,null,{"$f":"IF(G923=\"\",\"\",VLOOKUP(G923,Listas!$BM$3:$BN$16,2,FALSE)*100)","v":""},"",{"$f":"+IFERROR(VLOOKUP(E923,Listas!$CQ$2:$CW$1104,7,FALSE),\"\")","v":""},"","",""]
[null,null,null,null,{"$f":"IF(D924=\"\",\"\",VLOOKUP(CONCATENATE(C924,D924),Listas!$AT$2:$AV$1104,3,FALSE))","v":""},null,{"$f":"IF(OR(F924=\"\",E924=\"\"),\"\",VLOOKUP(CONCATENATE(E924,Listas!AZ921),Listas!$BC$3:$BI$15430,7,FALSE))","v":""},null,null,{"$f":"IF(G924=\"\",\"\",VLOOKUP(G924,Listas!$BM$3:$BN$16,2,FALSE)*100)","v":""},"",{"$f":"+IFERROR(VLOOKUP(E924,Listas!$CQ$2:$CW$1104,7,FALSE),\"\")","v":""},"","",""]
[null,null,null,null,{"$f":"IF(D925=\"\",\"\",VLOOKUP(CONCATENATE(C925,D925),Listas!$AT$2:$AV$1104,3,FALSE))","v":""},null,{"$f":"IF(OR(F925=\"\",E925=\"\"),\"\",VLOOKUP(CONCATENATE(E925,Listas!AZ922),Listas!$BC$3:$BI$15430,7,FALSE))","v":""},null,null,{"$f":"IF(G925=\"\",\"\",VLOOKUP(G925,Listas!$BM$3:$BN$16,2,FALSE)*100)","v":""},"",{"$f":"+IFERROR(VLOOKUP(E925,Listas!$CQ$2:$CW$1104,7,FALSE),\"\")","v":""},"","",""]
[null,null,null,null,{"$f":"IF(D926=\"\",\"\",VLOOKUP(CONCATENATE(C926,D926),Listas!$AT$2:$AV$1104,3,FALSE))","v":""},null,{"$f":"IF(OR(F926=\"\",E926=\"\"),\"\",VLOOKUP(CONCATENATE(E926,Listas!AZ923),Listas!$BC$3:$BI$15430,7,FALSE))","v":""},null,null,{"$f":"IF(G926=\"\",\"\",VLOOKUP(G926,Listas!$BM$3:$BN$16,2,FALSE)*100)","v":""},"",{"$f":"+IFERROR(VLOOKUP(E926,Listas!$CQ$2:$CW$1104,7,FALSE),\"\")","v":""},"","",""]
[null,null,null,null,{"$f":"IF(D927=\"\",\"\",VLOOKUP(CONCATENATE(C927,D927),Listas!$AT$2:$AV$1104,3,FALSE))","v":""},null,{"$f":"IF(OR(F927=\"\",E927=\"\"),\"\",VLOOKUP(CONCATENATE(E927,Listas!AZ924),Listas!$BC$3:$BI$15430,7,FALSE))","v":""},null,null,{"$f":"IF(G927=\"\",\"\",VLOOKUP(G927,Listas!$BM$3:$BN$16,2,FALSE)*100)","v":""},"",{"$f":"+IFERROR(VLOOKUP(E927,Listas!$CQ$2:$CW$1104,7,FALSE),\"\")","v":""},"","",""]
[null,null,null,null,{"$f":"IF(D928=\"\",\"\",VLOOKUP(CONCATENATE(C928,D928),Listas!$AT$2:$AV$1104,3,FALSE))","v":""},null,{"$f":"IF(OR(F928=\"\",E928=\"\"),\"\",VLOOKUP(CONCATENATE(E928,Listas!AZ925),Listas!$BC$3:$BI$15430,7,FALSE))","v":""},null,null,{"$f":"IF(G928=\"\",\"\",VLOOKUP(G928,Listas!$BM$3:$BN$16,2,FALSE)*100)","v":""},"",{"$f":"+IFERROR(VLOOKUP(E928,Listas!$CQ$2:$CW$1104,7,FALSE),\"\")","v":""},"","",""]
[null,null,null,null,{"$f":"IF(D929=\"\",\"\",VLOOKUP(CONCATENATE(C929,D929),Listas!$AT$2:$AV$1104,3,FALSE))","v":""},null,{"$f":"IF(OR(F929=\"\",E929=\"\"),\"\",VLOOKUP(CONCATENATE(E929,Listas!AZ926),Listas!$BC$3:$BI$15430,7,FALSE))","v":""},null,null,{"$f":"IF(G929=\"\",\"\",VLOOKUP(G929,Listas!$BM$3:$BN$16,2,FALSE)*100)","v":""},"",{"$f":"+IFERROR(VLOOKUP(E929,Listas!$CQ$2:$CW$1104,7,FALSE),\"\")","v":""},"","",""]
[null,null,null,null,{"$f":"IF(D930=\"\",\"\",VLOOKUP(CONCATENATE(C930,D930),Listas!$AT$2:$AV$1104,3,FALSE))","v":""},null,{"$f":"IF(OR(F930=\"\",E930=\"\"),\"\",VLOOKUP(CONCATENATE(E930,Listas!AZ927),Listas!$BC$3:$BI$15430,7,FALSE))","v":""},null,null,{"$f":"IF(G930=\"\",\"\",VLOOKUP(G930,Listas!$BM$3:$BN$16,2,FALSE)*100)","v":""},"",{"$f":"+IFERROR(VLOOKUP(E930,Listas!$CQ$2:$CW$1104,7,FALSE),\"\")","v":""},"","",""]
[null,null,null,null,{"$f":"IF(D931=\"\",\"\",VLOOKUP(CONCATENATE(C931,D931),Listas!$AT$2:$AV$1104,3,FALSE))","v":""},null,{"$f":"IF(OR(F931=\"\",E931=\"\"),\"\",VLOOKUP(CONCATENATE(E931,Listas!AZ928),Listas!$BC$3:$BI$15430,7,FALSE))","v":""},null,null,{"$f":"IF(G931=\"\",\"\",VLOOKUP(G931,Listas!$BM$3:$BN$16,2,FALSE)*100)","v":""},"",{"$f":"+IFERROR(VLOOKUP(E931,Listas!$CQ$2:$CW$1104,7,FALSE),\"\")","v":""},"","",""]
[null,null,null,null,{"$f":"IF(D932=\"\",\"\",VLOOKUP(CONCATENATE(C932,D932),Listas!$AT$2:$AV$1104,3,FALSE))","v":""},null,{"$f":"IF(OR(F932=\"\",E932=\"\"),\"\",VLOOKUP(CONCATENATE(E932,Listas!AZ929),Listas!$BC$3:$BI$15430,7,FALSE))","v":""},null,null,{"$f":"IF(G932=\"\",\"\",VLOOKUP(G932,Listas!$BM$3:$BN$16,2,FALSE)*100)","v":""},"",{"$f":"+IFERROR(VLOOKUP(E932,Listas!$CQ$2:$CW$1104,7,FALSE),\"\")","v":""},"","",""]
[null,null,null,null,{"$f":"IF(D933=\"\",\"\",VLOOKUP(CONCATENATE(C933,D933),Listas!$AT$2:$AV$1104,3,FALSE))","v":""},null,{"$f":"IF(OR(F933=\"\",E933=\"\"),\"\",VLOOKUP(CONCATENATE(E933,Listas!AZ930),Listas!$BC$3:$BI$15430,7,FALSE))","v":""},null,null,{"$f":"IF(G933=\"\",\"\",VLOOKUP(G933,Listas!$BM$3:$BN$16,2,FALSE)*100)","v":""},"",{"$f":"+IFERROR(VLOOKUP(E933,Listas!$CQ$2:$CW$1104,7,FALSE),\"\")","v":""},"","",""]
[null,null,null,null,{"$f":"IF(D934=\"\",\"\",VLOOKUP(CONCATENATE(C934,D934),Listas!$AT$2:$AV$1104,3,FALSE))","v":""},null,{"$f":"IF(OR(F934=\"\",E934=\"\"),\"\",VLOOKUP(CONCATENATE(E934,Listas!AZ931),Listas!$BC$3:$BI$15430,7,FALSE))","v":""},null,null,{"$f":"IF(G934=\"\",\"\",VLOOKUP(G934,Listas!$BM$3:$BN$16,2,FALSE)*100)","v":""},"",{"$f":"+IFERROR(VLOOKUP(E934,Listas!$CQ$2:$CW$1104,7,FALSE),\"\")","v":""},"","",""]
[null,null,null,null,{"$f":"IF(D935=\"\",\"\",VLOOKUP(CONCATENATE(C935,D935),Listas!$AT$2:$AV$1104,3,FALSE))","v":""},null,{"$f":"IF(OR(F935=\"\",E935=\"\"),\"\",VLOOKUP(CONCATENATE(E935,Listas!AZ932),Listas!$BC$3:$BI$15430,7,FALSE))","v":""},null,null,{"$f":"IF(G935=\"\",\"\",VLOOKUP(G935,Listas!$BM$3:$BN$16,2,FALSE)*100)","v":""},"",{"$f":"+IFERROR(VLOOKUP(E935,Listas!$CQ$2:$CW$1104,7,FALSE),\"\")","v":""},"","",""]
[null,null,null,null,{"$f":"IF(D936=\"\",\"\",VLOOKUP(CONCATENATE(C936,D936),Listas!$AT$2:$AV$1104,3,FALSE))","v":""},null,{"$f":"IF(OR(F936=\"\",E936=\"\"),\"\",VLOOKUP(CONCATENATE(E936,Listas!AZ933),Listas!$BC$3:$BI$15430,7,FALSE))","v":""},null,null,{"$f":"IF(G936=\"\",\"\",VLOOKUP(G936,Listas!$BM$3:$BN$16,2,FALSE)*100)","v":""},"",{"$f":"+IFERROR(VLOOKUP(E936,Listas!$CQ$2:$CW$1104,7,FALSE),\"\")","v":""},"","",""]
[null,null,null,null,{"$f":"IF(D937=\"\",\"\",VLOOKUP(CONCATENATE(C937,D937),Listas!$AT$2:$AV$1104,3,FALSE))","v":""},null,{"$f":"IF(OR(F937=\"\",E937=\"\"),\"\",VLOOKUP(CONCATENATE(E937,Listas!AZ934),Listas!$BC$3:$BI$15430,7,FALSE))","v":""},null,null,{"$f":"IF(G937=\"\",\"\",VLOOKUP(G937,Listas!$BM$3:$BN$16,2,FALSE)*100)","v":""},"",{"$f":"+IFERROR(VLOOKUP(E937,Listas!$CQ$2:$CW$1104,7,FALSE),\"\")","v":""},"","",""]
[null,null,null,null,{"$f":"IF(D938=\"\",\"\",VLOOKUP(CONCATENATE(C938,D938),Listas!$AT$2:$AV$1104,3,FALSE))","v":""},null,{"$f":"IF(OR(F938=\"\",E938=\"\"),\"\",VLOOKUP(CONCATENATE(E938,Listas!AZ935),Listas!$BC$3:$BI$15430,7,FALSE))","v":""},null,null,{"$f":"IF(G938=\"\",\"\",VLOOKUP(G938,Listas!$BM$3:$BN$16,2,FALSE)*100)","v":""},"",{"$f":"+IFERROR(VLOOKUP(E938,Listas!$CQ$2:$CW$1104,7,FALSE),\"\")","v":""},"","",""]
[null,null,null,null,{"$f":"IF(D939=\"\",\"\",VLOOKUP(CONCATENATE(C939,D939),Listas!$AT$2:$AV$1104,3,FALSE))","v":""},null,{"$f":"IF(OR(F939=\"\",E939=\"\"),\"\",VLOOKUP(CONCATENATE(E939,Listas!AZ936),Listas!$BC$3:$BI$15430,7,FALSE))","v":""},null,null,{"$f":"IF(G939=\"\",\"\",VLOOKUP(G939,Listas!$BM$3:$BN$16,2,FALSE)*100)","v":""},"",{"$f":"+IFERROR(VLOOKUP(E939,Listas!$CQ$2:$CW$1104,7,FALSE),\"\")","v":""},"","",""]
[null,null,null,null,{"$f":"IF(D940=\"\",\"\",VLOOKUP(CONCATENATE(C940,D940),Listas!$AT$2:$AV$1104,3,FALSE))","v":""},null,{"$f":"IF(OR(F940=\"\",E940=\"\"),\"\",VLOOKUP(CONCATENATE(E940,Listas!AZ937),Listas!$BC$3:$BI$15430,7,FALSE))","v":""},null,null,{"$f":"IF(G940=\"\",\"\",VLOOKUP(G940,Listas!$BM$3:$BN$16,2,FALSE)*100)","v":""},"",{"$f":"+IFERROR(VLOOKUP(E940,Listas!$CQ$2:$CW$1104,7,FALSE),\"\")","v":""},"","",""]
[null,null,null,null,{"$f":"IF(D941=\"\",\"\",VLOOKUP(CONCATENATE(C941,D941),Listas!$AT$2:$AV$1104,3,FALSE))","v":""},null,{"$f":"IF(OR(F941=\"\",E941=\"\"),\"\",VLOOKUP(CONCATENATE(E941,Listas!AZ938),Listas!$BC$3:$BI$15430,7,FALSE))","v":""},null,null,{"$f":"IF(G941=\"\",\"\",VLOOKUP(G941,Listas!$BM$3:$BN$16,2,FALSE)*100)","v":""},"",{"$f":"+IFERROR(VLOOKUP(E941,Listas!$CQ$2:$CW$1104,7,FALSE),\"\")","v":""},"","",""]
[null,null,null,null,{"$f":"IF(D942=\"\",\"\",VLOOKUP(CONCATENATE(C942,D942),Listas!$AT$2:$AV$1104,3,FALSE))","v":""},null,{"$f":"IF(OR(F942=\"\",E942=\"\"),\"\",VLOOKUP(CONCATENATE(E942,Listas!AZ939),Listas!$BC$3:$BI$15430,7,FALSE))","v":""},null,null,{"$f":"IF(G942=\"\",\"\",VLOOKUP(G942,Listas!$BM$3:$BN$16,2,FALSE)*100)","v":""},"",{"$f":"+IFERROR(VLOOKUP(E942,Listas!$CQ$2:$CW$1104,7,FALSE),\"\")","v":""},"","",""]
[null,null,null,null,{"$f":"IF(D943=\"\",\"\",VLOOKUP(CONCATENATE(C943,D943),Listas!$AT$2:$AV$1104,3,FALSE))","v":""},null,{"$f":"IF(OR(F943=\"\",E943=\"\"),\"\",VLOOKUP(CONCATENATE(E943,Listas!AZ940),Listas!$BC$3:$BI$15430,7,FALSE))","v":""},null,null,{"$f":"IF(G943=\"\",\"\",VLOOKUP(G943,Listas!$BM$3:$BN$16,2,FALSE)*100)","v":""},"",{"$f":"+IFERROR(VLOOKUP(E943,Listas!$CQ$2:$CW$1104,7,FALSE),\"\")","v":""},"","",""]
[null,null,null,null,{"$f":"IF(D944=\"\",\"\",VLOOKUP(CONCATENATE(C944,D944),Listas!$AT$2:$AV$1104,3,FALSE))","v":""},null,{"$f":"IF(OR(F944=\"\",E944=\"\"),\"\",VLOOKUP(CONCATENATE(E944,Listas!AZ941),Listas!$BC$3:$BI$15430,7,FALSE))","v":""},null,null,{"$f":"IF(G944=\"\",\"\",VLOOKUP(G944,Listas!$BM$3:$BN$16,2,FALSE)*100)","v":""},"",{"$f":"+IFERROR(VLOOKUP(E944,Listas!$CQ$2:$CW$1104,7,FALSE),\"\")","v":""},"","",""]
[null,null,null,null,{"$f":"IF(D945=\"\",\"\",VLOOKUP(CONCATENATE(C945,D945),Listas!$AT$2:$AV$1104,3,FALSE))","v":""},null,{"$f":"IF(OR(F945=\"\",E945=\"\"),\"\",VLOOKUP(CONCATENATE(E945,Listas!AZ942),Listas!$BC$3:$BI$15430,7,FALSE))","v":""},null,null,{"$f":"IF(G945=\"\",\"\",VLOOKUP(G945,Listas!$BM$3:$BN$16,2,FALSE)*100)","v":""},"",{"$f":"+IFERROR(VLOOKUP(E945,Listas!$CQ$2:$CW$1104,7,FALSE),\"\")","v":""},"","",""]
[null,null,null,null,{"$f":"IF(D946=\"\",\"\",VLOOKUP(CONCATENATE(C946,D946),Listas!$AT$2:$AV$1104,3,FALSE))","v":""},null,{"$f":"IF(OR(F946=\"\",E946=\"\"),\"\",VLOOKUP(CONCATENATE(E946,Listas!AZ943),Listas!$BC$3:$BI$15430,7,FALSE))","v":""},null,null,{"$f":"IF(G946=\"\",\"\",VLOOKUP(G946,Listas!$BM$3:$BN$16,2,FALSE)*100)","v":""},"",{"$f":"+IFERROR(VLOOKUP(E946,Listas!$CQ$2:$CW$1104,7,FALSE),\"\")","v":""},"","",""]
[null,null,null,null,{"$f":"IF(D947=\"\",\"\",VLOOKUP(CONCATENATE(C947,D947),Listas!$AT$2:$AV$1104,3,FALSE))","v":""},null,{"$f":"IF(OR(F947=\"\",E947=\"\"),\"\",VLOOKUP(CONCATENATE(E947,Listas!AZ944),Listas!$BC$3:$BI$15430,7,FALSE))","v":""},null,null,{"$f":"IF(G947=\"\",\"\",VLOOKUP(G947,Listas!$BM$3:$BN$16,2,FALSE)*100)","v":""},"",{"$f":"+IFERROR(VLOOKUP(E947,Listas!$CQ$2:$CW$1104,7,FALSE),\"\")","v":""},"","",""]
[null,null,null,null,{"$f":"IF(D948=\"\",\"\",VLOOKUP(CONCATENATE(C948,D948),Listas!$AT$2:$AV$1104,3,FALSE))","v":""},null,{"$f":"IF(OR(F948=\"\",E948=\"\"),\"\",VLOOKUP(CONCATENATE(E948,Listas!AZ945),Listas!$BC$3:$BI$15430,7,FALSE))","v":""},null,null,{"$f":"IF(G948=\"\",\"\",VLOOKUP(G948,Listas!$BM$3:$BN$16,2,FALSE)*100)","v":""},"",{"$f":"+IFERROR(VLOOKUP(E948,Listas!$CQ$2:$CW$1104,7,FALSE),\"\")","v":""},"","",""]
[null,null,null,null,{"$f":"IF(D949=\"\",\"\",VLOOKUP(CONCATENATE(C949,D949),Listas!$AT$2:$AV$1104,3,FALSE))","v":""},null,{"$f":"IF(OR(F949=\"\",E949=\"\"),\"\",VLOOKUP(CONCATENATE(E949,Listas!AZ946),Listas!$BC$3:$BI$15430,7,FALSE))","v":""},null,null,{"$f":"IF(G949=\"\",\"\",VLOOKUP(G949,Listas!$BM$3:$BN$16,2,FALSE)*100)","v":""},"",{"$f":"+IFERROR(VLOOKUP(E949,Listas!$CQ$2:$CW$1104,7,FALSE),\"\")","v":""},"","",""]
[null,null,null,null,{"$f":"IF(D950=\"\",\"\",VLOOKUP(CONCATENATE(C950,D950),Listas!$AT$2:$AV$1104,3,FALSE))","v":""},null,{"$f":"IF(OR(F950=\"\",E950=\"\"),\"\",VLOOKUP(CONCATENATE(E950,Listas!AZ947),Listas!$BC$3:$BI$15430,7,FALSE))","v":""},null,null,{"$f":"IF(G950=\"\",\"\",VLOOKUP(G950,Listas!$BM$3:$BN$16,2,FALSE)*100)","v":""},"",{"$f":"+IFERROR(VLOOKUP(E950,Listas!$CQ$2:$CW$1104,7,FALSE),\"\")","v":""},"","",""]
[null,null,null,null,{"$f":"IF(D951=\"\",\"\",VLOOKUP(CONCATENATE(C951,D951),Listas!$AT$2:$AV$1104,3,FALSE))","v":""},null,{"$f":"IF(OR(F951=\"\",E951=\"\"),\"\",VLOOKUP(CONCATENATE(E951,Listas!AZ948),Listas!$BC$3:$BI$15430,7,FALSE))","v":""},null,null,{"$f":"IF(G951=\"\",\"\",VLOOKUP(G951,Listas!$BM$3:$BN$16,2,FALSE)*100)","v":""},"",{"$f":"+IFERROR(VLOOKUP(E951,Listas!$CQ$2:$CW$1104,7,FALSE),\"\")","v":""},"","",""]
[null,null,null,null,{"$f":"IF(D952=\"\",\"\",VLOOKUP(CONCATENATE(C952,D952),Listas!$AT$2:$AV$1104,3,FALSE))","v":""},null,{"$f":"IF(OR(F952=\"\",E952=\"\"),\"\",VLOOKUP(CONCATENATE(E952,Listas!AZ949),Listas!$BC$3:$BI$15430,7,FALSE))","v":""},null,null,{"$f":"IF(G952=\"\",\"\",VLOOKUP(G952,Listas!$BM$3:$BN$16,2,FALSE)*100)","v":""},"",{"$f":"+IFERROR(VLOOKUP(E952,Listas!$CQ$2:$CW$1104,7,FALSE),\"\")","v":""},"","",""]
[null,null,null,null,{"$f":"IF(D953=\"\",\"\",VLOOKUP(CONCATENATE(C953,D953),Listas!$AT$2:$AV$1104,3,FALSE))","v":""},null,{"$f":"IF(OR(F953=\"\",E953=\"\"),\"\",VLOOKUP(CONCATENATE(E953,Listas!AZ950),Listas!$BC$3:$BI$15430,7,FALSE))","v":""},null,null,{"$f":"IF(G953=\"\",\"\",VLOOKUP(G953,Listas!$BM$3:$BN$16,2,FALSE)*100)","v":""},"",{"$f":"+IFERROR(VLOOKUP(E953,Listas!$CQ$2:$CW$1104,7,FALSE),\"\")","v":""},"","",""]
[null,null,null,null,{"$f":"IF(D954=\"\",\"\",VLOOKUP(CONCATENATE(C954,D954),Listas!$AT$2:$AV$1104,3,FALSE))","v":""},null,{"$f":"IF(OR(F954=\"\",E954=\"\"),\"\",VLOOKUP(CONCATENATE(E954,Listas!AZ951),Listas!$BC$3:$BI$15430,7,FALSE))","v":""},null,null,{"$f":"IF(G954=\"\",\"\",VLOOKUP(G954,Listas!$BM$3:$BN$16,2,FALSE)*100)","v":""},"",{"$f":"+IFERROR(VLOOKUP(E954,Listas!$CQ$2:$CW$1104,7,FALSE),\"\")","v":""},"","",""]
[null,null,null,null,{"$f":"IF(D955=\"\",\"\",VLOOKUP(CONCATENATE(C955,D955),Listas!$AT$2:$AV$1104,3,FALSE))","v":""},null,{"$f":"IF(OR(F955=\"\",E955=\"\"),\"\",VLOOKUP(CONCATENATE(E955,Listas!AZ952),Listas!$BC$3:$BI$15430,7,FALSE))","v":""},null,null,{"$f":"IF(G955=\"\",\"\",VLOOKUP(G955,Listas!$BM$3:$BN$16,2,FALSE)*100)","v":""},"",{"$f":"+IFERROR(VLOOKUP(E955,Listas!$CQ$2:$CW$1104,7,FALSE),\"\")","v":""},"","",""]
[null,null,null,null,{"$f":"IF(D956=\"\",\"\",VLOOKUP(CONCATENATE(C956,D956),Listas!$AT$2:$AV$1104,3,FALSE))","v":""},null,{"$f":"IF(OR(F956=\"\",E956=\"\"),\"\",VLOOKUP(CONCATENATE(E956,Listas!AZ953),Listas!$BC$3:$BI$15430,7,FALSE))","v":""},null,null,{"$f":"IF(G956=\"\",\"\",VLOOKUP(G956,Listas!$BM$3:$BN$16,2,FALSE)*100)","v":""},"",{"$f":"+IFERROR(VLOOKUP(E956,Listas!$CQ$2:$CW$1104,7,FALSE),\"\")","v":""},"","",""]
[null,null,null,null,{"$f":"IF(D957=\"\",\"\",VLOOKUP(CONCATENATE(C957,D957),Listas!$AT$2:$AV$1104,3,FALSE))","v":""},null,{"$f":"IF(OR(F957=\"\",E957=\"\"),\"\",VLOOKUP(CONCATENATE(E957,Listas!AZ954),Listas!$BC$3:$BI$15430,7,FALSE))","v":""},null,null,{"$f":"IF(G957=\"\",\"\",VLOOKUP(G957,Listas!$BM$3:$BN$16,2,FALSE)*100)","v":""},"",{"$f":"+IFERROR(VLOOKUP(E957,Listas!$CQ$2:$CW$1104,7,FALSE),\"\")","v":""},"","",""]
[null,null,null,null,{"$f":"IF(D958=\"\",\"\",VLOOKUP(CONCATENATE(C958,D958),Listas!$AT$2:$AV$1104,3,FALSE))","v":""},null,{"$f":"IF(OR(F958=\"\",E958=\"\"),\"\",VLOOKUP(CONCATENATE(E958,Listas!AZ955),Listas!$BC$3:$BI$15430,7,FALSE))","v":""},null,null,{"$f":"IF(G958=\"\",\"\",VLOOKUP(G958,Listas!$BM$3:$BN$16,2,FALSE)*100)","v":""},"",{"$f":"+IFERROR(VLOOKUP(E958,Listas!$CQ$2:$CW$1104,7,FALSE),\"\")","v":""},"","",""]
[null,null,null,null,{"$f":"IF(D959=\"\",\"\",VLOOKUP(CONCATENATE(C959,D959),Listas!$AT$2:$AV$1104,3,FALSE))","v":""},null,{"$f":"IF(OR(F959=\"\",E959=\"\"),\"\",VLOOKUP(CONCATENATE(E959,Listas!AZ956),Listas!$BC$3:$BI$15430,7,FALSE))","v":""},null,null,{"$f":"IF(G959=\"\",\"\",VLOOKUP(G959,Listas!$BM$3:$BN$16,2,FALSE)*100)","v":""},"",{"$f":"+IFERROR(VLOOKUP(E959,Listas!$CQ$2:$CW$1104,7,FALSE),\"\")","v":""},"","",""]
[null,null,null,null,{"$f":"IF(D960=\"\",\"\",VLOOKUP(CONCATENATE(C960,D960),Listas!$AT$2:$AV$1104,3,FALSE))","v":""},null,{"$f":"IF(OR(F960=\"\",E960=\"\"),\"\",VLOOKUP(CONCATENATE(E960,Listas!AZ957),Listas!$BC$3:$BI$15430,7,FALSE))","v":""},null,null,{"$f":"IF(G960=\"\",\"\",VLOOKUP(G960,Listas!$BM$3:$BN$16,2,FALSE)*100)","v":""},"",{"$f":"+IFERROR(VLOOKUP(E960,Listas!$CQ$2:$CW$1104,7,FALSE),\"\")","v":""},"","",""]
[null,null,null,null,{"$f":"IF(D961=\"\",\"\",VLOOKUP(CONCATENATE(C961,D961),Listas!$AT$2:$AV$1104,3,FALSE))","v":""},null,{"$f":"IF(OR(F961=\"\",E961=\"\"),\"\",VLOOKUP(CONCATENATE(E961,Listas!AZ958),Listas!$BC$3:$BI$15430,7,FALSE))","v":""},null,null,{"$f":"IF(G961=\"\",\"\",VLOOKUP(G961,Listas!$BM$3:$BN$16,2,FALSE)*100)","v":""},"",{"$f":"+IFERROR(VLOOKUP(E961,Listas!$CQ$2:$CW$1104,7,FALSE),\"\")","v":""},"","",""]
[null,null,null,null,{"$f":"IF(D962=\"\",\"\",VLOOKUP(CONCATENATE(C962,D962),Listas!$AT$2:$AV$1104,3,FALSE))","v":""},null,{"$f":"IF(OR(F962=\"\",E962=\"\"),\"\",VLOOKUP(CONCATENATE(E962,Listas!AZ959),Listas!$BC$3:$BI$15430,7,FALSE))","v":""},null,null,{"$f":"IF(G962=\"\",\"\",VLOOKUP(G962,Listas!$BM$3:$BN$16,2,FALSE)*100)","v":""},"",{"$f":"+IFERROR(VLOOKUP(E962,Listas!$CQ$2:$CW$1104,7,FALSE),\"\")","v":""},"","",""]
[null,null,null,null,{"$f":"IF(D963=\"\",\"\",VLOOKUP(CONCATENATE(C963,D963),Listas!$AT$2:$AV$1104,3,FALSE))","v":""},null,{"$f":"IF(OR(F963=\"\",E963=\"\"),\"\",VLOOKUP(CONCATENATE(E963,Listas!AZ960),Listas!$BC$3:$BI$15430,7,FALSE))","v":""},null,null,{"$f":"IF(G963=\"\",\"\",VLOOKUP(G963,Listas!$BM$3:$BN$16,2,FALSE)*100)","v":""},"",{"$f":"+IFERROR(VLOOKUP(E963,Listas!$CQ$2:$CW$1104,7,FALSE),\"\")","v":""},"","",""]
[null,null,null,null,{"$f":"IF(D964=\"\",\"\",VLOOKUP(CONCATENATE(C964,D964),Listas!$AT$2:$AV$1104,3,FALSE))","v":""},null,{"$f":"IF(OR(F964=\"\",E964=\"\"),\"\",VLOOKUP(CONCATENATE(E964,Listas!AZ961),Listas!$BC$3:$BI$15430,7,FALSE))","v":""},null,null,{"$f":"IF(G964=\"\",\"\",VLOOKUP(G964,Listas!$BM$3:$BN$16,2,FALSE)*100)","v":""},"",{"$f":"+IFERROR(VLOOKUP(E964,Listas!$CQ$2:$CW$1104,7,FALSE),\"\")","v":""},"","",""]
[null,null,null,null,{"$f":"IF(D965=\"\",\"\",VLOOKUP(CONCATENATE(C965,D965),Listas!$AT$2:$AV$1104,3,FALSE))","v":""},null,{"$f":"IF(OR(F965=\"\",E965=\"\"),\"\",VLOOKUP(CONCATENATE(E965,Listas!AZ962),Listas!$BC$3:$BI$15430,7,FALSE))","v":""},null,null,{"$f":"IF(G965=\"\",\"\",VLOOKUP(G965,Listas!$BM$3:$BN$16,2,FALSE)*100)","v":""},"",{"$f":"+IFERROR(VLOOKUP(E965,Listas!$CQ$2:$CW$1104,7,FALSE),\"\")","v":""},"","",""]
[null,null,null,null,{"$f":"IF(D966=\"\",\"\",VLOOKUP(CONCATENATE(C966,D966),Listas!$AT$2:$AV$1104,3,FALSE))","v":""},null,{"$f":"IF(OR(F966=\"\",E966=\"\"),\"\",VLOOKUP(CONCATENATE(E966,Listas!AZ963),Listas!$BC$3:$BI$15430,7,FALSE))","v":""},null,null,{"$f":"IF(G966=\"\",\"\",VLOOKUP(G966,Listas!$BM$3:$BN$16,2,FALSE)*100)","v":""},{"$f":"+IF(H966=\"\",\"\",IF(H966=\"Sí\",1,0)*100)","v":""},{"$f":"+IFERROR(VLOOKUP(E966,Listas!$CQ$2:$CW$1104,7,FALSE),\"\")","v":""},{"$f":"+IF(I966=\"\",\"\",IF(I966=\"Sí\",1,0)*100)","v":""},"",""]
[null,null,null,null,{"$f":"IF(D967=\"\",\"\",VLOOKUP(CONCATENATE(C967,D967),Listas!$AT$2:$AV$1104,3,FALSE))","v":""},null,{"$f":"IF(OR(F967=\"\",E967=\"\"),\"\",VLOOKUP(CONCATENATE(E967,Listas!AZ964),Listas!$BC$3:$BI$15430,7,FALSE))","v":""},null,null,{"$f":"IF(G967=\"\",\"\",VLOOKUP(G967,Listas!$BM$3:$BN$16,2,FALSE)*100)","v":""},"",{"$f":"+IFERROR(VLOOKUP(E967,Listas!$CQ$2:$CW$1104,7,FALSE),\"\")","v":""},"",{"$f":"IF(E967=\"\",\"\",SUMPRODUCT(J967:M967,$J$2:$M$2))","v":""},{"$f":"+IFERROR(J967*58%,\"\")","v":""}]
[null,null,null,null,{"$f":"IF(D968=\"\",\"\",VLOOKUP(CONCATENATE(C968,D968),Listas!$AT$2:$AV$1104,3,FALSE))","v":""},null,{"$f":"IF(OR(F968=\"\",E968=\"\"),\"\",VLOOKUP(CONCATENATE(E968,Listas!AZ965),Listas!$BC$3:$BI$15430,7,FALSE))","v":""},null,null,{"$f":"IF(G968=\"\",\"\",VLOOKUP(G968,Listas!$BM$3:$BN$16,2,FALSE)*100)","v":""},"",{"$f":"+IFERROR(VLOOKUP(E968,Listas!$CQ$2:$CW$1104,7,FALSE),\"\")","v":""},"","",""]
[null,null,null,null,{"$f":"IF(D969=\"\",\"\",VLOOKUP(CONCATENATE(C969,D969),Listas!$AT$2:$AV$1104,3,FALSE))","v":""},null,{"$f":"IF(OR(F969=\"\",E969=\"\"),\"\",VLOOKUP(CONCATENATE(E969,Listas!AZ966),Listas!$BC$3:$BI$15430,7,FALSE))","v":""},null,null,{"$f":"IF(G969=\"\",\"\",VLOOKUP(G969,Listas!$BM$3:$BN$16,2,FALSE)*100)","v":""},"",{"$f":"+IFERROR(VLOOKUP(E969,Listas!$CQ$2:$CW$1104,7,FALSE),\"\")","v":""},"","",""]
[null,null,null,null,{"$f":"IF(D970=\"\",\"\",VLOOKUP(CONCATENATE(C970,D970),Listas!$AT$2:$AV$1104,3,FALSE))","v":""},null,{"$f":"IF(OR(F970=\"\",E970=\"\"),\"\",VLOOKUP(CONCATENATE(E970,Listas!AZ967),Listas!$BC$3:$BI$15430,7,FALSE))","v":""},null,null,{"$f":"IF(G970=\"\",\"\",VLOOKUP(G970,Listas!$BM$3:$BN$16,2,FALSE)*100)","v":""},"",{"$f":"+IFERROR(VLOOKUP(E970,Listas!$CQ$2:$CW$1104,7,FALSE),\"\")","v":""},"","",""]
[null,null,null,null,{"$f":"IF(D971=\"\",\"\",VLOOKUP(CONCATENATE(C971,D971),Listas!$AT$2:$AV$1104,3,FALSE))","v":""},null,{"$f":"IF(OR(F971=\"\",E971=\"\"),\"\",VLOOKUP(CONCATENATE(E971,Listas!AZ968),Listas!$BC$3:$BI$15430,7,FALSE))","v":""},null,null,{"$f":"IF(G971=\"\",\"\",VLOOKUP(G971,Listas!$BM$3:$BN$16,2,FALSE)*100)","v":""},"",{"$f":"+IFERROR(VLOOKUP(E971,Listas!$CQ$2:$CW$1104,7,FALSE),\"\")","v":""},"","",""]
[null,null,null,null,{"$f":"IF(D972=\"\",\"\",VLOOKUP(CONCATENATE(C972,D972),Listas!$AT$2:$AV$1104,3,FALSE))","v":""},null,{"$f":"IF(OR(F972=\"\",E972=\"\"),\"\",VLOOKUP(CONCATENATE(E972,Listas!AZ969),Listas!$BC$3:$BI$15430,7,FALSE))","v":""},null,null,{"$f":"IF(G972=\"\",\"\",VLOOKUP(G972,Listas!$BM$3:$BN$16,2,FALSE)*100)","v":""},"",{"$f":"+IFERROR(VLOOKUP(E972,Listas!$CQ$2:$CW$1104,7,FALSE),\"\")","v":""},"","",""]
[null,null,null,null,{"$f":"IF(D973=\"\",\"\",VLOOKUP(CONCATENATE(C973,D973),Listas!$AT$2:$AV$1104,3,FALSE))","v":""},null,{"$f":"IF(OR(F973=\"\",E973=\"\"),\"\",VLOOKUP(CONCATENATE(E973,Listas!AZ970),Listas!$BC$3:$BI$15430,7,FALSE))","v":""},null,null,{"$f":"IF(G973=\"\",\"\",VLOOKUP(G973,Listas!$BM$3:$BN$16,2,FALSE)*100)","v":""},"",{"$f":"+IFERROR(VLOOKUP(E973,Listas!$CQ$2:$CW$1104,7,FALSE),\"\")","v":""},"","",""]
[null,null,null,null,{"$f":"IF(D974=\"\",\"\",VLOOKUP(CONCATENATE(C974,D974),Listas!$AT$2:$AV$1104,3,FALSE))","v":""},null,{"$f":"IF(OR(F974=\"\",E974=\"\"),\"\",VLOOKUP(CONCATENATE(E974,Listas!AZ971),Listas!$BC$3:$BI$15430,7,FALSE))","v":""},null,null,{"$f":"IF(G974=\"\",\"\",VLOOKUP(G974,Listas!$BM$3:$BN$16,2,FALSE)*100)","v":""},"",{"$f":"+IFERROR(VLOOKUP(E974,Listas!$CQ$2:$CW$1104,7,FALSE),\"\")","v":""},"","",""]
[null,null,null,null,{"$f":"IF(D975=\"\",\"\",VLOOKUP(CONCATENATE(C975,D975),Listas!$AT$2:$AV$1104,3,FALSE))","v":""},null,{"$f":"IF(OR(F975=\"\",E975=\"\"),\"\",VLOOKUP(CONCATENATE(E975,Listas!AZ972),Listas!$BC$3:$BI$15430,7,FALSE))","v":""},null,null,{"$f":"IF(G975=\"\",\"\",VLOOKUP(G975,Listas!$BM$3:$BN$16,2,FALSE)*100)","v":""},"",{"$f":"+IFERROR(VLOOKUP(E975,Listas!$CQ$2:$CW$1104,7,FALSE),\"\")","v":""},"","",""]
[null,null,null,null,{"$f":"IF(D976=\"\",\"\",VLOOKUP(CONCATENATE(C976,D976),Listas!$AT$2:$AV$1104,3,FALSE))","v":""},null,{"$f":"IF(OR(F976=\"\",E976=\"\"),\"\",VLOOKUP(CONCATENATE(E976,Listas!AZ973),Listas!$BC$3:$BI$15430,7,FALSE))","v":""},null,null,{"$f":"IF(G976=\"\",\"\",VLOOKUP(G976,Listas!$BM$3:$BN$16,2,FALSE)*100)","v":""},"",{"$f":"+IFERROR(VLOOKUP(E976,Listas!$CQ$2:$CW$1104,7,FALSE),\"\")","v":""},"","",""]
[null,null,null,null,{"$f":"IF(D977=\"\",\"\",VLOOKUP(CONCATENATE(C977,D977),Listas!$AT$2:$AV$1104,3,FALSE))","v":""},null,{"$f":"IF(OR(F977=\"\",E977=\"\"),\"\",VLOOKUP(CONCATENATE(E977,Listas!AZ974),Listas!$BC$3:$BI$15430,7,FALSE))","v":""},null,null,{"$f":"IF(G977=\"\",\"\",VLOOKUP(G977,Listas!$BM$3:$BN$16,2,FALSE)*100)","v":""},"",{"$f":"+IFERROR(VLOOKUP(E977,Listas!$CQ$2:$CW$1104,7,FALSE),\"\")","v":""},"","",""]
[null,null,null,null,{"$f":"IF(D978=\"\",\"\",VLOOKUP(CONCATENATE(C978,D978),Listas!$AT$2:$AV$1104,3,FALSE))","v":""},null,{"$f":"IF(OR(F978=\"\",E978=\"\"),\"\",VLOOKUP(CONCATENATE(E978,Listas!AZ975),Listas!$BC$3:$BI$15430,7,FALSE))","v":""},null,null,{"$f":"IF(G978=\"\",\"\",VLOOKUP(G978,Listas!$BM$3:$BN$16,2,FALSE)*100)","v":""},"",{"$f":"+IFERROR(VLOOKUP(E978,Listas!$CQ$2:$CW$1104,7,FALSE),\"\")","v":""},"","",""]
[null,null,null,null,{"$f":"IF(D979=\"\",\"\",VLOOKUP(CONCATENATE(C979,D979),Listas!$AT$2:$AV$1104,3,FALSE))","v":""},null,{"$f":"IF(OR(F979=\"\",E979=\"\"),\"\",VLOOKUP(CONCATENATE(E979,Listas!AZ976),Listas!$BC$3:$BI$15430,7,FALSE))","v":""},null,null,{"$f":"IF(G979=\"\",\"\",VLOOKUP(G979,Listas!$BM$3:$BN$16,2,FALSE)*100)","v":""},"",{"$f":"+IFERROR(VLOOKUP(E979,Listas!$CQ$2:$CW$1104,7,FALSE),\"\")","v":""},"","",""]
[null,null,null,null,{"$f":"IF(D980=\"\",\"\",VLOOKUP(CONCATENATE(C980,D980),Listas!$AT$2:$AV$1104,3,FALSE))","v":""},null,{"$f":"IF(OR(F980=\"\",E980=\"\"),\"\",VLOOKUP(CONCATENATE(E980,Listas!AZ977),Listas!$BC$3:$BI$15430,7,FALSE))","v":""},null,null,{"$f":"IF(G980=\"\",\"\",VLOOKUP(G980,Listas!$BM$3:$BN$16,2,FALSE)*100)","v":""},"",{"$f":"+IFERROR(VLOOKUP(E980,Listas!$CQ$2:$CW$1104,7,FALSE),\"\")","v":""},"","",""]
[null,null,null,null,{"$f":"IF(D981=\"\",\"\",VLOOKUP(CONCATENATE(C981,D981),Listas!$AT$2:$AV$1104,3,FALSE))","v":""},null,{"$f":"IF(OR(F981=\"\",E981=\"\"),\"\",VLOOKUP(CONCATENATE(E981,Listas!AZ978),Listas!$BC$3:$BI$15430,7,FALSE))","v":""},null,null,{"$f":"IF(G981=\"\",\"\",VLOOKUP(G981,Listas!$BM$3:$BN$16,2,FALSE)*100)","v":""},"",{"$f":"+IFERROR(VLOOKUP(E981,Listas!$CQ$2:$CW$1104,7,FALSE),\"\")","v":""},"","",""]
[null,null,null,null,{"$f":"IF(D982=\"\",\"\",VLOOKUP(CONCATENATE(C982,D982),Listas!$AT$2:$AV$1104,3,FALSE))","v":""},null,{"$f":"IF(OR(F982=\"\",E982=\"\"),\"\",VLOOKUP(CONCATENATE(E982,Listas!AZ979),Listas!$BC$3:$BI$15430,7,FALSE))","v":""},null,null,{"$f":"IF(G982=\"\",\"\",VLOOKUP(G982,Listas!$BM$3:$BN$16,2,FALSE)*100)","v":""},"",{"$f":"+IFERROR(VLOOKUP(E982,Listas!$CQ$2:$CW$1104,7,FALSE),\"\")","v":""},"","",""]
[null,null,null,null,{"$f":"IF(D983=\"\",\"\",VLOOKUP(CONCATENATE(C983,D983),Listas!$AT$2:$AV$1104,3,FALSE))","v":""},null,{"$f":"IF(OR(F983=\"\",E983=\"\"),\"\",VLOOKUP(CONCATENATE(E983,Listas!AZ980),Listas!$BC$3:$BI$15430,7,FALSE))","v":""},null,null,{"$f":"IF(G983=\"\",\"\",VLOOKUP(G983,Listas!$BM$3:$BN$16,2,FALSE)*100)","v":""},"",{"$f":"+IFERROR(VLOOKUP(E983,Listas!$CQ$2:$CW$1104,7,FALSE),\"\")","v":""},"","",""]
[null,null,null,null,{"$f":"IF(D984=\"\",\"\",VLOOKUP(CONCATENATE(C984,D984),Listas!$AT$2:$AV$1104,3,FALSE))","v":""},null,{"$f":"IF(OR(F984=\"\",E984=\"\"),\"\",VLOOKUP(CONCATENATE(E984,Listas!AZ981),Listas!$BC$3:$BI$15430,7,FALSE))","v":""},null,null,{"$f":"IF(G984=\"\",\"\",VLOOKUP(G984,Listas!$BM$3:$BN$16,2,FALSE)*100)","v":""},"",{"$f":"+IFERROR(VLOOKUP(E984,Listas!$CQ$2:$CW$1104,7,FALSE),\"\")","v":""},"","",""]
[null,null,null,null,{"$f":"IF(D985=\"\",\"\",VLOOKUP(CONCATENATE(C985,D985),Listas!$AT$2:$AV$1104,3,FALSE))","v":""},null,{"$f":"IF(OR(F985=\"\",E985=\"\"),\"\",VLOOKUP(CONCATENATE(E985,Listas!AZ982),Listas!$BC$3:$BI$15430,7,FALSE))","v":""},null,null,{"$f":"IF(G985=\"\",\"\",VLOOKUP(G985,Listas!$BM$3:$BN$16,2,FALSE)*100)","v":""},"",{"$f":"+IFERROR(VLOOKUP(E985,Listas!$CQ$2:$CW$1104,7,FALSE),\"\")","v":""},"","",""]
[null,null,null,null,{"$f":"IF(D986=\"\",\"\",VLOOKUP(CONCATENATE(C986,D986),Listas!$AT$2:$AV$1104,3,FALSE))","v":""},null,{"$f":"IF(OR(F986=\"\",E986=\"\"),\"\",VLOOKUP(CONCATENATE(E986,Listas!AZ983),Listas!$BC$3:$BI$15430,7,FALSE))","v":""},null,null,{"$f":"IF(G986=\"\",\"\",VLOOKUP(G986,Listas!$BM$3:$BN$16,2,FALSE)*100)","v":""},"",{"$f":"+IFERROR(VLOOKUP(E986,Listas!$CQ$2:$CW$1104,7,FALSE),\"\")","v":""},"","",""]
[null,null,null,null,{"$f":"IF(D987=\"\",\"\",VLOOKUP(CONCATENATE(C987,D987),Listas!$AT$2:$AV$1104,3,FALSE))","v":""},null,{"$f":"IF(OR(F987=\"\",E987=\"\"),\"\",VLOOKUP(CONCATENATE(E987,Listas!AZ984),Listas!$BC$3:$BI$15430,7,FALSE))","v":""},null,null,{"$f":"IF(G987=\"\",\"\",VLOOKUP(G987,Listas!$BM$3:$BN$16,2,FALSE)*100)","v":""},"",{"$f":"+IFERROR(VLOOKUP(E987,Listas!$CQ$2:$CW$1104,7,FALSE),\"\")","v":""},"","",""]
[null,null,null,null,{"$f":"IF(D988=\"\",\"\",VLOOKUP(CONCATENATE(C988,D988),Listas!$AT$2:$AV$1104,3,FALSE))","v":""},null,{"$f":"IF(OR(F988=\"\",E988=\"\"),\"\",VLOOKUP(CONCATENATE(E988,Listas!AZ985),Listas!$BC$3:$BI$15430,7,FALSE))","v":""},null,null,{"$f":"IF(G988=\"\",\"\",VLOOKUP(G988,Listas!$BM$3:$BN$16,2,FALSE)*100)","v":""},"",{"$f":"+IFERROR(VLOOKUP(E988,Listas!$CQ$2:$CW$1104,7,FALSE),\"\")","v":""},"","",""]
[null,null,null,null,{"$f":"IF(D989=\"\",\"\",VLOOKUP(CONCATENATE(C989,D989),Listas!$AT$2:$AV$1104,3,FALSE))","v":""},null,{"$f":"IF(OR(F989=\"\",E989=\"\"),\"\",VLOOKUP(CONCATENATE(E989,Listas!AZ986),Listas!$BC$3:$BI$15430,7,FALSE))","v":""},null,null,{"$f":"IF(G989=\"\",\"\",VLOOKUP(G989,Listas!$BM$3:$BN$16,2,FALSE)*100)","v":""},"",{"$f":"+IFERROR(VLOOKUP(E989,Listas!$CQ$2:$CW$1104,7,FALSE),\"\")","v":""},"","",""]
[null,null,null,null,{"$f":"IF(D990=\"\",\"\",VLOOKUP(CONCATENATE(C990,D990),Listas!$AT$2:$AV$1104,3,FALSE))","v":""},null,{"$f":"IF(OR(F990=\"\",E990=\"\"),\"\",VLOOKUP(CONCATENATE(E990,Listas!AZ987),Listas!$BC$3:$BI$15430,7,FALSE))","v":""},null,null,{"$f":"IF(G990=\"\",\"\",VLOOKUP(G990,Listas!$BM$3:$BN$16,2,FALSE)*100)","v":""},"",{"$f":"+IFERROR(VLOOKUP(E990,Listas!$CQ$2:$CW$1104,7,FALSE),\"\")","v":""},"","",""]
[null,null,null,null,{"$f":"IF(D991=\"\",\"\",VLOOKUP(CONCATENATE(C991,D991),Listas!$AT$2:$AV$1104,3,FALSE))","v":""},null,{"$f":"IF(OR(F991=\"\",E991=\"\"),\"\",VLOOKUP(CONCATENATE(E991,Listas!AZ988),Listas!$BC$3:$BI$15430,7,FALSE))","v":""},null,null,{"$f":"IF(G991=\"\",\"\",VLOOKUP(G991,Listas!$BM$3:$BN$16,2,FALSE)*100)","v":""},"",{"$f":"+IFERROR(VLOOKUP(E991,Listas!$CQ$2:$CW$1104,7,FALSE),\"\")","v":""},"","",""]
[null,null,null,null,{"$f":"IF(D992=\"\",\"\",VLOOKUP(CONCATENATE(C992,D992),Listas!$AT$2:$AV$1104,3,FALSE))","v":""},null,{"$f":"IF(OR(F992=\"\",E992=\"\"),\"\",VLOOKUP(CONCATENATE(E992,Listas!AZ989),Listas!$BC$3:$BI$15430,7,FALSE))","v":""},null,null,{"$f":"IF(G992=\"\",\"\",VLOOKUP(G992,Listas!$BM$3:$BN$16,2,FALSE)*100)","v":""},"",{"$f":"+IFERROR(VLOOKUP(E992,Listas!$CQ$2:$CW$1104,7,FALSE),\"\")","v":""},"","",""]
[null,null,null,null,{"$f":"IF(D993=\"\",\"\",VLOOKUP(CONCATENATE(C993,D993),Listas!$AT$2:$AV$1104,3,FALSE))","v":""},null,{"$f":"IF(OR(F993=\"\",E993=\"\"),\"\",VLOOKUP(CONCATENATE(E993,Listas!AZ990),Listas!$BC$3:$BI$15430,7,FALSE))","v":""},null,null,{"$f":"IF(G993=\"\",\"\",VLOOKUP(G993,Listas!$BM$3:$BN$16,2,FALSE)*100)","v":""},"",{"$f":"+IFERROR(VLOOKUP(E993,Listas!$CQ$2:$CW$1104,7,FALSE),\"\")","v":""},"","",""]
[null,null,null,null,{"$f":"IF(D994=\"\",\"\",VLOOKUP(CONCATENATE(C994,D994),Listas!$AT$2:$AV$1104,3,FALSE))","v":""},null,{"$f":"IF(OR(F994=\"\",E994=\"\"),\"\",VLOOKUP(CONCATENATE(E994,Listas!AZ991),Listas!$BC$3:$BI$15430,7,FALSE))","v":""},null,null,{"$f":"IF(G994=\"\",\"\",VLOOKUP(G994,Listas!$BM$3:$BN$16,2,FALSE)*100)","v":""},"",{"$f":"+IFERROR(VLOOKUP(E994,Listas!$CQ$2:$CW$1104,7,FALSE),\"\")","v":""},"","",""]
[null,null,null,null,{"$f":"IF(D995=\"\",\"\",VLOOKUP(CONCATENATE(C995,D995),Listas!$AT$2:$AV$1104,3,FALSE))","v":""},null,{"$f":"IF(OR(F995=\"\",E995=\"\"),\"\",VLOOKUP(CONCATENATE(E995,Listas!AZ992),Listas!$BC$3:$BI$15430,7,FALSE))","v":""},null,null,{"$f":"IF(G995=\"\",\"\",VLOOKUP(G995,Listas!$BM$3:$BN$16,2,FALSE)*100)","v":""},"",{"$f":"+IFERROR(VLOOKUP(E995,Listas!$CQ$2:$CW$1104,7,FALSE),\"\")","v":""},"","",""]
[null,null,null,null,{"$f":"IF(D996=\"\",\"\",VLOOKUP(CONCATENATE(C996,D996),Listas!$AT$2:$AV$1104,3,FALSE))","v":""},null,{"$f":"IF(OR(F996=\"\",E996=\"\"),\"\",VLOOKUP(CONCATENATE(E996,Listas!AZ993),Listas!$BC$3:$BI$15430,7,FALSE))","v":""},null,null,{"$f":"IF(G996=\"\",\"\",VLOOKUP(G996,Listas!$BM$3:$BN$16,2,FALSE)*100)","v":""},"",{"$f":"+IFERROR(VLOOKUP(E996,Listas!$CQ$2:$CW$1104,7,FALSE),\"\")","v":""},"","",""]
[null,null,null,null,{"$f":"IF(D997=\"\",\"\",VLOOKUP(CONCATENATE(C997,D997),Listas!$AT$2:$AV$1104,3,FALSE))","v":""},null,{"$f":"IF(OR(F997=\"\",E997=\"\"),\"\",VLOOKUP(CONCATENATE(E997,Listas!AZ994),Listas!$BC$3:$BI$15430,7,FALSE))","v":""},null,null,{"$f":"IF(G997=\"\",\"\",VLOOKUP(G997,Listas!$BM$3:$BN$16,2,FALSE)*100)","v":""},"",{"$f":"+IFERROR(VLOOKUP(E997,Listas!$CQ$2:$CW$1104,7,FALSE),\"\")","v":""},"","",""]
[null,null,null,null,{"$f":"IF(D998=\"\",\"\",VLOOKUP(CONCATENATE(C998,D998),Listas!$AT$2:$AV$1104,3,FALSE))","v":""},null,{"$f":"IF(OR(F998=\"\",E998=\"\"),\"\",VLOOKUP(CONCATENATE(E998,Listas!AZ995),Listas!$BC$3:$BI$15430,7,FALSE))","v":""},null,null,{"$f":"IF(G998=\"\",\"\",VLOOKUP(G998,Listas!$BM$3:$BN$16,2,FALSE)*100)","v":""},"",{"$f":"+IFERROR(VLOOKUP(E998,Listas!$CQ$2:$CW$1104,7,FALSE),\"\")","v":""},"","",""]
[null,null,null,null,{"$f":"IF(D999=\"\",\"\",VLOOKUP(CONCATENATE(C999,D999),Listas!$AT$2:$AV$1104,3,FALSE))","v":""},null,{"$f":"IF(OR(F999=\"\",E999=\"\"),\"\",VLOOKUP(CONCATENATE(E999,Listas!AZ996),Listas!$BC$3:$BI$15430,7,FALSE))","v":""},null,null,{"$f":"IF(G999=\"\",\"\",VLOOKUP(G999,Listas!$BM$3:$BN$16,2,FALSE)*100)","v":""},"",{"$f":"+IFERROR(VLOOKUP(E999,Listas!$CQ$2:$CW$1104,7,FALSE),\"\")","v":""},"","",""]
[null,null,null,null,{"$f":"IF(D1000=\"\",\"\",VLOOKUP(CONCATENATE(C1000,D1000),Listas!$AT$2:$AV$1104,3,FALSE))","v":""},null,{"$f":"IF(OR(F1000=\"\",E1000=\"\"),\"\",VLOOKUP(CONCATENATE(E1000,Listas!AZ997),Listas!$BC$3:$BI$15430,7,FALSE))","v":""},null,null,{"$f":"IF(G1000=\"\",\"\",VLOOKUP(G1000,Listas!$BM$3:$BN$16,2,FALSE)*100)","v":""},"",{"$f":"+IFERROR(VLOOKUP(E1000,Listas!$CQ$2:$CW$1104,7,FALSE),\"\")","v":""},"","",""]
[null,".",".",".",".",".",".",".",".",".",".",".",".",".","."]

{"sheet":"Tabla de pesos y puntajes","index":5,"n_rows":16,"n_cols":8,"rows_kept":16,"cut":false,"hidden":false,"merged":[[0,3,0,7],[0,0,0,1]]}
["Peso de los criterios",null,null,"Puntajes"]
["Criterio","Peso",null,"Municipios de la subregión beneficiados","Puntaje",null,"Puesto del sector al que contribuye la inversión","Puntaje de la variable contribución al cierre de brechas más relevantes"]
["Contribución al cierre de brechas más relevantes",0.7,null,"< 2 municipios",0,null,1,1]
["Inversión destinada a la erradicación o sustitución",0.1,null,"≥ 2 municipios y < 50% de los municipios de la subregión",25,null,2,0.93]
["Incidencia del Conflicto Armado",0.2,null,"≥ 50% y <75% de los municipios de la subregión",50,null,3,0.86]
["Inversión destinada a la reparación de víctimas del conflicto",0.05,null,"≥ 75% y <100% de los municipios de la subregión",75,null,4,0.79]
[null,null,null,"100% de los municipios de la subregión",100,null,5,0.71]
[null,null,null,null,null,null,6,0.64]
[null,null,null,null,null,null,7,0.56999999999999995]
[null,null,null,null,null,null,8,0.5]
[null,null,null,null,null,null,9,0.43]
[null,null,null,null,null,null,10,0.36]
[null,null,null,null,null,null,11,0.28999999999999998]
[null,null,null,null,null,null,12,0.21]
[null,null,null,null,null,null,13,0.14000000000000001]
[null,null,null,null,null,null,14,7.0000000000000007E-2]

{"sheet":"Hoja2","index":6,"n_rows":61,"n_cols":13,"rows_kept":61,"cut":false,"hidden":true,"merged":[]}
[null,null,null,"Bolsa SGR",null,null,null,null,null,null,2073733468516]
[null,null,null,"Sum IPRM",null,null,null,null,null,null,{"$f":"SUM(B4:B19)","v":997.39681465221804}]
["Etiquetas de fila","Promedio de EQUIDAD TERRITORIAL",null,"Subregión",null,null,null,null,null,null,"Peso","Bolsa Sub","Bolsa Sub (MM)"]
["PACÍFICO Y FRONTERA NARIÑENSE",79.074684560239376,null,"PACÍFICO Y FRONTERA NARIÑENSE",null,null,null,null,null,null,{"$f":"B4/$K$2","v":7.9281067874486744E-2},{"$f":"K4*$K$1","v":164407803871.01181},{"$f":"L4/(1000*1000000)","v":164.40780387101182}]
["PACÍFICO MEDIO",74.533756745350999,null,"PACÍFICO MEDIO",null,null,null,null,null,null,7.4728288330598039E-2,{"$f":"K5*$K$1","v":154966552556.0748},{"$f":"L5/(1000*1000000)","v":154.96655255607479}]
["CATATUMBO",73.190774382319518,null,"CATATUMBO",null,null,null,null,null,null,7.3381800810984527E-2,152174296321.71317,152.17429632171317]
["CHOCÓ",71.625386483811127,null,"CHOCÓ",null,null,null,null,null,null,7.1812327281981711E-2,148919626536.6701,148.91962653667011]
["BAJO CAUCA Y NORDESTE ANTIOQUEÑO",67.433554036859675,null,"BAJO CAUCA Y NORDESTE ANTIOQUEÑO",null,null,null,null,null,null,6.760955423782164E-2,140204195414.41849,140.20419541441848]
["ARAUCA",64.785210777967905,null,"PUTUMAYO",null,null,null,null,null,null,6.495429885702797E-2,134697903463.80946,134.69790346380947]
["ALTO PATÍA Y NORTE DEL CAUCA",62.679375198733396,null,"ALTO PATÍA Y NORTE DEL CAUCA",null,null,null,null,null,null,6.28429670898729E-2,130319564115.11897,130.31956411511896]
["SUR DE CÓRDOBA",61.259376778445173,null,"URABÁ ANTIOQUEÑO",null,null,null,null,null,null,6.1419262502663684E-2,127367180263.34346,127.36718026334346]
["PUTUMAYO",61.244641315768817,null,"ARAUCA",null,null,null,null,null,null,6.1404488580730221E-2,127336543086.9688,127.3365430869688]
["URABÁ ANTIOQUEÑO",59.969737201324364,null,"SUR DE CÓRDOBA",null,null,null,null,null,null,6.0126256992544327E-2,124685831462.03334,124.68583146203333]
["SUR DE BOLÍVAR",59.050476693952767,null,"SUR DE BOLÍVAR",null,null,null,null,null,null,5.9204597233993635E-2,122774554774.1424,122.7745547741424]
["MACARENA GUAVIARE",58.90267385769986,null,"MACARENA GUAVIARE",null,null,null,null,null,null,5.9056408635352033E-2,122467251117.48683,122.46725111748682]
["CUENCA DEL CAGUÁN Y PIEDEMONTE CAQUETEÑO",55.319178315982498,null,"CUENCA DEL CAGUÁN Y PIEDEMONTE CAQUETEÑO",null,null,null,null,null,null,5.5463560243343792E-2,115016641159.67545,115.01664115967544]
["SUR DEL TOLIMA",50.956622108445004,null,"MONTES DE MARÍA",null,null,null,null,null,null,5.108961785306388E-2,105946250435.59111,105.94625043559111]
["MONTES DE MARÍA",50.112636885739327,null,"SUR DEL TOLIMA",null,null,null,null,null,null,5.0243429846137104E-2,104191482044.97021,104.19148204497021]
["SIERRA NEVADA-PERIJÁ-ZONA BANANERA",47.258729309578214,null,"SIERRA NEVADA-PERIJÁ-ZONA BANANERA",null,null,null,null,null,null,4.7382073629397788E-2,98257791892.971573,98.257791892971568]
["Total general",61.521089426862645,null,"Total general"]
[]
[]
[]
["Etiquetas de fila","Promedio de EQUIDAD TERRITORIAL","Promedio de IPM 2018 - DANE",null,"Etiquetas de fila","Promedio de EQUIDAD TERRITORIAL",null,null,null,null,"Subregión","Equidad Territorial","Pobreza multidimensional"]
["PACÍFICO Y FRONTERA NARIÑENSE",79.074684560239376,74.372727272727275,null,"PACÍFICO Y FRONTERA NARIÑENSE",70.029615587287651,"PACÍFICO Y FRONTERA NARIÑENSE",77.548286300024458,null,null,"PACÍFICO Y FRONTERA NARIÑENSE",70.029615587287651,74.372727272727275]
["PACÍFICO MEDIO",74.533756745350999,72.475000000000009,null,"PACÍFICO MEDIO",66.057007936618433,"PACÍFICO MEDIO",75.040606965571044,null,null,"PACÍFICO MEDIO",66.057007936618433,72.475000000000009]
["CATATUMBO",73.190774382319518,66.187500000000014,null,"CATATUMBO",64.500265397872681,"CHOCÓ",72.726213546776506,null,null,"CATATUMBO",64.500265397872681,66.187500000000014]
["CHOCÓ",71.625386483811127,68.978571428571442,null,"CHOCÓ",63.053414080005936,"CATATUMBO",67.469260436081896,null,null,"CHOCÓ",63.053414080005936,68.978571428571442]
["BAJO CAUCA Y NORDESTE ANTIOQUEÑO",67.433554036859675,52.530769230769231,null,"BAJO CAUCA Y NORDESTE ANTIOQUEÑO",57.015867308099658,"BAJO CAUCA Y NORDESTE ANTIOQUEÑO",62.396222748971667,null,null,"BAJO CAUCA Y NORDESTE ANTIOQUEÑO",57.015867308099658,52.530769230769231]
["ARAUCA",64.785210777967905,44.7,null,"ALTO PATÍA Y NORTE DEL CAUCA",54.604145495181761,"URABÁ ANTIOQUEÑO",60.532162523063356,null,null,"ALTO PATÍA Y NORTE DEL CAUCA",54.604145495181761,41.458333333333329]
["ALTO PATÍA Y NORTE DEL CAUCA",62.679375198733396,41.458333333333329,null,"PUTUMAYO",54.229890935646281,"ARAUCA",60.274248037261735,null,null,"PUTUMAYO",54.229890935646281,44.722222222222221]
["SUR DE CÓRDOBA",61.259376778445173,55.64,null,"URABÁ ANTIOQUEÑO",53.851398683840806,"ALTO PATÍA Y NORTE DEL CAUCA",59.599371666825391,null,null,"URABÁ ANTIOQUEÑO",53.851398683840806,50.587499999999991]
["PUTUMAYO",61.244641315768817,44.722222222222221,null,"ARAUCA",53.410210777967905,"SUR DE CÓRDOBA",58.588661444929627,null,null,"ARAUCA",53.410210777967905,44.7]
["URABÁ ANTIOQUEÑO",59.969737201324364,50.587499999999991,null,"SUR DE CÓRDOBA",52.32422189402687,"PUTUMAYO",56.728071313515308,null,null,"SUR DE CÓRDOBA",52.32422189402687,55.64]
["SUR DE BOLÍVAR",59.050476693952767,52.7,null,"SUR DE BOLÍVAR",50.791785495100541,"SUR DE BOLÍVAR",56.149729199634798,null,null,"SUR DE BOLÍVAR",50.791785495100541,52.7]
["MACARENA GUAVIARE",58.90267385769986,55.916666666666664,null,"MACARENA GUAVIARE",49.063585737478427,"MACARENA GUAVIARE",55.956022294806282,null,null,"MACARENA GUAVIARE",49.063585737478427,55.916666666666664]
["CUENCA DEL CAGUÁN Y PIEDEMONTE CAQUETEÑO",55.319178315982498,52.841176470588223,null,"CUENCA DEL CAGUÁN Y PIEDEMONTE CAQUETEÑO",47.689205894389232,"CUENCA DEL CAGUÁN Y PIEDEMONTE CAQUETEÑO",53.805501769866694,null,null,"CUENCA DEL CAGUÁN Y PIEDEMONTE CAQUETEÑO",47.689205894389232,52.841176470588223]
["SUR DEL TOLIMA",50.956622108445004,54.900000000000006,null,"SUR DEL TOLIMA",46.581622108445004,"SUR DEL TOLIMA",51.813612331061833,null,null,"SUR DEL TOLIMA",46.581622108445004,54.900000000000006]
["MONTES DE MARÍA",50.112636885739327,58.08,null,"MONTES DE MARÍA",46.145970219072659,"MONTES DE MARÍA",51.363423201236309,null,null,"MONTES DE MARÍA",46.145970219072659,58.08]
["SIERRA NEVADA-PERIJÁ-ZONA BANANERA",47.258729309578214,46.920000000000009,null,"SIERRA NEVADA-PERIJÁ-ZONA BANANERA",43.758824915408042,"SIERRA NEVADA-PERIJÁ-ZONA BANANERA",48.778768404562463,null,null,"SIERRA NEVADA-PERIJÁ-ZONA BANANERA",43.758824915408042,46.920000000000009]
["Total general",61.521089426862645,54.577058823529391,null,null,null,null,{"$f":"+SUM(H25:H40)","v":968.7701621841893}]
[]
[null,null,null,null,null,null,null,2073733468516]
[null,null,null,null,null,null,null,{"$f":"+SUM(H25:H40)","v":968.7701621841893}]
[null,null,null,null,null,null,null,"Peso","Bolsa Sub","Bolsa Sub (MM)"]
[null,null,null,null,null,null,null,{"$f":"#REF!/$K$2","v":{"$error":"#REF!"}},{"$f":"H46*$K$1","v":{"$error":"#REF!"}},{"$f":"I46/(1000*1000000)","v":{"$error":"#REF!"}}]
[null,null,null,null,null,null,null,{"$f":"#REF!/$K$2","v":{"$error":"#REF!"}},{"$f":"H47*$K$1","v":{"$error":"#REF!"}},{"$f":"I47/(1000*1000000)","v":{"$error":"#REF!"}}]
[null,null,null,null,null,null,null,{"$f":"#REF!/$K$2","v":{"$error":"#REF!"}},{"$error":"#REF!"},{"$error":"#REF!"}]
[null,null,null,null,null,null,null,{"$f":"#REF!/$K$2","v":{"$error":"#REF!"}},{"$error":"#REF!"},{"$error":"#REF!"}]
[null,null,null,null,null,null,null,{"$f":"#REF!/$K$2","v":{"$error":"#REF!"}},{"$error":"#REF!"},{"$error":"#REF!"}]
[null,null,null,null,null,null,null,{"$f":"#REF!/$K$2","v":{"$error":"#REF!"}},{"$error":"#REF!"},{"$error":"#REF!"}]
[null,null,null,null,null,null,null,{"$f":"#REF!/$K$2","v":{"$error":"#REF!"}},{"$error":"#REF!"},{"$error":"#REF!"}]
[null,null,null,null,null,null,null,{"$f":"#REF!/$K$2","v":{"$error":"#REF!"}},{"$error":"#REF!"},{"$error":"#REF!"}]
[null,null,null,null,null,null,null,{"$f":"#REF!/$K$2","v":{"$error":"#REF!"}},{"$error":"#REF!"},{"$error":"#REF!"}]
[null,null,null,null,null,null,null,{"$f":"#REF!/$K$2","v":{"$error":"#REF!"}},{"$error":"#REF!"},{"$error":"#REF!"}]
[null,null,null,null,null,null,null,{"$f":"#REF!/$K$2","v":{"$error":"#REF!"}},{"$error":"#REF!"},{"$error":"#REF!"}]
[null,null,null,null,null,null,null,{"$f":"#REF!/$K$2","v":{"$error":"#REF!"}},{"$error":"#REF!"},{"$error":"#REF!"}]
[null,null,null,null,null,null,null,{"$f":"#REF!/$K$2","v":{"$error":"#REF!"}},{"$error":"#REF!"},{"$error":"#REF!"}]
[null,null,null,null,null,null,null,{"$f":"#REF!/$K$2","v":{"$error":"#REF!"}},{"$error":"#REF!"},{"$error":"#REF!"}]
[null,null,null,null,null,null,null,{"$f":"#REF!/$K$2","v":{"$error":"#REF!"}},{"$error":"#REF!"},{"$error":"#REF!"}]
[null,null,null,null,null,null,null,{"$f":"#REF!/$K$2","v":{"$error":"#REF!"}},{"$error":"#REF!"},{"$error":"#REF!"}]

{"sheet":"Hoja3","index":7,"n_rows":167,"n_cols":7,"rows_kept":167,"cut":false,"hidden":true,"merged":[]}
[]
[null,"DANE AJUSTADO","MUNICIPIO BENEFICIARIO AJUSTADO","Suma de TOTAL ap","En puntaje","Verificación","Subregion PDET"]
[null,19050,"ARGELIA",10491393917,{"$f":"+VLOOKUP(B3,'por Entidad'!$C$4:$I$174,7,FALSE)","v":10491393917},{"$f":"+D3<>E3","v":false},"ALTO PATÍA - NORTE DEL CAUCA"]
[null,19075,"BALBOA",15882755098.745098,{"$f":"+VLOOKUP(B4,'por Entidad'!$C$4:$I$174,7,FALSE)","v":15882755098.745098},{"$f":"+D4<>E4","v":false},"ALTO PATÍA - NORTE DEL CAUCA"]
[null,19110,"BUENOS AIRES",59437390712,{"$f":"+VLOOKUP(B5,'por Entidad'!$C$4:$I$174,7,FALSE)","v":59437390712},false,"ALTO PATÍA - NORTE DEL CAUCA"]
[null,19130,"CAJIBÍO",24982361468.811764,{"$f":"+VLOOKUP(B6,'por Entidad'!$C$4:$I$174,7,FALSE)","v":24982361468.811764},false,"ALTO PATÍA - NORTE DEL CAUCA"]
[null,19137,"CALDONO",7871975776,{"$f":"+VLOOKUP(B7,'por Entidad'!$C$4:$I$174,7,FALSE)","v":7871975776},false,"ALTO PATÍA - NORTE DEL CAUCA"]
[null,19142,"CALOTO",3357251160,{"$f":"+VLOOKUP(B8,'por Entidad'!$C$4:$I$174,7,FALSE)","v":3357251160},false,"ALTO PATÍA - NORTE DEL CAUCA"]
[null,19212,"CORINTO",5099946236,{"$f":"+VLOOKUP(B9,'por Entidad'!$C$4:$I$174,7,FALSE)","v":5099946236},false,"ALTO PATÍA - NORTE DEL CAUCA"]
[null,19256,"EL TAMBO",18849178832.299999,{"$f":"+VLOOKUP(B10,'por Entidad'!$C$4:$I$174,7,FALSE)","v":18849178832.299999},false,"ALTO PATÍA - NORTE DEL CAUCA"]
[null,19450,"MERCADERES",5731846033.7450981,{"$f":"+VLOOKUP(B11,'por Entidad'!$C$4:$I$174,7,FALSE)","v":5731846033.7450981},false,"ALTO PATÍA - NORTE DEL CAUCA"]
[null,19455,"MIRANDA",52463606705.959999,{"$f":"+VLOOKUP(B12,'por Entidad'!$C$4:$I$174,7,FALSE)","v":52463606705.959999},false,"ALTO PATÍA - NORTE DEL CAUCA"]
[null,19532,"PATÍA",18352471659.185097,{"$f":"+VLOOKUP(B13,'por Entidad'!$C$4:$I$174,7,FALSE)","v":18352471659.185097},false,"ALTO PATÍA - NORTE DEL CAUCA"]
[null,19548,"PIENDAMO",11107354298,{"$f":"+VLOOKUP(B14,'por Entidad'!$C$4:$I$174,7,FALSE)","v":11107354298},false,"ALTO PATÍA - NORTE DEL CAUCA"]
[null,19780,"SUÁREZ",4252981503.9117646,{"$f":"+VLOOKUP(B15,'por Entidad'!$C$4:$I$174,7,FALSE)","v":4252981503.9117646},false,"ALTO PATÍA - NORTE DEL CAUCA"]
[null,19821,"TORIBÍO",25669970737.190002,{"$f":"+VLOOKUP(B16,'por Entidad'!$C$4:$I$174,7,FALSE)","v":25669970737.190002},false,"ALTO PATÍA - NORTE DEL CAUCA"]
[null,52233,"CUMBITARÁ",4835222702.3900003,{"$f":"+VLOOKUP(B17,'por Entidad'!$C$4:$I$174,7,FALSE)","v":4835222702.3900003},false,"ALTO PATÍA - NORTE DEL CAUCA"]
[null,52256,"EL ROSARIO",15068898136.911764,{"$f":"+VLOOKUP(B18,'por Entidad'!$C$4:$I$174,7,FALSE)","v":15068898136.911764},false,"ALTO PATÍA - NORTE DEL CAUCA"]
[null,52405,"LEIVA",15031510063,{"$f":"+VLOOKUP(B19,'por Entidad'!$C$4:$I$174,7,FALSE)","v":15031510063},false,"ALTO PATÍA - NORTE DEL CAUCA"]
[null,52418,"LOS ANDES",33444285815.669998,{"$f":"+VLOOKUP(B20,'por Entidad'!$C$4:$I$174,7,FALSE)","v":33444285815.669998},false,"ALTO PATÍA - NORTE DEL CAUCA"]
[null,52540,"POLICARPA",45824871969.199997,{"$f":"+VLOOKUP(B21,'por Entidad'!$C$4:$I$174,7,FALSE)","v":45824871969.199997},false,"ALTO PATÍA - NORTE DEL CAUCA"]
[null,76275,"FLORIDA",34735962339.571762,{"$f":"+VLOOKUP(B22,'por Entidad'!$C$4:$I$174,7,FALSE)","v":34735962339.571762},false,"ALTO PATÍA - NORTE DEL CAUCA"]
[null,76563,"PRADERA",10599096684.171764,{"$f":"+VLOOKUP(B23,'por Entidad'!$C$4:$I$174,7,FALSE)","v":10599096684.171764},false,"ALTO PATÍA - NORTE DEL CAUCA"]
[null,81065,"ARAUQUITA",55540070573.099998,{"$f":"+VLOOKUP(B24,'por Entidad'!$C$4:$I$174,7,FALSE)","v":55540070573.099998},false,"ARAUCA"]
[null,81300,"FORTUL",18502993242.745098,{"$f":"+VLOOKUP(B25,'por Entidad'!$C$4:$I$174,7,FALSE)","v":18502993242.745098},false,"ARAUCA"]
[null,81736,"SARAVENA",50236433563.105103,{"$f":"+VLOOKUP(B26,'por Entidad'!$C$4:$I$174,7,FALSE)","v":50236433563.105103},false,"ARAUCA"]
[null,81794,"TAME",54463316205.695099,{"$f":"+VLOOKUP(B27,'por Entidad'!$C$4:$I$174,7,FALSE)","v":54463316205.695099},false,"ARAUCA"]
[null,5031,"Amalfi",1277756873.6117647,{"$f":"+VLOOKUP(B28,'por Entidad'!$C$4:$I$174,7,FALSE)","v":1277756873.6117647},false,"BAJO CAUCA Y NORDESTE ANTIOQUENO"]
[null,5040,"ANORÍ",20390305471.860001,{"$f":"+VLOOKUP(B29,'por Entidad'!$C$4:$I$174,7,FALSE)","v":20390305471.860001},false,"BAJO CAUCA Y NORDESTE ANTIOQUENO"]
[null,5107,"BRICEÑO",5048101703,{"$f":"+VLOOKUP(B30,'por Entidad'!$C$4:$I$174,7,FALSE)","v":5048101703},false,"BAJO CAUCA Y NORDESTE ANTIOQUENO"]
[null,5120,"CÁCERES",43597271062,{"$f":"+VLOOKUP(B31,'por Entidad'!$C$4:$I$174,7,FALSE)","v":43597271062},false,"BAJO CAUCA Y NORDESTE ANTIOQUENO"]
[null,5154,"CAUCASIA",5555606631.9117641,{"$f":"+VLOOKUP(B32,'por Entidad'!$C$4:$I$174,7,FALSE)","v":5555606631.9117641},false,"BAJO CAUCA Y NORDESTE ANTIOQUENO"]
[null,5250,"EL BAGRE",13463665570.211765,{"$f":"+VLOOKUP(B33,'por Entidad'!$C$4:$I$174,7,FALSE)","v":13463665570.211765},false,"BAJO CAUCA Y NORDESTE ANTIOQUENO"]
[null,5495,"NECHÍ",43931060820.711769,{"$f":"+VLOOKUP(B34,'por Entidad'!$C$4:$I$174,7,FALSE)","v":43931060820.711769},false,"BAJO CAUCA Y NORDESTE ANTIOQUENO"]
[null,5604,"REMEDIOS",6378972594.9300003,{"$f":"+VLOOKUP(B35,'por Entidad'!$C$4:$I$174,7,FALSE)","v":6378972594.9300003},false,"BAJO CAUCA Y NORDESTE ANTIOQUENO"]
[null,5736,"Segovia",1284541254.6117647,{"$f":"+VLOOKUP(B36,'por Entidad'!$C$4:$I$174,7,FALSE)","v":1284541254.6117647},false,"BAJO CAUCA Y NORDESTE ANTIOQUENO"]
[null,5790,"TARAZÁ",4467735447.9117641,{"$f":"+VLOOKUP(B37,'por Entidad'!$C$4:$I$174,7,FALSE)","v":4467735447.9117641},false,"BAJO CAUCA Y NORDESTE ANTIOQUENO"]
[null,5854,"VALDIVIA",8464647638.9117641,{"$f":"+VLOOKUP(B38,'por Entidad'!$C$4:$I$174,7,FALSE)","v":8464647638.9117641},false,"BAJO CAUCA Y NORDESTE ANTIOQUENO"]
[null,5895,"ZARAGOZA",12482620938.641766,{"$f":"+VLOOKUP(B39,'por Entidad'!$C$4:$I$174,7,FALSE)","v":12482620938.641766},false,"BAJO CAUCA Y NORDESTE ANTIOQUENO"]
[null,54206,"CONVENCIÓN",8790806218,{"$f":"+VLOOKUP(B40,'por Entidad'!$C$4:$I$174,7,FALSE)","v":8790806218},false,"CATATUMBO"]
[null,54245,"EL CARMEN",16596298124.85,{"$f":"+VLOOKUP(B41,'por Entidad'!$C$4:$I$174,7,FALSE)","v":16596298124.85},false,"CATATUMBO"]
[null,54250,"EL TARRA",9646558664.0200005,{"$f":"+VLOOKUP(B42,'por Entidad'!$C$4:$I$174,7,FALSE)","v":9646558664.0200005},false,"CATATUMBO"]
[null,54344,"HACARÍ",3855972899.7450981,{"$f":"+VLOOKUP(B43,'por Entidad'!$C$4:$I$174,7,FALSE)","v":3855972899.7450981},false,"CATATUMBO"]
[null,54670,"SAN CALIXTO",16078267136.075098,{"$f":"+VLOOKUP(B44,'por Entidad'!$C$4:$I$174,7,FALSE)","v":16078267136.075098},false,"CATATUMBO"]
[null,54720,"SARDINATA",24284600385.745098,{"$f":"+VLOOKUP(B45,'por Entidad'!$C$4:$I$174,7,FALSE)","v":24284600385.745098},false,"CATATUMBO"]
[null,54800,"TEORAMA",16055692698.139999,{"$f":"+VLOOKUP(B46,'por Entidad'!$C$4:$I$174,7,FALSE)","v":16055692698.139999},false,"CATATUMBO"]
[null,54810,"TIBÚ",90216440023,{"$f":"+VLOOKUP(B47,'por Entidad'!$C$4:$I$174,7,FALSE)","v":90216440023},false,"CATATUMBO"]
[null,5475,"MURINDÓ",468800000,{"$f":"+VLOOKUP(B48,'por Entidad'!$C$4:$I$174,7,FALSE)","v":468800000},false,"CHOCÓ"]
[null,5873,"VIGÍA DEL FUERTE",3862557887,{"$f":"+VLOOKUP(B49,'por Entidad'!$C$4:$I$174,7,FALSE)","v":3862557887},false,"CHOCÓ"]
[null,27006,"ACANDÍ",57820348695.781761,{"$f":"+VLOOKUP(B50,'por Entidad'!$C$4:$I$174,7,FALSE)","v":57820348695.781761},false,"CHOCÓ"]
[null,27099,"Bojaya",1267783422.4117646,{"$f":"+VLOOKUP(B51,'por Entidad'!$C$4:$I$174,7,FALSE)","v":1267783422.4117646},false,"CHOCÓ"]
[null,27150,"CARMEN DEL DARIÉN",21889920990,{"$f":"+VLOOKUP(B52,'por Entidad'!$C$4:$I$174,7,FALSE)","v":21889920990},false,"CHOCÓ"]
[null,27205,"CONDOTO",107081864402,{"$f":"+VLOOKUP(B53,'por Entidad'!$C$4:$I$174,7,FALSE)","v":107081864402},false,"CHOCÓ"]
[null,27361,"ISTMINA",19903985889,{"$f":"+VLOOKUP(B54,'por Entidad'!$C$4:$I$174,7,FALSE)","v":19903985889},false,"CHOCÓ"]
[null,27425,"MEDIO ATRATO",15486044439,{"$f":"+VLOOKUP(B55,'por Entidad'!$C$4:$I$174,7,FALSE)","v":15486044439},false,"CHOCÓ"]
[null,27450,"MEDIO SAN JUAN",6291621431.0599995,{"$f":"+VLOOKUP(B56,'por Entidad'!$C$4:$I$174,7,FALSE)","v":6291621431.0599995},false,"CHOCÓ"]
[null,27491,"NÓVITA",47109796589,{"$f":"+VLOOKUP(B57,'por Entidad'!$C$4:$I$174,7,FALSE)","v":47109796589},false,"CHOCÓ"]
[null,27615,"RIOSUCIO",19721664719,{"$f":"+VLOOKUP(B58,'por Entidad'!$C$4:$I$174,7,FALSE)","v":19721664719},false,"CHOCÓ"]
[null,27745,"SIPÍ",5381100839,{"$f":"+VLOOKUP(B59,'por Entidad'!$C$4:$I$174,7,FALSE)","v":5381100839},false,"CHOCÓ"]
[null,27800,"UNGUÍA",31783415520.511765,{"$f":"+VLOOKUP(B60,'por Entidad'!$C$4:$I$174,7,FALSE)","v":31783415520.511765},false,"CHOCÓ"]
[null,18001,"FLORENCIA",20342168937.697479,{"$f":"+VLOOKUP(B61,'por Entidad'!$C$4:$I$174,7,FALSE)","v":20342168937.697479},false,"CUENCA DEL CAGUÁN Y PIEDEMONTE CAQUETEÑO"]
[null,18029,"ALBANIA",22384914330.14748,{"$f":"+VLOOKUP(B62,'por Entidad'!$C$4:$I$174,7,FALSE)","v":22384914330.14748},false,"CUENCA DEL CAGUÁN Y PIEDEMONTE CAQUETEÑO"]
[null,18094,"BELÉN DE LOS ANDAQUÍES",38937320518.419998,{"$f":"+VLOOKUP(B63,'por Entidad'!$C$4:$I$174,7,FALSE)","v":38937320518.419998},false,"CUENCA DEL CAGUÁN Y PIEDEMONTE CAQUETEÑO"]
[null,18150,"CARTAGENA DEL CHAIRÁ",9458579027.8700008,{"$f":"+VLOOKUP(B64,'por Entidad'!$C$4:$I$174,7,FALSE)","v":9458579027.8700008},false,"CUENCA DEL CAGUÁN Y PIEDEMONTE CAQUETEÑO"]
[null,18205,"Curillo",1281530812.697479,{"$f":"+VLOOKUP(B65,'por Entidad'!$C$4:$I$174,7,FALSE)","v":1281530812.697479},false,"CUENCA DEL CAGUÁN Y PIEDEMONTE CAQUETEÑO"]
[null,18247,"EL DONCELLO",50144316110.245056,{"$f":"+VLOOKUP(B66,'por Entidad'!$C$4:$I$174,7,FALSE)","v":50144316110.245056},false,"CUENCA DEL CAGUÁN Y PIEDEMONTE CAQUETEÑO"]
[null,18256,"EL PAUJIL",37236815422.110001,{"$f":"+VLOOKUP(B67,'por Entidad'!$C$4:$I$174,7,FALSE)","v":37236815422.110001},false,"CUENCA DEL CAGUÁN Y PIEDEMONTE CAQUETEÑO"]
[null,18410,"LA MONTAÑITA",61147987285.329323,{"$f":"+VLOOKUP(B68,'por Entidad'!$C$4:$I$174,7,FALSE)","v":61147987285.329323},{"$f":"+D68<>E68","v":false},"CUENCA DEL CAGUÁN Y PIEDEMONTE CAQUETEÑO"]
[null,18460,"MILÁN",33964945294.507481,{"$f":"+VLOOKUP(B69,'por Entidad'!$C$4:$I$174,7,FALSE)","v":33964945294.507481},false,"CUENCA DEL CAGUÁN Y PIEDEMONTE CAQUETEÑO"]
[null,18479,"MORELIA",18379136804.002655,{"$f":"+VLOOKUP(B70,'por Entidad'!$C$4:$I$174,7,FALSE)","v":18379136804.002655},false,"CUENCA DEL CAGUÁN Y PIEDEMONTE CAQUETEÑO"]
[null,18592,"PUERTO RICO",34852686329.252167,{"$f":"+VLOOKUP(B71,'por Entidad'!$C$4:$I$174,7,FALSE)","v":34852686329.252167},false,"CUENCA DEL CAGUÁN Y PIEDEMONTE CAQUETEÑO"]
[null,18610,"SAN JOSÉ DEL FRAGUA",39334070191.5,{"$f":"+VLOOKUP(B72,'por Entidad'!$C$4:$I$174,7,FALSE)","v":39334070191.5},false,"CUENCA DEL CAGUÁN Y PIEDEMONTE CAQUETEÑO"]
[null,18753,"SAN VICENTE DEL CAGUÁN",30401415720.732841,{"$f":"+VLOOKUP(B73,'por Entidad'!$C$4:$I$174,7,FALSE)","v":30401415720.732841},false,"CUENCA DEL CAGUÁN Y PIEDEMONTE CAQUETEÑO"]
[null,18756,"SOLANO",13728540677.673025,{"$f":"+VLOOKUP(B74,'por Entidad'!$C$4:$I$174,7,FALSE)","v":13728540677.673025},false,"CUENCA DEL CAGUÁN Y PIEDEMONTE CAQUETEÑO"]
[null,18785,"SOLITA",30840596669.77,{"$f":"+VLOOKUP(B75,'por Entidad'!$C$4:$I$174,7,FALSE)","v":30840596669.77},false,"CUENCA DEL CAGUÁN Y PIEDEMONTE CAQUETEÑO"]
[null,18860,"VALPARAÍSO",12744064197.557369,{"$f":"+VLOOKUP(B76,'por Entidad'!$C$4:$I$174,7,FALSE)","v":12744064197.557369},false,"CUENCA DEL CAGUÁN Y PIEDEMONTE CAQUETEÑO"]
[null,41020,"ALGECIRAS",64827074259.172974,{"$f":"+VLOOKUP(B77,'por Entidad'!$C$4:$I$174,7,FALSE)","v":64827074259.172974},false,"CUENCA DEL CAGUÁN Y PIEDEMONTE CAQUETEÑO"]
[null,50325,"MAPIRIPÁN",11768755256.411764,{"$f":"+VLOOKUP(B78,'por Entidad'!$C$4:$I$174,7,FALSE)","v":11768755256.411764},false,"MACARENA - GUAVIARE"]
[null,50330,"MESETAS",103024799989.86002,{"$f":"+VLOOKUP(B79,'por Entidad'!$C$4:$I$174,7,FALSE)","v":103024799989.86002},false,"MACARENA - GUAVIARE"]
[null,50350,"LA MACARENA",40886808313.199997,{"$f":"+VLOOKUP(B80,'por Entidad'!$C$4:$I$174,7,FALSE)","v":40886808313.199997},false,"MACARENA - GUAVIARE"]
[null,50370,"URIBE",82370338286.099991,{"$f":"+VLOOKUP(B81,'por Entidad'!$C$4:$I$174,7,FALSE)","v":82370338286.099991},false,"MACARENA - GUAVIARE"]
[null,50450,"PUERTO CONCORDIA",15552386863.411764,{"$f":"+VLOOKUP(B82,'por Entidad'!$C$4:$I$174,7,FALSE)","v":15552386863.411764},false,"MACARENA - GUAVIARE"]
[null,50577,"PUERTO LLERAS",43751143305.271767,{"$f":"+VLOOKUP(B83,'por Entidad'!$C$4:$I$174,7,FALSE)","v":43751143305.271767},false,"MACARENA - GUAVIARE"]
[null,50590,"PUERTO RICO",2399680575,{"$f":"+VLOOKUP(B84,'por Entidad'!$C$4:$I$174,7,FALSE)","v":2399680575},false,"MACARENA - GUAVIARE"]
[null,50711,"VISTA HERMOSA",24881259189,{"$f":"+VLOOKUP(B85,'por Entidad'!$C$4:$I$174,7,FALSE)","v":24881259189},false,"MACARENA - GUAVIARE"]
[null,95001,"SAN JOSÉ DEL GUAVIARE",53989709074.119995,{"$f":"+VLOOKUP(B86,'por Entidad'!$C$4:$I$174,7,FALSE)","v":53989709074.119995},false,"MACARENA - GUAVIARE"]
[null,95015,"CALAMAR",3048888520,{"$f":"+VLOOKUP(B87,'por Entidad'!$C$4:$I$174,7,FALSE)","v":3048888520},false,"MACARENA - GUAVIARE"]
[null,95025,"EL RETORNO",52574028986.619995,{"$f":"+VLOOKUP(B88,'por Entidad'!$C$4:$I$174,7,FALSE)","v":52574028986.619995},false,"MACARENA - GUAVIARE"]
[null,95200,"MIRAFLORES",5092225567,{"$f":"+VLOOKUP(B89,'por Entidad'!$C$4:$I$174,7,FALSE)","v":5092225567},false,"MACARENA - GUAVIARE"]
[null,13212,"CÓRDOBA",30089595565.864761,{"$f":"+VLOOKUP(B90,'por Entidad'!$C$4:$I$174,7,FALSE)","v":30089595565.864761},false,"MONTES DE MARÍA"]
[null,13244,"EL CARMEN DE BOLÍVAR",62599360879.736839,{"$f":"+VLOOKUP(B91,'por Entidad'!$C$4:$I$174,7,FALSE)","v":62599360879.736839},false,"MONTES DE MARÍA"]
[null,13248,"EL GUAMO",26887703436.408684,{"$f":"+VLOOKUP(B92,'por Entidad'!$C$4:$I$174,7,FALSE)","v":26887703436.408684},false,"MONTES DE MARÍA"]
[null,13442,"MARÍA LA BAJA",42197258124.776627,{"$f":"+VLOOKUP(B93,'por Entidad'!$C$4:$I$174,7,FALSE)","v":42197258124.776627},false,"MONTES DE MARÍA"]
[null,13654,"San Jacinto",5823294885.5072403,{"$f":"+VLOOKUP(B94,'por Entidad'!$C$4:$I$174,7,FALSE)","v":5823294885.5072403},false,"MONTES DE MARÍA"]
[null,13657,"SAN JUAN NEPOMUCENO",14474263074.793324,{"$f":"+VLOOKUP(B95,'por Entidad'!$C$4:$I$174,7,FALSE)","v":14474263074.793324},false,"MONTES DE MARÍA"]
[null,13894,"Zambrano",1219197491.3117647,{"$f":"+VLOOKUP(B96,'por Entidad'!$C$4:$I$174,7,FALSE)","v":1219197491.3117647},false,"MONTES DE MARÍA"]
[null,70204,"COLOSO",24599325194.861767,{"$f":"+VLOOKUP(B97,'por Entidad'!$C$4:$I$174,7,FALSE)","v":24599325194.861767},false,"MONTES DE MARÍA"]
[null,70230,"CHALÁN",7723862499.071764,{"$f":"+VLOOKUP(B98,'por Entidad'!$C$4:$I$174,7,FALSE)","v":7723862499.071764},false,"MONTES DE MARÍA"]
[null,70418,"LOS PALMITOS",28400008906.131763,{"$f":"+VLOOKUP(B99,'por Entidad'!$C$4:$I$174,7,FALSE)","v":28400008906.131763},false,"MONTES DE MARÍA"]
[null,70473,"MORROA",9962963774.781765,{"$f":"+VLOOKUP(B100,'por Entidad'!$C$4:$I$174,7,FALSE)","v":9962963774.781765},false,"MONTES DE MARÍA"]
[null,70508,"OVEJAS",5610743991.6117649,{"$f":"+VLOOKUP(B101,'por Entidad'!$C$4:$I$174,7,FALSE)","v":5610743991.6117649},false,"MONTES DE MARÍA"]
[null,70523,"PALMITO",21965931017.738194,{"$f":"+VLOOKUP(B102,'por Entidad'!$C$4:$I$174,7,FALSE)","v":21965931017.738194},false,"MONTES DE MARÍA"]
[null,70713,"SAN ONOFRE",12573642711.921764,{"$f":"+VLOOKUP(B103,'por Entidad'!$C$4:$I$174,7,FALSE)","v":12573642711.921764},false,"MONTES DE MARÍA"]
[null,70823,"TOLUVIEJO",55412655963.995338,{"$f":"+VLOOKUP(B104,'por Entidad'!$C$4:$I$174,7,FALSE)","v":55412655963.995338},false,"MONTES DE MARÍA"]
[null,19318,"GUAPI",49930483828,{"$f":"+VLOOKUP(B105,'por Entidad'!$C$4:$I$174,7,FALSE)","v":49930483828},false,"PACÍFICO MEDIO"]
[null,19418,"LÓPEZ DE MICAY",62404837667,{"$f":"+VLOOKUP(B106,'por Entidad'!$C$4:$I$174,7,FALSE)","v":62404837667},false,"PACÍFICO MEDIO"]
[null,19809,"TIMBIQUÍ",32725182351,{"$f":"+VLOOKUP(B107,'por Entidad'!$C$4:$I$174,7,FALSE)","v":32725182351},false,"PACÍFICO MEDIO"]
[null,52079,"BARBACOAS",19698848451,{"$f":"+VLOOKUP(B108,'por Entidad'!$C$4:$I$174,7,FALSE)","v":19698848451},false,"PACÍFICO Y FRONTERA NARIÑENSE"]
[null,52250,"EL CHARCO",69261492535,{"$f":"+VLOOKUP(B109,'por Entidad'!$C$4:$I$174,7,FALSE)","v":69261492535},false,"PACÍFICO Y FRONTERA NARIÑENSE"]
[null,52390,"LA TOLA",12349377023,{"$f":"+VLOOKUP(B110,'por Entidad'!$C$4:$I$174,7,FALSE)","v":12349377023},false,"PACÍFICO Y FRONTERA NARIÑENSE"]
[null,52427,"MAGÜÍ",5097088735,{"$f":"+VLOOKUP(B111,'por Entidad'!$C$4:$I$174,7,FALSE)","v":5097088735},false,"PACÍFICO Y FRONTERA NARIÑENSE"]
[null,52473,"MOSQUERA",21774046238,{"$f":"+VLOOKUP(B112,'por Entidad'!$C$4:$I$174,7,FALSE)","v":21774046238},false,"PACÍFICO Y FRONTERA NARIÑENSE"]
[null,52490,"OLAYA HERRERA",31535794963,{"$f":"+VLOOKUP(B113,'por Entidad'!$C$4:$I$174,7,FALSE)","v":31535794963},false,"PACÍFICO Y FRONTERA NARIÑENSE"]
[null,52520,"FRANCISCO PIZARRO",49112726968,{"$f":"+VLOOKUP(B114,'por Entidad'!$C$4:$I$174,7,FALSE)","v":49112726968},false,"PACÍFICO Y FRONTERA NARIÑENSE"]
[null,52612,"RICAURTE",26445110813,{"$f":"+VLOOKUP(B115,'por Entidad'!$C$4:$I$174,7,FALSE)","v":26445110813},false,"PACÍFICO Y FRONTERA NARIÑENSE"]
[null,52621,"ROBERTO PAYÁN",2873285644,{"$f":"+VLOOKUP(B116,'por Entidad'!$C$4:$I$174,7,FALSE)","v":2873285644},false,"PACÍFICO Y FRONTERA NARIÑENSE"]
[null,52696,"SANTA BÁRBARA",28837198516,{"$f":"+VLOOKUP(B117,'por Entidad'!$C$4:$I$174,7,FALSE)","v":28837198516},false,"PACÍFICO Y FRONTERA NARIÑENSE"]
[null,52835,"SAN ANDRES DE TUMACO",15071697723,{"$f":"+VLOOKUP(B118,'por Entidad'!$C$4:$I$174,7,FALSE)","v":15071697723},false,"PACÍFICO Y FRONTERA NARIÑENSE"]
[null,86001,"MOCOA",6154493062.0517645,{"$f":"+VLOOKUP(B119,'por Entidad'!$C$4:$I$174,7,FALSE)","v":6154493062.0517645},false,"PUTUMAYO"]
[null,86320,"ORITO",38811510111.147537,{"$f":"+VLOOKUP(B120,'por Entidad'!$C$4:$I$174,7,FALSE)","v":38811510111.147537},false,"PUTUMAYO"]
[null,86568,"PUERTO ASÍS",32322238636.609287,{"$f":"+VLOOKUP(B121,'por Entidad'!$C$4:$I$174,7,FALSE)","v":32322238636.609287},false,"PUTUMAYO"]
[null,86569,"PUERTO CAICEDO",34255059969.116005,{"$f":"+VLOOKUP(B122,'por Entidad'!$C$4:$I$174,7,FALSE)","v":34255059969.116005},false,"PUTUMAYO"]
[null,86571,"PUERTO GUZMÁN",64098093921.751762,{"$f":"+VLOOKUP(B123,'por Entidad'!$C$4:$I$174,7,FALSE)","v":64098093921.751762},false,"PUTUMAYO"]
[null,86573,"PUERTO LEGUÍZAMO",50144566695.327858,{"$f":"+VLOOKUP(B124,'por Entidad'!$C$4:$I$174,7,FALSE)","v":50144566695.327858},false,"PUTUMAYO"]
[null,86757,"SAN MIGUEL",15322114811,{"$f":"+VLOOKUP(B125,'por Entidad'!$C$4:$I$174,7,FALSE)","v":15322114811},false,"PUTUMAYO"]
[null,86865,"VALLE DEL GUAMUEZ",139343463700.42932,{"$f":"+VLOOKUP(B126,'por Entidad'!$C$4:$I$174,7,FALSE)","v":139343463700.42932},false,"PUTUMAYO"]
[null,86885,"VILLAGARZÓN",4273025429,{"$f":"+VLOOKUP(B127,'por Entidad'!$C$4:$I$174,7,FALSE)","v":4273025429},false,"PUTUMAYO"]
[null,20001,"VALLEDUPAR",80315772226.431763,{"$f":"+VLOOKUP(B128,'por Entidad'!$C$4:$I$174,7,FALSE)","v":80315772226.431763},false,"SIERRA NEVADA - PERIJÁ"]
[null,20013,"AGUSTÍN CODAZZI",90093706494.630005,{"$f":"+VLOOKUP(B129,'por Entidad'!$C$4:$I$174,7,FALSE)","v":90093706494.630005},false,"SIERRA NEVADA - PERIJÁ"]
[null,20045,"BECERRIL",68623612010.940002,{"$f":"+VLOOKUP(B130,'por Entidad'!$C$4:$I$174,7,FALSE)","v":68623612010.940002},false,"SIERRA NEVADA - PERIJÁ"]
[null,20400,"LA JAGUA DE IBIRICO",38166077058.209999,{"$f":"+VLOOKUP(B131,'por Entidad'!$C$4:$I$174,7,FALSE)","v":38166077058.209999},false,"SIERRA NEVADA - PERIJÁ"]
[null,20443,"MANAURE BALCÓN DEL CESAR",66790271773.139999,{"$f":"+VLOOKUP(B132,'por Entidad'!$C$4:$I$174,7,FALSE)","v":66790271773.139999},{"$f":"+D132<>E132","v":false},"SIERRA NEVADA - PERIJÁ"]
[null,20570,"PUEBLO BELLO",115578874863.95,{"$f":"+VLOOKUP(B133,'por Entidad'!$C$4:$I$174,7,FALSE)","v":115578874863.95},false,"SIERRA NEVADA - PERIJÁ"]
[null,20621,"LA PAZ",73985426808.190002,{"$f":"+VLOOKUP(B134,'por Entidad'!$C$4:$I$174,7,FALSE)","v":73985426808.190002},false,"SIERRA NEVADA - PERIJÁ"]
[null,20750,"SAN DIEGO",73803310706.911774,{"$f":"+VLOOKUP(B135,'por Entidad'!$C$4:$I$174,7,FALSE)","v":73803310706.911774},false,"SIERRA NEVADA - PERIJÁ"]
[null,44090,"DIBULLA",76568290197.401764,{"$f":"+VLOOKUP(B136,'por Entidad'!$C$4:$I$174,7,FALSE)","v":76568290197.401764},false,"SIERRA NEVADA - PERIJÁ"]
[null,44279,"FONSECA",123261874083.52998,{"$f":"+VLOOKUP(B137,'por Entidad'!$C$4:$I$174,7,FALSE)","v":123261874083.52998},false,"SIERRA NEVADA - PERIJÁ"]
[null,44650,"SAN JUAN DEL CESAR",24381956710.661766,{"$f":"+VLOOKUP(B138,'por Entidad'!$C$4:$I$174,7,FALSE)","v":24381956710.661766},false,"SIERRA NEVADA - PERIJÁ"]
[null,47001,"SANTA MARTA",0,{"$f":"+VLOOKUP(B139,'por Entidad'!$C$4:$I$174,7,FALSE)","v":0},false,"SIERRA NEVADA - PERIJÁ"]
[null,47053,"ARACATACA",49192978871.271767,{"$f":"+VLOOKUP(B140,'por Entidad'!$C$4:$I$174,7,FALSE)","v":49192978871.271767},false,"SIERRA NEVADA - PERIJÁ"]
[null,47189,"CIÉNAGA",66755358836.219894,{"$f":"+VLOOKUP(B141,'por Entidad'!$C$4:$I$174,7,FALSE)","v":66755358836.219894},false,"SIERRA NEVADA - PERIJÁ"]
[null,47288,"FUNDACIÓN",62224008895.411758,{"$f":"+VLOOKUP(B142,'por Entidad'!$C$4:$I$174,7,FALSE)","v":62224008895.411758},false,"SIERRA NEVADA - PERIJÁ"]
[null,5893,"YONDÓ",54040204932.911766,{"$f":"+VLOOKUP(B143,'por Entidad'!$C$4:$I$174,7,FALSE)","v":54040204932.911766},false,"SUR DE BOLÍVAR"]
[null,13042,"ARENAL",2812206474,{"$f":"+VLOOKUP(B144,'por Entidad'!$C$4:$I$174,7,FALSE)","v":2812206474},false,"SUR DE BOLÍVAR"]
[null,13160,"CANTAGALLO",43008139109.459999,{"$f":"+VLOOKUP(B145,'por Entidad'!$C$4:$I$174,7,FALSE)","v":43008139109.459999},false,"SUR DE BOLÍVAR"]
[null,13473,"MORALES",20012925411.700001,{"$f":"+VLOOKUP(B146,'por Entidad'!$C$4:$I$174,7,FALSE)","v":20012925411.700001},false,"SUR DE BOLÍVAR"]
[null,13670,"SAN PABLO",24878260343.52816,{"$f":"+VLOOKUP(B147,'por Entidad'!$C$4:$I$174,7,FALSE)","v":24878260343.52816},false,"SUR DE BOLÍVAR"]
[null,13688,"SANTA ROSA DEL SUR",21405055961.233086,{"$f":"+VLOOKUP(B148,'por Entidad'!$C$4:$I$174,7,FALSE)","v":21405055961.233086},false,"SUR DE BOLÍVAR"]
[null,13744,"SIMITÍ",45561338541.543648,{"$f":"+VLOOKUP(B149,'por Entidad'!$C$4:$I$174,7,FALSE)","v":45561338541.543648},false,"SUR DE BOLÍVAR"]
[null,23466,"MONTELÍBANO",39947927650.080002,{"$f":"+VLOOKUP(B150,'por Entidad'!$C$4:$I$174,7,FALSE)","v":39947927650.080002},false,"SUR DE CÓRDOBA"]
[null,23580,"PUERTO LIBERTADOR",22861443342.111763,{"$f":"+VLOOKUP(B151,'por Entidad'!$C$4:$I$174,7,FALSE)","v":22861443342.111763},false,"SUR DE CÓRDOBA"]
[null,23682,"SAN JOSÉ DE URÉ",81856832756.411774,{"$f":"+VLOOKUP(B152,'por Entidad'!$C$4:$I$174,7,FALSE)","v":81856832756.411774},false,"SUR DE CÓRDOBA"]
[null,23807,"TIERRALTA",26602512807.009998,{"$f":"+VLOOKUP(B153,'por Entidad'!$C$4:$I$174,7,FALSE)","v":26602512807.009998},false,"SUR DE CÓRDOBA"]
[null,23855,"VALENCIA",136810285340.84177,{"$f":"+VLOOKUP(B154,'por Entidad'!$C$4:$I$174,7,FALSE)","v":136810285340.84177},false,"SUR DE CÓRDOBA"]
[null,73067,"ATACO",27966048598.425098,{"$f":"+VLOOKUP(B155,'por Entidad'!$C$4:$I$174,7,FALSE)","v":27966048598.425098},false,"SUR DEL TOLIMA"]
[null,73168,"CHAPARRAL",23993765570.185097,{"$f":"+VLOOKUP(B156,'por Entidad'!$C$4:$I$174,7,FALSE)","v":23993765570.185097},false,"SUR DEL TOLIMA"]
[null,73555,"PLANADAS",15441097123.93,{"$f":"+VLOOKUP(B157,'por Entidad'!$C$4:$I$174,7,FALSE)","v":15441097123.93},false,"SUR DEL TOLIMA"]
[null,73616,"RIOBLANCO",37138745933.125099,{"$f":"+VLOOKUP(B158,'por Entidad'!$C$4:$I$174,7,FALSE)","v":37138745933.125099},false,"SUR DEL TOLIMA"]
[null,5045,"APARTADÓ",61417258980.621765,{"$f":"+VLOOKUP(B159,'por Entidad'!$C$4:$I$174,7,FALSE)","v":61417258980.621765},false,"URABÁ ANTIOQUEÑO"]
[null,5147,"CAREPA",6346179376.9117641,{"$f":"+VLOOKUP(B160,'por Entidad'!$C$4:$I$174,7,FALSE)","v":6346179376.9117641},false,"URABÁ ANTIOQUEÑO"]
[null,5172,"CHIGORODÓ",23109618243,{"$f":"+VLOOKUP(B161,'por Entidad'!$C$4:$I$174,7,FALSE)","v":23109618243},false,"URABÁ ANTIOQUEÑO"]
[null,5234,"DABEIBA",5600685739,{"$f":"+VLOOKUP(B162,'por Entidad'!$C$4:$I$174,7,FALSE)","v":5600685739},false,"URABÁ ANTIOQUEÑO"]
[null,5480,"MUTATÁ",2604992912,{"$f":"+VLOOKUP(B163,'por Entidad'!$C$4:$I$174,7,FALSE)","v":2604992912},false,"URABÁ ANTIOQUEÑO"]
[null,5490,"NECOCLÍ",66804448948,{"$f":"+VLOOKUP(B164,'por Entidad'!$C$4:$I$174,7,FALSE)","v":66804448948},false,"URABÁ ANTIOQUEÑO"]
[null,5665,"SAN PEDRO DE URABÁ",26702787196,{"$f":"+VLOOKUP(B165,'por Entidad'!$C$4:$I$174,7,FALSE)","v":26702787196},false,"URABÁ ANTIOQUEÑO"]
[null,5837,"TURBO",23911228321,{"$f":"+VLOOKUP(B166,'por Entidad'!$C$4:$I$174,7,FALSE)","v":23911228321},false,"URABÁ ANTIOQUEÑO"]
[null,null,null,5263072213390.625]